{"text_format":"1","workbook":"xlsx","n_sheets":77,"sheets":["Новини","Змiст","8in1","Animonda","Aqua Medic","AquaDella","Aquael","Aquarium Ukr","Benty Sandy","Biokats","Brit Care","Brit Fresh","Brit Premium","Brit VetDiets","Brit Vitamins","Buddy Boo","Canina","Carnilove","Cats Best","Chipsi","Chris Christensen","Comfy","Cookie","Deming","Dubex","Edel","Essence","ExoTerra","Filter sponge Ukr","Flexi","Fluval","Fop","Forest Cat","FURminator","GimBi","GimCat","GimDog","Hagen","Half&Half","Jaba","Juwel","Kirby Cat","Kiwi Walker","KW-Zone","Laguna","Living World","Marina","Migliorcane","Moser","My Family","Nechay ZOO","Pet Fashion","PROFILINE","Profine","ProVET аква","ProVET економ","SaniPet","Savory","SD Essence","SD SaniPet","SGbox","Skipper","Special One","Tetra","Trixie","Tropical","True Fresh","Vitakraft","WahoPet","Yalute","Yee","Білі лапки","ЕкоВет, фітокомплекси","Природа","Профілайн","Стоп","Загальне замовлення"],"not_rendered":{"charts":0,"images":3738,"macros":1,"external_links":0,"defined_names":0,"comments":0,"pivot_tables":0},"unopened":[],"bounds":{"document_bytes":16777216,"sheet_cells":100000,"rows_first":2000,"rows_last":500,"rows_between":2000,"halvings":0,"cell_chars":16384,"cell_head_chars":4096},"cells_cut":0,"cells_raw":0,"read":"whole","date_system":"1900"}

{"sheet":"Новини","index":0,"n_rows":4,"n_cols":7,"rows_kept":4,"cut":false,"hidden":false,"merged":[]}
[]
[null,null,null,null,null,null,"suziria.ua"]
[null,null,null,null,null,null,"0 800 21 82 99"]
[null,null,null,null,null,null,"feedback@suziria.ua"]

{"sheet":"Змiст","index":1,"n_rows":84,"n_cols":7,"rows_kept":84,"cut":false,"hidden":false,"merged":[]}
[]
[null,null,null,null,null,null,"suziria.ua"]
[null,null,null,null,null,null,"0 800 21 82 99"]
[null,null,null,null,null,null,"feedback@suziria.ua"]
[]
[]
[null,null,"ПРАЙС-ЛИСТ для формування замовлення"]
[null,"Зміст"]
["№","Назва сторінки","Посилання на сторінку","Примітки","Запитання"]
[1,"8in1","8in1"]
[2,"Animonda","Animonda"]
[3,"Aqua Medic","Aqua Medic"]
[4,"AquaDella","AquaDella"]
[5,"Aquael","Aquael"]
[6,"Aquarium Ukr","Aquarium Ukr"]
[7,"Benty Sandy","Benty Sandy"]
[8,"Biokats","Biokats"]
[9,"Brit Care","Brit Care"]
[10,"Brit Fresh","Brit Fresh"]
[11,"Brit Premium","Brit Premium"]
[12,"Brit VetDiets","Brit VetDiets"]
[13,"Brit Vitamins","Brit Vitamins"]
[14,"Buddy Boo","Buddy Boo"]
[15,"Canina","Canina"]
[16,"Carnilove","Carnilove"]
[17,"Cats Best","Cats Best"]
[18,"Chipsi","Chipsi"]
[19,"Chris Christensen","Chris Christensen"]
[20,"Comfy","Comfy"]
[21,"Cookie","Cookie"]
[22,"Deming","Deming"]
[23,"Dubex","Dubex"]
[24,"Edel","Edel"]
[25,"Essence","Essence"]
[26,"ExoTerra","ExoTerra"]
[27,"Filter sponge Ukr","Filter sponge Ukr"]
[28,"Flexi","Flexi"]
[29,"Fluval","Fluval"]
[30,"Fop","Fop"]
[31,"Forest Cat","Forest Cat"]
[32,"FURminator","FURminator"]
[33,"GimBi","GimBi"]
[34,"GimCat","GimCat"]
[35,"GimDog","GimDog"]
[36,"Hagen","Hagen"]
[37,"Half&Half","Half&Half"]
[38,"Jaba","Jaba"]
[39,"Juwel","Juwel"]
[40,"Kirby Cat","Kirby Cat"]
[41,"Kiwi Walker","Kiwi Walker"]
[42,"KW-Zone","KW-Zone"]
[43,"Laguna","Laguna"]
[44,"Living World","Living World"]
[45,"Marina","Marina"]
[46,"Migliorcane","Migliorcane"]
[47,"Moser","Moser"]
[48,"My Family","My Family"]
[49,"Nechay ZOO","Nechay ZOO"]
[50,"Pet Fashion","Pet Fashion"]
[51,"PROFILINE","PROFILINE"]
[52,"Profine","Profine"]
[53,"ProVET аква","ProVET аква"]
[54,"ProVET економ","ProVET економ"]
[55,"SaniPet","SaniPet"]
[56,"Savory","Savory"]
[57,"SD Essence","SD Essence"]
[58,"SD SaniPet","SD SaniPet"]
[59,"SGbox","SGbox"]
[60,"Skipper","Skipper"]
[61,"Special One","Special One"]
[62,"Tetra","Tetra"]
[63,"Trixie","Trixie"]
[64,"Tropical","Tropical"]
[65,"True Fresh","True Fresh"]
[66,"Vitakraft","Vitakraft"]
[67,"WahoPet","WahoPet"]
[68,"Yalute","Yalute"]
[69,"Yee","Yee"]
[70,"Білі лапки","Білі лапки"]
[71,"ЕкоВет, фітокомплекси","ЕкоВет, фітокомплекси"]
[72,"Природа","Природа"]
[73,"Профілайн","Профілайн"]
[74,"Стоп","Стоп"]
[75,"Загальне замовлення","Загальне замовлення"]

{"sheet":"8in1","index":2,"n_rows":57,"n_cols":10,"rows_kept":57,"cut":false,"hidden":false,"merged":[]}
[]
[null,null,null,null,null,null,"suziria.ua"]
[null,null,null,null,null,null,"0 800 21 82 99"]
[null,null,null,null,null,null,"feedback@suziria.ua"]
[]
["Зображення","Код","Артикул","Номенклатура","Наявність","Категорія","Ціна опт.","Ціна РРЦ","Замовлення, шт.","Сума, грн."]
[null,null,null,null,null,null,null,null,null,{"$f":"SUM(J8:J57)","v":0}]
[null,1111131631,"660470 /109525","8in1 Excel Brewers Yeast вітам. пивні дріжджі з часн. д/вел.соб 80 таб","Більше 100","Вітаміни та мінерали",302.05,408,0,{"$f":"G8*I8","v":0}]
[null,1111131781,"660432 /108603","8in1 Excel Brewers Yeast вітам. пивні дріжджі з часник д/собак 260табл","Менше 10","Вітаміни та мінерали",291.29000000000002,394,0,{"$f":"G9*I9","v":0}]
[null,1111136895,"660895 /115731","8in1 Excel Brewers Yeast для собак і котів, 1430 табл.","Більше 10","Вітаміни та мінерали",1256.6099999999999,1696,0,{"$f":"G10*I10","v":0}]
[null,1111136894,"660894 /115717","8in1 Excel Brewers Yeast для собак і котів, 780 табл.","Менше 10","Вітаміни та мінерали",753.79,1018,0,{"$f":"G11*I11","v":0}]
[null,1111131633,"660474 /109433","8in1 Excel Calcium добавка з кальцієм для собак, 470табл./300мл","Більше 10","Вітаміни та мінерали",674.01,910,0,{"$f":"G12*I12","v":0}]
[null,1111135196,"660891 /115540","8in1 Excel Calcium добавка з кальцієм для собак, 880 табл, 400 г","Більше 10","Вітаміни та мінерали",1130.23,1526,0,{"$f":"G13*I13","v":0}]
[null,1111145091,"661022 /124245","8in1 Excel Deter Coprophagia харчова добавка для собак, 100 табл, 60 г","Більше 100","Вітаміни та мінерали",188.23,254,0,{"$f":"G14*I14","v":0}]
[null,1111133176,"660433 /108634","8in1 Excel Excel Multi Vit-Puppy мультивіт добавка д/цуценят, 100табл.","Більше 100","Вітаміни та мінерали",298.47000000000003,403,0,{"$f":"G15*I15","v":0}]
[null,1111145209,"661024 /124290  MSM","8in1 Excel Glucosamine + MSM вітаміни для собак, 55 табл, 210 г","Більше 10","Вітаміни та мінерали",585.28,790,0,{"$f":"G16*I16","v":0}]
[null,1111138166,"660890 /121596","8in1 Excel Glucosamine добавка з глюкозаміном для собак, 110 табл.","Більше 10","Вітаміни та мінерали",878.37,1186,0,{"$f":"G17*I17","v":0}]
[null,1111138165,"660889 /121565","8in1 Excel Glucosamine добавка з глюкозаміном для собак, 55 табл.","Більше 10","Вітаміни та мінерали",523.44000000000005,706,0,{"$f":"G18*I18","v":0}]
[null,5024,"660435 /108665","8in1 Excel Multi Vit-Adult мультивітамінна добавка д/собак, 70 табл.","Немає в наявності","Вітаміни та мінерали",339.69,459,0,{"$f":"G19*I19","v":0}]
[null,1111131632,"660471 /109372","8in1 Excel Multi Vitamin мультивіт. добавка для дрібних собак 70 табл.","Більше 100","Вітаміни та мінерали",339.69,459,0,{"$f":"G20*I20","v":0}]
[null,1111135180,"660436 /108696","8in1 Excel Multi Vit-Senior добавка для старіючих собак 70табл, 190 г","Більше 100","Вітаміни та мінерали",338.8,458,0,{"$f":"G21*I21","v":0}]
[null,1111180894,680519,"Дезодоручий спрей Nature_s miracle Aloe Rain 709 мл","Більше 10","Засоби для знищення плям і запахів",360.68,530,0,{"$f":"G22*I22","v":0}]
[null,1111180893,680518,"Дезодоручий спрей Nature_s miracle Lavender 709 мл","Більше 10","Засоби для знищення плям і запахів",360.68,530,0,{"$f":"G23*I23","v":0}]
[null,1111161389,"661618/151869/661510СПЕЦ","Дешеддер для вичісування котів, 4.5 см, 8in1","Більше 10","Аксесуари для грумінгу",452,701,0,{"$f":"G24*I24","v":0}]
[null,1111161388,"661617/151821/661509СПЕЦ","Дешеддер для вичісування собак, L, 10 см, 8in1","Менше 10","Аксесуари для грумінгу",537.87,834,0,{"$f":"G25*I25","v":0}]
[null,1111161387,"661616/151791/661508СПЕЦ","Дешеддер для вичісування собак, M, 6.5 см, 8in1","Менше 10","Аксесуари для грумінгу",483.22,749,0,{"$f":"G26*I26","v":0}]
[null,1111161386,"661615/151753/661507СПЕЦ","Дешеддер для вичісування собак, S, 4.5 см, 8in1","Менше 10","Аксесуари для грумінгу",452,701,0,{"$f":"G27*I27","v":0}]
[null,1111137653,"680508/680219 /5558  USA","Засіб д/знищ. плям і запахів, проти повторних міток, спрей 8in1","Більше 10","Засоби для знищення плям і запахів",562.51,810,0,{"$f":"G28*I28","v":0}]
[null,1111156829,"680402 USA","Засіб д/знищен. плям/запах. д/пілоги 8in1, 709мл","Більше 10","Засоби для знищення плям і запахів",492.7,721,0,{"$f":"G29*I29","v":0}]
[null,1111156831,"680399 USA СПЕЦЦЕНА","Засіб д/знищен. плям/запах. котів ORANGE OXY 8in1 3,7 л","Більше 10","Засоби для знищення плям і запахів",1386.79,2496,0,{"$f":"G30*I30","v":0}]
[null,1111156830,"680398/1707 USA","Засіб д/знищен. плям/запах. котів ORANGE OXY 8in1 709мл","Більше 10","Засоби для знищення плям і запахів",472.43,701,0,{"$f":"G31*I31","v":0}]
[null,1111157473,"680396/8172 USA","Засіб д/знищен. плям/запах. собак ORANGE OXY 8in1 709мл","Менше 10","Засоби для знищення плям і запахів",472.43,701,0,{"$f":"G32*I32","v":0}]
[null,1111158238,"680397 USA","Засіб д/знищен. плям/запах. собак спрей 8in1, 946мл","Більше 10","Засоби для знищення плям і запахів",539.58000000000004,805,0,{"$f":"G33*I33","v":0}]
[null,1111136417,"680284 /5778  USA","Засіб для запобігання дряпанню котів  8 in 1  236 мл","Більше 10","Засоби для заборони",349,504,0,{"$f":"G34*I34","v":0}]
[null,1111136392,"680205 /5552  USA","Засіб для знищення запаху котячих туалетів, спрей  8 in 1  709 мл","Більше 10","Засоби для знищення плям і запахів",399.09,560,0,{"$f":"G35*I35","v":0}]
[null,1111136564,"680413/680423/680400 USA*","Засіб для знищення плям і запахів Laundry Boost  8 in 1  946 мл","Більше 10","Засоби для знищення плям і запахів",490.03,759,0,{"$f":"G36*I36","v":0}]
[null,1111149419,"680476/680418/680067 USA","Засіб для усунення запахів мочі ,для котів,946мл","Більше 10","Засоби для знищення плям і запахів",562.75,737,0,{"$f":"G37*I37","v":0}]
[null,1111149424,"680442/680135/6946 USA","Засіб для усунення плям та запахів з посиленою формулою,518 мл,для соб","Більше 10","Засоби для знищення плям і запахів",441.63,652,0,{"$f":"G38*I38","v":0}]
[null,1111149418,"680111/6974 USA","Засіб для усунення плям та запахів, універсальний,946мл","Більше 10","Засоби для знищення плям і запахів",503.43,745,0,{"$f":"G39*I39","v":0}]
[null,1111149416,"680417/680043/6973 USA***","Засіб для усунення плям та запахів,473мл,для котів","Більше 10","Засоби для знищення плям і запахів",291.61,417,0,{"$f":"G40*I40","v":0}]
[null,1111150461,"680321/7006 USA","Лосьйон гігієніч. Про-Сенс д/вух собак та котів,118 ml","Більше 10","Засоби для догляду за очима та вухами",345.04,491,0,{"$f":"G41*I41","v":0}]
[null,1111123510,"660293 /102250","Пелюшки 8in1 Training Pads для собак 56*56см 14шт арт.660293/102250","Більше 100","Пелюшки для собак",332.75,466,0,{"$f":"G42*I42","v":0}]
[null,1111123511,"660296 /102281","Пелюшки 8in1 Training Pads для собак 56*56см 30шт арт.660296/102281","Більше 100","Пелюшки для собак",621.41999999999996,870,0,{"$f":"G43*I43","v":0}]
[null,1111166848,"680480 USA","Спрей 8in1 для усунення запахів сечі собак 946мл арт.680480","Менше 10","Засоби для знищення плям і запахів",569.20000000000005,781,0,{"$f":"G44*I44","v":0}]
[null,1111161986,"680432/ 983121 USA*****","Спрей Nature s Miracle 8in1 освіжаючий для собак, 236 мл","Більше 10","Косметика, засоби догляду для грумінгу",295.25,430,0,{"$f":"G45*I45","v":0}]
[null,1111114528,"680514/680309","Спрей Nature_s Miracle для привчання цуценя до туалету 236 мл","Немає в наявності","Засоби для привчання",277.92,406,0,{"$f":"G46*I46","v":0}]
[null,1111149411,"680005/6962 USA","Спрей для усунення плям та запахів 3в1 ,для собак,709мл","Більше 10","Засоби для знищення плям і запахів",454.56,652,0,{"$f":"G47*I47","v":0}]
[null,1111149426,"680234/6993 USA","Спрей для усунення плям та запахів 3в1 з посилен формулою,лимон,д/кот,","Більше 10","Засоби для знищення плям і запахів",616.09,899,0,{"$f":"G48*I48","v":0}]
[null,1111149414,"680104/7016 USA","Спрей для усунення плям та запахів 3в1 з посиленою формулою,д/соб,946м","Більше 10","Засоби для знищення плям і запахів",616.09,890,0,{"$f":"G49*I49","v":0}]
[null,1111149421,"680197/6966 USA","Спрей для усунення плям та запахів, диня ,946мл, для собак","Більше 10","Засоби для знищення плям і запахів",503.43,745,0,{"$f":"G50*I50","v":0}]
[null,1111149425,"680210/6976 USA","Спрей для усунення плям та запахів, диня ,946мл,для котів","Більше 10","Засоби для знищення плям і запахів",503.43,745,0,{"$f":"G51*I51","v":0}]
[null,1111140527,"680286 /5780 USA","Спрей заспокійливий для котів Антистрес  8 in 1  236 мл","Більше 10","Засоби для корекції поведінки",362.43,527,0,{"$f":"G52*I52","v":0}]
[null,1111161985,"680488/680431/ 983305","Шампунь 8in1 д/соб для білої та світлої шерсті 473мл арт.680488/680431","Більше 10","Косметика, засоби догляду для грумінгу",409.49,604,0,{"$f":"G53*I53","v":0}]
[null,1111161983,"680487/680429/ 983275","Шампунь 8in1 для собак гіпоалергенний 473мл арт.680487/680429/ 983275","Більше 100","Косметика, засоби догляду для грумінгу",409.49,604,0,{"$f":"G54*I54","v":0}]
[null,1111161981,"680485/680427/983282","Шампунь 8in1 для собак з вівсяним молочком 473мл арт.680485/680427","Більше 10","Косметика, засоби догляду для грумінгу",409.49,604,0,{"$f":"G55*I55","v":0}]
[null,1111161982,"680486/680428/ 983299","Шампунь 8in1 для цуценят Nature s Miracle 473мл арт.680486/680428","Більше 10","Косметика, засоби догляду для грумінгу",409.49,604,0,{"$f":"G56*I56","v":0}]
[null,1111161979,"680482/680424 USA","Шампунь Nature s Miracle з лавандою для собак, 473 мл, 8in1","Більше 10","Косметика, засоби догляду для грумінгу",409.49,604,0,{"$f":"G57*I57","v":0}]

{"sheet":"Animonda","index":3,"n_rows":60,"n_cols":10,"rows_kept":60,"cut":false,"hidden":false,"merged":[]}
[]
[null,null,null,null,null,null,"suziria.ua"]
[null,null,null,null,null,null,"0 800 21 82 99"]
[null,null,null,null,null,null,"feedback@suziria.ua"]
[]
["Зображення","Код","Артикул","Номенклатура","Наявність","Категорія","Ціна опт.","Ціна РРЦ","Замовлення, шт.","Сума, грн."]
[null,null,null,null,null,null,null,null,null,{"$f":"SUM(J8:J60)","v":0}]
[null,1111183468,"83039UT/83012","Animonda Vom Feinsten Adt beef in milk sauce д/кот ял/мол соус 100г","Більше 100","Корм вологий для котів",38.9,54,0,{"$f":"G8*I8","v":0}]
[null,1111183461,"82300UT/82330","Animonda Vom Feinsten Adt gourme Chicken + liver д/соб кур/лів 150г","Більше 100","Корм вологий для собак",50.65,71,0,{"$f":"G9*I9","v":0}]
[null,1111183470,"83045UT/83014","Animonda Vom Feinsten Adt Lamb in herb sauce д/кот янг/соус 100 г","Більше 100","Корм вологий для котів",38.9,54,0,{"$f":"G10*I10","v":0}]
[null,1111183469,"83040UT/83013","Animonda Vom Feinsten Adt turkey yogurt sauce д/кот інд/соус йог 100г","Більше 100","Корм вологий для котів",38.9,54,0,{"$f":"G11*I11","v":0}]
[null,1111183462,"82301UT/82331","Animonda Vom Feinsten gourme Adt beef+chicken file д/соб з ял/кур 150г","Більше 100","Корм вологий для собак",50.65,71,0,{"$f":"G12*I12","v":0}]
[null,1111184308,"82333UT/82303","Animonda Vom Feinsten gourme Adt Deer + yogurt д/соб з ол/йог 150г","Більше 10","Корм вологий для собак",50.65,71,0,{"$f":"G13*I13","v":0}]
[null,1111183463,"82302UT/82332","Animonda Vom Feinsten gourme Adt Turkey+Ham д/соб інд/шин 150г","Більше 100","Корм вологий для собак",50.65,71,0,{"$f":"G14*I14","v":0}]
[null,1111183467,"82311UT/82337","Animonda Vom Feinsten sauce Adt Beef + lamb д/соб ял/ягн 150г","Більше 100","Корм вологий для собак",50.65,71,0,{"$f":"G15*I15","v":0}]
[null,1111183465,"82309UT/82335","Animonda Vom Feinsten sauce Adt Chicken + rabbit д/соб кур/крол 150г","Більше 100","Корм вологий для собак",50.65,71,0,{"$f":"G16*I16","v":0}]
[null,1111183464,"82308UT/82334","Animonda Vom Feinsten sauce Adt Chicken + salmon д/соб кур/лос 150г","Більше 100","Корм вологий для собак",50.65,71,0,{"$f":"G17*I17","v":0}]
[null,1111183466,"82310UT/82336","Animonda Vom Feinsten sauce Adt Turkey + duck д/соб інд/кач 150г","Більше 100","Корм вологий для собак",50.65,71,0,{"$f":"G18*I18","v":0}]
[null,1111171485,"AM-83708","Корм Carny д/кот з ялович, індичкою і креветками 200 г арт.AM-83708","Більше 10","Корм вологий для котів",69.319999999999993,97,0,{"$f":"G19*I19","v":0}]
[null,1111171492,"AM-83722","Корм Carny д/кот з ялович, курк і качин серцями 400 г арт.AM-83722","Більше 100","Корм вологий для котів",101.5,142.1,0,{"$f":"G20*I20","v":0}]
[null,1111171484,"AM-83706","Корм Carny д/кот з ялович, куркою і качин серцями 200г арт.AM-83706","Більше 10","Корм вологий для котів",69.319999999999993,97,0,{"$f":"G21*I21","v":0}]
[null,1111171489,"AM-83701","Корм Carny д/кот з ялович, тріскою і корнем петрушки 200г арт.AM-83701","Більше 10","Корм вологий для котів",69.319999999999993,97,0,{"$f":"G22*I22","v":0}]
[null,1111171497,"AM-83717","Корм Carny д/кот з ялович, тріскою і корнем петрушки 400г арт.AM-83717","Немає в наявності","Корм вологий для котів",101.5,142.1,0,{"$f":"G23*I23","v":0}]
[null,1111171490,"AM-83707","Корм Carny д/кот з яловичиною 200 г арт.AM-83707","Більше 10","Корм вологий для котів",69.319999999999993,97,0,{"$f":"G24*I24","v":0}]
[null,1111171487,"AM-83703","Корм Carny д/кот з яловичиною і куркою 200 г арт.AM-83703","Більше 10","Корм вологий для котів",69.319999999999993,97,0,{"$f":"G25*I25","v":0}]
[null,1111171495,"AM-83719","Корм Carny д/кот з яловичиною і куркою 400 г арт.AM-83719","Більше 10","Корм вологий для котів",101.5,142.1,0,{"$f":"G26*I26","v":0}]
[null,1111171486,"AM-83705","Корм Carny д/кот з яловичиною і ягнятиною 200 г арт.AM-83705","Більше 10","Корм вологий для котів",69.319999999999993,97,0,{"$f":"G27*I27","v":0}]
[null,1111171488,"AM-83700","Корм Carny д/кот з яловичиною, олениною і брусницею 200 г арт.AM-83700","Більше 10","Корм вологий для котів",69.319999999999993,97,0,{"$f":"G28*I28","v":0}]
[null,1111171483,"AM-83702","Корм Carny д/кот мультим ясний коктейль 200 г арт.AM-83702","Більше 10","Корм вологий для котів",69.319999999999993,97,0,{"$f":"G29*I29","v":0}]
[null,1111171531,"AM-82804","Корм GranCarno д/соб з качкою 800 г арт.AM-82804","Більше 10","Корм вологий для собак",175.14,245,0,{"$f":"G30*I30","v":0}]
[null,1111171521,"AM-82753","Корм GranCarno д/соб з ялович, олениною і яблуком 400 г арт.AM-82753","Більше 10","Корм вологий для собак",96.08,135,0,{"$f":"G31*I31","v":0}]
[null,1111171529,"AM-82764","Корм GranCarno д/соб з ялович, олениною і яблуком 800 г арт.AM-82764","Менше 10","Корм вологий для собак",175.14,245,0,{"$f":"G32*I32","v":0}]
[null,1111171532,"AM-82745","Корм GranCarno д/соб з яловичиною і дичиною 800 г арт.AM-82745","Більше 10","Корм вологий для собак",175.14,245,0,{"$f":"G33*I33","v":0}]
[null,1111171522,"AM-82732","Корм GranCarno д/соб з яловичиною і куркою 400 г арт.AM-82732","Більше 10","Корм вологий для собак",96.08,135,0,{"$f":"G34*I34","v":0}]
[null,1111171530,"AM-82741","Корм GranCarno д/соб з яловичиною і куркою 800 г арт.AM-82741","Більше 10","Корм вологий для собак",175.14,245,0,{"$f":"G35*I35","v":0}]
[null,1111171520,"AM-82733","Корм GranCarno д/соб з яловичиною і ягнятиною 400 г арт.AM-82733","Більше 10","Корм вологий для собак",96.08,135,0,{"$f":"G36*I36","v":0}]
[null,1111171527,"AM-82742","Корм GranCarno д/соб з яловичиною і ягнятиною 800 г арт.AM-82742","Більше 10","Корм вологий для собак",175.14,245,0,{"$f":"G37*I37","v":0}]
[null,1111171526,"AM-82739","Корм GranCarno д/соб мультим ясний коктейль 800 г арт.AM-82739","Більше 10","Корм вологий для собак",175.14,245,0,{"$f":"G38*I38","v":0}]
[null,1111171518,"AM-82728","Корм GranCarno д/цуценят з яловичиною і індичкою 400 г арт.AM-82728","Більше 100","Корм вологий для собак",96.08,135,0,{"$f":"G39*I39","v":0}]
[null,1111171473,"AM-83203","Корм Vom Feinsten д/кот з індичими серцями 100 г арт.AM-83203","Більше 100","Корм вологий для котів",38.9,54.46,0,{"$f":"G40*I40","v":0}]
[null,1111171479,"AM-83360","Корм Vom Feinsten д/кот з індичкою в томат соусі 100 г арт.AM-83360","Менше 10","Корм вологий для котів",38.9,54.46,0,{"$f":"G41*I41","v":0}]
[null,1111171467,"AM-83205","Корм Vom Feinsten д/кот з індичкою і кроликом  100 г арт.AM-83205","Більше 100","Корм вологий для котів",38.9,54.46,0,{"$f":"G42*I42","v":0}]
[null,1111171478,"AM-83037","Корм Vom Feinsten д/кот з кроликом в вершк соусі  100г арт.AM-83037","Більше 100","Корм вологий для котів",40.72,56.95,0,{"$f":"G43*I43","v":0}]
[null,1111171470,"AM-83261","Корм Vom Feinsten д/кот з курк, лосос і шпинатом 100 г арт.AM-83261","Менше 10","Корм вологий для котів",38.9,54.46,0,{"$f":"G44*I44","v":0}]
[null,1111171475,"AM-83262","Корм Vom Feinsten д/кот з куркою, ялович та морквою 100 г арт.AM-83262","Більше 10","Корм вологий для котів",38.9,54.46,0,{"$f":"G45*I45","v":0}]
[null,1111171468,"AM-83304","Корм Vom Feinsten д/кот з курячою печінкою  100 г арт.AM-83304","Більше 10","Корм вологий для котів",38.9,54.46,0,{"$f":"G46*I46","v":0}]
[null,1111171465,"AM-83202","Корм Vom Feinsten д/кот з лососем і креветками 100 г арт.AM-83202","Більше 10","Корм вологий для котів",38.9,54.46,0,{"$f":"G47*I47","v":0}]
[null,1111171464,"AM-83200","Корм Vom Feinsten д/кот з птицею і телятиною 100 г арт.AM-83200","Більше 10","Корм вологий для котів",38.9,54.46,0,{"$f":"G48*I48","v":0}]
[null,1111171474,"AM-83208","Корм Vom Feinsten д/кот з яловичиною і куркою 100 г арт.AM-83208","Немає в наявності","Корм вологий для котів",38.9,54.46,0,{"$f":"G49*I49","v":0}]
[null,1111171462,"AM-83207","Корм Vom Feinsten д/кошенят Бебі-пате 100 г арт.AM-83207","Більше 100","Корм вологий для котів",38.9,54.46,0,{"$f":"G50*I50","v":0}]
[null,1111171472,"AM-83221","Корм Vom Feinsten д/кошенят з птицею 100 г арт.AM-83221","Більше 100","Корм вологий для котів",38.9,54.46,0,{"$f":"G51*I51","v":0}]
[null,1111171463,"AM-83236","Корм Vom Feinsten д/кошенят з ягнятиною 100 г арт.AM-83236","Більше 10","Корм вологий для котів",38.9,54.46,0,{"$f":"G52*I52","v":0}]
[null,1111171471,"AM-83220","Корм Vom Feinsten д/кошенят з яловичиною 100 г арт.AM-83220","Більше 10","Корм вологий для котів",38.9,54.46,0,{"$f":"G53*I53","v":0}]
[null,1111171517,"AM-82623","Корм Vom Feinsten д/літніх соб з птицею і ягнятиною 150 г арт.AM-82623","Більше 100","Корм вологий для собак",50.65,70.900000000000006,0,{"$f":"G54*I54","v":0}]
[null,1111171506,"AM-82318","Корм Vom Feinsten д/соб з індичкою і сиром 150 г арт.AM-82318","Більше 100","Корм вологий для собак",50.65,70.900000000000006,0,{"$f":"G55*I55","v":0}]
[null,1111171504,"AM-82661","Корм Vom Feinsten д/соб з кроликом 150 г арт.AM-82661","Більше 100","Корм вологий для собак",50.65,70.900000000000006,0,{"$f":"G56*I56","v":0}]
[null,1111171512,"AM-82300","Корм Vom Feinsten д/соб з куркою і печінкою 150 г арт.AM-82300","Більше 100","Корм вологий для собак",50.65,70.900000000000006,0,{"$f":"G57*I57","v":0}]
[null,1111171508,"AM-82610","Корм Vom Feinsten д/соб з птицею 150 г арт.AM-82610","Більше 100","Корм вологий для собак",50.65,70.900000000000006,0,{"$f":"G58*I58","v":0}]
[null,1111171515,"AM-82612","Корм Vom Feinsten д/соб з яловичиною і індич серцями 150г арт.AM-82612","Більше 100","Корм вологий для собак",50.65,70.900000000000006,0,{"$f":"G59*I59","v":0}]
[null,1111171507,"AM-82657","Корм Vom Feinsten д/цуценят з птичою печінкою 150 г арт.AM-82657","Більше 100","Корм вологий для собак",50.65,70.900000000000006,0,{"$f":"G60*I60","v":0}]

{"sheet":"Aqua Medic","index":4,"n_rows":8,"n_cols":10,"rows_kept":8,"cut":false,"hidden":false,"merged":[]}
[]
[null,null,null,null,null,null,"suziria.ua"]
[null,null,null,null,null,null,"0 800 21 82 99"]
[null,null,null,null,null,null,"feedback@suziria.ua"]
[]
["Зображення","Код","Артикул","Номенклатура","Наявність","Категорія","Ціна опт.","Ціна РРЦ","Замовлення, шт.","Сума, грн."]
[null,null,null,null,null,null,null,null,null,{"$f":"SUM(J8:J8)","v":0}]
[null,1111112730,"12516*****","Carbolit 62,5л / 25кг * 4mm pellets гранул. актив. вугілля","Менше 10","Обладнання для акваріума, комплектуючі",3100,4340,0,{"$f":"G8*I8","v":0}]

{"sheet":"AquaDella","index":5,"n_rows":15,"n_cols":10,"rows_kept":15,"cut":false,"hidden":false,"merged":[]}
[]
[null,null,null,null,null,null,"suziria.ua"]
[null,null,null,null,null,null,"0 800 21 82 99"]
[null,null,null,null,null,null,"feedback@suziria.ua"]
[]
["Зображення","Код","Артикул","Номенклатура","Наявність","Категорія","Ціна опт.","Ціна РРЦ","Замовлення, шт.","Сума, грн."]
[null,null,null,null,null,null,null,null,null,{"$f":"SUM(J8:J15)","v":0}]
[null,1111165574,"234/418956_1шт*****","Декор «Медуза» розмір S, 6 x 6 x 18 см, в асортименті","Менше 10","Декорації для акваріуму",200.71,404,0,{"$f":"G8*I8","v":0}]
[null,1111166108,"234/448694*****","Декорація AquaDella Антична колона 15.8*5.5*14.1см","Менше 10","Декорації для акваріуму",253.84,501,0,{"$f":"G9*I9","v":0}]
[null,1111166107,"234/429624*****","Декорація AquaDella Балійский лев 7.7*5.5*12см","Менше 10","Декорації для акваріуму",194.07,381,0,{"$f":"G10*I10","v":0}]
[null,1111166106,"234/429617*****","Декорація AquaDella Будда Байон пузатий M 9.5*9.5*12.5см","Менше 10","Декорації для акваріуму",225.8,434,0,{"$f":"G11*I11","v":0}]
[null,1111166111,"251/110041*****","Декорація AquaDella натуральна корч мангове дерево 600-800мм","Менше 10","Декорації для акваріуму",1337.8,2554,0,{"$f":"G12*I12","v":0}]
[null,1111165579,"234/446218*****","Корал-гілка 19 x 6 x 21 см, плоский","Менше 10","Декорації для акваріуму",445.7,884,0,{"$f":"G13*I13","v":0}]
[null,1111165587,"251/110034*****","Корч 300-500 мм, натуральний, манго","Менше 10","Декорації для акваріуму",1027.03,2303,0,{"$f":"G14*I14","v":0}]
[null,1111165581,"234/449233*****","Щогла корабля 16 x 7,7 x 14,5 см","Менше 10","Декорації для акваріуму",343.87,674,0,{"$f":"G15*I15","v":0}]

{"sheet":"Aquael","index":6,"n_rows":100,"n_cols":10,"rows_kept":100,"cut":false,"hidden":false,"merged":[]}
[]
[null,null,null,null,null,null,"suziria.ua"]
[null,null,null,null,null,null,"0 800 21 82 99"]
[null,null,null,null,null,null,"feedback@suziria.ua"]
[]
["Зображення","Код","Артикул","Номенклатура","Наявність","Категорія","Ціна опт.","Ціна РРЦ","Замовлення, шт.","Сума, грн."]
[null,null,null,null,null,null,null,null,null,{"$f":"SUM(J8:J100)","v":0}]
[null,1111131254,109183,"CIRCULATOR 1500 л турбінна помпа","Менше 10","Обладнання для акваріума, комплектуючі",1475.71,2066,0,{"$f":"G8*I8","v":0}]
[null,1111131255,109184,"CIRCULATOR 2000 л турбінна помпа","Менше 10","Обладнання для акваріума, комплектуючі",1791.49,2508,0,{"$f":"G9*I9","v":0}]
[null,1111131252,109181,"CIRCULATOR 500 л турбінна помпа","Більше 10","Обладнання для акваріума, комплектуючі",534.63,1011,0,{"$f":"G10*I10","v":0}]
[null,1111161652,"124533 /122730","Акваріум Leddy з балкою Day  and  Night 60, 54 л, білий","Менше 10","Акваріуми, акваріумні набори, комплектуючі",4052.64,5674,0,{"$f":"G11*I11","v":0}]
[null,1111161651,"124532 /122743","Акваріум Leddy з балкою Day  and  Night 60, 54 л, чорний","Менше 10","Акваріуми, акваріумні набори, комплектуючі",3899.25,5459,0,{"$f":"G12*I12","v":0}]
[null,1111139146,"122979 / 114958 /113229","Акваріум для креветки SMART 20 л білий","Менше 10","Акваріуми, акваріумні набори, комплектуючі",3266.73,4573,0,{"$f":"G13*I13","v":0}]
[null,1111123670,"303091 /2369","Акваріум круглий d23 5,5 л","Менше 10","Акваріуми, акваріумні набори, комплектуючі",592.75,830,0,{"$f":"G14*I14","v":0}]
[null,1111123671,"300456 /2746","Акваріум круглий d25 8,5 л","Менше 10","Акваріуми, акваріумні набори, комплектуючі",745.19,1043,0,{"$f":"G15*I15","v":0}]
[null,1111117768,"101076 /2528_ord","Біоконтейнер до UNIFILTER 750/1000","Менше 10","Запчастини для акваріумного обладнання",180.38,253,0,{"$f":"G16*I16","v":0}]
[null,1111171626,122663,"ВісьКерам.д/ротораЗовн.фільтрULTRAMAX/ULTRA/UNIPUMP1000/1500арт.122663","Менше 10","Запчастини для акваріумного обладнання",164.76,231,0,{"$f":"G17*I17","v":0}]
[null,1111123698,"106611 /53952","Вкладиш для фільтра BioCera MAX Pro 600 1 л","Менше 10","Обладнання для акваріума, комплектуючі",274.12,384,0,{"$f":"G18*I18","v":0}]
[null,1111123699,"106612 /53969","Вкладиш для фільтра BioCera MAX UltraPro 1200 1 л","Менше 10","Обладнання для акваріума, комплектуючі",377.8,529,0,{"$f":"G19*I19","v":0}]
[null,1111142190,"113904 /198233 Standart","Вкладиш для фільтра FAN mini Plus (2 шт.)","Менше 10","Обладнання для акваріума, комплектуючі",113.63,159,0,{"$f":"G20*I20","v":0}]
[null,1111142189,"113905 /198240","Вкладиш для фільтра FAN-1 Plus (2 шт.)","Менше 10","Обладнання для акваріума, комплектуючі",144.4,202,0,{"$f":"G21*I21","v":0}]
[null,1111142249,"113907 /198264","Вкладиш для фільтра FAN-3 Plus (2 шт.)","Менше 10","Обладнання для акваріума, комплектуючі",237.67,333,0,{"$f":"G22*I22","v":0}]
[null,1111147581,"131305/246271","Гравій Aquael базальтовий чорний 2-4мм 10кг","Менше 10","Ґрунти, субстрати для акваріуму",368.67,516,0,{"$f":"G23*I23","v":0}]
[null,1111147585,"131304/246274","Гравій Aquael доломіт білий 2-4мм 10кг","Більше 10","Ґрунти, субстрати для акваріуму",368.81,516,0,{"$f":"G24*I24","v":0}]
[null,1111147576,114040,"Грунт базальт 2-4 мм (2 кг) чорний","Більше 10","Ґрунти, субстрати для акваріуму",73.38,103,0,{"$f":"G25*I25","v":0}]
[null,1111147577,114042,"Грунт доломіт 2-4 мм (2 кг) білий","Більше 10","Ґрунти, субстрати для акваріуму",73.38,103,0,{"$f":"G26*I26","v":0}]
[null,1111147582,"115468 /246276","Грунт натуральний 3-5 мм (10 кг)","Менше 10","Ґрунти, субстрати для акваріуму",368.81,516,0,{"$f":"G27*I27","v":0}]
[null,1111147579,114044,"Грунт натуральний 3-5 мм (2 кг)","Більше 100","Ґрунти, субстрати для акваріуму",73.38,103,0,{"$f":"G28*I28","v":0}]
[null,1111147580,114045,"Грунт натуральний 5-10 мм (2 кг)","Більше 10","Ґрунти, субстрати для акваріуму",73.38,103,0,{"$f":"G29*I29","v":0}]
[null,1111147583,115112,"Грунт пісок кварц 0,4-1,2 мм (2 кг)","Більше 10","Ґрунти, субстрати для акваріуму",73.38,103,0,{"$f":"G30*I30","v":0}]
[null,1111148077,"249250 /246309_ord","Камінь Dinosaur bone (уп., 20 кг)","Менше 10","Декорації для акваріуму",3254.42,4556,0,{"$f":"G31*I31","v":0}]
[null,1111148078,"249285 /246310","Камінь кварц (уп., 20 кг)","Менше 10","Декорації для акваріуму",2269.1999999999998,3177,0,{"$f":"G32*I32","v":0}]
[null,1111145250,"101236 /3239_ord","Ковпачок FAN-mini/FAN-micro Plus","Менше 10","Запчастини для акваріумного обладнання",48.29,68,0,{"$f":"G33*I33","v":0}]
[null,1111148435,115316,"Компресор MiniBoost 100 NEW","Менше 10","Обладнання для акваріума, комплектуючі",378.75,530,0,{"$f":"G34*I34","v":0}]
[null,323,109735,"Контейнер для TURBO FILTER 1000/1500/2000","Менше 10","Запчастини для акваріумного обладнання",494.74,693,0,{"$f":"G35*I35","v":0}]
[null,22488,109733,"Контейнер для TURBO FILTER 500","Менше 10","Запчастини для акваріумного обладнання",390.11,546,0,{"$f":"G36*I36","v":0}]
[null,1111145933,"253065/246311","Корінь Driftwood MIX 8-10 кг (уп.)","Менше 10","Декорації для акваріуму",9529.86,13342,0,{"$f":"G37*I37","v":0}]
[null,13347,"100891 /0288","Корпус Aquael для внутрішнього фільтра FAN-1","Менше 10","Запчастини для акваріумного обладнання",187.01,262,0,{"$f":"G38*I38","v":0}]
[null,11037,"101026 /0289","Корпус для FAN-2","Менше 10","Запчастини для акваріумного обладнання",218.73,306,0,{"$f":"G39*I39","v":0}]
[null,11040,"101174 /0290","Корпус для FAN-3","Менше 10","Запчастини для акваріумного обладнання",293.06,410,0,{"$f":"G40*I40","v":0}]
[null,6642,100413,"Корпус для FAN-mini Plus","Менше 10","Запчастини для акваріумного обладнання",151.03,211,0,{"$f":"G41*I41","v":0}]
[null,1111116409,"100698 /0132_ord","Корпус для UNIFILTER 750/1000","Менше 10","Запчастини для акваріумного обладнання",393.43,551,0,{"$f":"G42*I42","v":0}]
[null,1111125926,"101647_ord","Корпус кварцевий для лампи 11 Вт","Менше 10","Запчастини для акваріумного обладнання",609.79,854,0,{"$f":"G43*I43","v":0}]
[null,6114,"103027 /101228_ord","Набір насадок KR-3","Менше 10","Устаткування для ставка, комплектуючі",421.36,590,0,{"$f":"G44*I44","v":0}]
[null,1111182894,"131455_ord","Наповнювач для фільтра Aquael Magic Balls 1л","Менше 10","Обладнання для акваріума, комплектуючі",243.88,341,0,{"$f":"G45*I45","v":0}]
[null,1111182891,"131452_ord","Наповнювач для фільтра Aquael NanoMax Bio 1л","Менше 10","Обладнання для акваріума, комплектуючі",683.24,957,0,{"$f":"G46*I46","v":0}]
[null,1111182892,"131453_ord","Наповнювач для фільтра Aquael NatureMax Bio 1л","Менше 10","Обладнання для акваріума, комплектуючі",390.49,547,0,{"$f":"G47*I47","v":0}]
[null,1111182893,"131454_ord","Наповнювач для фільтра Aquael PearlMax Bio 1л","Менше 10","Обладнання для акваріума, комплектуючі",488.23,684,0,{"$f":"G48*I48","v":0}]
[null,13239,"101232_ord","Насадка KR MAX","Менше 10","Запчастини для акваріумного обладнання",315.77999999999997,442,0,{"$f":"G49*I49","v":0}]
[null,1111162574,"130412_ord","Обігрівач Flow Heater 2.0 з системою регулювання One Touch, 500Вт, про","Менше 10","Обладнання для акваріума, комплектуючі",2761.57,3866,0,{"$f":"G50*I50","v":0}]
[null,1111153509,121217,"Обігрівач PLATINUM 100Вт з електрон. термостат. 24,5см","Менше 10","Обладнання для акваріума, комплектуючі",521.32000000000005,986,0,{"$f":"G51*I51","v":0}]
[null,1111153502,121218,"Обігрівач PLATINUM 150Вт з електрон. термостат. 28,5см","Менше 10","Обладнання для акваріума, комплектуючі",748.51,1048,0,{"$f":"G52*I52","v":0}]
[null,1111153866,"121219_ord","Обігрівач PLATINUM 200Вт з електрон. термостатом 28,5см","Менше 10","Обладнання для акваріума, комплектуючі",766.5,1073,0,{"$f":"G53*I53","v":0}]
[null,1111153508,121214,"Обігрівач PLATINUM 25Вт з електрон. термостатом, 20,5см","Більше 10","Обладнання для акваріума, комплектуючі",656.19,919,0,{"$f":"G54*I54","v":0}]
[null,1111153808,121215,"Обігрівач PLATINUM 50Вт з електрон. термостатом, 22,5см","Менше 10","Обладнання для акваріума, комплектуючі",490.49,928,0,{"$f":"G55*I55","v":0}]
[null,1111153505,121216,"Обігрівач PLATINUM 75Вт з електрон. термостатом, 22,5см","Менше 10","Обладнання для акваріума, комплектуючі",669.44,937,0,{"$f":"G56*I56","v":0}]
[null,1111153507,"129614/115512","Обігрівач ULTRA HEATER 50Вт","Більше 10","Обладнання для акваріума, комплектуючі",1065.74,1492,0,{"$f":"G57*I57","v":0}]
[null,1111131840,222876,"Очищувач грунту GV10 S 260 мм","Менше 10","Аксесуари для догляду за акваріумом",313.42,439,0,{"$f":"G58*I58","v":0}]
[null,1111131839,222874,"Очищувач грунту GV10 XL 665 мм","Менше 10","Аксесуари для догляду за акваріумом",885.81,1240,0,{"$f":"G59*I59","v":0}]
[null,1111140420,"103186_ord","Патрон-стабілізатор для UV 5/9/11 Вт","Менше 10","Запчастини для акваріумного обладнання",1766.4,2473,0,{"$f":"G60*I60","v":0}]
[null,1111164836,"115028_ord","Помпа PFN-6000 ECO NEW для фонтану, 6000 л / ч","Менше 10","Устаткування для ставка, комплектуючі",6323.73,8853,0,{"$f":"G61*I61","v":0}]
[null,1111146679,"115026_ord","Помпа для фонтана PFN- 8000 ECO NEW 7500 л / ч","Менше 10","Устаткування для ставка, комплектуючі",6639.51,9295,0,{"$f":"G62*I62","v":0}]
[null,1111146680,"115027_ord","Помпа для фонтана PFN-10000 ECO NEW 9000 л / ч","Менше 10","Устаткування для ставка, комплектуючі",7060.88,9885,0,{"$f":"G63*I63","v":0}]
[null,13100,"109436 /102809 /1100_ord","Помпа для фонтана PFN-1500","Менше 10","Устаткування для ставка, комплектуючі",2423.54,3393,0,{"$f":"G64*I64","v":0}]
[null,11033,"109844/102656 /17009_ord","Помпа для фонтана PFN-3500","Менше 10","Устаткування для ставка, комплектуючі",4215.9799999999996,5902,0,{"$f":"G65*I65","v":0}]
[null,1111131638,"109433_ord","Помпа для фонтана PFN-500","Менше 10","Устаткування для ставка, комплектуючі",896.22,1255,0,{"$f":"G66*I66","v":0}]
[null,1111117174,"100491 /1448","Присоски AqEl d=24 (4 шт.)","Більше 10","Запчастини для акваріумного обладнання",144.4,202,0,{"$f":"G67*I67","v":0}]
[null,1111117172,"100492 /1449","Присоски AqEl d=36 (4 шт.)","Більше 10","Запчастини для акваріумного обладнання",171.39,240,0,{"$f":"G68*I68","v":0}]
[null,4192,"100500 /0026","Розпилювач для AQUA","Менше 10","Аксесуари для догляду за акваріумом",231.04,323,0,{"$f":"G69*I69","v":0}]
[null,1111171624,121795,"Ротор Aquael до зовнішнього фільтру ULTRAMAX 1000/1500 арт.121795","Менше 10","Запчастини для акваріумного обладнання",421.36,590,0,{"$f":"G70*I70","v":0}]
[null,1111171625,121796,"Ротор Aquael до зовнішнього фільтру ULTRAMAX 2000 арт.121796","Менше 10","Запчастини для акваріумного обладнання",507.05,710,0,{"$f":"G71*I71","v":0}]
[null,1111135240,109727,"Ротор для CIR/TURBO/PFN-2000","Менше 10","Запчастини для акваріумного обладнання",497.11,696,0,{"$f":"G72*I72","v":0}]
[null,1111117295,"100789 /3438","Ротор для FAN-3 plus","Менше 10","Запчастини для акваріумного обладнання",132.09,185,0,{"$f":"G73*I73","v":0}]
[null,1111118016,"101241 /3244","Ротор для FAN-mini /1 Plus","Менше 10","Запчастини для акваріумного обладнання",132.09,185,0,{"$f":"G74*I74","v":0}]
[null,1111134727,"108562*_ord","Ротор для PFN-15000/20000/25000 PLUS","Менше 10","Запчастини для акваріумного обладнання",3954.17,5536,0,{"$f":"G75*I75","v":0}]
[null,11889,"101259 /1337_ord","Ротор для PFN-7500-10000","Менше 10","Запчастини для акваріумного обладнання",1675.03,2345,0,{"$f":"G76*I76","v":0}]
[null,1111182162,"124227_ord","Світильник для акваріума LEDDY TUBE MINI 3 W","Менше 10","Обладнання для акваріума, комплектуючі",522.53,732,0,{"$f":"G77*I77","v":0}]
[null,1111145596,245268,"Термометр скляний з присоскою 6 см","Більше 10","Аксесуари для догляду за акваріумом",92.32,129,0,{"$f":"G78*I78","v":0}]
[null,1111127169,"100571/4260_ord","Фиксатор колпачка к фил. FAN micro/mini/1","Менше 10","Запчастини для акваріумного обладнання",37.4,52,0,{"$f":"G79*I79","v":0}]
[null,1111114158,"102368 /3069","Фільтр AQUA EL FAN 1 Plus","Більше 10","Обладнання для акваріума, комплектуючі",691.22,968,0,{"$f":"G80*I80","v":0}]
[null,1111115429,"102369 /3070","Фільтр AQUA EL FAN 2 Plus","Більше 10","Обладнання для акваріума, комплектуючі",931.26,1304,0,{"$f":"G81*I81","v":0}]
[null,6870,"102370 /3071","Фільтр AQUA EL FAN 3 plus","Більше 10","Обладнання для акваріума, комплектуючі",1122.52,1572,0,{"$f":"G82*I82","v":0}]
[null,1111114823,"107621 /3067","Фільтр AQUA EL FAN MIKRO Plus","Менше 10","Обладнання для акваріума, комплектуючі",571.44000000000005,800,0,{"$f":"G83*I83","v":0}]
[null,1111114157,"101786 /3068","Фільтр AQUA EL FAN MINI Plus","Більше 10","Обладнання для акваріума, комплектуючі",596.53,835,0,{"$f":"G84*I84","v":0}]
[null,1111182889,"132053_ord","Фільтр Aquael для акваріума FZN PRO 1000","Менше 10","Обладнання для акваріума, комплектуючі",2247.54,3147,0,{"$f":"G85*I85","v":0}]
[null,1111182887,"132051_ord","Фільтр Aquael для акваріума FZN PRO 400","Менше 10","Обладнання для акваріума, комплектуючі",1021.57,1430,0,{"$f":"G86*I86","v":0}]
[null,1111182888,"132052_ord","Фільтр Aquael для акваріума FZN PRO 700","Менше 10","Обладнання для акваріума, комплектуючі",1941.19,2718,0,{"$f":"G87*I87","v":0}]
[null,1111182890,"130574_ord","Фільтр Aquael для акваріума TURBO-MINI","Менше 10","Обладнання для акваріума, комплектуючі",540.39,757,0,{"$f":"G88*I88","v":0}]
[null,1111130156,"107715 /111121","Фільтр PAT-mini","Менше 10","Обладнання для акваріума, комплектуючі",544.46,762,0,{"$f":"G89*I89","v":0}]
[null,1111131636,109403,"Фільтр TURBO FILTER 1000 л/г","Більше 10","Обладнання для акваріума, комплектуючі",1379.6,1931,0,{"$f":"G90*I90","v":0}]
[null,1111131637,109404,"Фільтр TURBO FILTER 1500 л/г","Менше 10","Обладнання для акваріума, комплектуючі",1767.35,2474,0,{"$f":"G91*I91","v":0}]
[null,1111132013,109405,"Фільтр TURBO FILTER 2000 л/г","Менше 10","Обладнання для акваріума, комплектуючі",2075.09,2905,0,{"$f":"G92*I92","v":0}]
[null,1111131642,109401,"Фільтр TURBO FILTER 500 л/г","Більше 10","Обладнання для акваріума, комплектуючі",961.56,1346,0,{"$f":"G93*I93","v":0}]
[null,9322,"115432/102591/2199_ord","Фільтр для ставка KlarJET 5000 filter set","Менше 10","Устаткування для ставка, комплектуючі",10539.71,14756,0,{"$f":"G94*I94","v":0}]
[null,9326,"102576 /0604_ord","Фільтр для ставка KlarJET15000 filter set","Менше 10","Устаткування для ставка, комплектуючі",17916.37,25083,0,{"$f":"G95*I95","v":0}]
[null,1111138546,113175,"Фільтр зовнішній FZN-MINI 235 л/г NEW","Менше 10","Обладнання для акваріума, комплектуючі",653.82000000000005,915,0,{"$f":"G96*I96","v":0}]
[null,1111133345,109441,"Фільтр зовнішній MULTI KANI 800 (20-320 л)","Менше 10","Обладнання для акваріума, комплектуючі",2620.96,3669,0,{"$f":"G97*I97","v":0}]
[null,1111159616,120665,"Фільтр зовнішній з префільтром ULTRAMAX 1500","Менше 10","Обладнання для акваріума, комплектуючі",8343.9,11681,0,{"$f":"G98*I98","v":0}]
[null,1111120746,"101455 /1740_ord","Штуцер для стерилізатора 5, 9, 11 Вт","Менше 10","Запчастини для акваріумного обладнання",132.09,185,0,{"$f":"G99*I99","v":0}]
[null,1111133271,"100241_ord","Штуцер для стерилізатора PS 15, 30, 55 Вт","Менше 10","Запчастини для акваріумного обладнання",215.41,302,0,{"$f":"G100*I100","v":0}]

{"sheet":"Aquarium Ukr","index":7,"n_rows":11,"n_cols":10,"rows_kept":11,"cut":false,"hidden":false,"merged":[]}
[]
[null,null,null,null,null,null,"suziria.ua"]
[null,null,null,null,null,null,"0 800 21 82 99"]
[null,null,null,null,null,null,"feedback@suziria.ua"]
[]
["Зображення","Код","Артикул","Номенклатура","Наявність","Категорія","Ціна опт.","Ціна РРЦ","Замовлення, шт.","Сума, грн."]
[null,null,null,null,null,null,null,null,null,{"$f":"SUM(J8:J11)","v":0}]
[null,1111143797,"Х001-3/01289","Аквариум круглый  8л","Менше 10","Акваріуми, акваріумні набори, комплектуючі",761.25,1103.81,0,{"$f":"G8*I8","v":0}]
[null,1111163181,"Х009/14851","Акваріум 9 л круглий","Менше 10","Акваріуми, акваріумні набори, комплектуючі",752.5,1091.1300000000001,0,{"$f":"G9*I9","v":0}]
[null,1111143796,"Х006-3/53826","Акваріум круглий 5 л","Менше 10","Акваріуми, акваріумні набори, комплектуючі",498.75,723.19,0,{"$f":"G10*I10","v":0}]
[null,1111143790,"Д058-1/01210","Акваріум-бокал 5 л","Менше 10","Акваріуми, акваріумні набори, комплектуючі",735,1065.75,0,{"$f":"G11*I11","v":0}]

{"sheet":"Benty Sandy","index":8,"n_rows":8,"n_cols":10,"rows_kept":8,"cut":false,"hidden":false,"merged":[]}
[]
[null,null,null,null,null,null,"suziria.ua"]
[null,null,null,null,null,null,"0 800 21 82 99"]
[null,null,null,null,null,null,"feedback@suziria.ua"]
[]
["Зображення","Код","Артикул","Номенклатура","Наявність","Категорія","Ціна опт.","Ціна РРЦ","Замовлення, шт.","Сума, грн."]
[null,null,null,null,null,null,null,null,null,{"$f":"SUM(J8:J8)","v":0}]
[null,1111169190,"BS5108","Наповнювач Benty Sandy для котів бентонітовий без запаху 5л арт.BS5108","Більше 10","Наповнювачі бентонітові",291.98,380,0,{"$f":"G8*I8","v":0}]

{"sheet":"Biokats","index":9,"n_rows":16,"n_cols":10,"rows_kept":16,"cut":false,"hidden":false,"merged":[]}
[]
[null,null,null,null,null,null,"suziria.ua"]
[null,null,null,null,null,null,"0 800 21 82 99"]
[null,null,null,null,null,null,"feedback@suziria.ua"]
[]
["Зображення","Код","Артикул","Номенклатура","Наявність","Категорія","Ціна опт.","Ціна РРЦ","Замовлення, шт.","Сума, грн."]
[null,null,null,null,null,null,null,null,null,{"$f":"SUM(J8:J16)","v":0}]
[null,1111138101,"G-75.64","Пісок Biokats BIANCO FRESH 10 кг","Більше 10","Наповнювачі бентонітові",660.03,858,0,{"$f":"G8*I8","v":0}]
[null,1111138102,"G-75.65","Пісок Biokats BIANCO FRESH 5 кг","Більше 10","Наповнювачі бентонітові",374.79,488,0,{"$f":"G9*I9","v":0}]
[null,1111134391,"G-613307/614458","Пісок Biokats CLASSIC  3 в 1  10 л","Менше 10","Наповнювачі бентонітові",343.72,447,0,{"$f":"G10*I10","v":0}]
[null,1111161000,"G-613789","Пісок Biokats CLASSIC (3in1) 18L","Більше 10","Наповнювачі бентонітові",643.07000000000005,836,0,{"$f":"G11*I11","v":0}]
[null,1111145220,"G-613253","Пісок Biokats DIAMOND CLASSIC 8 л","Більше 10","Наповнювачі бентонітові",598.47,778,0,{"$f":"G12*I12","v":0}]
[null,1111145221,"G-613260","Пісок Biokats DIAMOND FRESH 8 л","Менше 10","Наповнювачі бентонітові",615.80999999999995,801,0,{"$f":"G13*I13","v":0}]
[null,1111147022,"G-617220/613413","Пісок Biokats FIOR de COTTON 3in1 10 кг","Більше 10","Наповнювачі бентонітові",389.33,506,0,{"$f":"G14*I14","v":0}]
[null,1111134392,"G-613314/614212","Пісок Biokats FRESH  3 в 1  10 л","Більше 10","Наповнювачі бентонітові",389.5,506,0,{"$f":"G15*I15","v":0}]
[null,1111161001,"G-613796","Пісок Biokats FRESH (3in1) 18L","Менше 10","Наповнювачі бентонітові",758.96,987,0,{"$f":"G16*I16","v":0}]

{"sheet":"Brit Care","index":10,"n_rows":200,"n_cols":10,"rows_kept":200,"cut":false,"hidden":false,"merged":[]}
[]
[null,null,null,null,null,null,"suziria.ua"]
[null,null,null,null,null,null,"0 800 21 82 99"]
[null,null,null,null,null,null,"feedback@suziria.ua"]
[]
["Зображення","Код","Артикул","Номенклатура","Наявність","Категорія","Ціна опт.","Ціна РРЦ","Замовлення, шт.","Сума, грн."]
[null,null,null,null,null,null,null,null,null,{"$f":"SUM(J8:J200)","v":0}]
[null,1111162365,"171299/0839","Brit Care Cat Adult Activity Support д/активн. дорослих котів, 400 г","Більше 10","Корм сухий для котів",172.97,225,0,{"$f":"G8*I8","v":0}]
[null,1111162364,"171298/0822","Brit Care Cat Adult Activity Support д/активних дорослих котів, 2 кг","Більше 10","Корм сухий для котів",628.29,818,0,{"$f":"G9*I9","v":0}]
[null,1111162363,"171297/0815","Brit Care Cat Adult Activity Support д/активних дорослих котів, 7 кг","Менше 10","Корм сухий для котів",2054.5,2672,0,{"$f":"G10*I10","v":0}]
[null,1111167491,171963,"Brit Care Cat GF Insect з комахами та оселедцем для котів, 2кг","Більше 10","Корм сухий для котів",632.78,824,0,{"$f":"G11*I11","v":0}]
[null,1111167490,171962,"Brit Care Cat GF Insect з комахами та оселедцем для котів, 400г","Більше 10","Корм сухий для котів",179.44,235,0,{"$f":"G12*I12","v":0}]
[null,1111175077,172541,"Brit Care Cat GF Kitten Digestion Immunity д/кошенят лосось 0,4кг","Більше 10","Корм сухий для котів",187.53,244,0,{"$f":"G13*I13","v":0}]
[null,1111175078,172542,"Brit Care Cat GF Kitten Digestion Immunity д/кошенят лосось 2кг","Більше 10","Корм сухий для котів",654.57000000000005,851,0,{"$f":"G14*I14","v":0}]
[null,1111175079,172543,"Brit Care Cat GF Kitten Digestion Immunity д/кошенят лосось 7кг","Менше 10","Корм сухий для котів",2047.26,2661,0,{"$f":"G15*I15","v":0}]
[null,1111175080,172544,"Brit Care Cat GF Sterilized Immunity д/стерил. котів свинина 0,4кг","Більше 10","Корм сухий для котів",187.53,244,0,{"$f":"G16*I16","v":0}]
[null,1111175081,172545,"Brit Care Cat GF Sterilized Immunity д/стерил. котів свинина 2кг","Більше 10","Корм сухий для котів",654.57000000000005,851,0,{"$f":"G17*I17","v":0}]
[null,1111175082,172546,"Brit Care Cat GF Sterilized Immunity д/стерил. котів свинина 7кг","Менше 10","Корм сухий для котів",2047.26,2661,0,{"$f":"G18*I18","v":0}]
[null,1111162371,"171307/0891","Brit Care Cat Haircare Healthy and Shiny Coat д/шкір. шерсті кот. 400г","Більше 100","Корм сухий для котів",172.97,225,0,{"$f":"G19*I19","v":0}]
[null,1111162370,"171306/0884","Brit Care Cat Haircare Healthy and Shiny Coat д/шкір. шерсті котів 2кг","Більше 10","Корм сухий для котів",628.29,818,0,{"$f":"G20*I20","v":0}]
[null,1111162369,"171305/0877","Brit Care Cat Haircare Healthy and Shiny Coat д/шкір. шерсті котів 7кг","Більше 10","Корм сухий для котів",2054.5,2672,0,{"$f":"G21*I21","v":0}]
[null,1111162368,"171303/0860","Brit Care Cat Indoor Anti-stress д/котів, які живуть у приміщенні 400г","Більше 100","Корм сухий для котів",172.97,225,0,{"$f":"G22*I22","v":0}]
[null,1111162367,"171302/0853","Brit Care Cat Indoor Anti-stress д/котів, які живуть у приміщенні, 2кг","Більше 10","Корм сухий для котів",628.29,818,0,{"$f":"G23*I23","v":0}]
[null,1111162366,"171301/0846","Brit Care Cat Indoor Anti-stress д/котів, які живуть у приміщенні, 7кг","Більше 10","Корм сухий для котів",2054.5,2672,0,{"$f":"G24*I24","v":0}]
[null,1111162349,"171278/0679","Brit Care Cat Kitten HGrowth and Development для кошенят, 2 кг","Більше 100","Корм сухий для котів",592.19000000000005,770,0,{"$f":"G25*I25","v":0}]
[null,1111162350,"171279/0686","Brit Care Cat Kitten HGrowth and Development для кошенят, 400 г","Більше 100","Корм сухий для котів",141.88,185,0,{"$f":"G26*I26","v":0}]
[null,1111162348,"171277/0662","Brit Care Cat Kitten HGrowth and Development для кошенят, 7 кг","Менше 10","Корм сухий для котів",1898.2,2469,0,{"$f":"G27*I27","v":0}]
[null,1111162664,"100531/0532","Brit Care Cat pouch з філе індички в соусі для кошенят, 85 г","Більше 100","Корм вологий для котів",37.44,49,0,{"$f":"G28*I28","v":0}]
[null,1111162661,"100528/0501","Brit Care Cat pouch з філе індички та лосося в соусі для котів, 85 г","Більше 10","Корм вологий для котів",37.44,49,0,{"$f":"G29*I29","v":0}]
[null,1111162662,"100529/0518","Brit Care Cat pouch з філе качки в соусі для котів, 85 г","Більше 100","Корм вологий для котів",37.44,49,0,{"$f":"G30*I30","v":0}]
[null,1111162660,"100526/0488","Brit Care Cat pouch з філе кролика в соусі д/стериліз котів, 85 г","Більше 100","Корм вологий для котів",37.44,49,0,{"$f":"G31*I31","v":0}]
[null,1111162663,"100530/0525","Brit Care Cat pouch з філе лосося в соусі для котів, 85 г","Більше 100","Корм вологий для котів",37.44,49,0,{"$f":"G32*I32","v":0}]
[null,1111163842,"100533/0556","Brit Care Cat pouch філе в желе з тунцем для котів, 85 г","Більше 100","Корм вологий для котів",37.44,49,0,{"$f":"G33*I33","v":0}]
[null,1111163843,"100535/0570","Brit Care Cat pouch філе в желе індичка з креветками для котів, 85 г","Більше 10","Корм вологий для котів",37.44,49,0,{"$f":"G34*I34","v":0}]
[null,1111163841,"100532/0549","Brit Care Cat pouch філе в желе качка, індичка д/стерил. котів 85 г","Більше 100","Корм вологий для котів",37.44,49,0,{"$f":"G35*I35","v":0}]
[null,1111163845,"100537/0594","Brit Care Cat pouch філе в желе лосось для кошенят, 85 г","Більше 100","Корм вологий для котів",37.44,49,0,{"$f":"G36*I36","v":0}]
[null,1111163844,"100536/0587","Brit Care Cat pouch філе в желе тріска і форель для котів, 85 г","Більше 100","Корм вологий для котів",37.44,49,0,{"$f":"G37*I37","v":0}]
[null,1111162374,"171311/0921","Brit Care Cat Power and Vitality д/котів великих порід,  400 г","Більше 10","Корм сухий для котів",172.97,225,0,{"$f":"G38*I38","v":0}]
[null,1111162373,"171310/0914","Brit Care Cat Power and Vitality д/котів великих порід, 2 кг","Більше 10","Корм сухий для котів",628.29,818,0,{"$f":"G39*I39","v":0}]
[null,1111162372,"171309/0907","Brit Care Cat Power and Vitality д/котів великих порід, 7 кг","Менше 10","Корм сухий для котів",2054.5,2672,0,{"$f":"G40*I40","v":0}]
[null,1111162376,"171314/0945","Brit Care Cat Senior Weight Control д/контролю ваги у стар. котів 2кг","Більше 10","Корм сухий для котів",628.29,818,0,{"$f":"G41*I41","v":0}]
[null,1111162377,"171315/0952","Brit Care Cat Senior Weight Control д/контролю ваги у стар. котів 400г","Більше 10","Корм сухий для котів",172.97,225,0,{"$f":"G42*I42","v":0}]
[null,1111162375,"171313/0938","Brit Care Cat Senior Weight Control д/контролю ваги у стар. котів 7кг","Менше 10","Корм сухий для котів",2054.5,2672,0,{"$f":"G43*I43","v":0}]
[null,1111162353,"171283/0716","Brit Care Cat Sensitive HDigestion Delicate для вибагливих котів 400г","Більше 10","Корм сухий для котів",185.05,241,0,{"$f":"G44*I44","v":0}]
[null,1111162352,"171282/0709","Brit Care Cat Sensitive HDigestion Delicate для вибагливих котів, 2кг","Більше 10","Корм сухий для котів",651.87,848,0,{"$f":"G45*I45","v":0}]
[null,1111162351,"171281/0693","Brit Care Cat Sensitive HDigestion Delicate для вибагливих котів, 7кг","Більше 10","Корм сухий для котів",2101.8200000000002,2733,0,{"$f":"G46*I46","v":0}]
[null,1111176212,111901,"Brit Care Cat Snack Calming з куркою д/котів 50г","Більше 10","Ласощі для котів",74.91,97,0,{"$f":"G47*I47","v":0}]
[null,1111176213,111902,"Brit Care Cat Snack Digestion з тунцем д/котів 50г","Більше 10","Ласощі для котів",74.91,97,0,{"$f":"G48*I48","v":0}]
[null,1111176209,111269,"Brit Care Cat Snack Superfruits Chicken д/котів курка 100г","Більше 10","Ласощі для котів",82.12,107,0,{"$f":"G49*I49","v":0}]
[null,1111180641,100653,"Brit Care Cat Snack Superfruits Herring д/котів оселедець 100 г","Більше 100","Ласощі для котів",91.54,119,0,{"$f":"G50*I50","v":0}]
[null,1111180640,100652,"Brit Care Cat Snack Superfruits Insect д/котів комахи 100 г","Більше 100","Ласощі для котів",91.54,119,0,{"$f":"G51*I51","v":0}]
[null,1111176208,111268,"Brit Care Cat Snack Superfruits Kitten д/кошенят 100г","Більше 10","Ласощі для котів",82.12,107,0,{"$f":"G52*I52","v":0}]
[null,1111176210,111270,"Brit Care Cat Snack Superfruits Salmon д/котів лосось 100г","Більше 10","Ласощі для котів",82.12,107,0,{"$f":"G53*I53","v":0}]
[null,1111176211,111900,"Brit Care Cat Snack Urinary з індичкою д/котів 50г","Більше 10","Ласощі для котів",74.91,97,0,{"$f":"G54*I54","v":0}]
[null,1111162358,"171290/0761","Brit Care Cat Sterilized Sensitive д/стериліз. котів з чутл.травл 2 кг","Більше 100","Корм сухий для котів",632.29,822,0,{"$f":"G55*I55","v":0}]
[null,1111162359,"171291/0778","Brit Care Cat Sterilized Sensitive д/стериліз. котів з чутл.травл 400г","Більше 10","Корм сухий для котів",180.2,236,0,{"$f":"G56*I56","v":0}]
[null,1111162357,"171289/0754","Brit Care Cat Sterilized Sensitive д/стериліз. котів з чутл.травл 7 кг","Більше 100","Корм сухий для котів",2101.8200000000002,2733,0,{"$f":"G57*I57","v":0}]
[null,1111162356,"171287/0747","Brit Care Cat Sterilized Urinary Health для стерилізованих котів 400 г","Більше 100","Корм сухий для котів",172.97,225,0,{"$f":"G58*I58","v":0}]
[null,1111162355,"171286/0730","Brit Care Cat Sterilized Urinary Health для стерилізованих котів, 2 кг","Більше 100","Корм сухий для котів",628.29,818,0,{"$f":"G59*I59","v":0}]
[null,1111162354,"171285/0723","Brit Care Cat Sterilized Urinary Health для стерилізованих котів, 7 кг","Більше 10","Корм сухий для котів",2054.5,2672,0,{"$f":"G60*I60","v":0}]
[null,1111162362,"171295/0808","Brit Care Cat Sterilized Weight д/контролю ваги у стерил. котів 400г","Більше 100","Корм сухий для котів",172.97,225,0,{"$f":"G61*I61","v":0}]
[null,1111162361,"171294/0792","Brit Care Cat Sterilized Weight д/контролю ваги у стериліз. котів 2кг","Більше 100","Корм сухий для котів",628.29,818,0,{"$f":"G62*I62","v":0}]
[null,1111162360,"171293/0785","Brit Care Cat Sterilized Weight д/контролю ваги у стериліз. котів 7кг","Більше 10","Корм сухий для котів",2054.5,2672,0,{"$f":"G63*I63","v":0}]
[null,1111170893,"XMASS_00670*****","Brit Care Cat Superfruit різдвяні ласощі лосось обліпиха д/котів 100г","Менше 10","Ласощі для котів",81.209999999999994,98,0,{"$f":"G64*I64","v":0}]
[null,1111176203,100624,"Brit Care Crunchy Cracker Insects Lamb д/собак комахи і ягня 200г","Більше 10","Ласощі для собак",156.86000000000001,199,0,{"$f":"G65*I65","v":0}]
[null,1111176202,100623,"Brit Care Crunchy Cracker Insects Rabbit д/собак комахи і кролик 200г","Більше 10","Ласощі для собак",156.86000000000001,199,0,{"$f":"G66*I66","v":0}]
[null,1111176205,100626,"Brit Care Crunchy Cracker Insects Salmon д/собак комахи і лосось 200г","Більше 10","Ласощі для собак",156.86000000000001,199,0,{"$f":"G67*I67","v":0}]
[null,1111176206,100627,"Brit Care Crunchy Cracker Insects Tuna д/собак комахи і тунець 200г","Більше 10","Ласощі для собак",156.86000000000001,199,0,{"$f":"G68*I68","v":0}]
[null,1111176204,100625,"Brit Care Crunchy Cracker Insects Turkey д/собак комахи і індичка 200г","Більше 10","Ласощі для собак",156.86000000000001,199,0,{"$f":"G69*I69","v":0}]
[null,1111176207,100628,"Brit Care Crunchy Cracker Insects Whey д/цуценят комахи сироватка 200г","Більше 10","Ласощі для собак",156.86000000000001,199,0,{"$f":"G70*I70","v":0}]
[null,1111158243,"111418/9949","Brit Care Dental функціональні ласощі д/соб. оленина з розмарин. 150 г","Більше 100","Ласощі для собак",146.91,191,0,{"$f":"G71*I71","v":0}]
[null,1111158248,"111263/1371","Brit Care Dental функціональні ласощі для котів, індичка, 50 г","Більше 100","Ласощі для котів",74.91,97,0,{"$f":"G72*I72","v":0}]
[null,1111176556,172649,"Brit Care Dog Hypoallergenic Adult Small Breed д/дорослих собак малих","Більше 100","Корм сухий для собак",250.36,327,0,{"$f":"G73*I73","v":0}]
[null,1111176557,172650,"Brit Care Dog Hypoallergenic Adult Small Breed д/дорослих собак малих","Більше 100","Корм сухий для собак",707.62,921,0,{"$f":"G74*I74","v":0}]
[null,1111176558,172651,"Brit Care Dog Hypoallergenic Adult Small Breed д/дорослих собак малих","Більше 100","Корм сухий для собак",1672.11,2175,0,{"$f":"G75*I75","v":0}]
[null,1111174833,172189,"Brit Care Dog Sustainable Sensitive д/соб з чутл шкір комахи/риба 12кг","Менше 10","Корм сухий для собак",3476.09,4519,0,{"$f":"G76*I76","v":0}]
[null,1111174831,172187,"Brit Care Dog Sustainable Sensitive д/соб з чутл шкір комахи/риба 1кг","Більше 10","Корм сухий для собак",371.21,484,0,{"$f":"G77*I77","v":0}]
[null,1111174832,172188,"Brit Care Dog Sustainable Sensitive д/соб з чутл шкір комахи/риба 3кг","Менше 10","Корм сухий для собак",967.58,1258,0,{"$f":"G78*I78","v":0}]
[null,1111158247,"111424/0006","Brit Care Endurance функціональні ласощі д/соб. ягня з бананом, 150 г","Більше 100","Ласощі для собак",146.91,191,0,{"$f":"G79*I79","v":0}]
[null,1111180649,111425,"Brit Care Functional Snack Antiparasitic ласощі д/собак лосось 150г","Більше 100","Ласощі для собак",146.91,191,0,{"$f":"G80*I80","v":0}]
[null,1111180647,111422,"Brit Care Functional Snack Antistress ласощі д/собак креветка 150г","Більше 10","Ласощі для собак",146.91,191,0,{"$f":"G81*I81","v":0}]
[null,1111180648,111423,"Brit Care Functional Snack Mineral Ham ласощі д/цуценят шинка 150г","Більше 100","Ласощі для собак",146.91,191,0,{"$f":"G82*I82","v":0}]
[null,1111180650,111426,"Brit Care Functional Snack Recovery ласощі д/собак оселедець 150г","Більше 100","Ласощі для собак",146.91,191,0,{"$f":"G83*I83","v":0}]
[null,1111148812,"170770/0107","Brit Care GF Mini Adult Lamb ягня для собак малих порід, 2 кг","Більше 100","Корм сухий для собак",617.75,805,0,{"$f":"G84*I84","v":0}]
[null,1111148813,"170771/0114","Brit Care GF Mini Adult Lamb ягня для собак малих порід, 400 г","Менше 10","Корм сухий для собак",168.8,220,0,{"$f":"G85*I85","v":0}]
[null,1111148814,"170772/0121","Brit Care GF Mini Adult Lamb ягня для собак малих порід, 7 кг","Більше 10","Корм сухий для собак",1940.9,2523,0,{"$f":"G86*I86","v":0}]
[null,1111148824,"170782/0220","Brit Care GF Mini Hair and Skin д/шкіри, шерсті у соб. мал. порід 2 кг","Більше 10","Корм сухий для собак",633.26,824,0,{"$f":"G87*I87","v":0}]
[null,1111148825,"170783/0237","Brit Care GF Mini Hair and Skin д/шкіри, шерсті у соб. мал. порід 400г","Більше 100","Корм сухий для собак",170.51,222,0,{"$f":"G88*I88","v":0}]
[null,1111148826,"170784/0244","Brit Care GF Mini Hair and Skin д/шкіри, шерсті у соб. мал. порід 7 кг","Менше 10","Корм сухий для собак",2056.0300000000002,2673,0,{"$f":"G89*I89","v":0}]
[null,1111148827,"170785/1067","Brit Care GF Mini Light and Sterilised д/контролю ваги у собак 2 кг","Більше 10","Корм сухий для собак",701.34,913,0,{"$f":"G90*I90","v":0}]
[null,1111148828,"170786/1074","Brit Care GF Mini Light and Sterilised д/контролю ваги у собак 400г","Більше 100","Корм сухий для собак",185.12,242,0,{"$f":"G91*I91","v":0}]
[null,1111148829,"170787/1081","Brit Care GF Mini Light and Sterilised д/контролю ваги у собак 7 кг","Більше 10","Корм сухий для собак",2297.52,2987,0,{"$f":"G92*I92","v":0}]
[null,1111148815,"170773/0138","Brit Care GF Mini Puppy Lamb ягня для цуценят малих порід, 2 кг","Більше 100","Корм сухий для собак",688.89,895,0,{"$f":"G93*I93","v":0}]
[null,1111148816,"170774/0145","Brit Care GF Mini Puppy Lamb ягня для цуценят малих порід, 400 г","Більше 100","Корм сухий для собак",181.33,235,0,{"$f":"G94*I94","v":0}]
[null,1111148817,"170775/0152","Brit Care GF Mini Puppy Lamb ягня для цуценят малих порід, 7 кг","Більше 10","Корм сухий для собак",2185.25,2841,0,{"$f":"G95*I95","v":0}]
[null,1111148818,"170776/0169","Brit Care GF Mini Sensitive для собак чутливим травленням, 2 кг","Більше 10","Корм сухий для собак",704.68,917,0,{"$f":"G96*I96","v":0}]
[null,1111148819,"170777/0176","Brit Care GF Mini Sensitive для собак чутливим травленням, 400 г","Більше 100","Корм сухий для собак",185.12,242,0,{"$f":"G97*I97","v":0}]
[null,1111148820,"170778/0183","Brit Care GF Mini Sensitive для собак чутливим травленням, 7 кг","Менше 10","Корм сухий для собак",2308.96,3003,0,{"$f":"G98*I98","v":0}]
[null,1111148821,"170779/0190","Brit Care GF Mini Yorkshire для собак малих порід, для йорків, 2 кг","Більше 10","Корм сухий для собак",617.49,805,0,{"$f":"G99*I99","v":0}]
[null,1111148822,"170780/0206","Brit Care GF Mini Yorkshire для собак малих порід, для йорків, 400 г","Більше 100","Корм сухий для собак",167.36,218,0,{"$f":"G100*I100","v":0}]
[null,1111148823,"170781/0213","Brit Care GF Mini Yorkshire для собак малих порід, для йорків, 7 кг","Немає в наявності","Корм сухий для собак",2003.92,2606,0,{"$f":"G101*I101","v":0}]
[null,1111158250,"111265/1395","Brit Care Hairball функціональні ласощі для котів, качка, 50 г","Більше 100","Ласощі для котів",74.91,97,0,{"$f":"G102*I102","v":0}]
[null,1111158246,"111421/9970","Brit Care Immunity функціональні ласощі д/соб. комахи з імбиром, 150 г","Більше 10","Ласощі для собак",146.91,191,0,{"$f":"G103*I103","v":0}]
[null,1111158244,"111419/9956","Brit Care Light функціональні ласощі д/соб. кролик з папаєю, 150 г","Більше 100","Ласощі для собак",146.91,191,0,{"$f":"G104*I104","v":0}]
[null,1111162670,"100915/100220/4456","Brit Care Mini pouch з філе дичини в соусі для собак малих порід, 85г","Більше 100","Корм вологий для собак",48.26,62,0,{"$f":"G105*I105","v":0}]
[null,1111162668,"100913/100218/4432","Brit Care Mini pouch з філе кролика/лосося в соусі д/соб мал порід 85г","Більше 100","Корм вологий для собак",48.26,62,0,{"$f":"G106*I106","v":0}]
[null,1111162667,"100912/100217/4425","Brit Care Mini pouch з філе курки і тунця в соусі д/соб мал порід 85г","Більше 100","Корм вологий для собак",48.26,62,0,{"$f":"G107*I107","v":0}]
[null,1111162669,"100914/100219/4449","Brit Care Mini pouch з філе лосося/оселед. в соусі д/соб мал порід 85г","Більше 100","Корм вологий для собак",48.26,62,0,{"$f":"G108*I108","v":0}]
[null,1111162666,"100911/100216/4418","Brit Care Mini pouch з філе ягнят в соусі для собак для цуценят, 85 г","Більше 100","Корм вологий для собак",48.26,62,0,{"$f":"G109*I109","v":0}]
[null,1111162665,"100910/100215/4401","Brit Care Mini pouch з філе ягнят в соусі для собак малих порід, 85 г","Більше 100","Корм вологий для собак",48.26,62,0,{"$f":"G110*I110","v":0}]
[null,1111158242,"111417/9932","Brit Care Mobility функціональні ласощі д/соб. кальмар з ананас. 150 г","Більше 10","Ласощі для собак",146.91,191,0,{"$f":"G111*I111","v":0}]
[null,1111158249,"111264/1388","Brit Care Shiny Hair функціональні ласощі для котів, лосось, 50 г","Більше 100","Ласощі для котів",74.91,97,0,{"$f":"G112*I112","v":0}]
[null,1111158245,"111420/9963","Brit Care Skin and Coat функціонал. ласощі д/соб. криль з кокос. 150 г","Більше 10","Ласощі для собак",146.91,191,0,{"$f":"G113*I113","v":0}]
[null,1111182593,101152,"Brit Care Soup Chicken д/котів суп з куркою 75 г","Більше 100","Корм вологий для котів",36.159999999999997,47,0,{"$f":"G114*I114","v":0}]
[null,1111182590,101056,"Brit Care Soup Duck д/котів суп качка 75 г","Більше 100","Корм вологий для котів",36.159999999999997,47,0,{"$f":"G115*I115","v":0}]
[null,1111182594,101153,"Brit Care Soup Salmon д/котів суп з лососем 75 г","Більше 100","Корм вологий для котів",36.159999999999997,47,0,{"$f":"G116*I116","v":0}]
[null,1111182592,101058,"Brit Care Soup Tuna д/котів суп з тунцем 75 г","Більше 100","Корм вологий для котів",36.159999999999997,47,0,{"$f":"G117*I117","v":0}]
[null,1111176198,"172661*****","Brit Care Sustainable Adult Large д/дор вел собак курка/комахи 12+2кг","Більше 10","Корм сухий для собак",2116.4,2752,0,{"$f":"G118*I118","v":0}]
[null,1111176197,"172660*****","Brit Care Sustainable Adult Medium д/дор сер собак курка/комахи 12+2кг","Більше 10","Корм сухий для собак",2085.1999999999998,2710,0,{"$f":"G119*I119","v":0}]
[null,1111176199,"172662*****","Brit Care Sustainable Sensitive д/собак з чутл шкір комахи/риба 12+2кг","Більше 10","Корм сухий для собак",3286.48,4272,0,{"$f":"G120*I120","v":0}]
[null,1111144270,"101115/2844","Brit Care олія лосося для собак 250 мл","Немає в наявності","Вітаміни та мінерали",589.35,767,0,{"$f":"G121*I121","v":0}]
[null,1111145210,"101117 /442868","Brit Care олія лосося для собак, 1 л","Менше 10","Вітаміни та мінерали",919.14,1196,0,{"$f":"G122*I122","v":0}]
[null,13260,"101116/2851","Brit Care олія лосося для собак, 500 мл","Більше 10","Вітаміни та мінерали",700.65,912,0,{"$f":"G123*I123","v":0}]
[null,1111151070,"100838/100060/9780","Brit Mono Protein Dog консерви з індичкою для собак, 400 г","Більше 100","Корм вологий для собак",113.75,150,0,{"$f":"G124*I124","v":0}]
[null,1111151067,"100837/100056/9759","Brit Mono Protein Dog консерви з індичкою і бататом для собак, 400 г","Більше 100","Корм вологий для собак",113.75,150,0,{"$f":"G125*I125","v":0}]
[null,1111151071,"100835/100061/9797","Brit Mono Protein Dog консерви з кроликом для собак, 400 г","Більше 100","Корм вологий для собак",113.75,150,0,{"$f":"G126*I126","v":0}]
[null,1111151066,"100836/100055/9742","Brit Mono Protein Dog консерви з тунцем і бататом для собак, 400 г","Більше 10","Корм вологий для собак",113.75,147,0,{"$f":"G127*I127","v":0}]
[null,1111151069,"100834/100058/9773","Brit Mono Protein Dog консерви з ягням для собак, 400 г","Більше 100","Корм вологий для собак",113.75,150,0,{"$f":"G128*I128","v":0}]
[null,1111151064,"100833/100053/9728","Brit Mono Protein Dog консерви з ягням і темним рисом для собак, 400 г","Більше 100","Корм вологий для собак",113.75,150,0,{"$f":"G129*I129","v":0}]
[null,1111151068,"100831/100057/9766","Brit Mono Protein Dog консерви з яловичиною для собак, 400 г","Більше 100","Корм вологий для собак",113.75,150,0,{"$f":"G130*I130","v":0}]
[null,1111151065,"100832/100054/9735","Brit Mono Protein Dog консерви з яловичиною і темним рисом д/соб, 400г","Більше 100","Корм вологий для собак",113.75,150,0,{"$f":"G131*I131","v":0}]
[null,1111151337,"100865/100074/0298","Brit Pate and Meat Dog консерви з індичкою для собак, 400 г","Більше 100","Корм вологий для собак",102.66,134,0,{"$f":"G132*I132","v":0}]
[null,1111151338,"100860/100075/0304","Brit Pate and Meat Dog консерви з качкою для собак, 400 г","Більше 100","Корм вологий для собак",102.66,134,0,{"$f":"G133*I133","v":0}]
[null,1111151339,"100863/100076/0311","Brit Pate and Meat Dog консерви з кроликом для собак, 400 г","Більше 100","Корм вологий для собак",102.66,134,0,{"$f":"G134*I134","v":0}]
[null,1111151336,"100859/100073/0281","Brit Pate and Meat Dog консерви з куркою для собак, 400 г","Більше 100","Корм вологий для собак",102.66,134,0,{"$f":"G135*I135","v":0}]
[null,1111151334,"100864/100071/0267","Brit Pate and Meat Dog консерви з лососем для собак, 400 г","Більше 10","Корм вологий для собак",102.66,134,0,{"$f":"G136*I136","v":0}]
[null,1111151341,"100866/100078/0328","Brit Pate and Meat Dog консерви з олениною для собак, 400 г","Більше 100","Корм вологий для собак",102.66,134,0,{"$f":"G137*I137","v":0}]
[null,1111151340,"100861/100077/0441","Brit Pate and Meat Dog консерви з ягням для собак, 400 г","Більше 100","Корм вологий для собак",102.66,134,0,{"$f":"G138*I138","v":0}]
[null,1111151335,"100858/100072/0274","Brit Pate and Meat Dog консерви з яловичиною для собак, 400 г","Більше 100","Корм вологий для собак",102.66,134,0,{"$f":"G139*I139","v":0}]
[null,1111151342,"100862/100079/0335","Brit Pate and Meat Puppy 400 г з куркою для цуценят, 400 г","Більше 100","Корм вологий для собак",102.66,134,0,{"$f":"G140*I140","v":0}]
[null,1111176193,112131,"Brit Raw Treat Digestion Freeze-dried д/собак курка 40г","Більше 10","Ласощі для собак",143.28,215,0,{"$f":"G141*I141","v":0}]
[null,1111180677,112190,"Brit Raw Treat HairandSkin ласощі д/котів з рибою та індичкою 40 г","Більше 100","Ласощі для котів",166,249,0,{"$f":"G142*I142","v":0}]
[null,1111176195,112133,"Brit Raw Treat Immunity Freeze-dried д/собак ягня і курка 40г","Більше 10","Ласощі для собак",143.28,215,0,{"$f":"G143*I143","v":0}]
[null,1111180676,112189,"Brit Raw Treat IndoorandAntistress ласощі д/котів з куркою 40 г","Більше 100","Ласощі для котів",166,249,0,{"$f":"G144*I144","v":0}]
[null,1111180674,112187,"Brit Raw Treat Kitten ласощі д/кошенят з куркою і лососем 40 г","Більше 100","Ласощі для котів",166,249,0,{"$f":"G145*I145","v":0}]
[null,1111180678,112191,"Brit Raw Treat Sensitive ласощі д/котів з індичкою 40 г","Більше 100","Ласощі для котів",166,249,0,{"$f":"G146*I146","v":0}]
[null,1111176194,112132,"Brit Raw Treat Skin and Coat Freeze-dried д/собак риба і курка 40г","Більше 10","Ласощі для собак",143.28,215,0,{"$f":"G147*I147","v":0}]
[null,1111176196,112134,"Brit Raw Treat Urinary Freeze-dried д/собак індичка 40г","Більше 10","Ласощі для собак",143.28,215,0,{"$f":"G148*I148","v":0}]
[null,1111180675,112188,"Brit Raw Treat Urinary ласощі д/котів з куркою та індичкою 40 г","Більше 100","Ласощі для котів",166,249,0,{"$f":"G149*I149","v":0}]
[null,1111173371,172225,"Бріт Кеа Гіпоал вейт лос д/дор соб з надмірн ваг 12кг,арт.172225","Більше 10","Корм сухий для собак",2872.64,3736,0,{"$f":"G150*I150","v":0}]
[null,1111173369,172223,"Бріт Кеа Гіпоал вейт лос д/дор соб з надмірн ваг 1кг,арт.172223","Більше 10","Корм сухий для собак",276.97000000000003,360,0,{"$f":"G151*I151","v":0}]
[null,1111173370,172224,"Бріт Кеа Гіпоал вейт лос д/дор соб з надмірн ваг 3кг,арт.172224","Більше 10","Корм сухий для собак",790.93,1030,0,{"$f":"G152*I152","v":0}]
[null,1111173368,172222,"Бріт Кеа Гіпоал едалт лар бр д/дор соб вел пор від25кг,12кг,арт.172222","Більше 100","Корм сухий для собак",2359.4,3068,0,{"$f":"G153*I153","v":0}]
[null,1111173366,172220,"Бріт Кеа Гіпоал едалт лар бр д/дор соб вел пор від25кг,1кг,арт.172220","Більше 10","Корм сухий для собак",244.57,319,0,{"$f":"G154*I154","v":0}]
[null,1111173367,172221,"Бріт Кеа Гіпоал едалт лар бр д/дор соб вел пор від25кг,3кг,арт.172221","Більше 100","Корм сухий для собак",687.06,894,0,{"$f":"G155*I155","v":0}]
[null,1111173362,172216,"Бріт Кеа Гіпоал едалт мед бр д/дор соб сер пор10-25кг ,12кг арт.172216","Більше 100","Корм сухий для собак",2353.15,3061,0,{"$f":"G156*I156","v":0}]
[null,1111173360,172214,"Бріт Кеа Гіпоал едалт мед бр д/дор соб сер пор10-25кг ,1кг арт.172214","Більше 100","Корм сухий для собак",239.7,312,0,{"$f":"G157*I157","v":0}]
[null,1111173361,172215,"Бріт Кеа Гіпоал едалт мед бр д/дор соб сер пор10-25кг ,3кг арт.172215","Більше 100","Корм сухий для собак",678.96,883,0,{"$f":"G158*I158","v":0}]
[null,1111173365,172219,"Бріт Кеа Гіпоал юні лар бр д/цуц/мол вел пор від 25кг,12кг,арт.172219","Більше 10","Корм сухий для собак",2411.27,3134,0,{"$f":"G159*I159","v":0}]
[null,1111173363,172217,"Бріт Кеа Гіпоал юні лар бр д/цуц/мол вел пор від 25кг,1кг,арт.172217","Більше 10","Корм сухий для собак",244.81,319,0,{"$f":"G160*I160","v":0}]
[null,1111173364,172218,"Бріт Кеа Гіпоал юні лар бр д/цуц/мол вел пор від 25кг,3кг,арт.172218","Більше 10","Корм сухий для собак",690.52,900,0,{"$f":"G161*I161","v":0}]
[null,1111173390,172210,"Бріт Кеа ГрейнФрі сенсітів д/дор соб з чутл травл 12кг,арт.172210","Більше 10","Корм сухий для собак",3461.44,4500,0,{"$f":"G162*I162","v":0}]
[null,1111173388,172208,"Бріт Кеа ГрейнФрі сенсітів д/дор соб з чутл травл 1кг,арт.172208","Більше 10","Корм сухий для собак",376.06,491,0,{"$f":"G163*I163","v":0}]
[null,1111173389,172209,"Бріт Кеа ГрейнФрі сенсітів д/дор соб з чутл травл 3кг,арт.172209","Більше 10","Корм сухий для собак",957.21,1245,0,{"$f":"G164*I164","v":0}]
[null,1111173373,172228,"Бріт Кеа дог Гіпоал чемпіон для виставкових собак  12кг, арт. 172228","Менше 10","Корм сухий для собак",2859.56,3718,0,{"$f":"G165*I165","v":0}]
[null,1111173372,172227,"Бріт Кеа дог Гіпоал чемпіон для виставкових собак  3кг, арт. 172227","Менше 10","Корм сухий для собак",833,1084,0,{"$f":"G166*I166","v":0}]
[null,1111173359,172213,"Бріт Кеа дог Гіпоалергенний Паппі д/цуценят 12кг арт.172213","Більше 10","Корм сухий для собак",2269.8000000000002,2952,0,{"$f":"G167*I167","v":0}]
[null,1111173357,172211,"Бріт Кеа дог Гіпоалергенний Паппі д/цуценят 1кг арт.172211","Більше 100","Корм сухий для собак",227.32,296,0,{"$f":"G168*I168","v":0}]
[null,1111173358,172212,"Бріт Кеа дог Гіпоалергенний Паппі д/цуценят 3кг арт.172212","Більше 100","Корм сухий для собак",646.51,841,0,{"$f":"G169*I169","v":0}]
[null,1111173379,172198,"Бріт Кеа дог Грейн Фрі едалт д/дор собак усіх порід 12кг, арт. 172198","Більше 10","Корм сухий для собак",2719.11,3536,0,{"$f":"G170*I170","v":0}]
[null,1111173377,172196,"Бріт Кеа дог Грейн Фрі едалт д/дор собак усіх порід 1кг, арт. 172196","Більше 10","Корм сухий для собак",268.38,350,0,{"$f":"G171*I171","v":0}]
[null,1111173378,172197,"Бріт Кеа дог Грейн Фрі едалт д/дор собак усіх порід 3кг, арт. 172197","Більше 10","Корм сухий для собак",765.9,997,0,{"$f":"G172*I172","v":0}]
[null,1111173376,172195,"Бріт Кеа дог Грейн Фрі Паппі д/цуценят 12кг, арт. 172195","Менше 10","Корм сухий для собак",2828.69,3678,0,{"$f":"G173*I173","v":0}]
[null,1111173374,172193,"Бріт Кеа дог Грейн Фрі Паппі д/цуценят 1кг, арт. 172193","Більше 10","Корм сухий для собак",274.83999999999997,359,0,{"$f":"G174*I174","v":0}]
[null,1111173375,172194,"Бріт Кеа дог Грейн Фрі Паппі д/цуценят 3кг, арт. 172194","Більше 10","Корм сухий для собак",792.81,1030,0,{"$f":"G175*I175","v":0}]
[null,1111173356,172192,"Бріт Кеа дог Саст актівіті д/дор соб з витрат енергії  12кг арт.172192","Менше 10","Корм сухий для собак",2323.1999999999998,3021,0,{"$f":"G176*I176","v":0}]
[null,1111173355,172191,"Бріт Кеа дог Саст актівіті д/дор соб з витрат енергії  3кг арт.172191","Менше 10","Корм сухий для собак",663.3,861,0,{"$f":"G177*I177","v":0}]
[null,1111173353,172173,"Бріт Кеа дог Саст едалт смол брід д/дор соб ваг до10 кг,3кг,арт.172173","Більше 10","Корм сухий для собак",694.75,904,0,{"$f":"G178*I178","v":0}]
[null,1111173354,172174,"Бріт Кеа дог Саст едалт смол брід д/дор соб ваг до10кг,7кг,арт.172174","Більше 10","Корм сухий для собак",1641.71,2135,0,{"$f":"G179*I179","v":0}]
[null,1111173607,172171,"Бріт Кеа дог Састейнебл Паппі від 4 тижнів до 12 міс, 12кг, арт.172171","Менше 10","Корм сухий для собак",2223.7199999999998,2891,0,{"$f":"G180*I180","v":0}]
[null,1111173606,172170,"Бріт Кеа дог Састейнебл Паппі від 4 тижнів до 12 міс, 3кг, арт.172170","Більше 10","Корм сухий для собак",610.20000000000005,793,0,{"$f":"G181*I181","v":0}]
[null,1111173613,172183,"Бріт Кеа Саст едалт лар бр д/дор соб вел пор від25кг,12кг,арт172183","Менше 10","Корм сухий для собак",2238.5,2911,0,{"$f":"G182*I182","v":0}]
[null,1111173612,172182,"Бріт Кеа Саст едалт лар бр д/дор соб вел пор від25кг,3кг,арт172182","Більше 10","Корм сухий для собак",620.4,806,0,{"$f":"G183*I183","v":0}]
[null,1111173609,172176,"Бріт Кеа Саст едалт мед брід д/дор соб сер пор 10-25кг ,3кг,арт.172176","Більше 10","Корм сухий для собак",611.6,795,0,{"$f":"G184*I184","v":0}]
[null,1111173610,172177,"Бріт Кеа Саст едалт мед брід д/дор соб сер пор 10-25кг,12кг,арт.172177","Менше 10","Корм сухий для собак",2205.5,2867,0,{"$f":"G185*I185","v":0}]
[null,1111173384,172204,"БрітКеаГрейнФрі едал лар бр д/дорСобВелПор ваг від25кг,12кг,арт.172204","Більше 10","Корм сухий для собак",2827.96,3677,0,{"$f":"G186*I186","v":0}]
[null,1111173383,172203,"БрітКеаГрейнФрі едалт лар бр д/дорСобВелПор ваг від25кг,3кг,арт.172203","Менше 10","Корм сухий для собак",795.03,1034,0,{"$f":"G187*I187","v":0}]
[null,1111173387,172207,"БрітКеаГрейнФрі сеньй and лай д/соб похил віку/з надмір ваг12кг","Більше 10","Корм сухий для собак",2464.44,3203,0,{"$f":"G188*I188","v":0}]
[null,1111173385,172205,"БрітКеаГрейнФрі сеньй and лайт д/соб похил віку/з надмір ваг1к","Менше 10","Корм сухий для собак",246.39,320,0,{"$f":"G189*I189","v":0}]
[null,1111173386,172206,"БрітКеаГрейнФрі сеньй and лайт д/соб похил віку/з надмір ваг3кг","Менше 10","Корм сухий для собак",700.19,912,0,{"$f":"G190*I190","v":0}]
[null,1111173382,172201,"БрітКеаГрейнФрі юні лар бр д/цуц/мол вел соб від25кг,12кг,арт.172201","Більше 10","Корм сухий для собак",2780.01,3615,0,{"$f":"G191*I191","v":0}]
[null,1111173380,172199,"БрітКеаГрейнФрі юні лар бр д/цуц/мол вел соб від25кг,1кг,арт.172199","Менше 10","Корм сухий для собак",276.5,360,0,{"$f":"G192*I192","v":0}]
[null,1111173381,172200,"БрітКеаГрейнФрі юні лар бр д/цуц/мол вел соб від25кг,3кг,арт.172200","Більше 10","Корм сухий для собак",803.55,1045,0,{"$f":"G193*I193","v":0}]
[null,1111171949,172172,"Корм  сух д/дор соб до10кг БрітКеаСастЕдалтСмолБрід кур з комах 1кг","Більше 10","Корм сухий для собак",245.81,321,0,{"$f":"G194*I194","v":0}]
[null,1111171950,172175,"Корм сух д/дор соб від10до25кг БрітКеаСастЕдалтМедБрід кур з комах 1кг","Більше 10","Корм сухий для собак",215.6,281,0,{"$f":"G195*I195","v":0}]
[null,1111171948,172169,"Корм сух д/цуц БрітКеаСастейнеблПапі кур з комах від 4тиж до 12міс 1кг","Більше 10","Корм сухий для собак",217.08,283,0,{"$f":"G196*I196","v":0}]
[null,1111174806,112105,"Ласощі Brit Dental Stick Calm д/собак заспокійливі 7 шт 251г","Більше 100","Ласощі для собак",140.11000000000001,183,0,{"$f":"G197*I197","v":0}]
[null,1111174805,112104,"Ласощі Brit Dental Stick Immuno д/собак д/імунітету 7 шт 251г","Більше 100","Ласощі для собак",140.11000000000001,183,0,{"$f":"G198*I198","v":0}]
[null,1111174804,112103,"Ласощі Brit Dental Stick Mobility д/собак д/суглобів 7 шт 251г","Більше 10","Ласощі для собак",140.11000000000001,183,0,{"$f":"G199*I199","v":0}]
[null,1111174803,112102,"Ласощі Brit Dental Stick Teeth and Gums д/собак д/зубів 7 шт 251г","Більше 100","Ласощі для собак",140.11000000000001,183,0,{"$f":"G200*I200","v":0}]

{"sheet":"Brit Fresh","index":11,"n_rows":23,"n_cols":10,"rows_kept":23,"cut":false,"hidden":false,"merged":[]}
[]
[null,null,null,null,null,null,"suziria.ua"]
[null,null,null,null,null,null,"0 800 21 82 99"]
[null,null,null,null,null,null,"feedback@suziria.ua"]
[]
["Зображення","Код","Артикул","Номенклатура","Наявність","Категорія","Ціна опт.","Ціна РРЦ","Замовлення, шт.","Сума, грн."]
[null,null,null,null,null,null,null,null,null,{"$f":"SUM(J8:J23)","v":0}]
[null,1111168377,200260018,"Brit Excellent наповнювач бентонітовий, 5 кг","Більше 100","Наповнювачі бентонітові",237.73,310,0,{"$f":"G8*I8","v":0}]
[null,1111153743,"170991/530755","Brit Fresh Beef/Pumpkin Puppy Large ялов. гарб. д/цуцен. вел. пор 12кг","Більше 10","Корм сухий для собак",2347.41,3053,0,{"$f":"G9*I9","v":0}]
[null,1111153744,"170992 /0762","Brit Fresh Beef/Pumpkin Puppy Large ялов.гарб. д/цуцен. вел. пор 2,5кг","Більше 10","Корм сухий для собак",567.69000000000005,739,0,{"$f":"G10*I10","v":0}]
[null,1111153741,170989,"Brit Fresh Chicken/Potato Adult курка, картопля для собак, 12 кг","Менше 10","Корм сухий для собак",2440.37,3172,0,{"$f":"G11*I11","v":0}]
[null,1111153742,"170990/0748","Brit Fresh Chicken/Potato Adult курка, картопля для собак, 2,5 кг","Більше 10","Корм сухий для собак",595.05999999999995,774,0,{"$f":"G12*I12","v":0}]
[null,1111153739,170987,"Brit Fresh Chicken/Potato Puppy курка, картопля для цуценят, 12 кг","Менше 10","Корм сухий для собак",2449.2800000000002,3185,0,{"$f":"G13*I13","v":0}]
[null,1111153740,"170988 /0724","Brit Fresh Chicken/Potato Puppy курка, картопля для цуценят, 2,5 кг","Більше 10","Корм сухий для собак",590.78,769,0,{"$f":"G14*I14","v":0}]
[null,1111153753,"100159/3893","Brit Fresh Chicken/Sweet Potato консерви з куркою і бататом д/соб 400г","Немає в наявності","Корм вологий для собак",129.36000000000001,170,0,{"$f":"G15*I15","v":0}]
[null,1111153749,"170997/30816","Brit Fresh Duck/Millet Active Run and Work качка, пшоно д/собак 12 кг","Менше 10","Корм сухий для собак",2659.57,3458,0,{"$f":"G16*I16","v":0}]
[null,1111153750,"170998/0823","Brit Fresh Duck/Millet Active Run and Work качка, пшоно д/собак 2,5кг","Більше 10","Корм сухий для собак",641.51,834,0,{"$f":"G17*I17","v":0}]
[null,1111153754,"100160/3909","Brit Fresh Duck/Millet консерви з качкою і пшоном для собак, 400 г","Більше 10","Корм вологий для собак",129.36000000000001,170,0,{"$f":"G18*I18","v":0}]
[null,1111153745,"170993/530779","Brit Fresh Fish/Pumpkin Adult Large риба, гарбуз д/соб. вел.пор. 12кг","Менше 10","Корм сухий для собак",2593.5100000000002,3373,0,{"$f":"G19*I19","v":0}]
[null,1111153746,"170994 /0786","Brit Fresh Fish/Pumpkin Adult Large риба, гарбуз д/соб. вел.пор. 2,5кг","Більше 10","Корм сухий для собак",628.28,817,0,{"$f":"G20*I20","v":0}]
[null,1111153747,170995,"Brit Fresh Turkey/Pea Light Fit and Slim Adult індич. горох д/соб 12кг","Менше 10","Корм сухий для собак",2488.7399999999998,3236,0,{"$f":"G21*I21","v":0}]
[null,1111153748,"170996 /0809","Brit Fresh Turkey/Pea Light Fit and Slim Adult індич.горох д/соб 2,5кг","Більше 10","Корм сухий для собак",589.16,767,0,{"$f":"G22*I22","v":0}]
[null,1111153751,"100157/3879","Brit Fresh Turkey/Peas консерви з індичкою і горошком для собак, 400 г","Немає в наявності","Корм вологий для собак",129.36000000000001,170,0,{"$f":"G23*I23","v":0}]

{"sheet":"Brit Premium","index":12,"n_rows":99,"n_cols":10,"rows_kept":99,"cut":false,"hidden":false,"merged":[]}
[]
[null,null,null,null,null,null,"suziria.ua"]
[null,null,null,null,null,null,"0 800 21 82 99"]
[null,null,null,null,null,null,"feedback@suziria.ua"]
[]
["Зображення","Код","Артикул","Номенклатура","Наявність","Категорія","Ціна опт.","Ціна РРЦ","Замовлення, шт.","Сума, грн."]
[null,null,null,null,null,null,null,null,null,{"$f":"SUM(J8:J99)","v":0}]
[null,1111167458,171859,"Brit Premium by Nature Cat Adult Chicken з куркою д/котів, 1,5 кг","Більше 100","Корм сухий для котів",285.75,374,0,{"$f":"G8*I8","v":0}]
[null,1111167456,171843,"Brit Premium by Nature Cat Adult Chicken з куркою д/котів, 300 г","Більше 10","Корм сухий для котів",93.31,122,0,{"$f":"G9*I9","v":0}]
[null,1111167459,171867,"Brit Premium by Nature Cat Adult Chicken з куркою д/котів, 8 кг","Більше 10","Корм сухий для котів",1231.53,1602,0,{"$f":"G10*I10","v":0}]
[null,1111167457,171851,"Brit Premium by Nature Cat Adult Chicken з куркою д/котів, 800 г","Більше 10","Корм сухий для котів",180.59,235,0,{"$f":"G11*I11","v":0}]
[null,1111167466,171861,"Brit Premium by Nature Cat Indoor д/кот, що живуть у приміщенні, 1,5кг","Більше 100","Корм сухий для котів",284.48,370,0,{"$f":"G12*I12","v":0}]
[null,1111167464,171845,"Brit Premium by Nature Cat Indoor д/кот, що живуть у приміщенні, 300г","Більше 10","Корм сухий для котів",91.75,121,0,{"$f":"G13*I13","v":0}]
[null,1111167465,171853,"Brit Premium by Nature Cat Indoor д/кот, що живуть у приміщенні, 800г","Менше 10","Корм сухий для котів",180.59,235,0,{"$f":"G14*I14","v":0}]
[null,1111167467,171869,"Brit Premium by Nature Cat Indoor д/кот, що живуть у приміщенні, 8кг","Більше 10","Корм сухий для котів",1276.97,1661,0,{"$f":"G15*I15","v":0}]
[null,1111167470,171858,"Brit Premium by Nature Cat Kitten з куркою для кошенят, 1,5 г","Більше 100","Корм сухий для котів",296.48,387,0,{"$f":"G16*I16","v":0}]
[null,1111167468,171842,"Brit Premium by Nature Cat Kitten з куркою для кошенят, 300 г","Більше 100","Корм сухий для котів",93.47,122,0,{"$f":"G17*I17","v":0}]
[null,1111167471,171866,"Brit Premium by Nature Cat Kitten з куркою для кошенят, 8 г","Більше 10","Корм сухий для котів",1433.42,1865,0,{"$f":"G18*I18","v":0}]
[null,1111167469,171850,"Brit Premium by Nature Cat Kitten з куркою для кошенят, 800 г","Більше 10","Корм сухий для котів",180.59,235,0,{"$f":"G19*I19","v":0}]
[null,1111167473,171865,"Brit Premium by Nature Cat Sensitive д/котів із чутл. травленням 1,5кг","Більше 10","Корм сухий для котів",312.8,407,0,{"$f":"G20*I20","v":0}]
[null,1111167472,171849,"Brit Premium by Nature Cat Sensitive д/котів із чутл. травленням 300 г","Більше 100","Корм сухий для котів",96.32,126,0,{"$f":"G21*I21","v":0}]
[null,1111167474,171873,"Brit Premium by Nature Cat Sensitive д/котів із чутл. травленням, 8 кг","Більше 10","Корм сухий для котів",1390.87,1810,0,{"$f":"G22*I22","v":0}]
[null,1111167475,171846,"Brit Premium by Nature Cat Sterilised для стерелізованих котів, 300 г","Більше 100","Корм сухий для котів",95.02,125,0,{"$f":"G23*I23","v":0}]
[null,1111167478,171870,"Brit Premium by Nature Cat Sterilised для стерилізованих котів, 8 кг","Більше 10","Корм сухий для котів",1377.24,1791,0,{"$f":"G24*I24","v":0}]
[null,1111167476,171854,"Brit Premium by Nature Cat Sterilised для стерилізованих котів, 800 г","Менше 10","Корм сухий для котів",192.03,251,0,{"$f":"G25*I25","v":0}]
[null,1111167477,171862,"Brit Premium by Nature Cat Sterilised з куркою 1,5кг","Більше 10","Корм сухий для котів",301.44,392,0,{"$f":"G26*I26","v":0}]
[null,1111167486,171863,"Brit Premium by Nature Cat Sterilized Lamb ягня д/стерил. кот. 1,5 кг","Більше 10","Корм сухий для котів",301.44,392,0,{"$f":"G27*I27","v":0}]
[null,1111167484,171847,"Brit Premium by Nature Cat Sterilized Lamb ягня д/стерил. кот. 300г","Більше 100","Корм сухий для котів",95.02,125,0,{"$f":"G28*I28","v":0}]
[null,1111167487,171871,"Brit Premium by Nature Cat Sterilized Lamb ягня д/стерил. кот. 8 кг","Більше 10","Корм сухий для котів",1377.24,1791,0,{"$f":"G29*I29","v":0}]
[null,1111167485,171855,"Brit Premium by Nature Cat Sterilized Lamb ягня д/стерил. кот. 800 кг","Більше 10","Корм сухий для котів",192.03,251,0,{"$f":"G30*I30","v":0}]
[null,1111167480,171848,"Brit Premium by Nature Cat Sterilized Salmon лосось д/стер. кот. 300 г","Більше 10","Корм сухий для котів",95.02,125,0,{"$f":"G31*I31","v":0}]
[null,1111167483,171872,"Brit Premium by Nature Cat Sterilized Salmon лосось д/стер. кот. 8 кг","Більше 10","Корм сухий для котів",1377.24,1791,0,{"$f":"G32*I32","v":0}]
[null,1111167481,171856,"Brit Premium by Nature Cat Sterilized Salmon лосось д/стер. кот. 800 г","Більше 10","Корм сухий для котів",192.03,251,0,{"$f":"G33*I33","v":0}]
[null,1111163313,"100619/5124","Brit Premium by Nature Cat консерви індичка з печінкою для котів 200 г","Менше 10","Корм вологий для котів",76.150000000000006,99,0,{"$f":"G34*I34","v":0}]
[null,1111163311,"100617/5049","Brit Premium by Nature Cat консерви індичка з ягням для котів, 200 г","Більше 10","Корм вологий для котів",76.150000000000006,99,0,{"$f":"G35*I35","v":0}]
[null,1111163309,"100615/5025","Brit Premium by Nature Cat консерви курка з серцями для котів, 200 г","Більше 10","Корм вологий для котів",76.150000000000006,99,0,{"$f":"G36*I36","v":0}]
[null,1111163310,"100616/5032","Brit Premium by Nature Cat консерви форель з печінкою д/котів, 200 г","Більше 10","Корм вологий для котів",76.150000000000006,99,0,{"$f":"G37*I37","v":0}]
[null,1111159941,"100408/8553","Brit Premium by Nature консерви для собак, індичка/печінка, 400 г","Більше 100","Корм вологий для собак",86.97,113,0,{"$f":"G38*I38","v":0}]
[null,1111159942,"100410/8577","Brit Premium by Nature консерви для собак, індичка/печінка, 800 г","Більше 100","Корм вологий для собак",156.9,192,0,{"$f":"G39*I39","v":0}]
[null,1111159939,"100405/8522","Brit Premium by Nature консерви для собак, курка/серця курячі, 400 г","Більше 100","Корм вологий для собак",86.97,113,0,{"$f":"G40*I40","v":0}]
[null,1111159945,"100414/8614","Brit Premium by Nature консерви для собак, ягня/гречка, 400 г","Більше 100","Корм вологий для собак",86.97,113,0,{"$f":"G41*I41","v":0}]
[null,1111159946,"100416/8638","Brit Premium by Nature консерви для собак, ягня/гречка, 800 г","Більше 100","Корм вологий для собак",147.44,192,0,{"$f":"G42*I42","v":0}]
[null,1111159943,"100411/8584","Brit Premium by Nature консерви для собак, яловичина/рубець, 400 г","Більше 100","Корм вологий для собак",86.97,113,0,{"$f":"G43*I43","v":0}]
[null,1111178696,111833,"Brit Premium Cat pouch 100 g лосось для стерилізованих котів","Немає в наявності","Корм вологий для котів",22.89,29.7,0,{"$f":"G44*I44","v":0}]
[null,1111178695,111832,"Brit Premium Cat pouch 100 g печінка для стерилізованих котів","Більше 100","Корм вологий для котів",22.89,29.7,0,{"$f":"G45*I45","v":0}]
[null,1111178694,111831,"Brit Premium Cat pouch 100 g ягнятина для стерилізованих котів","Більше 100","Корм вологий для котів",22.89,29.7,0,{"$f":"G46*I46","v":0}]
[null,1111142141,"100273 /506019","Brit Premium Cat pouch д/котів, з куркою та індичкою, 100 г","Більше 100","Корм вологий для котів",22.89,29.7,0,{"$f":"G47*I47","v":0}]
[null,1111142139,"100271 /505999","Brit Premium Cat pouch д/котів, з лососем та фореллю, 100 г","Більше 100","Корм вологий для котів",22.89,29.7,0,{"$f":"G48*I48","v":0}]
[null,1111142140,"100272 /506002","Brit Premium Cat pouch д/котів, з тріскою, 100 г","Більше 100","Корм вологий для котів",22.89,29.7,0,{"$f":"G49*I49","v":0}]
[null,1111142138,"100270 /505982","Brit Premium Cat pouch д/котів, з яловичиною та горохом, 100 г","Більше 100","Корм вологий для котів",22.89,29.7,0,{"$f":"G50*I50","v":0}]
[null,1111142144,"100277 /506262","Brit Premium Cat pouch д/котів, набір М_ясна тарілка, 4 шт. х 100 г","Більше 10","Корм вологий для котів",85.81,108,0,{"$f":"G51*I51","v":0}]
[null,1111143011,"100278 /506255","Brit Premium Cat pouch д/котів, набір Сімейна тарілка, 12 шт. х 100 г","Більше 100","Корм вологий для котів",253.37,318.06,0,{"$f":"G52*I52","v":0}]
[null,1111142142,"100274 /506026","Brit Premium Cat pouch д/кошенят, з куркою, 100 г","Немає в наявності","Корм вологий для котів",22.89,29.7,0,{"$f":"G53*I53","v":0}]
[null,1111142143,"100275 /506033","Brit Premium Cat pouch д/стерилізованих котів, з куркою, 100 г","Більше 100","Корм вологий для котів",22.89,29.7,0,{"$f":"G54*I54","v":0}]
[null,1111146982,"111240/463","Brit Premium Cat pouch куряче філе в желе для котів, 85 г","Більше 100","Корм вологий для котів",30.21,38.340000000000003,0,{"$f":"G55*I55","v":0}]
[null,1111146988,"111250/524","Brit Premium Cat pouch куряче філе в соусі для котів, 85 г","Більше 100","Корм вологий для котів",30.21,38.340000000000003,0,{"$f":"G56*I56","v":0}]
[null,1111142415,"100276 /506248","Brit Premium Cat pouch рибна тарілка для котів, 4шт х 100г","Більше 10","Корм вологий для котів",85.81,108,0,{"$f":"G57*I57","v":0}]
[null,1111146995,"111245/408","Brit Premium Cat pouch сімейна тарілка в желе, 12шт х 85г","Більше 10","Корм вологий для котів",319.2,400,0,{"$f":"G58*I58","v":0}]
[null,1111146994,"111257/422","Brit Premium Cat pouch сімейна тарілка в соусі, 12шт х 85г","Більше 10","Корм вологий для котів",319.2,400,0,{"$f":"G59*I59","v":0}]
[null,1111146989,"111251/531","Brit Premium Cat pouch філе індика в соусі для котів, 85 г","Більше 100","Корм вологий для котів",30.21,38.340000000000003,0,{"$f":"G60*I60","v":0}]
[null,1111146990,"111252/548","Brit Premium Cat pouch філе тунця в соусі для котів, 85 г","Більше 100","Корм вологий для котів",30.21,38.340000000000003,0,{"$f":"G61*I61","v":0}]
[null,1111146985,"111243/494","Brit Premium Cat pouch філе форелі в желе для котів, 85 г","Більше 10","Корм вологий для котів",30.21,38.340000000000003,0,{"$f":"G62*I62","v":0}]
[null,1111146983,"111241/470","Brit Premium Cat pouch філе яловичини в желе для котів, 85 г","Більше 10","Корм вологий для котів",30.21,38.340000000000003,0,{"$f":"G63*I63","v":0}]
[null,1111146991,"111253/555","Brit Premium Cat pouch філе яловичини в соусі для котів, 85 г","Більше 100","Корм вологий для котів",30.21,38.340000000000003,0,{"$f":"G64*I64","v":0}]
[null,1111178697,111834,"Brit Premium Cat Набір паучів д/стерилізованих котів 4 смаки 100gх12шт","Більше 10","Корм вологий для котів",253.37,318,0,{"$f":"G65*I65","v":0}]
[null,1111150965,"170827/6468","Brit Premium Dog Adult L для дорослих собак великих порід, 15 кг","Більше 100","Корм сухий для собак",1610.85,2095,0,{"$f":"G66*I66","v":0}]
[null,1111150963,"170825/6444","Brit Premium Dog Adult L для дорослих собак великих порід, 3 кг","Більше 10","Корм сухий для собак",422.17,549,0,{"$f":"G67*I67","v":0}]
[null,1111150964,"170826/6451","Brit Premium Dog Adult L для дорослих собак великих порід, 8 кг","Більше 10","Корм сухий для собак",833.78,1084,0,{"$f":"G68*I68","v":0}]
[null,1111150953,"170815/6345","Brit Premium Dog Adult M для дорослих собак середніх порід, 1 кг","Більше 10","Корм сухий для собак",190.4,248,0,{"$f":"G69*I69","v":0}]
[null,1111150956,"170818/6376","Brit Premium Dog Adult M для дорослих собак середніх порід, 15 кг","Більше 100","Корм сухий для собак",1496.64,1945,0,{"$f":"G70*I70","v":0}]
[null,1111150954,"170816/6352","Brit Premium Dog Adult M для дорослих собак середніх порід, 3 кг","Більше 10","Корм сухий для собак",403.5,525,0,{"$f":"G71*I71","v":0}]
[null,1111150955,"170817/6369","Brit Premium Dog Adult M для дорослих собак середніх порід, 8 кг","Більше 10","Корм сухий для собак",792.05,1030,0,{"$f":"G72*I72","v":0}]
[null,1111150947,"170809/6284","Brit Premium Dog Adult S для дорослих собак малих порід, 1 кг","Більше 10","Корм сухий для собак",238.17,310,0,{"$f":"G73*I73","v":0}]
[null,1111150948,"170810/6291","Brit Premium Dog Adult S для дорослих собак малих порід, 3 кг","Більше 10","Корм сухий для собак",509.02,662,0,{"$f":"G74*I74","v":0}]
[null,1111150949,"170811/6307","Brit Premium Dog Adult S для дорослих собак малих порід, 8 кг","Більше 10","Корм сухий для собак",1196.1500000000001,1549,0,{"$f":"G75*I75","v":0}]
[null,1111150973,"170833/6529","Brit Premium Dog Adult XL для дорослих собак гігантських порід, 15 кг","Немає в наявності","Корм сухий для собак",1826.72,2376,0,{"$f":"G76*I76","v":0}]
[null,1111150972,"170832/6512","Brit Premium Dog Adult XL для дорослих собак гігантських порід, 3 кг","Більше 10","Корм сухий для собак",491.28,640,0,{"$f":"G77*I77","v":0}]
[null,1111150962,"170824/6437","Brit Premium Dog Junior L для молодих собак великих порід, 15 кг","Більше 10","Корм сухий для собак",1715.25,2146,0,{"$f":"G78*I78","v":0}]
[null,1111150961,"170823/6420","Brit Premium Dog Junior L для молодих собак великих порід, 3 кг","Більше 10","Корм сухий для собак",469.88,612,0,{"$f":"G79*I79","v":0}]
[null,1111150950,"170812/6314","Brit Premium Dog Junior M для молодих собак середніх порід, 1 кг","Менше 10","Корм сухий для собак",186.92,245,0,{"$f":"G80*I80","v":0}]
[null,1111150952,"170814/6338","Brit Premium Dog Junior M для молодих собак середніх порід, 15 кг","Більше 10","Корм сухий для собак",1779.54,2225,0,{"$f":"G81*I81","v":0}]
[null,1111150951,"170813/6321","Brit Premium Dog Junior M для молодих собак середніх порід, 3 кг","Більше 10","Корм сухий для собак",486.87,634,0,{"$f":"G82*I82","v":0}]
[null,1111150945,"170807/6260","Brit Premium Dog Junior S для молодих собак малих порід, 3 кг","Менше 10","Корм сухий для собак",556.05999999999995,723,0,{"$f":"G83*I83","v":0}]
[null,1111150971,"170831/6505","Brit Premium Dog Junior XL для молодих собак гігантських порід, 15 кг","Більше 10","Корм сухий для собак",1879.65,2445,0,{"$f":"G84*I84","v":0}]
[null,1111150968,"170830/6499","Brit Premium Dog Junior XL для молодих собак гігантських порід, 3 кг","Менше 10","Корм сухий для собак",491.28,640,0,{"$f":"G85*I85","v":0}]
[null,1111150975,"170841/6604","Brit Premium Dog Light для собак з надмірною вагою, 15 кг","Більше 10","Корм сухий для собак",1438.12,1869,0,{"$f":"G86*I86","v":0}]
[null,1111150974,"170839/6581","Brit Premium Dog Light для собак з надмірною вагою, 3 кг","Більше 10","Корм сухий для собак",410.82,535,0,{"$f":"G87*I87","v":0}]
[null,1111150967,"170829/6482","Brit Premium Dog Senior L+XL д/стар. собак велик, гігант. порід, 15кг","Менше 10","Корм сухий для собак",1896.57,2467,0,{"$f":"G88*I88","v":0}]
[null,1111150966,"170828/6475","Brit Premium Dog Senior L+XL д/стар. собак велик, гігант. порід, 3 кг","Менше 10","Корм сухий для собак",510.43,665,0,{"$f":"G89*I89","v":0}]
[null,1111150979,"170845/6642","Brit Premium Dog Sensitive Lamb для собак з чутливим травленням 15 кг","Більше 10","Корм сухий для собак",2407.9499999999998,3131,0,{"$f":"G90*I90","v":0}]
[null,1111150976,"170842/6611","Brit Premium Dog Sensitive Lamb для собак з чутливим травленням, 1 кг","Немає в наявності","Корм сухий для собак",200.73,260,0,{"$f":"G91*I91","v":0}]
[null,1111150977,"170843/6628","Brit Premium Dog Sensitive Lamb для собак з чутливим травленням, 3 кг","Більше 10","Корм сухий для собак",618.03,804,0,{"$f":"G92*I92","v":0}]
[null,1111150981,"170848/6673","Brit Premium Dog Sport для собак з високими витратами енергії, 15 кг","Більше 10","Корм сухий для собак",1709.04,2222,0,{"$f":"G93*I93","v":0}]
[null,1111150980,"170847/6666","Brit Premium Dog Sport для собак з високими витратами енергії, 3 кг","Менше 10","Корм сухий для собак",512.01,666,0,{"$f":"G94*I94","v":0}]
[null,1111167462,171860,"Brit Premium Nature Cat Adult Salmon з лососем д/котів, 1,5 кг","Менше 10","Корм сухий для котів",311.18,405,0,{"$f":"G95*I95","v":0}]
[null,1111167460,171844,"Brit Premium Nature Cat Adult Salmon з лососем д/котів, 300 г","Більше 100","Корм сухий для котів",96.32,126,0,{"$f":"G96*I96","v":0}]
[null,1111167463,171868,"Brit Premium Nature Cat Adult Salmon з лососем д/котів, 8 кг","Менше 10","Корм сухий для котів",1392.48,1811,0,{"$f":"G97*I97","v":0}]
[null,1111167461,171852,"Brit Premium Nature Cat Adult Salmon з лососем д/котів, 800 г","Більше 10","Корм сухий для котів",192.03,251,0,{"$f":"G98*I98","v":0}]
[null,1111150946,"170805/6246","Ком Brit Premium сухий для молодих собак дрібних порід вагою 1-10кг Бр","Менше 10","Корм сухий для собак",1127.54,1459,0,{"$f":"G99*I99","v":0}]

{"sheet":"Brit VetDiets","index":13,"n_rows":49,"n_cols":10,"rows_kept":49,"cut":false,"hidden":false,"merged":[]}
[]
[null,null,null,null,null,null,"suziria.ua"]
[null,null,null,null,null,null,"0 800 21 82 99"]
[null,null,null,null,null,null,"feedback@suziria.ua"]
[]
["Зображення","Код","Артикул","Номенклатура","Наявність","Категорія","Ціна опт.","Ціна РРЦ","Замовлення, шт.","Сума, грн."]
[null,null,null,null,null,null,null,null,null,{"$f":"SUM(J8:J49)","v":0}]
[null,1111168652,100710,"Brit VetDiets Cat Diabetes консерви д/котів з діабетом, 200г","Немає в наявності","Корм вологий ветеринарний для котів",75.319999999999993,98,0,{"$f":"G8*I8","v":0}]
[null,1111152755,"170969/528523","Brit VetDiets Cat Diabets для котів з цукровим діабетом, 2 кг","Менше 10","Корм сухий для котів",658.02,856,0,{"$f":"G9*I9","v":0}]
[null,1111152756,"170970/528530","Brit VetDiets Cat Diabets для котів з цукровим діабетом, 400 г","Більше 10","Корм сухий для котів",181.02,236,0,{"$f":"G10*I10","v":0}]
[null,1111152752,"170964/528431","Brit VetDiets Cat Gastrointestinal д/кот. з порушеннями травлення 400г","Більше 10","Корм сухий для котів",202.17,265,0,{"$f":"G11*I11","v":0}]
[null,1111152751,"170963/528424","Brit VetDiets Cat Gastrointestinal д/котів з порушеннями травлення 2кг","Більше 10","Корм сухий для котів",764.61,994,0,{"$f":"G12*I12","v":0}]
[null,1111169971,100712,"Brit VetDiets Cat Gastrointestinal консерви при захвор. ШКТ у кот 200г","Більше 100","Корм вологий ветеринарний для котів",74.12,93,0,{"$f":"G13*I13","v":0}]
[null,1111152749,"170960/528370","Brit VetDiets Cat Hypoallergenic для котів з харчовою алергією, 2 кг","Більше 10","Корм сухий для котів",679.4,884,0,{"$f":"G14*I14","v":0}]
[null,1111152750,"170961/528387","Brit VetDiets Cat Hypoallergenic для котів з харчовою алергією, 400 г","Більше 10","Корм сухий для котів",185.6,240,0,{"$f":"G15*I15","v":0}]
[null,1111168650,100709,"Brit VetDiets Cat Hypoallergenic консерви д/котів з харч. алерг. 200г","Більше 10","Корм вологий ветеринарний для котів",74.12,93,0,{"$f":"G16*I16","v":0}]
[null,1111152753,"170966/528479","Brit VetDiets Cat Obesity для зниження зайвої ваги у котів, 2 кг","Менше 10","Корм сухий для котів",664.12,864,0,{"$f":"G17*I17","v":0}]
[null,1111152754,"170967/528486","Brit VetDiets Cat Obesity для зниження зайвої ваги у котів, 400 г","Менше 10","Корм сухий для котів",182.57,238,0,{"$f":"G18*I18","v":0}]
[null,1111152747,"170957/528325","Brit VetDiets Cat Renal для котів з нирковою недостатністю, 2 кг","Більше 10","Корм сухий для котів",755.44,983,0,{"$f":"G19*I19","v":0}]
[null,1111152748,"170958/528332","Brit VetDiets Cat Renal для котів з нирковою недостатністю, 400 кг","Більше 10","Корм сухий для котів",200.61,260,0,{"$f":"G20*I20","v":0}]
[null,1111166665,"100714/9870","Brit VetDiets Cat Renal консерви при нирковій недостатн. котів, 200 г","Більше 100","Корм вологий ветеринарний для котів",77.680000000000007,97,0,{"$f":"G21*I21","v":0}]
[null,1111166664,"100713/9863","Brit VetDiets Cat Struvite консерви при сечокам хворобі у котів, 200 г","Більше 10","Корм вологий ветеринарний для котів",74.12,93,0,{"$f":"G22*I22","v":0}]
[null,1111152745,"170954/528271","Brit VetDiets Cat Struvite при сечокам. хворобі котів, 2 кг","Немає в наявності","Корм сухий для котів",598.61,778,0,{"$f":"G23*I23","v":0}]
[null,1111152746,"170955/528288","Brit VetDiets Cat Struvite при сечокам. хворобі котів, 400г","Більше 10","Корм сухий для котів",169,219,0,{"$f":"G24*I24","v":0}]
[null,1111151943,"170942/528097","Brit VetDiets Dog Diabetes для собак з цукровим діабетом, 12 кг","Менше 10","Корм сухий для собак",3139.77,4081,0,{"$f":"G25*I25","v":0}]
[null,1111151944,"170943/8103","Brit VetDiets Dog Diabetes для собак з цукровим діабетом, 2 кг","Менше 10","Корм сухий для собак",611.33000000000004,795,0,{"$f":"G26*I26","v":0}]
[null,1111166667,"100263/5910","Brit VetDiets Dog Diabetes консерви при цукровому діабеті, 400 г","Більше 10","Корм вологий ветеринарний для собак",151.01,196,0,{"$f":"G27*I27","v":0}]
[null,1111151945,"170944/528127","Brit VetDiets Dog Gastrointestinal д/соб. з порушеннями травлен. 12 кг","Менше 10","Корм сухий для собак",3377.52,4391,0,{"$f":"G28*I28","v":0}]
[null,1111151946,"170945/8134","Brit VetDiets Dog Gastrointestinal д/соб. з порушеннями травлен. 2 кг","Більше 10","Корм сухий для собак",650.91,847,0,{"$f":"G29*I29","v":0}]
[null,1111168806,100287,"Brit VetDiets Dog Gastrointestinal консерви при захвор. ШКТ у соб 400г","Більше 100","Корм вологий ветеринарний для собак",151.01,196,0,{"$f":"G30*I30","v":0}]
[null,1111151947,"170946/528158","Brit VetDiets Dog Hepatic для собак з захворюваннями печінки, 12 кг","Менше 10","Корм сухий для собак",3339.72,4343,0,{"$f":"G31*I31","v":0}]
[null,1111151948,"170947/8165","Brit VetDiets Dog Hepatic для собак з захворюваннями печінки, 2 кг","Більше 10","Корм сухий для собак",643.37,838,0,{"$f":"G32*I32","v":0}]
[null,1111166669,"100275/6030","Brit VetDiets Dog Hepatic консерви д/підтримки печінки у собак 400г","Більше 100","Корм вологий ветеринарний для собак",151.01,196,0,{"$f":"G33*I33","v":0}]
[null,1111151950,"170939/8042","Brit VetDiets Dog Hypoallergenic для собак з харчовою алергією, 2 кг","Більше 10","Корм сухий для собак",692.49,901,0,{"$f":"G34*I34","v":0}]
[null,1111166666,"100259/5873","Brit VetDiets Dog Hypoallergenic консерви д/соб з харч алергією 400г","Більше 100","Корм вологий ветеринарний для собак",151.01,196,0,{"$f":"G35*I35","v":0}]
[null,1111151935,"170952/528240","Brit VetDiets Dog Mobility для собак з захворюваннями суглобів, 12 кг","Менше 10","Корм сухий для собак",3883.17,5049,0,{"$f":"G36*I36","v":0}]
[null,1111151936,"170953/8257","Brit VetDiets Dog Mobility для собак з захворюваннями суглобів, 2 кг","Менше 10","Корм сухий для собак",733.96,955,0,{"$f":"G37*I37","v":0}]
[null,1111151937,"170940/8066","Brit VetDiets Dog Obesity для зниження зайвої ваги у собак, 12 кг","Немає в наявності","Корм сухий для собак",3415.23,4440,0,{"$f":"G38*I38","v":0}]
[null,1111151938,"170941/8073","Brit VetDiets Dog Obesity для зниження зайвої ваги у собак, 2 кг","Більше 10","Корм сухий для собак",656.58,854,0,{"$f":"G39*I39","v":0}]
[null,1111166671,"100283/6115","Brit VetDiets Dog Obesity консерви при надмірній вазі у собак, 400 г","Більше 10","Корм вологий ветеринарний для собак",151.01,196,0,{"$f":"G40*I40","v":0}]
[null,1111151939,"170948/528189","Brit VetDiets Dog Renal для собак з нирковою недостатністю, 12 кг","Менше 10","Корм сухий для собак",3168.06,4120,0,{"$f":"G41*I41","v":0}]
[null,1111151940,"170949/8196","Brit VetDiets Dog Renal для собак з нирковою недостатністю, 2 кг","Більше 10","Корм сухий для собак",616.97,802,0,{"$f":"G42*I42","v":0}]
[null,1111168648,100267,"Brit VetDiets Dog Renal консерви д/собак з нирк. недостатн. 400г","Більше 10","Корм вологий ветеринарний для собак",151.01,196,0,{"$f":"G43*I43","v":0}]
[null,1111166670,"100279/6078","Brit VetDiets Dog Struvite консерви при сечокам. хворобі собак, 400г","Більше 10","Корм вологий ветеринарний для собак",151.01,196,0,{"$f":"G44*I44","v":0}]
[null,1111151941,"170950/528219","Brit VetDiets Dog Struvite при сечокам. хворобі у собак, 12 кг","Менше 10","Корм сухий для собак",3190.68,4149,0,{"$f":"G45*I45","v":0}]
[null,1111151942,"170951/8226","Brit VetDiets Dog Struvite при сечокам. хворобі у собак, 2 кг","Більше 10","Корм сухий для собак",618.86,806,0,{"$f":"G46*I46","v":0}]
[null,1111168649,100291,"Brit VetDiets Dog/Cat Recovery д/відновленя після хвороби кіт/соб 400г","Більше 100","Корм вологий ветеринарний для собак",151.01,196,0,{"$f":"G47*I47","v":0}]
[null,1111180644,101115,"Паучі Brit GF VD Care Sterilised для котів з лососем 12x85г","Більше 10","Корм вологий ветеринарний для котів",559.20000000000005,699,0,{"$f":"G48*I48","v":0}]
[null,1111180645,101116,"Паучі Brit GF VD Recovery для котів з лососем 12x85г","Більше 100","Корм вологий ветеринарний для котів",559.21,699,0,{"$f":"G49*I49","v":0}]

{"sheet":"Brit Vitamins","index":14,"n_rows":13,"n_cols":10,"rows_kept":13,"cut":false,"hidden":false,"merged":[]}
[]
[null,null,null,null,null,null,"suziria.ua"]
[null,null,null,null,null,null,"0 800 21 82 99"]
[null,null,null,null,null,null,"feedback@suziria.ua"]
[]
["Зображення","Код","Артикул","Номенклатура","Наявність","Категорія","Ціна опт.","Ціна РРЦ","Замовлення, шт.","Сума, грн."]
[null,null,null,null,null,null,null,null,null,{"$f":"SUM(J8:J13)","v":0}]
[null,1111174817,112058,"Вітаміни Brit Vitamins Calm д/собак д/нервової системи 150 г","Більше 10","Вітаміни та мінерали",470.32,635,0,{"$f":"G8*I8","v":0}]
[null,1111174816,112057,"Вітаміни Brit Vitamins Mobility д/собак д/суглобів 150 г","Більше 10","Вітаміни та мінерали",548.85,741,0,{"$f":"G9*I9","v":0}]
[null,1111174820,112061,"Вітаміни Brit Vitamins Multivitamin д/собак д/здоров_я 150 г","Менше 10","Вітаміни та мінерали",470.32,635,0,{"$f":"G10*I10","v":0}]
[null,1111174821,112062,"Вітаміни Brit Vitamins Probiotic д/собак з пробіотиками 150 г","Менше 10","Вітаміни та мінерали",548.85,741,0,{"$f":"G11*I11","v":0}]
[null,1111174818,112059,"Вітаміни Brit Vitamins Puppy д/цуценят д/здорового розвитку 150 г","Більше 10","Вітаміни та мінерали",548.85,741,0,{"$f":"G12*I12","v":0}]
[null,1111174819,112060,"Вітаміни Brit Vitamins Skin and Coat д/собак д/шкіри і шерсті 150 г","Більше 10","Вітаміни та мінерали",470.32,635,0,{"$f":"G13*I13","v":0}]

{"sheet":"Buddy Boo","index":15,"n_rows":10,"n_cols":10,"rows_kept":10,"cut":false,"hidden":false,"merged":[]}
[]
[null,null,null,null,null,null,"suziria.ua"]
[null,null,null,null,null,null,"0 800 21 82 99"]
[null,null,null,null,null,null,"feedback@suziria.ua"]
[]
["Зображення","Код","Артикул","Номенклатура","Наявність","Категорія","Ціна опт.","Ціна РРЦ","Замовлення, шт.","Сума, грн."]
[null,null,null,null,null,null,null,null,null,{"$f":"SUM(J8:J10)","v":0}]
[null,1111175242,"PR243224*****","Костюм  Din  S","Менше 10","Одяг",975.5,1316.93,0,{"$f":"G8*I8","v":0}]
[null,1111175244,"PR243222*****","Костюм  Din  XS","Більше 10","Одяг",870.34,1174.97,0,{"$f":"G9*I9","v":0}]
[null,1111175243,"PR243223*****","Костюм  Din  XS-2","Менше 10","Одяг",937.56,1265.7,0,{"$f":"G10*I10","v":0}]

{"sheet":"Canina","index":16,"n_rows":33,"n_cols":10,"rows_kept":33,"cut":false,"hidden":false,"merged":[]}
[]
[null,null,null,null,null,null,"suziria.ua"]
[null,null,null,null,null,null,"0 800 21 82 99"]
[null,null,null,null,null,null,"feedback@suziria.ua"]
[]
["Зображення","Код","Артикул","Номенклатура","Наявність","Категорія","Ціна опт.","Ціна РРЦ","Замовлення, шт.","Сума, грн."]
[null,null,null,null,null,null,null,null,null,{"$f":"SUM(J8:J33)","v":0}]
[null,1111111961,"120314 AD","Caniletten вітамінний комплекс для дорослих собак, 1000г/500табл.","Менше 10","Вітаміни та мінерали",1280.94,1665,0,{"$f":"G8*I8","v":0}]
[null,1111111960,"120307 AD","Caniletten вітамінний комплекс для дорослих собак, 300г/150табл.","Немає в наявності","Вітаміни та мінерали",538.23,700,0,{"$f":"G9*I9","v":0}]
[null,1111111956,"101092 AD","Canina Biotin forte інтенсивний курс для шерсті собак, 100г/30табл.","Більше 10","Вітаміни та мінерали",596.20000000000005,775,0,{"$f":"G10*I10","v":0}]
[null,1111121976,"101122 AD","Canina Biotin forte інтенсивний курс для шерсті собак, 2000г/600табл.","Менше 10","Вітаміни та мінерали",7381.48,9596,0,{"$f":"G11*I11","v":0}]
[null,1111112701,"101115 AD","Canina Biotin forte інтенсивний курс для шерсті собак, 700г/210табл.","Менше 10","Вітаміни та мінерали",2749.81,3575,0,{"$f":"G12*I12","v":0}]
[null,1111116348,"130900 AD","Canina Dog Fell Gel гель для собак проблемами шерсті, 100 мл","Менше 10","Вітаміни та мінерали",650.61,846,0,{"$f":"G13*I13","v":0}]
[null,1111144112,"710003 AD","Canina Flexan вітаміни для собак, 150 г","Немає в наявності","Вітаміни та мінерали",621.04,807,0,{"$f":"G14*I14","v":0}]
[null,1111111963,"130016 Canina","Canina Hefe дріжджові таблетки з ензимами для собак, 800 г, 992 таб","Менше 10","Вітаміни та мінерали",1135.6099999999999,1476,0,{"$f":"G15*I15","v":0}]
[null,1111112705,"723324 AD","Canina PETVITAL GAG глюкозамін з екстрактом мідій для собак, 600 табл.","Менше 10","Вітаміни та мінерали",4879.08,6343,0,{"$f":"G16*I16","v":0}]
[null,1111111972,"110100 AD","Canina V25 полівітамінний комплекс для собак, 100г/30табл.","Немає в наявності","Вітаміни та мінерали",475.54,618,0,{"$f":"G17*I17","v":0}]
[null,1111111974,"110117 AD","Canina V25 полівітамінний комплекс для собак, 200г/60табл.","Немає в наявності","Вітаміни та мінерали",704.24,916,0,{"$f":"G18*I18","v":0}]
[null,1111140517,"701902 AD","Canina Velox Gelenkenergie порошок з глюкозаміногліканами д/соб. 150г","Менше 10","Вітаміни та мінерали",842.3,1095,0,{"$f":"G19*I19","v":0}]
[null,1111111975,"120741 AD","Canina Welpenkalk добавка для цуценят, 150г/150 табл.","Немає в наявності","Вітаміни та мінерали",498.18,648,0,{"$f":"G20*I20","v":0}]
[null,1111111983,"201525 AD","Canivita Cat-Fell O.K. біотин для котів з проблемами шерсті, 50 г","Немає в наявності","Вітаміни та мінерали",295.17,384,0,{"$f":"G21*I21","v":0}]
[null,1111112702,"110025 AD","Canivita вітамінний тонік зі швидким ефектом для котів та собак, 1 л","Менше 10","Вітаміни та мінерали",3469.53,4510,0,{"$f":"G22*I22","v":0}]
[null,1111111958,"110001 /101001 AD","Canivita вітамінний тонік зі швидким ефектом для котів та собак, 100мл","Немає в наявності","Вітаміни та мінерали",412.05,536,0,{"$f":"G23*I23","v":0}]
[null,1111111959,"110018 AD","Canivita вітамінний тонік зі швидким ефектом для котів та собак, 250мл","Менше 10","Вітаміни та мінерали",973.95,1266,0,{"$f":"G24*I24","v":0}]
[null,1111128014,"140183 AD","Dental Can 100 мл усунення запаху та здорова ротова порожнина","Менше 10","Засоби для догляду за зубами та ротовою порожниною",334.6,435,0,{"$f":"G25*I25","v":0}]
[null,1111116895,"230815 AD","Katzenmilch молоко для кошенят, 450 г","Менше 10","Корм сухий для котів",648.64,843,0,{"$f":"G26*I26","v":0}]
[null,1111112179,"140305 AD","Ohren-Balsam 100 мл бальзам для вух собак","Менше 10","Засоби для догляду за очима та вухами",374.03,486,0,{"$f":"G27*I27","v":0}]
[null,1111111990,"712304 AD","PETVITAL Darm-Gel 30 мл пробіотик від проблем з травленням","Менше 10","Лікувальні препарати та засоби (соматичні препарати)",571.19000000000005,743,0,{"$f":"G28*I28","v":0}]
[null,1111111978,"702206 AD","PETVITAL Derm-Liguid 25 мл тонік для проблемної шкіри та шерсті","Менше 10","Лікувальні препарати та засоби (соматичні препарати)",662.44,861,0,{"$f":"G29*I29","v":0}]
[null,1111111991,"702121 AD","PETVITAL Dеrm-Caps 40г/100табл. для проблемної шкіри та шерсті","Менше 10","Лікувальні препарати та засоби (соматичні препарати)",567.80999999999995,738,0,{"$f":"G30*I30","v":0}]
[null,1111121625,"130702 AD","Welpenmilch сухе молоко для собак, 150 г","Менше 10","Корм сухий для собак",413.46,538,0,{"$f":"G31*I31","v":0}]
[null,1111145090,"140503 AD","Winter Pfotenbalsam 100 мл бальзам для лап в зимовий період","Більше 10","Засоби для догляду за лапами",512.6,666,0,{"$f":"G32*I32","v":0}]
[null,1111111955,"140008 AD","Лосьйон для догляду за очима 100 мл","Менше 10","Засоби для догляду за очима та вухами",390.37,507,0,{"$f":"G33*I33","v":0}]

{"sheet":"Carnilove","index":17,"n_rows":78,"n_cols":10,"rows_kept":78,"cut":false,"hidden":false,"merged":[]}
[]
[null,null,null,null,null,null,"suziria.ua"]
[null,null,null,null,null,null,"0 800 21 82 99"]
[null,null,null,null,null,null,"feedback@suziria.ua"]
[]
["Зображення","Код","Артикул","Номенклатура","Наявність","Категорія","Ціна опт.","Ціна РРЦ","Замовлення, шт.","Сума, грн."]
[null,null,null,null,null,null,null,null,null,{"$f":"SUM(J8:J78)","v":0}]
[null,1111145076,"150825/8877","Carnilove Adult Duck and Pheasant качка/фазан д/доросл. соб. 1,5 кг","Більше 10","Корм сухий для собак",475.36,773,0,{"$f":"G8*I8","v":0}]
[null,1111145077,"150818/8860","Carnilove Adult Duck and Pheasant качка/фазан д/доросл. соб. 12 кг","Менше 10","Корм сухий для собак",3075.38,4770,0,{"$f":"G9*I9","v":0}]
[null,1111145078,"150824/8983","Carnilove Adult Lamb and Wild Boar ягня/дикий кабан д/дор соб. 1,5 кг","Більше 10","Корм сухий для собак",474.82,773,0,{"$f":"G10*I10","v":0}]
[null,1111145079,"150817/8921","Carnilove Adult Lamb and Wild Boar ягня/дикий кабан д/дор соб. 12 кг","Більше 10","Корм сухий для собак",3242.84,5031,0,{"$f":"G11*I11","v":0}]
[null,1111145082,"150828/8952","Carnilove Adult Large Breed Salmon and Turkey д/соб велик. порід 1,5кг","Менше 10","Корм сухий для собак",475.65,773,0,{"$f":"G12*I12","v":0}]
[null,1111145083,"150821/8945","Carnilove Adult Large Breed Salmon and Turkey д/соб велик. порід 12кг","Немає в наявності","Корм сухий для собак",3075.74,4770,0,{"$f":"G13*I13","v":0}]
[null,1111145080,"150827/8891","Carnilove Adult Raindeer з оленем д/дорослих собак, 1,5 кг","Менше 10","Корм сухий для собак",588.9,981,0,{"$f":"G14*I14","v":0}]
[null,1111145081,"150820/8884","Carnilove Adult Raindeer з оленем д/дорослих собак, 12 кг","Менше 10","Корм сухий для собак",3778.86,5864,0,{"$f":"G15*I15","v":0}]
[null,1111145088,"150826/8914","Carnilove Adult Salmon з лососем для дорослих собак, 1,5 кг","Більше 10","Корм сухий для собак",475.29,773,0,{"$f":"G16*I16","v":0}]
[null,1111145089,"150819/8907","Carnilove Adult Salmon з лососем для дорослих собак, 12 кг","Менше 10","Корм сухий для собак",3240.6,5031,0,{"$f":"G17*I17","v":0}]
[null,1111153877,"100411/7199","Carnilove Cat Crunchy ласощі качка, малина д/котів, 50 г","Немає в наявності","Ласощі для котів",72.459999999999994,114,0,{"$f":"G18*I18","v":0}]
[null,1111153876,"100410/ 527175","Carnilove Cat Crunchy ласощі лосось, м_ята д/котів, 50 г","Більше 100","Ласощі для котів",72.459999999999994,114,0,{"$f":"G19*I19","v":0}]
[null,1111145066,"170200/2256","Carnilove Cat Energy and Outdoor для активних котів, 2 кг","Більше 10","Корм сухий для котів",696.5,1080,0,{"$f":"G20*I20","v":0}]
[null,1111145067,"170194/2263","Carnilove Cat Energy and Outdoor для активних котів, 400г","Більше 10","Корм сухий для котів",212.59,331,0,{"$f":"G21*I21","v":0}]
[null,1111145057,"170197/2348","Carnilove Cat Hairball Controll д/вивед. шерсті зі шлунку котів, 2 кг","Більше 10","Корм сухий для котів",665.58,1031,0,{"$f":"G22*I22","v":0}]
[null,1111145058,"170191/2355","Carnilove Cat Hairball Controll д/вивед. шерсті зі шлунку котів, 400г","Більше 10","Корм сухий для котів",212.25,348,0,{"$f":"G23*I23","v":0}]
[null,1111145059,"170203/2331","Carnilove Cat Hairball Controll д/вивед. шерсті зі шлунку котів, 6 кг","Менше 10","Корм сухий для котів",1833.44,2842,0,{"$f":"G24*I24","v":0}]
[null,1111154395,"100560/111282/8974","Carnilove Cat k 100g курка, качка, фазан д/ котів","Більше 100","Корм вологий для котів",80.849999999999994,109,0,{"$f":"G25*I25","v":0}]
[null,1111154397,"100558/111281/8936","Carnilove Cat k 100g курка, ягня д/ котів","Більше 10","Корм вологий для котів",80.849999999999994,109,0,{"$f":"G26*I26","v":0}]
[null,1111145069,"170196/2225","Carnilove Cat Kitten для кошенят, 2 кг","Більше 10","Корм сухий для котів",665.58,1031,0,{"$f":"G27*I27","v":0}]
[null,1111145070,"170190/2232","Carnilove Cat Kitten для кошенят, 400г","Більше 10","Корм сухий для котів",212.77,348,0,{"$f":"G28*I28","v":0}]
[null,1111145071,"170202/2218","Carnilove Cat Kitten для кошенят, 6 кг","Менше 10","Корм сухий для котів",1833.44,2842,0,{"$f":"G29*I29","v":0}]
[null,1111145060,"170201/2768","Carnilove Cat Large Breed для котів великих порід, 2 кг","Більше 10","Корм сухий для котів",665.58,1031,0,{"$f":"G30*I30","v":0}]
[null,1111145061,"170195/2775","Carnilove Cat Large Breed для котів великих порід, 400 г","Більше 10","Корм сухий для котів",212.25,348,0,{"$f":"G31*I31","v":0}]
[null,1111145062,"170207/2751","Carnilove Cat Large Breed для котів великих порід, 6 кг","Менше 10","Корм сухий для котів",1833.44,2842,0,{"$f":"G32*I32","v":0}]
[null,1111145072,"170198/2287","Carnilove Cat Sensitive and Long Hair д/котів з чутливим травлен. 2 кг","Більше 10","Корм сухий для котів",696.5,1080,0,{"$f":"G33*I33","v":0}]
[null,1111145073,"170192/2294","Carnilove Cat Sensitive and Long Hair д/котів з чутливим травлен. 400г","Більше 10","Корм сухий для котів",212.59,331,0,{"$f":"G34*I34","v":0}]
[null,1111145074,"170204/2270","Carnilove Cat Sensitive and Long Hair д/котів з чутливим травлен. 6 кг","Менше 10","Корм сухий для котів",1975.42,3063,0,{"$f":"G35*I35","v":0}]
[null,1111153874,"111376/7212","Carnilove Cat Snack ласощі курка, чебрець, д/котів, 50 г","Більше 100","Ласощі для котів",72.459999999999994,114,0,{"$f":"G36*I36","v":0}]
[null,1111153875,"111377/7236","Carnilove Cat Snack ласощі сардина, петрушка д/котів, 50 г","Більше 100","Ласощі для котів",72.459999999999994,114,0,{"$f":"G37*I37","v":0}]
[null,1111145063,"170199/2317","Carnilove Cat Sterilised для стерилізованих котів, 2 кг","Більше 10","Корм сухий для котів",665.58,1031,0,{"$f":"G38*I38","v":0}]
[null,1111145064,"170193/2324","Carnilove Cat Sterilised для стерилізованих котів, 400г","Більше 10","Корм сухий для котів",212.25,348,0,{"$f":"G39*I39","v":0}]
[null,1111145065,"170205/2300","Carnilove Cat Sterilised для стерилізованих котів, 6 кг","Більше 10","Корм сухий для котів",1833.44,2842,0,{"$f":"G40*I40","v":0}]
[null,1111154394,"100562/111284/9018","Carnilove Cat консерви індик, північний олень для котів, 100 г","Більше 10","Корм вологий для котів",80.849999999999994,109,0,{"$f":"G41*I41","v":0}]
[null,1111154396,"100561/111283/8998","Carnilove Cat консерви індичка, лосось д/ дорослих котів, 100 г","Більше 100","Корм вологий для котів",80.849999999999994,109,0,{"$f":"G42*I42","v":0}]
[null,1111178701,100385,"Carnilove cat пауч з качкою і котячою м_ятою 85г","Більше 100","Корм вологий для котів",48.48,65,0,{"$f":"G43*I43","v":0}]
[null,1111178705,100479,"Carnilove cat пауч з кроликом і календулою для кошенят 85г","Більше 100","Корм вологий для котів",48.48,65,0,{"$f":"G44*I44","v":0}]
[null,1111178700,100384,"Carnilove cat пауч з перепілкою і кульбабою д/стерилізованих котів 85г","Більше 100","Корм вологий для котів",48.48,65,0,{"$f":"G45*I45","v":0}]
[null,1111178702,100386,"Carnilove cat пауч з фазаном і листям малини 85г","Більше 100","Корм вологий для котів",48.48,65,0,{"$f":"G46*I46","v":0}]
[null,1111153869,"100407/7298","Carnilove Dog Crunchy Snack ласощі дикий кабан, шипшина для собак 200г","Більше 10","Ласощі для собак",131.47,199,0,{"$f":"G47*I47","v":0}]
[null,1111153867,"100408/8851","Carnilove Dog Crunchy Snack ласощі лосось, чорниця для собак, 200 г","Більше 10","Ласощі для собак",131.47,199,0,{"$f":"G48*I48","v":0}]
[null,1111153870,"100406/7274","Carnilove Dog Crunchy Snack ласощі м ясо страуса, ожина для собак 200г","Більше 100","Ласощі для собак",131.47,199,0,{"$f":"G49*I49","v":0}]
[null,1111153868,"100409/8875","Carnilove Dog Crunchy Snack ласощі скумбрія, малина для собак, 200 г","Більше 10","Ласощі для собак",131.47,199,0,{"$f":"G50*I50","v":0}]
[null,1111153871,"100405/7250","Carnilove Dog Crunchy Snack ласощі ягня, журавлина для собак, 200 г","Більше 100","Ласощі для собак",131.47,199,0,{"$f":"G51*I51","v":0}]
[null,1111154400,"111373/7311","Carnilove Dog Semi Moist ласощі качка, розмарин для собак, 200 г","Більше 100","Ласощі для собак",126.6,205,0,{"$f":"G52*I52","v":0}]
[null,1111154401,"111374/7335","Carnilove Dog Semi Moist ласощі короп, чебрець для собак, 200 г","Більше 10","Ласощі для собак",126.6,205,0,{"$f":"G53*I53","v":0}]
[null,1111154402,"111375/7359","Carnilove Dog Semi Moist ласощі перепілка, орегано для собак, 200 г","Більше 100","Ласощі для собак",126.6,205,0,{"$f":"G54*I54","v":0}]
[null,1111154398,"111371/8899","Carnilove Dog Semi Moist ласощі сардина, часник для собак, 200 г","Більше 10","Ласощі для собак",126.6,205,0,{"$f":"G55*I55","v":0}]
[null,1111154399,"111372/8912","Carnilove Dog Semi Moist ласощі форель, кріп для собак, 200 г","Більше 100","Ласощі для собак",126.6,205,0,{"$f":"G56*I56","v":0}]
[null,1111150029,"100134/529230","Carnilove Dog консерви з качкою та фазаном для собак, 400 г","Більше 100","Корм вологий для собак",146.72999999999999,198,0,{"$f":"G57*I57","v":0}]
[null,1111148556,"100132/529278","Carnilove Dog консерви з лососем та індичкою для собак, 400 г","Більше 100","Корм вологий для собак",146.72999999999999,198,0,{"$f":"G58*I58","v":0}]
[null,1111150032,"100133/529292","Carnilove Dog консерви з олениною для собак, 400 г","Більше 100","Корм вологий для собак",146.72999999999999,198,0,{"$f":"G59*I59","v":0}]
[null,1111150030,"100131/529315","Carnilove Dog консерви з ягням та диким кабаном для собак, 400 г","Більше 100","Корм вологий для собак",146.72999999999999,198,0,{"$f":"G60*I60","v":0}]
[null,1111153670,"170877/7441","Carnilove Fresh Carp and Trout Sterilised короп д/стерил. котів 2 кг","Немає в наявності","Корм сухий для котів",785.84,1265,0,{"$f":"G61*I61","v":0}]
[null,1111153669,"170876/7427","Carnilove Fresh Carp and Trout Sterilised короп д/стерил. котів 400 г","Більше 10","Корм сухий для котів",227.47,368,0,{"$f":"G62*I62","v":0}]
[null,1111153665,"170871/7533","Carnilove Fresh Carp and Trout з коропом та фореллю для собак, 1.5 кг","Більше 10","Корм сухий для собак",609.92999999999995,933,0,{"$f":"G63*I63","v":0}]
[null,1111153666,"170872/7557","Carnilove Fresh Carp and Trout з коропом та фореллю для собак, 12 кг","Менше 10","Корм сухий для собак",3826.23,5855,0,{"$f":"G64*I64","v":0}]
[null,1111153668,"170874/7397","Carnilove Fresh Chicken and Rabbit з куркою та кроликом д/котів, 2 кг","Менше 10","Корм сухий для котів",786.48,1205,0,{"$f":"G65*I65","v":0}]
[null,1111153667,"170873/7373","Carnilove Fresh Chicken and Rabbit з куркою та кроликом д/котів, 400 г","Більше 10","Корм сухий для котів",227.56,348,0,{"$f":"G66*I66","v":0}]
[null,1111153661,"170867/7502","Carnilove Fresh Chicken and Rabbit курка з кроликом для собак, 1,5 кг","Більше 10","Корм сухий для собак",610.32000000000005,981,0,{"$f":"G67*I67","v":0}]
[null,1111153662,"170868/7526","Carnilove Fresh Chicken and Rabbit курка з кроликом для собак, 12 кг","Менше 10","Корм сухий для собак",3827.74,5864,0,{"$f":"G68*I68","v":0}]
[null,1111153664,"170870/7496","Carnilove Fresh Ostrich and Lamb страус з ягням д/соб. мал. порід 6кг","Більше 10","Корм сухий для собак",2151.46,3294,0,{"$f":"G69*I69","v":0}]
[null,1111153663,"170869/7472","Carnilove Fresh Ostrich and Lamb страус/ягням д/соб. мал. порід 1,5кг","Більше 10","Корм сухий для собак",620.77,950,0,{"$f":"G70*I70","v":0}]
[null,1111152301,"170878/7465","Carnilove Fresh з коропом та фореллю для стерилізованих котів, 6 кг","Більше 10","Корм сухий для котів",2112.9899999999998,3233,0,{"$f":"G71*I71","v":0}]
[null,1111152299,"170875/7410","Carnilove Fresh з куркою та кроликом для котів, 6 кг","Менше 10","Корм сухий для котів",2112.61,3233,0,{"$f":"G72*I72","v":0}]
[null,1111153873,"100559/111280/8950","Carnilove Kitten консерви індичка, лосось для кошенят, 100 г","Більше 100","Корм вологий для котів",80.849999999999994,109,0,{"$f":"G73*I73","v":0}]
[null,1111145084,"150823/8853","Carnilove Puppy Large Breed Salmon and Turkey д/цуцен вел. порід 1,5кг","Більше 10","Корм сухий для собак",466.03,759,0,{"$f":"G74*I74","v":0}]
[null,1111145085,"150816/8846","Carnilove Puppy Large Breed Salmon and Turkey д/цуцен вел. порід 12 кг","Менше 10","Корм сухий для собак",3181.23,4937,0,{"$f":"G75*I75","v":0}]
[null,1111145086,"150822/8839","Carnilove Puppy Salmon and Turkey для цуценят, 1,5 кг","Більше 100","Корм сухий для собак",466.29,725,0,{"$f":"G76*I76","v":0}]
[null,1111145087,"150815/8822","Carnilove Puppy Salmon and Turkey для цуценят, 12 кг","Менше 10","Корм сухий для собак",3182.5,4937,0,{"$f":"G77*I77","v":0}]
[null,1111150031,"100130/529254","Carnilove Puppy консерви з лососем та індичкою для цуценят, 400 г","Більше 100","Корм вологий для собак",146.72999999999999,198,0,{"$f":"G78*I78","v":0}]

{"sheet":"Cats Best","index":18,"n_rows":16,"n_cols":10,"rows_kept":16,"cut":false,"hidden":false,"merged":[]}
[]
[null,null,null,null,null,null,"suziria.ua"]
[null,null,null,null,null,null,"0 800 21 82 99"]
[null,null,null,null,null,null,"feedback@suziria.ua"]
[]
["Зображення","Код","Артикул","Номенклатура","Наявність","Категорія","Ціна опт.","Ціна РРЦ","Замовлення, шт.","Сума, грн."]
[null,null,null,null,null,null,null,null,null,{"$f":"SUM(J8:J16)","v":0}]
[null,1111117839,"JRS300086/0861","Наповнювач Cats Best EKO PLUS 5 л/2,1 кг","Більше 10","Наповнювачі деревні",294.42,397,0,{"$f":"G8*I8","v":0}]
[null,1111150983,"JRS319116/1163","Наповнювач Cats Best ORIGINAL (ЕКО ПЛЮС) 12л/5,2 кг","Більше 10","Наповнювачі деревні",606.38,819,0,{"$f":"G9*I9","v":0}]
[null,1111149475,"JRS300088/0885","Наповнювач Cats Best SMART Pellets 10л/5кг","Більше 10","Наповнювачі деревні",720.38,972,0,{"$f":"G10*I10","v":0}]
[null,1111149476,"JRS321742/7429","Наповнювач Cats Best SMART Pellets 20л/10кг","Більше 10","Наповнювачі деревні",1365.6,1844,0,{"$f":"G11*I11","v":0}]
[null,1111149474,"JRS320213/2135","Наповнювач Cats Best SMART Pellets 5л/2,5кг","Більше 10","Наповнювачі деревні",375.85,508,0,{"$f":"G12*I12","v":0}]
[null,12548,"JRS300046/0465","Наповнювач Cats Best Universal 10 л","Менше 10","Наповнювачі деревні",350.79,473,0,{"$f":"G13*I13","v":0}]
[null,1111117838,"JRS300084/0847","Наповнювач Cats Best Universal 20 л","Менше 10","Наповнювачі деревні",551.25,744,0,{"$f":"G14*I14","v":0}]
[null,12547,"JRS300047/0472","Наповнювач Cats Best Universal 40 л","Менше 10","Наповнювачі деревні",1033.5899999999999,1395,0,{"$f":"G15*I15","v":0}]
[null,1111111114,"JRS300062/0625","Наповнювач Cats Best Universal 7 л","Більше 10","Наповнювачі деревні",281.89,380,0,{"$f":"G16*I16","v":0}]

{"sheet":"Chipsi","index":19,"n_rows":13,"n_cols":10,"rows_kept":13,"cut":false,"hidden":false,"merged":[]}
[]
[null,null,null,null,null,null,"suziria.ua"]
[null,null,null,null,null,null,"0 800 21 82 99"]
[null,null,null,null,null,null,"feedback@suziria.ua"]
[]
["Зображення","Код","Артикул","Номенклатура","Наявність","Категорія","Ціна опт.","Ціна РРЦ","Замовлення, шт.","Сума, грн."]
[null,null,null,null,null,null,null,null,null,{"$f":"SUM(J8:J13)","v":0}]
[null,12546,"JRS300070/0700","Наповнювач Chipsi classic 60л/3,2кг","Більше 10","Тирса",225.51,305,0,{"$f":"G8*I8","v":0}]
[null,12551,"10л/0427","Наповнювач Chipsi mais 10 л","Більше 10","Наповнювачі на рослинній основі (в т.ч. паперові)",388.38,524,0,{"$f":"G9*I9","v":0}]
[null,1111173939,"JRS3318898","Наповнювач CHIPSI для гризунів Зелене яблуко тирса 15л/1кг","Більше 10","Тирса",96.47,131,0,{"$f":"G10*I10","v":0}]
[null,1111173937,"JRS3318874","Наповнювач CHIPSI для гризунів Класік тирса 15л/1кг","Більше 10","Тирса",90.2,122,0,{"$f":"G11*I11","v":0}]
[null,1111173938,"JRS3318881","Наповнювач CHIPSI для гризунів Цитрус тирса 15л/1кг","Менше 10","Тирса",96.47,131,0,{"$f":"G12*I12","v":0}]
[null,1111114658,"JRS300082/0823","Наповнювач Chipsi+зелене яблуко 60л/3,2кг","Більше 10","Тирса",206.72,279,0,{"$f":"G13*I13","v":0}]

{"sheet":"Chris Christensen","index":20,"n_rows":52,"n_cols":10,"rows_kept":52,"cut":false,"hidden":false,"merged":[]}
[]
[null,null,null,null,null,null,"suziria.ua"]
[null,null,null,null,null,null,"0 800 21 82 99"]
[null,null,null,null,null,null,"feedback@suziria.ua"]
[]
["Зображення","Код","Артикул","Номенклатура","Наявність","Категорія","Ціна опт.","Ціна РРЦ","Замовлення, шт.","Сума, грн."]
[null,null,null,null,null,null,null,null,null,{"$f":"SUM(J8:J52)","v":0}]
[null,1111147756,"A620***** СПЕЦЦЕНА","Гребінець іонізуючий (щетина мідь/нейлон) 21,59 см","Менше 10","Професійні аксесуари для грумінгу",417.26,0,0,{"$f":"G8*I8","v":0}]
[null,1111158680,"850604/А923","Гребінь 16 BS овальний медіум,A923","Менше 10","Професійні аксесуари для грумінгу",1666.8,2167,0,{"$f":"G9*I9","v":0}]
[null,1111180930,849086,"Засіб Chris Christensen для собак та котів Smartwash50 гіпоалергенний","Менше 10","Професійна косметика для грумінгу",3603,4684,0,{"$f":"G10*I10","v":0}]
[null,1111132713,"841050/79","Кондиціонер CCS After Bath 3,8 л","Менше 10","Професійна косметика для грумінгу",3263.91,4243,0,{"$f":"G11*I11","v":0}]
[null,1111181008,841499,"Кондиціонер Chris Christensen для для собак та котів Smartrinse 3,8л","Менше 10","Професійна косметика для грумінгу",4156.28,5403,0,{"$f":"G12*I12","v":0}]
[null,1111180918,849094,"Кондиціонер Chris Christensen для собак та котів Miracle Moisture 3.8л","Менше 10","Професійна косметика для грумінгу",5023.3500000000004,6530,0,{"$f":"G13*I13","v":0}]
[null,1111180917,849092,"Кондиціонер Chris Christensen для собак та котів Miracle Repair 3.8л","Менше 10","Професійна косметика для грумінгу",4940.24,6422,0,{"$f":"G14*I14","v":0}]
[null,1111132725,"841047/061","Кондиціонер Day to Day 3,8 л","Більше 10","Професійна косметика для грумінгу",2790.39,3628,0,{"$f":"G15*I15","v":0}]
[null,1111124937,"841046/060","Кондиціонер Day to Day 473 мл","Немає в наявності","Професійна косметика для грумінгу",997.81,1297,0,{"$f":"G16*I16","v":0}]
[null,1111126641,"048 /05-243-1","Лосьйон для вух Mystic Ear 236 мл","Менше 10","Професійна косметика для грумінгу",1145.73,1489,0,{"$f":"G17*I17","v":0}]
[null,1111132749,"845024/049/ Скл.048","Лосьйон для вух Mystic Ear 3,8 л","Менше 10","Професійна косметика для грумінгу",4027.48,5236,0,{"$f":"G18*I18","v":0}]
[null,1111132734,"844806/089","Маска протеїнова відновлююча Spectrum Ten 473 мл","Менше 10","Професійна косметика для грумінгу",1442.49,1875,0,{"$f":"G19*I19","v":0}]
[null,1111180922,860635,"Ножиці для грумінгу  Chris Christensen Adalynn Rose 7 Chunky Blender","Немає в наявності","Аксесуари для грумінгу",15900,20670,0,{"$f":"G20*I20","v":0}]
[null,1111180923,860636,"Ножиці для грумінгу  Chris Christensen Classic 7 округлі","Менше 10","Аксесуари для грумінгу",7096.93,9226,0,{"$f":"G21*I21","v":0}]
[null,1111180924,860637,"Ножиці для грумінгу  Chris Christensen Classic 8","Немає в наявності","Аксесуари для грумінгу",7096.93,9226,0,{"$f":"G22*I22","v":0}]
[null,1111126648,"844801/054 /03-202","Очищуючий засіб для шерсті Show Off 473 мл","Менше 10","Професійна косметика для грумінгу",1026,1334,0,{"$f":"G23*I23","v":0}]
[null,1111180915,849062,"Парфуми Chris Christensen д/соб та кот Smart Scents Jungle Apple 473мл","Менше 10","Парфумерія",1179,1533,0,{"$f":"G24*I24","v":0}]
[null,1111180914,849061,"Парфуми Chris Christensen д/соб/кот Smart Scents Cherry and Oats 473мл","Менше 10","Парфумерія",1179,1533,0,{"$f":"G25*I25","v":0}]
[null,1111180912,849059,"Парфуми Chris Christensen д/соб/кот Smart Scents Papaya Starfruit473мл","Менше 10","Парфумерія",1179,1533,0,{"$f":"G26*I26","v":0}]
[null,1111180913,849060,"Парфуми Chris Christensen д/соб/кот Smart Scents Tropical Breeze 473мл","Менше 10","Парфумерія",1179,1533,0,{"$f":"G27*I27","v":0}]
[null,1111147774,"849048/103","Пляшка для змішування 473 мл","Немає в наявності","Професійні аксесуари для грумінгу",167.43,218,0,{"$f":"G28*I28","v":0}]
[null,1111147690,"849074/PUMPGAL","Помпа для галонів CCS","Менше 10","Обладнання для грумінг-салонів",338.08,440,0,{"$f":"G29*I29","v":0}]
[null,1111181007,850592,"Пуходерка  Chris Christensen для собак велика коралова","Немає в наявності","Професійні аксесуари для грумінгу",5776.93,7510,0,{"$f":"G30*I30","v":0}]
[null,1111132731,"841058/64","рідк. шовк Silk Spirits 236 мл","Менше 10","Професійна косметика для грумінгу",1377.69,1791,0,{"$f":"G31*I31","v":0}]
[null,1111147775,"827042/SP03","Розпилювач CCS 300 мл","Менше 10","Професійні аксесуари для грумінгу",539.39,701,0,{"$f":"G32*I32","v":0}]
[null,1111137616,"844244/122 /скл 004","Спрей Precious Drop кератин терапія д/довгошерст 473 мл","Немає в наявності","Професійна косметика для грумінгу",912.29,1186,0,{"$f":"G33*I33","v":0}]
[null,1111126635,"841055/051 /03-181","Спрей для розчісування Ice on Ice 473 мл","Менше 10","Професійна косметика для грумінгу",1100.45,1431,0,{"$f":"G34*I34","v":0}]
[null,1111139176,"844240/125/1019","Спрей для розчісування Just Divine 473 мл","Менше 10","Професійна косметика для грумінгу",1100.45,1431,0,{"$f":"G35*I35","v":0}]
[null,1111149688,"849067/284_ord","Туалетна вода Brooklynn s Sweet and Sassy 473 мл","Менше 10","Парфумерія",1099.04,1429,0,{"$f":"G36*I36","v":0}]
[null,1111132721,38,"Шампунь CCS Black on Black 1,9 л","Менше 10","Професійна косметика для грумінгу",2691,3498,0,{"$f":"G37*I37","v":0}]
[null,1111129338,"841040/035-1 /Скл. 046","Шампунь CCS White on White 3,8 л","Менше 10","Професійна косметика для грумінгу",4657.5,6055,0,{"$f":"G38*I38","v":0}]
[null,1111180927,841558,"Шампунь Chris Christensen д/соб та кот Whitening and Brightening 3.8л","Менше 10","Професійна косметика для грумінгу",3758,4885,0,{"$f":"G39*I39","v":0}]
[null,1111180929,849069,"Шампунь Chris Christensen для собак та котів Miracle Moisture 3.8л","Менше 10","Професійна косметика для грумінгу",4544.9399999999996,5908,0,{"$f":"G40*I40","v":0}]
[null,1111180931,849090,"Шампунь Chris Christensen для собак та котів Miracle Repair 3.8л","Менше 10","Професійна косметика для грумінгу",4528.91,5888,0,{"$f":"G41*I41","v":0}]
[null,1111180926,841497,"Шампунь Chris Christensen для собак та котів Smartwash50 De-Shed 3.8л","Менше 10","Професійна косметика для грумінгу",4234.09,5504,0,{"$f":"G42*I42","v":0}]
[null,1111180928,844878,"Шампунь Chris Christensenдля для собак та котів  Ice on Ice 3,8л","Менше 10","Професійна косметика для грумінгу",3996.43,5195,0,{"$f":"G43*I43","v":0}]
[null,1111132714,"841031/032","Шампунь Clean Start суперочищуючий 3,8 л","Менше 10","Професійна косметика для грумінгу",2834.93,3685,0,{"$f":"G44*I44","v":0}]
[null,1111132715,"841033/058","Шампунь Day to Day зволожуючий 3,8 л","Більше 10","Професійна косметика для грумінгу",2790.39,3628,0,{"$f":"G45*I45","v":0}]
[null,1111140114,"841091/165 /1016","Шампунь Peace and Kindness 473 мл","Менше 10","Професійна косметика для грумінгу",1596.5,2075,0,{"$f":"G46*I46","v":0}]
[null,1111139163,"841406/223 /1029","Шампунь Smartwash Tropical Breeze 3,8 л","Немає в наявності","Професійна косметика для грумінгу",3235.2,4206,0,{"$f":"G47*I47","v":0}]
[null,1111139157,"841410/227 /1033","Шампунь Smartwash вишня з вівсянкою 3,8 л","Менше 10","Професійна косметика для грумінгу",3235.2,4206,0,{"$f":"G48*I48","v":0}]
[null,1111139159,"841414/231 /1037","Шампунь Smatrwash Jungle Apple 3,8 л","Менше 10","Професійна косметика для грумінгу",3425.51,4453,0,{"$f":"G49*I49","v":0}]
[null,1111132717,"841035/202/ Скл.002","Шампунь Spectrum One для жорсткої шерсті 3,8 л","Немає в наявності","Професійна косметика для грумінгу",3779.29,4913,0,{"$f":"G50*I50","v":0}]
[null,1111132716,"841034/201/ Скл.001","Шампунь Spectrum One для жорсткої шерсті 473 мл","Менше 10","Професійна косметика для грумінгу",1197.78,1557,0,{"$f":"G51*I51","v":0}]
[null,1111124939,"841038/034 /03-167","Шампунь White on White відбілюючий 473 мл","Менше 10","Професійна косметика для грумінгу",1100.45,1431,0,{"$f":"G52*I52","v":0}]

{"sheet":"Comfy","index":21,"n_rows":23,"n_cols":10,"rows_kept":23,"cut":false,"hidden":false,"merged":[]}
[]
[null,null,null,null,null,null,"suziria.ua"]
[null,null,null,null,null,null,"0 800 21 82 99"]
[null,null,null,null,null,null,"feedback@suziria.ua"]
[]
["Зображення","Код","Артикул","Номенклатура","Наявність","Категорія","Ціна опт.","Ціна РРЦ","Замовлення, шт.","Сума, грн."]
[null,null,null,null,null,null,null,null,null,{"$f":"SUM(J8:J23)","v":0}]
[null,1111149381,113385,"Іграшка Comfy Mint Dental Bone 12,5 см зелена","Більше 10","Іграшки для собак",166.43,225,0,{"$f":"G8*I8","v":0}]
[null,1111149395,113386,"Іграшка Comfy Mint Dental Bone 12,5 см оранжева","Більше 10","Іграшки для собак",166.43,225,0,{"$f":"G9*I9","v":0}]
[null,1111138276,113384,"Іграшка Comfy Mint Dental Bone 12,5 см рожева","Більше 10","Іграшки для собак",166.43,225,0,{"$f":"G10*I10","v":0}]
[null,1111149296,113554,"Іграшка Comfy Mint Dental Bone 16,5cm зелена","Менше 10","Іграшки для собак",229.09,309,0,{"$f":"G11*I11","v":0}]
[null,1111149302,"113381 Comfy","Іграшка Comfy Mint Dental Bone 8,5 см зелена","Більше 10","Іграшки для собак",104.52,141,0,{"$f":"G12*I12","v":0}]
[null,1111138275,113380,"Іграшка Comfy Mint Dental Bone MIX NEW 8,5 см","Більше 10","Іграшки для собак",104.27,141,0,{"$f":"G13*I13","v":0}]
[null,1111149303,113382,"Іграшка Comfy Mint Dental Bone, 8,5 см, помаранчева","Більше 10","Іграшки для собак",104.27,141,0,{"$f":"G14*I14","v":0}]
[null,1111179718,129679,"Іграшка Comfy д/соб Кістка аром ананас харчов пласт ТПЕ жовтий 12,5см","Менше 10","Іграшки для собак",166.43,225,0,{"$f":"G15*I15","v":0}]
[null,1111143026,245023,"Іграшка Comfy м ячик із дзвіночком на вудці 40 см","Немає в наявності","Іграшки для котів",114.12,154,0,{"$f":"G16*I16","v":0}]
[null,1111153614,"121634*****","Іграшка Create and Play кулька з отвором зелена (35шт./уп.)","Менше 10","Іграшки для собак",219.05,660,0,{"$f":"G17*I17","v":0}]
[null,1111153615,"121635*****","Іграшка Create and Play кулька з отвором оранж. (35шт./уп.)","Менше 10","Іграшки для собак",219.05,660,0,{"$f":"G18*I18","v":0}]
[null,1111153613,"121633*****","Іграшка Create and Play кулька з отвором рожева (35шт./уп.)","Менше 10","Іграшки для собак",219.05,660,0,{"$f":"G19*I19","v":0}]
[null,1111153619,"121639*****","Іграшка Create and Play мотузка COMFY (30шт./упак.)","Менше 10","Іграшки для собак",326.68,0,0,{"$f":"G20*I20","v":0}]
[null,1111151873,"121697*****","Іграшка Create and Play набір гачків метал COMFY","Менше 10","Іграшки для собак",110,330,0,{"$f":"G21*I21","v":0}]
[null,1111153617,"121637*****","Іграшка Create and Play товсте кільце оранжеве (30шт/упак.)","Менше 10","Іграшки для собак",147,0,0,{"$f":"G22*I22","v":0}]
[null,1111137300,112161,"Наповнювач деревний PINOKIO COMFY 7 л","Більше 10","Наповнювачі деревні",323.88,437,0,{"$f":"G23*I23","v":0}]

{"sheet":"Cookie","index":22,"n_rows":10,"n_cols":10,"rows_kept":10,"cut":false,"hidden":false,"merged":[]}
[]
[null,null,null,null,null,null,"suziria.ua"]
[null,null,null,null,null,null,"0 800 21 82 99"]
[null,null,null,null,null,null,"feedback@suziria.ua"]
[]
["Зображення","Код","Артикул","Номенклатура","Наявність","Категорія","Ціна опт.","Ціна РРЦ","Замовлення, шт.","Сума, грн."]
[null,null,null,null,null,null,null,null,null,{"$f":"SUM(J8:J10)","v":0}]
[null,1111171673,"10112Ку","Корм Cookie сухий для собак з куркою 10кг арт.10112Ку","Більше 10","Корм сухий для собак",649.95000000000005,746,0,{"$f":"G8*I8","v":0}]
[null,1111171674,"10113Ку","Корм Cookie сухий для собак з яловичиною 10кг арт.10113Ку","Більше 100","Корм сухий для собак",649.95000000000005,746,0,{"$f":"G9*I9","v":0}]
[null,1111171672,"10111Ку","Корм Cookie сухий для собак усіх порід 10кг арт.10111Ку","Більше 100","Корм сухий для собак",550.20000000000005,651,0,{"$f":"G10*I10","v":0}]

{"sheet":"Deming","index":23,"n_rows":40,"n_cols":10,"rows_kept":40,"cut":false,"hidden":false,"merged":[]}
[]
[null,null,null,null,null,null,"suziria.ua"]
[null,null,null,null,null,null,"0 800 21 82 99"]
[null,null,null,null,null,null,"feedback@suziria.ua"]
[]
["Зображення","Код","Артикул","Номенклатура","Наявність","Категорія","Ціна опт.","Ціна РРЦ","Замовлення, шт.","Сума, грн."]
[null,null,null,null,null,null,null,null,null,{"$f":"SUM(J8:J40)","v":0}]
[null,1111162745,"AM311355CS*****","Декор  Anemone , силікон","Менше 10","Декорації для акваріуму",1632.38,2285,0,{"$f":"G8*I8","v":0}]
[null,1111162749,"AM311051DB*****","Декор  Корал-віяло , силікон","Більше 10","Декорації для акваріуму",247.1,346,0,{"$f":"G9*I9","v":0}]
[null,1111162748,"AM311132DB*****","Декор  Корал-горгонарія","Більше 10","Декорації для акваріуму",344.45,482,0,{"$f":"G10*I10","v":0}]
[null,1111162758,"AM003101PB*****","Декор  Риба-крилатка  S, силікон","Більше 10","Декорації для акваріуму",228.38,320,0,{"$f":"G11*I11","v":0}]
[null,1111165858,"AM311150PB*****","Декор силіконовий Акропора Glowing, 9*8 см","Менше 10","Декорації для акваріуму",336.96,472,0,{"$f":"G12*I12","v":0}]
[null,1111165864,"AM005031PT*****","Декор силіконовий Восьминіг, 11*9.5*4.5 см","Менше 10","Декорації для акваріуму",262.08,367,0,{"$f":"G13*I13","v":0}]
[null,1111165860,"AM311186PB*****","Декор силіконовий Дискосома, 11*8 см","Більше 10","Декорації для акваріуму",398.74,559,0,{"$f":"G14*I14","v":0}]
[null,1111165861,"AM311172PB*****","Декор силіконовий Корал-серіатопора, 10.5*7*14 см","Менше 10","Декорації для акваріуму",526.03,736,0,{"$f":"G15*I15","v":0}]
[null,1111165863,"AM211114PT*****","Декор силіконовий Морскі анемони різнокольорові","Менше 10","Декорації для акваріуму",428.69,600,0,{"$f":"G16*I16","v":0}]
[null,1111165862,"AM311156PT*****","Декор силіконовий Морскі анемони, 7*7*9 см","Більше 10","Декорації для акваріуму",381.89,534,0,{"$f":"G17*I17","v":0}]
[null,1111162771,"AM309266SB*****","Рослина  Апоногетон L , силіконова","Більше 10","Декорації для акваріуму",344.45,482,0,{"$f":"G18*I18","v":0}]
[null,1111162777,"AM309505PT*****","Рослина  Блікса , силіконова","Більше 10","Декорації для акваріуму",308.88,434,0,{"$f":"G19*I19","v":0}]
[null,1111162772,"AM309225SB*****","Рослина  Перо , силіконова","Менше 10","Декорації для акваріуму",151.63,213,0,{"$f":"G20*I20","v":0}]
[null,1111165887,"AM209111PT*****","Рослина силіконова Актинія, 13*8.5 см","Більше 10","Декорації для акваріуму",417.46,585,0,{"$f":"G21*I21","v":0}]
[null,1111165879,"AM309263SB*****","Рослина силіконова Апоногетон мадагаскарський, 14*4.5 см","Більше 10","Декорації для акваріуму",200.3,280,0,{"$f":"G22*I22","v":0}]
[null,1111165878,"AM309341SB*****","Рослина силіконова Банксія спичкова, 25*4.5 см","Менше 10","Декорації для акваріуму",344.45,482,0,{"$f":"G23*I23","v":0}]
[null,1111165882,"AM409176SB*****","Рослина силіконова Болотниця маленька, 17.5*4.5 см","Менше 10","Декорації для акваріуму",224.64,314,0,{"$f":"G24*I24","v":0}]
[null,1111165877,"AM309043SB*****","Рослина силіконова Валіснерія, 15*19 см","Менше 10","Декорації для акваріуму",247.1,346,0,{"$f":"G25*I25","v":0}]
[null,1111165872,"AM309493SB*****","Рослина силіконова Гигрофіла, 12*20 см","Менше 10","Декорації для акваріуму",275.18,386,0,{"$f":"G26*I26","v":0}]
[null,1111165873,"AM309059SB*****","Рослина силіконова Ейхорнія, 17*19.5 см","Більше 10","Декорації для акваріуму",320.11,449,0,{"$f":"G27*I27","v":0}]
[null,1111165869,"AM309327SB*****","Рослина силіконова Елодея + Валіснерія, 18*7 см","Менше 10","Декорації для акваріуму",325.73,457,0,{"$f":"G28*I28","v":0}]
[null,1111165883,"AM309508PT*****","Рослина силіконова Кабомба, 8*18 см","Менше 10","Декорації для акваріуму",247.1,346,0,{"$f":"G29*I29","v":0}]
[null,1111165884,"AM309064PT*****","Рослина силіконова Композиція зі стрілами, 8*14 см","Менше 10","Декорації для акваріуму",308.88,434,0,{"$f":"G30*I30","v":0}]
[null,1111165875,"AM309482SB*****","Рослина силіконова Композиція папоротті, 11*19 см","Більше 10","Декорації для акваріуму",308.88,434,0,{"$f":"G31*I31","v":0}]
[null,1111165881,"AM311332SB*****","Рослина силіконова Ламінарія, 14*10 см","Менше 10","Декорації для акваріуму",344.45,482,0,{"$f":"G32*I32","v":0}]
[null,1111165876,"AM309455SB*****","Рослина силіконова Людвигія, 11*18 см","Більше 10","Декорації для акваріуму",250.85,352,0,{"$f":"G33*I33","v":0}]
[null,1111165874,"AM309501SB*****","Рослина силіконова Папороття, 10.5*18 см","Більше 10","Декорації для акваріуму",282.67,397,0,{"$f":"G34*I34","v":0}]
[null,1111165885,"AM311302PT*****","Рослина силіконова Підводнийй бутон, 10*17 см","Більше 10","Декорації для акваріуму",471.74,662,0,{"$f":"G35*I35","v":0}]
[null,1111165886,"AM309364SB*****","Рослина силіконова Пучок ламинарії, 12*7 см","Більше 10","Декорації для акваріуму",271.44,380,0,{"$f":"G36*I36","v":0}]
[null,1111165868,"AM309183SB*****","Рослина силіконова Роголисник 20*9 см","Менше 10","Декорації для акваріуму",262.08,367,0,{"$f":"G37*I37","v":0}]
[null,1111165871,"AM309291SB*****","Рослина силіконова Роланда 22*8 см","Менше 10","Декорації для акваріуму",247.1,346,0,{"$f":"G38*I38","v":0}]
[null,1111165867,"AM309313SB*****","Рослина силіконова Ротала 18*6.5 см","Менше 10","Декорації для акваріуму",247.1,346,0,{"$f":"G39*I39","v":0}]
[null,1111165870,"AM309322SB*****","Рослина силіконова Таиландский папоротник , 24*6 см","Більше 10","Декорації для акваріуму",308.88,434,0,{"$f":"G40*I40","v":0}]

{"sheet":"Dubex","index":24,"n_rows":12,"n_cols":10,"rows_kept":12,"cut":false,"hidden":false,"merged":[]}
[]
[null,null,null,null,null,null,"suziria.ua"]
[null,null,null,null,null,null,"0 800 21 82 99"]
[null,null,null,null,null,null,"feedback@suziria.ua"]
[]
["Зображення","Код","Артикул","Номенклатура","Наявність","Категорія","Ціна опт.","Ціна РРЦ","Замовлення, шт.","Сума, грн."]
[null,null,null,null,null,null,null,null,null,{"$f":"SUM(J8:J12)","v":0}]
[null,1111168658,"VR05*****","Лежак  для собак антиалергенний Simit Series плюшевий жовтий 52*9см","Менше 10","Лежаки",640.17999999999995,865,0,{"$f":"G8*I8","v":0}]
[null,1111168656,"VR02*****","Лежак для собак антиалергенний Simit Series плюш темно-малинов. 52х9см","Менше 10","Лежаки",640.17999999999995,865,0,{"$f":"G9*I9","v":0}]
[null,1111168657,"VR04*****","Лежак для собак антиалергенний Simit Series плюшевий блакитний 52*9см","Менше 10","Лежаки",640.17999999999995,865,0,{"$f":"G10*I10","v":0}]
[null,1111168659,"VR04_2*****","Матрас для собак водовідштов. ортопедичний темно-персиковий  80*62*8см","Менше 10","Лежаки",820.1,1107,0,{"$f":"G11*I11","v":0}]
[null,1111171359,"VR03_2*****","Матрас для собак водовідштовхуючий ортопедичний бузковий 66*48*8см","Менше 10","Лежаки",877.45,1184,0,{"$f":"G12*I12","v":0}]

{"sheet":"Edel","index":25,"n_rows":15,"n_cols":10,"rows_kept":15,"cut":false,"hidden":false,"merged":[]}
[]
[null,null,null,null,null,null,"suziria.ua"]
[null,null,null,null,null,null,"0 800 21 82 99"]
[null,null,null,null,null,null,"feedback@suziria.ua"]
[]
["Зображення","Код","Артикул","Номенклатура","Наявність","Категорія","Ціна опт.","Ціна РРЦ","Замовлення, шт.","Сума, грн."]
[null,null,null,null,null,null,null,null,null,{"$f":"SUM(J8:J15)","v":0}]
[null,1111141058,"1000318/173039*****","Edel Cat консерви індичка, печінка для котів, 400 г","Більше 10","Корм вологий для котів",78.77,104,0,{"$f":"G8*I8","v":0}]
[null,1111141056,"1000316/173015*****","Edel Cat консерви курка, качка для котів, 400 г","Більше 10","Корм вологий для котів",78.77,104,0,{"$f":"G9*I9","v":0}]
[null,1111141057,"1000321/173053*****","Edel Cat консерви лосось, форель для котів, 400 г","Менше 10","Корм вологий для котів",78.77,104,0,{"$f":"G10*I10","v":0}]
[null,1111141059,"1000319/173046*****","Edel Cat консерви три види м_яса птиці для котів, 400 г","Більше 10","Корм вологий для котів",78.77,104,0,{"$f":"G11*I11","v":0}]
[null,1111141052,"1000332/177020*****","Edel Dog консерви індичка, печінка для собак, 400 г","Більше 10","Корм вологий для собак",78.77,104,0,{"$f":"G12*I12","v":0}]
[null,1111141054,"1000334/177037*****","Edel Dog консерви птиця, морква для собак, 400 г","Більше 10","Корм вологий для собак",78.77,104,0,{"$f":"G13*I13","v":0}]
[null,1111141055,"1000331/177013*****","Edel Dog консерви телятина, кролик для собак, 400 г","Більше 10","Корм вологий для собак",78.77,104,0,{"$f":"G14*I14","v":0}]
[null,1111141053,"1002184/180037*****","Edel Dog консерви три види м_яса для собак, 400 г","Більше 10","Корм вологий для собак",78.77,104,0,{"$f":"G15*I15","v":0}]

{"sheet":"Essence","index":26,"n_rows":10,"n_cols":10,"rows_kept":10,"cut":false,"hidden":false,"merged":[]}
[]
[null,null,null,null,null,null,"suziria.ua"]
[null,null,null,null,null,null,"0 800 21 82 99"]
[null,null,null,null,null,null,"feedback@suziria.ua"]
[]
["Зображення","Код","Артикул","Номенклатура","Наявність","Категорія","Ціна опт.","Ціна РРЦ","Замовлення, шт.","Сума, грн."]
[null,null,null,null,null,null,null,null,null,{"$f":"SUM(J8:J10)","v":0}]
[null,1111168518,20321,"Essence консерви з куркою для дорослих собак, 200 г","Більше 100","Корм вологий для собак",29.3,39,0,{"$f":"G8*I8","v":0}]
[null,1111168522,20369,"Essence консерви з куркою для цуценят, 200 г","Більше 100","Корм вологий для собак",29.3,39,0,{"$f":"G9*I9","v":0}]
[null,1111168516,20307,"Essence консерви з яловичиною для дорослих собак, 200 г","Менше 10","Корм вологий для собак",29.3,39,0,{"$f":"G10*I10","v":0}]

{"sheet":"ExoTerra","index":27,"n_rows":33,"n_cols":10,"rows_kept":33,"cut":false,"hidden":false,"merged":[]}
[]
[null,null,null,null,null,null,"suziria.ua"]
[null,null,null,null,null,null,"0 800 21 82 99"]
[null,null,null,null,null,null,"feedback@suziria.ua"]
[]
["Зображення","Код","Артикул","Номенклатура","Наявність","Категорія","Ціна опт.","Ціна РРЦ","Замовлення, шт.","Сума, грн."]
[null,null,null,null,null,null,null,null,null,{"$f":"SUM(J8:J33)","v":0}]
[null,1111141546,"PT2910","Водоспад-поїлка маленький","Менше 10","Обладнання для тераріуму, комплектуючі",1497.35,2095,0,{"$f":"G8*I8","v":0}]
[null,1111113352,"PT2812*****","Годівниця середня","Менше 10","Обладнання для тераріуму, комплектуючі",429.45,600,0,{"$f":"G9*I9","v":0}]
[null,1111153490,"PT3157****","Декорація Tiki (3в1 схованка, поїлка і миска) велика","Менше 10","Декорації для тераріуму",1661.81,2327,0,{"$f":"G10*I10","v":0}]
[null,311936,"PT2136","Лампа денна S20/75 Вт для тераріуму","Менше 10","Обладнання для тераріуму, комплектуючі",278.36,392,0,{"$f":"G11*I11","v":0}]
[null,311937,"PT2141","Лампа інфрачервона R20/50 Вт для тераріуму","Більше 10","Обладнання для тераріуму, комплектуючі",332.32,467,0,{"$f":"G12*I12","v":0}]
[null,1111116857,"PT2770","Наповнювач Plantation Soil для тераріуму 8,8 л","Немає в наявності","Ґрунти, наповнювачі для тераріуму",92.54,130,0,{"$f":"G13*I13","v":0}]
[null,1111113366,"PT2930_ord","Нора для рептилій мала","Менше 10","Декорації для тераріуму",229.71,321,0,{"$f":"G14*I14","v":0}]
[null,1111124955,"PT2011","Обігрівач для тераріуму шнур 15Вт/3,5м","Менше 10","Обладнання для тераріуму, комплектуючі",1010.95,1415,0,{"$f":"G15*I15","v":0}]
[null,1111124956,"PT2012_ord","Обігрівач для тераріуму шнур 25Вт/4,5м","Менше 10","Обладнання для тераріуму, комплектуючі",1201.96,1683,0,{"$f":"G16*I16","v":0}]
[null,1111153492,"PT3159_ord","Печера з поїлкою Кокос, 21*12*11,5 см","Менше 10","Обладнання для тераріуму, комплектуючі",440.73,617,0,{"$f":"G17*I17","v":0}]
[null,1111123580,"PT2075","Пінцет для годування рептилій","Менше 10","Аксесуари для догляду за тераріумом",308.83999999999997,430,0,{"$f":"G18*I18","v":0}]
[null,1111120238,"PT2052","Плафон для лампи в тераріум 14 см","Менше 10","Обладнання для тераріуму, комплектуючі",880.99,1234,0,{"$f":"G19*I19","v":0}]
[null,1111162214,"PT3168****","Поїлка Aztec Frog для рептилій","Менше 10","Обладнання для тераріуму, комплектуючі",296.33,418,0,{"$f":"G20*I20","v":0}]
[null,1111162216,"PT3170****","Поїлка Aztec для рептилій, велика","Менше 10","Обладнання для тераріуму, комплектуючі",391.39,549,0,{"$f":"G21*I21","v":0}]
[null,1111163707,"PT2828_ord","Поїлка для рептилій, 300 мл, кутова, велика","Менше 10","Обладнання для тераріуму, комплектуючі",720.13,1010,0,{"$f":"G22*I22","v":0}]
[null,1111143875,"PT2492****","Поїлка з помпою Exo Terra рослина велика","Менше 10","Обладнання для тераріуму, комплектуючі",2458.23,3442,0,{"$f":"G23*I23","v":0}]
[null,1111122336,"PT2991_ord","Рослина ExoTerra д/тераріуму пластик 6,5x45x5см","Менше 10","Декорації для тераріуму",627.92999999999995,879,0,{"$f":"G24*I24","v":0}]
[null,1111122328,"PT2980_ord","Рослина на підставці Barrel Cactus мала","Менше 10","Декорації для тераріуму",216.24,306,0,{"$f":"G25*I25","v":0}]
[null,1111113377,"PT3042","Рослина шовкова ABULITON середня","Менше 10","Декорації для тераріуму",387.57,542,0,{"$f":"G26*I26","v":0}]
[null,1111121417,"PT2226","Світильник COMPACT TOP 45?9?20 см","Менше 10","Обладнання для тераріуму, комплектуючі",1570.52,2200,0,{"$f":"G27*I27","v":0}]
[null,1111121419,"PT2228","Світильник COMPACT TOP 90?9?20 см","Менше 10","Обладнання для тераріуму, комплектуючі",4147.84,5808,0,{"$f":"G28*I28","v":0}]
[null,1111162389,"PT2335_ord","Світильник Exo-terra для тераріуму Day and  Night з LED системою мален","Менше 10","Обладнання для тераріуму, комплектуючі",1546.5,2165,0,{"$f":"G29*I29","v":0}]
[null,1111146467,"PT2606","Тераріум 45х45х90 см, скляний","Менше 10","Тераріуми, комплектуючі",11179.37,15651,0,{"$f":"G30*I30","v":0}]
[null,1111121412,"PT2613","Тераріум скляний 90х45х45","Менше 10","Тераріуми, комплектуючі",12643.95,17701,0,{"$f":"G31*I31","v":0}]
[null,22312,"PT2465","Термометр для тераріуму механічний","Менше 10","Обладнання для тераріуму, комплектуючі",177.73,249,0,{"$f":"G32*I32","v":0}]
[null,1111113815,"PT2255","Фаунаріум пластиковий 23х15х17","Менше 10","Тераріуми, комплектуючі",282.85000000000002,424,0,{"$f":"G33*I33","v":0}]

{"sheet":"Filter sponge Ukr","index":28,"n_rows":11,"n_cols":10,"rows_kept":11,"cut":false,"hidden":false,"merged":[]}
[]
[null,null,null,null,null,null,"suziria.ua"]
[null,null,null,null,null,null,"0 800 21 82 99"]
[null,null,null,null,null,null,"feedback@suziria.ua"]
[]
["Зображення","Код","Артикул","Номенклатура","Наявність","Категорія","Ціна опт.","Ціна РРЦ","Замовлення, шт.","Сума, грн."]
[null,null,null,null,null,null,null,null,null,{"$f":"SUM(J8:J11)","v":0}]
[null,1111143465,"1301 Украина","Губка 10?15 см кругла","Більше 10","Обладнання для акваріума, комплектуючі",52.27,73,0,{"$f":"G8*I8","v":0}]
[null,1111142358,"1264 Украина","Губка 10?20 см пряма великопориста","Більше 10","Обладнання для акваріума, комплектуючі",63.54,89,0,{"$f":"G9*I9","v":0}]
[null,1111144188,"1226 Украина","Губка 9?15 см пряма великопориста","Більше 10","Обладнання для акваріума, комплектуючі",41.53,58,0,{"$f":"G10*I10","v":0}]
[null,1111144189,"1219 Украина","Губка 9?15 см пряма великопориста рифлена","Більше 10","Обладнання для акваріума, комплектуючі",52.27,73,0,{"$f":"G11*I11","v":0}]

{"sheet":"Flexi","index":29,"n_rows":96,"n_cols":10,"rows_kept":96,"cut":false,"hidden":false,"merged":[]}
[]
[null,null,null,null,null,null,"suziria.ua"]
[null,null,null,null,null,null,"0 800 21 82 99"]
[null,null,null,null,null,null,"feedback@suziria.ua"]
[]
["Зображення","Код","Артикул","Номенклатура","Наявність","Категорія","Ціна опт.","Ціна РРЦ","Замовлення, шт.","Сума, грн."]
[null,null,null,null,null,null,null,null,null,{"$f":"SUM(J8:J96)","v":0}]
[null,1111152114,"12111 BLACK Flexi","Контейнер VARIO MultiBox для рулетки 7*d5 см чорний","Більше 100","Аксесуари для амуніції (адресовки, брелоки, медальйони, підвіски)",204.18,266,0,{"$f":"G8*I8","v":0}]
[null,1111161942,"FL 034125","Рулетка BLACK DESIGN, L, 5 м, стрічка, зелена","Менше 10","Рулетки",692.64,901,0,{"$f":"G9*I9","v":0}]
[null,1111161943,"FL 034118","Рулетка BLACK DESIGN, L, 5 м, стрічка, рожева","Менше 10","Рулетки",692.64,901,0,{"$f":"G10*I10","v":0}]
[null,1111161941,"FL 034132","Рулетка BLACK DESIGN, L, 5 м, стрічка, синя","Менше 10","Рулетки",692.64,901,0,{"$f":"G11*I11","v":0}]
[null,1111161939,"FL 034101","Рулетка BLACK DESIGN, L, 5 м, стрічка, чорна","Менше 10","Рулетки",692.64,901,0,{"$f":"G12*I12","v":0}]
[null,1111162167,"FL 034026","Рулетка BLACK DESIGN, M, 5 м, стрічка, зелена","Більше 10","Рулетки",615.67999999999995,801,0,{"$f":"G13*I13","v":0}]
[null,1111162166,"FL 034033","Рулетка BLACK DESIGN, M, 5 м, стрічка, синя","Менше 10","Рулетки",615.67999999999995,801,0,{"$f":"G14*I14","v":0}]
[null,1111162168,"FL 034002","Рулетка BLACK DESIGN, M, 5 м, стрічка, чорна","Більше 10","Рулетки",615.67999999999995,801,0,{"$f":"G15*I15","v":0}]
[null,1111161934,"FL 033425","Рулетка BLACK DESIGN, M, 5 м, трос, зелена","Менше 10","Рулетки",469.46,611,0,{"$f":"G16*I16","v":0}]
[null,1111162163,"FL 033418","Рулетка BLACK DESIGN, M, 5 м, трос, рожева","Менше 10","Рулетки",469.46,611,0,{"$f":"G17*I17","v":0}]
[null,1111161933,"FL 033432","Рулетка BLACK DESIGN, M, 5 м, трос, синя","Менше 10","Рулетки",469.46,611,0,{"$f":"G18*I18","v":0}]
[null,1111162164,"FL 033401","Рулетка BLACK DESIGN, M, 5 м, трос, чорна","Менше 10","Рулетки",469.46,611,0,{"$f":"G19*I19","v":0}]
[null,1111161936,"FL 033920","Рулетка BLACK DESIGN, S, 5 м, стрічка, зелена","Більше 10","Рулетки",517.55999999999995,673,0,{"$f":"G20*I20","v":0}]
[null,1111162165,"FL 033937","Рулетка BLACK DESIGN, S, 5 м, стрічка, синя","Менше 10","Рулетки",517.55999999999995,673,0,{"$f":"G21*I21","v":0}]
[null,1111161935,"FL 033906","Рулетка BLACK DESIGN, S, 5 м, стрічка, чорна","Менше 10","Рулетки",517.55999999999995,673,0,{"$f":"G22*I22","v":0}]
[null,1111161931,"FL 033326","Рулетка BLACK DESIGN, S, 5 м, трос, зелена","Більше 10","Рулетки",407.89,530,0,{"$f":"G23*I23","v":0}]
[null,1111161932,"FL 033319","Рулетка BLACK DESIGN, S, 5 м, трос, рожева","Менше 10","Рулетки",407.89,530,0,{"$f":"G24*I24","v":0}]
[null,1111161930,"FL 033333","Рулетка BLACK DESIGN, S, 5 м, трос, синя","Більше 10","Рулетки",407.89,530,0,{"$f":"G25*I25","v":0}]
[null,1111161929,"FL 033302","Рулетка BLACK DESIGN, S, 5 м, трос, чорна","Менше 10","Рулетки",407.89,530,0,{"$f":"G26*I26","v":0}]
[null,1111161926,"FL 033227","Рулетка BLACK DESIGN, XS, 3 м, трос, зелена","Менше 10","Рулетки",350.17,455,0,{"$f":"G27*I27","v":0}]
[null,1111161928,"FL 033210","Рулетка BLACK DESIGN, XS, 3 м, трос, рожева","Більше 10","Рулетки",350.17,455,0,{"$f":"G28*I28","v":0}]
[null,1111161924,"FL 033203","Рулетка BLACK DESIGN, XS, 3 м, трос, чорна","Менше 10","Рулетки",350.17,455,0,{"$f":"G29*I29","v":0}]
[null,1111161938,"FL 034019","Рулетка BLACK DESIGN, М, 5 м, стрічка, рожева","Менше 10","Рулетки",615.67999999999995,801,0,{"$f":"G30*I30","v":0}]
[null,1111131992,"20929 BLACK Flexi","Рулетка Flexi GIANT L 8м/50кг (стрічка) жовт/чорн. неон","Менше 10","Рулетки",1562.29,2032,0,{"$f":"G31*I31","v":0}]
[null,10353,"FL 030004","Рулетка Flexi GIANT XL 8м/75кг (стрічка) чорна","Менше 10","Рулетки",1658.95,2156.5,0,{"$f":"G32*I32","v":0}]
[null,1111148214,"FL 031711","Рулетка Flexi NEON L 5м (стрічка) чорна","Менше 10","Рулетки",899.47,1170,0,{"$f":"G33*I33","v":0}]
[null,1111148213,"FL 031704","Рулетка Flexi NEON M 5м (стрічка) чорна","Менше 10","Рулетки",812.89,1057,0,{"$f":"G34*I34","v":0}]
[null,1111134452,"FL 025222","Рулетка Flexi NEON M 5м/20кг (шнур) чорна","Менше 10","Рулетки",619.53,806,0,{"$f":"G35*I35","v":0}]
[null,1111134451,"20911 BLACK Flexi","Рулетка Flexi NEON S 5м/12кг (шнур) чорна","Менше 10","Рулетки",554.11,721,0,{"$f":"G36*I36","v":0}]
[null,1111139914,"Cat PINK Flexi","Рулетка Flexi NEW CLASSIC CAT рожева","Менше 10","Рулетки",351.13,456,0,{"$f":"G37*I37","v":0}]
[null,1111147987,"Cat BLUE Flexi","Рулетка Flexi NEW CLASSIC CAT синя","Менше 10","Рулетки",351.13,456,0,{"$f":"G38*I38","v":0}]
[null,1111148008,"Cat RED Flexi","Рулетка Flexi NEW CLASSIC CAT червона","Менше 10","Рулетки",351.13,456,0,{"$f":"G39*I39","v":0}]
[null,1111147026,"Cat BLACK Flexi","Рулетка Flexi NEW CLASSIC CAT чорна","Менше 10","Рулетки",351.13,456,0,{"$f":"G40*I40","v":0}]
[null,1111148215,"11723 RED Flexi","Рулетка Flexi NEW CLASSIC L 5м (стрічка) червона","Менше 10","Рулетки",755.17,982,0,{"$f":"G41*I41","v":0}]
[null,1111148217,"11721 BLACK Flexi","Рулетка Flexi NEW CLASSIC L 5м (стрічка) чорна","Менше 10","Рулетки",755.17,982,0,{"$f":"G42*I42","v":0}]
[null,1111148633,"11732 BLUE Flexi","Рулетка Flexi NEW CLASSIC L 8м (стрічка) синя","Менше 10","Рулетки",1022.61,1330,0,{"$f":"G43*I43","v":0}]
[null,1111148632,"11733 RED Flexi","Рулетка Flexi NEW CLASSIC L 8м (стрічка) червона","Менше 10","Рулетки",1022.61,1330,0,{"$f":"G44*I44","v":0}]
[null,1111148634,"11731 BLACK Flexi","Рулетка Flexi NEW CLASSIC L 8м (стрічка) чорна","Більше 10","Рулетки",1022.61,1330,0,{"$f":"G45*I45","v":0}]
[null,1111147894,"11786 PINK Flexi","Рулетка Flexi NEW CLASSIC S 5м/12кг (шнур) рожева","Менше 10","Рулетки",416.55,542,0,{"$f":"G46*I46","v":0}]
[null,1111147892,"11782 BLUE Flexi","Рулетка Flexi NEW CLASSIC S 5м/12кг (шнур) синя","Менше 10","Рулетки",416.55,542,0,{"$f":"G47*I47","v":0}]
[null,1111147893,"11783 RED Flexi","Рулетка Flexi NEW CLASSIC S 5м/12кг (шнур) червона","Більше 10","Рулетки",416.55,542,0,{"$f":"G48*I48","v":0}]
[null,1111139751,"11781 BLACK Flexi","Рулетка Flexi NEW CLASSIC S 5м/12кг (шнур) чорна","Більше 10","Рулетки",416.55,542,0,{"$f":"G49*I49","v":0}]
[null,1111147886,"11836 PINK Flexi","Рулетка Flexi NEW CLASSIC S 5м/15кг (стрічка) рожева","Менше 10","Рулетки",548.34,713,0,{"$f":"G50*I50","v":0}]
[null,1111147887,"11832 BLUE Flexi","Рулетка Flexi NEW CLASSIC S 5м/15кг (стрічка) синя","Менше 10","Рулетки",548.34,713,0,{"$f":"G51*I51","v":0}]
[null,1111139748,"11833 RED Flexi","Рулетка Flexi NEW CLASSIC S 5м/15кг (стрічка) червона","Більше 10","Рулетки",548.34,713,0,{"$f":"G52*I52","v":0}]
[null,1111147888,"11831 BLACK Flexi","Рулетка Flexi NEW CLASSIC S 5м/15кг (стрічка) чорна","Більше 10","Рулетки",548.34,713,0,{"$f":"G53*I53","v":0}]
[null,1111139746,"11806 PINK Flexi","Рулетка Flexi NEW CLASSIC S 8м/12кг (шнур) рожева","Менше 10","Рулетки",653.20000000000005,850,0,{"$f":"G54*I54","v":0}]
[null,1111148009,"11802 BLUE Flexi","Рулетка Flexi NEW CLASSIC S 8м/12кг (шнур) синя","Менше 10","Рулетки",653.20000000000005,850,0,{"$f":"G55*I55","v":0}]
[null,1111148010,"11803 RED Flexi","Рулетка Flexi NEW CLASSIC S 8м/12кг (шнур) червона","Менше 10","Рулетки",653.20000000000005,850,0,{"$f":"G56*I56","v":0}]
[null,1111148011,"11801 BLACK Flexi","Рулетка Flexi NEW CLASSIC S 8м/12кг (шнур) чорна","Менше 10","Рулетки",653.20000000000005,850,0,{"$f":"G57*I57","v":0}]
[null,1111147889,"11826 PINK Flexi","Рулетка Flexi NEW CLASSIC XS 3м/12кг (стрічка) рожева","Менше 10","Рулетки",460.8,599,0,{"$f":"G58*I58","v":0}]
[null,1111147891,"11822 BLUE Flexi","Рулетка Flexi NEW CLASSIC XS 3м/12кг (стрічка) синя","Менше 10","Рулетки",460.8,599,0,{"$f":"G59*I59","v":0}]
[null,1111147890,"11823 RED Flexi","Рулетка Flexi NEW CLASSIC XS 3м/12кг (стрічка) червона","Менше 10","Рулетки",460.8,599,0,{"$f":"G60*I60","v":0}]
[null,1111139745,"11821 BLACK Flexi","Рулетка Flexi NEW CLASSIC XS 3м/12кг (стрічка) чорна","Більше 10","Рулетки",460.8,599,0,{"$f":"G61*I61","v":0}]
[null,1111147369,"11776 PINK Flexi","Рулетка Flexi NEW CLASSIC XS 3м/8кг (шнур) рожева","Менше 10","Рулетки",351.13,456,0,{"$f":"G62*I62","v":0}]
[null,1111147368,"11772 BLUE Flexi","Рулетка Flexi NEW CLASSIC XS 3м/8кг (шнур) синя","Більше 10","Рулетки",351.13,456,0,{"$f":"G63*I63","v":0}]
[null,1111147367,"11773 RED Flexi","Рулетка Flexi NEW CLASSIC XS 3м/8кг (шнур) червона","Менше 10","Рулетки",351.13,456,0,{"$f":"G64*I64","v":0}]
[null,1111139752,"11771 BLACK Flexi","Рулетка Flexi NEW CLASSIC XS 3м/8кг (шнур) чорна","Більше 10","Рулетки",351.13,456,0,{"$f":"G65*I65","v":0}]
[null,1111148219,"11712 BLUE Flexi","Рулетка Flexi NEW CLASSIC М 5м (стрічка) синя","Менше 10","Рулетки",690.72,898,0,{"$f":"G66*I66","v":0}]
[null,1111148218,"11713 RED Flexi","Рулетка Flexi NEW CLASSIC М 5м (стрічка) червона","Менше 10","Рулетки",690.72,898,0,{"$f":"G67*I67","v":0}]
[null,1111148220,"11711 BLACK Flexi","Рулетка Flexi NEW CLASSIC М 5м (стрічка) чорна","Менше 10","Рулетки",690.72,898,0,{"$f":"G68*I68","v":0}]
[null,1111147898,"11796 PINK Flexi","Рулетка Flexi NEW CLASSIC М 5м/20кг (шнур) рожева","Менше 10","Рулетки",482.92,628,0,{"$f":"G69*I69","v":0}]
[null,1111147899,"11792 BLUE Flexi","Рулетка Flexi NEW CLASSIC М 5м/20кг (шнур) синя","Більше 10","Рулетки",482.92,629,0,{"$f":"G70*I70","v":0}]
[null,1111139750,"11793 RED Flexi","Рулетка Flexi NEW CLASSIC М 5м/20кг (шнур) червона","Менше 10","Рулетки",482.92,629,0,{"$f":"G71*I71","v":0}]
[null,1111147900,"11791 BLACK Flexi","Рулетка Flexi NEW CLASSIC М 5м/20кг (шнур) чорна","Більше 10","Рулетки",482.92,629,0,{"$f":"G72*I72","v":0}]
[null,1111148012,"11816 PINK Flexi","Рулетка Flexi NEW CLASSIC М 8м/20кг (шнур) рожева","Менше 10","Рулетки",701.3,912,0,{"$f":"G73*I73","v":0}]
[null,1111148013,"11812 BLUE Flexi","Рулетка Flexi NEW CLASSIC М 8м/20кг (шнур) синя","Менше 10","Рулетки",701.3,912,0,{"$f":"G74*I74","v":0}]
[null,1111139747,"11813 RED Flexi","Рулетка Flexi NEW CLASSIC М 8м/20кг (шнур) червона","Менше 10","Рулетки",701.3,912,0,{"$f":"G75*I75","v":0}]
[null,1111148014,"11811 BLACK Flexi","Рулетка Flexi NEW CLASSIC М 8м/20кг (шнур) чорна","Менше 10","Рулетки",701.3,912,0,{"$f":"G76*I76","v":0}]
[null,1111162588,"FL 043813","Рулетка Flexi для собак NEW COMFORT стрічка синій L 8м арт.FL 043813","Менше 10","Рулетки",1234.25,1605,0,{"$f":"G77*I77","v":0}]
[null,1111149661,"11716 PINK Flexi","Рулетка NEW CLASSIC, М, 5 м, стрічка, рожева","Менше 10","Рулетки",690.72,898,0,{"$f":"G78*I78","v":0}]
[null,1111162159,"FL 043714","Рулетка NEW COMFORT, L, 5 м, стрічка, синя","Менше 10","Рулетки",1161.1300000000001,1510,0,{"$f":"G79*I79","v":0}]
[null,1111162160,"FL 043707","Рулетка NEW COMFORT, L, 5 м, стрічка, червона","Менше 10","Рулетки",1161.1300000000001,1510,0,{"$f":"G80*I80","v":0}]
[null,1111161957,"FL 043721","Рулетка NEW COMFORT, L, 5 м, стрічка, чорна","Менше 10","Рулетки",1161.1300000000001,1510,0,{"$f":"G81*I81","v":0}]
[null,1111162161,"FL 043806","Рулетка NEW COMFORT, L, 8 м, стрічка, червона","Менше 10","Рулетки",1234.25,1605,0,{"$f":"G82*I82","v":0}]
[null,1111162162,"FL 043820","Рулетка NEW COMFORT, L, 8 м, стрічка, чорна","Менше 10","Рулетки",1234.25,1605,0,{"$f":"G83*I83","v":0}]
[null,1111162158,"FL 043646","Рулетка NEW COMFORT, M, 5 м, стрічка, чорна","Менше 10","Рулетки",765.75,996,0,{"$f":"G84*I84","v":0}]
[null,1111162157,"FL 043516","Рулетка NEW COMFORT, S, 5 м, стрічка, блакитна","Менше 10","Рулетки",632.03,822,0,{"$f":"G85*I85","v":0}]
[null,1111161954,"FL 043509","Рулетка NEW COMFORT, S, 5 м, стрічка, рожева","Менше 10","Рулетки",632.03,822,0,{"$f":"G86*I86","v":0}]
[null,1111161953,"FL 043530","Рулетка NEW COMFORT, S, 5 м, стрічка, синя","Більше 10","Рулетки",632.03,822,0,{"$f":"G87*I87","v":0}]
[null,1111161923,"FL 043523","Рулетка NEW COMFORT, S, 5 м, стрічка, червона","Менше 10","Рулетки",632.03,822,0,{"$f":"G88*I88","v":0}]
[null,1111161952,"FL 043547","Рулетка NEW COMFORT, S, 5 м, стрічка, чорна","Менше 10","Рулетки",632.03,822,0,{"$f":"G89*I89","v":0}]
[null,1111162155,"FL 043417","Рулетка NEW COMFORT, XS, 3 м, стрічка, блакитна","Немає в наявності","Рулетки",530.05999999999995,689,0,{"$f":"G90*I90","v":0}]
[null,1111161947,"FL 043400","Рулетка NEW COMFORT, XS, 3 м, стрічка, рожева","Більше 10","Рулетки",530.05999999999995,690,0,{"$f":"G91*I91","v":0}]
[null,1111161945,"FL 043431","Рулетка NEW COMFORT, XS, 3 м, стрічка, синя","Менше 10","Рулетки",530.05999999999995,690,0,{"$f":"G92*I92","v":0}]
[null,1111161946,"FL 043424","Рулетка NEW COMFORT, XS, 3 м, стрічка, червона","Менше 10","Рулетки",530.05999999999995,690,0,{"$f":"G93*I93","v":0}]
[null,1111162156,"FL 043448","Рулетка NEW COMFORT, XS, 3 м, стрічка, чорна","Менше 10","Рулетки",530.05999999999995,689,0,{"$f":"G94*I94","v":0}]
[null,1111161956,"FL 043615","Рулетка NEW COMFORT, М, 5 м, стрічка, блакитна","Менше 10","Рулетки",765.75,996,0,{"$f":"G95*I95","v":0}]
[null,1111161955,"FL 043622","Рулетка NEW COMFORT, М, 5 м, стрічка, червона","Менше 10","Рулетки",765.75,996,0,{"$f":"G96*I96","v":0}]

{"sheet":"Fluval","index":30,"n_rows":26,"n_cols":10,"rows_kept":26,"cut":false,"hidden":false,"merged":[]}
[]
[null,null,null,null,null,null,"suziria.ua"]
[null,null,null,null,null,null,"0 800 21 82 99"]
[null,null,null,null,null,null,"feedback@suziria.ua"]
[]
["Зображення","Код","Артикул","Номенклатура","Наявність","Категорія","Ціна опт.","Ціна РРЦ","Замовлення, шт.","Сума, грн."]
[null,null,null,null,null,null,null,null,null,{"$f":"SUM(J8:J26)","v":0}]
[null,1111145972,"15004_ord","Акваріум FL FLEX 34 л чорний","Менше 10","Акваріуми, акваріумні набори, комплектуючі",6433.08,9006,0,{"$f":"G8*I8","v":0}]
[null,1111145973,"15007_ord","Акваріум FL FLEX 57 л чорний","Менше 10","Акваріуми, акваріумні набори, комплектуючі",9071.52,12704,0,{"$f":"G9*I9","v":0}]
[null,1111111662,"A20196*****","Головка до фільтра FL 406","Менше 10","Запчастини для акваріумного обладнання",3236.24,4851,0,{"$f":"G10*I10","v":0}]
[null,1111114973,"A20210","Кільце ущільнююче в FL FX-5","Менше 10","Запчастини для акваріумного обладнання",430.37,602,0,{"$f":"G11*I11","v":0}]
[null,1111115096,"A20212","Кільце ущільнююче в FL FX-5","Менше 10","Запчастини для акваріумного обладнання",122.94,172,0,{"$f":"G12*I12","v":0}]
[null,11239,"A20192","Корпус до фільтра FL306","Менше 10","Запчастини для акваріумного обладнання",1139.9100000000001,1596,0,{"$f":"G13*I13","v":0}]
[null,1111112550,"A20116","Кришка до ротора FL 104","Менше 10","Запчастини для акваріумного обладнання",258.24,361,0,{"$f":"G14*I14","v":0}]
[null,1111147834,"A20204_ord","Кришка корпуса для фільтра Fluval FX6","Менше 10","Запчастини для акваріумного обладнання",1484.86,2079,0,{"$f":"G15*I15","v":0}]
[null,1111174254,"A20095","Набір запчастин Fluval для фільтру FL 207","Менше 10","Запчастини для акваріумного обладнання",1084.9100000000001,1519,0,{"$f":"G16*I16","v":0}]
[null,1111174255,"A20096","Набір запчастин Fluval для фільтру FL 307","Менше 10","Запчастини для акваріумного обладнання",1244.3900000000001,1743,0,{"$f":"G17*I17","v":0}]
[null,1111174256,"A20097","Набір запчастин Fluval для фільтру FL 407","Менше 10","Запчастини для акваріумного обладнання",1244.3900000000001,1743,0,{"$f":"G18*I18","v":0}]
[null,1111162217,"A20053_ord","Патрубок для забору води для фільтрів A443, A446, A449, арт. A20053","Менше 10","Запчастини для акваріумного обладнання",382.75,536,0,{"$f":"G19*I19","v":0}]
[null,10228,"A20152","Ротор у фільтр FL 304","Менше 10","Запчастини для акваріумного обладнання",395.06,553,0,{"$f":"G20*I20","v":0}]
[null,22565,"A20153_ord","Ротор у фільтр FL 306","Менше 10","Запчастини для акваріумного обладнання",468.27,656,0,{"$f":"G21*I21","v":0}]
[null,22553,"A20173","Ротор у фільтр FL 406","Менше 10","Запчастини для акваріумного обладнання",483.44,677,0,{"$f":"G22*I22","v":0}]
[null,1111137338,"A20206","Ротор у фільтр FL FХ5/FX6","Менше 10","Запчастини для акваріумного обладнання",2022.89,2832,0,{"$f":"G23*I23","v":0}]
[null,1111147835,"A20225_ord","Трубка забору води FLl FX4 / FX5 / FX6","Менше 10","Запчастини для акваріумного обладнання",376.39,527,0,{"$f":"G24*I24","v":0}]
[null,1111124727,"A20207","Ущільнювач в FL ЕХ5","Менше 10","Запчастини для акваріумного обладнання",122.89,172,0,{"$f":"G25*I25","v":0}]
[null,1111135745,"A219","Фільтр FLUVAL FX6","Менше 10","Обладнання для акваріума, комплектуючі",18048.63,25270,0,{"$f":"G26*I26","v":0}]

{"sheet":"Fop","index":31,"n_rows":21,"n_cols":10,"rows_kept":21,"cut":false,"hidden":false,"merged":[]}
[]
[null,null,null,null,null,null,"suziria.ua"]
[null,null,null,null,null,null,"0 800 21 82 99"]
[null,null,null,null,null,null,"feedback@suziria.ua"]
[]
["Зображення","Код","Артикул","Номенклатура","Наявність","Категорія","Ціна опт.","Ціна РРЦ","Замовлення, шт.","Сума, грн."]
[null,null,null,null,null,null,null,null,null,{"$f":"SUM(J8:J21)","v":0}]
[null,3358,15200030,"Вольєр д/птахів TIFFANY 72х55,5х123,5 см","Менше 10","Клітки, вольєри для великих птахів",15215.79,19780,0,{"$f":"G8*I8","v":0}]
[null,1633,20070270,"Клітка д/гризун BERNIE DELUXE 53х38х25,5см укомплект.","Більше 10","Клітки для дрібних і середніх гризунів",1205.4100000000001,1566,0,{"$f":"G9*I9","v":0}]
[null,1111112359,20070070,"Клітка д/гризунів BERNIE 53х38х25,5 см пластикова","Менше 10","Клітки для дрібних і середніх гризунів",866.84,1127,0,{"$f":"G10*I10","v":0}]
[null,1111129209,20030270,"Клітка д/гризунів JUNIOR DELUXE 42х34х22 см укомплект.","Менше 10","Клітки для дрібних і середніх гризунів",782.52,1018,0,{"$f":"G11*I11","v":0}]
[null,7798,20810088,"Клітка д/гризунів MARY CHARME 66х45х121см трирівнева","Менше 10","Клітки для дрібних і середніх гризунів",8984.5499999999993,11680,0,{"$f":"G12*I12","v":0}]
[null,1111148627,20107011,"Клітка д/гризунів PINO 45х27,5х40 см укомплектована","Менше 10","Клітки для дрібних і середніх гризунів",2061.87,2680,0,{"$f":"G13*I13","v":0}]
[null,1111148629,20790011,"Клітка д/гризунів ZOE 45х27х20 см укомплектована","Менше 10","Клітки для дрібних і середніх гризунів",876.06,1138,0,{"$f":"G14*I14","v":0}]
[null,1111140442,10710011,"Клітка д/птахів ANITA BIG FUN 53х32х67 см","Менше 10","Клітки для дрібних і середніх птахів",3028.67,3938,0,{"$f":"G15*I15","v":0}]
[null,903,10380010,"Клітка д/птахів EVITA 53х33х80 см біла, з підставкою","Менше 10","Клітки для дрібних і середніх птахів",4431.68,5761,0,{"$f":"G16*I16","v":0}]
[null,1111143819,15270030,"Клітка д/птахів IVONNE 66х45х60 см біла","Менше 10","Клітки для дрібних і середніх птахів",4224.8500000000004,5493,0,{"$f":"G17*I17","v":0}]
[null,1111148625,10720011,"Клітка д/птахів LARA BIG FUN 40х27х51 см","Менше 10","Клітки для дрібних і середніх птахів",2110.4499999999998,2745,0,{"$f":"G18*I18","v":0}]
[null,1111148622,10300030,"Клітка д/птахів OLGA 59х36х66 см оцинкована","Менше 10","Клітки для дрібних і середніх птахів",3487.12,4534,0,{"$f":"G19*I19","v":0}]
[null,1111127613,15110010,"Клітка для птахів CRISTINA 66?45?84см біла з підставкою","Менше 10","Клітки для дрібних і середніх птахів",5258.99,6837,0,{"$f":"G20*I20","v":0}]
[null,1111131117,"2541007/0,6","Туалет д/котів закритий BUFFY 54х38,5х38 см","Менше 10","Туалети",633.14,823,0,{"$f":"G21*I21","v":0}]

{"sheet":"Forest Cat","index":32,"n_rows":9,"n_cols":10,"rows_kept":9,"cut":false,"hidden":false,"merged":[]}
[]
[null,null,null,null,null,null,"suziria.ua"]
[null,null,null,null,null,null,"0 800 21 82 99"]
[null,null,null,null,null,null,"feedback@suziria.ua"]
[]
["Зображення","Код","Артикул","Номенклатура","Наявність","Категорія","Ціна опт.","Ціна РРЦ","Замовлення, шт.","Сума, грн."]
[null,null,null,null,null,null,null,null,null,{"$f":"SUM(J8:J9)","v":0}]
[null,1111182748,"FC1400","Наповнювач Forest Cat вівсяний для котів 3 кг","Більше 100","Наповнювачі на рослинній основі (в т.ч. паперові)",51.03,69,0,{"$f":"G8*I8","v":0}]
[null,1111182747,"FC1431","Наповнювач Forest Cat вівсяний для котів 5 кг","Більше 100","Наповнювачі на рослинній основі (в т.ч. паперові)",77.11,104,0,{"$f":"G9*I9","v":0}]

{"sheet":"FURminator","index":33,"n_rows":28,"n_cols":10,"rows_kept":28,"cut":false,"hidden":false,"merged":[]}
[]
[null,null,null,null,null,null,"suziria.ua"]
[null,null,null,null,null,null,"0 800 21 82 99"]
[null,null,null,null,null,null,"feedback@suziria.ua"]
[]
["Зображення","Код","Артикул","Номенклатура","Наявність","Категорія","Ціна опт.","Ціна РРЦ","Замовлення, шт.","Сума, грн."]
[null,null,null,null,null,null,null,null,null,{"$f":"SUM(J8:J28)","v":0}]
[null,1111161390,"691664 СПЕЦЦЕНА","Граблі FURminator NEW з обертовими зубцями","Менше 10","Аксесуари для грумінгу",364.6,565,0,{"$f":"G8*I8","v":0}]
[null,1111158254,"691715 СПЕЦЦЕНА","Гребінець-щітка Furminator NEW гумова","Більше 10","Аксесуари для грумінгу",254.38,395,0,{"$f":"G9*I9","v":0}]
[null,1111158255,"691669 СПЕЦЦЕНА","Ковтунорыз Furminator NEW","Менше 10","Аксесуари для грумінгу",599.13,929,0,{"$f":"G10*I10","v":0}]
[null,1111156133,"691662СПЕЦЦЕНА","Фурмінатор FURminator для котів з довгою шерстю M/L арт.691741/691662","Більше 100","Аксесуари для грумінгу",689.24,1068,0,{"$f":"G11*I11","v":0}]
[null,1111156123,"691654СПЕЦЦЕНА","Фурмінатор FURminator для собак з довгою шерстю S арт.691733/691654","Більше 10","Аксесуари для грумінгу",639.45000000000005,991,0,{"$f":"G12*I12","v":0}]
[null,1111156125,"691655СПЕЦЦЕНА","Фурмінатор FURminator для собак з довгою шерстю М арт.691734/691655","Більше 100","Аксесуари для грумінгу",800.21,1240,0,{"$f":"G13*I13","v":0}]
[null,1111156124,"691665СПЕЦЦЕНА","Фурмінатор FURminator для собак з короткою шерстю М арт.691742/691665","Більше 10","Аксесуари для грумінгу",800.21,1240,0,{"$f":"G14*I14","v":0}]
[null,1111156131,"691660СПЕЦЦЕНА","Фурмінатор NEW д/котів довга ш., розмір S","Більше 10","Аксесуари для грумінгу",639.45000000000005,991,0,{"$f":"G15*I15","v":0}]
[null,1111156132,"691661СПЕЦЦЕНА","Фурмінатор NEW д/котів корот. ш., розмір L","Більше 100","Аксесуари для грумінгу",689.24,1068,0,{"$f":"G16*I16","v":0}]
[null,1111156130,"691659СПЕЦЦЕНА","Фурмінатор NEW д/котів корот.ш., розмір S","Більше 100","Аксесуари для грумінгу",639.45000000000005,991,0,{"$f":"G17*I17","v":0}]
[null,1111156127,"691657СПЕЦЦЕНА","Фурмінатор NEW д/собак довга ш., розмір L","Більше 10","Аксесуари для грумінгу",959.53,1487,0,{"$f":"G18*I18","v":0}]
[null,1111156129,"691658СПЕЦЦЕНА","Фурмінатор NEW д/собак довга ш., розмір XL","Більше 10","Аксесуари для грумінгу",1116.01,1729,0,{"$f":"G19*I19","v":0}]
[null,1111156121,"691693СПЕЦЦЕНА","Фурмінатор NEW д/собак довга ш., розмір XS","Менше 10","Аксесуари для грумінгу",561.20000000000005,869,0,{"$f":"G20*I20","v":0}]
[null,1111156126,"92955FL/691656СПЕЦЦЕНА","Фурмінатор NEW д/собак корот.ш., розмір L","Більше 10","Аксесуари для грумінгу",959.53,1487,0,{"$f":"G21*I21","v":0}]
[null,1111156122,"691653СПЕЦЦЕНА","Фурмінатор NEW д/собак корот.ш., розмір S","Більше 10","Аксесуари для грумінгу",639.45000000000005,991,0,{"$f":"G22*I22","v":0}]
[null,1111156128,"691694СПЕЦЦЕНА","Фурмінатор NEW д/собак корот.ш., розмір XL","Менше 10","Аксесуари для грумінгу",1116.01,1729,0,{"$f":"G23*I23","v":0}]
[null,1111156120,"691692СПЕЦЦЕНА","Фурмінатор NEW д/собак корот.ш., розмір XS","Менше 10","Аксесуари для грумінгу",561.20000000000005,869,0,{"$f":"G24*I24","v":0}]
[null,1111158253,"691663 СПЕЦЦЕНА","Щітка Furminator NEW двостороння","Менше 10","Аксесуари для грумінгу",381.96,592,0,{"$f":"G25*I25","v":0}]
[null,1111158252,"691668 СПЕЦЦЕНА","Щітка Furminator NEW для збору шерсті","Більше 10","Аксесуари для грумінгу",504.97,783,0,{"$f":"G26*I26","v":0}]
[null,1111170987,"153184 СПЕЦЦЕНА","Щітка-пуходерка жорстка FURminator для котів/собак арт.153184 СПЕЦЦЕНА","Більше 10","Аксесуари для грумінгу",451.67,700,0,{"$f":"G27*I27","v":0}]
[null,1111170988,"153214 СПЕЦЦЕНА","Щітка-пуходерка м_яка FURminator для котів та собак арт153214 СПЕЦЦЕНА","Менше 10","Аксесуари для грумінгу",451.67,700,0,{"$f":"G28*I28","v":0}]

{"sheet":"GimBi","index":34,"n_rows":15,"n_cols":10,"rows_kept":15,"cut":false,"hidden":false,"merged":[]}
[]
[null,null,null,null,null,null,"suziria.ua"]
[null,null,null,null,null,null,"0 800 21 82 99"]
[null,null,null,null,null,null,"feedback@suziria.ua"]
[]
["Зображення","Код","Артикул","Номенклатура","Наявність","Категорія","Ціна опт.","Ціна РРЦ","Замовлення, шт.","Сума, грн."]
[null,null,null,null,null,null,null,null,null,{"$f":"SUM(J8:J15)","v":0}]
[null,1111165387,"2.210162/14800","GimBi Natural Delight кульбаба і яблука для гризунів, 100 г,","Менше 10","Ласощі для гризунів",179.74,270,0,{"$f":"G8*I8","v":0}]
[null,1111165378,"2.201887/17486","GimBi Дропси з буряком для гризунів, 50 г","Більше 10","Ласощі для гризунів",118.02,178,0,{"$f":"G9*I9","v":0}]
[null,1111165376,"2.201863/17488","GimBi Дропси з кульбабою для гризунів, 50 г","Менше 10","Ласощі для гризунів",118.02,178,0,{"$f":"G10*I10","v":0}]
[null,1111165375,"2.201856/17489","GimBi Дропси з морквою для гризунів, 50 г","Більше 10","Ласощі для гризунів",118.02,178,0,{"$f":"G11*I11","v":0}]
[null,1111165377,"2.201870/17487","GimBi Дропси з травами для гризунів, 50 г","Менше 10","Ласощі для гризунів",118.02,178,0,{"$f":"G12*I12","v":0}]
[null,1111163647,"G-205090","Сіно Gimbi для гризунів 500 г з трояндою і м ятою","Більше 10","Корм для гризунів",186.95,281,0,{"$f":"G13*I13","v":0}]
[null,1111129443,"G-205069","Сіно для гризунів 1 кг","Більше 10","Корм для гризунів",128.36000000000001,193,0,{"$f":"G14*I14","v":0}]
[null,1111160189,"G-205151","Сіно Тимофіївки, 500 г, Gimbi, Grain Free","Більше 10","Корм для гризунів",206.09,309,0,{"$f":"G15*I15","v":0}]

{"sheet":"GimCat","index":35,"n_rows":77,"n_cols":10,"rows_kept":77,"cut":false,"hidden":false,"merged":[]}
[]
[null,null,null,null,null,null,"suziria.ua"]
[null,null,null,null,null,null,"0 800 21 82 99"]
[null,null,null,null,null,null,"feedback@suziria.ua"]
[]
["Зображення","Код","Артикул","Номенклатура","Наявність","Категорія","Ціна опт.","Ціна РРЦ","Замовлення, шт.","Сума, грн."]
[null,null,null,null,null,null,null,null,null,{"$f":"SUM(J8:J77)","v":0}]
[null,1111159298,"G-418742","Cat-Mintips 40г вітамін. ласощі з котячою м ятою","Більше 100","Вітаміни та мінерали",97.69,137,0,{"$f":"G8*I8","v":0}]
[null,1111183839,"G-401010","Cheese Biotin Paste Gim Cat д/котів cирна з біотином 100г","Більше 100","Вітаміни та мінерали",308.97000000000003,433,0,{"$f":"G9*I9","v":0}]
[null,1111183697,"G-427201","DUO PASTE Anti-hairboll Gim Cat д/котів з чутлив.травл мальт,курка 50г","Більше 100","Вітаміни та мінерали",197,276,0,{"$f":"G10*I10","v":0}]
[null,1111183698,"G-427218","DUO PASTE Anti-hairboll Gim Cat д/котів з чутлив.травл мальт,сир 50г","Більше 100","Вітаміни та мінерали",197,276,0,{"$f":"G11*I11","v":0}]
[null,1111183699,"G-421841","DUO PASTE Multi-vitamin Gim Cat д/котів 12вітамінів,сир 50г","Більше 10","Вітаміни та мінерали",207,290,0,{"$f":"G12*I12","v":0}]
[null,1111183700,"G-421858","DUO PASTE Multi-vitamin Gim Cat д/котів 12вітамінів,тунець 50г","Більше 100","Вітаміни та мінерали",207,290,0,{"$f":"G13*I13","v":0}]
[null,1111153594,"G-420653/420615","GimCat Every Day Dental для здоров. зубів котів, 40 г","Більше 100","Вітаміни та мінерали",99.22,139,0,{"$f":"G14*I14","v":0}]
[null,1111160999,"G-426174","GimCat Every Day Kitten вітамінні таблетки д/кошенят, 40 г","Більше 100","Вітаміни та мінерали",104.53,147,0,{"$f":"G15*I15","v":0}]
[null,1111161838,"G-427034/427065","GimCat Every Day Malt Tabs вітамінні таблетки для котів, 40 г","Більше 10","Вітаміни та мінерали",102.38,144,0,{"$f":"G16*I16","v":0}]
[null,1111153596,"G-421681/418704","GimCat Every Day Multivitamin мультивітамін. Для котів, 40 г","Більше 100","Вітаміни та мінерали",97.72,137,0,{"$f":"G17*I17","v":0}]
[null,1111153593,"G-418711/419114","GimCat Every Day Skin and Coat для шерсті котів, 40 г","Більше 10","Вітаміни та мінерали",97.81,137,0,{"$f":"G18*I18","v":0}]
[null,1111150088,"G-417950/417462","GimCat Expert Line Gastro Intestinal паста для травлення котів, 50г","Більше 10","Вітаміни та мінерали",279.10000000000002,391,0,{"$f":"G19*I19","v":0}]
[null,1111151180,"G-426167/ 406787","GimCat Expert Line Kitten паста для кошенят, 50 г","Більше 10","Вітаміни та мінерали",279.10000000000002,391,0,{"$f":"G20*I20","v":0}]
[null,1111169214,"G-421698","GimCat Expert Line Relax паста для котів 50 г","Більше 10","Вітаміни та мінерали",279.11,391,0,{"$f":"G21*I21","v":0}]
[null,1111150087,"G-402192/402109","GimCat Expert Line Taurine Extra паста з таурином для котів, 50г","Більше 10","Вітаміни та мінерали",276.52,387,0,{"$f":"G22*I22","v":0}]
[null,1111169213,"G-427041","GimCat Expert Line UT Balance паста для котів, 50 г","Більше 10","Вітаміни та мінерали",279.10000000000002,391,0,{"$f":"G23*I23","v":0}]
[null,1111152120,"G-421612/401324","GimCat Extra Мультивітамінна паста для котів, 100 г","Більше 10","Вітаміни та мінерали",328.01,460,0,{"$f":"G24*I24","v":0}]
[null,1111152119,"G-421636/401881","GimCat Extra Мультивітамінна паста для котів, 200 г","Більше 10","Вітаміни та мінерали",480.57,673,0,{"$f":"G25*I25","v":0}]
[null,1111152121,"G-401300/421605","GimCat Extra Мультивітамінна паста для котів, 50 г","Більше 10","Вітаміни та мінерали",201.02,282,0,{"$f":"G26*I26","v":0}]
[null,1111135228,"G-427010/417080*****","GimCat GrasBits вітамінні ласощі з травою для котів, 710шт./425г","Більше 100","Ласощі для котів",643.79999999999995,901,0,{"$f":"G27*I27","v":0}]
[null,1111142196,"G-417653/417271","GimCat GrasBits таблетки вітамінізовані з травою для котів 40г/65шт","Більше 100","Ласощі для котів",100.41,142,0,{"$f":"G28*I28","v":0}]
[null,5033,"G-409139/419060","GimCat Katzentabs з алгобіотином і біотином для котів, 710 шт.","Більше 10","Вітаміни та мінерали",643.79999999999995,901,0,{"$f":"G29*I29","v":0}]
[null,1111133360,"G-419084/408064","GimCat Katzentabs з маскарпоне і біотином для котів, 710 шт.","Більше 10","Вітаміни та мінерали",643.79999999999995,901,0,{"$f":"G30*I30","v":0}]
[null,667,"G-407531/417936","GimCat Malt-soft EXTRA паста д/виведення шерсті зі шлунку котів, 100 г","Більше 100","Вітаміни та мінерали",310.83999999999997,435,0,{"$f":"G31*I31","v":0}]
[null,2831,"G-407081/417912","GimCat Malt-soft EXTRA паста д/виведення шерсті зі шлунку котів, 20 г","Більше 100","Вітаміни та мінерали",110.96,155,0,{"$f":"G32*I32","v":0}]
[null,1111138174,"G-417127/417943","GimCat Malt-soft EXTRA паста д/виведення шерсті зі шлунку котів, 200г","Немає в наявності","Вітаміни та мінерали",490.71,687,0,{"$f":"G33*I33","v":0}]
[null,1111123383,"G-407364/417929","GimCat Malt-soft EXTRA паста д/виведення шерсті зі шлунку котів, 50г","Немає в наявності","Вітаміни та мінерали",197.08,276,0,{"$f":"G34*I34","v":0}]
[null,1111164085,"G-419183/419275","GimCat Nutri Pockets ласощі кантрі мікс для котів, 150 г","Більше 100","Ласощі для котів",137.19999999999999,193,0,{"$f":"G35*I35","v":0}]
[null,1111164086,"G-419220/419312","GimCat Nutri Pockets ласощі качка + мультивітамін для котів , 60 г","Більше 100","Ласощі для котів",79.55,112,0,{"$f":"G36*I36","v":0}]
[null,1111164084,"G-419176/419268","GimCat Nutri Pockets ласощі морський мікс для котів, 150 г","Більше 100","Ласощі для котів",137.19999999999999,193,0,{"$f":"G37*I37","v":0}]
[null,1111140229,"G-418285/419336/419244","GimCat Nutri Pockets подушечки для зубів, для котів, 60 г","Більше 100","Ласощі для котів",79.55,112,0,{"$f":"G38*I38","v":0}]
[null,1111138662,"G-419282/400723","GimCat Nutri Pockets подушечки Котяча м_ята + Мультивіт д/котів, 60 г","Більше 100","Ласощі для котів",79.55,112,0,{"$f":"G39*I39","v":0}]
[null,1111138663,"G-419299/400730","GimCat Nutri Pockets подушечки Лосось + Омега 3+6 для котів, 60 г","Більше 100","Ласощі для котів",79.55,112,0,{"$f":"G40*I40","v":0}]
[null,1111138659,"G-419251/400693/419169","GimCat Nutri Pockets подушечки мультивітамінний мікс для котів, 150 г","Більше 100","Ласощі для котів",137.19999999999999,193,0,{"$f":"G41*I41","v":0}]
[null,1111138661,"G-419329/400716/419237","GimCat Nutri Pockets подушечки Сир + Таурин для котів, 60 г","Більше 100","Ласощі для котів",79.55,112,0,{"$f":"G42*I42","v":0}]
[null,1111138664,"G-419305/400747","GimCat Nutri Pockets подушечки Яловичина + Солод (Мальт) для котів 60г","Більше 100","Ласощі для котів",79.55,112,0,{"$f":"G43*I43","v":0}]
[null,1111146624,"G-420967/420578","GimCat SUPERFOOD М_ясні дуо-палички курка і ліс ягоди для котів, 3 шт.","Більше 10","Ласощі для котів",57.84,81,0,{"$f":"G44*I44","v":0}]
[null,1111146622,"G-420943/420554","GimCat SUPERFOOD М_ясні дуо-палички лосось і манго для котів, 3 шт.","Більше 100","Ласощі для котів",57.84,81,0,{"$f":"G45*I45","v":0}]
[null,1111146623,"G-420950/420561","GimCat SUPERFOOD М_ясні дуо-палички яловичина і яблука для котів, 3 шт","Більше 10","Ласощі для котів",57.84,81,0,{"$f":"G46*I46","v":0}]
[null,5031,"G-419039/409351*****","GimCat вітамінізовані сердечка з куркою і таурином для котів, 650 шт.","Більше 10","Вітаміни та мінерали",765.9,1072,0,{"$f":"G47*I47","v":0}]
[null,1111141917,"Gimborn","GimCat Вітамінний мікс, таблетки для котів, 12 шт","Більше 100","Вітаміни та мінерали",17.079999999999998,24,0,{"$f":"G48*I48","v":0}]
[null,1111126502,"G-401027/421599","GimCat Евері Дей Мультивітамін паста для котів, 100 г","Більше 10","Вітаміни та мінерали",294.93,413,0,{"$f":"G49*I49","v":0}]
[null,1111137838,"G-401423/421629","GimCat Евері Дей Мультивітамін паста дя котів, 50 г","Більше 100","Вітаміни та мінерали",197.08,276,0,{"$f":"G50*I50","v":0}]
[null,1111140716,"G-420844/420929/420448","GimCat м_ясні палички для кошенят 3 шт.","Більше 100","Ласощі для котів",52.45,73,0,{"$f":"G51*I51","v":0}]
[null,1111145480,"G-420868/400761","GimCat М_ясні палички з м ясом птахів для котів, 4 шт. х 5 г","Більше 100","Ласощі для котів",73.849999999999994,103,0,{"$f":"G52*I52","v":0}]
[null,1111138138,"G-401898/421643","GimCat Мультивітамінна паста Extra для котів, 200 г","Менше 10","Вітаміни та мінерали",486.36,682,0,{"$f":"G53*I53","v":0}]
[null,1111130024,"G-420905/420530","GimCat палички з індичкою та кроликом для котів, 4шт.х 5г","Більше 100","Ласощі для котів",73.849999999999994,103,0,{"$f":"G54*I54","v":0}]
[null,1111130025,"G-400778","GimCat палички з лососем та тріскою для котів, 4шт.х 5г","Більше 100","Ласощі для котів",73.849999999999994,103,0,{"$f":"G55*I55","v":0}]
[null,1111130023,"G-420912/420523/420820","GimCat палички з ягням та птицею для котів, 4шт.х 5г","Більше 100","Ласощі для котів",73.849999999999994,103,0,{"$f":"G56*I56","v":0}]
[null,1111142195,"G-418728/418339","GimCat таблетки сирні загальнозміцнюючий комплекс д/котів, 40г/80 шт","Більше 100","Ласощі для котів",97.79,137,0,{"$f":"G57*I57","v":0}]
[null,1111160187,"G-418735","MilkBits 40г вітамін. ласощі з молоком","Більше 100","Вітаміни та мінерали",97.69,137,0,{"$f":"G58*I58","v":0}]
[null,1111184123,"G-419626","Nutri Pockets д/котів Рибні Лосось 60г","Більше 100","Ласощі для котів",79.55,112,0,{"$f":"G59*I59","v":0}]
[null,1111184124,"G-419633","Nutri Pockets д/котів Рибні Тунець 60г","Більше 100","Ласощі для котів",79.55,112,0,{"$f":"G60*I60","v":0}]
[null,1111148270,"G-413785 /412962","Shiny Cat Filet консерви курка і креветки для котів, 70 г","Більше 100","Корм вологий для котів",61.65,78,0,{"$f":"G61*I61","v":0}]
[null,1111140228,"G-412979 / 413792","Shiny Cat Filet консерви курка і манго для котів, 70 г","Більше 10","Корм вологий для котів",61.65,78,0,{"$f":"G62*I62","v":0}]
[null,1111146614,"G-414515/414553","Shiny Cat SUPERFOOD консерви курка і яблуко для котів, 70 г","Більше 10","Корм вологий для котів",67.099999999999994,85,0,{"$f":"G63*I63","v":0}]
[null,1111137996,"G-413112 /413310","Shiny Cat консерви курка для котів, 70 г","Більше 100","Корм вологий для котів",58.25,73,0,{"$f":"G64*I64","v":0}]
[null,1111137997,"G-413129 /413327","Shiny Cat консерви курка і креветки для котів, 70 г","Більше 10","Корм вологий для котів",58.25,73,0,{"$f":"G65*I65","v":0}]
[null,1111146346,"G-412948/413587","Shiny Cat консерви курка і папайя для котів, 70 г","Більше 10","Корм вологий для котів",58.25,73,0,{"$f":"G66*I66","v":0}]
[null,1111148269,"G-413273*****","Shiny Cat консерви курка, креветка і мальт для котів, 70 г","Менше 10","Корм вологий для котів",66.62,84,0,{"$f":"G67*I67","v":0}]
[null,1111137993,"G-413082 /413280","Shiny Cat консерви тунець для котів, 70 г","Більше 100","Корм вологий для котів",60.71,77,0,{"$f":"G68*I68","v":0}]
[null,1111137994,"G-413099 /413297","Shiny Cat консерви тунець і креветки для котів, 70 г","Більше 100","Корм вологий для котів",60.71,77,0,{"$f":"G69*I69","v":0}]
[null,1111137995,"G-413105 /413303","Shiny Cat консерви тунець і курка для котів, 70 г","Більше 10","Корм вологий для котів",60.71,77,0,{"$f":"G70*I70","v":0}]
[null,1111148267,"G-414317 /195","Shiny Cat консерви тунець і лосось для котів, 70 г","Більше 10","Корм вологий для котів",60.71,77,0,{"$f":"G71*I71","v":0}]
[null,1111148266,"G-414300/414188","Shiny Cat консерви тунець і сир для котів, 70 г","Більше 10","Корм вологий для котів",60.71,77,0,{"$f":"G72*I72","v":0}]
[null,1111138665,"G-413143/413341","Shiny Kitten консерви курка для кошенят, 70 г","Більше 10","Корм вологий для котів",58.25,73,0,{"$f":"G73*I73","v":0}]
[null,1111138666,"G-413150/413358","Shiny Kitten консерви тунець для кошенят, 70 г","Більше 100","Корм вологий для котів",62.96,80,0,{"$f":"G74*I74","v":0}]
[null,1111160355,"G-80703","Паличка GimCat з дзвіночками і великим пір ям, 48 см","Більше 10","Іграшки для котів",196.65,255,0,{"$f":"G75*I75","v":0}]
[null,1111160354,"G-80701","Паличка GimCat з пір ям і спіральками з паперу, 62 см","Менше 10","Іграшки для котів",174.14,226,0,{"$f":"G76*I76","v":0}]
[null,1111160358,"G-80707","Паличка GimCat з потрійними хутряним хвостом, 46 см","Більше 10","Іграшки для котів",190.64,248,0,{"$f":"G77*I77","v":0}]

{"sheet":"GimDog","index":36,"n_rows":60,"n_cols":10,"rows_kept":60,"cut":false,"hidden":false,"merged":[[50,0,51,0],[54,0,55,0],[57,0,58,0],[19,0,21,0],[24,0,26,0],[28,0,29,0],[38,0,41,0],[47,0,48,0]]}
[]
[null,null,null,null,null,null,"suziria.ua"]
[null,null,null,null,null,null,"0 800 21 82 99"]
[null,null,null,null,null,null,"feedback@suziria.ua"]
[]
["Зображення","Код","Артикул","Номенклатура","Наявність","Категорія","Ціна опт.","Ціна РРЦ","Замовлення, шт.","Сума, грн."]
[null,null,null,null,null,null,null,null,null,{"$f":"SUM(J8:J60)","v":0}]
[null,1111148275,"G-513164 /027","Shiny Dog Pure Delight консерви курка, тунець для собак, 85 г","Менше 10","Корм вологий для собак",57.48,72,0,{"$f":"G8*I8","v":0}]
[null,1111148274,"G-513157/513010","Shiny Dog Pure Delight консерви тунець для собак, 85 г","Більше 100","Корм вологий для собак",57.48,72,0,{"$f":"G9*I9","v":0}]
[null,1111160366,"G-80728","Іграшка GimDog BIG BANG Бомба M, д/соб, 15,2 см","Менше 10","Іграшки для собак",388.8,505,0,{"$f":"G10*I10","v":0}]
[null,1111160365,"G-80727","Іграшка GimDog BIG BANG Бомба S, д/соб, 12,7 см","Більше 10","Іграшки для собак",280.72000000000003,365,0,{"$f":"G11*I11","v":0}]
[null,1111162219,"G-80784","Іграшка GimDog Дент Плюс мотузка / кільце з термопластичною гумою,15см","Більше 10","Іграшки для собак",198.16,258,0,{"$f":"G12*I12","v":0}]
[null,1111162222,"G-80780","Іграшка GimDog Дент Плюс мотузка з термопластичною гумою, 30 см","Більше 10","Іграшки для собак",189.14,246,0,{"$f":"G13*I13","v":0}]
[null,1111162228,"G-80791","Іграшка GimDog Інтерактивна кісточка, 14 см, з ароматом курки","Менше 10","Іграшки для собак",366.29,476,0,{"$f":"G14*I14","v":0}]
[null,1111162233,"G-80796","Іграшка GimDog Інтерактивна кісточка, 17,8 см, з ароматом бекону","Більше 10","Іграшки для собак",297.24,386,0,{"$f":"G15*I15","v":0}]
[null,1111162230,"G-80793","Іграшка GimDog Інтерактивна кісточка, 17,8 см, з ароматом яловичини","Менше 10","Іграшки для собак",366.29,476,0,{"$f":"G16*I16","v":0}]
[null,1111152653,"G-80550","Іграшка Крокодил, 63,5 см, плюш/тканина GimDog","Менше 10","Іграшки для собак",645.5,839,0,{"$f":"G17*I17","v":0}]
[null,1111152643,"G-2.504780","Кондиціонер Natural Solutions для собак 250 мл GimDog","Менше 10","Косметика, засоби догляду для грумінгу",481.94,627,0,{"$f":"G18*I18","v":0}]
[null,1111163502,80303206619,"Нашийник Alfresco подвійн. неопрен 3.2*42-66см помаран.","Менше 10","Нашийники, нашийники-зашморги",450.35,585,0,{"$f":"G19*I19","v":0}]
[null,1111163495,80302004016,"Нашийник Alfresco подвійний неопрен 2.0*28-40см жовтий","Менше 10","Нашийники, нашийники-зашморги",310.74,404,0,{"$f":"G20*I20","v":0}]
[null,1111163494,80302004013,"Нашийник Alfresco подвійний неопрен 2.0*28-40см чорний","Менше 10","Нашийники, нашийники-зашморги",310.74,404,0,{"$f":"G21*I21","v":0}]
[null,1111163498,80302505116,"Нашийник Alfresco подвійний неопрен 2.5*35-51см жовтий","Менше 10","Нашийники, нашийники-зашморги",367.79,478,0,{"$f":"G22*I22","v":0}]
[null,1111163497,80302505113,"Нашийник Alfresco подвійний неопрен 2.5*35-51см чорний","Менше 10","Нашийники, нашийники-зашморги",367.79,478,0,{"$f":"G23*I23","v":0}]
[null,1111163501,80303206616,"Нашийник Alfresco подвійний неопрен 3.2*42-66см жовтий","Менше 10","Нашийники, нашийники-зашморги",450.35,585,0,{"$f":"G24*I24","v":0}]
[null,1111163481,80202003012,"Нашийник HARLEM нейлон 1.0*20-30см блакитний","Менше 10","Нашийники, нашийники-зашморги",178.64,232,0,{"$f":"G25*I25","v":0}]
[null,1111163478,80202003011,"Нашийник HARLEM нейлон 1.0*20-30см червоний","Менше 10","Нашийники, нашийники-зашморги",178.64,232,0,{"$f":"G26*I26","v":0}]
[null,1111163486,80202504012,"Нашийник HARLEM нейлон 1.5*25-40см блакитний","Менше 10","Нашийники, нашийники-зашморги",214.66,279,0,{"$f":"G27*I27","v":0}]
[null,1111163484,80202504014,"Нашийник HARLEM нейлон 1.5*25-40см рожевий","Менше 10","Нашийники, нашийники-зашморги",214.66,279,0,{"$f":"G28*I28","v":0}]
[null,1111163482,80202504013,"Нашийник HARLEM нейлон 1.5*25-40см чорний","Менше 10","Нашийники, нашийники-зашморги",214.66,279,0,{"$f":"G29*I29","v":0}]
[null,1111163490,80203505112,"Нашийник HARLEM нейлон 2.0*35-51см блакитний","Менше 10","Нашийники, нашийники-зашморги",259.70999999999998,337,0,{"$f":"G30*I30","v":0}]
[null,1111163487,80203505113,"Нашийник HARLEM нейлон 2.0*35-51см чорний","Менше 10","Нашийники, нашийники-зашморги",259.70999999999998,337,0,{"$f":"G31*I31","v":0}]
[null,1111163514,80312012016,"Повідець Alfresco неопрен+фліс 2.0*120см жовтий","Менше 10","Повідки: для прогулянок, тренувальні, з регульованою довжиною",640.99,834,0,{"$f":"G32*I32","v":0}]
[null,1111163513,80312012013,"Повідець Alfresco неопрен+фліс 2.0*120см чорний","Менше 10","Повідки: для прогулянок, тренувальні, з регульованою довжиною",640.99,834,0,{"$f":"G33*I33","v":0}]
[null,1111163517,80312512016,"Повідець Alfresco неопрен+фліс 2.5*120см жовтий","Менше 10","Повідки: для прогулянок, тренувальні, з регульованою довжиною",705.55,917,0,{"$f":"G34*I34","v":0}]
[null,1111163516,80312512013,"Повідець Alfresco неопрен+фліс 2.5*120см чорний","Менше 10","Повідки: для прогулянок, тренувальні, з регульованою довжиною",705.55,917,0,{"$f":"G35*I35","v":0}]
[null,1111163507,80242012012,"Повідець HARLEM неопрен 2.0*120см блакитний","Менше 10","Повідки: для прогулянок, тренувальні, з регульованою довжиною",427.83,556,0,{"$f":"G36*I36","v":0}]
[null,1111163505,80242012014,"Повідець HARLEM неопрен 2.0*120см рожевий","Менше 10","Повідки: для прогулянок, тренувальні, з регульованою довжиною",427.83,556,0,{"$f":"G37*I37","v":0}]
[null,1111152640,"G-2.504759","Шампунь Natural Solutions для цуценят 250 мл GimDog","Більше 10","Косметика, засоби догляду для грумінгу",426.2,555,0,{"$f":"G38*I38","v":0}]
[null,1111163539,"080321505516*****","Шлея Alfresco Y неопрен 1.5*42 45-55см жовта","Менше 10","Шлеї",596.37,895,0,{"$f":"G39*I39","v":0}]
[null,1111163540,80321505519,"Шлея Alfresco Y неопрен 1.5*42 45-55см помаранчева","Менше 10","Шлеї",750.58,976,0,{"$f":"G40*I40","v":0}]
[null,1111163541,"080322007016*****","Шлея Alfresco Y неопрен 2.0*55 58-70см жовта","Менше 10","Шлеї",687.6,1032,0,{"$f":"G41*I41","v":0}]
[null,1111163542,80322007019,"Шлея Alfresco Y неопрен 2.0*55 58-70см помаранчева","Менше 10","Шлеї",864.67,1124,0,{"$f":"G42*I42","v":0}]
[null,1111163543,"080322509016*****","Шлея Alfresco Y неопрен 2.5*70 72-90см жовта","Менше 10","Шлеї",824.32,1237,0,{"$f":"G43*I43","v":0}]
[null,1111163545,"080323210019*****","Шлея Alfresco Y неопрен 3.2*75 80-100см помаранчева","Менше 10","Шлеї",871.33,1308,0,{"$f":"G44*I44","v":0}]
[null,1111163544,80323210013,"Шлея Alfresco Y неопрен 3.2*75 80-100см чорна","Менше 10","Шлеї",1110.8699999999999,1444,0,{"$f":"G45*I45","v":0}]
[null,1111163557,80334705016,"Шлея Alfresco неопрен L 47-50см жовта","Менше 10","Шлеї",774.6,1007,0,{"$f":"G46*I46","v":0}]
[null,1111163556,80334705013,"Шлея Alfresco неопрен L 47-50см чорна","Менше 10","Шлеї",774.6,1007,0,{"$f":"G47*I47","v":0}]
[null,1111163555,80334104419,"Шлея Alfresco неопрен M 41-44см помаранчева","Менше 10","Шлеї",723.56,940,0,{"$f":"G48*I48","v":0}]
[null,1111163549,80333403619,"Шлея Alfresco неопрен XS 34-36см помаранчева","Менше 10","Шлеї",630.49,819,0,{"$f":"G49*I49","v":0}]
[null,1111171260,80261505513,"Шлея GimDog для собак Harlem H нейлон чорний 1.5*40-55см","Менше 10","Шлеї",495.38,644,0,{"$f":"G50*I50","v":0}]
[null,1111163534,80261505512,"Шлея HARLEM H 1.5 * 40-55 см, нейлон, блакитна","Менше 10","Шлеї",495.38,644,0,{"$f":"G51*I51","v":0}]
[null,1111163537,80262509013,"Шлея HARLEM H 2.5 * 67-90 см, нейлон, чорна","Менше 10","Шлеї",821.13,1068,0,{"$f":"G52*I52","v":0}]
[null,1111163531,80261004412,"Шлея HARLEM H нейлон 1.0*33-44см блакитна","Менше 10","Шлеї",375.29,488,0,{"$f":"G53*I53","v":0}]
[null,1111163520,80251004412,"Шлея HARLEM X 1.0 * 32-44 см, нейлон, блакитна","Менше 10","Шлеї",339.26,441,0,{"$f":"G54*I54","v":0}]
[null,1111163519,80251004414,"Шлея HARLEM X 1.0 * 32-44 см, нейлон, рожева","Менше 10","Шлеї",339.26,441,0,{"$f":"G55*I55","v":0}]
[null,1111163518,80251004411,"Шлея HARLEM X 1.0 * 32-44 см, нейлон, червона","Менше 10","Шлеї",339.26,441,0,{"$f":"G56*I56","v":0}]
[null,1111163522,80251506314,"Шлея HARLEM X 1.5 * 45-63 см, нейлон, рожева","Менше 10","Шлеї",453.35,589,0,{"$f":"G57*I57","v":0}]
[null,1111163524,80252007713,"Шлея HARLEM X 2.0 * 53-77 см, нейлон, чорна","Менше 10","Шлеї",570.44000000000005,741,0,{"$f":"G58*I58","v":0}]
[null,1111163528,80252509926,"Шлея HARLEM X 2.5 * 65-99 см, нейлон, сіра","Менше 10","Шлеї",726.56,945,0,{"$f":"G59*I59","v":0}]
[null,1111163527,80252509913,"Шлея HARLEM X 2.5 * 65-99 см, нейлон, чорна","Менше 10","Шлеї",726.56,945,0,{"$f":"G60*I60","v":0}]

{"sheet":"Hagen","index":37,"n_rows":9,"n_cols":10,"rows_kept":9,"cut":false,"hidden":false,"merged":[]}
[]
[null,null,null,null,null,null,"suziria.ua"]
[null,null,null,null,null,null,"0 800 21 82 99"]
[null,null,null,null,null,null,"feedback@suziria.ua"]
[]
["Зображення","Код","Артикул","Номенклатура","Наявність","Категорія","Ціна опт.","Ціна РРЦ","Замовлення, шт.","Сума, грн."]
[null,null,null,null,null,null,null,null,null,{"$f":"SUM(J8:J9)","v":0}]
[null,1111163694,"A14763_ord","Лампа Hagen аквар. для FL FLEX 34л LED Lamp Assembly змінна","Менше 10","Запчастини для акваріумного обладнання",1111.46,1556,0,{"$f":"G8*I8","v":0}]
[null,1111163695,"A14772_ord","Лампа Hagen акваріумна для FL FLEX GER 57л LED Lamp Assembly змінна","Менше 10","Запчастини для акваріумного обладнання",1244.7,1743,0,{"$f":"G9*I9","v":0}]

{"sheet":"Half&Half","index":38,"n_rows":47,"n_cols":10,"rows_kept":47,"cut":false,"hidden":false,"merged":[]}
[]
[null,null,null,null,null,null,"suziria.ua"]
[null,null,null,null,null,null,"0 800 21 82 99"]
[null,null,null,null,null,null,"feedback@suziria.ua"]
[]
["Зображення","Код","Артикул","Номенклатура","Наявність","Категорія","Ціна опт.","Ціна РРЦ","Замовлення, шт.","Сума, грн."]
[null,null,null,null,null,null,null,null,null,{"$f":"SUM(J8:J47)","v":0}]
[null,1111175732,20840,"HalfHalf д/дорослих котів із яловичиною 2 кг","Більше 100","Корм сухий для котів",323.57,404,0,{"$f":"G8*I8","v":0}]
[null,1111175731,20956,"HalfHalf д/дорослих котів із яловичиною 300 г","Більше 100","Корм сухий для котів",59.06,74,0,{"$f":"G9*I9","v":0}]
[null,1111175733,20857,"HalfHalf д/дорослих котів із яловичиною 8 кг","Більше 10","Корм сухий для котів",1175.1199999999999,1469,0,{"$f":"G10*I10","v":0}]
[null,1111175746,20918,"HalfHalf д/дорослих котів качка/соус у формі пауча 100г","Більше 100","Корм вологий для котів",18.52,21.9,0,{"$f":"G11*I11","v":0}]
[null,1111175745,20901,"HalfHalf д/дорослих котів лосось/желе у формі пауча 100г","Більше 100","Корм вологий для котів",18.52,21.9,0,{"$f":"G12*I12","v":0}]
[null,1111175741,20772,"HalfHalf д/дорослих собак вел/порід із яловичиною 12 кг","Більше 10","Корм сухий для собак",1215.25,1458,0,{"$f":"G13*I13","v":0}]
[null,1111175740,20765,"HalfHalf д/дорослих собак вел/порід із яловичиною 2 кг","Більше 10","Корм сухий для собак",286.49,344,0,{"$f":"G14*I14","v":0}]
[null,1111175737,20734,"HalfHalf д/дорослих собак мал/порід із яловичиною 12 кг","Більше 10","Корм сухий для собак",1366.65,1640,0,{"$f":"G15*I15","v":0}]
[null,1111175736,20727,"HalfHalf д/дорослих собак мал/порід із яловичиною 2 кг","Більше 10","Корм сухий для собак",286.49,344,0,{"$f":"G16*I16","v":0}]
[null,1111175739,20758,"HalfHalf д/дорослих собак сер/порід із яловичиною 12 кг","Більше 10","Корм сухий для собак",1215.25,1458,0,{"$f":"G17*I17","v":0}]
[null,1111175738,20741,"HalfHalf д/дорослих собак сер/порід із яловичиною 2 кг","Більше 10","Корм сухий для собак",286.49,344,0,{"$f":"G18*I18","v":0}]
[null,1111175729,20826,"HalfHalf д/котів із чутливим травленям з індичкою 2 кг","Більше 10","Корм сухий для котів",338.98,424,0,{"$f":"G19*I19","v":0}]
[null,1111175728,20949,"HalfHalf д/котів із чутливим травленям з індичкою 300 г","Більше 10","Корм сухий для котів",64.97,81,0,{"$f":"G20*I20","v":0}]
[null,1111175730,20833,"HalfHalf д/котів із чутливим травленям з індичкою 8 кг","Більше 10","Корм сухий для котів",1231.07,1539,0,{"$f":"G21*I21","v":0}]
[null,1111175723,20789,"HalfHalf д/кошенят з яловичиною 2 кг","Більше 100","Корм сухий для котів",315.92,395,0,{"$f":"G22*I22","v":0}]
[null,1111175722,20925,"HalfHalf д/кошенят з яловичиною 300 г","Більше 100","Корм сухий для котів",51.04,64,0,{"$f":"G23*I23","v":0}]
[null,1111175724,20796,"HalfHalf д/кошенят з яловичиною 8 кг","Більше 10","Корм сухий для котів",1066.67,1333,0,{"$f":"G24*I24","v":0}]
[null,1111175742,20864,"HalfHalf д/кошенят індичка/желе у формі пауча 100г","Більше 100","Корм вологий для котів",18.52,21.9,0,{"$f":"G25*I25","v":0}]
[null,1111175726,20802,"HalfHalf д/стерил котів із яловичиною 2 кг","Більше 10","Корм сухий для котів",323.57,404,0,{"$f":"G26*I26","v":0}]
[null,1111175725,20932,"HalfHalf д/стерил котів із яловичиною 300 г","Більше 100","Корм сухий для котів",59.06,74,0,{"$f":"G27*I27","v":0}]
[null,1111175727,20819,"HalfHalf д/стерил котів із яловичиною 8 кг","Більше 10","Корм сухий для котів",1175.6300000000001,1470,0,{"$f":"G28*I28","v":0}]
[null,1111175744,20895,"HalfHalf д/стерил котів індичка/желе у формі пауча 100г","Більше 100","Корм вологий для котів",18.52,21.9,0,{"$f":"G29*I29","v":0}]
[null,1111175743,20888,"HalfHalf д/стерил котів тунець/соус у формі пауча  100г","Більше 100","Корм вологий для котів",18.52,21.9,0,{"$f":"G30*I30","v":0}]
[null,1111175735,20710,"HalfHalf д/цуценят усіх порід  із яловичиною 12 кг","Більше 10","Корм сухий для собак",1296.3800000000001,1556,0,{"$f":"G31*I31","v":0}]
[null,1111175734,20703,"HalfHalf д/цуценят усіх порід  із яловичиною 2 кг","Більше 10","Корм сухий для собак",296.20999999999998,355,0,{"$f":"G32*I32","v":0}]
[null,1111175716,31861,"Ласощі HalfHalf для котів з яловичиною 50 г","Більше 100","Ласощі для котів",49.66,71,0,{"$f":"G33*I33","v":0}]
[null,1111175715,31847,"Ласощі HalfHalf для котів із качкою 50 г","Більше 100","Ласощі для котів",49.66,71,0,{"$f":"G34*I34","v":0}]
[null,1111175717,"31854 Half","Ласощі HalfHalf для котів із куркою 50 г","Більше 100","Ласощі для котів",49.66,71,0,{"$f":"G35*I35","v":0}]
[null,1111175714,31830,"Ласощі HalfHalf для кошенят з індичкою 50 г","Більше 100","Ласощі для котів",49.66,71,0,{"$f":"G36*I36","v":0}]
[null,1111175709,31816,"Ласощі HalfHalf для собак з яловичиною 100 г","Більше 100","Ласощі для собак",77.22,110,0,{"$f":"G37*I37","v":0}]
[null,1111175710,31823,"Ласощі HalfHalf для собак із качкою 100 г","Більше 100","Ласощі для собак",77.22,110,0,{"$f":"G38*I38","v":0}]
[null,1111175708,31793,"Ласощі HalfHalf для собак із куркою 100 г","Більше 100","Ласощі для собак",77.22,110,0,{"$f":"G39*I39","v":0}]
[null,1111175707,31786,"Ласощі HalfHalf для цуценят з яловичиною 100 г","Більше 100","Ласощі для собак",77.22,110,0,{"$f":"G40*I40","v":0}]
[null,1111175721,31885,"Ласощі HalfHalf м_ясні палички для котів з індичкою 5 г","Більше 100","Ласощі для котів",8.19,12,0,{"$f":"G41*I41","v":0}]
[null,1111175720,31892,"Ласощі HalfHalf м_ясні палички для котів з качкою 5 г","Більше 100","Ласощі для котів",8.19,12,0,{"$f":"G42*I42","v":0}]
[null,1111175719,31908,"Ласощі HalfHalf м_ясні палички для котів з лососем 5 г","Більше 100","Ласощі для котів",8.19,12,0,{"$f":"G43*I43","v":0}]
[null,1111175718,31878,"Ласощі HalfHalf м_ясні палички для кошенят з індичкою 5 г","Більше 100","Ласощі для котів",8.19,12,0,{"$f":"G44*I44","v":0}]
[null,1111175713,31779,"Ласощі HalfHalf м_ясні палички для собак з куркою 100 г","Більше 100","Ласощі для собак",39.9,57,0,{"$f":"G45*I45","v":0}]
[null,1111175712,31762,"Ласощі HalfHalf м_ясні палички для собак з яловичиною 100 г","Більше 100","Ласощі для собак",39.9,57,0,{"$f":"G46*I46","v":0}]
[null,1111175711,31755,"Ласощі HalfHalf м_ясні палчки для цуценят з індичкою 100 г","Більше 100","Ласощі для собак",39.9,57,0,{"$f":"G47*I47","v":0}]

{"sheet":"Jaba","index":39,"n_rows":11,"n_cols":10,"rows_kept":11,"cut":false,"hidden":false,"merged":[]}
[]
[null,null,null,null,null,null,"suziria.ua"]
[null,null,null,null,null,null,"0 800 21 82 99"]
[null,null,null,null,null,null,"feedback@suziria.ua"]
[]
["Зображення","Код","Артикул","Номенклатура","Наявність","Категорія","Ціна опт.","Ціна РРЦ","Замовлення, шт.","Сума, грн."]
[null,null,null,null,null,null,null,null,null,{"$f":"SUM(J8:J11)","v":0}]
[null,6105,31117,"Клей акваріумний 310 мл прозорий","Менше 10","Аксесуари для догляду за акваріумом",374.2,524,0,{"$f":"G8*I8","v":0}]
[null,890,31131,"Клей акваріумний 310 мл чорний","Менше 10","Аксесуари для догляду за акваріумом",374.2,524,0,{"$f":"G9*I9","v":0}]
[null,5719,6115,"Клей акваріумний 60 мл прозорий","Менше 10","Аксесуари для догляду за акваріумом",99.6,139,0,{"$f":"G10*I10","v":0}]
[null,5720,"006139_ord","Клей акваріумний 60 мл чорний","Немає в наявності","Аксесуари для догляду за акваріумом",99.6,139,0,{"$f":"G11*I11","v":0}]

{"sheet":"Juwel","index":40,"n_rows":60,"n_cols":10,"rows_kept":60,"cut":false,"hidden":false,"merged":[]}
[]
[null,null,null,null,null,null,"suziria.ua"]
[null,null,null,null,null,null,"0 800 21 82 99"]
[null,null,null,null,null,null,"feedback@suziria.ua"]
[]
["Зображення","Код","Артикул","Номенклатура","Наявність","Категорія","Ціна опт.","Ціна РРЦ","Замовлення, шт.","Сума, грн."]
[null,null,null,null,null,null,null,null,null,{"$f":"SUM(J8:J60)","v":0}]
[null,1111163179,"89020_ordСПЕЦЦЕНА","Автогодівниця Juwel 2.0","Менше 10","Обладнання для акваріума, комплектуючі",2425.5,3278,0,{"$f":"G8*I8","v":0}]
[null,1111132184,"11450/11400СПЕЦЦЕНА_ord","Акваріум LIDO 120 білий","Менше 10","Акваріуми, акваріумні набори, комплектуючі",11242.31,14615,0,{"$f":"G9*I9","v":0}]
[null,1111117078,"11350/11300_ordСПЕЦЦЕНА","Акваріум LIDO 120 чорний","Менше 10","Акваріуми, акваріумні набори, комплектуючі",12538.07,17553,0,{"$f":"G10*I10","v":0}]
[null,1111145262,"25580/25380СПЕЦЦЕНА","Акваріум PRIMO 110 LED чорний","Менше 10","Акваріуми, акваріумні набори, комплектуючі",7754.08,10081,0,{"$f":"G11*I11","v":0}]
[null,1111132174,"1450/1400СПЕЦЦЕНА","Акваріум RIO 125 білий","Менше 10","Акваріуми, акваріумні набори, комплектуючі",11242.31,14615,0,{"$f":"G12*I12","v":0}]
[null,1111113965,"1750/1700СПЕЦЦЕНА_ord","Акваріум RIO 125 коричневий","Немає в наявності","Акваріуми, акваріумні набори, комплектуючі",12538.07,17553,0,{"$f":"G13*I13","v":0}]
[null,1111137687,"88108*****СПЕЦЦЕНА","Вкладиш для фільтра активоване вугілля Carbax L (Standart)","Менше 10","Обладнання для акваріума, комплектуючі",651.27,912,0,{"$f":"G14*I14","v":0}]
[null,7789,"88099СПЕЦЦЕНА_ord","Вкладиш для фільтра вата bioPad L (Standart)","Більше 10","Обладнання для акваріума, комплектуючі",85.47,111,0,{"$f":"G15*I15","v":0}]
[null,4627,"88049СПЕЦЦЕНА","Вкладиш для фільтра вата bioPad M (Compact)","Більше 10","Обладнання для акваріума, комплектуючі",62.79,82,0,{"$f":"G16*I16","v":0}]
[null,6323,"88059СПЕЦЦЕНА","Вкладиш для фільтра вугільна губка bioCarb M (Compact)","Менше 10","Обладнання для акваріума, комплектуючі",210.11,305,0,{"$f":"G17*I17","v":0}]
[null,4628,"88050СПЕЦЦЕНА","Вкладиш для фільтра груба губка bioPlus coarse M (Compact)","Більше 10","Обладнання для акваріума, комплектуючі",120.89,178,0,{"$f":"G18*I18","v":0}]
[null,2907,"88051СПЕЦЦЕНА","Вкладиш для фільтра дрібнопориста губка bioPlus fine M (Compact)","Більше 10","Обладнання для акваріума, комплектуючі",120.75,178,0,{"$f":"G19*I19","v":0}]
[null,1111111549,"88055СПЕЦЦЕНА","Вкладиш для фільтра протинітратний Nitrax M (Compact)","Менше 10","Обладнання для акваріума, комплектуючі",169.05,244,0,{"$f":"G20*I20","v":0}]
[null,1111119971,"89000СПЕЦЦЕНА","Годівниця автоматична EasyFeed","Менше 10","Аксесуари для догляду за акваріумом",1260,1638,0,{"$f":"G21*I21","v":0}]
[null,1111135398,"85756СПЕЦЦЕНА_ord","Головка Juwel Eccoflow 1000 л/г","Менше 10","Обладнання для акваріума, комплектуючі",1640.1,2131,0,{"$f":"G22*I22","v":0}]
[null,1111135806,"85758_ord","Головка Juwel Eccoflow 1500 л/г","Менше 10","Обладнання для акваріума, комплектуючі",2398.41,3358,0,{"$f":"G23*I23","v":0}]
[null,1111135396,"85752СПЕЦЦЕНА_ord","Головка Juwel Eccoflow 500 л/г","Менше 10","Обладнання для акваріума, комплектуючі",1178.0999999999999,1531,0,{"$f":"G24*I24","v":0}]
[null,1111135397,"85754СПЕЦЦЕНА_ord","Головка Juwel Eccoflow 600 л/г","Менше 10","Обладнання для акваріума, комплектуючі",1454.36,2036,0,{"$f":"G25*I25","v":0}]
[null,2212,"93910СПЕЦЦЕНА_ord","Комплект відкидних кришок (100х40 см)","Менше 10","Запчастини для акваріумного обладнання",993.3,1438,0,{"$f":"G26*I26","v":0}]
[null,11977,"90046СПЕЦЦЕНА_ord","Комплект трубок","Менше 10","Аксесуари для догляду за акваріумом",142.88,200,0,{"$f":"G27*I27","v":0}]
[null,1111161649,"86830СПЕЦЦЕНА_ord","Лампа Juwel LED Nature 1047 мм, 6500К","Менше 10","Обладнання для акваріума, комплектуючі",945,1321,0,{"$f":"G28*I28","v":0}]
[null,1111161640,"86805СПЕЦЦЕНА_ord","Лампа для акваріму Juwel LED Day  590 мм, 9000К арт.86805","Менше 10","Обладнання для акваріума, комплектуючі",693,969,0,{"$f":"G29*I29","v":0}]
[null,1111161643,"86810СПЕЦЦЕНА_ord","Лампа для акваріму Juwel LED Day 1047 мм, 9000К арт.86810","Менше 10","Обладнання для акваріума, комплектуючі",1039.5,1453,0,{"$f":"G30*I30","v":0}]
[null,1111161644,"86812СПЕЦЦЕНА_ord","Лампа для акваріму Juwel LED Day 1200 мм, 9000К арт.86812","Менше 10","Обладнання для акваріума, комплектуючі",1155,1615,0,{"$f":"G31*I31","v":0}]
[null,1111161639,"86804СПЕЦЦЕНА_ord","Лампа для акваріму Juwel LED Day 438 мм, 9000К арт.86804","Менше 10","Обладнання для акваріума, комплектуючі",646.79999999999995,906,0,{"$f":"G32*I32","v":0}]
[null,1111161641,"86807СПЕЦЦЕНА_ord","Лампа для акваріму Juwel LED Day 742 мм, 9000К арт.86807","Менше 10","Обладнання для акваріума, комплектуючі",854.7,1199,0,{"$f":"G33*I33","v":0}]
[null,1111161642,"86808СПЕЦЦЕНА_ord","Лампа для акваріму Juwel LED Day 895 мм, 9000К арт.86808","Менше 10","Обладнання для акваріума, комплектуючі",947.1,1329,0,{"$f":"G34*I34","v":0}]
[null,1111161648,"86828СПЕЦЦЕНА_ord","Лампа для акваріму Juwel LED Nature  895 мм, 6500К арт.86828","Менше 10","Обладнання для акваріума, комплектуючі",947.1,1329,0,{"$f":"G35*I35","v":0}]
[null,1111161650,"86832СПЕЦЦЕНА_ord","Лампа для акваріму Juwel LED Nature 1200 мм, 6500К арт.86832","Менше 10","Обладнання для акваріума, комплектуючі",1155,1615,0,{"$f":"G36*I36","v":0}]
[null,1111161645,"86824СПЕЦЦЕНА_ord","Лампа для акваріму Juwel LED Nature 438 мм, 6500К арт.86824","Менше 10","Обладнання для акваріума, комплектуючі",646.79999999999995,906,0,{"$f":"G37*I37","v":0}]
[null,1111161646,"86825СПЕЦЦЕНА_ord","Лампа для акваріму Juwel LED Nature 590 мм, 6500К арт.86825","Менше 10","Обладнання для акваріума, комплектуючі",693,969,0,{"$f":"G38*I38","v":0}]
[null,1111161647,"86827СПЕЦЦЕНА_ord","Лампа для акваріму Juwel LED Nature 742 мм, 6500К арт.86827","Менше 10","Обладнання для акваріума, комплектуючі",854.7,1199,0,{"$f":"G39*I39","v":0}]
[null,1111123470,"93968 СПЕЦЦЕНА_ord","Набір відкидних кришок на VISION 450","Менше 10","Запчастини для акваріумного обладнання",1986.6,2881,0,{"$f":"G40*I40","v":0}]
[null,1111148246,"46510СПЕЦЦЕНА_ord","Освітлювальна балка Multilux LED 100 см","Менше 10","Обладнання для акваріума, комплектуючі",5590.2,7266,0,{"$f":"G41*I41","v":0}]
[null,1111148247,"46512СПЕЦЦЕНА_ord","Освітлювальна балка Multilux LED 120 см","Менше 10","Обладнання для акваріума, комплектуючі",6144.6,7988,0,{"$f":"G42*I42","v":0}]
[null,1111162079,"46515СПЕЦЦЕНА_ord","Освітлювальна балка Multilux LED 150 см","Менше 10","Обладнання для акваріума, комплектуючі",7161,9309,0,{"$f":"G43*I43","v":0}]
[null,1111148242,"46506СПЕЦЦЕНА_ord","Освітлювальна балка Multilux LED 60 см","Менше 10","Обладнання для акваріума, комплектуючі",4389,5708,0,{"$f":"G44*I44","v":0}]
[null,1111148243,"46507СПЕЦЦЕНА_ord","Освітлювальна балка Multilux LED 70 см","Менше 10","Обладнання для акваріума, комплектуючі",4389,5708,0,{"$f":"G45*I45","v":0}]
[null,1111148245,"46509СПЕЦЦЕНА_ord","Освітлювальна балка Multilux LED 92 см","Менше 10","Обладнання для акваріума, комплектуючі",5174.3999999999996,6728,0,{"$f":"G46*I46","v":0}]
[null,1111116189,"50063/55300СПЕЦЦЕНА","Підставка під акваріум Rekord 60/70 чорна, 50063/55300","Менше 10","Акваріуми, акваріумні набори, комплектуючі",3039.43,3951,0,{"$f":"G47*I47","v":0}]
[null,5848,"50103/66300СПЕЦЦЕНА_ord","Підставка під акваріум RIO 125 /PRIMO 110 чорна","Менше 10","Акваріуми, акваріумні набори, комплектуючі",5110.1400000000003,6644,0,{"$f":"G48*I48","v":0}]
[null,1111113968,"50107/66700СПЕЦЦЕНА_ord","Підставка під акваріум RIO 125 коричнева","Немає в наявності","Акваріуми, акваріумні набори, комплектуючі",5506.14,7709,0,{"$f":"G49*I49","v":0}]
[null,1111132177,"50114/67400СПЕЦЦЕНА_ord","Підставка під акваріум RIO 180 біла","Менше 10","Акваріуми, акваріумні набори, комплектуючі",6443.22,8377,0,{"$f":"G50*I50","v":0}]
[null,8975,"50313 /71030_ordСПЕЦЦЕНА","Підставка під акваріум VISION 180 чорна","Менше 10","Акваріуми, акваріумні набори, комплектуючі",7198.63,9359,0,{"$f":"G51*I51","v":0}]
[null,1111111450,"85145СПЕЦЦЕНА","Повітряний дифузор О2 OxyPlus","Менше 10","Аксесуари для догляду за акваріумом",282.24,408,0,{"$f":"G52*I52","v":0}]
[null,1111137491,"85095СПЕЦЦЕНА_ord","Ротор Eccoflow 1000","Менше 10","Запчастини для акваріумного обладнання",531.29999999999995,773,0,{"$f":"G53*I53","v":0}]
[null,1111137492,"85097СПЕЦЦЕНА_ord","Ротор Eccoflow 1500","Менше 10","Запчастини для акваріумного обладнання",554.4,804,0,{"$f":"G54*I54","v":0}]
[null,1111137489,"85091СПЕЦЦЕНА_ord","Ротор Eccoflow 500","Менше 10","Запчастини для акваріумного обладнання",452.76,655,0,{"$f":"G55*I55","v":0}]
[null,1111137490,"85093СПЕЦЦЕНА_ord","Ротор Eccoflow 600","Менше 10","Запчастини для акваріумного обладнання",531.29999999999995,773,0,{"$f":"G56*I56","v":0}]
[null,1111123758,"85703СПЕЦЦЕНА","Термометр електронний Juwel","Менше 10","Аксесуари для догляду за акваріумом",898.13,1257,0,{"$f":"G57*I57","v":0}]
[null,1111132181,"86249СПЕЦЦЕНА","Фіксатор Juwel (клей для фона)","Менше 10","Аксесуари для догляду за акваріумом",166.32,245,0,{"$f":"G58*I58","v":0}]
[null,1111132194,"86262    2 L СПЕЦЦЕНА","Фон Juwel Poster 2 L","Більше 10","Декорації для акваріуму",151.19999999999999,217,0,{"$f":"G59*I59","v":0}]
[null,1111113299,"86260  L СПЕЦЦЕНА","Фон Juwel Poster L 100х50 см двосторонній","Менше 10","Декорації для акваріуму",151.19999999999999,217,0,{"$f":"G60*I60","v":0}]

{"sheet":"Kirby Cat","index":41,"n_rows":10,"n_cols":10,"rows_kept":10,"cut":false,"hidden":false,"merged":[]}
[]
[null,null,null,null,null,null,"suziria.ua"]
[null,null,null,null,null,null,"0 800 21 82 99"]
[null,null,null,null,null,null,"feedback@suziria.ua"]
[]
["Зображення","Код","Артикул","Номенклатура","Наявність","Категорія","Ціна опт.","Ціна РРЦ","Замовлення, шт.","Сума, грн."]
[null,null,null,null,null,null,null,null,null,{"$f":"SUM(J8:J10)","v":0}]
[null,1111168508,101106,"KIRBY CAT корм сухий з куркою та яловичиною для котів, 1,5 кг","Менше 10","Корм сухий для котів",183.99,239,0,{"$f":"G8*I8","v":0}]
[null,1111169258,101109,"KIRBY CAT корм сухий з куркою та яловичиною для котів, 12 кг","Менше 10","Корм сухий для котів",1229.58,1345,0,{"$f":"G9*I9","v":0}]
[null,1111168507,101105,"KIRBY CAT корм сухий з куркою, індичкою та овочами для котів, 1,5 кг","Менше 10","Корм сухий для котів",183.99,239,0,{"$f":"G10*I10","v":0}]

{"sheet":"Kiwi Walker","index":42,"n_rows":19,"n_cols":10,"rows_kept":19,"cut":false,"hidden":false,"merged":[]}
[]
[null,null,null,null,null,null,"suziria.ua"]
[null,null,null,null,null,null,"0 800 21 82 99"]
[null,null,null,null,null,null,"feedback@suziria.ua"]
[]
["Зображення","Код","Артикул","Номенклатура","Наявність","Категорія","Ціна опт.","Ціна РРЦ","Замовлення, шт.","Сума, грн."]
[null,null,null,null,null,null,null,null,null,{"$f":"SUM(J8:J19)","v":0}]
[null,1111171025,"TPR-837","Іграшка Kiwi Walker для собак Восьминіг блакитний 12 см арт.TPR-837","Менше 10","Іграшки для собак",356.78,464,0,{"$f":"G8*I8","v":0}]
[null,1111171024,"TPR-836","Іграшка Kiwi Walker для собак Восьминіг зелений 12 см арт.TPR-836","Менше 10","Іграшки для собак",356.78,464,0,{"$f":"G9*I9","v":0}]
[null,1111171026,"TPR-838","Іграшка Kiwi Walker для собак Восьминіг рожевий 12 см арт.TPR-838","Менше 10","Іграшки для собак",346.02,449,0,{"$f":"G10*I10","v":0}]
[null,1111171022,"TPR-829","Іграшка Kiwi Walker для собак Кільце блакитне 13 см арт.TPR-829","Менше 10","Іграшки для собак",256.88,334,0,{"$f":"G11*I11","v":0}]
[null,1111171021,"TPR-828","Іграшка Kiwi Walker для собак Кільце зелене 13 см арт.TPR-828","Менше 10","Іграшки для собак",256.88,334,0,{"$f":"G12*I12","v":0}]
[null,1111171023,"TPR-830","Іграшка Kiwi Walker для собак Кільце рожеве 13 см арт.TPR-830","Менше 10","Іграшки для собак",256.88,334,0,{"$f":"G13*I13","v":0}]
[null,1111171019,"LTX-013","Іграшка Kiwi Walker для собак Птах ківі блакитний 8.5см арт.LTX-013","Менше 10","Іграшки для собак",194.31,253,0,{"$f":"G14*I14","v":0}]
[null,1111171016,"LTX-002","Іграшка Kiwi Walker для собак Птах ківі зелений 15.5см арт.LTX-002","Менше 10","Іграшки для собак",403.99,525,0,{"$f":"G15*I15","v":0}]
[null,1111171018,"LTX-012","Іграшка Kiwi Walker для собак Птах ківі зелений 8.5см арт.LTX-012","Менше 10","Іграшки для собак",178.86,232,0,{"$f":"G16*I16","v":0}]
[null,1111171015,"LTX-001","Іграшка Kiwi Walker для собак Птах ківі помаранчев 15.5см, арт.LTX-001","Менше 10","Іграшки для собак",403.99,525,0,{"$f":"G17*I17","v":0}]
[null,1111171017,"LTX-011","Іграшка Kiwi Walker для собак Птах ківі помаранчевий 8.5см арт.LTX-011","Менше 10","Іграшки для собак",178.86,232,0,{"$f":"G18*I18","v":0}]
[null,1111171020,"LTX-015","Іграшка Kiwi Walker для собак Птах ківі рожевий 8.5см арт.LTX-015","Менше 10","Іграшки для собак",194.31,253,0,{"$f":"G19*I19","v":0}]

{"sheet":"KW-Zone","index":43,"n_rows":11,"n_cols":10,"rows_kept":11,"cut":false,"hidden":false,"merged":[]}
[]
[null,null,null,null,null,null,"suziria.ua"]
[null,null,null,null,null,null,"0 800 21 82 99"]
[null,null,null,null,null,null,"feedback@suziria.ua"]
[]
["Зображення","Код","Артикул","Номенклатура","Наявність","Категорія","Ціна опт.","Ціна РРЦ","Замовлення, шт.","Сума, грн."]
[null,null,null,null,null,null,null,null,null,{"$f":"SUM(J8:J11)","v":0}]
[null,1111153805,"22-038/KW Zone БЕЛЫЙ*****","Перехідник пласт. прямий нерегульований (50 шт.)","Менше 10","Аксесуари для догляду за акваріумом",326.5,457,0,{"$f":"G8*I8","v":0}]
[null,1111153798,"22-048/KW Zone*****","Присоска для/термометра А-003 (100 шт.)","Менше 10","Аксесуари для догляду за акваріумом",220,308,0,{"$f":"G9*I9","v":0}]
[null,1111135276,"TT-350/Китай*****","Тераріум пластиковий 35х15,5 см","Менше 10","Тераріуми, комплектуючі",290,406,0,{"$f":"G10*I10","v":0}]
[null,1111111817,"27-002/KW Zone*****","Трубка повітряна силіконова біла 100 м","Менше 10","Аксесуари для догляду за акваріумом",754,1055.5,0,{"$f":"G11*I11","v":0}]

{"sheet":"Laguna","index":44,"n_rows":8,"n_cols":10,"rows_kept":8,"cut":false,"hidden":false,"merged":[]}
[]
[null,null,null,null,null,null,"suziria.ua"]
[null,null,null,null,null,null,"0 800 21 82 99"]
[null,null,null,null,null,null,"feedback@suziria.ua"]
[]
["Зображення","Код","Артикул","Номенклатура","Наявність","Категорія","Ціна опт.","Ціна РРЦ","Замовлення, шт.","Сума, грн."]
[null,null,null,null,null,null,null,null,null,{"$f":"SUM(J8:J8)","v":0}]
[null,1111134325,"PT10127*****","Лампа ультрафіолетова 18 Вт для УФ очищувача PT10121","Менше 10","Устаткування для ставка, комплектуючі",400,2585,0,{"$f":"G8*I8","v":0}]

{"sheet":"Living World","index":45,"n_rows":8,"n_cols":10,"rows_kept":8,"cut":false,"hidden":false,"merged":[]}
[]
[null,null,null,null,null,null,"suziria.ua"]
[null,null,null,null,null,null,"0 800 21 82 99"]
[null,null,null,null,null,null,"feedback@suziria.ua"]
[]
["Зображення","Код","Артикул","Номенклатура","Наявність","Категорія","Ціна опт.","Ціна РРЦ","Замовлення, шт.","Сума, грн."]
[null,null,null,null,null,null,null,null,null,{"$f":"SUM(J8:J8)","v":0}]
[null,1111122856,80905,"Жердинка для птахів Pedi-Perch цемент 16 см","Менше 10","Обладнання для кліток",250.1,378,0,{"$f":"G8*I8","v":0}]

{"sheet":"Marina","index":46,"n_rows":24,"n_cols":10,"rows_kept":24,"cut":false,"hidden":false,"merged":[]}
[]
[null,null,null,null,null,null,"suziria.ua"]
[null,null,null,null,null,null,"0 800 21 82 99"]
[null,null,null,null,null,null,"feedback@suziria.ua"]
[]
["Зображення","Код","Артикул","Номенклатура","Наявність","Категорія","Ціна опт.","Ціна РРЦ","Замовлення, шт.","Сума, грн."]
[null,null,null,null,null,null,null,null,null,{"$f":"SUM(J8:J24)","v":0}]
[null,1111112303,"PP802****","AMBULIA 20 см пластикова рослина","Немає в наявності","Декорації для акваріуму",115.53,162,0,{"$f":"G8*I8","v":0}]
[null,1111112268,"PP1202****","AMBULIA 30 см пластикова рослина","Менше 10","Декорації для акваріуму",214.23,300,0,{"$f":"G9*I9","v":0}]
[null,1111112285,"PP503****","ANACHARIS 13 см пластикова рослина","Менше 10","Декорації для акваріуму",74.45,104,0,{"$f":"G10*I10","v":0}]
[null,1111112270,"PP1205****","CARDAMINE 30 см пластикова рослина","Менше 10","Декорації для акваріуму",227.08,318,0,{"$f":"G11*I11","v":0}]
[null,1111111610,"PP511****","HAIRGRASS 13 см пластикова рослина","Менше 10","Декорації для акваріуму",69.66,98,0,{"$f":"G12*I12","v":0}]
[null,1111111611,"PP811****","HAIRGRASS 20 см пластикова рослина","Менше 10","Декорації для акваріуму",97.28,136,0,{"$f":"G13*I13","v":0}]
[null,1111112295,"PP812****","HORNWORT 20 см пластикова рослина","Менше 10","Декорації для акваріуму",124.21,174,0,{"$f":"G14*I14","v":0}]
[null,1111112296,"PP813****","HYGROPHILA 20 см пластикова рослина","Менше 10","Декорації для акваріуму",114.95,161,0,{"$f":"G15*I15","v":0}]
[null,1111112300,"PP1213****","HYGROPHILA 30 см пластикова рослина","Менше 10","Декорації для акваріуму",202.4,283,0,{"$f":"G16*I16","v":0}]
[null,1111122880,"A7510","Кондиціонер води для черепах","Більше 10","Засоби для догляду за тераріумом і його мешканцями",54.33,82,0,{"$f":"G17*I17","v":0}]
[null,1111112529,"11061_ord","Очищувач грунту 25,5 см діаметр 3,5 см","Менше 10","Аксесуари для догляду за акваріумом",612.88,858,0,{"$f":"G18*I18","v":0}]
[null,1111112530,"11062_ord","Очищувач грунту 38 см діаметр 3,5 см","Менше 10","Аксесуари для догляду за акваріумом",782.43,1095,0,{"$f":"G19*I19","v":0}]
[null,1111115115,"11063_ord","Очищувач грунту 60 см діаметр 3,5 см","Менше 10","Аксесуари для догляду за акваріумом",991.93,1389,0,{"$f":"G20*I20","v":0}]
[null,1111113605,"A970_ord","Розпилювач ELITE 10 см","Менше 10","Аксесуари для догляду за акваріумом",48.28,68,0,{"$f":"G21*I21","v":0}]
[null,1111113602,"A972_ord","Розпилювач ELITE 15 см","Менше 10","Аксесуари для догляду за акваріумом",57.43,80,0,{"$f":"G22*I22","v":0}]
[null,1111113603,"A974","Розпилювач ELITE 30,5 см","Менше 10","Аксесуари для догляду за акваріумом",121.93,183,0,{"$f":"G23*I23","v":0}]
[null,1111119802,11088,"Термометр Marina д/акваріумів самоклеючий 13см","Менше 10","Аксесуари для догляду за акваріумом",41.43,58,0,{"$f":"G24*I24","v":0}]

{"sheet":"Migliorcane","index":47,"n_rows":10,"n_cols":10,"rows_kept":10,"cut":false,"hidden":false,"merged":[]}
[]
[null,null,null,null,null,null,"suziria.ua"]
[null,null,null,null,null,null,"0 800 21 82 99"]
[null,null,null,null,null,null,"feedback@suziria.ua"]
[]
["Зображення","Код","Артикул","Номенклатура","Наявність","Категорія","Ціна опт.","Ціна РРЦ","Замовлення, шт.","Сума, грн."]
[null,null,null,null,null,null,null,null,null,{"$f":"SUM(J8:J10)","v":0}]
[null,1111168484,"1125*****","Migliorcane консерви з дичиною для собак, 405 г","Більше 10","Корм вологий для собак",48.18,62.7,0,{"$f":"G8*I8","v":0}]
[null,1111168483,"1110*****","Migliorcane консерви з куркою та індичкою для собак, 405 г","Більше 10","Корм вологий для собак",48.18,62.7,0,{"$f":"G9*I9","v":0}]
[null,1111168485,"1121*****","Migliorcane консерви з яловичиною та овочами для собак, 405 г","Більше 10","Корм вологий для собак",48.18,62.7,0,{"$f":"G10*I10","v":0}]

{"sheet":"Moser","index":48,"n_rows":10,"n_cols":10,"rows_kept":10,"cut":false,"hidden":false,"merged":[]}
[]
[null,null,null,null,null,null,"suziria.ua"]
[null,null,null,null,null,null,"0 800 21 82 99"]
[null,null,null,null,null,null,"feedback@suziria.ua"]
[]
["Зображення","Код","Артикул","Номенклатура","Наявність","Категорія","Ціна опт.","Ціна РРЦ","Замовлення, шт.","Сума, грн."]
[null,null,null,null,null,null,null,null,null,{"$f":"SUM(J8:J10)","v":0}]
[null,1111145791,"1245-7060СПЕЦЦЕНА*****","Motor compl. 230V","Менше 10","Обладнання для грумінг-салонів",1145.8800000000001,1375,0,{"$f":"G8*I8","v":0}]
[null,1111150149,"1250-7050СПЕЦЦЕНА *****","Блок живлення д/машинки MOSER MAX 50 (1250-0050 (052))","Менше 10","Машинки для стрижки, комплектуючі",996.73,1196,0,{"$f":"G9*I9","v":0}]
[null,22620,"1233-7080*****СПЕЦЦЕНА","Набір насадок+масло і щіточка д/догляду за лезами","Менше 10","Машинки для стрижки, комплектуючі",50,315,0,{"$f":"G10*I10","v":0}]

{"sheet":"My Family","index":49,"n_rows":8,"n_cols":10,"rows_kept":8,"cut":false,"hidden":false,"merged":[]}
[]
[null,null,null,null,null,null,"suziria.ua"]
[null,null,null,null,null,null,"0 800 21 82 99"]
[null,null,null,null,null,null,"feedback@suziria.ua"]
[]
["Зображення","Код","Артикул","Номенклатура","Наявність","Категорія","Ціна опт.","Ціна РРЦ","Замовлення, шт.","Сума, грн."]
[null,null,null,null,null,null,null,null,null,{"$f":"SUM(J8:J8)","v":0}]
[null,1111145532,"MFXL02_ordСПЕЦЦЕНА","Кісточка XL, червона","Менше 10","Аксесуари для амуніції (адресовки, брелоки, медальйони, підвіски)",61.31,184,0,{"$f":"G8*I8","v":0}]

{"sheet":"Nechay ZOO","index":50,"n_rows":11,"n_cols":10,"rows_kept":11,"cut":false,"hidden":false,"merged":[]}
[]
[null,null,null,null,null,null,"suziria.ua"]
[null,null,null,null,null,null,"0 800 21 82 99"]
[null,null,null,null,null,null,"feedback@suziria.ua"]
[]
["Зображення","Код","Артикул","Номенклатура","Наявність","Категорія","Ціна опт.","Ціна РРЦ","Замовлення, шт.","Сума, грн."]
[null,null,null,null,null,null,null,null,null,{"$f":"SUM(J8:J11)","v":0}]
[null,1111116119,"Nechay236128","Грунт акваріумн. 10 кг чорний дрібний (2-5 мм)","Менше 10","Ґрунти, субстрати для акваріуму",159.6,236,0,{"$f":"G8*I8","v":0}]
[null,1111116270,"Nechay000080*****","Грунт акваріумн. 10 кг чорний середній (5-10 мм)","Менше 10","Ґрунти, субстрати для акваріуму",159.6,239,0,{"$f":"G9*I9","v":0}]
[null,1111118222,"Nechay009315","Грунт акваріумн. 2 кг рожевий (кварцит) середній","Менше 10","Ґрунти, субстрати для акваріуму",44.5,66,0,{"$f":"G10*I10","v":0}]
[null,1111116997,"Nechay009339","Грунт акваріумн. 2 кг чорний дрібний (2-5 мм)","Менше 10","Ґрунти, субстрати для акваріуму",44.5,66,0,{"$f":"G11*I11","v":0}]

{"sheet":"Pet Fashion","index":51,"n_rows":417,"n_cols":10,"rows_kept":417,"cut":false,"hidden":false,"merged":[[136,0,143,0],[315,0,317,0],[324,0,325,0],[9,0,11,0],[24,0,27,0],[29,0,31,0],[35,0,37,0],[77,0,80,0]]}
[]
[null,null,null,null,null,null,"suziria.ua"]
[null,null,null,null,null,null,"0 800 21 82 99"]
[null,null,null,null,null,null,"feedback@suziria.ua"]
[]
["Зображення","Код","Артикул","Номенклатура","Наявність","Категорія","Ціна опт.","Ціна РРЦ","Замовлення, шт.","Сума, грн."]
[null,null,null,null,null,null,null,null,null,{"$f":"SUM(J8:J417)","v":0}]
[null,1111175249,"PR243217","Аксесуар  DEER  M-L","Менше 10","Одяг",216.97,292.91000000000003,0,{"$f":"G8*I8","v":0}]
[null,1111163432,"PR242113*****","Бандана  WEEKEND  M-XL, блакитна","Менше 10","Одяг",77,100,0,{"$f":"G9*I9","v":0}]
[null,1111163434,"PR242111*****","Бандана  WEEKEND , M-XL, помаранчева","Більше 10","Одяг",77,100,0,{"$f":"G10*I10","v":0}]
[null,1111163436,"PR242109*****","Бандана  WEEKEND , M-XL, принт","Менше 10","Одяг",92,119,0,{"$f":"G11*I11","v":0}]
[null,1111163435,"PR242110*****","Бандана  WEEKEND , XS-S, помаранчева","Менше 10","Одяг",67,88,0,{"$f":"G12*I12","v":0}]
[null,1111163437,"PR242108*****","Бандана  WEEKEND , XS-S, принт","Менше 10","Одяг",70,92,0,{"$f":"G13*I13","v":0}]
[null,1111171989,"PR243013*****","Бомбер Grace L","Менше 10","Одяг",683.48,922.7,0,{"$f":"G14*I14","v":0}]
[null,1111171986,"PR243016*****","Бомбер Grace S","Більше 10","Одяг",562.5,759.38,0,{"$f":"G15*I15","v":0}]
[null,1111171988,"PR243014*****","Бомбер Grace XS","Більше 10","Одяг",512.59,692,0,{"$f":"G16*I16","v":0}]
[null,1111171987,"PR243015*****","Бомбер Grace XS-2","Більше 10","Одяг",546.6,737.91,0,{"$f":"G17*I17","v":0}]
[null,1111171985,"PR243017*****","Бомбер Grace М","Більше 10","Одяг",608.27,821.16,0,{"$f":"G18*I18","v":0}]
[null,1111171983,"PR243019*****","Бомбер Spike L","Більше 10","Одяг",683.48,922.7,0,{"$f":"G19*I19","v":0}]
[null,1111171980,"PR243022*****","Бомбер Spike S","Більше 10","Одяг",562.5,759.38,0,{"$f":"G20*I20","v":0}]
[null,1111171984,"PR243018*****","Бомбер Spike XL","Більше 10","Одяг",714.83,965.02,0,{"$f":"G21*I21","v":0}]
[null,1111171982,"PR243020*****","Бомбер Spike XS","Більше 10","Одяг",512.59,692,0,{"$f":"G22*I22","v":0}]
[null,1111171981,"PR243021*****","Бомбер Spike XS-2","Більше 10","Одяг",546.6,737.91,0,{"$f":"G23*I23","v":0}]
[null,1111171979,"PR243023*****","Бомбер Spike М","Більше 10","Одяг",608.27,821.16,0,{"$f":"G24*I24","v":0}]
[null,1111162858,"PR242019*****","Борцовка  COOL , M","Більше 10","Одяг",238,321,0,{"$f":"G25*I25","v":0}]
[null,1111162859,"PR242018*****","Борцовка  COOL , S","Менше 10","Одяг",221,299,0,{"$f":"G26*I26","v":0}]
[null,1111162861,"PR242016*****","Борцовка  COOL , XS","Більше 10","Одяг",195,263,0,{"$f":"G27*I27","v":0}]
[null,1111162860,"PR242017*****","Борцовка  COOL , XS-2","Менше 10","Одяг",208,281,0,{"$f":"G28*I28","v":0}]
[null,1111162844,"PR242025*****","Борцовка  FBI , M","Менше 10","Одяг",235,317,0,{"$f":"G29*I29","v":0}]
[null,1111165974,"PR242364*****","Борцовка  LITTLE HELPER   S","Більше 10","Одяг",226,305,0,{"$f":"G30*I30","v":0}]
[null,1111165975,"PR242363*****","Борцовка  LITTLE HELPER  XS-2","Більше 10","Одяг",222,299,0,{"$f":"G31*I31","v":0}]
[null,1111165973,"PR242365*****","Борцовка  LITTLE HELPER  М","Менше 10","Одяг",245,331,0,{"$f":"G32*I32","v":0}]
[null,1111166495,"PR242474*****","Борцовка  SEA SAND     XS","Менше 10","Одяг",204,286,0,{"$f":"G33*I33","v":0}]
[null,1111166500,"PR242469*****","Борцовка  SUN PLEASE    S2","Менше 10","Одяг",220,308,0,{"$f":"G34*I34","v":0}]
[null,1111166498,"PR242472*****","Борцовка  SUN PLEASE    М2","Менше 10","Одяг",244,341,0,{"$f":"G35*I35","v":0}]
[null,1111154030,"РИО S*****","Борцовка  Ріо  S","Більше 10","Одяг",126,170,0,{"$f":"G36*I36","v":0}]
[null,1111154032,"РИО  XS*****","Борцовка  Ріо  XS","Менше 10","Одяг",105,141,0,{"$f":"G37*I37","v":0}]
[null,1111154033,"РИО XXS*****","Борцовка  Ріо  XXS","Більше 10","Одяг",95,128,0,{"$f":"G38*I38","v":0}]
[null,1111162179,"PR241949","Будинок-лежак  DREAM  розмір 44 * 28 * 45 см","Менше 10","Лежаки",468,631,0,{"$f":"G39*I39","v":0}]
[null,1111160981,"PR241785","Будинок-лежак TUTTI  (36*36*34)","Більше 10","Лежаки",828.37,1118.3,0,{"$f":"G40*I40","v":0}]
[null,1111167822,"PR242718*****","Вітровка Fresh M бежева","Менше 10","Одяг",647,873,0,{"$f":"G41*I41","v":0}]
[null,1111167895,"PR242721*****","Вітровка Fresh XS бежева","Більше 10","Одяг",539,728,0,{"$f":"G42*I42","v":0}]
[null,1111167824,"PR242720*****","Вітровка Fresh XS2 бежева","Менше 10","Одяг",561,757,0,{"$f":"G43*I43","v":0}]
[null,1111166197,"PR242400*****","Дощовик  FALL  2Х","Менше 10","Одяг",831,1122,0,{"$f":"G44*I44","v":0}]
[null,1111166196,"PR242399*****","Дощовик  FALL  5ХL","Менше 10","Одяг",1063,1435,0,{"$f":"G45*I45","v":0}]
[null,1111171808,"PR242988*****","Дощовик ARIEL M","Більше 10","Одяг",788.97,1065.1199999999999,0,{"$f":"G46*I46","v":0}]
[null,1111174482,"PR243155*****","Дощовик ELSA дівчинка XS-2","Більше 10","Одяг",661.9,893.57,0,{"$f":"G47*I47","v":0}]
[null,1111174486,"PR243151*****","Дощовик JIMI XS-2","Більше 10","Одяг",630.55999999999995,851.26,0,{"$f":"G48*I48","v":0}]
[null,1111179022,"PR243452*****","Дощовик Semmy M","Більше 10","Одяг",683,922,0,{"$f":"G49*I49","v":0}]
[null,1111179023,"PR243451*****","Дощовик Semmy S","Менше 10","Одяг",612,826,0,{"$f":"G50*I50","v":0}]
[null,1111179025,"PR243449*****","Дощовик Semmy XS","Більше 10","Одяг",563,760,0,{"$f":"G51*I51","v":0}]
[null,1111179024,"PR243450*****","Дощовик Semmy XS2","Менше 10","Одяг",586,791,0,{"$f":"G52*I52","v":0}]
[null,1111171802,"PR242994*****","Дощовик SILVER M","Більше 10","Одяг",616.77,832.64,0,{"$f":"G53*I53","v":0}]
[null,1111171803,"PR242993*****","Дощовик SILVER S","Більше 10","Одяг",554.64,748.77,0,{"$f":"G54*I54","v":0}]
[null,1111171806,"PR242990*****","Дощовик SILVER XS","Більше 10","Одяг",471.6,636.66,0,{"$f":"G55*I55","v":0}]
[null,1111171805,"PR242991*****","Дощовик SILVER XS-2","Більше 10","Одяг",536.41999999999996,724.17,0,{"$f":"G56*I56","v":0}]
[null,1111171993,"PR243009*****","Жакет Harry XS","Більше 10","Одяг",393.38,531.05999999999995,0,{"$f":"G57*I57","v":0}]
[null,1111171992,"PR243010*****","Жакет Harry XS-2","Більше 10","Одяг",411.76,555.88,0,{"$f":"G58*I58","v":0}]
[null,1111171990,"PR243012*****","Жакет Harry М","Немає в наявності","Одяг",462.48,624.34,0,{"$f":"G59*I59","v":0}]
[null,1111166188,"PR242394*****","Жилет  BIG BOSS  красный  2XL","Менше 10","Одяг",705.9,952.97,0,{"$f":"G60*I60","v":0}]
[null,1111166189,"PR242393*****","Жилет  BIG BOSS  красный  3XL","Менше 10","Одяг",764.85,1032.55,0,{"$f":"G61*I61","v":0}]
[null,1111166190,"PR242392*****","Жилет  BIG BOSS  красный  4XL","Більше 10","Одяг",817.66,1103.8399999999999,0,{"$f":"G62*I62","v":0}]
[null,1111166191,"PR242391*****","Жилет  BIG BOSS  красный  5XL","Менше 10","Одяг",881.04,1189.4000000000001,0,{"$f":"G63*I63","v":0}]
[null,1111166192,"PR242398","Жилет  BIG BOSS  черный  2XL","Менше 10","Одяг",705.9,952.97,0,{"$f":"G64*I64","v":0}]
[null,1111166193,"PR242397","Жилет  BIG BOSS  черный  3XL","Більше 10","Одяг",764.85,1032.55,0,{"$f":"G65*I65","v":0}]
[null,1111166194,"PR242396","Жилет  BIG BOSS  черный  4XL","Більше 10","Одяг",817.66,1103.8399999999999,0,{"$f":"G66*I66","v":0}]
[null,1111166195,"PR242395","Жилет  BIG BOSS  черный  5XL","Більше 10","Одяг",881.04,1189.4000000000001,0,{"$f":"G67*I67","v":0}]
[null,1111166446,"PR242431","Жилет  E.Vest  помаранчевий  М","Менше 10","Одяг",622.62,840.53,0,{"$f":"G68*I68","v":0}]
[null,1111162550,"FLEECY сер-кр S","Жилет  FLEECY  сіро / червоний S","Більше 10","Одяг",364.8,492.49,0,{"$f":"G69*I69","v":0}]
[null,1111162549,"FLEECY сер-кр M","Жилет  FLEECY  сіро / червоний М","Більше 10","Одяг",413.41,558.11,0,{"$f":"G70*I70","v":0}]
[null,1111162551,"FLEECY сер-кр XS2","Жилет  FLEECY  сіро / червоний ХS2","Менше 10","Одяг",357.79,483.01,0,{"$f":"G71*I71","v":0}]
[null,1111162546,"FLEECY кр-сер S*****","Жилет  FLEECY  червоно / сірий S","Більше 10","Одяг",364.8,492.49,0,{"$f":"G72*I72","v":0}]
[null,1111162545,"FLEECY кр-сер M","Жилет  FLEECY  червоно / сірий М","Більше 10","Одяг",413.41,558.11,0,{"$f":"G73*I73","v":0}]
[null,1111162548,"FLEECY кр-сер  XS","Жилет  FLEECY  червоно / сірий ХS","Більше 10","Одяг",347.4,468.99,0,{"$f":"G74*I74","v":0}]
[null,1111162547,"FLEECY кр-сер XS2","Жилет  FLEECY  червоно / сірий ХS2","Більше 10","Одяг",357.79,483.01,0,{"$f":"G75*I75","v":0}]
[null,1111175236,"PR243230*****","Жилет  LUKA  XS","Менше 10","Одяг",545.26,736.1,0,{"$f":"G76*I76","v":0}]
[null,1111175237,"PR243229*****","Жилет  LUKA  XХS","Менше 10","Одяг",528.01,712.81,0,{"$f":"G77*I77","v":0}]
[null,1111160436,"Yellow vest L*****","Жилет  Yellow vest  L","Більше 10","Одяг",425.67,575,0,{"$f":"G78*I78","v":0}]
[null,1111160437,"Yellow vest M*****","Жилет  Yellow vest  M","Більше 10","Одяг",420.09,567,0,{"$f":"G79*I79","v":0}]
[null,1111160438,"Yellow vest S","Жилет  Yellow vest  S","Менше 10","Одяг",361.7,488,0,{"$f":"G80*I80","v":0}]
[null,1111160439,"Yellow vest XS","Жилет  Yellow vest  XS","Більше 10","Одяг",356.43,481,0,{"$f":"G81*I81","v":0}]
[null,1111179016,"PR243458*****","Жилет Kris L","Менше 10","Одяг",725,979,0,{"$f":"G82*I82","v":0}]
[null,1111166460,"PR242417","Жилет PF Active E.Vest для собак морська хвиля L","Менше 10","Одяг",671.48,906.5,0,{"$f":"G83*I83","v":0}]
[null,1111166464,"PR242413","Жилет PF Active E.Vest для собак морська хвиля S","Менше 10","Одяг",466,782.47,0,{"$f":"G84*I84","v":0}]
[null,1111166463,"PR242414","Жилет PF Active E.Vest для собак морська хвиля SМ","Менше 10","Одяг",599.96,809.95,0,{"$f":"G85*I85","v":0}]
[null,1111166459,"PR242418","Жилет PF Active E.Vest для собак морська хвиля XL","Менше 10","Одяг",746.19,1007.36,0,{"$f":"G86*I86","v":0}]
[null,1111166466,"PR242411","Жилет PF Active E.Vest для собак морська хвиля XS","Більше 10","Одяг",535.08000000000004,722.36,0,{"$f":"G87*I87","v":0}]
[null,1111166465,"PR242412","Жилет PF Active E.Vest для собак морська хвиля XS-2","Менше 10","Одяг",554.83000000000004,749.02,0,{"$f":"G88*I88","v":0}]
[null,1111166462,"PR242415","Жилет PF Active E.Vest для собак морська хвиля М","Більше 10","Одяг",622.62,840.53,0,{"$f":"G89*I89","v":0}]
[null,1111166461,"PR242416","Жилет PF Active E.Vest для собак морська хвиля М2","Більше 10","Одяг",700.28,945.38,0,{"$f":"G90*I90","v":0}]
[null,1111166444,"PR242433","Жилет PF Active E.Vest для собак оранжевий L","Менше 10","Одяг",671.48,906.5,0,{"$f":"G91*I91","v":0}]
[null,1111166448,"PR242429","Жилет PF Active E.Vest для собак оранжевий S","Менше 10","Одяг",579.61,782.47,0,{"$f":"G92*I92","v":0}]
[null,1111166447,"PR242430","Жилет PF Active E.Vest для собак оранжевий SМ","Менше 10","Одяг",599.96,809.95,0,{"$f":"G93*I93","v":0}]
[null,1111166443,"PR242434","Жилет PF Active E.Vest для собак оранжевий XL","Більше 10","Одяг",746.19,1007.36,0,{"$f":"G94*I94","v":0}]
[null,1111166450,"PR242427","Жилет PF Active E.Vest для собак оранжевий XS","Більше 10","Одяг",535.08000000000004,722.36,0,{"$f":"G95*I95","v":0}]
[null,1111166449,"PR242428","Жилет PF Active E.Vest для собак оранжевий XS-2","Більше 10","Одяг",554.83000000000004,749.02,0,{"$f":"G96*I96","v":0}]
[null,1111166445,"PR242432","Жилет PF Active E.Vest для собак оранжевий М2","Менше 10","Одяг",700.28,945.38,0,{"$f":"G97*I97","v":0}]
[null,1111166436,"PR242441","Жилет PF Active E.Vest для собак сірий L","Більше 10","Одяг",671.48,906.5,0,{"$f":"G98*I98","v":0}]
[null,1111166440,"PR242437","Жилет PF Active E.Vest для собак сірий S","Більше 10","Одяг",579.61,782.47,0,{"$f":"G99*I99","v":0}]
[null,1111166439,"PR242438","Жилет PF Active E.Vest для собак сірий SМ","Більше 10","Одяг",599.96,809.95,0,{"$f":"G100*I100","v":0}]
[null,1111166435,"PR242442","Жилет PF Active E.Vest для собак сірий XL","Більше 10","Одяг",746.19,1007.36,0,{"$f":"G101*I101","v":0}]
[null,1111166442,"PR242435","Жилет PF Active E.Vest для собак сірий XS","Менше 10","Одяг",535.08000000000004,722.36,0,{"$f":"G102*I102","v":0}]
[null,1111166441,"PR242436","Жилет PF Active E.Vest для собак сірий XS-2","Менше 10","Одяг",554.83000000000004,749.02,0,{"$f":"G103*I103","v":0}]
[null,1111166438,"PR242439","Жилет PF Active E.Vest для собак сірий М","Менше 10","Одяг",622.62,840.53,0,{"$f":"G104*I104","v":0}]
[null,1111166437,"PR242440","Жилет PF Active E.Vest для собак сірий М2","Менше 10","Одяг",700.28,945.38,0,{"$f":"G105*I105","v":0}]
[null,1111166452,"PR242425","Жилет PF Active E.Vest для собак фіолетовий L","Менше 10","Одяг",671.48,906.5,0,{"$f":"G106*I106","v":0}]
[null,1111166456,"PR242421","Жилет PF Active E.Vest для собак фіолетовий S","Менше 10","Одяг",579.61,782.47,0,{"$f":"G107*I107","v":0}]
[null,1111166455,"PR242422","Жилет PF Active E.Vest для собак фіолетовий SМ","Більше 10","Одяг",599.96,809.95,0,{"$f":"G108*I108","v":0}]
[null,1111166451,"PR242426","Жилет PF Active E.Vest для собак фіолетовий XL","Менше 10","Одяг",746.19,1007.36,0,{"$f":"G109*I109","v":0}]
[null,1111166458,"PR242419","Жилет PF Active E.Vest для собак фіолетовий XS","Більше 10","Одяг",535.08000000000004,722.36,0,{"$f":"G110*I110","v":0}]
[null,1111166457,"PR242420","Жилет PF Active E.Vest для собак фіолетовий XS-2","Більше 10","Одяг",554.83000000000004,749.02,0,{"$f":"G111*I111","v":0}]
[null,1111166454,"PR242423","Жилет PF Active E.Vest для собак фіолетовий М","Більше 10","Одяг",622.62,840.53,0,{"$f":"G112*I112","v":0}]
[null,1111166453,"PR242424","Жилет PF Active E.Vest для собак фіолетовий М2","Більше 10","Одяг",700.28,945.38,0,{"$f":"G113*I113","v":0}]
[null,1111166428,"PR242449","Жилет PF Active E.Vest для собак червоний L","Більше 10","Одяг",671.48,906.5,0,{"$f":"G114*I114","v":0}]
[null,1111166432,"PR242445","Жилет PF Active E.Vest для собак червоний S","Менше 10","Одяг",579.61,782.47,0,{"$f":"G115*I115","v":0}]
[null,1111166431,"PR242446","Жилет PF Active E.Vest для собак червоний SМ","Менше 10","Одяг",599.96,809.95,0,{"$f":"G116*I116","v":0}]
[null,1111166427,"PR242450","Жилет PF Active E.Vest для собак червоний XL","Більше 10","Одяг",746.19,1007.36,0,{"$f":"G117*I117","v":0}]
[null,1111166434,"PR242443","Жилет PF Active E.Vest для собак червоний XS","Більше 10","Одяг",535.08000000000004,722.36,0,{"$f":"G118*I118","v":0}]
[null,1111166433,"PR242444","Жилет PF Active E.Vest для собак червоний XS-2","Більше 10","Одяг",554.83000000000004,749.02,0,{"$f":"G119*I119","v":0}]
[null,1111166430,"PR242447","Жилет PF Active E.Vest для собак червоний М","Менше 10","Одяг",622.62,840.53,0,{"$f":"G120*I120","v":0}]
[null,1111166429,"PR242448","Жилет PF Active E.Vest для собак червоний М2","Менше 10","Одяг",700.28,945.38,0,{"$f":"G121*I121","v":0}]
[null,1111160440,"Yellow vest L жф*****","Жилет+фліс  Warm Yellow vest   L","Менше 10","Одяг",629.6,850,0,{"$f":"G122*I122","v":0}]
[null,1111173408,"PR243085","Іграшка   Коник","Більше 10","Іграшки для котів",112.46,152,0,{"$f":"G123*I123","v":0}]
[null,1111173410,"PR243083","Іграшка  Кажан","Більше 10","Іграшки для котів",118.99,161,0,{"$f":"G124*I124","v":0}]
[null,1111173412,"PR243081","Іграшка  Кісточка з канатом","Більше 10","Іграшки для котів",74.319999999999993,100,0,{"$f":"G125*I125","v":0}]
[null,1111173413,"PR243080","Іграшка  Миша","Більше 10","Іграшки для котів",67.45,91,0,{"$f":"G126*I126","v":0}]
[null,1111173409,"PR243084","Іграшка  Рибка","Більше 10","Іграшки для котів",86.34,117,0,{"$f":"G127*I127","v":0}]
[null,1111173411,"PR243082","Іграшка  Саламандра","Більше 10","Іграшки для котів",104.16,141,0,{"$f":"G128*I128","v":0}]
[null,1111179010,"PR243464*****","Кардиган Denis S жовтий","Більше 10","Одяг",395,534,0,{"$f":"G129*I129","v":0}]
[null,1111179013,"PR243461*****","Кардиган Denis S м’ятний","Більше 10","Одяг",397,536,0,{"$f":"G130*I130","v":0}]
[null,1111179012,"PR243462*****","Кардиган Denis XS жовтий","Більше 10","Одяг",354,478,0,{"$f":"G131*I131","v":0}]
[null,1111179015,"PR243459*****","Кардиган Denis XS м’ятний","Більше 10","Одяг",351,474,0,{"$f":"G132*I132","v":0}]
[null,1111179011,"PR243463*****","Кардиган Denis XS2 жовтий","Менше 10","Одяг",382,516,0,{"$f":"G133*I133","v":0}]
[null,1111179014,"PR243460*****","Кардиган Denis XS2 м’ятний","Більше 10","Одяг",381,515,0,{"$f":"G134*I134","v":0}]
[null,1111165268,"PR242328*****","Комбінезон  AMAZE  M","Більше 10","Одяг",694.64,937.76,0,{"$f":"G135*I135","v":0}]
[null,1111165102,"PR242244*****","Комбінезон  PUZZLE   XS","Більше 10","Одяг",658.59,889.09,0,{"$f":"G136*I136","v":0}]
[null,1111159502,"PR241631","Комбінезон  RAIN   2XL","Менше 10","Одяг",669.62,904,0,{"$f":"G137*I137","v":0}]
[null,1111159503,"PR241630*****","Комбінезон  RAIN   3XL","Менше 10","Одяг",705.42,952,0,{"$f":"G138*I138","v":0}]
[null,1111159504,"PR241629*****","Комбінезон  RAIN   4XL","Менше 10","Одяг",734.9,992,0,{"$f":"G139*I139","v":0}]
[null,1111159500,"PR241633*****","Комбінезон  RAIN   M такса","Менше 10","Одяг",459.05,620,0,{"$f":"G140*I140","v":0}]
[null,1111159492,"PR241642","Комбінезон  RAIN   S","Більше 10","Одяг",370.61,500,0,{"$f":"G141*I141","v":0}]
[null,1111159499,"PR241634*****","Комбінезон  RAIN   S-2 такса","Менше 10","Одяг",459.05,620,0,{"$f":"G142*I142","v":0}]
[null,1111159491,"PR241643","Комбінезон  RAIN   XS","Більше 10","Одяг",334.81,452.5,0,{"$f":"G143*I143","v":0}]
[null,1111159498,"PR241635*****","Комбінезон  RAIN  S такса","Менше 10","Одяг",431.67,582.5,0,{"$f":"G144*I144","v":0}]
[null,1111167341,"PR242618","Комбінезон COLD 2XL  червоний","Більше 10","Одяг",1037.8599999999999,1401.11,0,{"$f":"G145*I145","v":0}]
[null,1111167323,"PR242600","Комбінезон COLD 2XL бірюза","Менше 10","Одяг",1037.8599999999999,1401.11,0,{"$f":"G146*I146","v":0}]
[null,1111167359,"PR242636","Комбінезон COLD 2XL сірий","Менше 10","Одяг",1037.8599999999999,1401.11,0,{"$f":"G147*I147","v":0}]
[null,1111167342,"PR242619","Комбінезон COLD 3XL  червоний","Менше 10","Одяг",1132.8,1529.28,0,{"$f":"G148*I148","v":0}]
[null,1111167324,"PR242601","Комбінезон COLD 3XL бірюза","Більше 10","Одяг",1132.8,1529.28,0,{"$f":"G149*I149","v":0}]
[null,1111167360,"PR242637","Комбінезон COLD 3XL сірий","Більше 10","Одяг",1132.8,1529.28,0,{"$f":"G150*I150","v":0}]
[null,1111167343,"PR242620","Комбінезон COLD 4XL  червоний","Більше 10","Одяг",1178.0899999999999,1590.42,0,{"$f":"G151*I151","v":0}]
[null,1111167325,"PR242602","Комбінезон COLD 4XL бірюза","Більше 10","Одяг",1178.0899999999999,1590.42,0,{"$f":"G152*I152","v":0}]
[null,1111167361,"PR242638","Комбінезон COLD 4XL сірий","Менше 10","Одяг",1178.0899999999999,1590.42,0,{"$f":"G153*I153","v":0}]
[null,1111167344,"PR242621","Комбінезон COLD 5XL  червоний","Більше 10","Одяг",1290.5,1742.17,0,{"$f":"G154*I154","v":0}]
[null,1111167326,"PR242603","Комбінезон COLD 5XL бірюза","Менше 10","Одяг",1290.5,1742.17,0,{"$f":"G155*I155","v":0}]
[null,1111167362,"PR242639","Комбінезон COLD 5XL сірий","Менше 10","Одяг",1290.5,1742.17,0,{"$f":"G156*I156","v":0}]
[null,1111167345,"PR242622","Комбінезон COLD 6XL  червоний","Більше 10","Одяг",1316.81,1777.69,0,{"$f":"G157*I157","v":0}]
[null,1111167327,"PR242604","Комбінезон COLD 6XL бірюза","Менше 10","Одяг",1316.81,1777.69,0,{"$f":"G158*I158","v":0}]
[null,1111167363,"PR242640","Комбінезон COLD 6XL сірий","Більше 10","Одяг",1316.81,1777.69,0,{"$f":"G159*I159","v":0}]
[null,1111167346,"PR242623","Комбінезон COLD 7XL  червоний","Більше 10","Одяг",1456.21,1965.88,0,{"$f":"G160*I160","v":0}]
[null,1111167328,"PR242605","Комбінезон COLD 7XL бірюза","Менше 10","Одяг",1456.21,1965.88,0,{"$f":"G161*I161","v":0}]
[null,1111167364,"PR242641","Комбінезон COLD 7XL сірий","Більше 10","Одяг",1456.21,1965.88,0,{"$f":"G162*I162","v":0}]
[null,1111167317,"PR242535","Комбінезон COLD L бірюза","Більше 10","Одяг",807.32,1089.8800000000001,0,{"$f":"G163*I163","v":0}]
[null,1111167353,"PR242630","Комбінезон COLD L сірий","Менше 10","Одяг",807.32,1089.8800000000001,0,{"$f":"G164*I164","v":0}]
[null,1111167335,"PR242612","Комбінезон COLD L червоний","Менше 10","Одяг",807.32,1089.8800000000001,0,{"$f":"G165*I165","v":0}]
[null,1111167334,"PR242611","Комбінезон COLD M  червоний","Більше 10","Одяг",699.58,944.43,0,{"$f":"G166*I166","v":0}]
[null,1111167316,"PR242534","Комбінезон COLD M бірюза","Менше 10","Одяг",699.58,944.43,0,{"$f":"G167*I167","v":0}]
[null,1111167352,"PR242629","Комбінезон COLD M сірий","Більше 10","Одяг",699.58,944.43,0,{"$f":"G168*I168","v":0}]
[null,1111167339,"PR242616","Комбінезон COLD M такса  червоний","Більше 10","Одяг",748.32,1010.23,0,{"$f":"G169*I169","v":0}]
[null,1111167321,"PR242539","Комбінезон COLD M такса бірюза","Більше 10","Одяг",748.32,1010.23,0,{"$f":"G170*I170","v":0}]
[null,1111167357,"PR242634","Комбінезон COLD M такса сірий","Менше 10","Одяг",748.32,1010.23,0,{"$f":"G171*I171","v":0}]
[null,1111167332,"PR242609","Комбінезон COLD M2  червоний","Більше 10","Одяг",743.53,1003.76,0,{"$f":"G172*I172","v":0}]
[null,1111167314,"PR242532","Комбінезон COLD M2 бірюза","Менше 10","Одяг",743.53,1003.76,0,{"$f":"G173*I173","v":0}]
[null,1111167350,"PR242627","Комбінезон COLD M2 сірий","Менше 10","Одяг",743.53,1003.76,0,{"$f":"G174*I174","v":0}]
[null,1111167333,"PR242610","Комбінезон COLD ML  червоний","Більше 10","Одяг",718.43,969.88,0,{"$f":"G175*I175","v":0}]
[null,1111167315,"PR242533","Комбінезон COLD ML бірюза","Більше 10","Одяг",718.43,969.88,0,{"$f":"G176*I176","v":0}]
[null,1111167351,"PR242628","Комбінезон COLD ML сірий","Менше 10","Одяг",718.43,969.88,0,{"$f":"G177*I177","v":0}]
[null,1111167312,"PR242530","Комбінезон COLD S бірюза","Більше 10","Одяг",586.83000000000004,792.22,0,{"$f":"G178*I178","v":0}]
[null,1111167348,"PR242625","Комбінезон COLD S сірий","Менше 10","Одяг",586.83000000000004,792.22,0,{"$f":"G179*I179","v":0}]
[null,1111167337,"PR242614","Комбінезон COLD S такса  червоний","Більше 10","Одяг",645.71,871.7,0,{"$f":"G180*I180","v":0}]
[null,1111167319,"PR242537","Комбінезон COLD S такса бірюза","Менше 10","Одяг",645.71,871.7,0,{"$f":"G181*I181","v":0}]
[null,1111167355,"PR242632","Комбінезон COLD S такса сірий","Більше 10","Одяг",645.71,871.7,0,{"$f":"G182*I182","v":0}]
[null,1111167330,"PR242607","Комбінезон COLD S червоний","Менше 10","Одяг",586.83000000000004,792.22,0,{"$f":"G183*I183","v":0}]
[null,1111167338,"PR242615","Комбінезон COLD S2 такса  червоний","Менше 10","Одяг",717.47,968.59,0,{"$f":"G184*I184","v":0}]
[null,1111167320,"PR242538","Комбінезон COLD S2 такса бірюза","Менше 10","Одяг",717.47,968.59,0,{"$f":"G185*I185","v":0}]
[null,1111167356,"PR242633","Комбінезон COLD S2 такса сірий","Менше 10","Одяг",717.47,968.59,0,{"$f":"G186*I186","v":0}]
[null,1111167331,"PR242608","Комбінезон COLD SM  червоний","Більше 10","Одяг",642.16,866.91,0,{"$f":"G187*I187","v":0}]
[null,1111167313,"PR242531","Комбінезон COLD SM бірюза","Більше 10","Одяг",642.16,866.91,0,{"$f":"G188*I188","v":0}]
[null,1111167349,"PR242626","Комбінезон COLD SM сірий","Менше 10","Одяг",642.16,866.91,0,{"$f":"G189*I189","v":0}]
[null,1111167340,"PR242617","Комбінезон COLD XL  червоний","Більше 10","Одяг",817.39,1103.48,0,{"$f":"G190*I190","v":0}]
[null,1111167322,"PR242599","Комбінезон COLD XL бірюза","Більше 10","Одяг",817.39,1103.48,0,{"$f":"G191*I191","v":0}]
[null,1111167358,"PR242635","Комбінезон COLD XL сірий","Менше 10","Одяг",817.39,1103.48,0,{"$f":"G192*I192","v":0}]
[null,1111167311,"PR242529","Комбінезон COLD XS бірюза","Більше 10","Одяг",541.66999999999996,731.26,0,{"$f":"G193*I193","v":0}]
[null,1111167347,"PR242624","Комбінезон COLD XS сірий","Більше 10","Одяг",541.66999999999996,731.26,0,{"$f":"G194*I194","v":0}]
[null,1111167336,"PR242613","Комбінезон COLD XS такса  червоний","Більше 10","Одяг",597.54999999999995,806.7,0,{"$f":"G195*I195","v":0}]
[null,1111167318,"PR242536","Комбінезон COLD XS такса бірюза","Більше 10","Одяг",597.54999999999995,806.7,0,{"$f":"G196*I196","v":0}]
[null,1111167354,"PR242631","Комбінезон COLD XS такса сірий","Більше 10","Одяг",597.54999999999995,806.7,0,{"$f":"G197*I197","v":0}]
[null,1111167329,"PR242606","Комбінезон COLD XS червоний","Більше 10","Одяг",541.66999999999996,731.26,0,{"$f":"G198*I198","v":0}]
[null,1111174496,"PR243141*****","Комбінезон EGO S2","Менше 10","Одяг",920.95,1243.28,0,{"$f":"G199*I199","v":0}]
[null,1111169838,"PR428960*****","Комбінезон INDIGO картатий M2","Менше 10","Одяг",800.66,1080.8900000000001,0,{"$f":"G200*I200","v":0}]
[null,1111169840,"PR428946*****","Комбінезон INDIGO картатий S2","Менше 10","Одяг",715.59,966.04,0,{"$f":"G201*I201","v":0}]
[null,1111167821,"PR242717*****","Комбінезон Jeans XS темно-синій","Менше 10","Одяг",468,632,0,{"$f":"G202*I202","v":0}]
[null,1111167377,"PR242590","Комбінезон RAIN  2XL сірий","Більше 10","Одяг",886.51,1196.79,0,{"$f":"G203*I203","v":0}]
[null,1111167378,"PR242588","Комбінезон RAIN  3XL сірий","Більше 10","Одяг",944.88,1275.5899999999999,0,{"$f":"G204*I204","v":0}]
[null,1111167379,"PR242587","Комбінезон RAIN  4XL сірий","Більше 10","Одяг",993.32,1340.98,0,{"$f":"G205*I205","v":0}]
[null,1111167380,"PR242586","Комбінезон RAIN  5XL сірий","Більше 10","Одяг",1060.2,1431.26,0,{"$f":"G206*I206","v":0}]
[null,1111167381,"PR242585","Комбінезон RAIN  6XL сірий","Більше 10","Одяг",1123.42,1516.62,0,{"$f":"G207*I207","v":0}]
[null,1111167382,"PR242584","Комбінезон RAIN  7XL сірий","Більше 10","Одяг",1221.57,1649.11,0,{"$f":"G208*I208","v":0}]
[null,1111167371,"PR242597","Комбінезон RAIN  L сірий","Більше 10","Одяг",689.87,931.32,0,{"$f":"G209*I209","v":0}]
[null,1111167370,"PR242596","Комбінезон RAIN  M сірий","Менше 10","Одяг",592.14,799.4,0,{"$f":"G210*I210","v":0}]
[null,1111167375,"PR242593","Комбінезон RAIN  M такса сірий","Більше 10","Одяг",623.17999999999995,841.29,0,{"$f":"G211*I211","v":0}]
[null,1111167368,"PR242592","Комбінезон RAIN  M2 сірий","Менше 10","Одяг",635.66999999999996,858.16,0,{"$f":"G212*I212","v":0}]
[null,1111167369,"PR242594","Комбінезон RAIN  ML сірий","Більше 10","Одяг",615.83000000000004,831.37,0,{"$f":"G213*I213","v":0}]
[null,1111167366,"PR242643","Комбінезон RAIN  S сірий","Більше 10","Одяг",500.09,675.12,0,{"$f":"G214*I214","v":0}]
[null,1111167373,"PR242644","Комбінезон RAIN  S такса сірий","Більше 10","Одяг",576.78,778.65,0,{"$f":"G215*I215","v":0}]
[null,1111167374,"PR242595","Комбінезон RAIN  S2 такса сірий","Більше 10","Одяг",613.71,828.51,0,{"$f":"G216*I216","v":0}]
[null,1111167367,"PR242589","Комбінезон RAIN  SM сірий","Менше 10","Одяг",559.74,755.65,0,{"$f":"G217*I217","v":0}]
[null,1111167365,"PR242642","Комбінезон RAIN  XS сірий","Більше 10","Одяг",453.48,612.20000000000005,0,{"$f":"G218*I218","v":0}]
[null,1111167372,"PR242598","Комбінезон RAIN  XS такса сірий","Більше 10","Одяг",541.16,730.57,0,{"$f":"G219*I219","v":0}]
[null,1111167413,"PR242555","Комбінезон RAIN 2XL  червоний","Більше 10","Одяг",886.51,1196.79,0,{"$f":"G220*I220","v":0}]
[null,1111167395,"PR242573","Комбінезон RAIN 2XL бірюза","Менше 10","Одяг",886.51,1196.79,0,{"$f":"G221*I221","v":0}]
[null,1111167414,"PR242554","Комбінезон RAIN 3XL  червоний","Більше 10","Одяг",944.88,1275.5899999999999,0,{"$f":"G222*I222","v":0}]
[null,1111167396,"PR242572","Комбінезон RAIN 3XL бірюза","Більше 10","Одяг",944.88,1275.5899999999999,0,{"$f":"G223*I223","v":0}]
[null,1111167415,"PR242552","Комбінезон RAIN 4XL  червоний","Більше 10","Одяг",993.32,1340.98,0,{"$f":"G224*I224","v":0}]
[null,1111167397,"PR242556","Комбінезон RAIN 4XL бірюза","Більше 10","Одяг",993.32,1340.98,0,{"$f":"G225*I225","v":0}]
[null,1111167416,"PR242551","Комбінезон RAIN 5XL  червоний","Більше 10","Одяг",1060.2,1431.26,0,{"$f":"G226*I226","v":0}]
[null,1111167398,"PR242645","Комбінезон RAIN 5XL бірюза","Більше 10","Одяг",1060.2,1431.26,0,{"$f":"G227*I227","v":0}]
[null,1111167417,"PR242550","Комбінезон RAIN 6XL  червоний","Більше 10","Одяг",1123.42,1516.62,0,{"$f":"G228*I228","v":0}]
[null,1111167399,"PR242571","Комбінезон RAIN 6XL бірюза","Менше 10","Одяг",1123.42,1516.62,0,{"$f":"G229*I229","v":0}]
[null,1111167418,"PR242549","Комбінезон RAIN 7XL  червоний","Більше 10","Одяг",1221.57,1649.11,0,{"$f":"G230*I230","v":0}]
[null,1111167400,"PR242570","Комбінезон RAIN 7XL бірюза","Більше 10","Одяг",1221.57,1649.11,0,{"$f":"G231*I231","v":0}]
[null,1111167389,"PR242561","Комбінезон RAIN L бірюза","Менше 10","Одяг",689.87,931.32,0,{"$f":"G232*I232","v":0}]
[null,1111167407,"PR242563","Комбінезон RAIN L червоний","Більше 10","Одяг",689.87,931.32,0,{"$f":"G233*I233","v":0}]
[null,1111167406,"PR242564","Комбінезон RAIN M  червоний","Більше 10","Одяг",592.14,799.4,0,{"$f":"G234*I234","v":0}]
[null,1111167388,"PR242574","Комбінезон RAIN M бірюза","Більше 10","Одяг",592.14,799.4,0,{"$f":"G235*I235","v":0}]
[null,1111167411,"PR242558","Комбінезон RAIN M такса  червоний","Більше 10","Одяг",623.17999999999995,841.29,0,{"$f":"G236*I236","v":0}]
[null,1111167404,"PR242566","Комбінезон RAIN M2  червоний","Більше 10","Одяг",635.66999999999996,858.16,0,{"$f":"G237*I237","v":0}]
[null,1111167386,"PR242580","Комбінезон RAIN M2 бірюза","Менше 10","Одяг",635.66999999999996,858.16,0,{"$f":"G238*I238","v":0}]
[null,1111167405,"PR242565","Комбінезон RAIN ML  червоний","Менше 10","Одяг",615.83000000000004,831.37,0,{"$f":"G239*I239","v":0}]
[null,1111167387,"PR242560","Комбінезон RAIN ML бірюза","Менше 10","Одяг",615.83000000000004,831.37,0,{"$f":"G240*I240","v":0}]
[null,1111167384,"PR242582","Комбінезон RAIN S бірюза","Більше 10","Одяг",500.09,675.12,0,{"$f":"G241*I241","v":0}]
[null,1111167409,"PR242562","Комбінезон RAIN S такса  червоний","Більше 10","Одяг",576.78,778.65,0,{"$f":"G242*I242","v":0}]
[null,1111167391,"PR242579","Комбінезон RAIN S такса бірюза","Більше 10","Одяг",576.78,778.65,0,{"$f":"G243*I243","v":0}]
[null,1111167402,"PR242568","Комбінезон RAIN S червоний","Більше 10","Одяг",500.09,675.12,0,{"$f":"G244*I244","v":0}]
[null,1111167410,"PR242559","Комбінезон RAIN S2 такса  червоний","Більше 10","Одяг",613.71,828.51,0,{"$f":"G245*I245","v":0}]
[null,1111167392,"PR242578","Комбінезон RAIN S2 такса бірюза","Більше 10","Одяг",613.71,828.51,0,{"$f":"G246*I246","v":0}]
[null,1111167403,"PR242567","Комбінезон RAIN SM  червоний","Більше 10","Одяг",559.74,755.65,0,{"$f":"G247*I247","v":0}]
[null,1111167385,"PR242581","Комбінезон RAIN SM бірюза","Більше 10","Одяг",559.74,755.65,0,{"$f":"G248*I248","v":0}]
[null,1111167412,"PR242557","Комбінезон RAIN XL  червоний","Більше 10","Одяг",716.14,966.79,0,{"$f":"G249*I249","v":0}]
[null,1111167394,"PR242576","Комбінезон RAIN XL бірюза","Більше 10","Одяг",716.14,966.79,0,{"$f":"G250*I250","v":0}]
[null,1111167376,"PR242591","Комбінезон RAIN XL сірий","Більше 10","Одяг",716.14,966.79,0,{"$f":"G251*I251","v":0}]
[null,1111167383,"PR242583","Комбінезон RAIN XS бірюза","Більше 10","Одяг",453.48,612.20000000000005,0,{"$f":"G252*I252","v":0}]
[null,1111167408,"PR242553","Комбінезон RAIN XS такса  червоний","Більше 10","Одяг",541.16,730.57,0,{"$f":"G253*I253","v":0}]
[null,1111167390,"PR242575","Комбінезон RAIN XS такса бірюза","Менше 10","Одяг",541.16,730.57,0,{"$f":"G254*I254","v":0}]
[null,1111167401,"PR242569","Комбінезон RAIN XS червоний","Більше 10","Одяг",453.48,612.20000000000005,0,{"$f":"G255*I255","v":0}]
[null,1111163438,"PR242107*****","Комірець  BRIGHT , S-M","Більше 10","Одяг",137,178,0,{"$f":"G256*I256","v":0}]
[null,1111163439,"PR242106*****","Комірець  BRIGHT , XS-XS2","Більше 10","Одяг",124,161,0,{"$f":"G257*I257","v":0}]
[null,1111167420,"PR242547*****","Комірець BRIGHT S-M","Менше 10","Одяг",153,214,0,{"$f":"G258*I258","v":0}]
[null,1111167421,"PR242546*****","Комірець BRIGHT XS-XS2","Більше 10","Одяг",145,204,0,{"$f":"G259*I259","v":0}]
[null,1111174489,"PR243148*****","Костюм  LEAF  зелениий  L","Більше 10","Одяг",859.22,1159.95,0,{"$f":"G260*I260","v":0}]
[null,1111175223,"PR243243*****","Костюм  LOLA  S","Менше 10","Одяг",729.48,984.8,0,{"$f":"G261*I261","v":0}]
[null,1111175222,"PR243244*****","Костюм  LOLA  S2","Більше 10","Одяг",888.83,1199.92,0,{"$f":"G262*I262","v":0}]
[null,1111175225,"PR243241*****","Костюм  LOLA  XS","Більше 10","Одяг",634.57000000000005,856.67,0,{"$f":"G263*I263","v":0}]
[null,1111175221,"PR243245*****","Костюм  LOLA  М","Більше 10","Одяг",876.71,1183.56,0,{"$f":"G264*I264","v":0}]
[null,1111175220,"PR243246*****","Костюм  LOLA  М2","Менше 10","Одяг",935.81,1263.3499999999999,0,{"$f":"G265*I265","v":0}]
[null,1111166482,"PR242487*****","Костюм  MOON   М","Більше 10","Одяг",354,495,0,{"$f":"G266*I266","v":0}]
[null,1111175227,"PR243239*****","Костюм  ZHAN  S","Менше 10","Одяг",765.01,1032.77,0,{"$f":"G267*I267","v":0}]
[null,1111175229,"PR243237*****","Костюм  ZHAN  XS","Більше 10","Одяг",664.83,897.52,0,{"$f":"G268*I268","v":0}]
[null,1111175228,"PR243238*****","Костюм  ZHAN  XS-2","Менше 10","Одяг",720.15,972.2,0,{"$f":"G269*I269","v":0}]
[null,1111175226,"PR243240*****","Костюм  ZHAN  М","Менше 10","Одяг",894.62,1207.74,0,{"$f":"G270*I270","v":0}]
[null,1111171792,"PR243004*****","Костюм ALF джинс M","Менше 10","Одяг",532.71,719.16,0,{"$f":"G271*I271","v":0}]
[null,1111171797,"PR242999*****","Костюм ALF хакі M","Більше 10","Одяг",532.71,719.16,0,{"$f":"G272*I272","v":0}]
[null,1111171796,"PR243000*****","Костюм ALF хакі S","Менше 10","Одяг",448.05,604.87,0,{"$f":"G273*I273","v":0}]
[null,1111168853,"PR242863*****","Костюм BLACK S, PR242863","Менше 10","Одяг",649.91999999999996,877.39,0,{"$f":"G274*I274","v":0}]
[null,1111168855,"PR242861*****","Костюм BLACK XS, PR242861","Менше 10","Одяг",584.96,789.7,0,{"$f":"G275*I275","v":0}]
[null,1111168854,"PR242862*****","Костюм BLACK XS2, PR242862","Менше 10","Одяг",623.14,841.24,0,{"$f":"G276*I276","v":0}]
[null,1111168830,"PR242886*****","Костюм JUDY пудровий M, PR242886","Більше 10","Одяг",830.86,1121.6600000000001,0,{"$f":"G277*I277","v":0}]
[null,1111168831,"PR242885*****","Костюм JUDY пудровий S, PR242885","Менше 10","Одяг",716.79,967.66,0,{"$f":"G278*I278","v":0}]
[null,1111168832,"PR242884*****","Костюм JUDY пудровий S2, PR242884","Менше 10","Одяг",831.77,1122.8900000000001,0,{"$f":"G279*I279","v":0}]
[null,1111168834,"PR242882*****","Костюм JUDY пудровий XS, PR242882","Менше 10","Одяг",649.57000000000005,876.91,0,{"$f":"G280*I280","v":0}]
[null,1111168833,"PR242883*****","Костюм JUDY пудровий XS2, PR242883","Більше 10","Одяг",695.73,939.24,0,{"$f":"G281*I281","v":0}]
[null,1111174490,"PR243147*****","Костюм LEAF зелений  М","Більше 10","Одяг",778.3,1050.7,0,{"$f":"G282*I282","v":0}]
[null,1111174491,"PR243146*****","Костюм LEAF зелений S","Більше 10","Одяг",668.91,903.03,0,{"$f":"G283*I283","v":0}]
[null,1111174492,"PR243145*****","Костюм LEAF зелений XS-2","Більше 10","Одяг",608.33000000000004,821.24,0,{"$f":"G284*I284","v":0}]
[null,1111174479,"PR243158*****","Костюм MAN  XХS","Менше 10","Одяг",647.65,874.33,0,{"$f":"G285*I285","v":0}]
[null,1111174141,"PR242758*****","Костюм MAN M","Більше 10","Одяг",911.67,1230.76,0,{"$f":"G286*I286","v":0}]
[null,1111174140,"PR242759*****","Костюм MAN S","Менше 10","Одяг",789.9,1066.3599999999999,0,{"$f":"G287*I287","v":0}]
[null,1111174143,"PR242755*****","Костюм MAN XL","Менше 10","Одяг",1115.31,1505.67,0,{"$f":"G288*I288","v":0}]
[null,1111174138,"PR242761*****","Костюм MAN XS","Більше 10","Одяг",686.36,926.59,0,{"$f":"G289*I289","v":0}]
[null,1111174139,"PR242760*****","Костюм MAN XS2","Менше 10","Одяг",737.65,995.82,0,{"$f":"G290*I290","v":0}]
[null,1111174675,"PR242794*****","Костюм PF STYLE M","Більше 10","Одяг",661.44,892.95,0,{"$f":"G291*I291","v":0}]
[null,1111174674,"PR242795*****","Костюм PF STYLE S","Більше 10","Одяг",600.62,810.84,0,{"$f":"G292*I292","v":0}]
[null,1111174673,"PR242796*****","Костюм PF STYLE XS2","Більше 10","Одяг",553.66999999999996,747.45,0,{"$f":"G293*I293","v":0}]
[null,1111174679,"PR242789*****","Костюм SOFT S","Більше 10","Одяг",714.94,965.17,0,{"$f":"G294*I294","v":0}]
[null,1111174678,"PR242790*****","Костюм SOFT XS2","Більше 10","Одяг",690.05,931.57,0,{"$f":"G295*I295","v":0}]
[null,1111164689,"PR242215*****","Костюм SPELL  S","Більше 10","Одяг",358,483,0,{"$f":"G296*I296","v":0}]
[null,1111164692,"PR242212*****","Костюм SPELL  XS","Більше 10","Одяг",337,455,0,{"$f":"G297*I297","v":0}]
[null,1111164687,"PR242217*****","Костюм SPELL  М","Менше 10","Одяг",403,544,0,{"$f":"G298*I298","v":0}]
[null,1111174148,"PR242763*****","Костюм TENDER M","Більше 10","Одяг",933.24,1259.8800000000001,0,{"$f":"G299*I299","v":0}]
[null,1111174147,"PR242764*****","Костюм TENDER S","Більше 10","Одяг",825.06,1113.83,0,{"$f":"G300*I300","v":0}]
[null,1111174145,"PR242766*****","Костюм TENDER XS","Менше 10","Одяг",728.79,983.87,0,{"$f":"G301*I301","v":0}]
[null,1111174146,"PR242765*****","Костюм TENDER XS2","Менше 10","Одяг",792.24,1069.53,0,{"$f":"G302*I302","v":0}]
[null,1111166419,"PR242408","Лежак  BOND  №1 ліловий (60х50х18)","Більше 10","Лежаки",1217.77,1643.99,0,{"$f":"G303*I303","v":0}]
[null,1111166421,"PR242406","Лежак  BOND  №1 сірий (60х50х18)","Більше 10","Лежаки",1217.77,1643.99,0,{"$f":"G304*I304","v":0}]
[null,1111166420,"PR242407","Лежак  BOND  №2 ліловий (78х60х20)","Більше 10","Лежаки",1675.76,2262.2800000000002,0,{"$f":"G305*I305","v":0}]
[null,1111166422,"PR242405","Лежак  BOND  №2 сірий (78х60х20)","Більше 10","Лежаки",1675.76,2262.2800000000002,0,{"$f":"G306*I306","v":0}]
[null,1111166423,"PR242404","Лежак  DENVER  №1 ягода (60х50х18)","Менше 10","Лежаки",982.99,1327.03,0,{"$f":"G307*I307","v":0}]
[null,1111166424,"PR242403","Лежак  DENVER  №2 ягода (78х60х20)","Менше 10","Лежаки",1458.88,1969.48,0,{"$f":"G308*I308","v":0}]
[null,1111164245,"PR242135","Лежак  MOLLY  № 1 (52*40*17) пісочний","Менше 10","Лежаки",907.84,1225.58,0,{"$f":"G309*I309","v":0}]
[null,1111164246,"PR242134","Лежак  MOLLY  № 2 (62*50*19) пісочний","Менше 10","Лежаки",1139.44,1538.25,0,{"$f":"G310*I310","v":0}]
[null,1111170060,"PR242912","Лежак ASKOLD 4 теракотовий/сірий","Більше 10","Лежаки",1126.79,1521.16,0,{"$f":"G311*I311","v":0}]
[null,1111170227,"PR242916","Лежак ASKOLD 4 фіолетовий/сірий","Більше 10","Лежаки",1126.79,1521.16,0,{"$f":"G312*I312","v":0}]
[null,1111170061,"PR242913","Лежак ASKOLD 5 теракотовий/сірий","Менше 10","Лежаки",1835.21,2477.5300000000002,0,{"$f":"G313*I313","v":0}]
[null,1111170228,"PR242917","Лежак ASKOLD 5 фіолетовий/сірий","Менше 10","Лежаки",1835.21,2477.5300000000002,0,{"$f":"G314*I314","v":0}]
[null,1111162180,"PR241948","Лежак BALI  (22*37*48 см)","Більше 10","Лежаки",438,591,0,{"$f":"G315*I315","v":0}]
[null,1111160858,"PR241767","Лежак BOSPHORUS  1 (60*53*18)","Більше 10","Лежаки",854.52,1153.5999999999999,0,{"$f":"G316*I316","v":0}]
[null,1111160859,"PR241766","Лежак BOSPHORUS  2 (82*65*18)","Більше 10","Лежаки",1335.41,1802.8,0,{"$f":"G317*I317","v":0}]
[null,1111160860,"PR241765","Лежак BOSPHORUS  3 (95*78*24)","Менше 10","Лежаки",1908.45,2576.41,0,{"$f":"G318*I318","v":0}]
[null,1111166418,"PR242409","Лежак BRIG лайм (58*48*20)","Більше 10","Лежаки",730.23,985.81,0,{"$f":"G319*I319","v":0}]
[null,1111171995,"PR243007","Лежак DENVER №1 сірий","Менше 10","Лежаки",969.14,1308.3399999999999,0,{"$f":"G320*I320","v":0}]
[null,1111171996,"PR243006","Лежак DENVER №2 сірий","Менше 10","Лежаки",1438.33,1941.74,0,{"$f":"G321*I321","v":0}]
[null,1111164247,"PR242133","Лежак MOLLY  №1 (52*40*17 см) фіолетовий","Менше 10","Лежаки",907.84,1225.58,0,{"$f":"G322*I322","v":0}]
[null,1111164248,"PR242132","Лежак MOLLY  №2 (62*50*19см) фіолетовий","Менше 10","Лежаки",1139.44,1538.25,0,{"$f":"G323*I323","v":0}]
[null,1111160863,"PR241757","Лежак PRIME  (66*52*24)","Більше 10","Лежаки",1516,2047,0,{"$f":"G324*I324","v":0}]
[null,1111160861,"PR241760","Лежак SIMON  1 (52*42*18)","Менше 10","Лежаки",996.56,1345.36,0,{"$f":"G325*I325","v":0}]
[null,1111160862,"PR241759","Лежак SIMON  2 (66*54*20)","Більше 10","Лежаки",1468.93,1983.06,0,{"$f":"G326*I326","v":0}]
[null,1111160997,"PR241789","Лежак SOFT  (48*48*17) сірий","Більше 10","Лежаки",872.85,1178.3499999999999,0,{"$f":"G327*I327","v":0}]
[null,1111162281,"PR013311*****","Маска захисна малюнок, PR","Більше 10","Гігієнічний одяг",21.7,40,0,{"$f":"G328*I328","v":0}]
[null,1111162544,"PR241969","Матрац Medi Sleep MEMORY ортопедичний L (92 * 65 * 4)","Менше 10","Матраци",1847.33,2493.9,0,{"$f":"G329*I329","v":0}]
[null,1111162543,"PR241970","Матрац Medi Sleep MEMORY ортопедичний M (66 * 46 * 4)","Менше 10","Матраци",1054.51,1423.59,0,{"$f":"G330*I330","v":0}]
[null,1111162542,"PR241971","Матрац Medi Sleep MEMORY ортопедичний S (48 * 32 * 4)","Більше 10","Матраци",591.25,798.18,0,{"$f":"G331*I331","v":0}]
[null,1111167419,"PR242548*****","Метелик XS-M","Менше 10","Одяг",107,150,0,{"$f":"G332*I332","v":0}]
[null,9136,"PR240115","Намордник №2 м який (пудель)","Менше 10","Намордники",71.23,100,0,{"$f":"G333*I333","v":0}]
[null,8937,"PR240116","Намордник №3 м який (вівчарка)","Менше 10","Намордники",74.87,105.5,0,{"$f":"G334*I334","v":0}]
[null,8938,"PR240117","Намордник №4 м який (дог)","Менше 10","Намордники",79.92,112,0,{"$f":"G335*I335","v":0}]
[null,8939,"PR240118","Намордник №5 м який (ротвейлер)","Менше 10","Намордники",83.54,117,0,{"$f":"G336*I336","v":0}]
[null,1111178759,"PR243424","Панама  Blue M","Немає в наявності","Одяг",264,356,0,{"$f":"G337*I337","v":0}]
[null,1111178760,"PR243423","Панама  Blue S","Немає в наявності","Одяг",253,341,0,{"$f":"G338*I338","v":0}]
[null,1111161844,"PR241904","Плед  BLISS  1 м ята (77*60), PR241904","Менше 10","Килимки, пледи",333.77,451,0,{"$f":"G339*I339","v":0}]
[null,1111161842,"PR241902","Плед  BLISS  1 пудра (77*60), PR241902","Більше 10","Килимки, пледи",333.77,451,0,{"$f":"G340*I340","v":0}]
[null,1111161845,"PR241906","Плед  BLISS  2 м ята (77*100), PR241906","Більше 10","Килимки, пледи",447.31,604,0,{"$f":"G341*I341","v":0}]
[null,1111165967,"PR242369*****","Попона  SANTA     M","Менше 10","Одяг",446.39,602.63,0,{"$f":"G342*I342","v":0}]
[null,1111175258,"PR243208","Попона  SANTA  зелена M","Менше 10","Одяг",461.88,623.54,0,{"$f":"G343*I343","v":0}]
[null,1111176044,"PR243291","Попона ROY малиново-сірий 2XL","Більше 10","Одяг",701.32,946.78,0,{"$f":"G344*I344","v":0}]
[null,1111176045,"PR243290","Попона ROY малиново-сірий 3XL","Менше 10","Одяг",751.46,1014.47,0,{"$f":"G345*I345","v":0}]
[null,1111176046,"PR243289","Попона ROY малиново-сірий 4XL","Більше 10","Одяг",845.53,1141.46,0,{"$f":"G346*I346","v":0}]
[null,1111176047,"PR243288","Попона ROY малиново-сірий 5XL","Більше 10","Одяг",885.95,1196.03,0,{"$f":"G347*I347","v":0}]
[null,1111176048,"PR243287","Попона ROY малиново-сірий 6XL","Більше 10","Одяг",1026.8599999999999,1386.25,0,{"$f":"G348*I348","v":0}]
[null,1111176049,"PR243286","Попона ROY малиново-сірий 7XL","Більше 10","Одяг",1132.8900000000001,1529.4,0,{"$f":"G349*I349","v":0}]
[null,1111176043,"PR243292","Попона ROY малиново-сірий XL","Більше 10","Одяг",652.45000000000005,880.81,0,{"$f":"G350*I350","v":0}]
[null,1111176055,"PR243280","Попона ROY хакі-гірчиця  6XL","Більше 10","Одяг",1026.8599999999999,1386.25,0,{"$f":"G351*I351","v":0}]
[null,1111176051,"PR243284","Попона ROY хакі-гірчиця 2XL","Більше 10","Одяг",701.32,946.78,0,{"$f":"G352*I352","v":0}]
[null,1111176052,"PR243283","Попона ROY хакі-гірчиця 3XL","Менше 10","Одяг",751.46,1014.47,0,{"$f":"G353*I353","v":0}]
[null,1111176053,"PR243282","Попона ROY хакі-гірчиця 4XL","Менше 10","Одяг",845.53,1141.46,0,{"$f":"G354*I354","v":0}]
[null,1111176054,"PR243281","Попона ROY хакі-гірчиця 5XL","Більше 10","Одяг",885.95,1196.03,0,{"$f":"G355*I355","v":0}]
[null,1111176056,"PR243279","Попона ROY хакі-гірчиця 7 XL","Більше 10","Одяг",1132.8900000000001,1529.4,0,{"$f":"G356*I356","v":0}]
[null,1111176050,"PR243285","Попона ROY хакі-гірчиця XL","Більше 10","Одяг",652.45000000000005,880.81,0,{"$f":"G357*I357","v":0}]
[null,1111176062,"PR243273","Рюкзак-переноска QUADRA","Більше 10","Сумки-переноски, рюкзаки",1077.02,1453.98,0,{"$f":"G358*I358","v":0}]
[null,1111178735,"PR243448","Сарафан Miya S","Більше 10","Одяг",434,586,0,{"$f":"G359*I359","v":0}]
[null,1111178737,"PR243446","Сарафан Miya XS","Більше 10","Одяг",379,512,0,{"$f":"G360*I360","v":0}]
[null,1111178736,"PR243447","Сарафан Miya XS2","Більше 10","Одяг",416,561,0,{"$f":"G361*I361","v":0}]
[null,1111175216,"PR243250*****","Светр  WIKI  L","Менше 10","Одяг",277.57,374.72,0,{"$f":"G362*I362","v":0}]
[null,1111171615,"PR242970*****","Светр CAT персик L","Менше 10","Одяг",341.45,460.96,0,{"$f":"G363*I363","v":0}]
[null,1111159509,"Ститч S*****","Сорочка  Стітч  S","Менше 10","Одяг",208.12,280.95999999999998,0,{"$f":"G364*I364","v":0}]
[null,1111159520,"Ститч XS*****","Сорочка  Стітч  XS","Більше 10","Одяг",178.47,240.93,0,{"$f":"G365*I365","v":0}]
[null,1111159507,"Феникс S*****","Сорочка  Фенікс  S","Менше 10","Одяг",217.43,293.52999999999997,0,{"$f":"G366*I366","v":0}]
[null,1111159519,"Феникс XS*****","Сорочка  Фенікс  XS","Більше 10","Одяг",184.75,249.42,0,{"$f":"G367*I367","v":0}]
[null,1111162540,"PR241973","Сумка-переноска  REMY  (40*28*21)","Менше 10","Сумки-переноски, рюкзаки",1583.17,2137.2800000000002,0,{"$f":"G368*I368","v":0}]
[null,1111162539,"PR241974","Сумка-переноска  VESTA  (38*22*22)","Більше 10","Сумки-переноски, рюкзаки",1125.5999999999999,1519.56,0,{"$f":"G369*I369","v":0}]
[null,1111176063,"PR243272","Сумка-переноска LINEN","Більше 10","Сумки-переноски, рюкзаки",1054.5899999999999,1423.69,0,{"$f":"G370*I370","v":0}]
[null,1111172179,"PR243030*****","Толстовка BIM S","Більше 10","Одяг",409.79,553.21,0,{"$f":"G371*I371","v":0}]
[null,1111171974,"PR243028*****","Толстовка BIM XS","Більше 10","Одяг",374.39,505.42,0,{"$f":"G372*I372","v":0}]
[null,1111172180,"PR243029*****","Толстовка BIM XS-2","Більше 10","Одяг",403.11,544.20000000000005,0,{"$f":"G373*I373","v":0}]
[null,1111172178,"PR243031*****","Толстовка BIM М","Більше 10","Одяг",450.13,607.66999999999996,0,{"$f":"G374*I374","v":0}]
[null,1111174667,"PR242774*****","Толстовка LILAC M","Менше 10","Одяг",545.59,736.55,0,{"$f":"G375*I375","v":0}]
[null,1111174666,"PR242776*****","Толстовка LILAC S","Менше 10","Одяг",466.72,630.07000000000005,0,{"$f":"G376*I376","v":0}]
[null,1111171978,"PR243024*****","Толстовка Megan XS","Менше 10","Одяг",381.48,515,0,{"$f":"G377*I377","v":0}]
[null,1111179001,"PR243473*****","Толстовка Miley M","Більше 10","Одяг",448,605,0,{"$f":"G378*I378","v":0}]
[null,1111179002,"PR243472*****","Толстовка Miley S","Більше 10","Одяг",391,528,0,{"$f":"G379*I379","v":0}]
[null,1111179004,"PR243470*****","Толстовка Miley XS","Більше 10","Одяг",319,430,0,{"$f":"G380*I380","v":0}]
[null,1111179003,"PR243471*****","Толстовка Miley XS2","Більше 10","Одяг",370,499,0,{"$f":"G381*I381","v":0}]
[null,1111178746,"PR243437","Футбока Rose M дівчинка","Немає в наявності","Одяг",307,414,0,{"$f":"G382*I382","v":0}]
[null,1111178747,"PR243436","Футбока Rose S девочка","Більше 10","Одяг",273,369,0,{"$f":"G383*I383","v":0}]
[null,1111178749,"PR243434","Футбока Rose XS дівчинка","Немає в наявності","Одяг",239,323,0,{"$f":"G384*I384","v":0}]
[null,1111178748,"PR243435","Футбока Rose XS2 дівчинка","Більше 10","Одяг",259,350,0,{"$f":"G385*I385","v":0}]
[null,1111163447,"PR242095*****","Футболка  ART , М","Менше 10","Одяг",214,289,0,{"$f":"G386*I386","v":0}]
[null,1111163460,"PR242082*****","Футболка  MOOD , XS-2","Менше 10","Одяг",222,299,0,{"$f":"G387*I387","v":0}]
[null,1111163458,"PR242084*****","Футболка  MOOD , М","Менше 10","Одяг",255,344,0,{"$f":"G388*I388","v":0}]
[null,1111172853,"PR243052*****","Футболка Maria L дівчинка","Більше 10","Одяг",285,383.98,0,{"$f":"G389*I389","v":0}]
[null,1111165357,"PR242340","Худі  SNOODIE  M красная","Менше 10","Одяг",571.74,771.86,0,{"$f":"G390*I390","v":0}]
[null,1111165365,"PR242336","Худі  SNOODIE  M сіра","Більше 10","Одяг",571.74,771.86,0,{"$f":"G391*I391","v":0}]
[null,1111165361,"PR242344","Худі  SNOODIE  M чорна","Більше 10","Одяг",571.74,771.86,0,{"$f":"G392*I392","v":0}]
[null,1111165358,"PR242339","Худі  SNOODIE  M2 красная","Більше 10","Одяг",637.15,860.15,0,{"$f":"G393*I393","v":0}]
[null,1111165366,"PR242335","Худі  SNOODIE  M2 сіра","Більше 10","Одяг",637.15,860.15,0,{"$f":"G394*I394","v":0}]
[null,1111165362,"PR242343","Худі  SNOODIE  M2 чорна","Менше 10","Одяг",637.15,860.15,0,{"$f":"G395*I395","v":0}]
[null,1111165359,"PR242337","Худі  SNOODIE  S красная","Менше 10","Одяг",531.86,718.01,0,{"$f":"G396*I396","v":0}]
[null,1111165367,"PR242333","Худі  SNOODIE  S сіра","Більше 10","Одяг",531.86,718.01,0,{"$f":"G397*I397","v":0}]
[null,1111165363,"PR242341","Худі  SNOODIE  S чорна","Більше 10","Одяг",531.86,718.01,0,{"$f":"G398*I398","v":0}]
[null,1111165360,"PR242338","Худі  SNOODIE  SM красная","Більше 10","Одяг",547.09,738.57,0,{"$f":"G399*I399","v":0}]
[null,1111165368,"PR242334","Худі  SNOODIE  SM сіра","Більше 10","Одяг",547.09,738.57,0,{"$f":"G400*I400","v":0}]
[null,1111165364,"PR242342","Худі  SNOODIE  SM чорна","Менше 10","Одяг",547.09,738.57,0,{"$f":"G401*I401","v":0}]
[null,1111165277,"PR242319*****","Шапка  PARTY  зима S","Більше 10","Одяг",204.37,275.91000000000003,0,{"$f":"G402*I402","v":0}]
[null,1111165278,"PR242318*****","Шапка  PARTY  зима XS","Більше 10","Одяг",200.09,270.12,0,{"$f":"G403*I403","v":0}]
[null,1111170769,"PR242931*****","Шапка BUBO сіра M","Менше 10","Одяг",152.69999999999999,206.15,0,{"$f":"G404*I404","v":0}]
[null,1111175239,"PR243227*****","Шапка BUBO хакі S","Більше 10","Одяг",142.86000000000001,192.86,0,{"$f":"G405*I405","v":0}]
[null,1111175238,"PR243228*****","Шапка BUBO хакі М","Менше 10","Одяг",152.69999999999999,206.15,0,{"$f":"G406*I406","v":0}]
[null,1111175240,"PR243226*****","Шапка BUBO хакі ХS","Менше 10","Одяг",138.16999999999999,186.53,0,{"$f":"G407*I407","v":0}]
[null,1111165971,"PR242357*****","Шарф  HAPPY  M-XL","Менше 10","Одяг",163.91,221.28,0,{"$f":"G408*I408","v":0}]
[null,1111178740,"PR243443","Шлея Nika  XS","Немає в наявності","Одяг",331,447,0,{"$f":"G409*I409","v":0}]
[null,1111178739,"PR243444","Шлея Nika  XS2","Немає в наявності","Одяг",348,470,0,{"$f":"G410*I410","v":0}]
[null,1111178741,"PR243442","Шлея Nika  ХXS","Немає в наявності","Одяг",319,430,0,{"$f":"G411*I411","v":0}]
[null,1111178738,"PR243445","Шлея Nika S","Немає в наявності","Одяг",354,478,0,{"$f":"G412*I412","v":0}]
[null,1111178742,"PR243441","Шлея-костюм Patrik S","Більше 10","Одяг",466,628,0,{"$f":"G413*I413","v":0}]
[null,1111178744,"PR243439","Шлея-костюм Patrik XS","Більше 10","Одяг",419,566,0,{"$f":"G414*I414","v":0}]
[null,1111178743,"PR243440","Шлея-костюм Patrik XS2","Більше 10","Одяг",455,615,0,{"$f":"G415*I415","v":0}]
[null,1111178745,"PR243438","Шлея-костюм Patrik XХS","Більше 10","Одяг",413,558,0,{"$f":"G416*I416","v":0}]
[null,1111153944,"АРНИ XS*****","Штани  Арні  XS","Менше 10","Одяг",232,303,0,{"$f":"G417*I417","v":0}]

{"sheet":"PROFILINE","index":52,"n_rows":40,"n_cols":10,"rows_kept":40,"cut":false,"hidden":false,"merged":[]}
[]
[null,null,null,null,null,null,"suziria.ua"]
[null,null,null,null,null,null,"0 800 21 82 99"]
[null,null,null,null,null,null,"feedback@suziria.ua"]
[]
["Зображення","Код","Артикул","Номенклатура","Наявність","Категорія","Ціна опт.","Ціна РРЦ","Замовлення, шт.","Сума, грн."]
[null,null,null,null,null,null,null,null,null,{"$f":"SUM(J8:J40)","v":0}]
[null,1111175203,"PR243160","Вітаміни PROVET PROFILINE для котів АКТИВ КОМПЛЕКС 180 таб.","Більше 10","Вітаміни та мінерали",195,283,0,{"$f":"G8*I8","v":0}]
[null,1111175202,"PR243161","Вітаміни PROVET PROFILINE для котів БІОТИН КОМПЛЕКС 180 таб.","Більше 10","Вітаміни та мінерали",153,222,0,{"$f":"G9*I9","v":0}]
[null,1111175204,"PR243159","Вітаміни PROVET PROFILINE для котів ГАГ КОМПЛЕКС 180 таб.","Більше 10","Вітаміни та мінерали",203,294,0,{"$f":"G10*I10","v":0}]
[null,1111175193,"PR243170","Вітаміни PROVET PROFILINE для котів ТАУРИН КОМПЛЕКС 180 таб.","Більше 10","Вітаміни та мінерали",146,211,0,{"$f":"G11*I11","v":0}]
[null,1111175196,"PR243167","Вітаміни PROVET PROFILINE для котів УРІНАРІ КОМПЛЕКС 180 таб.","Менше 10","Вітаміни та мінерали",189,274,0,{"$f":"G12*I12","v":0}]
[null,1111175201,"PR243162","Вітаміни PROVET PROFILINE для собак БІОТИН КОМПЛЕКС 100 таб.","Більше 10","Вітаміни та мінерали",163,236,0,{"$f":"G13*I13","v":0}]
[null,1111175197,"PR243166","Вітаміни PROVET PROFILINE для собак ВІТАЛІТІ КОМПЛЕКС 100 таб.","Більше 10","Вітаміни та мінерали",174,252,0,{"$f":"G14*I14","v":0}]
[null,1111175198,"PR243165","Вітаміни PROVET PROFILINE для собак ГАГ КОМПЛЕКС 100 таб.","Більше 10","Вітаміни та мінерали",210,305,0,{"$f":"G15*I15","v":0}]
[null,1111175199,"PR243164","Вітаміни PROVET PROFILINE для собак КАЛЬЦІЙ КОМПЛЕКС 100 таб.","Більше 10","Вітаміни та мінерали",159,231,0,{"$f":"G16*I16","v":0}]
[null,1111175194,"PR243169","Вітаміни PROVET PROFILINE для собак МАКСІ КОМПЛЕКС 100 таб.","Менше 10","Вітаміни та мінерали",193,280,0,{"$f":"G17*I17","v":0}]
[null,1111175195,"PR243168","Вітаміни PROVET PROFILINE для собак МІНІ КОМПЛЕКС 100 таб.","Більше 10","Вітаміни та мінерали",191,277,0,{"$f":"G18*I18","v":0}]
[null,1111175200,"PR243163","Вітаміни PROVET PROFILINE КОМПЛЕКС для кошенят та лакт. кішок 180 таб.","Більше 10","Вітаміни та мінерали",146,211,0,{"$f":"G19*I19","v":0}]
[null,1111175179,"PR243112","Краплі PROVET PROFILINE для котів 4-8 кг, 1п.х 1,0 мл","Більше 10","Протипаразитні препарати: антигельмінтні, інсектицидні, інсектоакарицидні, репелентні",59,86,0,{"$f":"G20*I20","v":0}]
[null,1111175174,"PR243110","Краплі PROVET PROFILINE для котів 4-8 кг, 4п.х 1,0 мл","Більше 100","Протипаразитні препарати: антигельмінтні, інсектицидні, інсектоакарицидні, репелентні",185,269,0,{"$f":"G21*I21","v":0}]
[null,1111175180,"PR243113","Краплі PROVET PROFILINE для котів до 4 кг, 1п.х 0,5 мл","Більше 100","Протипаразитні препарати: антигельмінтні, інсектицидні, інсектоакарицидні, репелентні",50,73,0,{"$f":"G22*I22","v":0}]
[null,1111175173,"PR243111","Краплі PROVET PROFILINE для котів до 4 кг, 4п.х 0,5 мл","Більше 100","Протипаразитні препарати: антигельмінтні, інсектицидні, інсектоакарицидні, репелентні",169,245,0,{"$f":"G23*I23","v":0}]
[null,1111175182,"PR243107","Краплі PROVET PROFILINE для собак 10-20 кг, 1п.х 2,0 мл","Більше 10","Протипаразитні препарати: антигельмінтні, інсектицидні, інсектоакарицидні, репелентні",81,118,0,{"$f":"G24*I24","v":0}]
[null,1111175177,"PR243103","Краплі PROVET PROFILINE для собак 10-20 кг, 4п.х 2,0 мл","Більше 10","Протипаразитні препарати: антигельмінтні, інсектицидні, інсектоакарицидні, репелентні",240,348,0,{"$f":"G25*I25","v":0}]
[null,1111175183,"PR243106","Краплі PROVET PROFILINE для собак 20-40 кг, 1п.х 3,0 мл","Більше 10","Протипаразитні препарати: антигельмінтні, інсектицидні, інсектоакарицидні, репелентні",103,149,0,{"$f":"G26*I26","v":0}]
[null,1111175178,"PR243102","Краплі PROVET PROFILINE для собак 20-40 кг, 4п.х 3,0 мл","Більше 100","Протипаразитні препарати: антигельмінтні, інсектицидні, інсектоакарицидні, репелентні",295,427,0,{"$f":"G27*I27","v":0}]
[null,1111175184,"PR243108","Краплі PROVET PROFILINE для собак 4-10 кг, 1п.х 1,0 мл","Більше 10","Протипаразитні препарати: антигельмінтні, інсектицидні, інсектоакарицидні, репелентні",59,86,0,{"$f":"G28*I28","v":0}]
[null,1111175176,"PR243104","Краплі PROVET PROFILINE для собак 4-10 кг, 4п.х 1,0 мл","Більше 100","Протипаразитні препарати: антигельмінтні, інсектицидні, інсектоакарицидні, репелентні",191,278,0,{"$f":"G29*I29","v":0}]
[null,1111175181,"PR243109","Краплі PROVET PROFILINE для собак до 4 кг, 1п.х 0,5 мл","Більше 10","Протипаразитні препарати: антигельмінтні, інсектицидні, інсектоакарицидні, репелентні",52,75,0,{"$f":"G30*I30","v":0}]
[null,1111175175,"PR243105","Краплі PROVET PROFILINE для собак до 4 кг, 4п.х 0,5 мл","Більше 10","Протипаразитні препарати: антигельмінтні, інсектицидні, інсектоакарицидні, репелентні",171,248,0,{"$f":"G31*I31","v":0}]
[null,1111175189,"PR243101","Нашийник PROVET PROFILINE для великих порід собак 70 см, зелений","Більше 10","Протипаразитні препарати: антигельмінтні, інсектицидні, інсектоакарицидні, репелентні",121,175,0,{"$f":"G32*I32","v":0}]
[null,1111175190,"PR243100","Нашийник PROVET PROFILINE для великих порід собак 70 см, кораловий","Більше 10","Протипаразитні препарати: антигельмінтні, інсектицидні, інсектоакарицидні, репелентні",121,175,0,{"$f":"G33*I33","v":0}]
[null,1111175192,"PR243098","Нашийник PROVET PROFILINE для великих порід собак 70 см, фіолетовий","Більше 10","Протипаразитні препарати: антигельмінтні, інсектицидні, інсектоакарицидні, репелентні",121,175,0,{"$f":"G34*I34","v":0}]
[null,1111175185,"PR243097","Нашийник PROVET PROFILINE для котів та собак 35 см, зелений","Більше 100","Протипаразитні препарати: антигельмінтні, інсектицидні, інсектоакарицидні, репелентні",93,135,0,{"$f":"G35*I35","v":0}]
[null,1111175186,"PR243096","Нашийник PROVET PROFILINE для котів та собак 35 см, кораловий","Більше 10","Протипаразитні препарати: антигельмінтні, інсектицидні, інсектоакарицидні, репелентні",93,135,0,{"$f":"G36*I36","v":0}]
[null,1111175188,"PR243094","Нашийник PROVET PROFILINE для котів та собак 35 см, фіолетовий","Більше 10","Протипаразитні препарати: антигельмінтні, інсектицидні, інсектоакарицидні, репелентні",93,135,0,{"$f":"G37*I37","v":0}]
[null,1111175187,"PR243095","Нашийник PROVET PROFILINE для котів та собак 35 см, фуксія","Більше 100","Протипаразитні препарати: антигельмінтні, інсектицидні, інсектоакарицидні, репелентні",93,135,0,{"$f":"G38*I38","v":0}]
[null,1111175206,"PR243086","Спрей PROVET PROFILINE для котів та собак 30 мл","Більше 10","Протипаразитні препарати: антигельмінтні, інсектицидні, інсектоакарицидні, репелентні",76.55,111,0,{"$f":"G39*I39","v":0}]
[null,1111175205,"PR243087","Суспензія PROVET PROFILINE КОКЦИД для котів та собак 5.0 мл","Більше 10","Протипаразитні препарати: антигельмінтні, інсектицидні, інсектоакарицидні, репелентні",80.12,116,0,{"$f":"G40*I40","v":0}]

{"sheet":"Profine","index":53,"n_rows":45,"n_cols":10,"rows_kept":45,"cut":false,"hidden":false,"merged":[]}
[]
[null,null,null,null,null,null,"suziria.ua"]
[null,null,null,null,null,null,"0 800 21 82 99"]
[null,null,null,null,null,null,"feedback@suziria.ua"]
[]
["Зображення","Код","Артикул","Номенклатура","Наявність","Категорія","Ціна опт.","Ціна РРЦ","Замовлення, шт.","Сума, грн."]
[null,null,null,null,null,null,null,null,null,{"$f":"SUM(J8:J45)","v":0}]
[null,1111145684,"170539/7435","Profine Adult Chicken з куркою та картоплею для дорослих собак, 15 кг","Більше 10","Корм сухий для собак",1761,2292,0,{"$f":"G8*I8","v":0}]
[null,1111145685,"170540/7442","Profine Adult Chicken з куркою та картоплею для дорослих собак, 3 кг","Менше 10","Корм сухий для собак",467.89,609,0,{"$f":"G9*I9","v":0}]
[null,1111145686,"170549/7534","Profine Adult Lamb з ягням і картоплею для дорослих собак, 15 кг","Більше 10","Корм сухий для собак",2912.37,3677,0,{"$f":"G10*I10","v":0}]
[null,1111145687,"170550/7541","Profine Adult Lamb з ягням і картоплею для дорослих собак, 3 кг","Менше 10","Корм сухий для собак",796.64,1007,0,{"$f":"G11*I11","v":0}]
[null,1111145688,"170541/7459","Profine Adult Large Breed Chicken з куркою д/собак велик. порід, 15 кг","Більше 10","Корм сухий для собак",1882.63,2377,0,{"$f":"G12*I12","v":0}]
[null,1111145689,"170542/7466","Profine Adult Large Breed Chicken з куркою д/собак велик. порід, 3 кг","Більше 10","Корм сухий для собак",472.94,598,0,{"$f":"G13*I13","v":0}]
[null,1111145690,"170557/7619","Profine Adult Large Breed Salmon з лососем д/собак велик. порід, 15 кг","Менше 10","Корм сухий для собак",2841.51,3696,0,{"$f":"G14*I14","v":0}]
[null,1111145693,"170553/7572","Profine Adult Salmon з лососем для дорослих собак, 15 кг","Менше 10","Корм сухий для собак",2693.9,3402,0,{"$f":"G15*I15","v":0}]
[null,1111145694,"170554/7589","Profine Adult Salmon з лососем для дорослих собак, 3 кг","Більше 10","Корм сухий для собак",619.74,783,0,{"$f":"G16*I16","v":0}]
[null,1111145695,"170536/7404","Profine Adult Small з куркою для собак малих порід, 10 кг","Менше 10","Корм сухий для собак",1610.6,2095,0,{"$f":"G17*I17","v":0}]
[null,1111145696,"170537/7411","Profine Adult Small з куркою для собак малих порід, 2 кг","Більше 10","Корм сухий для собак",410,534,0,{"$f":"G18*I18","v":0}]
[null,1111145713,"170572/7763","Profine Cat Derma лосось для довгошерстих котів, 2 кг","Більше 10","Корм сухий для котів",463.3,603,0,{"$f":"G19*I19","v":0}]
[null,1111145717,"170569/7732","Profine Cat Indoor ягня для виведення шерсті зі шлунку котів, 2 кг","Менше 10","Корм сухий для котів",505.58,659,0,{"$f":"G20*I20","v":0}]
[null,1111145720,"170560/7640","Profine Cat Kitten курка для кошенят 1-12 міс, 2 кг","Немає в наявності","Корм сухий для котів",450.05,586,0,{"$f":"G21*I21","v":0}]
[null,1111145718,"170559/7633","Profine Cat Kitten курка для кошенят 1-12 міс, 300 г","Більше 10","Корм сухий для котів",115.46,151,0,{"$f":"G22*I22","v":0}]
[null,1111145721,"170575/7794","Profine Cat Light індичка для оптимізації ваги у котів, 2 кг","Менше 10","Корм сухий для котів",449.21,586,0,{"$f":"G23*I23","v":0}]
[null,1111145726,"170566/7701","Profine Cat Original Adult курка для котів усіх порід, 2 кг","Менше 10","Корм сухий для котів",449.21,586,0,{"$f":"G24*I24","v":0}]
[null,1111145724,"170565/7695","Profine Cat Original Adult курка для котів усіх порід, 300 г","Менше 10","Корм сухий для котів",104.86,138,0,{"$f":"G25*I25","v":0}]
[null,1111145728,"170564/7688","Profine Cat Sterilised курка з рисом для кастрованих котів, 10 кг","Менше 10","Корм сухий для котів",1807.04,2350,0,{"$f":"G26*I26","v":0}]
[null,1111145729,"170563/7671","Profine Cat Sterilised курка з рисом для кастрованих котів, 2 кг","Більше 10","Корм сухий для котів",463.3,603,0,{"$f":"G27*I27","v":0}]
[null,1111145727,"170562/7664","Profine Cat Sterilised курка з рисом для кастрованих котів, 300 г","Більше 10","Корм сухий для котів",110.95,145,0,{"$f":"G28*I28","v":0}]
[null,1111166055,171762,"Profine Dog Adult Small Lamb and Potatoes д/собак малих порід, 2 кг","Менше 10","Корм сухий для собак",487.36,634,0,{"$f":"G29*I29","v":0}]
[null,1111167046,171761,"Profine Dog Adult Small Lamb and Potatoes ягня д/соб. мал. порід 8 кг","Менше 10","Корм сухий для собак",1642.16,2134,0,{"$f":"G30*I30","v":0}]
[null,1111150394,"100813/100010/4051","Profine Dog консерви з курятиною і курячою печінкою для собак, 400 г","Більше 10","Корм вологий для собак",121.51,159,0,{"$f":"G31*I31","v":0}]
[null,1111150396,"100815/100014/4099","Profine Dog консерви з лососем і куркою для собак, 400 г","Більше 10","Корм вологий для собак",121.51,159,0,{"$f":"G32*I32","v":0}]
[null,1111150397,"100816/100016/4112","Profine Dog консерви з олениною і куркою для собак, 400 г","Менше 10","Корм вологий для собак",121.51,159,0,{"$f":"G33*I33","v":0}]
[null,1111150395,"100814/100012/4075","Profine Dog консерви з ягнятиною для собак, 400 г","Немає в наявності","Корм вологий для собак",121.51,159,0,{"$f":"G34*I34","v":0}]
[null,1111150393,"100812/100008/4037","Profine Dog консерви з яловичиною та печінкою для собак, 400 г","Більше 10","Корм вологий для собак",121.51,159,0,{"$f":"G35*I35","v":0}]
[null,1111145701,"170535/7398","Profine Junior Large Breed з куркою для цуценят великих порід, 3 кг","Менше 10","Корм сухий для собак",473.67,618,0,{"$f":"G36*I36","v":0}]
[null,1111145702,"170555/7596","Profine Junior Large Breed з лососем для цуценят великих порід, 15 кг","Менше 10","Корм сухий для собак",2811.21,3657,0,{"$f":"G37*I37","v":0}]
[null,1111139063,"170534/7381","Profine Junior Large Breed курка д/молод. соб великих порід, 15 кг","Менше 10","Корм сухий для собак",1955.22,2544,0,{"$f":"G38*I38","v":0}]
[null,1111145704,"170551/7558","Profine Light Lamb ягня д/дорослих собак з надмірною вагою, 15 кг","Менше 10","Корм сухий для собак",2463.7800000000002,3113,0,{"$f":"G39*I39","v":0}]
[null,1111145705,"170552/7565","Profine Light Lamb ягня д/дорослих собак з надмірною вагою, 3 кг","Менше 10","Корм сухий для собак",583.58000000000004,738,0,{"$f":"G40*I40","v":0}]
[null,1111145706,"170532/7367","Profine Puppy Chicken курка для цуценят усіх порід, 15 кг","Менше 10","Корм сухий для собак",1797.77,2427,0,{"$f":"G41*I41","v":0}]
[null,1111145707,"170533/7374","Profine Puppy Chicken курка для цуценят усіх порід, 3 кг","Менше 10","Корм сухий для собак",444.8,602,0,{"$f":"G42*I42","v":0}]
[null,1111145708,"170547/7510","Profine Puppy Lamb ягня для цуценят усіх порід, 15 кг","Менше 10","Корм сухий для собак",2867.82,3872,0,{"$f":"G43*I43","v":0}]
[null,1111145710,"170545/7497","Profine Senior Turkey індичка для старіючих собак, 15 кг","Менше 10","Корм сухий для собак",2087.69,2636,0,{"$f":"G44*I44","v":0}]
[null,1111145711,"170546/7503","Profine Senior Turkey індичка для старіючих собак, 3 кг","Менше 10","Корм сухий для собак",503.59,637,0,{"$f":"G45*I45","v":0}]

{"sheet":"ProVET аква","index":54,"n_rows":81,"n_cols":10,"rows_kept":81,"cut":false,"hidden":false,"merged":[[52,0,56,0],[7,0,8,0],[9,0,19,0],[20,0,30,0],[34,0,36,0],[41,0,42,0],[45,0,47,0]]}
[]
[null,null,null,null,null,null,"suziria.ua"]
[null,null,null,null,null,null,"0 800 21 82 99"]
[null,null,null,null,null,null,"feedback@suziria.ua"]
[]
["Зображення","Код","Артикул","Номенклатура","Наявність","Категорія","Ціна опт.","Ціна РРЦ","Замовлення, шт.","Сума, грн."]
[null,null,null,null,null,null,null,null,null,{"$f":"SUM(J8:J81)","v":0}]
[null,11070,"PR740574","Акваріум кутовий 57х57х45 см 85 л","Менше 10","Акваріуми, акваріумні набори, комплектуючі",2754.65,3581,0,{"$f":"G8*I8","v":0}]
[null,9356,"PR740575","Акваріум кутовий 70х70х50 см 142 л","Менше 10","Акваріуми, акваріумні набори, комплектуючі",4964.58,6454,0,{"$f":"G9*I9","v":0}]
[null,11025,"PR740556 (506401)","Акваріум овальний 100х40х50 см 190 л","Менше 10","Акваріуми, акваріумні набори, комплектуючі",5097.84,6627,0,{"$f":"G10*I10","v":0}]
[null,10400,"PR740557","Акваріум овальний 120х40х50 см 220 л","Менше 10","Акваріуми, акваріумні набори, комплектуючі",5877.33,7641,0,{"$f":"G11*I11","v":0}]
[null,8523,"PR740558","Акваріум овальний 150х50х60 см 400 л","Менше 10","Акваріуми, акваріумні набори, комплектуючі",13286.19,17272,0,{"$f":"G12*I12","v":0}]
[null,1111112596,"PR740546","Акваріум овальний 40х25х25 см 24 л","Більше 10","Акваріуми, акваріумні набори, комплектуючі",900,1170,0,{"$f":"G13*I13","v":0}]
[null,1111113082,"PR740547","Акваріум овальний 40х25х34 см 32 л","Менше 10","Акваріуми, акваріумні набори, комплектуючі",952.32,1237,0,{"$f":"G14*I14","v":0}]
[null,5884,"PR740549","Акваріум овальний 50х30х30 см 40 л","Менше 10","Акваріуми, акваріумні набори, комплектуючі",1095.82,1424,0,{"$f":"G15*I15","v":0}]
[null,10974,"PR740550","Акваріум овальний 50х30х40 см 52 л","Менше 10","Акваріуми, акваріумні набори, комплектуючі",1358.29,1766,0,{"$f":"G16*I16","v":0}]
[null,5885,"PR740551","Акваріум овальний 60х30х30 см 54 л","Менше 10","Акваріуми, акваріумні набори, комплектуючі",1315.85,1710,0,{"$f":"G17*I17","v":0}]
[null,10975,"PR740552","Акваріум овальний 60х30х40 см 62 л","Менше 10","Акваріуми, акваріумні набори, комплектуючі",1554.27,2020,0,{"$f":"G18*I18","v":0}]
[null,5886,"PR740554","Акваріум овальний 80х35х40 см 100 л","Менше 10","Акваріуми, акваріумні набори, комплектуючі",2614.4499999999998,3398,0,{"$f":"G19*I19","v":0}]
[null,10976,"PR740555","Акваріум овальний 80х35х45 см 110 л","Менше 10","Акваріуми, акваріумні набори, комплектуючі",2869.2,3730,0,{"$f":"G20*I20","v":0}]
[null,6970,"PR740570","Акваріум прямий 100х40х50 см 200 л","Менше 10","Акваріуми, акваріумні набори, комплектуючі",5049.4399999999996,6565,0,{"$f":"G21*I21","v":0}]
[null,1111133642,"PR740571","Акваріум прямий 100х40х60 см 235 л H=60 см","Менше 10","Акваріуми, акваріумні набори, комплектуючі",6225.84,8094,0,{"$f":"G22*I22","v":0}]
[null,6969,"PR740572","Акваріум прямий 120х40х50 см 240 л","Менше 10","Акваріуми, акваріумні набори, комплектуючі",5843.44,7596,0,{"$f":"G23*I23","v":0}]
[null,7257,"PR740573","Акваріум прямий 150х50х60 см 450 л","Менше 10","Акваріуми, акваріумні набори, комплектуючі",11466.64,14907,0,{"$f":"G24*I24","v":0}]
[null,4666,"PR740559","Акваріум прямий 36х23х27 см 22 л","Менше 10","Акваріуми, акваріумні набори, комплектуючі",635.65,826,0,{"$f":"G25*I25","v":0}]
[null,7859,"PR740560","Акваріум прямий 40х25х34 см 34 л","Менше 10","Акваріуми, акваріумні набори, комплектуючі",856.01,1113,0,{"$f":"G26*I26","v":0}]
[null,4649,"PR740562","Акваріум прямий 50х30х36 см 54 л","Менше 10","Акваріуми, акваріумні набори, комплектуючі",1048.79,1363,0,{"$f":"G27*I27","v":0}]
[null,6728,"PR740563","Акваріум прямий 50х30х40 см 60 л","Менше 10","Акваріуми, акваріумні набори, комплектуючі",1221.27,1588,0,{"$f":"G28*I28","v":0}]
[null,5560,"PR740564","Акваріум прямий 60х30х36 см 65 л","Менше 10","Акваріуми, акваріумні набори, комплектуючі",1398.48,1818,0,{"$f":"G29*I29","v":0}]
[null,6727,"PR740565","Акваріум прямий 60х30х42 см 72 л","Менше 10","Акваріуми, акваріумні набори, комплектуючі",1642.75,2136,0,{"$f":"G30*I30","v":0}]
[null,4807,"PR740567","Акваріум прямий 80х35х42 см 112 л","Менше 10","Акваріуми, акваріумні набори, комплектуючі",2376.81,3089,0,{"$f":"G31*I31","v":0}]
[null,5206,"PR740568","Акваріум прямий 80х35х50 см 140 л","Менше 10","Акваріуми, акваріумні набори, комплектуючі",2844.25,3698,0,{"$f":"G32*I32","v":0}]
[null,1111133643,"PR740569","Акваріум прямий 80х35х60 см 170 л H=60 см","Менше 10","Акваріуми, акваріумні набори, комплектуючі",4344.82,5648,0,{"$f":"G33*I33","v":0}]
[null,1111160197,"PR241673","Комплект «Міні-куб» 9,5 л","Менше 10","Акваріуми, акваріумні набори, комплектуючі",1800,2340,0,{"$f":"G34*I34","v":0}]
[null,1111160537,"PR241735","Комплект НЕОН LED 32л Овальний","Менше 10","Акваріуми, акваріумні набори, комплектуючі",2008.76,2611,0,{"$f":"G35*I35","v":0}]
[null,1111160538,"PR241734","Комплект НЕОН LED 34л Прямий","Менше 10","Акваріуми, акваріумні набори, комплектуючі",1887.11,2453,0,{"$f":"G36*I36","v":0}]
[null,1111160539,"PR241733","Комплект НЕОН LED 52л Овальний","Менше 10","Акваріуми, акваріумні набори, комплектуючі",2591.4299999999998,3370,0,{"$f":"G37*I37","v":0}]
[null,1111160540,"PR241732","Комплект НЕОН LED 54л Прямий","Менше 10","Акваріуми, акваріумні набори, комплектуючі",2290.8200000000002,2978,0,{"$f":"G38*I38","v":0}]
[null,1111160541,"PR241731","Комплект НЕОН LED 62л Овальний","Менше 10","Акваріуми, акваріумні набори, комплектуючі",2674.16,3477,0,{"$f":"G39*I39","v":0}]
[null,1111160542,"PR241730","Комплект НЕОН LED 72л Прямий","Менше 10","Акваріуми, акваріумні набори, комплектуючі",2869.34,3730,0,{"$f":"G40*I40","v":0}]
[null,1111160543,"PR241729","Комплект СКАЛЯРІЯ LED 32л Овальний","Менше 10","Акваріуми, акваріумні набори, комплектуючі",2403.7600000000002,3125,0,{"$f":"G41*I41","v":0}]
[null,1111160544,"PR241728","Комплект СКАЛЯРІЯ LED 34л Прямий","Менше 10","Акваріуми, акваріумні набори, комплектуючі",2194.89,2853,0,{"$f":"G42*I42","v":0}]
[null,1111160545,"PR241727","Комплект СКАЛЯРІЯ LED 52л Овальний","Менше 10","Акваріуми, акваріумні набори, комплектуючі",2968.45,3859,0,{"$f":"G43*I43","v":0}]
[null,1111160546,"PR241726","Комплект СКАЛЯРІЯ LED 54л Прямий","Менше 10","Акваріуми, акваріумні набори, комплектуючі",2540.7199999999998,3303,0,{"$f":"G44*I44","v":0}]
[null,1111160547,"PR241725","Комплект СКАЛЯРІЯ LED 62л Овальний","Менше 10","Акваріуми, акваріумні набори, комплектуючі",3085.49,4012,0,{"$f":"G45*I45","v":0}]
[null,1111163638,"PR241937","Кришка «LED LIGHT» 50х30 ОВ НОВА","Менше 10","Обладнання для акваріума, комплектуючі",1005,1307,0,{"$f":"G46*I46","v":0}]
[null,1111163637,"PR241938","Кришка «LED LIGHT» 50х30 ПР НОВА","Менше 10","Обладнання для акваріума, комплектуючі",1005,1307,0,{"$f":"G47*I47","v":0}]
[null,1111113166,"PR740677","Кришка 40х25 см овальна (міньон)","Менше 10","Обладнання для акваріума, комплектуючі",472.74,615,0,{"$f":"G48*I48","v":0}]
[null,1111111519,"PR740681","Кришка 40х25 см пряма (міньон)","Менше 10","Обладнання для акваріума, комплектуючі",472.74,615,0,{"$f":"G49*I49","v":0}]
[null,1111135983,"PR740685","Кришка 60х30 см овальна (міньон)","Менше 10","Обладнання для акваріума, комплектуючі",743.8,967,0,{"$f":"G50*I50","v":0}]
[null,1111136683,"PR740686","Кришка 60х30 см пряма (міньон)","Менше 10","Обладнання для акваріума, комплектуючі",743.8,967,0,{"$f":"G51*I51","v":0}]
[null,1111113909,"PR740687","Кришка кругла d21,5","Менше 10","Обладнання для акваріума, комплектуючі",424.99,552,0,{"$f":"G52*I52","v":0}]
[null,1111159078,"PR241460","Кришка-світильник Природа LED LIGHT для акваріума 100х40 ОВ","Менше 10","Обладнання для акваріума, комплектуючі",2494.41,3243,0,{"$f":"G53*I53","v":0}]
[null,1111159080,"PR241458","Кришка-світильник Природа LED LIGHT для акваріума 120х40 ОВ","Менше 10","Обладнання для акваріума, комплектуючі",2584.86,3360,0,{"$f":"G54*I54","v":0}]
[null,1111159079,"PR241459","Кришка-світильник Природа LED LIGHT для акваріума 120х40 ПР","Менше 10","Обладнання для акваріума, комплектуючі",2585,3361,0,{"$f":"G55*I55","v":0}]
[null,1111159081,"PR241457","Кришка-світильник Природа LED LIGHT для акваріума 150х50 ПР","Менше 10","Обладнання для акваріума, комплектуючі",3352.5,4358,0,{"$f":"G56*I56","v":0}]
[null,1111162200,"PR241939","Кришка-світильник Природа LED LIGHT для акваріума 40х25 ОВ НОВА","Менше 10","Обладнання для акваріума, комплектуючі",810,1055,0,{"$f":"G57*I57","v":0}]
[null,1111162199,"PR241940","Кришка-світильник Природа LED LIGHT для акваріума 40х25 ПР НОВА","Менше 10","Обладнання для акваріума, комплектуючі",810,1054,0,{"$f":"G58*I58","v":0}]
[null,1111162260,"PR241955","Кришка-світильник Природа LED LIGHT для акваріума 57*57 углова","Менше 10","Обладнання для акваріума, комплектуючі",1620,2106,0,{"$f":"G59*I59","v":0}]
[null,1111162475,"PR241958","Кришка-світильник Природа LED LIGHT для акваріума 70*70 кут","Менше 10","Обладнання для акваріума, комплектуючі",1618,2103.4,0,{"$f":"G60*I60","v":0}]
[null,1111164462,"PR241933","Кришка-світильник Природа LED LIGHT для акваріума 80х35ОВ арт.PR241933","Менше 10","Обладнання для акваріума, комплектуючі",1749.6,2274,0,{"$f":"G61*I61","v":0}]
[null,1111164461,"PR241934","Кришка-світильник Природа LED LIGHT для акваріума 80х35ПР арт.PR241934","Менше 10","Обладнання для акваріума, комплектуючі",1749.6,2274,0,{"$f":"G62*I62","v":0}]
[null,1111162963,"PR242007","Кришка-світильник Природа LED LIGHT для акваріума 89х89 кут","Менше 10","Обладнання для акваріума, комплектуючі",2175,2827.5,0,{"$f":"G63*I63","v":0}]
[null,1111113628,"PR740609","Піддон під акваріум 100х40 см овальний","Менше 10","Акваріуми, акваріумні набори, комплектуючі",737.8,959,0,{"$f":"G64*I64","v":0}]
[null,1111113627,"PR740615","Піддон під акваріум 100х40 см прямий","Менше 10","Акваріуми, акваріумні набори, комплектуючі",737.8,959,0,{"$f":"G65*I65","v":0}]
[null,1111113630,"PR740620","Піддон під акваріум 120х40 см овальний","Менше 10","Акваріуми, акваріумні набори, комплектуючі",848.64,1103,0,{"$f":"G66*I66","v":0}]
[null,1111113629,"PR740623","Піддон під акваріум 120х40 см прямий","Менше 10","Акваріуми, акваріумні набори, комплектуючі",848.64,1103,0,{"$f":"G67*I67","v":0}]
[null,1111113632,"PR740626","Піддон під акваріум 150х50 см овальний","Менше 10","Акваріуми, акваріумні набори, комплектуючі",1250.56,1626,0,{"$f":"G68*I68","v":0}]
[null,1111113631,"PR740629","Піддон під акваріум 150х50 см прямий","Менше 10","Акваріуми, акваріумні набори, комплектуючі",1250.56,1626,0,{"$f":"G69*I69","v":0}]
[null,1111163640,"PR242070","Піддон під акваріум 50х30 ОВ НОВИЙ","Менше 10","Акваріуми, акваріумні набори, комплектуючі",193.5,252,0,{"$f":"G70*I70","v":0}]
[null,1111163639,"PR242071","Піддон під акваріум 50х30 ПР НОВИЙ","Менше 10","Акваріуми, акваріумні набори, комплектуючі",193.5,252,0,{"$f":"G71*I71","v":0}]
[null,1111114513,"PR740632","Піддон під акваріум 57 кутовий","Менше 10","Акваріуми, акваріумні набори, комплектуючі",532,691.6,0,{"$f":"G72*I72","v":0}]
[null,1111114514,"PR740635","Піддон під акваріум 70 кутовий","Менше 10","Акваріуми, акваріумні набори, комплектуючі",612,795.6,0,{"$f":"G73*I73","v":0}]
[null,1111113626,"PR740529","Піддон під акваріум 80х35 см овальний","Менше 10","Акваріуми, акваріумні набори, комплектуючі",363,471.9,0,{"$f":"G74*I74","v":0}]
[null,1111113625,"PR740535","Піддон під акваріум 80х35 см прямий","Менше 10","Акваріуми, акваріумні набори, комплектуючі",363,471.9,0,{"$f":"G75*I75","v":0}]
[null,1111162620,"PR241959","Піддон під акваріум, 60х30 см, овальний НОВИЙ","Менше 10","Акваріуми, акваріумні набори, комплектуючі",204,265,0,{"$f":"G76*I76","v":0}]
[null,1111162619,"PR241960","Піддон під акваріум, 60х30 см, прямокутний НОВИЙ","Менше 10","Акваріуми, акваріумні набори, комплектуючі",204,265,0,{"$f":"G77*I77","v":0}]
[null,1111162202,"PR241941","Піддон Природа під акваріум овальний 40х25см новий арт.PR241941","Менше 10","Акваріуми, акваріумні набори, комплектуючі",145,188.5,0,{"$f":"G78*I78","v":0}]
[null,1111162201,"PR241942","Піддон Природа під акваріум прямий 40х25см новий арт.PR241942","Менше 10","Акваріуми, акваріумні набори, комплектуючі",145,188.5,0,{"$f":"G79*I79","v":0}]
[null,1111126466,"PR740445","Туалет для собак великий 55х57 см","Менше 10","Туалети",623.4,810,0,{"$f":"G80*I80","v":0}]
[null,1111125064,"PR740446","Туалет для собак малий 40х55 см","Менше 10","Туалети",516.30999999999995,671,0,{"$f":"G81*I81","v":0}]

{"sheet":"ProVET економ","index":55,"n_rows":28,"n_cols":10,"rows_kept":28,"cut":false,"hidden":false,"merged":[]}
[]
[null,null,null,null,null,null,"suziria.ua"]
[null,null,null,null,null,null,"0 800 21 82 99"]
[null,null,null,null,null,null,"feedback@suziria.ua"]
[]
["Зображення","Код","Артикул","Номенклатура","Наявність","Категорія","Ціна опт.","Ціна РРЦ","Замовлення, шт.","Сума, грн."]
[null,null,null,null,null,null,null,null,null,{"$f":"SUM(J8:J28)","v":0}]
[null,6627,"PR740200","Шампунь ProVET Барсік репелентний для котів 15 мл","Більше 100","Косметика, засоби догляду для грумінгу",6.89,14,0,{"$f":"G8*I8","v":0}]
[null,7757,"PR740199","Шампунь ProVET Барсік репелентний для котів 250 мл","Більше 100","Косметика, засоби догляду для грумінгу",38.29,58,0,{"$f":"G9*I9","v":0}]
[null,4849,"PR740206","Шампунь ProVET Джессі репелентний для довгошерстих собак 15 мл","Більше 10","Косметика, засоби догляду для грумінгу",6.89,14,0,{"$f":"G10*I10","v":0}]
[null,7751,"PR740205","Шампунь ProVET Джессі репелентний для довгошерстих собак 250 мл","Більше 100","Косметика, засоби догляду для грумінгу",38.29,58,0,{"$f":"G11*I11","v":0}]
[null,7752,"PR740208","Шампунь ProVET Лорд репелентний для собак 250 мл","Більше 100","Косметика, засоби догляду для грумінгу",38.29,58,0,{"$f":"G12*I12","v":0}]
[null,6539,"PR740213","Шампунь ProVET Люкс гігієн. репелент. дії для котів та собак 15 мл","Більше 100","Косметика, засоби догляду для грумінгу",7.28,12,0,{"$f":"G13*I13","v":0}]
[null,6537,"PR740215","Шампунь ProVET Люкс гігієн. репелент. дії для кошенят та цуценят 15 мл","Більше 100","Косметика, засоби догляду для грумінгу",7.28,12,0,{"$f":"G14*I14","v":0}]
[null,1111157177,"PR241272","Шампунь ProVET Люкс гігієн. репелент.для короткош.котів та собак 240мл","Більше 10","Косметика, засоби догляду для грумінгу",50.96,71,0,{"$f":"G15*I15","v":0}]
[null,1111157176,"PR241271","Шампунь ProVET Люкс гігієн. репелент.ї дії для котів та собак 240 мл","Більше 100","Косметика, засоби догляду для грумінгу",50.96,71,0,{"$f":"G16*I16","v":0}]
[null,1111157179,"PR241274","Шампунь ProVET Люкс гігієн.репелент. для кошенят та цуценят 240 мл","Більше 100","Косметика, засоби догляду для грумінгу",50.96,71,0,{"$f":"G17*I17","v":0}]
[null,1111157178,"PR241273","Шампунь ProVET Люкс з дерматологіч. ефект. для котів та собак 240 мл","Більше 10","Косметика, засоби догляду для грумінгу",52.33,73,0,{"$f":"G18*I18","v":0}]
[null,4851,"PR740203","Шампунь ProVET Мурзик репелентний для короткошерстих котів 15 мл","Більше 10","Косметика, засоби догляду для грумінгу",6.89,14,0,{"$f":"G19*I19","v":0}]
[null,7756,"PR740202","Шампунь ProVET Мурзик репелентний для короткошерстих котів 250 мл","Більше 10","Косметика, засоби догляду для грумінгу",38.29,58,0,{"$f":"G20*I20","v":0}]
[null,7753,"PR740193","Шампунь ProVET Принц репелентний для короткошерстих собак 250 мл","Більше 100","Косметика, засоби догляду для грумінгу",38.29,58,0,{"$f":"G21*I21","v":0}]
[null,7754,"PR740190","Шампунь ProVET Пупсі репелентний для котят та цуценят 250 мл","Більше 100","Косметика, засоби догляду для грумінгу",38.29,58,0,{"$f":"G22*I22","v":0}]
[null,4853,"PR740191","Шампунь ProVET Пупсі репелентний для кошенят 15 мл","Більше 10","Косметика, засоби догляду для грумінгу",6.89,14,0,{"$f":"G23*I23","v":0}]
[null,4861,"PR740188","Шампунь ProVET Пупсі репелентний для цуценят 15 мл","Більше 10","Косметика, засоби догляду для грумінгу",6.89,14,0,{"$f":"G24*I24","v":0}]
[null,4850,"PR740197","Шампунь ProVET Пушок репелентний для довгошерстих котів 15 мл","Більше 10","Косметика, засоби догляду для грумінгу",6.89,14,0,{"$f":"G25*I25","v":0}]
[null,7755,"PR740196","Шампунь ProVET Пушок репелентний для довгошерстих котів 250 мл","Більше 10","Косметика, засоби догляду для грумінгу",38.29,58,0,{"$f":"G26*I26","v":0}]
[null,1111157181,"PR241276","Шампунь-кондиціонер ProVET Люкс для довгошерстих котів 240 мл","Більше 10","Косметика, засоби догляду для грумінгу",50.83,71,0,{"$f":"G27*I27","v":0}]
[null,1111157180,"PR241275","Шампунь-кондиціонер ProVET Люкс для довгошерстих собак 240 мл","Більше 10","Косметика, засоби догляду для грумінгу",50.83,71,0,{"$f":"G28*I28","v":0}]

{"sheet":"SaniPet","index":56,"n_rows":20,"n_cols":10,"rows_kept":20,"cut":false,"hidden":false,"merged":[]}
[]
[null,null,null,null,null,null,"suziria.ua"]
[null,null,null,null,null,null,"0 800 21 82 99"]
[null,null,null,null,null,null,"feedback@suziria.ua"]
[]
["Зображення","Код","Артикул","Номенклатура","Наявність","Категорія","Ціна опт.","Ціна РРЦ","Замовлення, шт.","Сума, грн."]
[null,null,null,null,null,null,null,null,null,{"$f":"SUM(J8:J20)","v":0}]
[null,1111140374,"PR020062","Гель ProVET SaniPet для догляд. за рот. порожнин. котів та собак 15 мл","Більше 10","Засоби для догляду за зубами та ротовою порожниною",37,54,0,{"$f":"G8*I8","v":0}]
[null,1111140371,"PR020058","Лосьйон ProVET SaniPet для догляду за вухами котів та собак 15 мл","Більше 10","Засоби для догляду за очима та вухами",44,63,0,{"$f":"G9*I9","v":0}]
[null,1111140373,"PR020059","Лосьйон ProVET SaniPet для догляду за вухами котів та собак 30 мл","Більше 10","Засоби для догляду за очима та вухами",64,93,0,{"$f":"G10*I10","v":0}]
[null,1111172229,"PR242911","Лосьйон ProVET SaniPet для догляду за вухами котів та собак 300 мл","Більше 10","Засоби для догляду за очима та вухами",140,204,0,{"$f":"G11*I11","v":0}]
[null,1111140370,"PR020060","Лосьйон ProVET SaniPet для догляду за очима котів та собак 15 мл","Більше 10","Засоби для догляду за очима та вухами",44,63,0,{"$f":"G12*I12","v":0}]
[null,1111140372,"PR020061","Лосьйон ProVET SaniPet для догляду за очима котів та собак 30 мл","Більше 100","Засоби для догляду за очима та вухами",64,93,0,{"$f":"G13*I13","v":0}]
[null,1111172228,"PR242910","Лосьйон ProVET SaniPet для догляду за очима котів та собак 300 мл","Більше 10","Засоби для догляду за очима та вухами",140,204,0,{"$f":"G14*I14","v":0}]
[null,1111148420,"PR240565","Спрей ProVET SaniPet відляк. від місць, не признач. для туалету, котам","Більше 100","Засоби для заборони",116,168,0,{"$f":"G15*I15","v":0}]
[null,1111148421,"PR240566","Спрей ProVET SaniPet відляк. від місць, не признач. для туалету,собак.","Більше 100","Засоби для заборони",116,168,0,{"$f":"G16*I16","v":0}]
[null,1111140430,"PR240564","Спрей ProVET SaniPet для захисту від дряпання для котів 250 мл","Більше 10","Засоби для заборони",116,168,0,{"$f":"G17*I17","v":0}]
[null,1111140431,"PR240561","Спрей ProVET SaniPet для захисту від погризення для собак 250 мл","Більше 100","Засоби для заборони",116,168,0,{"$f":"G18*I18","v":0}]
[null,1111140433,"PR240562","Спрей ProVET SaniPet для привчання до туалету котів 250 мл","Більше 10","Засоби для привчання",116,168,0,{"$f":"G19*I19","v":0}]
[null,1111140432,"PR240563","Спрей ProVET SaniPet для привчання до туалету собак 250 мл","Більше 100","Засоби для привчання",116,168,0,{"$f":"G20*I20","v":0}]

{"sheet":"Savory","index":57,"n_rows":96,"n_cols":10,"rows_kept":96,"cut":false,"hidden":false,"merged":[]}
[]
[null,null,null,null,null,null,"suziria.ua"]
[null,null,null,null,null,null,"0 800 21 82 99"]
[null,null,null,null,null,null,"feedback@suziria.ua"]
[]
["Зображення","Код","Артикул","Номенклатура","Наявність","Категорія","Ціна опт.","Ціна РРЦ","Замовлення, шт.","Сума, грн."]
[null,null,null,null,null,null,null,null,null,{"$f":"SUM(J8:J96)","v":0}]
[null,1111162986,30167,"Savory Adult All Breeds rich in Fresh Duck and Rabbit для собак, 1 кг","Більше 10","Корм сухий для собак",373.94,486,0,{"$f":"G8*I8","v":0}]
[null,1111162988,30181,"Savory Adult All Breeds rich in Fresh Duck and Rabbit для собак, 12 кг","Більше 10","Корм сухий для собак",2949.06,3834,0,{"$f":"G9*I9","v":0}]
[null,1111162987,30174,"Savory Adult All Breeds rich in Fresh Duck and Rabbit для собак, 3 кг","Більше 10","Корм сухий для собак",923.76,1201,0,{"$f":"G10*I10","v":0}]
[null,1111162995,30020,"Savory Adult Cat Gourmand Fresh Salmon для довгошерстих котів, 2 кг","Більше 100","Корм сухий для котів",760.99,989,0,{"$f":"G11*I11","v":0}]
[null,1111162994,30013,"Savory Adult Cat Gourmand Fresh Salmon для довгошерстих котів, 400 г","Більше 100","Корм сухий для котів",195.87,255,0,{"$f":"G12*I12","v":0}]
[null,1111162996,30037,"Savory Adult Cat Gourmand Fresh Salmon для довгошерстих котів, 8 кг","Більше 100","Корм сухий для котів",2779.18,3613,0,{"$f":"G13*I13","v":0}]
[null,1111162998,30051,"Savory Adult Cat Gourmand Fresh Turkey and Duck д/котів-гурманів, 2 кг","Більше 100","Корм сухий для котів",776.95,1010,0,{"$f":"G14*I14","v":0}]
[null,1111162997,30044,"Savory Adult Cat Gourmand Fresh Turkey and Duck д/котів-гурманів, 400г","Більше 100","Корм сухий для котів",205.66,267,0,{"$f":"G15*I15","v":0}]
[null,1111162999,30068,"Savory Adult Cat Gourmand Fresh Turkey and Duck д/котів-гурманів, 8 кг","Більше 10","Корм сухий для котів",2803.05,3644,0,{"$f":"G16*I16","v":0}]
[null,1111163001,30082,"Savory Adult Cat Sensitive Digestion д/котів з чутл. травленням, 2 кг","Більше 100","Корм сухий для котів",743.26,966,0,{"$f":"G17*I17","v":0}]
[null,1111163000,30075,"Savory Adult Cat Sensitive Digestion д/котів з чутл. травленням, 400 г","Більше 100","Корм сухий для котів",193.07,251,0,{"$f":"G18*I18","v":0}]
[null,1111163002,30099,"Savory Adult Cat Sensitive Digestion д/котів з чутл. травленням, 8 кг","Більше 100","Корм сухий для котів",2713.32,3527,0,{"$f":"G19*I19","v":0}]
[null,1111163004,30112,"Savory Adult Cat Steril Fresh Lamb and Chicken д/стериліз. котів, 2 кг","Більше 100","Корм сухий для котів",739.33,961,0,{"$f":"G20*I20","v":0}]
[null,1111163003,30105,"Savory Adult Cat Steril Fresh Lamb and Chicken д/стериліз. котів, 400г","Більше 100","Корм сухий для котів",194.91,253,0,{"$f":"G21*I21","v":0}]
[null,1111163005,30129,"Savory Adult Cat Steril Fresh Lamb and Chicken д/стериліз. котів, 8 кг","Більше 100","Корм сухий для котів",2641.03,3433,0,{"$f":"G22*I22","v":0}]
[null,1111171566,31492,"Savory All Breed Sterilised rich in FreshTurkey д/стерил. собак, 1 кг","Більше 10","Корм сухий для собак",304.08999999999997,395,0,{"$f":"G23*I23","v":0}]
[null,1111171568,31515,"Savory All Breed Sterilised rich in FreshTurkey д/стерил. собак, 12 кг","Більше 10","Корм сухий для собак",2409.4,3132,0,{"$f":"G24*I24","v":0}]
[null,1111171567,31508,"Savory All Breed Sterilised rich in FreshTurkey д/стерил. собак, 3 кг","Немає в наявності","Корм сухий для собак",771,999,0,{"$f":"G25*I25","v":0}]
[null,1111165064,30747,"Savory Cat Can Adult Sterilised консерви курка д/стериліз. котів, 100г","Більше 10","Корм вологий для котів",38.840000000000003,50,0,{"$f":"G26*I26","v":0}]
[null,1111165065,30754,"Savory Cat Can Adult Sterilised консерви курка д/стериліз. котів, 200г","Більше 100","Корм вологий для котів",68.739999999999995,89,0,{"$f":"G27*I27","v":0}]
[null,1111165066,30761,"Savory Cat Can Adult Sterilised консерви курка д/стериліз. котів, 400г","Більше 100","Корм вологий для котів",107.32,140,0,{"$f":"G28*I28","v":0}]
[null,1111165061,30716,"Savory Cat Can Adult Sterilised консерви ягня д/стериліз. котів, 100 г","Більше 100","Корм вологий для котів",38.840000000000003,50,0,{"$f":"G29*I29","v":0}]
[null,1111165062,30723,"Savory Cat Can Adult Sterilised консерви ягня д/стериліз. котів, 200 г","Більше 100","Корм вологий для котів",68.739999999999995,89,0,{"$f":"G30*I30","v":0}]
[null,1111165063,30730,"Savory Cat Can Adult Sterilised консерви ягня д/стериліз. котів, 400 г","Більше 100","Корм вологий для котів",107.32,140,0,{"$f":"G31*I31","v":0}]
[null,1111165070,30600,"Savory Cat Can Adult консерви качка для вибагливих котів, 100 г","Більше 100","Корм вологий для котів",38.840000000000003,50,0,{"$f":"G32*I32","v":0}]
[null,1111165071,30617,"Savory Cat Can Adult консерви качка для вибагливих котів, 200 г","Більше 100","Корм вологий для котів",68.739999999999995,89,0,{"$f":"G33*I33","v":0}]
[null,1111165072,30624,"Savory Cat Can Adult консерви качка для вибагливих котів, 400 г","Більше 100","Корм вологий для котів",107.32,140,0,{"$f":"G34*I34","v":0}]
[null,1111165067,30631,"Savory Cat Can Adult консерви риба для вибагливих котів, 100 г","Більше 100","Корм вологий для котів",38.840000000000003,50,0,{"$f":"G35*I35","v":0}]
[null,1111165068,30648,"Savory Cat Can Adult консерви риба для вибагливих котів, 200 г","Більше 100","Корм вологий для котів",68.739999999999995,89,0,{"$f":"G36*I36","v":0}]
[null,1111165069,30655,"Savory Cat Can Adult консерви риба для вибагливих котів, 400 г","Більше 10","Корм вологий для котів",107.32,140,0,{"$f":"G37*I37","v":0}]
[null,1111165059,30679,"Savory Cat Can Kitten консерви індичка для кошенят, 100 г","Більше 100","Корм вологий для котів",38.840000000000003,50,0,{"$f":"G38*I38","v":0}]
[null,1111165060,30686,"Savory Cat Can Kitten консерви індичка для кошенят, 200 г","Більше 100","Корм вологий для котів",68.739999999999995,89,0,{"$f":"G39*I39","v":0}]
[null,1111171667,20123,"Savory Cat Pouch for Adult, with Lamb and beetroot in Gravy д/кот. 85г","Більше 100","Корм вологий для котів",30.91,42,0,{"$f":"G40*I40","v":0}]
[null,1111171666,20116,"Savory Cat Pouch for Adult, with Salmon and Peas in Gravy д/котів, 85г","Більше 100","Корм вологий для котів",30.91,42,0,{"$f":"G41*I41","v":0}]
[null,1111171662,20079,"Savory Cat Pouch for Kitten with Salmon and Carrot д/кошенят, 85 г","Більше 100","Корм вологий для котів",30.91,42,0,{"$f":"G42*I42","v":0}]
[null,1111171663,20086,"Savory Cat Pouch for Kitten, with Lamb and Pumpkin д/кошенят, 85 г","Більше 100","Корм вологий для котів",30.91,42,0,{"$f":"G43*I43","v":0}]
[null,1111171664,20093,"Savory Cat Pouch for Sterilised with Lamb and Cranberry д/стер.кот 85г","Більше 100","Корм вологий для котів",30.91,42,0,{"$f":"G44*I44","v":0}]
[null,1111171665,20109,"Savory Cat Pouch for Sterilised, with Turkey and Carrot д/стер.кот 85г","Більше 100","Корм вологий для котів",30.91,42,0,{"$f":"G45*I45","v":0}]
[null,1111165033,30563,"Savory Dog All breeds Puppy консерви з кроликом для цуценят, 100 г","Більше 100","Корм вологий для собак",38.840000000000003,50,0,{"$f":"G46*I46","v":0}]
[null,1111165034,30570,"Savory Dog All breeds Puppy консерви з кроликом для цуценят, 200 г","Більше 100","Корм вологий для собак",68.739999999999995,89,0,{"$f":"G47*I47","v":0}]
[null,1111165035,30587,"Savory Dog All breeds Puppy консерви з кроликом для цуценят, 400 г","Більше 100","Корм вологий для собак",107.32,140,0,{"$f":"G48*I48","v":0}]
[null,1111165036,30532,"Savory Dog All breeds Puppy консерви з куркою для цуценят, 100 г","Більше 100","Корм вологий для собак",38.840000000000003,50,0,{"$f":"G49*I49","v":0}]
[null,1111165037,30549,"Savory Dog All breeds Puppy консерви з куркою для цуценят, 200 г","Більше 100","Корм вологий для собак",68.739999999999995,89,0,{"$f":"G50*I50","v":0}]
[null,1111165038,30556,"Savory Dog All breeds Puppy консерви з куркою для цуценят, 400 г","Більше 100","Корм вологий для собак",107.32,140,0,{"$f":"G51*I51","v":0}]
[null,1111165043,30372,"Savory Dog Gourmand консерви 4 види м_яса для собак, 100 г","Більше 100","Корм вологий для собак",38.840000000000003,50,0,{"$f":"G52*I52","v":0}]
[null,1111165044,30389,"Savory Dog Gourmand консерви 4 види м_яса для собак, 200 г","Більше 100","Корм вологий для собак",68.739999999999995,89,0,{"$f":"G53*I53","v":0}]
[null,1111165045,30396,"Savory Dog Gourmand консерви 4 види м_яса для собак, 400 г","Більше 100","Корм вологий для собак",107.32,140,0,{"$f":"G54*I54","v":0}]
[null,1111165051,30495,"Savory Dog Gourmand консерви індичка для собак, 100 г","Більше 100","Корм вологий для собак",38.840000000000003,50,0,{"$f":"G55*I55","v":0}]
[null,1111165052,30501,"Savory Dog Gourmand консерви індичка для собак, 200 г","Немає в наявності","Корм вологий для собак",68.739999999999995,89,0,{"$f":"G56*I56","v":0}]
[null,1111165053,30518,"Savory Dog Gourmand консерви індичка для собак, 400 г","Більше 100","Корм вологий для собак",107.32,140,0,{"$f":"G57*I57","v":0}]
[null,1111165039,30457,"Savory Dog Gourmand консерви качка для собак, 100 г","Більше 100","Корм вологий для собак",38.840000000000003,50,0,{"$f":"G58*I58","v":0}]
[null,1111165040,30464,"Savory Dog Gourmand консерви качка для собак, 200 г","Більше 100","Корм вологий для собак",68.739999999999995,89,0,{"$f":"G59*I59","v":0}]
[null,1111165041,30471,"Savory Dog Gourmand консерви качка для собак, 400 г","Більше 100","Корм вологий для собак",107.32,140,0,{"$f":"G60*I60","v":0}]
[null,1111165047,30419,"Savory Dog Gourmand консерви яловичина для собак, 100 г","Більше 100","Корм вологий для собак",38.840000000000003,50,0,{"$f":"G61*I61","v":0}]
[null,1111165048,30426,"Savory Dog Gourmand консерви яловичина для собак, 200 г","Більше 100","Корм вологий для собак",68.739999999999995,89,0,{"$f":"G62*I62","v":0}]
[null,1111165049,30433,"Savory Dog Gourmand консерви яловичина для собак, 400 г","Більше 100","Корм вологий для собак",107.32,140,0,{"$f":"G63*I63","v":0}]
[null,1111162974,30211,"Savory Junior Large rich in Fresh Turkey and Chicken для юніорів, 12кг","Більше 10","Корм сухий для собак",2532.9,3293,0,{"$f":"G64*I64","v":0}]
[null,1111162973,30204,"Savory Junior Large rich in Fresh Turkey and Chicken для юніорів, 3 кг","Більше 10","Корм сухий для собак",809.62,1053,0,{"$f":"G65*I65","v":0}]
[null,1111163007,30143,"Savory Kitten Chicken with Fresh Turkey свіжа індичка д/кошенят, 2 кг","Більше 100","Корм сухий для котів",706.49,918,0,{"$f":"G66*I66","v":0}]
[null,1111163006,30136,"Savory Kitten Chicken with Fresh Turkey свіжа індичка д/кошенят, 400 г","Більше 100","Корм сухий для котів",179.04,233,0,{"$f":"G67*I67","v":0}]
[null,1111163008,30150,"Savory Kitten Chicken with Fresh Turkey свіжа індичка д/кошенят, 8 кг","Більше 10","Корм сухий для котів",2486.0300000000002,3232,0,{"$f":"G68*I68","v":0}]
[null,1111162982,30242,"Savory Large Breeds rich in Fresh Turkey and Lamb д/вел. пор.соб. 12кг","Більше 10","Корм сухий для собак",2639.04,3430,0,{"$f":"G69*I69","v":0}]
[null,1111162981,30235,"Savory Large Breeds rich in Fresh Turkey and Lamb д/вел. пор.соб. 3кг","Більше 10","Корм сухий для собак",819.71,1066,0,{"$f":"G70*I70","v":0}]
[null,1111162980,30273,"Savory Medium Breed rich in Fresh Turkey and Lamb д/сер. пор. соб 12кг","Більше 10","Корм сухий для собак",2543.69,3306,0,{"$f":"G71*I71","v":0}]
[null,1111162978,30259,"Savory Medium Breed rich in Fresh Turkey and Lamb д/сер. пор. соб. 1кг","Більше 10","Корм сухий для собак",305.76,397,0,{"$f":"G72*I72","v":0}]
[null,1111162979,30266,"Savory Medium Breed rich in Fresh Turkey and Lamb д/сер. пор. соб. 3кг","Більше 100","Корм сухий для собак",805.05,1047,0,{"$f":"G73*I73","v":0}]
[null,1111162972,30303,"Savory Puppy rich in Fresh Turkey and Chicken інд/курка д/цуценят 12кг","Більше 10","Корм сухий для собак",2574.6999999999998,3347,0,{"$f":"G74*I74","v":0}]
[null,1111162970,30280,"Savory Puppy rich in Fresh Turkey and Chicken інд/курка д/цуценят, 1кг","Більше 100","Корм сухий для собак",301.60000000000002,392,0,{"$f":"G75*I75","v":0}]
[null,1111162971,30297,"Savory Puppy rich in Fresh Turkey and Chicken інд/курка д/цуценят, 3кг","Більше 10","Корм сухий для собак",808.58,1051,0,{"$f":"G76*I76","v":0}]
[null,1111162975,30341,"Savory Small Breed rich in Fresh Turkey and Lamb д/мал. порід соб. 1кг","Більше 100","Корм сухий для собак",319.56,415,0,{"$f":"G77*I77","v":0}]
[null,1111162976,30358,"Savory Small Breed rich in Fresh Turkey and Lamb д/мал. порід соб. 3кг","Більше 100","Корм сухий для собак",825.57,1073,0,{"$f":"G78*I78","v":0}]
[null,1111162977,30365,"Savory Small Breed rich in Fresh Turkey and Lamb д/мал. порід соб. 8кг","Більше 100","Корм сухий для собак",2030.73,2640,0,{"$f":"G79*I79","v":0}]
[null,1111162983,30310,"Savory Small Breeds rich in Fresh Lamb ягня д/мал. порід собак, 1 кг","Більше 10","Корм сухий для собак",358.09,466,0,{"$f":"G80*I80","v":0}]
[null,1111162984,30327,"Savory Small Breeds rich in Fresh Lamb ягня д/мал. порід собак, 3 кг","Більше 10","Корм сухий для собак",930.93,1210,0,{"$f":"G81*I81","v":0}]
[null,1111162985,30334,"Savory Small Breeds rich in Fresh Lamb ягня д/мал. порід собак, 8 кг","Більше 10","Корм сухий для собак",2156.0700000000002,2803,0,{"$f":"G82*I82","v":0}]
[null,1111171669,31461,"Ласощі SAVORY Гурман із Куркою та Сиром для котів, 60г","Більше 100","Ласощі для котів",68.349999999999994,96,0,{"$f":"G83*I83","v":0}]
[null,1111171668,31454,"Ласощі SAVORY Гурман із лососем  для котів, 60г","Більше 100","Ласощі для котів",68.349999999999994,96,0,{"$f":"G84*I84","v":0}]
[null,1111171671,31485,"Ласощі SAVORY подушечки для виведення шерсті зі шлунку котів, 60 г","Більше 100","Ласощі для котів",68.349999999999994,96,0,{"$f":"G85*I85","v":0}]
[null,1111171670,31478,"Ласощі SAVORY подушечки для здоров я зубів для котів, 60 г","Більше 100","Ласощі для котів",68.349999999999994,96,0,{"$f":"G86*I86","v":0}]
[null,1111168073,31324,"М_які ласощі Savory антипаразит. для собак, тунець і дикий часник 200г","Більше 100","Ласощі для собак",132.12,178,0,{"$f":"G87*I87","v":0}]
[null,1111168080,31416,"М_які ласощі Savory для здоров я стерилізованих котів, ягня та чорниці","Більше 10","Ласощі для котів",77.14,108,0,{"$f":"G88*I88","v":0}]
[null,1111168074,"31331 Savory","М_які ласощі Savory для зміцн імунітету собак, качка та шипшина, 200 г","Більше 100","Ласощі для собак",132.12,178,0,{"$f":"G89*I89","v":0}]
[null,1111168075,31348,"М_які ласощі Savory для покращ. травлення собак, ягня та ромашка, 200г","Більше 100","Ласощі для собак",132.12,178,0,{"$f":"G90*I90","v":0}]
[null,1111168079,31409,"М_які ласощі Savory для покращення травлення котів, качка та чебрець","Більше 100","Ласощі для котів",77.14,108,0,{"$f":"G91*I91","v":0}]
[null,1111168078,31379,"Хрусткі ласощі Savory для здор. росту цуценят, ягня та обліпихи, 200 г","Більше 100","Ласощі для собак",132.12,178,0,{"$f":"G92*I92","v":0}]
[null,1111168077,31362,"Хрусткі ласощі Savory для суглобів собак, кролик і горобина, 200 г","Більше 100","Ласощі для собак",132.12,178,0,{"$f":"G93*I93","v":0}]
[null,1111168076,31355,"Хрусткі ласощі Savory для шкіри та шерсті собак, лосось і чорнобр.200г","Більше 100","Ласощі для собак",132.12,178,0,{"$f":"G94*I94","v":0}]
[null,1111168082,31393,"Хрусткі ласощі Savory індичка і журавлина для здорового росту кошенят","Більше 100","Ласощі для котів",77.14,108,0,{"$f":"G95*I95","v":0}]
[null,1111168081,31386,"Хрусткі ласощі Savory лосось і малина для здоров_я шкіри/шерсті котів","Більше 100","Ласощі для котів",77.14,108,0,{"$f":"G96*I96","v":0}]

{"sheet":"SD Essence","index":58,"n_rows":9,"n_cols":10,"rows_kept":9,"cut":false,"hidden":false,"merged":[]}
[]
[null,null,null,null,null,null,"suziria.ua"]
[null,null,null,null,null,null,"0 800 21 82 99"]
[null,null,null,null,null,null,"feedback@suziria.ua"]
[]
["Зображення","Код","Артикул","Номенклатура","Наявність","Категорія","Ціна опт.","Ціна РРЦ","Замовлення, шт.","Сума, грн."]
[null,null,null,null,null,null,null,null,null,{"$f":"SUM(J8:J9)","v":0}]
[null,1111169978,920031,"Наповнювач тофу Essence для котячого туалету, 2 мм, натуральний, 6л","Більше 100","Наповнювачі на рослинній основі (в т.ч. паперові)",258.5,349,0,{"$f":"G8*I8","v":0}]
[null,1111169976,920017,"Наповнювач тофу Essence для котячого туалету, 3 мм, зелений чай, 6л","Більше 100","Наповнювачі на рослинній основі (в т.ч. паперові)",258.5,349,0,{"$f":"G9*I9","v":0}]

{"sheet":"SD SaniPet","index":59,"n_rows":18,"n_cols":10,"rows_kept":18,"cut":false,"hidden":false,"merged":[]}
[]
[null,null,null,null,null,null,"suziria.ua"]
[null,null,null,null,null,null,"0 800 21 82 99"]
[null,null,null,null,null,null,"feedback@suziria.ua"]
[]
["Зображення","Код","Артикул","Номенклатура","Наявність","Категорія","Ціна опт.","Ціна РРЦ","Замовлення, шт.","Сума, грн."]
[null,null,null,null,null,null,null,null,null,{"$f":"SUM(J8:J18)","v":0}]
[null,1111179409,"PR243420_Спеццена","Наповнювач Sani Pet д/котячих туалетів силікагелевий 10 л","Більше 100","Наповнювачі силікагелеві",400.95,578,0,{"$f":"G8*I8","v":0}]
[null,1111179408,"PR243421_Спеццена","Наповнювач Sani Pet д/котячих туалетів силікагелевий 7,6 л","Більше 100","Наповнювачі силікагелеві",285.60000000000002,412,0,{"$f":"G9*I9","v":0}]
[null,1111151640,"PR240780 кр.лавандаСПЦЕНА","Наповнювач бентоніт SANI PET вел.гран. лаванда 5кг NEW","Більше 100","Наповнювачі бентонітові",77,127,0,{"$f":"G10*I10","v":0}]
[null,1111151641,"PR240781 средний_СПЕЦЦЕНА","Наповнювач бентоніт SANI PET середня гранула 5кг NEW","Більше 100","Наповнювачі бентонітові",77,127,0,{"$f":"G11*I11","v":0}]
[null,1111143123,"PR240434 ср.лавандаСПЦЕНА","Наповнювач бентоніт. SANI PET середній з лавандою 5 кг","Більше 100","Наповнювачі бентонітові",77,127,0,{"$f":"G12*I12","v":0}]
[null,1111151639,"PR240779 крупный_СПЕЦЦЕНА","Наповнювач бентонітовий SANI PET велика гранула 5кг NEW","Більше 100","Наповнювачі бентонітові",77,127,0,{"$f":"G13*I13","v":0}]
[null,1111151642,"PR240784 мелкий_СПЕЦЦЕНА","Наповнювач бентонітовий SANI PET дрібна гранула 5кг NEW","Більше 100","Наповнювачі бентонітові",77,127,0,{"$f":"G14*I14","v":0}]
[null,1111140515,"PR240266  3,8L_СПЕЦЦЕНА","Наповнювач силікогелевий SANI PET 3,8 л","Більше 100","Наповнювачі силікагелеві",161.46,247,0,{"$f":"G15*I15","v":0}]
[null,1111140514,"PR240267  5L_СПЕЦЦЕНА","Наповнювач силікогелевий SANI PET 5 л","Більше 100","Наповнювачі силікагелеві",214.81,329,0,{"$f":"G16*I16","v":0}]
[null,8688,"PR240120","Пелюшки для собак 60?45 см (15 шт.) ПРИРОДА™","Більше 100","Пелюшки для собак",135,188.7,0,{"$f":"G17*I17","v":0}]
[null,1111135511,"PR240121","Пелюшки для собак 60?60 см (15 шт.) ПРИРОДА™","Більше 10","Пелюшки для собак",119.88,168,0,{"$f":"G18*I18","v":0}]

{"sheet":"SGbox","index":60,"n_rows":9,"n_cols":10,"rows_kept":9,"cut":false,"hidden":false,"merged":[]}
[]
[null,null,null,null,null,null,"suziria.ua"]
[null,null,null,null,null,null,"0 800 21 82 99"]
[null,null,null,null,null,null,"feedback@suziria.ua"]
[]
["Зображення","Код","Артикул","Номенклатура","Наявність","Категорія","Ціна опт.","Ціна РРЦ","Замовлення, шт.","Сума, грн."]
[null,null,null,null,null,null,null,null,null,{"$f":"SUM(J8:J9)","v":0}]
[null,1111166072,"SG16061","Переноска для собак та котів до 12 кг 39*55*36,5 см чорний/мікс","Більше 10","Переноски пластикові",756.14,1092,0,{"$f":"G8*I8","v":0}]
[null,1111164362,"SG16053","Переноска для собак та котів до 6 кг 35*49*32,5 см чорний/мікс","Більше 10","Переноски пластикові",394.87,539,0,{"$f":"G9*I9","v":0}]

{"sheet":"Skipper","index":61,"n_rows":10,"n_cols":10,"rows_kept":10,"cut":false,"hidden":false,"merged":[]}
[]
[null,null,null,null,null,null,"suziria.ua"]
[null,null,null,null,null,null,"0 800 21 82 99"]
[null,null,null,null,null,null,"feedback@suziria.ua"]
[]
["Зображення","Код","Артикул","Номенклатура","Наявність","Категорія","Ціна опт.","Ціна РРЦ","Замовлення, шт.","Сума, грн."]
[null,null,null,null,null,null,null,null,null,{"$f":"SUM(J8:J10)","v":0}]
[null,1111168505,101103,"SKIPPER корм сухий з куркою та яловичиною для собак, 10 кг","Більше 10","Корм сухий для собак",621.5,809,0,{"$f":"G8*I8","v":0}]
[null,1111168503,101100,"SKIPPER корм сухий з яловичиною та овочами для собак, 10 кг","Більше 10","Корм сухий для собак",621.5,809,0,{"$f":"G9*I9","v":0}]
[null,1111168504,101102,"SKIPPER корм сухий з яловичиною та овочами для собак, 3 кг","Менше 10","Корм сухий для собак",277.52999999999997,359,0,{"$f":"G10*I10","v":0}]

{"sheet":"Special One","index":62,"n_rows":30,"n_cols":10,"rows_kept":30,"cut":false,"hidden":false,"merged":[]}
[]
[null,null,null,null,null,null,"suziria.ua"]
[null,null,null,null,null,null,"0 800 21 82 99"]
[null,null,null,null,null,null,"feedback@suziria.ua"]
[]
["Зображення","Код","Артикул","Номенклатура","Наявність","Категорія","Ціна опт.","Ціна РРЦ","Замовлення, шт.","Сума, грн."]
[null,null,null,null,null,null,null,null,null,{"$f":"SUM(J8:J30)","v":0}]
[null,1111164474,"PR242125","Корм SPECIAL ONE для великих папуг, 500 г","Більше 10","Корм для птахів",135.53,190,0,{"$f":"G8*I8","v":0}]
[null,1111164484,"PR242115","Корм SPECIAL ONE для дегу, 500 г","Більше 100","Корм для гризунів",113.39,160,0,{"$f":"G9*I9","v":0}]
[null,1111164479,"PR242120","Корм SPECIAL ONE для декоративних кроликів, 500 г","Більше 100","Корм для гризунів",115.83,162,0,{"$f":"G10*I10","v":0}]
[null,1111164480,"PR242119","Корм SPECIAL ONE для декоративних пацюків, 500 г","Більше 100","Корм для гризунів",97.34,137,0,{"$f":"G11*I11","v":0}]
[null,1111164478,"PR242121","Корм SPECIAL ONE для канарок, 500 г","Більше 100","Корм для птахів",98.58,138,0,{"$f":"G12*I12","v":0}]
[null,1111164481,"PR242118","Корм SPECIAL ONE для морських свинок, 500 г","Немає в наявності","Корм для гризунів",109.69,154,0,{"$f":"G13*I13","v":0}]
[null,1111164476,"PR242123","Корм SPECIAL ONE для середніх папуг, 500 г","Більше 100","Корм для птахів",98.58,138,0,{"$f":"G14*I14","v":0}]
[null,1111164475,"PR242124","Корм SPECIAL ONE для хвилястих папуг, 500 г","Більше 100","Корм для птахів",92.44,130,0,{"$f":"G15*I15","v":0}]
[null,1111164483,"PR242116","Корм SPECIAL ONE для хом яків, 500 г","Більше 100","Корм для гризунів",97.34,137,0,{"$f":"G16*I16","v":0}]
[null,1111164482,"PR242117","Корм SPECIAL ONE для шиншил, 500 г","Більше 100","Корм для гризунів",109.69,154,0,{"$f":"G17*I17","v":0}]
[null,1111165524,"PR242345","Палички SPECIAL ONE Горіхові для середніх папуг, 90 г","Більше 100","Ласощі для птахів",55.22,91,0,{"$f":"G18*I18","v":0}]
[null,1111165522,"PR242347","Палички SPECIAL ONE Квіткові для хвилястих папуг, 90 г","Більше 10","Ласощі для птахів",55.22,91,0,{"$f":"G19*I19","v":0}]
[null,1111165520,"PR242348","Палички SPECIAL ONE Мюслі для гризунів, 90 г","Більше 10","Ласощі для гризунів",55.22,91,0,{"$f":"G20*I20","v":0}]
[null,1111165521,"PR242350","Палички SPECIAL ONE Овочевий мікс для гризунів, 90 г","Більше 100","Ласощі для гризунів",55.22,91,0,{"$f":"G21*I21","v":0}]
[null,1111165523,"PR242346","Палички SPECIAL ONE Фруктові для хвилястих папуг, 90 г","Більше 10","Ласощі для птахів",55.22,91,0,{"$f":"G22*I22","v":0}]
[null,1111165519,"PR242349","Палички SPECIAL ONE Ягідні для гризунів, 90 г","Більше 100","Ласощі для гризунів",55.22,91,0,{"$f":"G23*I23","v":0}]
[null,1111166925,"PR242516","Пончики SPECIAL ONE Барбарис, волошка, кокос д/декорат. птахів, 60 г","Більше 100","Ласощі для птахів",58,95.42,0,{"$f":"G24*I24","v":0}]
[null,1111166928,"PR242519","Пончики SPECIAL ONE Волошка, календула, ромашка для гризунів, 50 г","Більше 100","Ласощі для гризунів",52.57,86,0,{"$f":"G25*I25","v":0}]
[null,1111166929,"PR242520","Пончики SPECIAL ONE Паприка, гарбуз, морква для гризунів, 60 г","Більше 100","Ласощі для гризунів",52.57,86,0,{"$f":"G26*I26","v":0}]
[null,1111166926,"PR242517","Пончики SPECIAL ONE Паприка, морква, кунжут д/декорат. птахів, 60 г","Більше 10","Ласощі для птахів",58,95.42,0,{"$f":"G27*I27","v":0}]
[null,1111166930,"PR242521","Пончики SPECIAL ONE Петрушка, чумиза, календула для гризунів, 50 г","Більше 100","Ласощі для гризунів",52.57,86,0,{"$f":"G28*I28","v":0}]
[null,1111166927,"PR242518","Пончики SPECIAL ONE Смородина, ехінацея, виноград для птахів, 60 г","Більше 100","Ласощі для птахів",58,95.42,0,{"$f":"G29*I29","v":0}]
[null,1111166931,"PR242522","Пончики SPECIAL ONE Цикорій, арахіс, барбарис для гризунів, 60 г","Більше 100","Ласощі для гризунів",52.57,86,0,{"$f":"G30*I30","v":0}]

{"sheet":"Tetra","index":63,"n_rows":200,"n_cols":10,"rows_kept":200,"cut":false,"hidden":false,"merged":[]}
[]
[null,null,null,null,null,null,"suziria.ua"]
[null,null,null,null,null,null,"0 800 21 82 99"]
[null,null,null,null,null,null,"feedback@suziria.ua"]
[]
["Зображення","Код","Артикул","Номенклатура","Наявність","Категорія","Ціна опт.","Ціна РРЦ","Замовлення, шт.","Сума, грн."]
[null,null,null,null,null,null,null,null,null,{"$f":"SUM(J8:J200)","v":0}]
[null,1111145637,"246898 Tetra","Active Substr. 3 л основний грунт д/аквар. з рослинами","Більше 10","Ґрунти, субстрати для акваріуму",266.54000000000002,347,0,{"$f":"G8*I8","v":0}]
[null,1700,770386,"ALGIZIT 10 таблеток проти водоростей на 200 л","Більше 10","Засоби для догляду за акваріумом, живими рослинами, його мешканцями",204.35,266,0,{"$f":"G9*I9","v":0}]
[null,1699,770416,"AlguMin 100 мл проти водоростей на 200 л","Більше 100","Засоби для догляду за акваріумом, живими рослинами, його мешканцями",123.57,161,0,{"$f":"G10*I10","v":0}]
[null,8194,198753,"AlguMin 250 мл проти водоростей на 500 л","Більше 100","Засоби для догляду за акваріумом, живими рослинами, його мешканцями",252,328,0,{"$f":"G11*I11","v":0}]
[null,1111115656,"298989/711827/157743","Aqua ALGOSTOP depot 12 таблеток проти водоростей","Менше 10","Засоби для догляду за акваріумом, живими рослинами, його мешканцями",325.5,423,0,{"$f":"G12*I12","v":0}]
[null,1111111141,144040,"Aqua Crystal Water 100 мл засіб від помутніння води","Більше 100","Засоби для догляду за акваріумом, живими рослинами, його мешканцями",163.96,213,0,{"$f":"G13*I13","v":0}]
[null,1111111140,198739,"Aqua Crystal Water 250 мл засіб від помутніння води","Немає в наявності","Засоби для догляду за акваріумом, живими рослинами, його мешканцями",378.81,492,0,{"$f":"G14*I14","v":0}]
[null,8454,770492,"Aqua Easy Balance 100мл стабілізація води на 400л","Більше 100","Засоби для догляду за акваріумом, живими рослинами, його мешканцями",134.88,175,0,{"$f":"G15*I15","v":0}]
[null,8818,139176,"Aqua Easy Balance 250мл стабілізація води на 1000л","Більше 10","Засоби для догляду за акваріумом, живими рослинами, його мешканцями",252.81,329,0,{"$f":"G16*I16","v":0}]
[null,8453,198814,"Aqua Easy Balance 500 мл стабілізація води на 2000 л","Менше 10","Засоби для догляду за акваріумом, живими рослинами, його мешканцями",407.88,530,0,{"$f":"G17*I17","v":0}]
[null,1111114163,"148642 /148628","Aqua Nitrat Min 100 мл рідина д/зменшення нітратів","Більше 10","Засоби для догляду за акваріумом, живими рослинами, його мешканцями",113.88,148,0,{"$f":"G18*I18","v":0}]
[null,1111112965,148659,"Aqua Nitrat Min 250 мл рідина д/зменшення нітратів","Більше 10","Засоби для догляду за акваріумом, живими рослинами, його мешканцями",242.05,314.66000000000003,0,{"$f":"G19*I19","v":0}]
[null,5046,762732,"AQUA SAFE 100 мл підготовка води на 200 л","Більше 100","Засоби для догляду за акваріумом, живими рослинами, його мешканцями",134.07,174,0,{"$f":"G20*I20","v":0}]
[null,4135,762749,"AQUA SAFE 250 мл підготовка води на 500 л","Немає в наявності","Засоби для догляду за акваріумом, живими рослинами, його мешканцями",252.81,329,0,{"$f":"G21*I21","v":0}]
[null,8824,704183,"AQUA SAFE 5 л підготовка води на 10000 л","Більше 10","Засоби для догляду за акваріумом, живими рослинами, його мешканцями",1987.73,2584,0,{"$f":"G22*I22","v":0}]
[null,1111123360,198852,"AQUA SAFE 50 мл підготовка води на 100 л","Більше 100","Засоби для догляду за акваріумом, живими рослинами, його мешканцями",88.04,114,0,{"$f":"G23*I23","v":0}]
[null,8189,198876,"AQUA SAFE 500 мл підготовка води на 1000 л","Більше 10","Засоби для догляду за акваріумом, живими рослинами, його мешканцями",409.5,532,0,{"$f":"G24*I24","v":0}]
[null,12470,161313,"AQUA SAFE START 100 мл швидкий запуск акваріуму","Більше 10","Засоби для догляду за акваріумом, живими рослинами, його мешканцями",323.07,420,0,{"$f":"G25*I25","v":0}]
[null,1111133142,"175655 /178694","AQUA SAFE START 250 мл швидкий запуск акваріуму","Менше 10","Засоби для догляду за акваріумом, живими рослинами, його мешканцями",693.81,902,0,{"$f":"G26*I26","v":0}]
[null,12440,161184,"AQUA SAFE START 50 мл швидкий запуск акваріуму","Більше 10","Засоби для догляду за акваріумом, живими рослинами, його мешканцями",184.96,240,0,{"$f":"G27*I27","v":0}]
[null,8819,"745209*****","Aqua Toru Min 250 мл екстракт гумінових кислот на 500 л","Менше 10","Засоби для догляду за акваріумом, живими рослинами, його мешканцями",385.07,500.59,0,{"$f":"G28*I28","v":0}]
[null,8190,139237,"Aqua Vital 100 мл вітамінізований кондиціонер 200 л","Більше 10","Засоби для догляду за акваріумом, живими рослинами, його мешканцями",180.12,234,0,{"$f":"G29*I29","v":0}]
[null,12585,198913,"BETTA 100 мл пластівці для півників","Більше 10","Корм сухий для риб",158.31,206,0,{"$f":"G30*I30","v":0}]
[null,1111133781,193031,"Betta AquaSafe 100 мл підготовка води для півників","Більше 10","Засоби для догляду за акваріумом, живими рослинами, його мешканцями",117.93,153,0,{"$f":"G31*I31","v":0}]
[null,1111126316,193680,"BETTA Gran. 5 г гранули для півників","Більше 100","Корм сухий для риб",37.96,49,0,{"$f":"G32*I32","v":0}]
[null,1111144100,259317,"BETTA Larva ST 5 г палички д/півник., лабіринт. риб","Більше 100","Корм сухий для риб",67.040000000000006,87,0,{"$f":"G33*I33","v":0}]
[null,1111133776,201408,"CICHLID Algae MINI 10л/3,9кг кульки для цихлід","Більше 10","Корм сухий для риб",3841.61,5186,0,{"$f":"G34*I34","v":0}]
[null,5464,201392,"CICHLID Colour 10л/3,6кг підсилювач кольору д/цихлід","Більше 10","Корм сухий для риб",3841.61,5186,0,{"$f":"G35*I35","v":0}]
[null,1111132078,197343,"CICHLID Colour 500 мл підсилювач кольору д/цихлід","Більше 10","Корм сухий для риб",540.35,702,0,{"$f":"G36*I36","v":0}]
[null,1111134741,201385,"CICHLID Colour MINI 10 л підсилювач кольору д/цихлід","Менше 10","Корм сухий для риб",3841.61,5186,0,{"$f":"G37*I37","v":0}]
[null,1111112723,146594,"CICHLID Gran. 500 мл гранули для цихлід","Менше 10","Корм сухий для риб",556.5,723,0,{"$f":"G38*I38","v":0}]
[null,8313,198975,"CICHLID ST. 1 л палички для цихлід","Менше 10","Корм сухий для риб",726.12,944,0,{"$f":"G39*I39","v":0}]
[null,8446,157170,"CICHLID ST. 250 мл палички для цихлід","Менше 10","Корм сухий для риб",225.35,293,0,{"$f":"G40*I40","v":0}]
[null,5973,767409,"CICHLID ST. 500 мл палички для цихлід","Менше 10","Корм сухий для риб",414.35,539,0,{"$f":"G41*I41","v":0}]
[null,1111115270,153691,"CICHLID ST.10л/2,9кг палички для цихлід","Більше 10","Корм сухий для риб",2512.5300000000002,3392,0,{"$f":"G42*I42","v":0}]
[null,1111112215,201415,"CICHLID XL 10л/1,9кг великі пластівці для цихлід","Менше 10","Корм сухий для риб",3066.32,4140,0,{"$f":"G43*I43","v":0}]
[null,11718,126176,"DISСUS 10л/3кг гранули для дискусів","Більше 10","Корм сухий для риб",3236.55,4369,0,{"$f":"G44*I44","v":0}]
[null,9620,"750050*****","Gammarus 1 л для черепах","Менше 10","Корм сухий для черепах і рептилій",464.09,603.30999999999995,0,{"$f":"G45*I45","v":0}]
[null,10734,"740365/280267*****","Gammarus 250 мл для черепах","Менше 10","Корм сухий для черепах і рептилій",100.52,130.66999999999999,0,{"$f":"G46*I46","v":0}]
[null,1111128642,189966,"Gammarus MIX 250 мл для черепах","Менше 10","Корм сухий для черепах і рептилій",165.57,215,0,{"$f":"G47*I47","v":0}]
[null,9622,766389,"GOLD FISH 10/12гр пластівці для золотих риб","Більше 100","Корм сухий для риб",33.119999999999997,43,0,{"$f":"G48*I48","v":0}]
[null,8956,140127,"GOLD FISH 250 мл пластівці для золотих риб","Більше 10","Корм сухий для риб",169.62,221,0,{"$f":"G49*I49","v":0}]
[null,1111126506,"167612*****","Gold fish Granules 100 мл гранули для золотих риб","Більше 10","Корм сухий для риб",90.02,117.02,0,{"$f":"G50*I50","v":0}]
[null,1111126507,739901,"Gold fish Granules 250 мл гранули для золотих риб","Більше 10","Корм сухий для риб",201.12,261,0,{"$f":"G51*I51","v":0}]
[null,1111129886,193741,"Guppy 12 г для гупі","Більше 100","Корм сухий для риб",42,55,0,{"$f":"G52*I52","v":0}]
[null,1111143091,246201,"Initial Sticks 250 мл добриво в гранулах","Менше 10","Засоби для догляду за акваріумом, живими рослинами, його мешканцями",228.42,297,0,{"$f":"G53*I53","v":0}]
[null,4899,762725,"MIN 1 л пластівці основний корм","Менше 10","Корм сухий для риб",654.23,851,0,{"$f":"G54*I54","v":0}]
[null,8319,"769939СПЕЦЦЕНА","MIN 10 л/2,1 кг пластівці основний корм","Більше 10","Корм сухий для риб",1920.32,2592,0,{"$f":"G55*I55","v":0}]
[null,4134,762701,"MIN 100 мл пластівці основний корм","Більше 10","Корм сухий для риб",96.93,126,0,{"$f":"G56*I56","v":0}]
[null,12147,766402,"MIN 12 г пластівці основний корм","Більше 100","Корм сухий для риб",37.96,49,0,{"$f":"G57*I57","v":0}]
[null,5102,762718,"MIN 250 мл пластівці основний корм","Більше 10","Корм сухий для риб",214.04,278,0,{"$f":"G58*I58","v":0}]
[null,5744,199156,"MIN BABY 66 мл корм для молодих риб до 1 см в довжину","Менше 10","Корм сухий для риб",155.03,201.54,0,{"$f":"G59*I59","v":0}]
[null,312015,139497,"MIN Crisps 10 л/2 кг чіпси основний корм","Більше 100","Корм сухий для риб",2895.05,3908,0,{"$f":"G60*I60","v":0}]
[null,1111114138,149304,"MIN Crisps 12 г чіпси основний корм","Більше 100","Корм сухий для риб",50.07,65,0,{"$f":"G61*I61","v":0}]
[null,13545,139657,"MIN Crisps 250 мл чіпси основний корм","Більше 10","Корм сухий для риб",247.96,322,0,{"$f":"G62*I62","v":0}]
[null,1111116457,201361,"MIN Gran. 10 л/ 4,2 кг гранули основний корм","Більше 10","Корм сухий для риб",3414.99,4610,0,{"$f":"G63*I63","v":0}]
[null,11812,134492,"MIN Gran. 15 г гранули основний корм","Більше 100","Корм сухий для риб",46.04,60,0,{"$f":"G64*I64","v":0}]
[null,11121,139749,"MIN Gran. 250 мл гранули основний корм","Більше 10","Корм сухий для риб",249.57,324,0,{"$f":"G65*I65","v":0}]
[null,1111118870,198999,"MIN Holiday 30 г гелевий блок для 14 днів харчування","Більше 10","Корм сухий для риб",167.19,217,0,{"$f":"G66*I66","v":0}]
[null,311890,199057,"MIN Mini Gran. 100 мл гранули для дрібних риб","Більше 10","Корм сухий для риб",126.81,165,0,{"$f":"G67*I67","v":0}]
[null,8963,767423,"MIN WEEKEND ST харчовий блок на 12 днів","Більше 10","Корм сухий для риб",193.85,252,0,{"$f":"G68*I68","v":0}]
[null,8331,"769946СПЕЦЦЕНА","MIN XL FLAKES 10 л/ 2,1 кг великі пластівці","Більше 10","Корм сухий для риб",1920.32,2592,0,{"$f":"G69*I69","v":0}]
[null,11906,134430,"PHYLL 12 г пластівці рослинні","Більше 10","Корм сухий для риб",42.81,56,0,{"$f":"G70*I70","v":0}]
[null,1111113052,"297494/146839","Plant PlantaStar 12 таблеток добриво для рослин","Менше 10","Засоби для догляду за акваріумом, живими рослинами, його мешканцями",299.64999999999998,390,0,{"$f":"G71*I71","v":0}]
[null,12845,"297524/245297","Plant Substr. 2,5кг концентрат грунту з ефектом добрива","Менше 10","Ґрунти, субстрати для акваріуму",407.88,530,0,{"$f":"G72*I72","v":0}]
[null,12846,"136397/245303*****","Plant Substr. 5 кг концентрат грунту з ефектом добрива","Менше 10","Ґрунти, субстрати для акваріуму",704.13,915.37,0,{"$f":"G73*I73","v":0}]
[null,4465,139268,"PLANTAMIN 100 мл добрива з залізом на 200 л","Більше 10","Засоби для догляду за акваріумом, живими рослинами, його мешканцями",124.38,162,0,{"$f":"G74*I74","v":0}]
[null,7400,"297371/139299","PLANTAMIN 250 мл добрива з залізом на 500 л","Більше 10","Засоби для догляду за акваріумом, живими рослинами, його мешканцями",267.35000000000002,348,0,{"$f":"G75*I75","v":0}]
[null,1111137353,"297401/240544","PlantaPro Micro 250 мл добриво для рослин","Менше 10","Засоби для догляду за акваріумом, живими рослинами, його мешканцями",266.54000000000002,347,0,{"$f":"G76*I76","v":0}]
[null,1111131087,193840,"PLECO Spirulina Wafers 3,6L/1,75kg д/донних риб","Менше 10","Корм сухий для риб",2624.19,3411,0,{"$f":"G77*I77","v":0}]
[null,1111123361,199118,"PLECO Wafer 250 мл основний корм для донних риб","Менше 10","Корм сухий для риб",319.04000000000002,415,0,{"$f":"G78*I78","v":0}]
[null,1111115268,"154469 СПЕЦЦЕНА","POND AlgoFin 1л боротьба з ниткоподібн. водорост.","Менше 10","Засоби для догляду за ставком, рослинами та його мешканцями",902.46,1173,0,{"$f":"G79*I79","v":0}]
[null,8813,"143784 СПЕЦЦЕНА","POND AlgoFin 500мл боротьба з ниткоподібн. водорост.","Більше 10","Засоби для догляду за ставком, рослинами та його мешканцями",513.92999999999995,668,0,{"$f":"G80*I80","v":0}]
[null,13249,"100039 СПЕЦЦЕНА","POND AlgoRem 250мл боротьба з каламутною зеленню","Більше 10","Засоби для догляду за ставком, рослинами та його мешканцями",303.04000000000002,394,0,{"$f":"G81*I81","v":0}]
[null,8816,"753334 СПЕЦЦЕНА","POND AlgoRem 3л боротьба з каламутною зеленню на 60000л","Немає в наявності","Засоби для догляду за ставком, рослинами та його мешканцями",1991.12,2588,0,{"$f":"G82*I82","v":0}]
[null,8821,"143715 СПЕЦЦЕНА","POND AlgoRem 500мл боротьба з каламутною зеленню","Більше 10","Засоби для догляду за ставком, рослинами та його мешканцями",559.53,727,0,{"$f":"G83*I83","v":0}]
[null,1111112939,"760851 /737716СПЕЦЦЕ_ord","POND AquaSafe 250мл підготовка води","Більше 10","Засоби для догляду за ставком, рослинами та його мешканцями",237.49,309,0,{"$f":"G84*I84","v":0}]
[null,8822,"735460 СПЕЦЦЕНА","POND AquaSafe 500мл підготовка води на 10000л","Більше 10","Засоби для догляду за ставком, рослинами та його мешканцями",416.08,541,0,{"$f":"G85*I85","v":0}]
[null,1111128570,"187528 СПЕЦЦЕНА","POND COLOUR ST. 10л/1,9кг гран. д/покращен. забарвлен.","Немає в наявності","Корм сухий для ставкових риб",738.62,1071,0,{"$f":"G86*I86","v":0}]
[null,8323,"124394 СПЕЦЦЕНА","POND COLOUR ST. 1л плав. гранули д/покращен. забарвлен.","Менше 10","Корм сухий для ставкових риб",123.83,180,0,{"$f":"G87*I87","v":0}]
[null,1111123417,"180697 СПЕЦЦЕНА","POND Filter Zym 10 капсул фільтруючі бактерії","Менше 10","Засоби для догляду за ставком, рослинами та його мешканцями",240.34,312,0,{"$f":"G88*I88","v":0}]
[null,8330,"758629  СПЕЦЦЕНА","POND KOI ST. 10л/1,5кг плаваючі гранули для коропів Коі","Більше 10","Корм сухий для ставкових риб",590.33000000000004,797,0,{"$f":"G89*I89","v":0}]
[null,12837,"737730 СПЕЦЦЕНА","POND MediFin 250мл універсал. лікар. препарат на 5000л","Немає в наявності","Засоби для догляду за ставком, рослинами та його мешканцями",301.14,391,0,{"$f":"G90*I90","v":0}]
[null,1111127177,"187825СПЕЦЦЕНА","POND SeasonStart 250мл оптимал. початок нового сезону","Більше 10","Засоби для догляду за ставком, рослинами та його мешканцями",268.83999999999997,349,0,{"$f":"G91*I91","v":0}]
[null,1111146240,"256705СПЕЦЦЕНА","POND Sediment Minus 250мл розкладання біозабруднень","Менше 10","Засоби для догляду за ставком, рослинами та його мешканцями",269.79000000000002,351,0,{"$f":"G92*I92","v":0}]
[null,8324,"140189 СПЕЦЦЕНА","POND ST. 1 л плаваючі гранули основний корм","Менше 10","Корм сухий для ставкових риб",86.17,125,0,{"$f":"G93*I93","v":0}]
[null,1111123413,"180437СПЕЦЦЕНА","POND Water Balance 250мл баланс і оздоровлення води","Менше 10","Засоби для догляду за ставком, рослинами та його мешканцями",238.44,311,0,{"$f":"G94*I94","v":0}]
[null,13560,138827,"PRO Algae (Vegetable) 10л/1,9кг преміум-корм з овочами","Більше 10","Корм сухий для риб",3276.44,4423,0,{"$f":"G95*I95","v":0}]
[null,1111114141,149397,"PRO Algae (Vegetable) 12 г преміум-корм з овочами","Більше 10","Корм сухий для риб",52.5,68,0,{"$f":"G96*I96","v":0}]
[null,13564,140516,"PRO Colour 10л/2,1кг преміум-корм д/покращен. забарвлен","Більше 10","Корм сухий для риб",3275.52,4422,0,{"$f":"G97*I97","v":0}]
[null,1111114140,149366,"PRO Colour 12 г преміум-корм д/покращен. забарвлення","Більше 100","Корм сухий для риб",52.5,68,0,{"$f":"G98*I98","v":0}]
[null,311889,140677,"PRO Colour 250 мл преміум-корм д/покращен. забарвлення","Менше 10","Корм сухий для риб",265.73,345,0,{"$f":"G99*I99","v":0}]
[null,13559,141582,"PRO Energy Crisps 10л/2,1кг енергетичний преміум-корм","Більше 10","Корм сухий для риб",3275.52,4422,0,{"$f":"G100*I100","v":0}]
[null,13541,141742,"PRO Energy Crisps 250 мл енергетичний преміум-корм","Більше 10","Корм сухий для риб",265.73,345,0,{"$f":"G101*I101","v":0}]
[null,12571,199033,"Red Parrot 1 л корм для червоних папуг","Менше 10","Корм сухий для риб",690.57,898,0,{"$f":"G102*I102","v":0}]
[null,12565,780255,"ReptoCal 100 мл порошок-корм для рептилій","Більше 10","Корм сухий для черепах і рептилій",250.38,326,0,{"$f":"G103*I103","v":0}]
[null,1111131127,194816,"ReptoFrog 100 мл корм для жаб, тритонів","Менше 10","Корм сухий для черепах і рептилій",185.03,240.55,0,{"$f":"G104*I104","v":0}]
[null,8894,204270,"ReptoMin 1 л гранули для черепах","Менше 10","Корм сухий для черепах і рептилій",549.23,714,0,{"$f":"G105*I105","v":0}]
[null,8314,139862,"ReptoMin 100 мл корм для черепах","Більше 10","Корм сухий для черепах і рептилій",86.43,112,0,{"$f":"G106*I106","v":0}]
[null,1111133734,201354,"ReptoMin 10л/2,5кг гранули для черепах","Менше 10","Корм сухий для черепах і рептилій",2850.35,3705,0,{"$f":"G107*I107","v":0}]
[null,4056,761346,"ReptoMin 250 мл гранули для черепах","Менше 10","Корм сухий для черепах і рептилій",176.88,230,0,{"$f":"G108*I108","v":0}]
[null,1111131088,753518,"ReptoMin 500 мл гранули для черепах","Менше 10","Корм сухий для черепах і рептилій",319.04000000000002,415,0,{"$f":"G109*I109","v":0}]
[null,7786,140158,"ReptoMin Baby 100 мл корм для маленьких черепах","Менше 10","Корм сухий для черепах і рептилій",86.43,112,0,{"$f":"G110*I110","v":0}]
[null,1111111563,133068,"ReptoMin Energy 100 мл корм для черепах","Більше 10","Корм сухий для черепах і рептилій",109.04,142,0,{"$f":"G111*I111","v":0}]
[null,1111129885,178649,"ReptoMin Energy 250 мл корм для черепах","Більше 10","Корм сухий для черепах і рептилій",242.31,315,0,{"$f":"G112*I112","v":0}]
[null,1111145678,258853,"ReptoMin Junior 100 мл корм для молодих черепах","Більше 10","Корм сухий для черепах і рептилій",86.43,112,0,{"$f":"G113*I113","v":0}]
[null,1111123466,177727,"ReptoSafe 100 мл підготовка води для черепах","Більше 10","Засоби для догляду за тераріумом і його мешканцями",146.19,190,0,{"$f":"G114*I114","v":0}]
[null,8332,769922,"RUBIN 10л/2,05кг пластівці для покращення забарвлення","Більше 100","Корм сухий для риб",2727.89,3683,0,{"$f":"G115*I115","v":0}]
[null,12146,766396,"RUBIN 12 г пластівці для покращення забарвлення","Більше 100","Корм сухий для риб",42.81,56,0,{"$f":"G116*I116","v":0}]
[null,1695,767362,"RUBIN 250 мл пластівці для покращення забарвлення","Більше 10","Корм сухий для риб",254.43,331,0,{"$f":"G117*I117","v":0}]
[null,1111131114,193765,"RUBIN Gran. 15 г гранули для покращення забарвлення","Більше 100","Корм сухий для риб",52.5,68,0,{"$f":"G118*I118","v":0}]
[null,11119,139800,"RUBIN Gran. 250 мл гранули для покращення забарвлення","Більше 10","Корм сухий для риб",304.5,396,0,{"$f":"G119*I119","v":0}]
[null,1111122049,175488,"Test 6в1 (pH, GH, KH, нітрити, нітрати, хлор)","Більше 10","Засоби для догляду за акваріумом, живими рослинами, його мешканцями",549.22,714,0,{"$f":"G120*I120","v":0}]
[null,1111137789,240100,"Tetra CO2 Plus 250 мл","Менше 10","Засоби для догляду за акваріумом, живими рослинами, його мешканцями",235.85,307,0,{"$f":"G121*I121","v":0}]
[null,1111122048,173798,"Tetra Marine Sea Salt 20 кг морська сіль","Менше 10","Засоби для догляду за акваріумом, живими рослинами, його мешканцями",2390.61,3705,0,{"$f":"G122*I122","v":0}]
[null,1111152078,279230,"Tetra Medica ContraIck 20 мл боротьба з хворобами шкіри","Більше 10","Засоби для догляду за акваріумом, живими рослинами, його мешканцями",306.12,398,0,{"$f":"G123*I123","v":0}]
[null,1111152079,"279292/279200","Tetra Medica GeneralTonic 20мл від бактерій і паразитів","Менше 10","Засоби для догляду за акваріумом, живими рослинами, його мешканцями",258.45999999999998,336,0,{"$f":"G124*I124","v":0}]
[null,1111157245,277557,"Tetra Micro Crisps, основн. корм мікрочіпси 100мл","Більше 10","Корм сухий для риб",165.03,214.54,0,{"$f":"G125*I125","v":0}]
[null,1111157244,756861,"Tetra Micro Granules, основн. корм мікрогранули 100мл","Більше 10","Корм сухий для риб",165.57,215,0,{"$f":"G126*I126","v":0}]
[null,1111157246,277496,"Tetra Micro Pellets, основн. корм мікропелети 100мл","Більше 10","Корм сухий для риб",165.57,215,0,{"$f":"G127*I127","v":0}]
[null,1111157247,277526,"Tetra Micro Sticks, основн. корм мікропалички 100мл","Більше 10","Корм сухий для риб",165.03,214.54,0,{"$f":"G128*I128","v":0}]
[null,1111149033,273269,"Tetra PhosphateMinus 100 мл","Менше 10","Засоби для догляду за акваріумом, живими рослинами, його мешканцями",117.12,152,0,{"$f":"G129*I129","v":0}]
[null,1111126353,187351,"Tetra POND APК 400 комплект для аерації","Менше 10","Устаткування для ставка, комплектуючі",2663.69,3597,0,{"$f":"G130*I130","v":0}]
[null,13571,724457,"Tetra Сачок для риб 10 см","Більше 10","Аксесуари для догляду за акваріумом",39.01,64.36,0,{"$f":"G131*I131","v":0}]
[null,13572,724464,"Tetra Сачок для риб 12 см","Більше 10","Аксесуари для догляду за акваріумом",49.38,84,0,{"$f":"G132*I132","v":0}]
[null,13573,724471,"Tetra Сачок для риб 15 см","Менше 10","Аксесуари для догляду за акваріумом",54.01,89.12,0,{"$f":"G133*I133","v":0}]
[null,13570,724440,"Tetra Сачок для риб 8 см","Більше 10","Аксесуари для догляду за акваріумом",37.200000000000003,63,0,{"$f":"G134*I134","v":0}]
[null,1111128326,189911,"Wafer Mini Mix 100 мл для донних риб","Менше 10","Корм сухий для риб",227.77,296,0,{"$f":"G135*I135","v":0}]
[null,11435,140066,"Wafer Mix 100 мл для донних риб","Менше 10","Корм сухий для риб",191.43,249,0,{"$f":"G136*I136","v":0}]
[null,11813,134461,"Wafer Mix 12/15 г для донних риб","Більше 100","Корм сухий для риб",54.93,71,0,{"$f":"G137*I137","v":0}]
[null,12586,198890,"Wafer Mix 250 мл для донних риб","Більше 10","Корм сухий для риб",388.5,505,0,{"$f":"G138*I138","v":0}]
[null,1111131091,193826,"Wafer Mix 3,6л/1,85кг для донних риб","Більше 100","Корм сухий для риб",2268.7800000000002,3063,0,{"$f":"G139*I139","v":0}]
[null,1111172931,304796,"Адаптер для шланга Tetra EX 1500","Менше 10","Запчастини для акваріумного обладнання",760.84,1141,0,{"$f":"G140*I140","v":0}]
[null,1111113821,146051,"Біогубка у фільтр Tetra EX 1200/1500","Менше 10","Обладнання для акваріума, комплектуючі",276.11,373,0,{"$f":"G141*I141","v":0}]
[null,1111117018,151598,"Вклад. д/філ. Easy Crystal 250/300 з активов. вугілля","Більше 10","Обладнання для акваріума, комплектуючі",318.11,429,0,{"$f":"G142*I142","v":0}]
[null,1111114648,"211841*****","Вклад. д/філ. з активов. вугіл. д/аквар. Cascade Globe","Більше 10","Обладнання для акваріума, комплектуючі",243.2,331,0,{"$f":"G143*I143","v":0}]
[null,1111113054,"134669*****","Вклад. у фільтр Tetratec Aktivkohle CF800/1000 plus","Більше 10","Обладнання для акваріума, комплектуючі",554.55999999999995,749,0,{"$f":"G144*I144","v":0}]
[null,7781,"607682*****","Вкладиш в фільтр Tetratec 400/600 губка","Менше 10","Обладнання для акваріума, комплектуючі",294.77999999999997,398,0,{"$f":"G145*I145","v":0}]
[null,7782,"607699*****","Вкладиш в фільтр Tetratec 800/1000 губка","Менше 10","Обладнання для акваріума, комплектуючі",336.78,455,0,{"$f":"G146*I146","v":0}]
[null,1111113822,146068,"Волокнистий вкладиш FF у фільтр Tetra EX 1200/1500","Менше 10","Обладнання для акваріума, комплектуючі",191.51,259,0,{"$f":"G147*I147","v":0}]
[null,1111113820,145597,"Волокнистий вкладиш FF у фільтр Tetra EX 600-1000","Менше 10","Обладнання для акваріума, комплектуючі",123.64,168,0,{"$f":"G148*I148","v":0}]
[null,1111113823,145603,"Вугільний наповнювач у фільтр Tetra EX 600-1500","Менше 10","Обладнання для акваріума, комплектуючі",291.67,394,0,{"$f":"G149*I149","v":0}]
[null,1111138159,"240711*****","Головка для фільтра Tetra ЕX 1200 plus","Менше 10","Запчастини для акваріумного обладнання",4048.34,6073,0,{"$f":"G150*I150","v":0}]
[null,1111138157,"240650_ord","Головка для фільтра Tetra ЕX 600 plus","Менше 10","Запчастини для акваріумного обладнання",994.74,1918.43,0,{"$f":"G151*I151","v":0}]
[null,1111180013,"313811/313842","Засіб Tetra Aqua Biocoryn для розкладання органіки 100 мл.","Більше 10","Засоби для догляду за акваріумом, живими рослинами, його мешканцями",180.42,235,0,{"$f":"G152*I152","v":0}]
[null,1111161902,247031,"Засіб Tetra для підтримки біологічного середовища FilterActive 100мл н","Менше 10","Засоби для догляду за акваріумом, живими рослинами, його мешканцями",222.12,289,0,{"$f":"G153*I153","v":0}]
[null,8921,608085,"Зворотній клапан Tetratec CV4","Більше 10","Аксесуари для догляду за акваріумом",106.2,181,0,{"$f":"G154*I154","v":0}]
[null,1111130297,179172,"Картридж з губками для фільтра Tetra IN 300","Менше 10","Обладнання для акваріума, комплектуючі",260,299,0,{"$f":"G155*I155","v":0}]
[null,1111113807,145573,"Керамічні кільця у фільтр Tetra EX","Менше 10","Обладнання для акваріума, комплектуючі",232.55,314,0,{"$f":"G156*I156","v":0}]
[null,1111138163,"707980 /240735СПЕЦЦ*****","Кільце ущільнююче для фільтра Tetra ЕX 1200 plus","Більше 10","Запчастини для акваріумного обладнання",189.34,258,0,{"$f":"G157*I157","v":0}]
[null,1111130298,"179189*****","Комплект запчастин (кришка+регулятор) для фільтра Tetratec IN 300 plus","Менше 10","Запчастини для акваріумного обладнання",482.3,723,0,{"$f":"G158*I158","v":0}]
[null,1111112413,143203,"Компресор Tetratec APS 400","Немає в наявності","Обладнання для акваріума, комплектуючі",1679.28,2435,0,{"$f":"G159*I159","v":0}]
[null,1111172056,"242494СПЕЦЦЕНА","Корм Tetra  для ставкових риб Pond Sticks  10л+20%","Більше 10","Корм сухий для ставкових риб",495.56,669,0,{"$f":"G160*I160","v":0}]
[null,1111182160,"267763СПЕЦЦЕНА","Корм Tetra  для ставкових риб Pond Sticks  4л+25%","Більше 100","Корм сухий для ставкових риб",252,340,0,{"$f":"G161*I161","v":0}]
[null,1111131126,"705993 /193901***","Корм Tetra для рептилій РептоДеліка сушені коники 250мл","Менше 10","Корм сухий для черепах і рептилій",296.52999999999997,415,0,{"$f":"G162*I162","v":0}]
[null,1111162336,"284746*****","Корм Tetra пластівці для всіх видів травоїдних декоративних риб Тетра","Менше 10","Корм сухий для риб",2601.15,3512,0,{"$f":"G163*I163","v":0}]
[null,1111182161,"277618_ord","Корм для риб Tetra Micro Menu 100мл","Більше 10","Корм сухий для риб",208.48,271,0,{"$f":"G164*I164","v":0}]
[null,1111121686,"167278*****","Краник для фільтра Tetratec ЕX 1200","Менше 10","Запчастини для акваріумного обладнання",641.80999999999995,866,0,{"$f":"G165*I165","v":0}]
[null,1111121685,"167261*****","Краник для фільтра Tetratec ЕX 600/700","Менше 10","Запчастини для акваріумного обладнання",556.24,751,0,{"$f":"G166*I166","v":0}]
[null,1111130295,"179158*****","Кріплення для фільтра Tetratec Easy Crystal 250","Менше 10","Запчастини для акваріумного обладнання",90.23,122,0,{"$f":"G167*I167","v":0}]
[null,1111130296,"179165  Tetra*****","Кріплення для фільтра Tetratec Easy Crystal 300","Менше 10","Запчастини для акваріумного обладнання",139.22,188,0,{"$f":"G168*I168","v":0}]
[null,1111162343,"286962*****","Набір запчастин Tetra FilterJet","Більше 10","Обладнання для акваріума, комплектуючі",200,270,0,{"$f":"G169*I169","v":0}]
[null,1111124928,"181205*****","Набір запчастин для компресора Tetratec APS 100/150","Менше 10","Запчастини для акваріумного обладнання",244.99,331,0,{"$f":"G170*I170","v":0}]
[null,1111113829,"143326 /179400***СПЕЦЦЕНА","Набір запчастин для компресора Tetratec APS 50","Менше 10","Аксесуари для догляду за акваріумом",157.66,213,0,{"$f":"G171*I171","v":0}]
[null,1111111565,762312,"Очищувач грунту Tetratec GC30","Менше 10","Аксесуари для догляду за акваріумом",411.22,679,0,{"$f":"G172*I172","v":0}]
[null,11737,"762329*****","Очищувач грунту Tetratec GC40","Менше 10","Аксесуари для догляду за акваріумом",517.1,853.21,0,{"$f":"G173*I173","v":0}]
[null,8788,762336,"Очищувач грунту Tetratec GC50","Більше 10","Аксесуари для догляду за акваріумом",637.73,1052,0,{"$f":"G174*I174","v":0}]
[null,1111154450,557635,"Пакети д/транспорт. риб Tetra великі (50шт.-упак.)","Менше 10","Аксесуари для догляду за акваріумом",526.32000000000005,868,0,{"$f":"G175*I175","v":0}]
[null,1111154452,543829,"Пакети д/транспорт. риб Tetra маленькі (50шт.-упак)","Більше 10","Аксесуари для догляду за акваріумом",315.79000000000002,521,0,{"$f":"G176*I176","v":0}]
[null,9225,603493,"Розпилювач Tetratec AS25 циліндр","Більше 10","Аксесуари для догляду за акваріумом",31.77,52,0,{"$f":"G177*I177","v":0}]
[null,9874,603523,"Розпилювач Tetratec AS30 циліндр","Більше 10","Аксесуари для догляду за акваріумом",34.04,56,0,{"$f":"G178*I178","v":0}]
[null,9617,603554,"Розпилювач Tetratec AS35 циліндр","Більше 10","Аксесуари для догляду за акваріумом",37.450000000000003,62,0,{"$f":"G179*I179","v":0}]
[null,1111132864,603561,"Розпилювач Tetratec AS40 циліндр","Більше 10","Аксесуари для догляду за акваріумом",45.39,75,0,{"$f":"G180*I180","v":0}]
[null,9226,603578,"Розпилювач Tetratec AS45 циліндр","Менше 10","Аксесуари для догляду за акваріумом",51.06,84,0,{"$f":"G181*I181","v":0}]
[null,10518,607590,"Розпилювач Tetratec AS50 круглий","Менше 10","Аксесуари для догляду за акваріумом",113.34,189,0,{"$f":"G182*I182","v":0}]
[null,1111146730,"260160*****","Ротор Tetra EX 400 Plus","Менше 10","Запчастини для акваріумного обладнання",714.81,965,0,{"$f":"G183*I183","v":0}]
[null,1111162337,"286979*****","Ротор Tetra FilterJet 400","Менше 10","Запчастини для акваріумного обладнання",145.38,196,0,{"$f":"G184*I184","v":0}]
[null,1111162338,"286986*****","Ротор Tetra FilterJet 600","Менше 10","Запчастини для акваріумного обладнання",145.38,196,0,{"$f":"G185*I185","v":0}]
[null,1111162339,"286993*****","Ротор Tetra FilterJet 900","Більше 10","Запчастини для акваріумного обладнання",145.38,196,0,{"$f":"G186*I186","v":0}]
[null,1111138155,"707185 /213647*****","Ротор для Cascade Globe","Менше 10","Запчастини для акваріумного обладнання",150.93,204,0,{"$f":"G187*I187","v":0}]
[null,1111122807,"174481*****","Ротор для фільтра Tetratec EX 400","Менше 10","Запчастини для акваріумного обладнання",354.1,516,0,{"$f":"G188*I188","v":0}]
[null,1111113824,"145610*****","Ротор для фільтра Tetratec EX 600","Менше 10","Запчастини для акваріумного обладнання",641.80999999999995,866,0,{"$f":"G189*I189","v":0}]
[null,1111128391,"134706*****","Ротор для фільтра Tetratec IN 600 plus","Менше 10","Запчастини для акваріумного обладнання",297.5,446,0,{"$f":"G190*I190","v":0}]
[null,1111127949,"134713*****","Ротор для фільтра Tetratec IN 800 plus","Менше 10","Запчастини для акваріумного обладнання",371.77,502,0,{"$f":"G191*I191","v":0}]
[null,1111138156,"707974 /240698*****","Ротор для фільтра Tetratec ЕX 1200 plus","Менше 10","Запчастини для акваріумного обладнання",953.7,1288,0,{"$f":"G192*I192","v":0}]
[null,1111113828,"145702*****","Трубка для фільтра Tetratec EX 1200","Менше 10","Запчастини для акваріумного обладнання",762.96,1030,0,{"$f":"G193*I193","v":0}]
[null,1111122812,"174313*****","Трубка для фільтра Tetratec EX 2400","Менше 10","Запчастини для акваріумного обладнання",350,525,0,{"$f":"G194*I194","v":0}]
[null,1111113827,"145924*****","Трубка для фільтра Tetratec EX 600/700","Менше 10","Запчастини для акваріумного обладнання",426.8,576,0,{"$f":"G195*I195","v":0}]
[null,1111158747,"287143*****","Фільтр Tetra FilterJet 600","Менше 10","Обладнання для акваріума, комплектуючі",777.61,1050,0,{"$f":"G196*I196","v":0}]
[null,1111170986,302761,"Фільтр Tetra для акваріумів External EX 1000 Plus","Менше 10","Обладнання для акваріума, комплектуючі",5451,7359,0,{"$f":"G197*I197","v":0}]
[null,1111170985,302747,"Фільтр Tetra для акваріумів External EX 700 Plus","Менше 10","Обладнання для акваріума, комплектуючі",4684.34,6324,0,{"$f":"G198*I198","v":0}]
[null,1111182159,"288317_ord","Фільтр для акваріума Tetra EasyCrystal Filter 100","Менше 10","Обладнання для акваріума, комплектуючі",726.06,980,0,{"$f":"G199*I199","v":0}]
[null,1111122804,157026,"Шланг силіконовий Tetratec 2,5 м","Більше 10","Аксесуари для догляду за акваріумом",82.94,137,0,{"$f":"G200*I200","v":0}]

{"sheet":"Trixie","index":64,"n_rows":1593,"n_cols":10,"rows_kept":1593,"cut":false,"hidden":false,"merged":[[593,0,594,0]]}
[]
[null,null,null,null,null,null,"suziria.ua"]
[null,null,null,null,null,null,"0 800 21 82 99"]
[null,null,null,null,null,null,"feedback@suziria.ua"]
[]
["Зображення","Код","Артикул","Номенклатура","Наявність","Категорія","Ціна опт.","Ціна РРЦ","Замовлення, шт.","Сума, грн."]
[null,null,null,null,null,null,null,null,null,{"$f":"SUM(J8:J1593)","v":0}]
[null,1111137252,"43119*****",null,"Менше 10","Дряпки-комплекси",1595,2073,0,{"$f":"G8*I8","v":0}]
[null,1111183907,"31281_5шт","Denta Fun Veggie Медова гребінець з морськ. водоростями д/соб 8,5 см","Більше 10","Ласощі для собак",162.85,210,0,{"$f":"G9*I9","v":0}]
[null,1111183911,"31282_10шт","Denta Fun Veggie Медова гребінець з морськ. водоростями д/собак 12 см","Менше 10","Ласощі для собак",563.70000000000005,730,0,{"$f":"G10*I10","v":0}]
[null,1111183909,"31283_10шт","Denta Fun Veggie Щелепна кістка для собак велика 12 см 35 г","Менше 10","Ласощі для собак",351,456,0,{"$f":"G11*I11","v":0}]
[null,1111183905,"31284_5шт","Denta Fun Veggie Щелепна кістка для собак велика 22 см 85 г","Більше 10","Ласощі для собак",370,480,0,{"$f":"G12*I12","v":0}]
[null,3280,"3443_1шт","Iграшка Trixie для собак М_яч Неон поролон ассорті 6см","Більше 10","Іграшки для собак",62.64,77,0,{"$f":"G13*I13","v":0}]
[null,1111183266,42755,"PREMIO Freeze Dried крветки 25 г","Більше 100","Ласощі для котів",117.75,153,0,{"$f":"G14*I14","v":0}]
[null,6719,31491,"Trixie Bonies ласощі яловичина, індичка для собак, 75 г","Більше 100","Вітаміни та мінерали",61.38,75,0,{"$f":"G15*I15","v":0}]
[null,1111129070,31496,"Trixie Bony Mix ласощі для собак, 500 г","Немає в наявності","Вітаміни та мінерали",220.48,272,0,{"$f":"G16*I16","v":0}]
[null,1111115114,4225,"Trixie Cat Nip котяча м_ята, 20 г","Більше 10","Вітаміни та мінерали",45.1,56,0,{"$f":"G17*I17","v":0}]
[null,1111170282,31651,"Trixie Chicken Chip Cookies печиво з куркою для собак, 100 г","Менше 10","Ласощі для собак",122.47,159.21,0,{"$f":"G18*I18","v":0}]
[null,1111163200,31665,"Trixie Chicken Rings кільце жувальне з куркою для собак, 100 г","Більше 10","Ласощі для собак",108.61,141,0,{"$f":"G19*I19","v":0}]
[null,1111170305,31505,"Trixie Chucekn Burger Бургер з куркою, сиром. шкірою д/соб. 9см, 140г","Менше 10","Ласощі для собак",181.64,236,0,{"$f":"G20*I20","v":0}]
[null,1111115310,"31101_1шт","Trixie Denta Fun кісточка для чищення зубів у собак, 11см/50г","Більше 10","Ласощі для собак",65.86,85.6,0,{"$f":"G21*I21","v":0}]
[null,1111115309,"31121_1шт","Trixie Denta Fun кісточка для чищення зубів у собак, 16см/110г","Більше 10","Ласощі для собак",141.56,184,0,{"$f":"G22*I22","v":0}]
[null,12226,"31141_1шт","Trixie Denta Fun кісточка для чищення зубів у собак, 24см/240г","Більше 10","Ласощі для собак",286.87,372,0,{"$f":"G23*I23","v":0}]
[null,1111134917,31340,"Trixie Denta Fun Кісточка пресована жувальна для собак, 5см, 120г, 8шт","Менше 10","Ласощі для собак",164.1,214,0,{"$f":"G24*I24","v":0}]
[null,1111170296,313261,"Trixie Denta Fun паличка д/чищен. зубів з курк. д/соб 28см 80г, 100шт","Менше 10","Ласощі для собак",9270,12051,0,{"$f":"G25*I25","v":0}]
[null,13429,31501,"Trixie DentaFun Chew Bites з петрушкою і м ятою д/собак, 150 г","Більше 100","Ласощі для собак",90.19,118,0,{"$f":"G26*I26","v":0}]
[null,1111148380,31347,"Trixie DENTAfun MINI палички з качкою для собак, 6см/120г","Більше 100","Ласощі для собак",149.07,193,0,{"$f":"G27*I27","v":0}]
[null,1111148379,31346,"Trixie DENTAfun MINI палички з куркою для собак, 6см/120г","Менше 10","Ласощі для собак",149.07,194,0,{"$f":"G28*I28","v":0}]
[null,1111143414,31342,"Trixie DENTAfun гантель жувальна з куркою і рисом д/соб. 100г (6 шт.)","Більше 10","Ласощі для собак",101.47,131,0,{"$f":"G29*I29","v":0}]
[null,1111163209,31473,"Trixie DentaFun жувальні спіральки для собак, 3х15см, 110 г","Більше 10","Ласощі для собак",202.94,262,0,{"$f":"G30*I30","v":0}]
[null,1111170285,31186,"Trixie DentaFun з куркою, печінкою та сиром_ятн шкірою д/соб 50г 13см","Менше 10","Ласощі для собак",2881.22,3746,0,{"$f":"G31*I31","v":0}]
[null,1111170286,31196,"Trixie DentaFun з куркою, сиром_ятн шкірою д/соб. 46 г, 12 см, 50 шт","Менше 10","Ласощі для собак",2505.41,3257,0,{"$f":"G32*I32","v":0}]
[null,1111170301,313331,"Trixie DentaFun кільце д/чищен зубів з качкою д/соб d=10см 110г 100шт","Менше 10","Ласощі для собак",14907.16,19379,0,{"$f":"G33*I33","v":0}]
[null,1111170293,311841,"Trixie DentaFun кільце д/чищен зубів з куркою д/соб ,d=5см, 27г, 150шт","Менше 10","Ласощі для собак",6952.5,8622,0,{"$f":"G34*I34","v":0}]
[null,1111170298,313281,"Trixie DentaFun кільце д/чищен зубів з куркою д/соб d=10см, 110г 100шт","Менше 10","Ласощі для собак",14907.16,19379,0,{"$f":"G35*I35","v":0}]
[null,1111170299,31331,"Trixie DentaFun кільце д/чищен зубів з куркою д/соб d=20см, 225г","Більше 10","Ласощі для собак",323.2,420,0,{"$f":"G36*I36","v":0}]
[null,1111170300,31332,"Trixie DentaFun кільце д/чищен зубів з куркою д/соб d=6см, 110г, 2шт","Більше 100","Ласощі для собак",185.4,241,0,{"$f":"G37*I37","v":0}]
[null,1111170295,31316,"Trixie DentaFun кільце д/чищен зубів з куркою д/соб, 11см, 65 г","Більше 10","Ласощі для собак",113.23,152.86000000000001,0,{"$f":"G38*I38","v":0}]
[null,1111170294,312281,"Trixie DentaFun кільце д/чищен зубів з ялович. д/соб d=10см 110г 100шт","Менше 10","Ласощі для собак",14907.16,19379,0,{"$f":"G39*I39","v":0}]
[null,1111139989,31322,"Trixie DENTAfun кісточка для чищення зубів з куркою, 11см/70г (2шт)","Більше 10","Ласощі для собак",92.7,120,0,{"$f":"G40*I40","v":0}]
[null,1111139988,31321,"Trixie DENTAfun кісточка для чищення зубів з куркою, 5см/70г (5 шт.)","Більше 100","Ласощі для собак",92.7,120,0,{"$f":"G41*I41","v":0}]
[null,1111141111,31391,"Trixie DENTAfun кісточка пресована з качкою д/собак, 10см/70г (2 шт.)","Немає в наявності","Ласощі для собак",112.74,145,0,{"$f":"G42*I42","v":0}]
[null,1111141112,31392,"Trixie DENTAfun кісточка пресована з качкою д/собак, 12см/120г (2шт.)","Більше 10","Ласощі для собак",166.61,216,0,{"$f":"G43*I43","v":0}]
[null,1111141771,31388,"Trixie DENTAfun ласощі паличка жувальна з буйволом 12см/70г (5шт.)","Більше 10","Ласощі для собак",130.28,169,0,{"$f":"G44*I44","v":0}]
[null,1111137237,31325,"Trixie DENTAfun ласощі палички з куркою для собак, 12см/70г/6шт","Більше 100","Ласощі для собак",91.45,119,0,{"$f":"G45*I45","v":0}]
[null,1111137239,31327,"Trixie DENTAfun ласощі палички з куркою для собак, 17см/140г/3шт","Більше 10","Ласощі для собак",166.61,216,0,{"$f":"G46*I46","v":0}]
[null,1111137238,31326,"Trixie DENTAfun ласощі палички з куркою для собак, 28см/250г/3шт","Більше 10","Ласощі для собак",289.37,375,0,{"$f":"G47*I47","v":0}]
[null,1111156267,31372,"Trixie DENTAfun мікс паличка-рол для собак, 110см/250г","Більше 100","Ласощі для собак",338.23,437,0,{"$f":"G48*I48","v":0}]
[null,1111156268,31395,"Trixie DENTAfun паличик з качкою для собак, 12см/240г/30шт","Більше 10","Ласощі для собак",338.23,437,0,{"$f":"G49*I49","v":0}]
[null,1111134918,31371,"Trixie DentaFun паличка для чищення зубів для собак, 12 см, 80 г, 10шт","Немає в наявності","Ласощі для собак",112.74,145,0,{"$f":"G50*I50","v":0}]
[null,1111134919,31373,"Trixie DentaFun паличка для чищення зубів для собак, 17 см, 140 г, 3шт","Більше 100","Ласощі для собак",166.61,216,0,{"$f":"G51*I51","v":0}]
[null,1111134920,31374,"Trixie DentaFun паличка для чищення зубів для собак, 28 см, 250 г, 3шт","Більше 100","Ласощі для собак",289.37,376,0,{"$f":"G52*I52","v":0}]
[null,1111170297,313271,"Trixie DentaFun паличка для чищення зубів собак, 17см 45г 100шт/уп","Менше 10","Ласощі для собак",5511.89,7165,0,{"$f":"G53*I53","v":0}]
[null,1111140897,31377,"Trixie DENTAfun палички барбекю курка для собак, 12см/105г/3шт","Більше 10","Ласощі для собак",166.61,217,0,{"$f":"G54*I54","v":0}]
[null,1111140896,31376,"Trixie DENTAfun палички барбекю, курка для собак, 12см/80г/10шт","Більше 10","Ласощі для собак",149.07,193,0,{"$f":"G55*I55","v":0}]
[null,1111156276,31338,"Trixie DENTAfun палички з кроликом д/чищ. зуб собак, 12см/70г (6 шт.)","Більше 100","Ласощі для собак",101.47,131,0,{"$f":"G56*I56","v":0}]
[null,1111140898,31378,"Trixie DENTAfun палички з куркою для собак, 12см/240г/30шт","Більше 100","Ласощі для собак",301.89999999999998,390,0,{"$f":"G57*I57","v":0}]
[null,1111161304,31225,"Trixie DENTAfun палички з мармуровою яловичиною д/собак, 12см/70г/6шт","Більше 10","Ласощі для собак",91.45,119,0,{"$f":"G58*I58","v":0}]
[null,1111161305,"9931227/31227","Trixie DENTAfun палички з мармуровою яловичиною д/собак, 17см/140г/3шт","Більше 100","Ласощі для собак",166.61,216,0,{"$f":"G59*I59","v":0}]
[null,1111146289,31387,"Trixie DENTAfun палички з рибою для собак, 12см/75г/10шт","Більше 100","Ласощі для собак",122.76,158,0,{"$f":"G60*I60","v":0}]
[null,1111170303,31466,"Trixie DentaFun реберця д/чищен. зубів з качкою д/соб, 17см 110г 2шт","Більше 100","Ласощі для собак",185.4,267,0,{"$f":"G61*I61","v":0}]
[null,1111170304,31467,"Trixie DentaFun реберця д/чищення зубів з куркою д/соб 12см 90г 3шт","Більше 100","Ласощі для собак",149.07,194,0,{"$f":"G62*I62","v":0}]
[null,1111143411,31341,"Trixie DENTAfun чіпси жувальні з куркою сиром_ятна шкіра 100 г (8 шт.)","Більше 10","Ласощі для собак",120.16,155,0,{"$f":"G63*I63","v":0}]
[null,1111120314,4266,"Trixie Dentinos вітаміни для котів, 50 г","Більше 100","Вітаміни та мінерали",55.12,67,0,{"$f":"G64*I64","v":0}]
[null,1111134757,31773,"Trixie Dentros Mini жувальні шматочки для собак 60 г","Більше 10","Ласощі для собак",77.67,101,0,{"$f":"G65*I65","v":0}]
[null,1111134756,3173,"Trixie Dentros жувальні шматочки з м ясом птахів для собак, 180 г 7 шт","Більше 100","Ласощі для собак",80.17,104,0,{"$f":"G66*I66","v":0}]
[null,1111121023,"31492  Trixie","Trixie Flowers ласощі ягня, курка для собак, 75 г","Більше 100","Вітаміни та мінерали",61.38,80,0,{"$f":"G67*I67","v":0}]
[null,1111132992,31497,"Trixie Happy Hearts ласощі для собак, 500 г","Більше 100","Вітаміни та мінерали",220.48,272,0,{"$f":"G68*I68","v":0}]
[null,1111129069,31495,"Trixie Happy Mix ласощі для собак, 500 г","Більше 10","Вітаміни та мінерали",220.48,272,0,{"$f":"G69*I69","v":0}]
[null,1111162485,31518,"Trixie Junior Soft Snack Bones вітаміни з кальцієм для цуценят, 140 г","Більше 10","Вітаміни та мінерали",110.24,136,0,{"$f":"G70*I70","v":0}]
[null,1111162486,31519,"Trixie Junior Soft Snack Dots вітаміни з Омега-3 для цуценят, 140 г","Більше 10","Вітаміни та мінерали",110.24,136,0,{"$f":"G71*I71","v":0}]
[null,1111116717,2674,"Trixie KauChips Light зі спіруліною для малих собак, 50 г","Більше 100","Ласощі для собак",73.91,95,0,{"$f":"G72*I72","v":0}]
[null,1111139733,31524,"Trixie Mini Hearts ласощі для собак, 200 г","Більше 100","Вітаміни та мінерали",110.24,136,0,{"$f":"G73*I73","v":0}]
[null,1111170289,31656,"Trixie Mini Pretzels крендель з куркою для собак, 100 г","Більше 10","Ласощі для собак",149.07,194,0,{"$f":"G74*I74","v":0}]
[null,1111156271,31853,"Trixie PREMIO 4 Meat Minis курка/качка/лосось/баран. д/соб. 4x100 г","Більше 10","Ласощі для собак",414.64,538,0,{"$f":"G75*I75","v":0}]
[null,1111156270,31852,"Trixie PREMIO 4 Meat Minis курка/качка/яловичина/баран. д/соб. 4x100 г","Більше 10","Ласощі для собак",414.64,540,0,{"$f":"G76*I76","v":0}]
[null,1111156272,31854,"Trixie PREMIO 4 Meat Minis курка/качка/яловичина/баран. д/соб. 4x100 г","Менше 10","Ласощі для собак",414.64,538,0,{"$f":"G77*I77","v":0}]
[null,1111138613,31593,"Trixie PREMIO Apple Chicken з яблуком для собак, 100 г","Більше 10","Ласощі для собак",122.76,159,0,{"$f":"G78*I78","v":0}]
[null,1111140891,31706,"Trixie PREMIO Beef Coins ласощі з яловичиною для собак, 100 г","Більше 100","Ласощі для собак",122.76,158,0,{"$f":"G79*I79","v":0}]
[null,1111170278,31602,"Trixie PREMIO Bullduck з качкою для собак, 9 см, 11 г, 88 шт","Менше 10","Ласощі для собак",1171.28,1523,0,{"$f":"G80*I80","v":0}]
[null,1111133312,42707,"Trixie PREMIO Carpaccio для котів качка/риба, 20 г","Більше 100","Ласощі для котів",35.08,45,0,{"$f":"G81*I81","v":0}]
[null,1111148409,31804,"Trixie PREMIO Carpaccio качка/риба для собак, 80 г","Більше 100","Ласощі для собак",112.74,145,0,{"$f":"G82*I82","v":0}]
[null,1111136713,42717,"Trixie PREMIO Cheese Chicken Cubes сир+курка кубики для котів, 50 г","Більше 100","Ласощі для котів",65.14,85,0,{"$f":"G83*I83","v":0}]
[null,1111124227,31535,"Trixie PREMIO Chicken and Pollock Rolls роли курка/лосось д/соб, 75 г","Більше 100","Ласощі для собак",86.44,112,0,{"$f":"G84*I84","v":0}]
[null,1111124226,31534,"Trixie PREMIO Chicken and Pollock Stripes палички кур/лосось д/соб 75г","Більше 100","Ласощі для собак",86.44,111,0,{"$f":"G85*I85","v":0}]
[null,1111163206,31857,"Trixie PREMIO Chicken Bars м_ясні батончики для собак, 2х30 г","Більше 10","Ласощі для собак",46.22,60,0,{"$f":"G86*I86","v":0}]
[null,1111140893,31802,"Trixie PREMIO Chicken Bites XXL Packкурячі гантельки д/соб. 300 г","Більше 10","Ласощі для собак",261.81,340,0,{"$f":"G87*I87","v":0}]
[null,1111122468,31533,"Trixie PREMIO Chicken Bites курячі гантельки для собак, 100 г","Більше 100","Ласощі для собак",92.7,120,0,{"$f":"G88*I88","v":0}]
[null,1111163202,31589,"Trixie PREMIO Chicken Cheese Rolls з куркою та сиром для собак, 100 г","Більше 10","Ласощі для собак",122.76,159,0,{"$f":"G89*I89","v":0}]
[null,1111134760,31586,"Trixie PREMIO Chicken Cheese Stripes сир/курка для собак, 100 г","Більше 100","Ласощі для собак",112.74,145,0,{"$f":"G90*I90","v":0}]
[null,1111124225,31531,"Trixie PREMIO Chicken Coins курячі монетки для собак, 100 г","Більше 100","Ласощі для собак",112.74,146,0,{"$f":"G91*I91","v":0}]
[null,1111133311,42706,"Trixie PREMIO Chicken Cubes курячі кубики для котів, 50 г","Більше 100","Ласощі для котів",65.14,85,0,{"$f":"G92*I92","v":0}]
[null,1111134761,31585,"Trixie PREMIO Chicken Drumsticks курка для собак, 95 г, 5 шт","Більше 10","Ласощі для собак",101.47,132,0,{"$f":"G93*I93","v":0}]
[null,1111124006,42701,"Trixie PREMIO Chicken Filet Bites філе куряче сушене для котів, 50 г","Більше 10","Ласощі для котів",73.91,96,0,{"$f":"G94*I94","v":0}]
[null,1111140892,31801,"Trixie PREMIO Chicken Filets XXL Pack ласощі куряче філе д/собак, 300г","Менше 10","Ласощі для собак",338.23,439,0,{"$f":"G95*I95","v":0}]
[null,1111124223,31532,"Trixie PREMIO Chicken Filets куряче філе для собак, 100 г","Більше 100","Ласощі для собак",122.76,158,0,{"$f":"G96*I96","v":0}]
[null,1111146930,31539,"Trixie PREMIO Chicken Flags куряча грудинка для собак, 100 г","Більше 10","Ласощі для собак",112.74,145,0,{"$f":"G97*I97","v":0}]
[null,1111146931,31588,"Trixie PREMIO Chicken Flags куряча грудинка для собак, 400 г","Більше 10","Ласощі для собак",529.89,686,0,{"$f":"G98*I98","v":0}]
[null,1111139264,31703,"Trixie PREMIO Chicken Pasta ласощі паста з куркою для собак, 100 г","Більше 10","Ласощі для собак",112.74,146,0,{"$f":"G99*I99","v":0}]
[null,1111139043,31702,"Trixie PREMIO Chicken Pizza  піца з куркою для собак, 100 г","Більше 10","Ласощі для собак",112.74,146,0,{"$f":"G100*I100","v":0}]
[null,1111134916,31591,"Trixie PREMIO Chickies з кальцієм для собак, 100 г","Більше 10","Ласощі для собак",112.74,145,0,{"$f":"G101*I101","v":0}]
[null,1111170306,315911,"Trixie PREMIO Chiсkies кісточка з куркою д/собак 7,5 см, 9 г, 400 шт","Менше 10","Ласощі для собак",4008.65,5211,0,{"$f":"G102*I102","v":0}]
[null,1111151354,42743,"Trixie PREMIO Cookies з лососем і котячою м_ятою для котів, 50 г","Більше 100","Ласощі для котів",50.11,66,0,{"$f":"G103*I103","v":0}]
[null,1111148905,31749,"Trixie PREMIO Corn Dogs качка для собак, 100гр/4шт","Більше 10","Ласощі для собак",122.76,159,0,{"$f":"G104*I104","v":0}]
[null,1111139266,31705,"Trixie PREMIO Crispy Duck ласощі качка для собак, 100 г","Більше 10","Ласощі для собак",122.76,158,0,{"$f":"G105*I105","v":0}]
[null,1111163208,31868,"Trixie PREMIO Deer Fish Sandwiches з олениною та рибою д/собак, 100 г","Більше 10","Ласощі для собак",149.05000000000001,193,0,{"$f":"G106*I106","v":0}]
[null,1111135175,31592,"Trixie PREMIO Duck Bites з качкою для собак, 80 г","Більше 100","Ласощі для собак",92.7,120,0,{"$f":"G107*I107","v":0}]
[null,1111134915,31587,"Trixie PREMIO Duck Coins з качкою для собак, 80 г","Більше 100","Ласощі для собак",101.47,132,0,{"$f":"G108*I108","v":0}]
[null,1111136712,42716,"Trixie PREMIO Duck Filet Bites філе качки сушене д котів, 50 г","Більше 100","Ласощі для котів",65.14,85,0,{"$f":"G109*I109","v":0}]
[null,1111163203,31869,"Trixie PREMIO Duck Softies ласощі з качкою для собак, 100 г","Більше 100","Ласощі для собак",107.73,139,0,{"$f":"G110*I110","v":0}]
[null,1111129084,31538,"Trixie PREMIO Duckies кальцієві кісточки з качкою для собак, 100 г","Більше 100","Ласощі для собак",101.47,132,0,{"$f":"G111*I111","v":0}]
[null,1111135174,31594,"Trixie PREMIO Duckinos з качкою для собак, 80 г","Більше 10","Ласощі для собак",91.45,118,0,{"$f":"G112*I112","v":0}]
[null,1111134594,31537,"Trixie PREMIO Ducky Stripes качка для собак, 100 г","Більше 10","Ласощі для собак",112.74,145,0,{"$f":"G113*I113","v":0}]
[null,1111143413,31747,"Trixie PREMIO Fish Chicken Sticks курка/риба для собак, 80 г","Більше 10","Ласощі для собак",83.93,109,0,{"$f":"G114*I114","v":0}]
[null,1111143412,31748,"Trixie PREMIO Fish Chicken Wheels курка/риба для собак, 75 г","Більше 10","Ласощі для собак",101.47,132,0,{"$f":"G115*I115","v":0}]
[null,1111148412,31547,"Trixie PREMIO Fish Rabbit Stripes кріль/риба для собак, 100 г","Більше 100","Ласощі для собак",112.74,145,0,{"$f":"G116*I116","v":0}]
[null,1111139047,31599,"Trixie PREMIO Fishies кісточка з рибою для собак, 100 г","Більше 10","Ласощі для собак",112.74,145,0,{"$f":"G117*I117","v":0}]
[null,1111170307,31606,"Trixie PREMIO Freeze Dried куряча грудка д/собак, 50 г","Більше 10","Ласощі для собак",185.4,241,0,{"$f":"G118*I118","v":0}]
[null,1111156269,31809,"Trixie PREMIO Goose Filets філе гуски для собак, 65 г","Немає в наявності","Ласощі для собак",92.7,119,0,{"$f":"G119*I119","v":0}]
[null,1111128593,42705,"Trixie PREMIO Hearts качка/минтай для котів, 50 г","Більше 100","Ласощі для котів",65.14,85,0,{"$f":"G120*I120","v":0}]
[null,1111116716,2682,"Trixie PREMIO KauChips Light зі спіруліною для собак, 100 г","Більше 10","Ласощі для собак",141.56,184,0,{"$f":"G121*I121","v":0}]
[null,1111146933,31544,"Trixie PREMIO Lamb Bites ягня для собак, 100 г","Більше 100","Ласощі для собак",112.74,145,0,{"$f":"G122*I122","v":0}]
[null,1111170311,317071,"Trixie PREMIO Lamb Chicken Bagel кільце з ягням/курк d=4см 170г 300шт","Менше 10","Ласощі для собак",6012.97,7817,0,{"$f":"G123*I123","v":0}]
[null,1111140899,31707,"Trixie PREMIO Lamb Chicken Bagles кільця ягня/курка для собак, 100 г","Більше 100","Ласощі для собак",130.28,169,0,{"$f":"G124*I124","v":0}]
[null,1111141773,31741,"Trixie PREMIO Lamb Stripes ласощі ягня для собак, 100 г","Більше 10","Ласощі для собак",112.74,145,0,{"$f":"G125*I125","v":0}]
[null,1111133313,42708,"Trixie PREMIO Mini Sticks курка/рис для котів, 50 г","Більше 100","Ласощі для котів",55.12,72,0,{"$f":"G126*I126","v":0}]
[null,1111133128,31536,"Trixie PREMIO Omega Stripes курка для собак, 100 г","Більше 100","Ласощі для собак",112.74,145,0,{"$f":"G127*I127","v":0}]
[null,1111116707,2755,"Trixie PREMIO Picknicks сосиски з ягням для собак, (200 шт)","Менше 10","Ласощі для собак",3006.49,3893,0,{"$f":"G128*I128","v":0}]
[null,1111135172,42724,"Trixie PREMIO Quadro-Sticks домашня птиця/печінка для котів, 4 шт.* 5г","Більше 100","Ласощі для котів",53.87,69,0,{"$f":"G129*I129","v":0}]
[null,1111135173,42725,"Trixie PREMIO Quadro-Sticks лосось/форель для котів, 4 шт.*5г","Більше 100","Ласощі для котів",53.87,69,0,{"$f":"G130*I130","v":0}]
[null,1111135171,42723,"Trixie PREMIO Quadro-Sticks ягня/індичка для котів, 4 шт* 5г","Більше 100","Ласощі для котів",53.87,69,0,{"$f":"G131*I131","v":0}]
[null,1111148410,31545,"Trixie PREMIO Rabbit Cubes кролик для собак, 100 г","Більше 100","Ласощі для собак",122.76,158,0,{"$f":"G132*I132","v":0}]
[null,1111148411,31546,"Trixie PREMIO Rabbit Drumsticks кріль для собак, 100 г, 8 шт.","Більше 100","Ласощі для собак",112.74,146,0,{"$f":"G133*I133","v":0}]
[null,1111141772,31709,"Trixie PREMIO Rabbit Sticks ласощі кролик для собак, 100 г","Більше 10","Ласощі для собак",112.74,145,0,{"$f":"G134*I134","v":0}]
[null,1111170308,31607,"Trixie PREMIO Reeze Dried качина грудка д/собак, 50 г","Більше 10","Ласощі для собак",185.4,241,0,{"$f":"G135*I135","v":0}]
[null,1111139042,31701,"Trixie PREMIO Rice Chicken Balls рис/курка для собак, 80 г","Більше 10","Ласощі для собак",73.91,96,0,{"$f":"G136*I136","v":0}]
[null,1111139265,31704,"Trixie PREMIO Rice Duck Balls кульки з качкою і рисом для собак, 80 г","Більше 100","Ласощі для собак",73.91,96,0,{"$f":"G137*I137","v":0}]
[null,1111141774,31742,"Trixie PREMIO Rice Duck Bones ласощі качка/рис для собак, 80 г","Більше 100","Ласощі для собак",83.93,109,0,{"$f":"G138*I138","v":0}]
[null,1111124007,42702,"Trixie PREMIO Rolls курка/минтай для котів, 50 г","Більше 100","Ласощі для котів",65.14,85,0,{"$f":"G139*I139","v":0}]
[null,1111121803,3171,"Trixie PREMIO Rotolinis з м_ясом домашніх птахів д/собак, 120г (12шт.)","Більше 100","Ласощі для собак",53.87,70,0,{"$f":"G140*I140","v":0}]
[null,1111119296,3155,"Trixie PREMIO Rotolinis із шлунком для собак, 120 г (12 шт.)","Більше 100","Ласощі для собак",50.11,65,0,{"$f":"G141*I141","v":0}]
[null,1111120007,3156,"Trixie PREMIO Stripes Light з м_ясом дом. птахів д/собак, 100 г (10шт)","Більше 100","Ласощі для собак",46.35,61,0,{"$f":"G142*I142","v":0}]
[null,1111121135,3172,"Trixie PREMIO Stripes Light з яловичиною для собак, 100 г (10 шт.)","Більше 100","Ласощі для собак",46.35,61,0,{"$f":"G143*I143","v":0}]
[null,1111134914,31573,"Trixie PREMIO Sushi Rolls з рибою для собак, 100 г","Більше 10","Ласощі для собак",122.76,158,0,{"$f":"G144*I144","v":0}]
[null,1111140895,42734,"Trixie PREMIO Tuna Bites ласощі тунець, для котів, 50 г","Більше 100","Ласощі для котів",83.93,108,0,{"$f":"G145*I145","v":0}]
[null,1111139045,42732,"Trixie PREMIO Tuna Rolls тунець для котів, 50 г","Більше 10","Ласощі для котів",83.93,108,0,{"$f":"G146*I146","v":0}]
[null,1111139044,42731,"Trixie PREMIO Tuna Sandwiches тунець для котів, 50 г","Більше 100","Ласощі для котів",83.93,108,0,{"$f":"G147*I147","v":0}]
[null,1111137849,"2708_1шт","Trixie PREMIO Паличка пресована з рубцем для собак, 20 см, 80 г","Більше 10","Ласощі для собак",73.91,96,0,{"$f":"G148*I148","v":0}]
[null,1111115101,2748,"Trixie PREMIO сосиски з яловичиною для собак, (200 шт.)","Менше 10","Ласощі для собак",3006.49,3893,0,{"$f":"G149*I149","v":0}]
[null,1111183910,"312851_10шт","Trixie Safari овочеве насип для собак 28 г","Менше 10","Ласощі для собак",325.7,420,0,{"$f":"G150*I150","v":0}]
[null,1111148376,31526,"Trixie Soft Snack Bony Mix, XXL Pack мікс м_яса для собак, 1,8 кг","Більше 10","Ласощі для собак",769.16,996,0,{"$f":"G151*I151","v":0}]
[null,1111170288,31506,"Trixie Sweet Potato Crossies ласощі з куркою та картоплею д/соб. 100г","Більше 10","Ласощі для собак",99.36,129.16999999999999,0,{"$f":"G152*I152","v":0}]
[null,1111139972,31523,"Trixie Trainer Snack Mini Boness ласощі для собак, 500 г","Більше 10","Вітаміни та мінерали",220.48,285,0,{"$f":"G153*I153","v":0}]
[null,1111141775,42741,"Trixie Trainer Snack Mini Nuggets ласощі для тренування кота, 50 г","Більше 10","Ласощі для котів",83.93,108,0,{"$f":"G154*I154","v":0}]
[null,1111170310,31628,"Trixie Вафлі з куркою для собак d=7см, 3шт, 100г","Більше 10","Ласощі для собак",101.68,132.18,0,{"$f":"G155*I155","v":0}]
[null,1111153601,"2640_25шт","Trixie Кісточка пресована для собак, 13см/60г, 25 шт.","Більше 10","Ласощі для собак",1252.7,1622,0,{"$f":"G156*I156","v":0}]
[null,1111139987,27612,"Trixie кісточка пресована з м_ясом пеніса для собак, 12см/60г (2 шт.)","Більше 100","Ласощі для собак",101.47,131,0,{"$f":"G157*I157","v":0}]
[null,1111118270,27621,"Trixie кісточка пресована з рубцем для собак, 10см/35г (2 шт.)","Більше 100","Ласощі для собак",65.14,84,0,{"$f":"G158*I158","v":0}]
[null,1111118269,27622,"Trixie кісточка пресована з рубцем для собак, 12см/60г (2 шт.)","Більше 100","Ласощі для собак",101.47,131,0,{"$f":"G159*I159","v":0}]
[null,8057,6001,"Trixie мінерал-сіль в упаковці для великих гризунів, 84 г","Менше 10","Вітаміни та мінерали",42.59,55,0,{"$f":"G160*I160","v":0}]
[null,5165,6000,"Trixie мінерал-сіль в упаковці для гризунів, 54 г (2 шт.)","Більше 100","Вітаміни та мінерали",48.86,60,0,{"$f":"G161*I161","v":0}]
[null,1111132112,6004,"Trixie мінерал-сіль гімалайська для гризунів, 60 г","Більше 10","Вітаміни та мінерали",62.64,81,0,{"$f":"G162*I162","v":0}]
[null,1111141768,31745,"Trixie паличка жувальна з куркою д/собак 65г/шт. (50 шт.)","Більше 10","Ласощі для собак",1252.7,1460,0,{"$f":"G163*I163","v":0}]
[null,1111141769,31746,"Trixie паличка жувальна з яловичиною д/собак 65г/шт. (50 шт.)","Більше 10","Ласощі для собак",1252.7,1621,0,{"$f":"G164*I164","v":0}]
[null,1111170291,27646,"Trixie паличка пресована жувальна з качкою д/собак, 10 см, 17 г, 100шт","Менше 10","Ласощі для собак",1753.78,2280,0,{"$f":"G165*I165","v":0}]
[null,1111170292,27647,"Trixie паличка пресована жувальна з куркою д/собак, 10 см, 17 г, 100шт","Менше 10","Ласощі для собак",1753.78,2280,0,{"$f":"G166*I166","v":0}]
[null,10243,2610,"Trixie палички жувальні мікс для собак 10 см (100 шт.)","Більше 100","Ласощі для собак",298.14,386,0,{"$f":"G167*I167","v":0}]
[null,1111122931,2609,"Trixie палички жувальні мікс для собак 10 см (50 шт.)","Більше 100","Ласощі для собак",149.07,193,0,{"$f":"G168*I168","v":0}]
[null,1111134913,2607,"Trixie палички пресовані жувальні для собак, 12 см, 100 шт","Більше 10","Ласощі для собак",298.14,386,0,{"$f":"G169*I169","v":0}]
[null,1111134911,2600,"Trixie палички пресовані жувальні, червоні для собак, 12 см, 100 шт","Менше 10","Ласощі для собак",298.14,386,0,{"$f":"G170*I170","v":0}]
[null,1111114888,2805,"Trixie Рибка сушена для котів, 50 г","Більше 100","Ласощі для котів",57.62,74,0,{"$f":"G171*I171","v":0}]
[null,1111156266,27127,"Trixie Хвіст буйвола для собак, 28-30 см","Більше 10","Ласощі для собак",149.07,194,0,{"$f":"G172*I172","v":0}]
[null,1111119924,4151,"Адресник Trixie для собак металевий хромований Арт4151","Більше 10","Аксесуари для амуніції (адресовки, брелоки, медальйони, підвіски)",35.08,46,0,{"$f":"G173*I173","v":0}]
[null,9743,2278,"Адресниця золото для собак","Більше 10","Аксесуари для амуніції (адресовки, брелоки, медальйони, підвіски)",37.58,47,0,{"$f":"G174*I174","v":0}]
[null,1111115368,2279,"Адресниця синя/червона для собак","Менше 10","Аксесуари для амуніції (адресовки, брелоки, медальйони, підвіски)",37.58,47,0,{"$f":"G175*I175","v":0}]
[null,1111119354,2280,"Адресниця-капсула хромована для собак","Менше 10","Аксесуари для амуніції (адресовки, брелоки, медальйони, підвіски)",52.61,65,0,{"$f":"G176*I176","v":0}]
[null,1111127815,2277,"Адресниця-лапка флуоресцентна 3,5 см","Менше 10","Аксесуари для амуніції (адресовки, брелоки, медальйони, підвіски)",31.32,39,0,{"$f":"G177*I177","v":0}]
[null,1111163130,35677,"Альпака, 22 см, плюш","Більше 10","Іграшки для собак",298.14,369,0,{"$f":"G178*I178","v":0}]
[null,1111183727,23421,"Багаторазова пелюшки Trixie 60 х 60 см сіра Арт23421","Менше 10","Пелюшки для собак",571.23,743,0,{"$f":"G179*I179","v":0}]
[null,12266,4083,"Байбак 8,5 см в упаковці","Більше 100","Іграшки для котів",102.72,127,0,{"$f":"G180*I180","v":0}]
[null,1111148917,24664,"Банка для корму, пластик, прозора","Більше 10","Ємності для зберігання їжі",238.01,299,0,{"$f":"G181*I181","v":0}]
[null,1111135464,39451,"Бар єр міжкімнатний 75-85?76 см метал","Менше 10","Будинки, будки, двері",2869.94,3610,0,{"$f":"G182*I182","v":0}]
[null,1111114669,5401,"Басейн для птахів 13,5?15?13,5 см","Більше 10","Обладнання для кліток",117.75,146,0,{"$f":"G183*I183","v":0}]
[null,1111112415,5402,"Басейн для птахів 14?15?15 см","Немає в наявності","Обладнання для кліток",147.82,183,0,{"$f":"G184*I184","v":0}]
[null,1111138464,63002,"Басейн для шиншили 27?18?16 см","Більше 10","Обладнання для кліток",334.47,414,0,{"$f":"G185*I185","v":0}]
[null,1111183906,"2707_5шт","Бичка сушена для собак 70–80 см","Більше 10","Ласощі для собак",2343,3045,0,{"$f":"G186*I186","v":0}]
[null,1111134458,60812,"Біговий диск Trixie для дегу і великих хом'яків пластик 30см Арт60812","Більше 10","Обладнання для кліток",448,583,0,{"$f":"G187*I187","v":0}]
[null,1111134787,45768,"Білочка плюшева 9 см","Більше 10","Іграшки для котів",117.75,146,0,{"$f":"G188*I188","v":0}]
[null,1111134859,35910,"Бобер плюшевий 27 см","Більше 100","Іграшки для собак",298.14,368,0,{"$f":"G189*I189","v":0}]
[null,1111128547,35918,"Бобер плюшевий 40 см","Більше 10","Іграшки для собак",402.12,497,0,{"$f":"G190*I190","v":0}]
[null,1111124230,2287,"Брелок  Clicker  з кнопкою","Менше 10","Обладнання для аджиліті, дресирування",115.25,144,0,{"$f":"G191*I191","v":0}]
[null,1111120016,2289,"Брелок  Clicker Basic","Менше 10","Обладнання для аджиліті, дресирування",76.41,96,0,{"$f":"G192*I192","v":0}]
[null,1111124231,2298,"Брелок  Soft Clicker  з кнопкою","Менше 10","Обладнання для аджиліті, дресирування",102.72,130,0,{"$f":"G193*I193","v":0}]
[null,1111117203,2288,"Брелок з металевими дисками для тренувань 4,5 см","Менше 10","Обладнання для аджиліті, дресирування",110.24,139,0,{"$f":"G194*I194","v":0}]
[null,1111130650,22762,"Брелок-адресниця Кісточка 35?20 мм","Менше 10","Аксесуари для амуніції (адресовки, брелоки, медальйони, підвіски)",129.03,159,0,{"$f":"G195*I195","v":0}]
[null,1111165306,13449,"Брелок-ліхтарик Trixie USB для собак 3,5х4,3 см Арт13449","Більше 10","Аксесуари для амуніції (адресовки, брелоки, медальйони, підвіски)",238.01,309,0,{"$f":"G196*I196","v":0}]
[null,1111134523,13443,"Брелок-ліхтарик з карабіном металевий 1 см","Менше 10","Аксесуари для амуніції (адресовки, брелоки, медальйони, підвіски)",147.82,207,0,{"$f":"G197*I197","v":0}]
[null,1111146895,13448,"Брелок-ліхтарик силіконовий 3,5см/11см","Більше 10","Аксесуари для амуніції (адресовки, брелоки, медальйони, підвіски)",181.64,224,0,{"$f":"G198*I198","v":0}]
[null,1111141005,13447,"Брелок-ліхтарик силіконовий 8 см","Більше 10","Аксесуари для амуніції (адресовки, брелоки, медальйони, підвіски)",155.34,192,0,{"$f":"G199*I199","v":0}]
[null,1111115990,1342,"Брелок-ліхтарик-адресниця кісточка для собак 4,5х3 см","Більше 10","Аксесуари для амуніції (адресовки, брелоки, медальйони, підвіски)",117.75,145,0,{"$f":"G200*I200","v":0}]
[null,1111161174,61364,"Будинок для гризунів керамічний d16 * 12 см сірий","Немає в наявності","Обладнання для кліток",274.99,340,0,{"$f":"G201*I201","v":0}]
[null,1111139703,36842,"Будиночок  Jimmy  40?35?35 см сірий в лапку","Менше 10","Будиночки-лежаки",1267.74,1501,0,{"$f":"G202*I202","v":0}]
[null,1111139036,36341,"Будиночок  Kaline  35?26?41 см сірий/кремовий","Менше 10","Будиночки-лежаки",1086.0899999999999,1286,0,{"$f":"G203*I203","v":0}]
[null,1111133003,36290,"Будиночок  Lukas  хутряний сірий 35?33?65 см з дряпкою","Менше 10","Будиночки-лежаки",2869.94,3399,0,{"$f":"G204*I204","v":0}]
[null,1111145204,36356,"Будиночок  Malu  коричневий/світло-коричневий 47x27x41 см","Більше 10","Будиночки-лежаки",1267.74,1501,0,{"$f":"G205*I205","v":0}]
[null,1111146878,36352,"Будиночок Silas 40?45?40 см сірий/крем","Більше 10","Будиночки-лежаки",1489.46,1764,0,{"$f":"G206*I206","v":0}]
[null,1111183753,38211,"Будиночок Trixie Бохо 55 х 65 х 55 см бежевий Арт38211","Більше 10","Будиночки-лежаки",1595,2073,0,{"$f":"G207*I207","v":0}]
[null,1111183797,62684,"Будиночок Trixie вігвам Санні для гризунів 37х35х37см Арт62684","Більше 10","Обладнання для кліток",334,435,0,{"$f":"G208*I208","v":0}]
[null,1111183795,62102,"Будиночок Trixie кокосовий з драбиною для гризунів 13х56см Арт62102","Більше 10","Обладнання для кліток",328,427,0,{"$f":"G209*I209","v":0}]
[null,1111183796,62103,"Будиночок Trixie набір з 2 будин з мостом для гризун 13х100см Арт62103","Менше 10","Обладнання для кліток",479,622,0,{"$f":"G210*I210","v":0}]
[null,1111121369,6176,"Будиночок для гризуна  Bjork  15?15?16 см","Менше 10","Обладнання для кліток",298.14,368,0,{"$f":"G211*I211","v":0}]
[null,1111121355,"62042*****СПЕЦЦЕНА","Будиночок для гризуна  Jesper  32?21,5?13 см","Більше 10","Обладнання для кліток",334,435,0,{"$f":"G212*I212","v":0}]
[null,1111115851,6118,"Будиночок для гризуна плетений 28?18?13,5 см","Менше 10","Обладнання для кліток",238.01,294,0,{"$f":"G213*I213","v":0}]
[null,1111120127,6171,"Будиночок для хом яків  Hendrik  15?12?11 см","Немає в наявності","Обладнання для кліток",177.88,220,0,{"$f":"G214*I214","v":0}]
[null,1111180290,36316,"Будиночок-лежак Trixie для котів фетровий світло-сірий 40 × 24 × 46см","Менше 10","Будиночки-лежаки",904.45,1176,0,{"$f":"G215*I215","v":0}]
[null,1111150923,36319,"Будиночок-лежак брудовідштовхувальний Liva 40?24?47см","Менше 10","Будиночки-лежаки",904.45,1071,0,{"$f":"G216*I216","v":0}]
[null,1111140974,36847,"Будиночок-тунель  Mimi  42?35?35 см сірий","Менше 10","Будиночки-лежаки",1267.74,1501,0,{"$f":"G217*I217","v":0}]
[null,1111125094,35986,"Бурундучок плюшевий з хвостом 30 см","Більше 10","Іграшки для собак",207.95,256,0,{"$f":"G218*I218","v":0}]
[null,1111115171,6184,"Валик дерев яний для хом яків 5?7 см","Більше 10","Обладнання для кліток",71.400000000000006,88,0,{"$f":"G219*I219","v":0}]
[null,1111163131,35678,"Ведмідь, 27см, плюш","Менше 10","Іграшки для собак",402.08,497,0,{"$f":"G220*I220","v":0}]
[null,1111161307,60867,"Вежа зі сходами для хом./мишей 10*14*9 см дерев яна","Менше 10","Обладнання для кліток",176.78,219,0,{"$f":"G221*I221","v":0}]
[null,10995,19485,"Ветеринарний комірець L 44-50см/25см","Менше 10","Ветеринарні комірці",177.88,219,0,{"$f":"G222*I222","v":0}]
[null,10991,19486,"Ветеринарний комірець L-XL 47-57см/30см","Менше 10","Ветеринарні комірці",286.87,355,0,{"$f":"G223*I223","v":0}]
[null,10993,19484,"Ветеринарний комірець M 38-44см/20см","Менше 10","Ветеринарні комірці",155.34,192,0,{"$f":"G224*I224","v":0}]
[null,10992,19482,"Ветеринарний комірець S 28-33см/12см","Більше 10","Ветеринарні комірці",87.69,108,0,{"$f":"G225*I225","v":0}]
[null,1111134443,19515,"Ветеринарний комірець на липучці L 44-53см/22см","Більше 10","Ветеринарні комірці",290.63,359,0,{"$f":"G226*I226","v":0}]
[null,1111134442,19514,"Ветеринарний комірець на липучці M 36-43см/18см","Більше 10","Ветеринарні комірці",222.98,289,0,{"$f":"G227*I227","v":0}]
[null,1111134440,19512,"Ветеринарний комірець на липучці S 25-32см/12см","Більше 10","Ветеринарні комірці",155.34,201,0,{"$f":"G228*I228","v":0}]
[null,1111134441,19513,"Ветеринарний комірець на липучці S-M 30-37см/14см","Більше 10","Ветеринарні комірці",177.88,230,0,{"$f":"G229*I229","v":0}]
[null,1111134438,19510,"Ветеринарний комірець на липучці XS 18-23см/8см","Більше 10","Ветеринарні комірці",110.24,136,0,{"$f":"G230*I230","v":0}]
[null,1111134439,19511,"Ветеринарний комірець на липучці XS-S 20-26см/11см","Більше 10","Ветеринарні комірці",132.79,164,0,{"$f":"G231*I231","v":0}]
[null,9925,2928,"Відлякувач для собак і котів 175 г","Більше 100","Засоби для заборони",233,287,0,{"$f":"G232*I232","v":0}]
[null,1111145331,25445,"Вода для зубів зі смаком яблука д/собак і котів 300 мл","Більше 10","Засоби для догляду за зубами та ротовою порожниною",165.36,205,0,{"$f":"G233*I233","v":0}]
[null,1111122601,64054,"Вольєр нейлоновий 130?55 см","Менше 10","Клітки, вольєри для котів і собак",1890.33,2336,0,{"$f":"G234*I234","v":0}]
[null,1111116588,62691,"Гамак для хом яків 18?18 см","Більше 10","Обладнання для кліток",88.94,109,0,{"$f":"G235*I235","v":0}]
[null,1111116589,62692,"Гамак для хом яків 30?30 см","Більше 10","Обладнання для кліток",177.88,219,0,{"$f":"G236*I236","v":0}]
[null,1111115364,6276,"Гамак для хом яків хутряний 9?16?12 см","Менше 10","Обладнання для кліток",147.82,182,0,{"$f":"G237*I237","v":0}]
[null,1111133853,62696,"Гамак для хорька 2 поверхи 22?15?30 см","Менше 10","Обладнання для кліток",207.95,257,0,{"$f":"G238*I238","v":0}]
[null,1111127081,6913,"Гамак для хорька 45?45 см","Більше 10","Обладнання для кліток",177.88,219,0,{"$f":"G239*I239","v":0}]
[null,1111147056,32811,"Гантель з канату яскрава 15 см","Більше 10","Іграшки для собак",87.69,108,0,{"$f":"G240*I240","v":0}]
[null,1111142219,33343,"Гантеля  Denta Fun  натуральний каучук 9 см","Більше 10","Іграшки для собак",161.6,199,0,{"$f":"G241*I241","v":0}]
[null,11907,3361,"Гантеля вінілова 15 см лапка","Більше 10","Іграшки для собак",71.400000000000006,88,0,{"$f":"G242*I242","v":0}]
[null,9734,3362,"Гантеля вінілова 19 см лапка","Більше 10","Іграшки для собак",117.75,145,0,{"$f":"G243*I243","v":0}]
[null,11908,3363,"Гантеля вінілова 25 см лапка","Менше 10","Іграшки для собак",164.07,203,0,{"$f":"G244*I244","v":0}]
[null,1111116013,3220,"Гантеля дерев яна 125 г","Менше 10","Іграшки для собак",147.82,182,0,{"$f":"G245*I245","v":0}]
[null,1111116014,3221,"Гантеля дерев яна 250 г","Менше 10","Іграшки для собак",233,287,0,{"$f":"G246*I246","v":0}]
[null,1111115844,35611,"Гантеля латексна для цуценят 10 см","Більше 10","Іграшки для собак",101.47,125,0,{"$f":"G247*I247","v":0}]
[null,1111141794,34930,"Гантеля-годівниця термопластичний каучук 12 см","Більше 10","Іграшки для собак",71.400000000000006,88,0,{"$f":"G248*I248","v":0}]
[null,1111134497,32656,"Гантеля-канат 20см/220гр","Менше 10","Іграшки для собак",149.05000000000001,184,0,{"$f":"G249*I249","v":0}]
[null,1111127895,23498,"Гігієнічні прокладки для собак (10 шт.) розмір L, XL","Менше 10","Памперси, прокладки для собак",62.64,79,0,{"$f":"G250*I250","v":0}]
[null,1111127894,23497,"Гігієнічні прокладки для собак (10 шт.) розмір M","Більше 10","Памперси, прокладки для собак",52.61,66,0,{"$f":"G251*I251","v":0}]
[null,1111127893,23496,"Гігієнічні прокладки для собак (10 шт.) розмір XS,S,S-M","Більше 10","Памперси, прокладки для собак",36.33,46,0,{"$f":"G252*I252","v":0}]
[null,1111183704,5630,"Гніздо Trixie дерев_яна коробка 21х13х12 см діаметр 4 см Арт5630","Менше 10","Обладнання для кліток",268.08,349,0,{"$f":"G253*I253","v":0}]
[null,8062,6108,"Гніздо для гризуна кругле 10 см","Менше 10","Обладнання для кліток",87.69,108,0,{"$f":"G254*I254","v":0}]
[null,5930,6110,"Гніздо для гризуна кругле 16 см","Менше 10","Обладнання для кліток",207.95,257,0,{"$f":"G255*I255","v":0}]
[null,5929,6109,"Гніздо для гризуна подвійне","Менше 10","Обладнання для кліток",131.53,162,0,{"$f":"G256*I256","v":0}]
[null,7839,5600,"Гніздо для птахів плетене 10?9 см","Менше 10","Обладнання для кліток",76.41,95,0,{"$f":"G257*I257","v":0}]
[null,6931,5602,"Гніздо для птахів плетене 12?11 см","Менше 10","Обладнання для кліток",102.72,127,0,{"$f":"G258*I258","v":0}]
[null,6930,5605,"Гніздо для птахів плетене 15?12 см","Менше 10","Обладнання для кліток",129.03,160,0,{"$f":"G259*I259","v":0}]
[null,1111182444,60713,"Гніздовий матеріал Trixie капок 40 г кремовий Арт60713","Більше 10","Обладнання для котів і собак",66.39,87,0,{"$f":"G260*I260","v":0}]
[null,1111165896,55630,"Годівниця Trixie садова підвісна металева червона 1000мл 20см","Немає в наявності","Пристосування для вуличних птахів",448.47,554,0,{"$f":"G261*I261","v":0}]
[null,1111119516,24371,"Годівниця автоматична  TX 1  одинарна 15?7?24 см","Менше 10","Автогодівниці, автопоїлки",740.35,931,0,{"$f":"G262*I262","v":0}]
[null,1111118536,24372,"Годівниця автоматична  TX 2  подвійна 30?7?24 см","Менше 10","Автогодівниці, автопоїлки",1180.05,1484,0,{"$f":"G263*I263","v":0}]
[null,1111141120,24383,"Годівниця автоматична  TX 6  кругла 32?10 см","Менше 10","Автогодівниці, автопоїлки",3079.16,3874,0,{"$f":"G264*I264","v":0}]
[null,1111113723,4137,"Годівниця-м яч  Snacky  для котів 7,5 см","Більше 10","Іграшки для котів",117.75,145,0,{"$f":"G265*I265","v":0}]
[null,13732,6105,"Годівниця-шар для гризунів 12 см","Більше 10","Обладнання для кліток",147.82,183,0,{"$f":"G266*I266","v":0}]
[null,13733,6104,"Годівниця-шар для гризунів 8 см","Менше 10","Обладнання для кліток",102.72,126,0,{"$f":"G267*I267","v":0}]
[null,1111114578,5418,"Годівничка воронка 150мл/12,5см","Більше 10","Обладнання для кліток",76.41,94,0,{"$f":"G268*I268","v":0}]
[null,1111121455,5461,"Годівничка для птахів керамічна 25мл/5см","Більше 10","Обладнання для кліток",42.59,53,0,{"$f":"G269*I269","v":0}]
[null,8059,"5472_1шт","Годівничка підвісна 130 мл","Менше 10","Обладнання для кліток",31.32,39,0,{"$f":"G270*I270","v":0}]
[null,8060,"5473_1шт","Годівничка підвісна 200 мл","Більше 10","Обладнання для кліток",36.33,44,0,{"$f":"G271*I271","v":0}]
[null,8058,"5471_1шт","Годівничка підвісна 65 мл","Більше 10","Обладнання для кліток",25.05,30,0,{"$f":"G272*I272","v":0}]
[null,1111114679,5415,"Годівничка-поїлка 65мл/14,5см","Менше 10","Обладнання для кліток",52.61,65,0,{"$f":"G273*I273","v":0}]
[null,1111114682,5425,"Годівничка-поїлка 90мл/12см","Більше 10","Обладнання для кліток",52.61,65,0,{"$f":"G274*I274","v":0}]
[null,1111113746,5830,"Гойдалка дерев яна з дзвіночком 12?13 см","Більше 10","Обладнання для кліток",52.61,65,0,{"$f":"G275*I275","v":0}]
[null,1111113745,5822,"Гойдалка дерев яна подвійна з дзвіночком 12?20 см","Менше 10","Обладнання для кліток",76.41,94,0,{"$f":"G276*I276","v":0}]
[null,1111113751,5821,"Гойдалка для птахів дерев яна 12х13,5 см","Менше 10","Обладнання для кліток",39.28,49,0,{"$f":"G277*I277","v":0}]
[null,1111116041,5829,"Гойдалка для птахів дерев яна кольорова 20х29 см","Менше 10","Обладнання для кліток",298.14,369,0,{"$f":"G278*I278","v":0}]
[null,7841,5826,"Гойдалка для птахів дуга 10,5х22,5 см","Менше 10","Обладнання для кліток",76.41,94,0,{"$f":"G279*I279","v":0}]
[null,7842,5825,"Гойдалка для птахів дуга 8х15 см","Менше 10","Обладнання для кліток",62.64,77,0,{"$f":"G280*I280","v":0}]
[null,1111120889,5160,"Гойдалка для птахів канат 37см?16мм","Менше 10","Обладнання для кліток",147.82,182,0,{"$f":"G281*I281","v":0}]
[null,1111119528,5161,"Гойдалка для птахів канат 66см?18мм","Менше 10","Обладнання для кліток",177.88,220,0,{"$f":"G282*I282","v":0}]
[null,1111118523,5162,"Гойдалка для птахів канат 75см?30мм","Менше 10","Обладнання для кліток",268.08,330,0,{"$f":"G283*I283","v":0}]
[null,1111165622,24051,"Граблі Trixie д/вид.підш Groomer дворяд з рідк.зубом пласт/мет 11*16см","Менше 10","Аксесуари для грумінгу",164.07,203,0,{"$f":"G284*I284","v":0}]
[null,1111145750,23123,"Граблі д/видалення підшерстку супер гострі д/котів 7?15 см","Більше 10","Аксесуари для грумінгу",538.66,666,0,{"$f":"G285*I285","v":0}]
[null,1111126099,24175,"Граблі для видалення підшерстка 11?15 см","Менше 10","Аксесуари для грумінгу",749.12,926,0,{"$f":"G286*I286","v":0}]
[null,1111125858,24173,"Граблі для видалення підшерстка 8?14 см","Менше 10","Аксесуари для грумінгу",598.79,741,0,{"$f":"G287*I287","v":0}]
[null,1111142383,24183,"Граблі для видалення підшерстка супергострі 6?15 см","Більше 10","Аксесуари для грумінгу",538.66,666,0,{"$f":"G288*I288","v":0}]
[null,1111142384,24185,"Граблі для видалення підшерстка супергострі 8?14 см","Менше 10","Аксесуари для грумінгу",598.79,741,0,{"$f":"G289*I289","v":0}]
[null,1111125857,23792,"Граблі для собак з обертовим 1,5 см зубом","Більше 10","Аксесуари для грумінгу",298.14,369,0,{"$f":"G290*I290","v":0}]
[null,1111125851,23793,"Граблі для собак з обертовим 2 см зубом 10х15 см","Менше 10","Аксесуари для грумінгу",298.14,369,0,{"$f":"G291*I291","v":0}]
[null,1111150257,23393,"Гребінець-рукавичка д/вичісування шерсті, гума, 16?24см","Більше 10","Аксесуари для грумінгу",129.03,159,0,{"$f":"G292*I292","v":0}]
[null,1111118328,2410,"Гребінь антиблошиний металічний з пластиковою ручкою для котів 15 см","Більше 100","Аксесуари для грумінгу",115.25,142,0,{"$f":"G293*I293","v":0}]
[null,1111125838,23762,"Гребінь антиблошиний металічний з пластиковою ручкою для собак 21 см","Менше 10","Аксесуари для грумінгу",238.01,294,0,{"$f":"G294*I294","v":0}]
[null,1111118325,2400,"Гребінь двосторонній пластиковий з ручкою густий/середній зуб 14 см","Більше 10","Аксесуари для грумінгу",35.08,43,0,{"$f":"G295*I295","v":0}]
[null,2170,2395,"Гребінь для собак металічний густий/рідкий зуб","Більше 10","Аксесуари для грумінгу",129.03,159,0,{"$f":"G296*I296","v":0}]
[null,1111117694,2390,"Гребінь для собак металічний з дерев яною ручкою густий зуб 17 см","Більше 10","Аксесуари для грумінгу",119.01,147,0,{"$f":"G297*I297","v":0}]
[null,1111114771,2391,"Гребінь для собак металічний з дерев яною ручкою середній зуб 18 см","Більше 10","Аксесуари для грумінгу",94.74,118,0,{"$f":"G298*I298","v":0}]
[null,6912,2411,"Гребінь для собак металічний з обертовим зубом 18 см","Немає в наявності","Аксесуари для грумінгу",94.74,117,0,{"$f":"G299*I299","v":0}]
[null,1111125840,23764,"Гребінь металічний з пластиковою ручкою густий зуб","Більше 10","Аксесуари для грумінгу",238.01,294,0,{"$f":"G300*I300","v":0}]
[null,1111125843,23767,"Гребінь металічний з пластиковою ручкою довгий/короткий зуб","Менше 10","Аксесуари для грумінгу",207.95,256,0,{"$f":"G301*I301","v":0}]
[null,1111125844,23771,"Гребінь металічний з пластиковою ручкою обертовий короткий зуб","Більше 10","Аксесуари для грумінгу",268.08,331,0,{"$f":"G302*I302","v":0}]
[null,1111125846,23773,"Гребінь металічний з пластиковою ручкою обертовий різнозубий","Менше 10","Аксесуари для грумінгу",268.08,331,0,{"$f":"G303*I303","v":0}]
[null,1111125845,23772,"Гребінь металічний з пластиковою ручкою обертовий середній зуб","Більше 10","Аксесуари для грумінгу",268.08,331,0,{"$f":"G304*I304","v":0}]
[null,1111113775,2326,"Гребінь-щітка для котів дерев яна з натуральною щетиною 5?18 см","Більше 10","Аксесуари для грумінгу",102.72,127,0,{"$f":"G305*I305","v":0}]
[null,1111115380,2315,"Гребінь-щітка для собак дерев яна двостороння овальна 5?22 см","Більше 10","Аксесуари для грумінгу",129.03,159,0,{"$f":"G306*I306","v":0}]
[null,1111118330,24243,"Грумінг для собак 10?19 см","Менше 10","Аксесуари для грумінгу",418.4,517,0,{"$f":"G307*I307","v":0}]
[null,1111137872,24244,"Грумінг для собак 7?18 см","Менше 10","Аксесуари для грумінгу",478.53,591,0,{"$f":"G308*I308","v":0}]
[null,1111119120,24242,"Грумінг для собак 7?19 см","Менше 10","Аксесуари для грумінгу",418.4,517,0,{"$f":"G309*I309","v":0}]
[null,1111114590,35093,"Гуска латексна 14,5 см","Немає в наявності","Іграшки для собак",71.400000000000006,88,0,{"$f":"G310*I310","v":0}]
[null,1111115360,4077,"Два сизалевих м ячика з м ятою 4,5 см","Більше 100","Іграшки для котів",62.64,77,0,{"$f":"G311*I311","v":0}]
[null,1111131657,3879,"Двері  FreeDog  M/XL для собак 39?45см/33-40см","Менше 10","Будинки, будки, двері",2194.7399999999998,2762,0,{"$f":"G312*I312","v":0}]
[null,1111131656,3878,"Двері  FreeDog  S/M для собак 30?36см/24,8-30,8см","Менше 10","Будинки, будки, двері",1681.13,2115,0,{"$f":"G313*I313","v":0}]
[null,1111139052,3877,"Двері  FreeDog  XS/S для собак 25?29см/21,8-22,7см","Менше 10","Будинки, будки, двері",1232.6600000000001,1552,0,{"$f":"G314*I314","v":0}]
[null,1111156353,44231,"Двері д/котів чотиристоронні з тунелем 20 ? 22 cм, білі","Менше 10","Будинки, будки, двері",598.79,753,0,{"$f":"G315*I315","v":0}]
[null,1111156350,44202,"Двері для котів двосторонні, 20 ? 22 cм, сірі, пластик","Менше 10","Будинки, будки, двері",448.47,564,0,{"$f":"G316*I316","v":0}]
[null,1111156349,44201,"Двері для котів двосторонні, 20 ? 22cм, білі, пластик","Менше 10","Будинки, будки, двері",448.47,564,0,{"$f":"G317*I317","v":0}]
[null,1111126050,76194,"Декорація Грот зі східцями 16?12?15 см","Менше 10","Декорації для тераріуму",538.66,666,0,{"$f":"G318*I318","v":0}]
[null,1111126051,76195,"Декорація Грот зі східцями 19?17?17 см","Менше 10","Декорації для тераріуму",899.44,1111,0,{"$f":"G319*I319","v":0}]
[null,1111127811,76210,"Декорація Печера 16?7?11 см","Менше 10","Декорації для тераріуму",368.29,455,0,{"$f":"G320*I320","v":0}]
[null,1111127812,76211,"Декорація Печера 24?8?17 см","Менше 10","Декорації для тераріуму",672.7,832,0,{"$f":"G321*I321","v":0}]
[null,1111125305,32945,"Джампер Denta Fun на канаті 28 см","Менше 10","Іграшки для собак",247.26,306,0,{"$f":"G322*I322","v":0}]
[null,1111122205,35497,"Дикий кабан латексний з оригінальним звуком 18 см","Менше 10","Іграшки для собак",268.08,331,0,{"$f":"G323*I323","v":0}]
[null,1111134457,60811,"Диск біговий для дрібних гризунів 17 см","Менше 10","Обладнання для кліток",147.82,182,0,{"$f":"G324*I324","v":0}]
[null,1111120101,6106,"Драбинка дерев яна для гризунів 27,5?7 см","Більше 10","Обладнання для кліток",88.94,111,0,{"$f":"G325*I325","v":0}]
[null,1111113747,5811,"Драбинка дерев яна для птахів 20 см","Більше 10","Обладнання для кліток",48.53,60,0,{"$f":"G326*I326","v":0}]
[null,1111113749,5813,"Драбинка дерев яна для птахів 28 см","Більше 10","Обладнання для кліток",62.64,77,0,{"$f":"G327*I327","v":0}]
[null,1111113748,5815,"Драбинка дерев яна для птахів 36 см","Більше 10","Обладнання для кліток",76.41,94,0,{"$f":"G328*I328","v":0}]
[null,1111119269,5886,"Драбинка дерев яна на канаті для птахів 34 см","Менше 10","Обладнання для кліток",207.95,256,0,{"$f":"G329*I329","v":0}]
[null,1111126363,5880,"Драбинка натуральне дерево для птахів 30 см","Більше 10","Обладнання для кліток",76.41,94,0,{"$f":"G330*I330","v":0}]
[null,10361,5186,"Драбинка сизалева з дерев яними сходами для птахів 40 см","Менше 10","Обладнання для кліток",155.34,192,0,{"$f":"G331*I331","v":0}]
[null,1111121545,44071,"Дряпка  Allora  176 см бежева","Менше 10","Дряпки-комплекси",11660.35,13806,0,{"$f":"G332*I332","v":0}]
[null,1111114905,43882,"Дряпка  Altea  117 см","Менше 10","Дряпки-комплекси",2434,2881,0,{"$f":"G333*I333","v":0}]
[null,1111129721,44541,"Дряпка  Baza  50 см кремова","Менше 10","Дряпки-стовпчики",1362.94,1614,0,{"$f":"G334*I334","v":0}]
[null,1111130095,4331,"Дряпка  Edoardo  ( Cat Tower ) 50 см коричнева/кремова","Менше 10","Дряпки-комплекси",2869.94,3397,0,{"$f":"G335*I335","v":0}]
[null,1111116611,4341,"Дряпка  Inca  (Хвиля) 44х25х39 см світло-коричнева","Менше 10","Дряпки-комплекси",1181.3,1398,0,{"$f":"G336*I336","v":0}]
[null,1111146293,44810,"Дряпка  Marlena , 151 см, світло-сіра","Менше 10","Дряпки-комплекси",8355.5300000000007,9893,0,{"$f":"G337*I337","v":0}]
[null,1111141815,48001,"Дряпка  Mimi Wave  50х9х23 см бірюзова","Більше 100","Дряпки картонні",334.47,420,0,{"$f":"G338*I338","v":0}]
[null,1111117666,43787,"Дряпка  Palamos  109 см антрацитова","Менше 10","Дряпки-комплекси",3338.45,3953,0,{"$f":"G339*I339","v":0}]
[null,1111117413,4330,"Дряпка  Samuel  ( Cat Tower ) сизаль 36х70 см бежева","Менше 10","Дряпки-стовпчики",4210.33,4985,0,{"$f":"G340*I340","v":0}]
[null,1111126438,43551,"Дряпка  Soria  80 см бежева","Менше 10","Дряпки-стовпчики",1872.91,2218,0,{"$f":"G341*I341","v":0}]
[null,1111114597,43712,"Дряпка  Tarifa  52 см чорна/сіра","Менше 10","Дряпки-стовпчики",977.11,1157,0,{"$f":"G342*I342","v":0}]
[null,1111115161,43771,"Дряпка  Valencia  71 см бежева","Менше 10","Дряпки-стовпчики",1852.75,2194,0,{"$f":"G343*I343","v":0}]
[null,1111114599,43751,"Дряпка  Vitoria  43 см бежева","Менше 10","Дряпки-стовпчики",1489.46,1763,0,{"$f":"G344*I344","v":0}]
[null,1111146291,44644,"Дряпка Nita 147 см світло-сіра","Менше 10","Дряпки-комплекси",5808.78,6878,0,{"$f":"G345*I345","v":0}]
[null,1111172130,44720,"Дряпка Trixie д/кот Livia сизаль/плюш античний рожев.38*64см арт.44720","Менше 10","Дряпки-стовпчики",1086.0899999999999,1466,0,{"$f":"G346*I346","v":0}]
[null,1111172138,47062,"Дряпка Trixie д/кот Marcela сизаль/плюш сірий 53*43*60см арт.47062","Менше 10","Дряпки-комплекси",4255.3599999999997,5745,0,{"$f":"G347*I347","v":0}]
[null,1111172129,43721,"Дряпка Trixie д/кот М яч МДФ/джут бежевий 29*31см","Менше 10","Дряпки-стовпчики",1707.43,2305,0,{"$f":"G348*I348","v":0}]
[null,1111171711,48032,"Дряпка Trixie д/кот.XXL з 2ма кульк.картон пісочн.70*6*38cм арт.48032","Менше 10","Дряпки картонні",1014.45,1319,0,{"$f":"G349*I349","v":0}]
[null,1111171718,48000,"Дряпка Trixie д/котів з котяч.м ятою картон голуб. 41*7*24cм арт.48000","Більше 10","Дряпки картонні",266.83,346,0,{"$f":"G350*I350","v":0}]
[null,1111120129,4327,"Дряпка Trixie д/котів з котяч.м ятою картон голубий 48*5*13cм арт.4327","Менше 10","Дряпки картонні",147.82,192,0,{"$f":"G351*I351","v":0}]
[null,1111171708,48012,"Дряпка Trixie д/котівJunior картон св.-бузков/м ят.38*7*18cм арт.48012","Немає в наявності","Дряпки картонні",165.36,215,0,{"$f":"G352*I352","v":0}]
[null,1111172128,42932,"Дряпка Trixie д/кошен.Стовпчик джут/плюш м ятн/натур.30*42см","Більше 10","Дряпки-стовпчики",468.51,633,0,{"$f":"G353*I353","v":0}]
[null,1111171709,48011,"Дряпка Trixie для котів Junior картон світло-сірий 38*6*18cм арт.48011","Більше 10","Дряпки картонні",165.36,215,0,{"$f":"G354*I354","v":0}]
[null,1111117415,4324,"Дряпка Trixie для котів кругла з іграшкою 23х20см синьо-бежева Арт4324","Більше 10","Дряпки-комплекси",613.82000000000005,798,0,{"$f":"G355*I355","v":0}]
[null,1111171710,48031,"Дряпка Trixie для котів Хвиля XXL картон сірий 64*14*37cм арт.48031","Менше 10","Дряпки картонні",1010.93,1314,0,{"$f":"G356*I356","v":0}]
[null,1111183772,42930,"Дряпка Trixie для кошенят фліс 47 см світло-бузкова Арт42930","Більше 10","Дряпки-стовпчики",723,940,0,{"$f":"G357*I357","v":0}]
[null,1111171717,48006,"Дряпка д/кот з 2 кульк.та котяч.м ят.карт.різнокол.38*5*30cм арт.48006","Більше 10","Дряпки картонні",266.83,347,0,{"$f":"G358*I358","v":0}]
[null,1111171716,48005,"Дряпка д/кот.з 2кульк.та котяч.м ятою картон рожев.48*5*25cм арт.48005","Більше 10","Дряпки картонні",402.12,523,0,{"$f":"G359*I359","v":0}]
[null,12280,4303,"Дряпка з валиком 15?35 см чорна","Менше 10","Дряпки-комплекси",402.12,506,0,{"$f":"G360*I360","v":0}]
[null,1111127887,43115,"Дряпка з дощечкою 30?42?40 см чорна/кремова","Менше 10","Дряпки-комплекси",904.45,1138,0,{"$f":"G361*I361","v":0}]
[null,1111117670,4350,"Дряпка кутова  Lorca  37?27?75 см бежева","Менше 10","Дряпки настінні, килимки",2030.63,2404,0,{"$f":"G362*I362","v":0}]
[null,1111115157,43191,"Дряпка кутова 23?49 см","Менше 10","Дряпки настінні, килимки",469.76,591,0,{"$f":"G363*I363","v":0}]
[null,1111117414,43431,"Дряпка кутова 32?60 см коричнева","Менше 10","Дряпки настінні, килимки",613.82000000000005,773,0,{"$f":"G364*I364","v":0}]
[null,1111149238,43435,"Дряпка кутова 32?60 см сіра","Менше 10","Дряпки настінні, килимки",613.82000000000005,773,0,{"$f":"G365*I365","v":0}]
[null,1111126436,43112,"Дряпка плоска  Cat  35?69 см бежева","Менше 10","Дряпки настінні, килимки",722.81,910,0,{"$f":"G366*I366","v":0}]
[null,1111118187,43171,"Дряпка плоска  Jumbo  17?70 см","Більше 10","Дряпки настінні, килимки",395.85,498,0,{"$f":"G367*I367","v":0}]
[null,1111115167,43181,"Дряпка плоска 11*56 см","Менше 10","Дряпки настінні, килимки",266.83,335,0,{"$f":"G368*I368","v":0}]
[null,1111119914,43071,"Дряпка плоска 15?62 см бежева","Менше 10","Дряпки настінні, килимки",300.64999999999998,378,0,{"$f":"G369*I369","v":0}]
[null,1111120015,4342,"Дряпка плоска 18?78 см бежева","Менше 10","Дряпки настінні, килимки",503.59,633,0,{"$f":"G370*I370","v":0}]
[null,1111148452,43262,"Дряпка Хвиля, 39?28?50 см, сірий/беж, плюш, сизаль","Менше 10","Дряпки-комплекси",722.81,909,0,{"$f":"G371*I371","v":0}]
[null,1111172124,43160,"ДряпкаTrixie XXL д/кот настін/кутов.сизаль/плюш сір. 38*75см арт.43160","Менше 10","Дряпки-комплекси",1181.3,1595,0,{"$f":"G372*I372","v":0}]
[null,1111172120,48022,"ДряпкаTrixie д/котСтовпчик з іграшк.карт/МДФ/джут 30*30*62см арт.48022","Менше 10","Дряпки-стовпчики",1373.78,1855,0,{"$f":"G373*I373","v":0}]
[null,1111172131,"44708*****","ДряпкаTrixieД/кот Harvey сизаль/плюш/замша/фліс сір.50*118см арт.44708","Менше 10","Дряпки-комплекси",12665.55,17098,0,{"$f":"G374*I374","v":0}]
[null,1111172126,49971,"ДряпкаTrixieД/кот Дошка настін.сизаль/дерев.біл./сір.38*58см арт.49971","Менше 10","Дряпки-комплекси",1257.08,1697,0,{"$f":"G375*I375","v":0}]
[null,1111172135,44539,"ДряпкаTrixieД/котHarvey джут/плюш/фліс біло-рожев.54*40*73см арт.44539","Менше 10","Дряпки-комплекси",3883.32,5243,0,{"$f":"G376*I376","v":0}]
[null,1111172136,44537,"ДряпкаTrixieД/котHarveyДжут/плюш/фліс біло-коричн.54*40*73см арт.44537","Менше 10","Дряпки-комплекси",4255.3599999999997,5745,0,{"$f":"G377*I377","v":0}]
[null,1111172139,44548,"ДряпкаTrixieД/котДеревоBazaЗпензл.сизаль/плюш сір.41*41*50см арт.44548","Менше 10","Дряпки-комплекси",1707.43,2305,0,{"$f":"G378*I378","v":0}]
[null,1111172140,44413,"ДряпкаTrixieД/котПечераЗкул.МДФ/джут/плюшСіро-коричн.36*50см арт.44413","Менше 10","Дряпки-комплекси",2647.03,3574,0,{"$f":"G379*I379","v":0}]
[null,1111172125,43166,"ДряпкаXXLд/кот настін.Зм ятою сизаль/фліс сіро-корич.50*70см","Менше 10","Дряпки-комплекси",1267.74,1712,0,{"$f":"G380*I380","v":0}]
[null,1111172132,44988,"ДряпкаД/кот Вежа Gabriel сизаль/фетр/фліс св.сір.38*38*78см арт.44988","Менше 10","Дряпки-комплекси",5357.61,7233,0,{"$f":"G381*I381","v":0}]
[null,1111172133,44706,"ДряпкаД/кот Вежа Ria сизаль/плюш/фліс св.-сір./натур.37*37см арт.44706","Менше 10","Дряпки-комплекси",3087.91,4169,0,{"$f":"G382*I382","v":0}]
[null,1111172122,49960,"ДряпкаД/кот з настін.кріпл.дерев/сизаль біл/сір. 35*25*130см арт.49960","Менше 10","Дряпки настінні, килимки",2434,3286,0,{"$f":"G383*I383","v":0}]
[null,1111172123,44073,"ДряпкаД/кот з настін.кріпл.сизаль/плюш біл./сір. 46*37*160см арт.44073","Менше 10","Дряпки-комплекси",5808.78,7842,0,{"$f":"G384*I384","v":0}]
[null,1111171715,48004,"ДряпкаД/кот.Барабан з 2кульк.Котяч.м ят.карт.голуб.ø33*5,5cм арт.48004","Більше 10","Дряпки картонні",469.76,611,0,{"$f":"G385*I385","v":0}]
[null,1111172134,44433,"ДряпкаД/котВежаSaul сизаль/ткан/плюш/фліс сір/біл.39*39*64см арт.44433","Менше 10","Дряпки-комплекси",2216.0300000000002,2992,0,{"$f":"G386*I386","v":0}]
[null,1111172127,42931,"ДряпкаД/кош.Стовпчик з іграш.сиз./плюш св.буз/нат.40*38*50см арт.42931","Менше 10","Дряпки-стовпчики",795.47,1073,0,{"$f":"G387*I387","v":0}]
[null,312023,4325,"Дряпка-килимок 55?35 cм коричнева","Більше 10","Дряпки настінні, килимки",432.18,543,0,{"$f":"G388*I388","v":0}]
[null,1111133308,4323,"Дряпка-килимок з м ячиком на пружині 70х45 см темно-коричнева","Менше 10","Дряпки настінні, килимки",795.47,1001,0,{"$f":"G389*I389","v":0}]
[null,1111171712,48014,"Дряпка-лежак д/кот.Lilly з котяч.м ят.карт.св.-бузк.ø45*10cм арт.48014","Менше 10","Дряпки картонні",841.82,1094,0,{"$f":"G390*I390","v":0}]
[null,1111171713,48013,"Дряпка-ліжко д/кот з котяч.м ят.карт.вигляд дерева45*12*33cм арт.48013","Менше 10","Дряпки картонні",402.12,522,0,{"$f":"G391*I391","v":0}]
[null,1111113978,4309,"Дряпка-стовпчик 50 см","Менше 10","Дряпки-стовпчики",613.82000000000005,773,0,{"$f":"G392*I392","v":0}]
[null,1111114480,4310,"Дряпка-стовпчик 62 см","Менше 10","Дряпки-стовпчики",795.47,1001,0,{"$f":"G393*I393","v":0}]
[null,1111114370,4306,"Дряпка-стовпчик з мишкою 50 см","Більше 10","Дряпки-стовпчики",795.47,1001,0,{"$f":"G394*I394","v":0}]
[null,1111126414,35989,"Єнот плюшевий 46 см","Менше 10","Іграшки для собак",298.14,368,0,{"$f":"G395*I395","v":0}]
[null,1111126360,5876,"Жердинка Y-образна натуральне дерево 20см/15мм","Більше 10","Обладнання для кліток",76.41,95,0,{"$f":"G396*I396","v":0}]
[null,1111126361,5877,"Жердинка Y-образна натуральне дерево 35см/18мм","Більше 10","Обладнання для кліток",102.72,127,0,{"$f":"G397*I397","v":0}]
[null,1111126359,5875,"Жердинка натуральне дерево 2 шт. 35см/10-12мм","Менше 10","Обладнання для кліток",76.41,94,0,{"$f":"G398*I398","v":0}]
[null,1111126366,5889,"Жердинка натуральне дерево з канатами 25см/25мм","Менше 10","Обладнання для кліток",102.72,127,0,{"$f":"G399*I399","v":0}]
[null,1111165511,30135,"Жилет Trixie для собак охолоджуючий  ПВА, XL: 40см блактиний","Менше 10","Стильні аксесуари (шпильки, бантики, краватки, метелики, окуляри, обручі)",470.24,581,0,{"$f":"G400*I400","v":0}]
[null,1111165538,60891,"Забірник для сіна Trixie для гриз.з кришкою чорн.мет/пласт 20*18*12см","Менше 10","Обладнання для кліток",129.03,159,0,{"$f":"G401*I401","v":0}]
[null,1111118163,2559,"Засіб від плям навколо очей собак і котів 50 мл","Більше 10","Засоби для догляду за очима та вухами",125.27,155,0,{"$f":"G402*I402","v":0}]
[null,1111145329,"3982-60","Застібка Trixie д/переносок Capri арт3981-83/3986 пластик світло-сірий","Менше 10","Комплектуючі до пластикових переносок",31.7,40,0,{"$f":"G403*I403","v":0}]
[null,1111147848,"3987-60","Застібка Trixie д/переносок Gulliver арт39871-39874 пластик св-сірий","Менше 10","Комплектуючі до пластикових переносок",37.72,47.5,0,{"$f":"G404*I404","v":0}]
[null,1111155699,"3974-60","Застібка Trixie для переносок Skudo для арт39742-39745 пластик","Менше 10","Комплектуючі до пластикових переносок",74.099999999999994,93.5,0,{"$f":"G405*I405","v":0}]
[null,1111183775,44183,"Захисна решітка для вікна Trixie бокова панель 62х16х7см біла Арт44183","Більше 10","Будинки, будки, двері",182,236,0,{"$f":"G406*I406","v":0}]
[null,1111140857,"4417 Trixie","Захисна решітка для вікна Trixie верх-низ 65 на 16 см біла Арт4417","Більше 10","Будинки, будки, двері",234.26,305,0,{"$f":"G407*I407","v":0}]
[null,1111183774,44182,"Захисна решітка для вікна Trixie верх-низ 75-125х16см біла Арт44182","Більше 10","Будинки, будки, двері",479,622,0,{"$f":"G408*I408","v":0}]
[null,1111119095,3516,"Зірка латексна 23 см","Більше 10","Іграшки для собак",207.95,256,0,{"$f":"G409*I409","v":0}]
[null,1111150315,41413,"Змійка-вісімка д/кот. BallRace + м яч-підсвітка 65?31см","Менше 10","Іграшки для котів",508.6,628,0,{"$f":"G410*I410","v":0}]
[null,1111136977,22843,"Змінні пакети до сумки для фекалій 1 рулон=20 шт. M","Більше 100","Пакети, диспенсери",16.29,21,0,{"$f":"G411*I411","v":0}]
[null,1111128778,22840,"Змінні пакети до сумки для фекалій розмір М (4*20 шт.)","Більше 10","Пакети, диспенсери",62.64,78,0,{"$f":"G412*I412","v":0}]
[null,1111144809,23473,"Змінні пакети до сумки для фекалій розмір М (4*20 шт.) жовті","Більше 100","Пакети, диспенсери",62.64,79,0,{"$f":"G413*I413","v":0}]
[null,1111137245,22844,"Змінні пакети до сумки для фекалій розмір М (8*20 шт.)","Більше 100","Пакети, диспенсери",129.03,162,0,{"$f":"G414*I414","v":0}]
[null,6923,2550,"Зубна + масажна щітки","Більше 100","Засоби для догляду за зубами та ротовою порожниною",45.1,56,0,{"$f":"G415*I415","v":0}]
[null,1111117647,2557,"Зубна паста для собак 100 г","Більше 10","Засоби для догляду за зубами та ротовою порожниною",87.69,108,0,{"$f":"G416*I416","v":0}]
[null,9730,2549,"Зубна паста з олією чайного дерева 100 г","Більше 100","Засоби для догляду за зубами та ротовою порожниною",88.94,111,0,{"$f":"G417*I417","v":0}]
[null,1111131655,2545,"Зубна паста зі смаком м яса 100 г","Більше 100","Засоби для догляду за зубами та ротовою порожниною",87.69,108,0,{"$f":"G418*I418","v":0}]
[null,1111145340,25620,"Зубна паста зі щіткою для котів","Більше 100","Засоби для догляду за зубами та ротовою порожниною",155.34,192,0,{"$f":"G419*I419","v":0}]
[null,1111116721,2561,"Зубна паста зі щіткою для собак","Більше 100","Засоби для догляду за зубами та ротовою порожниною",167.86,207,0,{"$f":"G420*I420","v":0}]
[null,1111119314,2558,"Зубна щітка (набір 4 шт.)","Більше 10","Засоби для догляду за зубами та ротовою порожниною",76.41,95,0,{"$f":"G421*I421","v":0}]
[null,1111145207,25621,"Зубна щітка для котів і малих собак 15 см (набір 4 шт.)","Більше 10","Засоби для догляду за зубами та ротовою порожниною",76.41,94,0,{"$f":"G422*I422","v":0}]
[null,1111145200,25446,"Зубний гель зі смаком м яса 100 г","Більше 10","Засоби для догляду за зубами та ротовою порожниною",117.75,145,0,{"$f":"G423*I423","v":0}]
[null,1111126357,4135,"Іграшка  Crazy Circle  з мишкою 24?29 см","Більше 100","Іграшки для котів",238.01,295,0,{"$f":"G424*I424","v":0}]
[null,1111117732,"3504_1шт","Іграшка  Faces  латексна кругла 6 см","Менше 10","Іграшки для собак",76.41,94,0,{"$f":"G425*I425","v":0}]
[null,1111163125,36178,"Іграшка  Junior  Snuggler для цуценят, 20 * 20 см, плюш","Менше 10","Іграшки для собак",207.95,256,0,{"$f":"G426*I426","v":0}]
[null,1111123863,"3506_1шт","Іграшка  Longies  Сафарі латексна 30-32 см","Більше 10","Іграшки для собак",238.01,294,0,{"$f":"G427*I427","v":0}]
[null,1111132132,"35261_1шт","Іграшка  Пончик  латексний 6 см","Більше 10","Іграшки для собак",60.13,74,0,{"$f":"G428*I428","v":0}]
[null,1111116600,41411,"Іграшка  Спіймай мишку  25 см","Більше 10","Іграшки для котів",298.14,369,0,{"$f":"G429*I429","v":0}]
[null,1111163122,32867,"Іграшка Bungee Fun для тренування, 20 см / 47 см, поліестер","Менше 10","Іграшки для собак",207.95,256,0,{"$f":"G430*I430","v":0}]
[null,1111163121,32866,"Іграшка Bungee для тренування, 20 см / 47 см, поліестер","Більше 10","Іграшки для собак",207.95,256,0,{"$f":"G431*I431","v":0}]
[null,1111118321,3327,"Іграшка Trixie Jumper для собак натуральна гума 10см блакитний Арт3327","Більше 10","Іграшки для собак",177.88,231,0,{"$f":"G432*I432","v":0}]
[null,1111118320,3326,"Іграшка Trixie Jumper для собак натуральна гума 8 см лайм Арт3326","Більше 10","Іграшки для собак",117.75,153,0,{"$f":"G433*I433","v":0}]
[null,1111114479,3224,"Іграшка Trixie гантель дерев'яна для собак 25см близько 650г Арт3224","Більше 10","Іграшки для собак",537.41,699,0,{"$f":"G434*I434","v":0}]
[null,1111178638,41132,"Іграшка Trixie д/кот Гантель на струні CityStyle фетр/дер сір/чор 13см","Більше 10","Іграшки для котів",60.13,78,0,{"$f":"G435*I435","v":0}]
[null,1111178641,41136,"Іграшка Trixie д/кот Диски наШнур CityStyle проб/дер беж/чорн d=4*14см","Більше 10","Іграшки для котів",101.47,132,0,{"$f":"G436*I436","v":0}]
[null,1111119262,4133,"Іграшка Trixie д/кот М_ячи дзвіночки 3шт з пером на гумці d=3,5см*80см","Більше 10","Іграшки для котів",65.14,81,0,{"$f":"G437*I437","v":0}]
[null,1111178639,41133,"Іграшка Trixie д/котів Гантель CityStyle фетр/дерево сірий/чорний 10см","Більше 10","Іграшки для котів",71.400000000000006,93,0,{"$f":"G438*I438","v":0}]
[null,1111178637,41118,"Іграшка Trixie д/котів Риба з котячою м_ятою поліестер кольорова 20см","Більше 10","Іграшки для котів",87.69,114,0,{"$f":"G439*I439","v":0}]
[null,1111178636,41117,"Іграшка Trixie д/котів Риба з котячою м_ятою поліестер кольорова 8см","Більше 10","Іграшки для котів",62.64,81,0,{"$f":"G440*I440","v":0}]
[null,1111178640,41135,"Іграшка Trixie д/котМ_ячРегбіНаШнурCityStyle проб/дер беж/чор d=4*17см","Більше 10","Іграшки для котів",117.75,153,0,{"$f":"G441*I441","v":0}]
[null,1111178634,36061,"Іграшка Trixie д/соб BE NORDIC Камбала Хаджо звук поліест/бав сір 35см","Більше 10","Іграшки для собак",334.47,435,0,{"$f":"G442*I442","v":0}]
[null,1111178633,36060,"Іграшка Trixie д/соб BE NORDIC Морськ коник Іда поліест/бавов сір 32см","Більше 10","Іграшки для собак",334.47,435,0,{"$f":"G443*I443","v":0}]
[null,1111144824,32016,"Іграшка Trixie д/соб Dog Activity Gambling Tower  пластик 25см/33см","Менше 10","Іграшки для собак",598.79,754,0,{"$f":"G444*I444","v":0}]
[null,1111178476,34823,"Іграшка Trixie д/соб Лисиця звук і шелест фольги поліест помаранч 50см","Більше 10","Іграшки для собак",402.12,523,0,{"$f":"G445*I445","v":0}]
[null,1111178635,36062,"Іграшка Trixie д/собак BE NORDIC Черепаха Хауке поліест/бавов сір 34см","Більше 10","Іграшки для собак",435.94,567,0,{"$f":"G446*I446","v":0}]
[null,1111178478,36020,"Іграшка Trixie д/собак Білка з ефектом пам_яті поліест помаранч 13см","Менше 10","Іграшки для собак",268.08,348,0,{"$f":"G447*I447","v":0}]
[null,1111178473,34721,"Іграшка Trixie д/собак Корова зі звуком поліестер/бавовна бежева 50см","Більше 10","Іграшки для собак",402.12,523,0,{"$f":"G448*I448","v":0}]
[null,1111178479,36021,"Іграшка Trixie д/собак Лисиця з ефектом пам_яті поліест помаранч 11см","Більше 10","Іграшки для собак",268.08,348,0,{"$f":"G449*I449","v":0}]
[null,11912,"3471_1шт","Іграшка Trixie д/собак М_яч футбольн. полотно різнокол. 11см","Менше 10","Іграшки для собак",147.82,182,0,{"$f":"G450*I450","v":0}]
[null,1111178480,36022,"Іграшка Trixie д/собак Мавпа з ефектом пам_яті поліестер кричнева 11см","Більше 10","Іграшки для собак",268.08,348,0,{"$f":"G451*I451","v":0}]
[null,1111178630,34720,"Іграшка Trixie д/собак Мавпа зі звуком поліестер/бавовна коричнев 40см","Більше 10","Іграшки для собак",435.94,567,0,{"$f":"G452*I452","v":0}]
[null,1111170876,"92572_Christmas*****","Іграшка Trixie д/собак Різдвяний Сніговик зі звуком плюш/бавовна 41см","Більше 10","Іграшки для собак",232.65,302.45,0,{"$f":"G453*I453","v":0}]
[null,1111178477,34824,"Іграшка Trixie д/собак Сурікат із шелестом фольги поліестер бежев 48см","Більше 10","Іграшки для собак",402.12,523,0,{"$f":"G454*I454","v":0}]
[null,1111183791,61654,"Іграшка Trixie дерев_яний ролик з дзвіночком 5 х 7 см Арт61654","Більше 10","Обладнання для кліток",88,114,0,{"$f":"G455*I455","v":0}]
[null,1111134530,33561,"Іграшка Trixie диск для собак 19 см Арт33561","Більше 10","Іграшки для собак",178,231,0,{"$f":"G456*I456","v":0}]
[null,1111134869,33500,"Іграшка Trixie диск для собак натуральна гума 15 см лайм Арт33500","Більше 10","Іграшки для собак",148,192,0,{"$f":"G457*I457","v":0}]
[null,1111136672,33506,"Іграшка Trixie диск для собак термопластична гума 22 см Арт33506","Більше 10","Іграшки для собак",298,388,0,{"$f":"G458*I458","v":0}]
[null,1111120636,6185,"Іграшка Trixie для гризунів куля дерев'яна для ласощів 8 см Арт6185","Більше 10","Обладнання для кліток",147.82,192,0,{"$f":"G459*I459","v":0}]
[null,1111183705,6195,"Іграшка Trixie для гризунів набір дерев_ян гантель 4,5х9см 2шт Арт6195","Більше 10","Обладнання для кліток",62.64,81,0,{"$f":"G460*I460","v":0}]
[null,1111121546,6188,"Іграшка Trixie для гризунів цукерка з паперової пряжі 18см Арт6188","Більше 10","Обладнання для кліток",87.69,114,0,{"$f":"G461*I461","v":0}]
[null,1111145332,"41101_1шт","Іграшка Trixie для котів М_ячик поролоновий 4см арт.41101","Більше 10","Іграшки для котів",35.08,43,0,{"$f":"G462*I462","v":0}]
[null,1111180625,9935262,"Іграшка Trixie для котів Серце з пір_ям плюш 7см/25см","Менше 10","Іграшки для собак",108.61,141,0,{"$f":"G463*I463","v":0}]
[null,1111113772,3440,"Іграшка Trixie для собак  М_яч поролон ассорті 5,5см","Більше 10","Іграшки для собак",42.59,53,0,{"$f":"G464*I464","v":0}]
[null,1111113771,3441,"Іграшка Trixie для собак  М_яч поролон ассорті 6см арт3441","Більше 10","Іграшки для собак",52.61,65,0,{"$f":"G465*I465","v":0}]
[null,1111113769,3442,"Іграшка Trixie для собак  М_яч поролон ассорті 7см","Більше 10","Іграшки для собак",76.41,94,0,{"$f":"G466*I466","v":0}]
[null,1111162628,35899,"Іграшка Trixie для собак Альпака зі звуком плюш 31см","Менше 10","Іграшки для собак",268.08,375,0,{"$f":"G467*I467","v":0}]
[null,1111134860,35988,"Іграшка Trixie для собак Бурундук зі звуком плюш 24см","Більше 10","Іграшки для собак",238.01,300,0,{"$f":"G468*I468","v":0}]
[null,1111122212,35763,"Іграшка Trixie для собак Вівця зі звуком текстиль/плюш 30см","Менше 10","Іграшки для собак",298.14,375,0,{"$f":"G469*I469","v":0}]
[null,1111112216,3250,"Іграшка Trixie для собак Катапульта з мячем пластик/гума 70см/6см","Менше 10","Іграшки для собак",177.88,224,0,{"$f":"G470*I470","v":0}]
[null,1111180306,7724220,"Іграшка Trixie для собак М_яч натуральний каучук червоний 4 шт упак","Більше 10","Іграшки для собак",157.32,204,0,{"$f":"G471*I471","v":0}]
[null,1111129415,"3458_1шт","Іграшка Trixie для собак М_яч Неон поролон ассорті 7см 1шт","Більше 10","Іграшки для собак",102.72,127,0,{"$f":"G472*I472","v":0}]
[null,12133,"3453_1шт","Іграшка Trixie для собак М_яч поролон ассорті 6см 1шт","Більше 10","Іграшки для собак",50.11,62,0,{"$f":"G473*I473","v":0}]
[null,1111178475,34821,"Іграшка Trixie для собак Мавпа зі звуком поліестер біла 40см","Більше 10","Іграшки для собак",334.47,435,0,{"$f":"G474*I474","v":0}]
[null,1111134527,35940,"Іграшка Trixie для собак Півегь зі звуком плюш 22см","Більше 10","Іграшки для собак",207.95,262,0,{"$f":"G475*I475","v":0}]
[null,1111178474,34820,"Іграшка Trixie для собак Пінгвін поліестер білий 24см","Більше 10","Іграшки для собак",298.14,388,0,{"$f":"G476*I476","v":0}]
[null,1111163133,35680,"Іграшка Trixie для собак Пташка плюш 44см","Менше 10","Іграшки для собак",274.99,340,0,{"$f":"G477*I477","v":0}]
[null,1111180624,9935260,"Іграшка Trixie для собак Страус Св Валентин плюш 80см","Менше 10","Іграшки для собак",464.67,604,0,{"$f":"G478*I478","v":0}]
[null,1111183784,58961,"Іграшка Trixie з дерев_яними намистинами і корою дерева 20 см Арт58961","Більше 10","Обладнання для кліток",89,116,0,{"$f":"G479*I479","v":0}]
[null,1111165399,36179,"Іграшка Trixie звисаюча для цуценят плюш 33 см Арт36179","Більше 10","Іграшки для собак",238,309,0,{"$f":"G480*I480","v":0}]
[null,1111183749,34950,"Іграшка Trixie змія для ласощів 18см зелена Арт34950","Більше 10","Іграшки для собак",238,309,0,{"$f":"G481*I481","v":0}]
[null,1111183702,3246,"Іграшка Trixie катапульта для соб 5,5см і 50см блак-оранж Арт3246","Більше 10","Іграшки для собак",147.82,192,0,{"$f":"G482*I482","v":0}]
[null,1111183765,41363,"Іграшка Trixie кормушка в формі миші для ласощів для кот 9см Арт41363","Більше 10","Іграшки для котів",118,153,0,{"$f":"G483*I483","v":0}]
[null,1111119534,6275,"Іграшка Trixie куля для ласощів для гризунів пластик 7 см Арт6275","Більше 10","Обладнання для кліток",117.75,153,0,{"$f":"G484*I484","v":0}]
[null,1111183764,41362,"Іграшка Trixie куля для ласощів для котів 6 см Арт41362","Більше 10","Іграшки для котів",148,192,0,{"$f":"G485*I485","v":0}]
[null,1111183703,3492,"Іграшка Trixie куля для ласощів для собак пластик 7 см зелена Арт3492","Більше 100","Іграшки для собак",117.75,153,0,{"$f":"G486*I486","v":0}]
[null,1111140047,61825,"Іграшка Trixie куля з дзвіночком з трави для гризунів 10 см Арт61825","Більше 10","Обладнання для кліток",88,114,0,{"$f":"G487*I487","v":0}]
[null,1111165692,42432,"Іграшка Trixie куля з мататабі для котів 4 см Арт42432","Більше 10","Іграшки для котів",71,93,0,{"$f":"G488*I488","v":0}]
[null,1111142243,"3459_1шт","Іграшка Trixie куля з мотузкою для собак плаваюча 30 см Арт3459","Більше 100","Іграшки для собак",76.41,99,0,{"$f":"G489*I489","v":0}]
[null,1111183771,42443,"Іграшка Trixie ланцюг з мататабі для котів 38 см Арт42443","Менше 10","Іграшки для котів",118,153,0,{"$f":"G490*I490","v":0}]
[null,1111183770,42441,"Іграшка Trixie льодяник з мататабі і сердечком для котів 23см Арт42441","Більше 10","Іграшки для котів",132,171,0,{"$f":"G491*I491","v":0}]
[null,1111183760,41112,"Іграшка Trixie миша плюшева з котячою м_ятою 7 см Арт41112","Більше 100","Іграшки для котів",63,81,0,{"$f":"G492*I492","v":0}]
[null,1111183761,41115,"Іграшка Trixie миша плюшева з котячою м_ятою 9 см Арт41115","Більше 100","Іграшки для котів",88,114,0,{"$f":"G493*I493","v":0}]
[null,1111126572,34940,"Іграшка Trixie м'яч для ласощів натуральна гума 6 см зелений Арт34940","Більше 10","Іграшки для собак",165,215,0,{"$f":"G494*I494","v":0}]
[null,1111121582,4564,"Іграшка Trixie м'яч з моторчиком і мишею 9 см Арт4564","Більше 10","Іграшки для котів",435.94,567,0,{"$f":"G495*I495","v":0}]
[null,1111116728,33481,"Іграшка Trixie м'яч на мотузці плавучий 35см оранжевий Арт33481","Більше 10","Іграшки для собак",118,153,0,{"$f":"G496*I496","v":0}]
[null,1111165401,61949,"Іграшка Trixie набір іграшок в формі овочів для гризун 6х9см Арт61949","Більше 10","Обладнання для кліток",132,171,0,{"$f":"G497*I497","v":0}]
[null,1111183769,42435,"Іграшка Trixie палиця з мататабі з китицями для котів 24 см Арт42435","Більше 10","Іграшки для котів",71,93,0,{"$f":"G498*I498","v":0}]
[null,1111183794,61942,"Іграшка Trixie плетена куля для гризунів 10 см Арт61942","Більше 10","Обладнання для кліток",76,99,0,{"$f":"G499*I499","v":0}]
[null,1111183793,61941,"Іграшка Trixie плетена куля для гризунів 6 см Арт61941","Більше 10","Обладнання для кліток",53,68,0,{"$f":"G500*I500","v":0}]
[null,1111183778,45795,"Іграшка Trixie риба що рухається тканина котяча м_ята 30 см Арт45795","Менше 10","Іграшки для котів",334,435,0,{"$f":"G501*I501","v":0}]
[null,1111114906,3295,"Іграшка Trixie Рол джутовий для тренування собак 53см Арт3295","Більше 10","Іграшки для собак",191.66,249,0,{"$f":"G502*I502","v":0}]
[null,1111114743,3296,"Іграшка Trixie Рол джутовий для тренування собак 56 см Арт3296","Більше 10","Іграшки для собак",358.27,466,0,{"$f":"G503*I503","v":0}]
[null,1111114745,3298,"Іграшка Trixie Рол джутовий для тренування собак 88 см Арт3298","Більше 10","Іграшки для собак",448.47,583,0,{"$f":"G504*I504","v":0}]
[null,1111183768,42433,"Іграшка Trixie рол з мататабі для котів 4 х 5 см Арт42433","Більше 10","Іграшки для котів",88,114,0,{"$f":"G505*I505","v":0}]
[null,1111183792,61823,"Іграшка Trixie яблуко з кукурудзяного лушпиння для гриз 7см Арт61823","Більше 10","Обладнання для кліток",132,171,0,{"$f":"G506*I506","v":0}]
[null,1111170314,32912,"Іграшка д/соб. Bungee Лапка термопласна гума 12см арт.32912","Менше 10","Іграшки для собак",219.53,276.60000000000002,0,{"$f":"G507*I507","v":0}]
[null,1111170330,32827,"Іграшка д/соб. Jumper на канаті натуральна гума 7см/25см арт.32827","Більше 10","Іграшки для собак",238.01,300,0,{"$f":"G508*I508","v":0}]
[null,1111170331,32828,"Іграшка д/соб. Jumper на канаті натуральна гума 9см/30см арт.32828","Більше 10","Іграшки для собак",334.47,421,0,{"$f":"G509*I509","v":0}]
[null,1111170316,33342,"Іграшка д/соб. Junior pacifier Пустишка натуральна гума 9см арт.33342","Більше 10","Іграшки для собак",131.53,166,0,{"$f":"G510*I510","v":0}]
[null,1111170349,35951,"Іграшка д/соб. Бургер плюш 13см арт.35951","Менше 10","Іграшки для собак",219.53,276.60000000000002,0,{"$f":"G511*I511","v":0}]
[null,1111170321,34484,"Іграшка д/соб. Гантель- Лягушка латекс 18см арт.34484","Більше 10","Іграшки для собак",147.82,186,0,{"$f":"G512*I512","v":0}]
[null,1111170332,32860,"Іграшка д/соб. для дресирування поліестер d=6*14см арт.32860","Більше 10","Іграшки для собак",207.95,262,0,{"$f":"G513*I513","v":0}]
[null,1111170327,32533,"Іграшка д/соб. для дресирування поліестер d=6*18см арт.32533","Більше 10","Іграшки для собак",117.75,148,0,{"$f":"G514*I514","v":0}]
[null,1111170333,32861,"Іграшка д/соб. для дресирування поліестер d=6*24см арт.32861","Менше 10","Іграшки для собак",238.01,300,0,{"$f":"G515*I515","v":0}]
[null,1111170342,34879,"Іграшка д/соб. ДраконBeEcoПерероб.плюш/поліестер зіЗвук.28см арт.34879","Менше 10","Іграшки для собак",402.12,507,0,{"$f":"G516*I516","v":0}]
[null,1111170359,34886,"Іграшка д/соб. Канат з кільцем котон 32см арт.34886","Більше 10","Іграшки для собак",136.34,171.79,0,{"$f":"G517*I517","v":0}]
[null,1111170360,34864,"Іграшка д/соб. Канат з м ячем котон d=5см/33см арт.34864","Менше 10","Іграшки для собак",80.88,101.91,0,{"$f":"G518*I518","v":0}]
[null,1111170361,34889,"Іграшка д/соб. Канат котон 48см арт.34889","Менше 10","Іграшки для собак",80.88,101.91,0,{"$f":"G519*I519","v":0}]
[null,1111170326,32441,"Іграшка д/соб. Катапульта з м ячем пластик/гума 40см/4,5см арт.32441","Більше 10","Іграшки для собак",177.88,224,0,{"$f":"G520*I520","v":0}]
[null,1111170328,32630,"Іграшка д/соб. М яч BE NORDIC канат d=13см арт.32630","Менше 10","Іграшки для собак",238.01,321,0,{"$f":"G521*I521","v":0}]
[null,1111170329,32631,"Іграшка д/соб. М яч BE NORDIC канат d=18см арт.32631","Більше 10","Іграшки для собак",413.64,586.57000000000005,0,{"$f":"G522*I522","v":0}]
[null,1111170338,34812,"Іграшка д/соб. М яч для ласощів натуральна гума d=9см арт.34812","Більше 10","Іграшки для собак",334.47,457,0,{"$f":"G523*I523","v":0}]
[null,1111170344,35511,"Іграшка д/соб. Мавпа латекс 25см арт.35511","Більше 10","Іграшки для собак",298.14,407,0,{"$f":"G524*I524","v":0}]
[null,1111170340,34877,"Іграшка д/соб. ОсликBeEcoПерероб.плюш/поліестер зіЗвук.40см арт.34877","Менше 10","Іграшки для собак",334.47,421,0,{"$f":"G525*I525","v":0}]
[null,1111170335,33653,"Іграшка д/соб. Палочка термопласна гума 18см арт.33653","Більше 10","Іграшки для собак",177.88,224,0,{"$f":"G526*I526","v":0}]
[null,1111170336,33654,"Іграшка д/соб. Палочка термопласна гума 28см арт.33654","Менше 10","Іграшки для собак",298.14,376,0,{"$f":"G527*I527","v":0}]
[null,1111170348,35865,"Іграшка д/соб. Півень зіЗвук. плюш 60см арт.35865","Більше 10","Іграшки для собак",435.94,549,0,{"$f":"G528*I528","v":0}]
[null,1111170365,32009,"Іграшка д/соб.DogActivBallTreat інтерак.розв.пласт.d=17*18см арт.32009","Більше 10","Іграшки для собак",749.12,944,0,{"$f":"G529*I529","v":0}]
[null,1111170324,32022,"Іграшка д/соб.DogActivChessШахиІнтеракт.розв.пласт40*10*24см арт.32022","Менше 10","Іграшки для собак",658.92,830,0,{"$f":"G530*I530","v":0}]
[null,1111170322,32001,"Іграшка д/соб.DogActivFlip and FunСтрат.Інтеракт.розв.пласт23см","Більше 10","Іграшки для собак",298.14,376,0,{"$f":"G531*I531","v":0}]
[null,1111170325,32023,"Іграшка д/соб.DogActivityMiniSolitaireІнтер.розв.пластd=20см арт.32023","Менше 10","Іграшки для собак",298.14,376,0,{"$f":"G532*I532","v":0}]
[null,1111170323,32017,"Іграшка д/соб.DogActivitySolitaireІнтеракт.розв.пласт d=29см арт.32017","Менше 10","Іграшки для собак",464.47,664,0,{"$f":"G533*I533","v":0}]
[null,1111170366,32036,"Іграшка д/соб.DogActivSlide and Feed інтеракт.розв.пласт.30*27см","Менше 10","Іграшки для собак",478.53,682,0,{"$f":"G534*I534","v":0}]
[null,1111170356,32050,"Іграшка д/соб.DogActivSlide and FunB інтеракт.розв.пласт.d=23см арт.32","Більше 10","Іграшки для собак",402.08,506.62,0,{"$f":"G535*I535","v":0}]
[null,1111170315,33341,"Іграшка д/соб.JuniorRuslting Гілка зіЗвук. натур.гума 10см арт.33341","Більше 10","Іграшки для собак",177.88,224,0,{"$f":"G536*I536","v":0}]
[null,1111170352,36177,"Іграшка д/соб.JuniorВедмідь з кільцемЗіЗвук.текстил/плюш23см арт.36177","Більше 10","Іграшки для собак",238.01,300,0,{"$f":"G537*I537","v":0}]
[null,1111170318,34953,"Іграшка д/соб.Lick n Snack М яч розвив.термопл.гума d=8/12см арт.34953","Більше 10","Іграшки для собак",538.66,679,0,{"$f":"G538*I538","v":0}]
[null,1111170317,34951,"Іграшка д/соб.RolyРolySnackЕgg інтеракт.розвив.пластик 13см арт.34951","Менше 10","Іграшки для собак",334.47,421,0,{"$f":"G539*I539","v":0}]
[null,1111170339,34875,"Іграшка д/соб.АльпакаBeEcoПерероб.плюш/поліестер зіЗвук.26см арт.34875","Більше 10","Іграшки для собак",334.47,421,0,{"$f":"G540*I540","v":0}]
[null,1111170341,34878,"Іграшка д/соб.ВедмідьBeEcoПерероб.плюш/поліестер зіЗвук.42см арт.34878","Менше 10","Іграшки для собак",402.12,564,0,{"$f":"G541*I541","v":0}]
[null,1111170354,33412,"Іграшка д/соб.ДзвонД/ласощ.зіСтрічк.терм.гума/поліест11*22см арт.33412","Більше 10","Іграшки для собак",247.26,311.54000000000002,0,{"$f":"G542*I542","v":0}]
[null,1111170337,33704,"Іграшка д/соб.Кільце-канатЗм ячД/чищ.зуб.нат.гумаЗм ят 20см арт.33704","Менше 10","Іграшки для собак",334.47,421,0,{"$f":"G543*I543","v":0}]
[null,1111170353,33413,"Іграшка д/соб.Паличка д/ласощ.термопс.гума/поліест.20см/31см арт.33413","Менше 10","Іграшки для собак",298.14,376,0,{"$f":"G544*I544","v":0}]
[null,1111170362,34884,"Іграшка д/соб.ПінгвинBeEco переробл.плюш/поліест.зі звук28см арт.34884","Менше 10","Іграшки для собак",435.94,549,0,{"$f":"G545*I545","v":0}]
[null,1111170357,32008,"Іграшка д/собDog ActivTwister інтеракт.розв.пласт.d=28см арт.32008","Більше 10","Іграшки для собак",620.45000000000005,781.77,0,{"$f":"G546*I546","v":0}]
[null,1111170346,35513,"Іграшка д/цуценят Junior Канат зіЗвук. латекс 15см арт.35513","Більше 10","Іграшки для собак",147.82,186,0,{"$f":"G547*I547","v":0}]
[null,1111170350,36171,"Іграшка д/цуценят Junior Кролик текстиль/плюш 28см арт.36171","Більше 10","Іграшки для собак",268.08,338,0,{"$f":"G548*I548","v":0}]
[null,1111170355,32816,"Іграшка д/цуценят Канат з вузлами d=9/25см арт.32816","Більше 10","Іграшки для собак",108.61,136.85,0,{"$f":"G549*I549","v":0}]
[null,1111170358,32814,"Іграшка д/цуценят М яч-канат d=9см арт.32814","Більше 10","Іграшки для собак",87.69,110,0,{"$f":"G550*I550","v":0}]
[null,1111117857,5870,"Іграшка дерев яна для папуг 40 см","Менше 10","Обладнання для кліток",115.25,142,0,{"$f":"G551*I551","v":0}]
[null,1111114722,5195,"Іграшка дерев яна мультиколор для папуг 30 см","Більше 10","Обладнання для кліток",102.72,128,0,{"$f":"G552*I552","v":0}]
[null,1111121810,6192,"Іграшка для гризунів Морквинка + кукурудза сизаль 15 см","Більше 10","Обладнання для кліток",71.400000000000006,88,0,{"$f":"G553*I553","v":0}]
[null,1111150539,"40763_1шт","Іграшка для кота Миша/Рибка 9-12см","Більше 10","Іграшки для котів",52.61,65,0,{"$f":"G554*I554","v":0}]
[null,1111156346,41416,"Іграшка для котів Fix  and  Catch , 45 см, пластик","Більше 10","Іграшки для котів",147.82,183,0,{"$f":"G555*I555","v":0}]
[null,1111117729,"3612_1шт","Іграшка із каната з тенісним м ячем 16 см","Більше 10","Іграшки для собак",177.88,213,0,{"$f":"G556*I556","v":0}]
[null,1111114891,"3578_1шт","Іграшка із каната зебра, жираф 28 см (1 шт.)","Більше 10","Іграшки для собак",298.14,369,0,{"$f":"G557*I557","v":0}]
[null,1111129727,"35894_1шт","Іграшка із каната собака, бегемот 32 см (1 шт.)","Більше 10","Іграшки для собак",238.01,294,0,{"$f":"G558*I558","v":0}]
[null,1111119907,5164,"Іграшка канат з дзвіночком для папуг 50 см","Менше 10","Обладнання для кліток",358.27,443,0,{"$f":"G559*I559","v":0}]
[null,1111134658,"35283_1шт","Іграшка кругла Звірятко латекс 6 см","Більше 10","Іграшки для собак",87.69,108,0,{"$f":"G560*I560","v":0}]
[null,9605,"3510_1шт","Іграшка латексна (1 шт.)","Більше 10","Іграшки для собак",101.47,125,0,{"$f":"G561*I561","v":0}]
[null,1111114588,"3462_1шт","Іграшка латексна кругла з хвостом 6 см","Більше 10","Іграшки для собак",131.53,162,0,{"$f":"G562*I562","v":0}]
[null,1111120694,"3582_1шт","Іграшка плюшева із каната 17 см","Менше 10","Іграшки для собак",207.95,256,0,{"$f":"G563*I563","v":0}]
[null,1111121132,6183,"Іграшка-валик дерев яна для гризунів із дзвіночком 3,5?5 см","Більше 10","Обладнання для кліток",60.13,74,0,{"$f":"G564*I564","v":0}]
[null,1111170334,33648,"ІграшкаД/соб.КатапультЗм ячЗіСвітлПласт/терм.гума d=6cм/50cм арт.33648","Менше 10","Іграшки для собак",274.99,346.48,0,{"$f":"G565*I565","v":0}]
[null,1111126202,"3618_1шт","Іграшка-сквікер плюшева на мотузці 13 см","Більше 10","Іграшки для собак",177.88,219,0,{"$f":"G566*I566","v":0}]
[null,1111111511,3270,"Ігровий канат 15см/25гр","Більше 100","Іграшки для собак",25.05,30,0,{"$f":"G567*I567","v":0}]
[null,1111111512,3271,"Ігровий канат 20см/50гр","Більше 10","Іграшки для собак",36.33,44,0,{"$f":"G568*I568","v":0}]
[null,12255,3272,"Ігровий канат 26см/125гр","Більше 100","Іграшки для собак",52.61,65,0,{"$f":"G569*I569","v":0}]
[null,11000,3273,"Ігровий канат 37см/300гр","Більше 10","Іграшки для собак",129.03,159,0,{"$f":"G570*I570","v":0}]
[null,1111115362,3276,"Ігровий канат 40см/470гр","Більше 10","Іграшки для собак",177.88,219,0,{"$f":"G571*I571","v":0}]
[null,1111121139,3279,"Ігровий канат з 1-м вузлом 70см/270гр","Менше 10","Іграшки для собак",106.3,131,0,{"$f":"G572*I572","v":0}]
[null,11002,3275,"Ігровий канат з 1-м вузлом і петлею 60см/500гр","Більше 10","Іграшки для собак",181.64,224,0,{"$f":"G573*I573","v":0}]
[null,11001,3274,"Ігровий канат з 2-ма вузлами 54см/360гр","Більше 10","Іграшки для собак",129.03,159,0,{"$f":"G574*I574","v":0}]
[null,1111151099,35718,"Ігровий канат з 2-ма петлями, 38см, поліестер","Більше 10","Іграшки для собак",117.75,145,0,{"$f":"G575*I575","v":0}]
[null,1111151118,35717,"Ігровий канат з вузликами, 31см, текстиль","Більше 10","Іграшки для собак",71.400000000000006,88,0,{"$f":"G576*I576","v":0}]
[null,1111115359,3280,"Ігровий канат з м ячем і пластиковою ручкою 50 см","Більше 10","Іграшки для собак",179.14,221,0,{"$f":"G577*I577","v":0}]
[null,1111114742,3266,"Ігровий канат з тенісним м ячем 18 см","Більше 10","Іграшки для собак",88.94,111,0,{"$f":"G578*I578","v":0}]
[null,1111114737,3278,"Ігровий канат-вісімка 35см/280гр","Більше 10","Іграшки для собак",129.03,159,0,{"$f":"G579*I579","v":0}]
[null,1111114736,"3277 Trixie","Ігровий канат-кільце 30см/350гр","Більше 10","Іграшки для собак",155.34,192,0,{"$f":"G580*I580","v":0}]
[null,1111116255,4534,"Їжачок гумовий 3,3 см (4 шт.)","Немає в наявності","Іграшки для котів",76.41,94,0,{"$f":"G581*I581","v":0}]
[null,8463,"4125_1шт","Їжачок морський латексний 3 см","Більше 100","Іграшки для котів",13.78,17,0,{"$f":"G582*I582","v":0}]
[null,1111141016,34748,"Їжачок плюшевий 12 см","Більше 10","Іграшки для собак",131.53,163,0,{"$f":"G583*I583","v":0}]
[null,1111141018,34832,"Їжачок плюшевий 17 см","Немає в наявності","Іграшки для собак",247.26,305,0,{"$f":"G584*I584","v":0}]
[null,1111134790,45781,"Їжачок плюшевий 8 см","Більше 10","Іграшки для котів",129.03,159,0,{"$f":"G585*I585","v":0}]
[null,1111141019,34833,"Їжачок плюшевий довгий 37 см","Більше 10","Іграшки для собак",238.01,294,0,{"$f":"G586*I586","v":0}]
[null,1111126408,35934,"Їжачок плюшевий кудлатий 12 см","Більше 10","Іграшки для собак",147.82,182,0,{"$f":"G587*I587","v":0}]
[null,1111126409,35935,"Їжачок плюшевий кудлатий 17 см","Більше 10","Іграшки для собак",177.88,220,0,{"$f":"G588*I588","v":0}]
[null,1111134791,45782,"Їжачок плюшевий кудлатий 8 см","Більше 10","Іграшки для котів",129.03,159,0,{"$f":"G589*I589","v":0}]
[null,1111183781,50541,"Кальцієвий камінь Trixie з сепією для птахів 11 см 40 г Арт50541","Більше 100","Вітаміни та мінерали",54,70,0,{"$f":"G590*I590","v":0}]
[null,1111166037,"50540 /5404","Кальцієвий камінь Trixie з сепією для птахів 11см 40г Арт50540","Більше 100","Вітаміни та мінерали",68.900000000000006,86,0,{"$f":"G591*I591","v":0}]
[null,1111114699,3317,"Капкан литий 14 см","Менше 10","Іграшки для собак",402.12,497,0,{"$f":"G592*I592","v":0}]
[null,1111114700,3316,"Капкан литий 7 см","Менше 10","Іграшки для собак",108.61,134,0,{"$f":"G593*I593","v":0}]
[null,8235,2273,"Карабін 3 хромовананий 19 мм","Менше 10","Карабіни",76.41,96,0,{"$f":"G594*I594","v":0}]
[null,1111116188,2274,"Карабін 4 хромовананий 25 мм","Більше 10","Карабіни",88.94,110,0,{"$f":"G595*I595","v":0}]
[null,1111172121,"48022-10","Картон Trixie замінний для дряпки артикул 48022 15*58м арт.48022-10","Менше 10","Комплектуючі для дряпок",432.12,583,0,{"$f":"G596*I596","v":0}]
[null,1111129417,35474,"Каченятко латексне з оригінальним звуком 20 см","Більше 10","Іграшки для собак",177.88,220,0,{"$f":"G597*I597","v":0}]
[null,1111116918,35492,"Качка латексна з оригінальним звуком 30 см","Більше 10","Іграшки для собак",298.14,368,0,{"$f":"G598*I598","v":0}]
[null,1111126402,35812,"Качка плюшева 15 см","Більше 10","Іграшки для собак",177.88,219,0,{"$f":"G599*I599","v":0}]
[null,1111159714,40364,"Килим Trixie під туалет двошаровий 40 х 55 сірий Арт40364","Більше 10","Килимки під туалети",509,661,0,{"$f":"G600*I600","v":0}]
[null,1111183758,40365,"Килим Trixie під туалет двошаровий 40 х 70 сірий Арт40365","Більше 10","Килимки під туалети",599,778,0,{"$f":"G601*I601","v":0}]
[null,1111139765,37164,"Килимок  Cosy  100?70 см бежевий","Менше 10","Килимки, пледи",672.7,847,0,{"$f":"G602*I602","v":0}]
[null,1111144816,37124,"Килимок  FunDogs  90?68 см коричневий з собачками","Менше 10","Килимки, пледи",499.14,628,0,{"$f":"G603*I603","v":0}]
[null,1111140972,37167,"Килимок  Kenny  100?150 см бежевий лапка/кісточка","Менше 10","Килимки, пледи",503.59,634,0,{"$f":"G604*I604","v":0}]
[null,1111140971,37166,"Килимок  Kenny  75?100 см бежевий лапка/кісточка","Більше 10","Килимки, пледи",334.47,421,0,{"$f":"G605*I605","v":0}]
[null,1111140973,37168,"Килимок  Mimi  70?50 см сірий з мордочками для котів","Більше 10","Килимки, пледи",300.64999999999998,378,0,{"$f":"G606*I606","v":0}]
[null,1111118894,37191,"Килимок Beany 100?70 см беж","Більше 10","Килимки, пледи",199.18,250,0,{"$f":"G607*I607","v":0}]
[null,1111150300,37150,"Килимок Tammy з лапками, 100?70 см, блакитний/беж, плюш","Більше 10","Килимки, пледи",435.94,549,0,{"$f":"G608*I608","v":0}]
[null,1111150294,37117,"Килимок Tammy, 70?50 см, синій, текстиль","Менше 10","Килимки, пледи",334.47,421,0,{"$f":"G609*I609","v":0}]
[null,1111150295,37118,"Килимок Tammy, 90?68 см, синій, текстиль","Менше 10","Килимки, пледи",571.23,718,0,{"$f":"G610*I610","v":0}]
[null,1111170369,13204,"Килимок д/багажнику авто захисний чорний текстиль 2,10*1,75м арт.13204","Більше 10","Пристосування для перевезення (авто/велосипед)",3513.83,4427,0,{"$f":"G611*I611","v":0}]
[null,1111150316,43114,"Килимок д/котів з дряпкою, 60?33?42см, графіт/-сірий","Більше 10","Іграшки для котів",904.45,1118,0,{"$f":"G612*I612","v":0}]
[null,1111170368,13203,"Килимок д/сидіння авто захисний чорний текстиль 1,55*1,30м арт.13203","Більше 10","Пристосування для перевезення (авто/велосипед)",3107.96,3916,0,{"$f":"G613*I613","v":0}]
[null,1111170409,25036,"Килимок д/соб. Повільне годув.сіра термопл.гума d=24см арт.25036","Більше 10","Миски",388.34,489,0,{"$f":"G614*I614","v":0}]
[null,1111170400,25035,"Килимок д/соб. Повільне годування термопласна гума d=24см арт.25035","Більше 10","Миски",358.27,451,0,{"$f":"G615*I615","v":0}]
[null,1111170408,25037,"Килимок д/соб.Повільн.годув.блакитн.термопл.гума d=28см арт.25037","Більше 10","Миски",388.34,489,0,{"$f":"G616*I616","v":0}]
[null,1111143926,13472,"Килимок захисний в авто нейлон чорний 1,45?1,60 м","Менше 10","Пристосування для перевезення (авто/велосипед)",1010.93,1273,0,{"$f":"G617*I617","v":0}]
[null,1111114890,1324,"Килимок захисний в авто нейлоновий чорний 1,45?1,60 м","Менше 10","Пристосування для перевезення (авто/велосипед)",1724.97,2171,0,{"$f":"G618*I618","v":0}]
[null,1111135598,1348,"Килимок захисний в авто нейлоновий чорний 1,50?1,35 м","Менше 10","Пристосування для перевезення (авто/велосипед)",1386.74,1744,0,{"$f":"G619*I619","v":0}]
[null,1111134501,13237,"Килимок захисний в авто поліестер бежевий 1,40?1,20 м","Менше 10","Пристосування для перевезення (авто/велосипед)",672.7,845,0,{"$f":"G620*I620","v":0}]
[null,1111119294,1314,"Килимок захисний в багажник нейлоновий чорний 1,64?1,25 м","Менше 10","Пристосування для перевезення (авто/велосипед)",1890.33,2379,0,{"$f":"G621*I621","v":0}]
[null,1111118314,1318,"Килимок захисний в багажник нейлоновий чорний 2,30?1,7 м","Менше 10","Пристосування для перевезення (авто/велосипед)",1010.93,1272,0,{"$f":"G622*I622","v":0}]
[null,1111146662,28683,"Килимок охолоджуючий 40х30см блакитний","Більше 10","Килимки, пледи",233,294,0,{"$f":"G623*I623","v":0}]
[null,1111143192,28685,"Килимок охолоджуючий 50?40 см блакитний","Менше 10","Килимки, пледи",334.47,421,0,{"$f":"G624*I624","v":0}]
[null,1111143193,28686,"Килимок охолоджуючий 90?50 см","Більше 10","Килимки, пледи",672.7,847,0,{"$f":"G625*I625","v":0}]
[null,1111146663,28684,"Килимок охолоджуючий, 65 * 50 см, блакитний","Більше 10","Килимки, пледи",503.59,633,0,{"$f":"G626*I626","v":0}]
[null,1111146806,24579,"Килимок під миски Patchwork для котів 44?28 см сірий","Більше 100","Килимки під миски",101.47,127,0,{"$f":"G627*I627","v":0}]
[null,1299,24544,"Килимок під миски для котів  Comic Cat  44?28 см","Більше 10","Килимки під миски",101.47,127,0,{"$f":"G628*I628","v":0}]
[null,1111127576,24540,"Килимок під миски для котів  Pussy Cat  40?30 см","Більше 100","Килимки під миски",101.47,127,0,{"$f":"G629*I629","v":0}]
[null,1111135461,40381,"Килимок під туалет 37?45 см ПВХ антрацит","Менше 10","Килимки під туалети",177.88,223,0,{"$f":"G630*I630","v":0}]
[null,1111135460,40382,"Килимок під туалет 40?60 см ПВХ антрацит","Більше 10","Килимки під туалети",238.01,299,0,{"$f":"G631*I631","v":0}]
[null,1111146630,40385,"Килимок під туалет 41 * 25 см, ПВХ, півколо, антрацит","Більше 10","Килимки під туалети",117.75,149,0,{"$f":"G632*I632","v":0}]
[null,1111122466,38872,"Килимок термо в переноску  Capri II  26*46 см","Більше 10","Комплектуючі до пластикових переносок",199.18,249,0,{"$f":"G633*I633","v":0}]
[null,1111122467,38873,"Килимок термо в переноску  Capri III  29*51 см","Більше 10","Комплектуючі до пластикових переносок",233,293,0,{"$f":"G634*I634","v":0}]
[null,1111170407,25038,"КилимокД/котівPillarsПовільн.годув.блакит.термопл.гумаd=35см арт.25038","Менше 10","Миски",598.79,755,0,{"$f":"G635*I635","v":0}]
[null,2102,2368,"Кігтеріз  Luxe  великий","Більше 10","Аксесуари для грумінгу",313.18,387,0,{"$f":"G636*I636","v":0}]
[null,1111115197,2423,"Кігтеріз  Luxe  гільйотина","Більше 10","Аксесуари для грумінгу",207.95,257,0,{"$f":"G637*I637","v":0}]
[null,5679,2367,"Кігтеріз  Luxe  маленький","Більше 100","Аксесуари для грумінгу",234.26,291,0,{"$f":"G638*I638","v":0}]
[null,4773,2373,"Кігтеріз (ножиці) маленький","Більше 100","Аксесуари для грумінгу",110.24,136,0,{"$f":"G639*I639","v":0}]
[null,5009,2371,"Кігтеріз великий","Більше 10","Аксесуари для грумінгу",298.14,369,0,{"$f":"G640*I640","v":0}]
[null,1111116590,6285,"Кігтеріз для гризунів","Більше 10","Аксесуари для грумінгу",110.24,137,0,{"$f":"G641*I641","v":0}]
[null,1111150323,62860,"Кігтеріз для гризунів 13 см, для великих пальців","Більше 10","Аксесуари для грумінгу",155.34,192,0,{"$f":"G642*I642","v":0}]
[null,4902,2370,"Кігтеріз поперечний","Більше 10","Аксесуари для грумінгу",155.34,192,0,{"$f":"G643*I643","v":0}]
[null,1111171714,48002,"Кігтеточка д/кот Trixie Mimi Хвиля з кот м_ят карт сір 48*16*22 cм","Менше 10","Дряпки картонні",605.05999999999995,786,0,{"$f":"G644*I644","v":0}]
[null,1111118531,2259,"Кілочок для прив язі собак 40см/9мм","Менше 10","Ланцюги, троси для прив'язування",181.64,226,0,{"$f":"G645*I645","v":0}]
[null,1111121032,33181,"Кільце Denta Fun Mintfresh 12,5 см","Більше 10","Іграшки для собак",238.01,294,0,{"$f":"G646*I646","v":0}]
[null,1111137989,33191,"Кільце Denta Fun на канаті 12см/41см","Менше 10","Іграшки для собак",469.76,581,0,{"$f":"G647*I647","v":0}]
[null,1111115376,3330,"Кільце з натурального каучука 15 см","Більше 10","Іграшки для собак",238.01,294,0,{"$f":"G648*I648","v":0}]
[null,1111115845,35612,"Кільце латексне для цуценят 8 см","Більше 10","Іграшки для собак",101.47,125,0,{"$f":"G649*I649","v":0}]
[null,1111114766,3321,"Кільце лите 15 см","Більше 10","Іграшки для собак",177.88,219,0,{"$f":"G650*I650","v":0}]
[null,1111114765,3320,"Кільце лите 9 см","Більше 10","Іграшки для собак",60.13,74,0,{"$f":"G651*I651","v":0}]
[null,1111113754,5158,"Кільце-канат для птахів 19 см","Менше 10","Обладнання для кліток",234.26,291,0,{"$f":"G652*I652","v":0}]
[null,1111114740,5166,"Кільце-канат для птахів 25 см","Менше 10","Обладнання для кліток",298.14,369,0,{"$f":"G653*I653","v":0}]
[null,1111120662,3360,"Кільце-хвиля лите 15 см","Менше 10","Іграшки для собак",207.95,256,0,{"$f":"G654*I654","v":0}]
[null,1111140924,34847,"Кісточка Denta Fun натуральний каучук з зубною ниткою для собак 14 см","Більше 10","Іграшки для собак",268.08,332,0,{"$f":"G655*I655","v":0}]
[null,1111144018,"31343_1шт","Кісточка Trixie Denta Fun для чищення зубів натуральна шкіра 11см 60г","Більше 10","Ласощі для собак",130.28,170,0,{"$f":"G656*I656","v":0}]
[null,1111144019,"31344_1шт","Кісточка Trixie Denta Fun для чищення зубів натуральна шкіра 17см 140г","Більше 10","Ласощі для собак",149.07,194,0,{"$f":"G657*I657","v":0}]
[null,1111144020,"31345_1шт","Кісточка Trixie Denta Fun для чищення зубів натуральна шкіра 20см 200г","Більше 10","Ласощі для собак",202.94,263,0,{"$f":"G658*I658","v":0}]
[null,1111153370,"2653_5шт","Кісточка Trixie д/соб жув пресов з вузл натур шкіра 16см 65г 5шт/упак","Більше 10","Ласощі для собак",344.49,448,0,{"$f":"G659*I659","v":0}]
[null,1111153371,"2654_5шт","Кісточка Trixie д/соб жув пресов з вузл натур шкіра 18см 80г 5 шт/упак","Менше 10","Ласощі для собак",419.66,546,0,{"$f":"G660*I660","v":0}]
[null,1111153372,"2660_3шт","Кісточка Trixie д/соб жув пресов з вузл натур шкіра 25см 180г 3шт/упак","Менше 10","Ласощі для собак",422.88,549.74,0,{"$f":"G661*I661","v":0}]
[null,1111122921,2788,"Кісточка Trixie д/соб прес жув в індив уп натур шкіра 10см 33г*3шт/уп","Більше 10","Ласощі для собак",105.23,136,0,{"$f":"G662*I662","v":0}]
[null,1111122923,2790,"Кісточка Trixie д/соб прес жув в індив уп натур шкіра 15см 75г*2шт/уп","Більше 100","Ласощі для собак",122.76,160,0,{"$f":"G663*I663","v":0}]
[null,1111122924,2791,"Кісточка Trixie д/соб пресов жув в індивід упак натур шкіра 17см 90г","Менше 10","Ласощі для собак",71.400000000000006,93,0,{"$f":"G664*I664","v":0}]
[null,1111122925,2792,"Кісточка Trixie д/соб пресов жув в індивід упак натур шкіра 21см 170г","Більше 100","Ласощі для собак",141.56,184,0,{"$f":"G665*I665","v":0}]
[null,1111122926,2793,"Кісточка Trixie д/соб пресов жув в індивід упак натур шкіра 22см 230г","Більше 10","Ласощі для собак",177.88,230,0,{"$f":"G666*I666","v":0}]
[null,1111122927,2794,"Кісточка Trixie д/соб пресов жув в індивід упак натур шкіра 32см 420г","Більше 10","Ласощі для собак",323.2,419,0,{"$f":"G667*I667","v":0}]
[null,1111153369,"2652_5шт","Кісточка Trixie д/соб пресов жув з вузл натур шкіра 11см 30г 5 шт/упак","Більше 10","Ласощі для собак",169.11,220,0,{"$f":"G668*I668","v":0}]
[null,1111153602,"2644_25шт","Кісточка Trixie д/соб пресов жув натур шкіра 15см 75г 25шт/упак","Більше 10","Ласощі для собак",1503.24,1947,0,{"$f":"G669*I669","v":0}]
[null,1111153603,"2645_25 шт","Кісточка Trixie д/соб пресов жув натур шкіра 17см 90г 25шт/упак","Менше 10","Ласощі для собак",1683.63,2180,0,{"$f":"G670*I670","v":0}]
[null,1111115355,2634,"Кісточка Trixie д/соб пресов жув натур шкіра 5см 8г 50шт/упак","Більше 10","Ласощі для собак",438.45,568,0,{"$f":"G671*I671","v":0}]
[null,1111114901,2636,"Кісточка Trixie д/соб пресована жувальна натур шкіра 8см 15г 50шт/упак","Менше 10","Ласощі для собак",751.62,974,0,{"$f":"G672*I672","v":0}]
[null,1111122920,2787,"Кісточка Trixie д/соб пресована жувальна натур шкіра 8см 15г*5шт/упак","Більше 100","Ласощі для собак",83.93,110,0,{"$f":"G673*I673","v":0}]
[null,1111153360,"2649_3шт","Кісточка Trixie д/собак пресов жув натур шкіра 21см 170г 3шт/упак","Більше 10","Ласощі для собак",413.39,537,0,{"$f":"G674*I674","v":0}]
[null,1111153361,"2650_3шт","Кісточка Trixie д/собак пресов жув натур шкіра 22см 230г 3шт/упак","Більше 10","Ласощі для собак",522.38,679,0,{"$f":"G675*I675","v":0}]
[null,1111153362,"2651_3шт","Кісточка Trixie д/собак пресов жув натур шкіра 32см 420г 3шт/упак","Більше 10","Ласощі для собак",947.04,1231,0,{"$f":"G676*I676","v":0}]
[null,1111146646,"31324_1шт","Кісточка Trixie для чищення зубів Denta Fun натуральна шкіра 18см 120г","Більше 10","Ласощі для собак",130.28,170,0,{"$f":"G677*I677","v":0}]
[null,1111146645,"31320_1шт","Кісточка Trixie для чищення зубів Denta Fun натуральна шкіра 25см 220г","Більше 10","Ласощі для собак",214.21,279,0,{"$f":"G678*I678","v":0}]
[null,9737,3374,"Кісточка вінілова 15 см","Більше 10","Іграшки для собак",87.69,108,0,{"$f":"G679*I679","v":0}]
[null,1111140903,33671,"Кісточка з квіточками термопластичний каучук для собак 17 см","Менше 10","Іграшки для собак",238.01,294,0,{"$f":"G680*I680","v":0}]
[null,1111143307,33690,"Кісточка охолоджуюча натуральний каучук 11 см","Менше 10","Іграшки для собак",207.95,257,0,{"$f":"G681*I681","v":0}]
[null,1111146287,"27616_1шт","Кісточка прес. з трахеї 15см/90г","Більше 10","Ласощі для собак",92.7,121,0,{"$f":"G682*I682","v":0}]
[null,1111118315,3342,"Кісточка хутряна з пищавкою 20 см","Менше 10","Іграшки для собак",101.47,125,0,{"$f":"G683*I683","v":0}]
[null,1111140925,34848,"Кісточка шелестка натуральний каучук для собак 11 см","Більше 10","Іграшки для собак",191.66,236,0,{"$f":"G684*I684","v":0}]
[null,1111140926,34849,"Кісточка шелестка натуральний каучук для собак 18 см","Більше 10","Іграшки для собак",334.47,413,0,{"$f":"G685*I685","v":0}]
[null,1111139737,"31328_1шт","Кісточка-кільце Trixie для собак пресоване жувальне натуральна шкіра 1","Більше 10","Ласощі для собак",149.07,194,0,{"$f":"G686*I686","v":0}]
[null,1111140866,22860,"Клікер Trixie для собак 6,5 см Арт22860","Більше 10","Обладнання для аджиліті, дресирування",102.72,134,0,{"$f":"G687*I687","v":0}]
[null,1111183722,22863,"Клікер Trixie з карабіном і спіральним тросом для собак Арт22863","Більше 10","Обладнання для аджиліті, дресирування",129.03,168,0,{"$f":"G688*I688","v":0}]
[null,1111162630,22862,"Клікер-свисток Trixie для собак 8 см Арт22862","Більше 10","Аксесуари для амуніції (адресовки, брелоки, медальйони, підвіски)",102.72,134,0,{"$f":"G689*I689","v":0}]
[null,5134,3925,"Клітка металева 109?79?71 см","Менше 10","Клітки, вольєри для котів і собак",4613.7,5702,0,{"$f":"G690*I690","v":0}]
[null,1111117424,3922,"Клітка металева 64?54?48 см","Менше 10","Клітки, вольєри для котів і собак",2216.0300000000002,2738,0,{"$f":"G691*I691","v":0}]
[null,5061,3923,"Клітка металева 78?62?55 см","Менше 10","Клітки, вольєри для котів і собак",2869.94,3546,0,{"$f":"G692*I692","v":0}]
[null,5775,3924,"Клітка металева 93?62?69 см","Менше 10","Клітки, вольєри для котів і собак",3556.42,4395,0,{"$f":"G693*I693","v":0}]
[null,1111163128,35673,"Коала, 33 см, плюш","Менше 10","Іграшки для собак",334.47,413,0,{"$f":"G694*I694","v":0}]
[null,1111183712,13233,"Ковдра Trixie для заднього сидіння авто 1,4х1,45 м сіра Арт13233","Більше 10","Килимки, пледи",1010.93,1314,0,{"$f":"G695*I695","v":0}]
[null,1111183713,13234,"Ковдра Trixie для заднього сидіння авто 1,4х1,45м чорно-беж Арт13234","Більше 10","Килимки, пледи",1180.05,1534,0,{"$f":"G696*I696","v":0}]
[null,1111183736,24568,"Коврик Trixie під миски силіконовий блакитний 48 х 27 см Арт24568","Більше 10","Килимки під миски",503.59,655,0,{"$f":"G697*I697","v":0}]
[null,1111165635,24052,"Ковтуноріз Trixie для собак зубчасті леза пластик/метал 16см","Більше 10","Аксесуари для грумінгу",247.26,305,0,{"$f":"G698*I698","v":0}]
[null,1111125852,24161,"Ковтуноріз для котів закруглений","Більше 10","Аксесуари для грумінгу",268.08,331,0,{"$f":"G699*I699","v":0}]
[null,1111118160,"3988 /3283","Колеса (4 шт.)  Gulliver","Менше 10","Комплектуючі до пластикових переносок",1636.34,2486,0,{"$f":"G700*I700","v":0}]
[null,1111139758,"39740 /36313","Колеса (4 шт.)  Skudo","Менше 10","Комплектуючі до пластикових переносок",1689.17,2125,0,{"$f":"G701*I701","v":0}]
[null,1111169736,61010,"Колесо Trixie тренаж.д/мал.гризунів на підставці пласт.ø20см арт.61010","Немає в наявності","Обладнання для кліток",298.14,403,0,{"$f":"G702*I702","v":0}]
[null,1111127833,61011,"Колесо Trixie тренаж.д/мал.гризунів на підставці пласт.ø28см арт.61011","Більше 10","Обладнання для кліток",448.47,605,0,{"$f":"G703*I703","v":0}]
[null,1111172934,61012,"Колесо Trixie тренаж.д/мал.гризунів на підставці пласт.ø33см арт.61012","Менше 10","Обладнання для кліток",538.66,728,0,{"$f":"G704*I704","v":0}]
[null,1111172935,61035,"Колесо Trixie тренажерне для маленьких гризунів дерево ø23см арт.61035","Менше 10","Обладнання для кліток",598.79,809,0,{"$f":"G705*I705","v":0}]
[null,1111116724,33702,"Колесо на канаті 15 см","Менше 10","Іграшки для собак",368.29,454,0,{"$f":"G706*I706","v":0}]
[null,1111132056,29193,"Кондиціонер для собак 250 мл з олією жожоба","Більше 10","Косметика, засоби догляду для грумінгу",131.53,163,0,{"$f":"G707*I707","v":0}]
[null,1111137775,29196,"Кондиціонер для собак 250 мл з олією макадамії й обліпихи","Більше 10","Косметика, засоби догляду для грумінгу",147.82,183,0,{"$f":"G708*I708","v":0}]
[null,1111140868,32040,"Кормушка Trixie д/соб Dog Activity Memory Trainer 3.0 20*24см пластик","Менше 10","Іграшки для собак",3310.89,4172,0,{"$f":"G709*I709","v":0}]
[null,1111170313,32004,"Кормушка д/соб. Snack Popper біла пластикова 21*10*12см арт.32004","Менше 10","Іграшки для собак",598.79,752,0,{"$f":"G710*I710","v":0}]
[null,1111176960,909145,"Коробка Trixie Хеллов д/вітрини д/ласощ арт91997 карт 24,5*10,4*34,5см","Більше 10","Реклама",135.11000000000001,182.4,0,{"$f":"G711*I711","v":0}]
[null,1111119105,32943,"Котушка Denta Fun Mintfresh 11,5 см","Менше 10","Іграшки для собак",191.66,236,0,{"$f":"G712*I712","v":0}]
[null,1111119104,32944,"Котушка Denta Fun Mintfresh 15 см","Більше 10","Іграшки для собак",268.08,331,0,{"$f":"G713*I713","v":0}]
[null,1111130091,58951,"Крейда з дерев яною іграшкою і дзвіночком для птахів 16 см","Більше 100","Обладнання для кліток",76.41,94,0,{"$f":"G714*I714","v":0}]
[null,1111119909,2571,"Крем для подушечок лап 50 мл","Більше 10","Засоби для догляду за лапами",102.72,127,0,{"$f":"G715*I715","v":0}]
[null,1111135943,45786,"Кріт плюшевий 5 см","Більше 10","Іграшки для котів",131.53,163,0,{"$f":"G716*I716","v":0}]
[null,13728,3529,"Крокодил латексний 35 см","Менше 10","Іграшки для собак",298.14,368,0,{"$f":"G717*I717","v":0}]
[null,1111150286,35886,"Кролик Bunny з пищавкою, 38 см, плюш","Більше 10","Іграшки для собак",358.27,443,0,{"$f":"G718*I718","v":0}]
[null,1111150283,35869,"Кролик з пищавкою, 29 см, текстиль","Більше 10","Іграшки для собак",268.08,331,0,{"$f":"G719*I719","v":0}]
[null,1111125097,"3590_1шт","Кролик плюшевий 15 см","Немає в наявності","Іграшки для собак",189.16,234,0,{"$f":"G720*I720","v":0}]
[null,1111163132,35679,"Кролик, 47 см, плюш","Більше 10","Іграшки для собак",571.23,706,0,{"$f":"G721*I721","v":0}]
[null,1111117668,6187,"Кулька дерев яна зі дзвіночком 6 см","Більше 10","Обладнання для кліток",117.75,145,0,{"$f":"G722*I722","v":0}]
[null,1111126943,61821,"Кулька трав яна із дзвіночком 6 см","Більше 100","Обладнання для кліток",52.61,65,0,{"$f":"G723*I723","v":0}]
[null,793,"4099_1шт","Кулька, валик для котів 4,5 см","Більше 100","Іграшки для котів",18.79,23,0,{"$f":"G724*I724","v":0}]
[null,1111119258,4166,"Кульки пластмасові 4,5 см (4 шт.)","Більше 10","Іграшки для котів",60.13,74,0,{"$f":"G725*I725","v":0}]
[null,12238,3536,"Курка латексна 25 см","Немає в наявності","Іграшки для собак",117.75,145,0,{"$f":"G726*I726","v":0}]
[null,1111115537,3539,"Курка латексна 51 см","Менше 10","Іграшки для собак",268.08,332,0,{"$f":"G727*I727","v":0}]
[null,1111119094,35495,"Курка латексна з оригінальним звуком 48 см","Більше 10","Іграшки для собак",469.76,581,0,{"$f":"G728*I728","v":0}]
[null,1111115131,35091,"Курчатко латексне 15 см","Більше 100","Іграшки для собак",71.400000000000006,88,0,{"$f":"G729*I729","v":0}]
[null,1111136766,45561,"Курчатко плюшеве на резинці 20 см","Більше 10","Іграшки для котів",129.03,159,0,{"$f":"G730*I730","v":0}]
[null,9731,6254,"Кутовий туалет для гризунів","Більше 10","Обладнання для кліток",26.31,33,0,{"$f":"G731*I731","v":0}]
[null,1111113000,62551,"Кутовий туалет для гризунів 36х21х30 см","Більше 10","Обладнання для кліток",102.72,127,0,{"$f":"G732*I732","v":0}]
[null,12866,6256,"Кутовий туалет з лопаткою для гризунів","Менше 10","Обладнання для кліток",102.72,127,0,{"$f":"G733*I733","v":0}]
[null,1111150284,35884,"Лама з фольгою, 40 см, плюш","Більше 10","Іграшки для собак",268.08,331,0,{"$f":"G734*I734","v":0}]
[null,1111137981,55001,"Лампа для птахів 23 Вт","Менше 10","Обладнання для тераріуму, комплектуючі",672.7,832,0,{"$f":"G735*I735","v":0}]
[null,1111126089,76097,"Лампа інфрачервона 100 Вт","Менше 10","Обладнання для тераріуму, комплектуючі",435.94,540,0,{"$f":"G736*I736","v":0}]
[null,1111126087,76095,"Лампа інфрачервона 50 Вт","Більше 10","Обладнання для тераріуму, комплектуючі",334.47,413,0,{"$f":"G737*I737","v":0}]
[null,1111126088,76096,"Лампа інфрачервона 75 Вт","Менше 10","Обладнання для тераріуму, комплектуючі",334.47,413,0,{"$f":"G738*I738","v":0}]
[null,1111126936,76035,"Лампа компактна 8.0 23 Вт","Менше 10","Обладнання для тераріуму, комплектуючі",740.35,915,0,{"$f":"G739*I739","v":0}]
[null,1111176961,"91997_уп","Ласощі Trixie Halloween Selection для собак Хелловін 84 шт арт91997","Більше 10","Ласощі для собак",2513.6999999999998,3267.81,0,{"$f":"G740*I740","v":0}]
[null,1111134758,31771,"Ласощі Trixie Rotolinis з яловичиною для собак, 120 г","Більше 100","Ласощі для собак",50.11,65,0,{"$f":"G741*I741","v":0}]
[null,1111134759,31772,"Ласощі Trixie Stripes з ягням для собак, 100 г, 15 шт","Більше 100","Ласощі для собак",46.35,61,0,{"$f":"G742*I742","v":0}]
[null,1111121027,31447,"Ласощі Trixie д/соб Doggy Bits жувальні лапті 7см 100г 10шт/упак","Більше 10","Ласощі для собак",197.57,256,0,{"$f":"G743*I743","v":0}]
[null,1111119108,31445,"Ласощі Trixie д/соб Doggy Bits кісточ жув з вітамін 8см 230г 10шт/упак","Більше 10","Ласощі для собак",264.60000000000002,344,0,{"$f":"G744*I744","v":0}]
[null,1111170284,31867,"Ласощі Trixie д/собак Преміо Guse Liver Cubes з гусячою печінкою, 100г","Менше 10","Ласощі для собак",122.76,174,0,{"$f":"G745*I745","v":0}]
[null,1111176338,42682,"Ласощі Trixie для котів Тріксі Creamy Snacks Креветки 14г 5шт/упак","Більше 100","Ласощі для котів",73.91,96,0,{"$f":"G746*I746","v":0}]
[null,1111176337,42681,"Ласощі Trixie для котів Тріксі Creamy Snacks Курка 14г 5шт/упак","Більше 10","Ласощі для котів",73.91,96,0,{"$f":"G747*I747","v":0}]
[null,1111176339,42683,"Ласощі Trixie для котів Тріксі Creamy Snacks Риба 14г 5шт/упак","Більше 100","Ласощі для котів",73.91,96,0,{"$f":"G748*I748","v":0}]
[null,1111144196,27743,"Ласощі Trixie для собак Ріг буйвола жувальний L великий 182г","Більше 10","Ласощі для собак",199.18,258,0,{"$f":"G749*I749","v":0}]
[null,1111144195,27742,"Ласощі Trixie для собак Ріг буйвола жувальний M середній 109г","Більше 10","Ласощі для собак",165.36,215,0,{"$f":"G750*I750","v":0}]
[null,1111137243,2623,"Ласощі Trixie пластини для собак, 100 шт., 12 см","Більше 10","Ласощі для собак",334.47,434,0,{"$f":"G751*I751","v":0}]
[null,1111129071,76392,"Ласощі Trixie цвіркуни сушені для рептилій 25 г Арт76392","Більше 10","Корм сухий для черепах і рептилій",147.82,192,0,{"$f":"G752*I752","v":0}]
[null,1111183787,60792,"Ласощі Trixie черв_яки сушені для гризунів 70 г Арт60792","Більше 10","Ласощі для гризунів",98,127,0,{"$f":"G753*I753","v":0}]
[null,1111140900,42735,"Ласощі для котів  PREMIO Chicken Tenders  курячі крильця 70 г (4 шт.)","Більше 100","Ласощі для котів",92.7,424,0,{"$f":"G754*I754","v":0}]
[null,1111124005,42703,"Ласощі для котів Trixie PREMIO Barbecue Hearts курка 50 г","Більше 100","Ласощі для котів",73.91,96,0,{"$f":"G755*I755","v":0}]
[null,1111139778,38974,"Лежак  Davin  50?40 см сірий в смужку/кремовий","Менше 10","Лежаки",904.45,1138,0,{"$f":"G756*I756","v":0}]
[null,1111139779,38975,"Лежак  Davin  60?45 см сірий в смужку/кремовий","Менше 10","Лежаки",1267.74,1500,0,{"$f":"G757*I757","v":0}]
[null,1111156933,37457,"Лежак  F?hr  BE NORDIC, 60 x 50 cм, темно-синій","Немає в наявності","Лежаки",3094.18,3663,0,{"$f":"G758*I758","v":0}]
[null,1111156934,37448,"Лежак  F?hr  BE NORDIC, 80 x 60 cм, темно-сірий","Менше 10","Лежаки",4573.62,5415,0,{"$f":"G759*I759","v":0}]
[null,1111139773,"37037*****","Лежак  Jimmy  110?95 см сірий з лапками","Менше 10","Лежаки",3883.32,4598,0,{"$f":"G760*I760","v":0}]
[null,1111139767,37031,"Лежак  Jimmy  45?35 см сірий з лапками","Менше 10","Лежаки",722.81,910,0,{"$f":"G761*I761","v":0}]
[null,1111139768,37032,"Лежак  Jimmy  55?45 см сірий з лапками","Менше 10","Лежаки",904.45,1137,0,{"$f":"G762*I762","v":0}]
[null,1111139769,37033,"Лежак  Jimmy  65?55 см сірий з лапками","Менше 10","Лежаки",1267.74,1502,0,{"$f":"G763*I763","v":0}]
[null,1111139770,37034,"Лежак  Jimmy  75?65 см сірий з лапками","Менше 10","Лежаки",1594.69,1889,0,{"$f":"G764*I764","v":0}]
[null,1111139771,37035,"Лежак  Jimmy  85?75 см сірий з лапками","Менше 10","Лежаки",2030.63,2404,0,{"$f":"G765*I765","v":0}]
[null,1111139772,37036,"Лежак  Jimmy  95?85 см сірий з лапками","Менше 10","Лежаки",2651.97,3140,0,{"$f":"G766*I766","v":0}]
[null,1111144831,37685,"Лежак  Lingo  50?40 см білий/бежевий лапка/кісточка","Менше 10","Лежаки",672.7,847,0,{"$f":"G767*I767","v":0}]
[null,1111144830,37686,"Лежак  Lingo  60?55 см білий/бежевий лапка/кісточка","Менше 10","Лежаки",904.45,1137,0,{"$f":"G768*I768","v":0}]
[null,1111115896,37021,"Лежак  Lucky  в клітинку 45?35 см","Менше 10","Лежаки",722.81,910,0,{"$f":"G769*I769","v":0}]
[null,1111115897,37022,"Лежак  Lucky  в клітинку 55?45 см","Менше 10","Лежаки",904.45,1138,0,{"$f":"G770*I770","v":0}]
[null,1111140978,37487,"Лежак  Mimi  d50 см сірий з мордочками","Менше 10","Лежаки",1267.74,1502,0,{"$f":"G771*I771","v":0}]
[null,1111140976,37377,"Лежак  Tammy  d50 см синій/бежевий в лапку","Більше 10","Лежаки",672.7,846,0,{"$f":"G772*I772","v":0}]
[null,1111140977,37378,"Лежак  Tammy  d70 см синій/бежевий в лапку","Більше 10","Лежаки",1086.0899999999999,1286,0,{"$f":"G773*I773","v":0}]
[null,1111123245,37041,"Лежак  Yuma  з хутром d45 см","Менше 10","Лежаки",1267.74,1502,0,{"$f":"G774*I774","v":0}]
[null,1111146853,37706,"Лежак Elsie беж 45 см","Менше 10","Лежаки",1001.74,1186,0,{"$f":"G775*I775","v":0}]
[null,1111148404,38395,"Лежак Lian фетр з ручками сірий 37 см","Менше 10","Лежаки",503.59,633,0,{"$f":"G776*I776","v":0}]
[null,1111148406,38396,"Лежак Lian фетр з ручками сірий 45 см","Менше 10","Лежаки",672.7,797,0,{"$f":"G777*I777","v":0}]
[null,1111115190,62703,"Лежак Trixie для карликових кроликів 35 х 28 см Арт62703","Більше 10","Обладнання для кліток",402,523,0,{"$f":"G778*I778","v":0}]
[null,1111137864,37841,"Лежак Trixie для собак Cosma Bed плюшевий коричневий/бежевий 50см","Більше 10","Лежаки",977.11,1157,0,{"$f":"G779*I779","v":0}]
[null,1111137778,37842,"Лежак Trixie для собак Cosma Bed плюшевий коричневий/бежевий 60см","Більше 10","Лежаки",1267.74,1502,0,{"$f":"G780*I780","v":0}]
[null,1111118665,"4328 Trixie","Лежак для котів  CosyPlace  на підвіконня 51?36 см світло-сірий","Менше 10","Лежаки",722.81,909,0,{"$f":"G781*I781","v":0}]
[null,1111116793,28631,"Лежак для котів 47?38 см","Менше 10","Лежаки",266.83,336,0,{"$f":"G782*I782","v":0}]
[null,1111115188,"62701 Trixie","Лежак для хом яків 16,5?15,5 см","Більше 100","Обладнання для кліток",88.94,109,0,{"$f":"G783*I783","v":0}]
[null,1111115189,62702,"Лежак для хом яків 32?26 см","Менше 10","Обладнання для кліток",147.82,182,0,{"$f":"G784*I784","v":0}]
[null,1111139328,43141,"Лежак на батарею д/котів з довгим ворсом 45?26?31 см коричнев/бежевий","Менше 10","Лежаки",977.11,1229,0,{"$f":"G785*I785","v":0}]
[null,1111129426,35919,"Лисиця плюшева з канатами 34 см","Більше 10","Іграшки для собак",334.47,413,0,{"$f":"G786*I786","v":0}]
[null,1111163126,35671,"Лінивець, 56 см, плюш","Менше 10","Іграшки для собак",402.12,497,0,{"$f":"G787*I787","v":0}]
[null,1111134529,33562,"Літаюча тарілка  Dog Activity  23 см м який пластик","Більше 10","Іграшки для собак",238.01,294,0,{"$f":"G788*I788","v":0}]
[null,1111116820,33501,"Літаюча тарілка для собак гумова 18 см","Менше 10","Іграшки для собак",177.88,219,0,{"$f":"G789*I789","v":0}]
[null,1111115379,33502,"Літаюча тарілка для собак гумова 22 см","Більше 10","Іграшки для собак",238.01,294,0,{"$f":"G790*I790","v":0}]
[null,1111127925,33503,"Літаюча тарілка для собак гумова 24,5 см","Менше 10","Іграшки для собак",298.14,369,0,{"$f":"G791*I791","v":0}]
[null,8008,4050,"Лопатка Trixie","Більше 10","Лопатки",42.59,54,0,{"$f":"G792*I792","v":0}]
[null,12219,4049,"Лопатка Trixie велика","Більше 100","Лопатки",31.32,39,0,{"$f":"G793*I793","v":0}]
[null,1111137641,40475,"Лопатка Trixie з підставкою для  Fresh n Easy  гранульованого","Більше 10","Лопатки",181.64,228,0,{"$f":"G794*I794","v":0}]
[null,9299,4045,"Лопатка-совок Trixie маленька","Більше 100","Лопатки",37.58,48,0,{"$f":"G795*I795","v":0}]
[null,1111119757,35751,"Лось плюшевий 15 см","Більше 10","Іграшки для собак",191.66,236,0,{"$f":"G796*I796","v":0}]
[null,1111119103,32941,"М яч Denta Fun Mintfresh 6 см","Більше 10","Іграшки для собак",147.82,182,0,{"$f":"G797*I797","v":0}]
[null,1111119102,32942,"М яч Denta Fun Mintfresh 7,5 см","Більше 10","Іграшки для собак",207.95,256,0,{"$f":"G798*I798","v":0}]
[null,1111153606,"2673_10шт","М яч Trixie для собак пресований жувальний з начинкою натуральна шкіра","Менше 10","Ласощі для собак",1014.69,1319,0,{"$f":"G799*I799","v":0}]
[null,1111115126,3307,"М яч апортировочний плаваючий 6см/1м","Менше 10","Іграшки для собак",87.69,108,0,{"$f":"G800*I800","v":0}]
[null,1111116727,33482,"М яч апортировочний плаваючий 7см/35см","Менше 10","Іграшки для собак",177.88,220,0,{"$f":"G801*I801","v":0}]
[null,10366,3414,"М яч вініловий малий 7,5 см","Більше 10","Іграшки для собак",76.41,94,0,{"$f":"G802*I802","v":0}]
[null,9735,3412,"М яч вініловий середній 10 см","Більше 10","Іграшки для собак",102.72,127,0,{"$f":"G803*I803","v":0}]
[null,1111141781,34390,"М яч гумовий 4,5 см","Більше 10","Іграшки для собак",36.33,44,0,{"$f":"G804*I804","v":0}]
[null,1111122409,34841,"М яч гумовий з пищавкою 6 см","Більше 10","Іграшки для собак",87.69,108,0,{"$f":"G805*I805","v":0}]
[null,1111134846,34843,"М яч гумовий спортивний 5,5 см","Більше 10","Іграшки для собак",87.69,108,0,{"$f":"G806*I806","v":0}]
[null,1111134847,34845,"М яч гумовий спортивний 7 см","Більше 10","Іграшки для собак",117.75,145,0,{"$f":"G807*I807","v":0}]
[null,1111126349,3299,"М яч для зубів Denta Fun на мотузці 7 см","Більше 10","Іграшки для собак",191.66,236,0,{"$f":"G808*I808","v":0}]
[null,1111140913,33680,"М яч для зубів Denta Fun термопластичний каучук для собак 6 см","Більше 10","Іграшки для собак",117.75,145,0,{"$f":"G809*I809","v":0}]
[null,1111122406,"3259    мята","М яч для зубів Mintfresh бейсбольний 5 см","Більше 100","Іграшки для собак",76.41,94,0,{"$f":"G810*I810","v":0}]
[null,1111143305,"32880    мята","М яч для зубів Mintfresh бейсбольний 6 см","Більше 10","Іграшки для собак",117.75,145,0,{"$f":"G811*I811","v":0}]
[null,13602,"3289    мята","М яч для зубів Mintfresh бейсбольний 6,5 см","Більше 10","Іграшки для собак",131.53,163,0,{"$f":"G812*I812","v":0}]
[null,13603,"3290    мята","М яч для зубів Mintfresh гумовий регбі овальний 11,5 см","Більше 10","Іграшки для собак",177.88,220,0,{"$f":"G813*I813","v":0}]
[null,13604,"33132     мята","М яч для зубів регбі 15 см","Більше 10","Іграшки для собак",402.12,495,0,{"$f":"G814*I814","v":0}]
[null,1111122446,3527,"М яч з мордочкою латексний 7 см","Більше 10","Іграшки для собак",147.82,182,0,{"$f":"G815*I815","v":0}]
[null,8044,"3429 /12080","М яч з шипами 10 см","Більше 10","Іграшки для собак",102.72,127,0,{"$f":"G816*I816","v":0}]
[null,9241,3421,"М яч з шипами 12-13 см","Більше 10","Іграшки для собак",149.05000000000001,184,0,{"$f":"G817*I817","v":0}]
[null,2430,"3428 /8029-32","М яч з шипами 6,5 см","Більше 10","Іграшки для собак",50.11,62,0,{"$f":"G818*I818","v":0}]
[null,1111141791,33677,"М яч з шипами термопластичний каучук 7 см","Більше 10","Іграшки для собак",101.47,125,0,{"$f":"G819*I819","v":0}]
[null,1111141792,33678,"М яч з шипами термопластичний каучук 8 см","Більше 100","Іграшки для собак",117.75,145,0,{"$f":"G820*I820","v":0}]
[null,1111116686,3268,"М яч із каната на мотузці 5,5см/30см","Більше 10","Іграшки для собак",62.64,78,0,{"$f":"G821*I821","v":0}]
[null,1111116687,3269,"М яч із каната на мотузці 7см/50см","Більше 10","Іграшки для собак",76.41,94,0,{"$f":"G822*I822","v":0}]
[null,1111147055,32810,"М яч із каната яскравий 6 см","Більше 10","Іграшки для собак",60.13,74,0,{"$f":"G823*I823","v":0}]
[null,1111115201,3300,"М яч литий 5 см","Більше 10","Іграшки для собак",57.62,72,0,{"$f":"G824*I824","v":0}]
[null,1111115203,3301,"М яч литий 6,5 см","Більше 10","Іграшки для собак",117.75,145,0,{"$f":"G825*I825","v":0}]
[null,1111115202,3302,"М яч литий 7,5 см","Більше 10","Іграшки для собак",177.88,220,0,{"$f":"G826*I826","v":0}]
[null,1111120297,34861,"М яч литий з лапкою і пищавкою 6 см","Менше 10","Іграшки для собак",147.82,182,0,{"$f":"G827*I827","v":0}]
[null,1111120298,34863,"М яч литий з лапкою і пищавкою 9,5 см","Менше 10","Іграшки для собак",298.14,369,0,{"$f":"G828*I828","v":0}]
[null,9601,"3461_1шт","М яч неон з шипами 7 см","Більше 10","Іграшки для собак",117.75,146,0,{"$f":"G829*I829","v":0}]
[null,1111161175,61943,"М яч плетений натуральний d13 см","Більше 10","Обладнання для кліток",102.72,127,0,{"$f":"G830*I830","v":0}]
[null,6486,"3475_1шт","М яч тенісний 6,4 см","Більше 10","Іграшки для собак",41.34,51,0,{"$f":"G831*I831","v":0}]
[null,1111115127,3479,"М яч тенісний на мотузці 6,5см/50см","Менше 10","Іграшки для собак",87.69,109,0,{"$f":"G832*I832","v":0}]
[null,1111115370,3436,"М яч футбольний вініловий 10 см","Немає в наявності","Іграшки для собак",87.69,108,0,{"$f":"G833*I833","v":0}]
[null,7836,3435,"М яч футбольний вініловий 6,5 см","Більше 10","Іграшки для собак",60.13,74,0,{"$f":"G834*I834","v":0}]
[null,1111120303,34941,"М яч-годівниця литий 7,5 см","Більше 10","Іграшки для собак",233,288,0,{"$f":"G835*I835","v":0}]
[null,1111119468,4165,"М ячик пластмасовий для котів 4,5 см (2 шт.)","Більше 100","Іграшки для котів",62.64,77,0,{"$f":"G836*I836","v":0}]
[null,1111124961,4097,"М ячик поліколор 3,5 см (4 шт.)","Більше 100","Іграшки для котів",101.47,126,0,{"$f":"G837*I837","v":0}]
[null,1111130855,"45805_1шт","М ячик сизаль смугастий 4,5см","Більше 100","Іграшки для котів",33.82,41,0,{"$f":"G838*I838","v":0}]
[null,1111120282,4501,"М ячики джутові з м ятою 4,5 см (2 шт.)","Більше 100","Іграшки для котів",62.64,78,0,{"$f":"G839*I839","v":0}]
[null,1111123315,"4570_1шт","М ячик-спіраль яскравий 4,5 см","Більше 10","Іграшки для котів",41.34,51,0,{"$f":"G840*I840","v":0}]
[null,12237,3419,"М яч-їжак вініловий великий 16 см","Більше 10","Іграшки для собак",260.56,322,0,{"$f":"G841*I841","v":0}]
[null,1111115594,34091,"М яч-їжак вініловий флуоресцентний 10 см","Більше 10","Іграшки для собак",131.53,163,0,{"$f":"G842*I842","v":0}]
[null,1111122450,35431,"М яч-їжак латексний 6 см","Більше 100","Іграшки для собак",76.41,94,0,{"$f":"G843*I843","v":0}]
[null,1111122449,35432,"М яч-їжак латексний 7 см","Більше 10","Іграшки для собак",102.72,127,0,{"$f":"G844*I844","v":0}]
[null,1111134454,33651,"М яч-їжак термопластичний каучук без звуку 8 см","Більше 10","Іграшки для собак",87.69,108,0,{"$f":"G845*I845","v":0}]
[null,1111136652,33640,"М яч-їжак термопластичний каучук з підсвічуванням без звуку 5 см","Більше 10","Іграшки для собак",87.69,109,0,{"$f":"G846*I846","v":0}]
[null,1111137482,32650,"М яч-канат з мотузками 7см/44см","Більше 10","Іграшки для собак",147.82,182,0,{"$f":"G847*I847","v":0}]
[null,1111114061,32622,"М яч-клубок великий натуральний каучук","Менше 10","Іграшки для собак",298.14,369,0,{"$f":"G848*I848","v":0}]
[null,1111114062,32621,"М яч-клубок малий натуральний каучук","Більше 10","Іграшки для собак",161.6,199,0,{"$f":"G849*I849","v":0}]
[null,1111115580,4075,"М яч-сизаль 6,5 см","Більше 10","Іграшки для котів",76.41,94,0,{"$f":"G850*I850","v":0}]
[null,1111136654,33643,"М_яч з підсвічуванням термопластичний каучук 7,5 см","Більше 10","Іграшки для собак",207.95,257,0,{"$f":"G851*I851","v":0}]
[null,1111139711,35851,"Мавпочка плюшева 24 см","Менше 10","Іграшки для собак",238.01,294,0,{"$f":"G852*I852","v":0}]
[null,1111139793,37622,"Матрац  Jimmy  100?70 см сірий з лапками","Менше 10","Матраци",2445.9899999999998,2896,0,{"$f":"G853*I853","v":0}]
[null,1111141362,37069,"Матрац  Patchwork  80?55 см блакитний/зелений із собачками","Менше 10","Матраци",722.81,909,0,{"$f":"G854*I854","v":0}]
[null,1111167887,29200,"Мило для собак з екстрактом алое 100г","Менше 10","Косметика, засоби догляду для грумінгу",117.75,146,0,{"$f":"G855*I855","v":0}]
[null,1111162678,42425,"Мильні бульбашки Trixie з котячою м'ятою для котів 120 мл Арт42425","Більше 10","Засоби для привчання",148,192,0,{"$f":"G856*I856","v":0}]
[null,1111170382,24985,"Миска Trixie д/котів і собак подвійна пластик 2*0,2л d=11cм 26*4*14см","Більше 10","Миски",76.41,96,0,{"$f":"G857*I857","v":0}]
[null,1111140995,24778,"Миска Trixie д/соб Jimmy з лапками Гум. основа керам. 0,75л d=16см","Більше 10","Миски",358.27,451,0,{"$f":"G858*I858","v":0}]
[null,1111117189,2470,"Миска Trixie для котів пластик 0,2л d=12см","Більше 10","Миски",31.32,39,0,{"$f":"G859*I859","v":0}]
[null,1111143277,25017,"Миска Trixie для подорожей термопластична гума 0,5л 14см Арт25017","Більше 10","Миски, поїлки для подорожей",177.88,231,0,{"$f":"G860*I860","v":0}]
[null,1111127526,25012,"Миска Trixie для подорожей термопластичний еластомер 1л 18см Арт25012","Більше 10","Миски, поїлки для подорожей",161.6,210,0,{"$f":"G861*I861","v":0}]
[null,1111134861,25247,"Миска Trixie для порід з довгими вухами 0,9 л 19 см Арт25247","Більше 10","Миски",358.27,466,0,{"$f":"G862*I862","v":0}]
[null,1111116004,2463,"Миска Trixie для собак Swobby пластик 1,7л d=24см","Більше 10","Миски",207.95,262,0,{"$f":"G863*I863","v":0}]
[null,1111127527,25013,"Миска Trixie для собак дорожня термопласна гума 2л d=22см","Більше 10","Миски, поїлки для подорожей",268.08,338,0,{"$f":"G864*I864","v":0}]
[null,1111122542,24533,"Миска Trixie для собак коричнева з лапками керамычна 1,4л d=20см","Менше 10","Миски",388.34,548,0,{"$f":"G865*I865","v":0}]
[null,1111169735,25033,"Миска Trixie для собак Повільне годування термопласна гума 1,5л d=27см","Більше 10","Миски",234.26,295,0,{"$f":"G866*I866","v":0}]
[null,1111119260,2473,"Миска Trixie для собак полегшена версія пластик 0,5л d=14см","Більше 10","Миски",62.64,79,0,{"$f":"G867*I867","v":0}]
[null,1111134432,25243,"Миска Trixie з нержавіючої сталі і пластику 0,8 л 17 см Арт25243","Більше 10","Миски",238.01,309,0,{"$f":"G868*I868","v":0}]
[null,1111134434,25245,"Миска Trixie з нержавіючої сталі і пластику 2,2 л 23 см Арт25245","Більше 10","Миски",448.47,583,0,{"$f":"G869*I869","v":0}]
[null,1111140992,24775,"Миска Trixie керамічна 0,75 л 15 см Арт24775","Менше 10","Миски",238.01,309,0,{"$f":"G870*I870","v":0}]
[null,1111150263,24497,"Миска Trixie керамічна в формі котячої голови 0,25л 12х12 см Арт24497","Більше 10","Миски",147.82,192,0,{"$f":"G871*I871","v":0}]
[null,1111164060,25128,"Миска Trixie керамічна для кошенят і цуценят 0,2 л 14 см Арт25128","Більше 10","Миски",147.82,192,0,{"$f":"G872*I872","v":0}]
[null,1111183737,25052,"Миска Trixie керамічна з принтом 1,4л 20см кремово-блакитний Арт25052","Більше 10","Миски",358.27,466,0,{"$f":"G873*I873","v":0}]
[null,1111183738,25055,"Миска Trixie керамічна з принтом 1,4л 20см кремово-коричневий Арт25055","Більше 10","Миски",358.27,466,0,{"$f":"G874*I874","v":0}]
[null,1111122541,24532,"Миска Trixie керамічна з принтом лапи 0,8л 16см коричн-сіра Арт24532","Більше 10","Миски",238.01,309,0,{"$f":"G875*I875","v":0}]
[null,1111183733,24360,"Миска Trixie керамічна з резиновою основою 0,4 л 12 см сіра Арт24360","Більше 10","Миски",177.88,231,0,{"$f":"G876*I876","v":0}]
[null,1111150266,24651,"Миска Trixie керамічна пласка з принтом 0,2 л 15 см біла Арт24651","Більше 10","Миски",177.88,231,0,{"$f":"G877*I877","v":0}]
[null,1111112059,60808,"Миска Trixie Хані і Хупер керамічна для гризунів 250 мл 11 см Арт60808","Більше 10","Обладнання для кліток",148,192,0,{"$f":"G878*I878","v":0}]
[null,1111170376,24807,"Миска д/котів Котик ергономічна керамічна 0,15л d=14см арт.24807","Більше 100","Миски",238.01,300,0,{"$f":"G879*I879","v":0}]
[null,1111170375,24802,"Миска д/котів пласка та широка керамічна 0,6л d=23см арт.24802","Менше 10","Миски",358.27,499,0,{"$f":"G880*I880","v":0}]
[null,1111170398,25187,"Миска д/котів подвійн.біла мелам/метал 2*0,2лd=13см27*3*14см арт.25187","Більше 10","Миски",334.47,421,0,{"$f":"G881*I881","v":0}]
[null,1111170401,24981,"Миска д/котів подвійн.сіра метал/силік.2*0,3лd=16см47*3*26см арт.24981","Більше 10","Миски",682.84,860,0,{"$f":"G882*I882","v":0}]
[null,1111170373,24430,"Миска д/котів прозора пластик гумова основа 0,25л d=12см","Менше 10","Миски",60.13,76,0,{"$f":"G883*I883","v":0}]
[null,1111170418,25214,"Миска д/котыв пласка зелена емаль/метал 0,2л d=12см аот.25214","Більше 10","Миски",131.53,166,0,{"$f":"G884*I884","v":0}]
[null,1111170372,24355,"Миска д/соб. BE NORDIC Moin сіра кермічна 1,4л d=20см арт.24355","Менше 10","Миски",385.91,544.41999999999996,0,{"$f":"G885*I885","v":0}]
[null,1111170390,25063,"Миска д/соб. BE NORDIC біла меламін/метал 0,2л d=14см арт.25063","Більше 10","Миски",247.26,311.54000000000002,0,{"$f":"G886*I886","v":0}]
[null,1111170367,24300,"Миска д/соб. BE NORDIC блакитна керамічна 0,2л d=16см арт.24300","Менше 10","Миски",339.69,428.01,0,{"$f":"G887*I887","v":0}]
[null,1111170370,24301,"Миска д/соб. BE NORDIC синя/бежева керамічна 0,5л d=20см арт.24301","Більше 10","Миски",526.86,663.85,0,{"$f":"G888*I888","v":0}]
[null,1111170371,24302,"Миска д/соб. BE NORDIC синя/бежева керамічна 0,8л d=25см арт.24302","Більше 10","Миски",776.43,978.3,0,{"$f":"G889*I889","v":0}]
[null,1111170419,25200,"Миска д/соб. Брахіцефалів метал 0,25л d=19см арт.25200","Менше 10","Миски",238.01,300,0,{"$f":"G890*I890","v":0}]
[null,1111170420,25201,"Миска д/соб. Брахіцефалів метал 0,7л d=27см арт.25201","Більше 10","Миски",418.4,527,0,{"$f":"G891*I891","v":0}]
[null,1111170415,25211,"Миска д/соб. зелена емаль/метал 0,3л d=12см арт.25211","Більше 10","Миски",147.82,186,0,{"$f":"G892*I892","v":0}]
[null,1111170416,25212,"Миска д/соб. зелена емаль/метал 0,9л d=17см арт.25212","Більше 10","Миски",238.01,300,0,{"$f":"G893*I893","v":0}]
[null,1111170417,25213,"Миска д/соб. зелена емаль/метал 1,9л d=21см арт.25213","Більше 10","Миски",328.21,414,0,{"$f":"G894*I894","v":0}]
[null,1111170386,25023,"Миска д/соб. керамічна біла 0,4л d=13см арт.25023","Більше 10","Миски",147.82,186,0,{"$f":"G895*I895","v":0}]
[null,1111170387,25024,"Миска д/соб. керамічна біла 0,9л d=16см арт.25024","Більше 10","Миски",207.95,262,0,{"$f":"G896*I896","v":0}]
[null,1111170388,25025,"Миска д/соб. керамічна біла 1,6л d=20см арт.25025","Більше 10","Миски",358.27,451,0,{"$f":"G897*I897","v":0}]
[null,1111170384,25021,"Миска д/соб. керамічна чорна 0,9л d=16см арт.25021","Менше 10","Миски",207.95,262,0,{"$f":"G898*I898","v":0}]
[null,1111170385,25022,"Миска д/соб. керамічна чорна 1,6л d=20см арт.25022","Більше 10","Миски",358.27,451,0,{"$f":"G899*I899","v":0}]
[null,1111170374,24755,"Миска д/соб. металева 2,4л d=25см арт.24755","Більше 10","Миски",308.49,388.7,0,{"$f":"G900*I900","v":0}]
[null,1111170399,25273,"Миска д/соб. на гумовій основі з малюнком метал 2л d=20см арт.25273","Більше 10","Миски",238.01,299,0,{"$f":"G901*I901","v":0}]
[null,1111170391,25108,"Миска д/соб. на гумовій основі керамічна 1л d=17см арт.25108","Більше 10","Миски",508.6,730,0,{"$f":"G902*I902","v":0}]
[null,1111170378,24951,"Миска д/соб. на гумовій основі пластикова 0,5л d=16см арт.24951","Менше 10","Миски",102.72,129,0,{"$f":"G903*I903","v":0}]
[null,1111170379,24952,"Миска д/соб. на гумовій основі пластикова 0,75л d=16см арт.24952","Більше 10","Миски",147.82,186,0,{"$f":"G904*I904","v":0}]
[null,1111170380,24953,"Миска д/соб. на гумовій основі пластикова 1,5л d=20см арт.24953","Більше 10","Миски",238.01,300,0,{"$f":"G905*I905","v":0}]
[null,1111170395,25144,"Миска д/соб. на гумовій основі сіра металева 0,9л d=23см арт.25144","Більше 10","Миски",247.26,311.54000000000002,0,{"$f":"G906*I906","v":0}]
[null,1111170389,25031,"Миска д/соб. Повільне годування термопл. гума 0,45л d=20см арт.25031","Менше 10","Миски",102.72,129,0,{"$f":"G907*I907","v":0}]
[null,1111170381,24967,"Миска д/соб. подвійна пластик 2*0.2л d=10cм 25*4*13см арт.24967","Більше 10","Миски",121.32,152.86000000000001,0,{"$f":"G908*I908","v":0}]
[null,1111170343,34952,"Миска д/соб.Lick n SnackПовільнеГодуван.термопл.гума20*20см арт. 34952","Менше 10","Миски",268.08,338,0,{"$f":"G909*I909","v":0}]
[null,1111170403,25006,"Миска д/соб.наРегул.підставці біла мелам/метал2шт*1,6лd=21см арт.25006","Більше 10","Миски",2277.3000000000002,3199,0,{"$f":"G910*I910","v":0}]
[null,1111170404,25007,"Миска д/соб.наРегул.підставці біла мелам/метал2шт*2,4лd=25см арт.25007","Менше 10","Миски",2651.66,3728,0,{"$f":"G911*I911","v":0}]
[null,1111170414,25192,"Миска д/соб.Повіл.годув.сіра пласт./термопл.гума0,25л21*14см арт.25192","Більше 10","Миски",238.01,300,0,{"$f":"G912*I912","v":0}]
[null,1111170405,25285,"Миска д/соб.Повіл.годув.сіра/блакит.пласт/терм.гум0,5лd=23см арт.25285","Більше 10","Миски",388.34,489,0,{"$f":"G913*I913","v":0}]
[null,1111170413,25191,"Миска д/соб.Повіл.годув.сіраПластик/термопл.гума0,35л15*15см арт.25191","Більше 10","Миски",177.88,224,0,{"$f":"G914*I914","v":0}]
[null,1111170411,25029,"Миска д/соб.Повільне годув.сіра пластик/терм.гума0,45лd=23см арт.25029","Більше 10","Миски",298.14,376,0,{"$f":"G915*I915","v":0}]
[null,1111170410,24520,"Миска д/соб.Повільне годув.сіра/блакит.керамік 0,45л d=14см арт.24520","Менше 10","Миски",388.34,489,0,{"$f":"G916*I916","v":0}]
[null,1111170412,24521,"Миска д/соб.Повільне годув.сіра/блакит.кераміка 0,9л d=17см арт.24521","Більше 10","Миски",538.66,679,0,{"$f":"G917*I917","v":0}]
[null,1111170397,25184,"Миска д/соб.подвійн.біла мелам/метал 2*0,4л d=14см 32*6*17см арт.25184","Більше 10","Миски",413.64,586.57000000000005,0,{"$f":"G918*I918","v":0}]
[null,1111150269,25053,"Миска д/собак Pet s Home 0,3л/12см кераміка, крем./беж","Більше 10","Миски",147.82,186,0,{"$f":"G919*I919","v":0}]
[null,1111150270,25054,"Миска д/собак Pet s Home 0,8л/16см кераміка крем./беж","Менше 10","Миски",207.95,261,0,{"$f":"G920*I920","v":0}]
[null,1111150267,25050,"Миска д/собак Pet sHome 0,3л/12см кераміка крем./блакит","Більше 10","Миски",147.82,186,0,{"$f":"G921*I921","v":0}]
[null,1111150268,25051,"Миска д/собак Pet sHome 0,8л/16см кераміка крем./блакит","Більше 10","Миски",207.95,261,0,{"$f":"G922*I922","v":0}]
[null,1111170363,34954,"Миска д/цуц.Junior для повільн.годув.блакитна пласт.d=15см арт.34954","Більше 100","Миски",102.72,129,0,{"$f":"G923*I923","v":0}]
[null,1111170364,34958,"Миска д/цуц.Junior для повільн.годув.блакитна пласт.d=21см арт.34958","Більше 10","Миски",207.95,262,0,{"$f":"G924*I924","v":0}]
[null,1111170392,25127,"Миска д/цуценят Junior керамічна 0,8л d=16см арт.25127","Більше 10","Миски",238.01,321,0,{"$f":"G925*I925","v":0}]
[null,1111163176,25126,"Миска для цуценят 0,3 л / 12 см керамічна","Більше 10","Миски",147.82,186,0,{"$f":"G926*I926","v":0}]
[null,1111156287,24770,"Миска керам. д/коротконос. котів, 0,3л/?15см, синя/біла","Більше 10","Миски",177.88,224,0,{"$f":"G927*I927","v":0}]
[null,12320,"24652*****","Миска кераміка з таксою 0,8л/16см","Більше 10","Миски",131.53,171,0,{"$f":"G928*I928","v":0}]
[null,1111156893,24353,"Миска керамічна BE NORDIC, 0,3л/12см, сіра","Більше 10","Миски",149.05000000000001,188,0,{"$f":"G929*I929","v":0}]
[null,1111146884,25120,"Миска керамічна Zentangle для котів 0,3л/12см біла/чорна","Більше 10","Миски",147.82,185,0,{"$f":"G930*I930","v":0}]
[null,1111127547,24498,"Миска керамічна для котів  Cat  0,2л/13см","Більше 10","Миски",147.82,186,0,{"$f":"G931*I931","v":0}]
[null,1111140988,24650,"Миска керамічна для котів  Mimi  0,3л/12см","Більше 10","Миски",147.82,185,0,{"$f":"G932*I932","v":0}]
[null,1111134118,24793,"Миска керамічна для котів  Thanks for Service  0,3л/11см","Більше 10","Миски",147.82,185,0,{"$f":"G933*I933","v":0}]
[null,1111115192,2467,"Миска керамічна для котів 0,25л/12,5см","Більше 10","Миски",117.75,149,0,{"$f":"G934*I934","v":0}]
[null,1111138498,24494,"Миска керамічна для котів 0,25л/12см у формі котячої мордочки","Більше 10","Миски",147.82,186,0,{"$f":"G935*I935","v":0}]
[null,1111127552,24499,"Миска керамічна для котів 0,25л/13см з чорним котиком","Більше 10","Миски",117.75,149,0,{"$f":"G936*I936","v":0}]
[null,1111116026,4007,"Миска керамічна для котів 0,2л/11,5см","Більше 10","Миски",147.82,185,0,{"$f":"G937*I937","v":0}]
[null,312022,"4008_1шт","Миска керамічна для котів 0,2л/11,5см","Більше 10","Миски",131.53,166,0,{"$f":"G938*I938","v":0}]
[null,1111122227,24492,"Миска керамічна для котів 0,2л/13см з рибкою","Більше 100","Миски",102.72,129,0,{"$f":"G939*I939","v":0}]
[null,1111138499,24495,"Миска керамічна для котів 0,2л/15см овальна","Більше 10","Миски",147.82,185,0,{"$f":"G940*I940","v":0}]
[null,1111140989,24658,"Миска керамічна для котів 0,35л/12,5см з котиком і рибкою","Більше 10","Миски",149.05000000000001,188,0,{"$f":"G941*I941","v":0}]
[null,11409,4009,"Миска керамічна для котів 0,3л/11см","Більше 10","Миски",131.53,165,0,{"$f":"G942*I942","v":0}]
[null,1111138491,24799,"Миска керамічна для котів 0,3л/11см срібна/біла","Більше 10","Миски",207.95,261,0,{"$f":"G943*I943","v":0}]
[null,1111122597,60733,"Миска керамічна для кроликів 250мл/11см","Більше 10","Обладнання для кліток",147.82,182,0,{"$f":"G944*I944","v":0}]
[null,1111122600,60743,"Миска керамічна для кроликів 400мл/13см яскрава","Менше 10","Обладнання для кліток",147.82,183,0,{"$f":"G945*I945","v":0}]
[null,1111122599,60742,"Миска керамічна для морських свинок 200мл/10см яскрава","Більше 10","Обладнання для кліток",101.47,125,0,{"$f":"G946*I946","v":0}]
[null,1111136963,"25027*****СПЕЦЦЕНА","Миска керамічна для собак  King of Dogs  1л/18см з нерівним бортом","Більше 10","Миски",155.34,202,0,{"$f":"G947*I947","v":0}]
[null,1111122540,24531,"Миска керамічна для собак 0,3л/12см з лапками коричнева","Більше 10","Миски",147.82,186,0,{"$f":"G948*I948","v":0}]
[null,1111138494,"25083 Trixie","Миска керамічна для собак 0,3л/12см срібна/біла","Більше 10","Миски",191.8,241,0,{"$f":"G949*I949","v":0}]
[null,1111140994,24777,"Миска керамічна для собак 0,4л/12см на гумовій основі чорна з лапкою","Більше 10","Миски",268.08,337,0,{"$f":"G950*I950","v":0}]
[null,1111122598,60741,"Миска керамічна для хом яків 100мл/9см яскрава","Більше 10","Обладнання для кліток",87.69,108,0,{"$f":"G951*I951","v":0}]
[null,1111122595,60731,"Миска керамічна для хом яків 80мл/8см","Більше 10","Обладнання для кліток",88.94,111,0,{"$f":"G952*I952","v":0}]
[null,1111146893,25123,"Миска керамічна з гілочками біла/ягідка 0,3л/12см","Більше 10","Миски",136.34,172,0,{"$f":"G953*I953","v":0}]
[null,7467,4014,"Миска керамічна подвійна 0,15л/11см","Більше 10","Миски",298.14,375,0,{"$f":"G954*I954","v":0}]
[null,8045,24840,"Миска металева 0,2л/10см","Більше 10","Миски",33.82,41,0,{"$f":"G955*I955","v":0}]
[null,10354,24841,"Миска металева 0,45л/12см","Більше 10","Миски",46.35,59,0,{"$f":"G956*I956","v":0}]
[null,8111,24842,"Миска металева 0,75л/15см","Більше 10","Миски",57.62,73,0,{"$f":"G957*I957","v":0}]
[null,8112,24843,"Миска металева 1,8л/20см","Більше 10","Миски",101.47,127,0,{"$f":"G958*I958","v":0}]
[null,8231,24844,"Миска металева 2,8л/24см","Менше 10","Миски",131.53,165,0,{"$f":"G959*I959","v":0}]
[null,8876,24845,"Миска металева 4,7л/28см","Більше 10","Миски",177.88,223,0,{"$f":"G960*I960","v":0}]
[null,11815,24870,"Миска металева для котів 0,2л/11см на гумовій основі з рибками","Менше 10","Миски",67.650000000000006,86,0,{"$f":"G961*I961","v":0}]
[null,1111119252,2468,"Миска металева для котів 0,2л/13см","Менше 10","Миски",40.090000000000003,51,0,{"$f":"G962*I962","v":0}]
[null,9590,5497,"Миска металева для птахів 0,3 л з гвинтовим кріпленням","Більше 10","Обладнання для кліток",102.72,127,0,{"$f":"G963*I963","v":0}]
[null,8123,5494,"Миска металева для птахів 0,3 л підвісна","Більше 10","Обладнання для кліток",102.72,127,0,{"$f":"G964*I964","v":0}]
[null,5124,24851,"Миска металева для собак 0,45л/14см на гумовій основі","Більше 10","Миски",101.47,127,0,{"$f":"G965*I965","v":0}]
[null,5123,24852,"Миска металева для собак 0,7л/16см на гумовій основі","Більше 10","Миски",117.75,149,0,{"$f":"G966*I966","v":0}]
[null,8469,24853,"Миска металева для собак 0,9л/17см на гумовій основі","Більше 10","Миски",147.82,186,0,{"$f":"G967*I967","v":0}]
[null,1111136648,25073,"Миска металева для собак 1,7л/21см на гумовій основі","Менше 10","Миски",238.01,299,0,{"$f":"G968*I968","v":0}]
[null,4636,24854,"Миска металева для собак 1,8л/20см на гумовій основі","Менше 10","Миски",207.95,261,0,{"$f":"G969*I969","v":0}]
[null,1111136647,25072,"Миска металева для собак 1л/17см на гумовій основі","Більше 10","Миски",147.82,185,0,{"$f":"G970*I970","v":0}]
[null,1111136649,25074,"Миска металева для собак 2,5л/24см на гумовій основі","Менше 10","Миски",358.27,450,0,{"$f":"G971*I971","v":0}]
[null,4637,24855,"Миска металева для собак 2,8л/24см на гумовій основі","Менше 10","Миски",268.08,337,0,{"$f":"G972*I972","v":0}]
[null,8120,2488,"Миска металева для спанієля 0,9л/15см на гумовій основі","Більше 10","Миски",147.82,186,0,{"$f":"G973*I973","v":0}]
[null,11478,25282,"Миска металева для цуценят 4,0л/38см","Менше 10","Миски",388.34,488,0,{"$f":"G974*I974","v":0}]
[null,1111134433,"25244*****СПЕЦЦЕНА","Миска металева з пласт. покриттям д/собак 1,4л/21см на гумовій основі","Більше 10","Миски",358.27,466,0,{"$f":"G975*I975","v":0}]
[null,1111135222,25270,"Миска металева з пластиковим покриттям для котів 0,3л/12см на гумовій","Більше 10","Миски",147.82,186,0,{"$f":"G976*I976","v":0}]
[null,1111134430,25241,"Миска металева з пластиковим покриттям для собак 0,25л/12см на гумовій","Більше 10","Миски",147.82,186,0,{"$f":"G977*I977","v":0}]
[null,1111134431,25242,"Миска металева з пластиковим покриттям для собак 0,4л/14см на гумовій","Більше 10","Миски",147.82,186,0,{"$f":"G978*I978","v":0}]
[null,1111146803,25255,"Миска металева з силіконовим покриттям 0,4л/14см біла/сіра","Менше 10","Миски",207.95,261,0,{"$f":"G979*I979","v":0}]
[null,1111115227,24761,"Миска пластикова для води та корму 0,6 л автоматична","Більше 10","Автогодівниці, автопоїлки",117.75,149,0,{"$f":"G980*I980","v":0}]
[null,1111115118,24762,"Миска пластикова для води та корму 1,5 л автоматична","Більше 10","Автогодівниці, автопоїлки",207.95,261,0,{"$f":"G981*I981","v":0}]
[null,1111134435,25010,"Миска силіконова для подорожей 0,25л/11см","Більше 100","Миски, поїлки для подорожей",87.69,111,0,{"$f":"G982*I982","v":0}]
[null,1111126348,25011,"Миска силіконова для подорожей 0,5л/14см","Більше 10","Миски, поїлки для подорожей",117.75,149,0,{"$f":"G983*I983","v":0}]
[null,1111170406,25039,"МискаД/соб.ВуликД/повіл.годув.сір/блак.пласт/терм.гумаd=30см арт.25039","Більше 10","Миски",672.7,848,0,{"$f":"G984*I984","v":0}]
[null,1111114207,24721,"Миски пластикові для собак 0,25л/9см+0,3л/11см з піддоном","Більше 10","Миски",298.14,375,0,{"$f":"G985*I985","v":0}]
[null,1111134797,45798,"Мишка бігаюча 5,5 см","Більше 10","Іграшки для котів",207.95,256,0,{"$f":"G986*I986","v":0}]
[null,769,"4115_1шт","Мишка в шарі 6 см","Більше 100","Іграшки для котів",60.13,74,0,{"$f":"G987*I987","v":0}]
[null,1111117382,"4089_1шт","Мишка вібруюча хутряна 7-10 см","Більше 100","Іграшки для котів",88.94,111,0,{"$f":"G988*I988","v":0}]
[null,1111117426,4128,"Мишка з лазарем на батарейці 7 см","Менше 10","Іграшки для котів",238.01,294,0,{"$f":"G989*I989","v":0}]
[null,1111141783,45579,"Мишка з серцем плюшева 11 см бежева","Менше 10","Іграшки для котів",117.75,145,0,{"$f":"G990*I990","v":0}]
[null,3376,4092,"Мишка заводна 7 см","Більше 100","Іграшки для котів",87.69,108,0,{"$f":"G991*I991","v":0}]
[null,1111136655,35170,"Мишка латексна яскрава в горошок 8 см","Менше 10","Іграшки для собак",87.69,110,0,{"$f":"G992*I992","v":0}]
[null,1111114595,4103,"Мишка на вудочці 100 см","Більше 100","Іграшки для котів",101.47,126,0,{"$f":"G993*I993","v":0}]
[null,1111119769,4547,"Мишка на вудочці 47 см  Squieky","Більше 10","Іграшки для котів",177.88,220,0,{"$f":"G994*I994","v":0}]
[null,1111114596,4105,"Мишка на вудочці 50 см","Більше 100","Іграшки для котів",76.41,94,0,{"$f":"G995*I995","v":0}]
[null,1111119993,4065,"Мишка на вудочці 8см/190 см","Більше 100","Іграшки для котів",65.14,81,0,{"$f":"G996*I996","v":0}]
[null,1111117855,"4516_1шт","Мишка на паличці 50 см","Більше 100","Іграшки для котів",45.1,55,0,{"$f":"G997*I997","v":0}]
[null,1111143746,45758,"Мишка паперова пряжа з брязкальцем 5 см","Більше 10","Іграшки для котів",101.47,125,0,{"$f":"G998*I998","v":0}]
[null,1111134792,45785,"Мишка плюшева коричнева з пищавкою 8 см","Більше 10","Іграшки для котів",129.03,159,0,{"$f":"G999*I999","v":0}]
[null,1111125296,45735,"Мишка плюшева сіра з котячою м ятою 7 см","Більше 100","Іграшки для котів",60.13,74,0,{"$f":"G1000*I1000","v":0}]
[null,1111134793,45788,"Мишка плюшева сіра з пищавкою 15 см","Більше 10","Іграшки для котів",238.01,294,0,{"$f":"G1001*I1001","v":0}]
[null,1111131806,"45808_1шт","Мишка сизаль 5 см","Більше 100","Іграшки для котів",23.8,29,0,{"$f":"G1002*I1002","v":0}]
[null,1111126987,36030,"Мишка текстильна з латочками 19 см","Більше 10","Іграшки для собак",207.95,256,0,{"$f":"G1003*I1003","v":0}]
[null,1111135277,"4139_1шт","Мишка хутряна з дзвіночком 4 см","Більше 10","Іграшки для котів",30.06,37,0,{"$f":"G1004*I1004","v":0}]
[null,1111113519,"4116_1шт","Мишка хутряна з пищавкою 9 см","Більше 100","Іграшки для котів",42.59,53,0,{"$f":"G1005*I1005","v":0}]
[null,12249,4052,"Мишка хутряна сіра 5 см","Більше 100","Іграшки для котів",25.05,30,0,{"$f":"G1006*I1006","v":0}]
[null,8089,"4085_1шт","Мишка хутряна сіра/біла 5 см","Більше 10","Іграшки для котів",30.06,37,0,{"$f":"G1007*I1007","v":0}]
[null,1111122323,"4554_1шт","Мишка-м ячик хутряна 4,5 см","Більше 10","Іграшки для котів",62.64,77,0,{"$f":"G1008*I1008","v":0}]
[null,1111115696,"4199_1шт","Мишка-пищавка з чіпом 6 см","Більше 10","Іграшки для котів",155.34,192,0,{"$f":"G1009*I1009","v":0}]
[null,9742,4074,"Мишка-сизаль 10 см","Більше 100","Іграшки для котів",76.41,94,0,{"$f":"G1010*I1010","v":0}]
[null,1111143638,45749,"Мишки з котячої м яти (2 шт.) 5 см","Більше 100","Іграшки для котів",76.41,94,0,{"$f":"G1011*I1011","v":0}]
[null,1111133708,62151,"Міст дерев яний для гризунів 22?10 см","Більше 10","Обладнання для кліток",101.47,125,0,{"$f":"G1012*I1012","v":0}]
[null,1111121349,62152,"Міст дерев яний для гризунів 28?17 см","Більше 10","Обладнання для кліток",147.82,182,0,{"$f":"G1013*I1013","v":0}]
[null,1111121350,6221,"Міст дерев яний підвісний для гризунів 55,5?7 см","Більше 10","Обладнання для кліток",147.82,183,0,{"$f":"G1014*I1014","v":0}]
[null,1111117663,6274,"Міст дерев яний підвісний з канатами для гризунів 29?25?9 см","Менше 10","Обладнання для кліток",268.08,331,0,{"$f":"G1015*I1015","v":0}]
[null,1111163142,36044,"Морж BE NORDIC, 28 см, поліестер","Менше 10","Іграшки для собак",268.08,331,0,{"$f":"G1016*I1016","v":0}]
[null,1111114763,3398,"Морквинка вінілова 20 см","Більше 10","Іграшки для собак",131.53,163,0,{"$f":"G1017*I1017","v":0}]
[null,1111118202,4055,"Набір  Парад мишей із дзвіночком  5 см (24 шт.)","Більше 10","Іграшки для котів",751.62,929,0,{"$f":"G1018*I1018","v":0}]
[null,1111125073,35267,"Набір Веселі кури латексні 14 см (3 шт.)","Більше 10","Іграшки для собак",394.6,488,0,{"$f":"G1019*I1019","v":0}]
[null,11274,3503,"Набір іграшок  Longies  латексних 18 см (3 шт.)","Більше 10","Іграшки для собак",353.26,437,0,{"$f":"G1020*I1020","v":0}]
[null,1111119408,3513,"Набір іграшок-міні латексних (4 шт.)","Більше 10","Іграшки для собак",405.88,501,0,{"$f":"G1021*I1021","v":0}]
[null,13001,4523,"Набір м ячиків (6 шт.)","Більше 10","Іграшки для котів",115.25,150,0,{"$f":"G1022*I1022","v":0}]
[null,1111118319,4132,"Набір м ячиків 4 см (3 шт.)","Більше 100","Іграшки для котів",62.64,78,0,{"$f":"G1023*I1023","v":0}]
[null,1111122308,4521,"Набір м ячиків пластикових із дзвіночком (4 шт.)","Більше 10","Іграшки для котів",62.64,78,0,{"$f":"G1024*I1024","v":0}]
[null,1111118323,4109,"Набір м ячиків хутряних леопард 3,5 см (4 шт.)","Більше 10","Іграшки для котів",76.41,94,0,{"$f":"G1025*I1025","v":0}]
[null,1111156357,24536,"Набір мисок керамічних Eat on Feet 2 шт. ? 0.6 л/d15 cм","Менше 10","Миски",598.79,753,0,{"$f":"G1026*I1026","v":0}]
[null,1111156356,24535,"Набір мисок керамічних Eat on Feet, 2шт. 0.25л/13см","Менше 10","Миски",448.47,565,0,{"$f":"G1027*I1027","v":0}]
[null,1111120480,4503,"Набір мишей хутряних з м ятою 5 см (6 шт.)","Більше 10","Іграшки для котів",191.66,236,0,{"$f":"G1028*I1028","v":0}]
[null,1111140932,15555,"Набір нашийн д/цуц M-L 22-35см/10мм (6шт:черв,зел,жовт,фіол,блак,чорн)","Менше 10","Нашийники, нашийники-зашморги",207.95,256,0,{"$f":"G1029*I1029","v":0}]
[null,1111140931,15552,"Набір нашийн д/цуц S-M 17-25см/10мм (6шт:кор,беж,срібн,рож,блак,оранж)","Менше 10","Нашийники, нашийники-зашморги",207.95,256,0,{"$f":"G1030*I1030","v":0}]
[null,1111115341,15551,"Набір нашийн д/цуц S-M 17-25см/10мм (6шт:черв,зел,жовт,фіол,блак,чорн)","Більше 10","Нашийники, нашийники-зашморги",207.95,256,0,{"$f":"G1031*I1031","v":0}]
[null,1111140933,15556,"Набір нашийн. д/цуценят M-L 22-35см/10 мм (6 шт, кольори в ассортим)","Менше 10","Нашийники, нашийники-зашморги",207.95,256,0,{"$f":"G1032*I1032","v":0}]
[null,1111125076,35266,"Набір Смайлики латексні 6 см (4 шт.)","Більше 10","Іграшки для собак",305.66000000000003,378,0,{"$f":"G1033*I1033","v":0}]
[null,1111170320,15581,"НабірД/цуц.КовдраТаДвіІграш.полі/котон/терм.гума22см/13см3шт арт.15581","Більше 10","Іграшки для собак",370.89,467.32,0,{"$f":"G1034*I1034","v":0}]
[null,1111150255,17627,"Намордник Trixie для собак брахіцефальних порід M 40см арт.17627","Більше 10","Намордники",207.95,257,0,{"$f":"G1035*I1035","v":0}]
[null,1111150254,17626,"Намордник Trixie для собак короткомордих пород S–M сірий Арт17626","Більше 10","Намордники",167.86,218,0,{"$f":"G1036*I1036","v":0}]
[null,1111148058,17593,"Намордник для захисту від отрути S-M 22 см / 18-40 см, нейлон","Менше 10","Намордники",222.98,275,0,{"$f":"G1037*I1037","v":0}]
[null,1111148056,17591,"Намордник для захисту від отрути XS 14 см / 18-26 см нейлон","Менше 10","Намордники",200.43,247,0,{"$f":"G1038*I1038","v":0}]
[null,1111148057,17592,"Намордник для захисту від отрути XS-S 15 см / 18-32 см, нейлон","Менше 10","Намордники",200.43,247,0,{"$f":"G1039*I1039","v":0}]
[null,1111148059,17594,"Намордник для захисту від отрути, M-L 27 см / 22-46 см, нейлон","Менше 10","Намордники",245.53,304,0,{"$f":"G1040*I1040","v":0}]
[null,1111115539,19264,"Намордник закритий нейлоновий L 22-32см/26-42см","Менше 10","Намордники",110.24,136,0,{"$f":"G1041*I1041","v":0}]
[null,23466,19265,"Намордник закритий нейлоновий L-XL 22-34см/28-46см","Менше 10","Намордники",110.24,136,0,{"$f":"G1042*I1042","v":0}]
[null,6258,19262,"Намордник закритий нейлоновий M 14-22см/18-44см","Менше 10","Намордники",98.96,123,0,{"$f":"G1043*I1043","v":0}]
[null,1111115540,19263,"Намордник закритий нейлоновий M 20-28см/22-38см","Більше 10","Намордники",110.24,136,0,{"$f":"G1044*I1044","v":0}]
[null,7258,19261,"Намордник закритий нейлоновий S 14-17см/21-31см","Менше 10","Намордники",87.69,108,0,{"$f":"G1045*I1045","v":0}]
[null,1111111668,1922,"Намордник нейлоновий S-M 20см/15-36см","Більше 10","Намордники",87.69,108,0,{"$f":"G1046*I1046","v":0}]
[null,1111111407,1921,"Намордник нейлоновий XS-S 16см/14-28см","Більше 10","Намордники",76.41,94,0,{"$f":"G1047*I1047","v":0}]
[null,1111166681,1920,"Намордник нейлоновий XXS 12см/12-28см","Менше 10","Намордники",65.14,81,0,{"$f":"G1048*I1048","v":0}]
[null,1111113029,1923,"Намордник нейлоновий М 24см/16-40см","Менше 10","Намордники",98.96,123,0,{"$f":"G1049*I1049","v":0}]
[null,1111115146,17605,"Намордник пластиковий L 26 см","Більше 10","Намордники",155.34,192,0,{"$f":"G1050*I1050","v":0}]
[null,1111115141,17603,"Намордник пластиковий M 20 см","Більше 10","Намордники",132.79,164,0,{"$f":"G1051*I1051","v":0}]
[null,1111115144,17604,"Намордник пластиковий M 22 см","Більше 10","Намордники",144.06,178,0,{"$f":"G1052*I1052","v":0}]
[null,1111115140,17602,"Намордник пластиковий S 17 см","Більше 10","Намордники",121.51,151,0,{"$f":"G1053*I1053","v":0}]
[null,1111115145,17606,"Намордник пластиковий XL 31 см","Більше 10","Намордники",177.88,219,0,{"$f":"G1054*I1054","v":0}]
[null,1111115142,17607,"Намордник пластиковий XL 35 см","Менше 10","Намордники",200.43,249,0,{"$f":"G1055*I1055","v":0}]
[null,1111115143,17601,"Намордник пластиковий XS 14 см","Більше 10","Намордники",110.24,136,0,{"$f":"G1056*I1056","v":0}]
[null,1111146831,17613,"Намордник силікон чорний M-L 22 см","Менше 10","Намордники",538.66,666,0,{"$f":"G1057*I1057","v":0}]
[null,1111114702,19281,"Намордник-петля нейлоновий L 18-30см/16-28см","Більше 10","Намордники",181.64,224,0,{"$f":"G1058*I1058","v":0}]
[null,1111114701,19282,"Намордник-петля нейлоновий XL 23-34см/20-30см","Менше 10","Намордники",207.95,256,0,{"$f":"G1059*I1059","v":0}]
[null,1111114703,19283,"Намордник-петля нейлоновий XXL 28-38см/22-35см","Менше 10","Намордники",207.95,256,0,{"$f":"G1060*I1060","v":0}]
[null,10966,4026,"Наповнювач для котів Fresh n Easy  гранульований 5 л.","Більше 10","Наповнювачі силікагелеві",319.58,355,0,{"$f":"G1061*I1061","v":0}]
[null,10221,4020,"Наповнювач для котів Fresh n Easy  гранульований 8 л.","Більше 10","Наповнювачі силікагелеві",513.33000000000004,570,0,{"$f":"G1062*I1062","v":0}]
[null,1111163569,1988523,"Нашийник  Premium  L: 49-55 см/25 мм з неопреновою підкладкою, камуфля","Менше 10","Нашийники, нашийники-зашморги",410.17,507,0,{"$f":"G1063*I1063","v":0}]
[null,1111163568,1988423,"Нашийник  Premium  M-L: 42-48 см/20 мм з неопреновою підкладкою, камуф","Менше 10","Нашийники, нашийники-зашморги",337.38,417,0,{"$f":"G1064*I1064","v":0}]
[null,1111132100,"12224  Тrixie","Нашийник  Safer Life Silver  з лапками світловідбиваючий L-XL 40-65см/","Більше 10","Нашийники, нашийники-зашморги",207.95,256,0,{"$f":"G1065*I1065","v":0}]
[null,1111132099,"12223  Тrixie","Нашийник  Safer Life Silver  з лапками світловідбиваючий M-L 35-55см/2","Більше 10","Нашийники, нашийники-зашморги",167.86,207,0,{"$f":"G1066*I1066","v":0}]
[null,1111132098,12222,"Нашийник  Safer Life Silver  з лапками світловідбиваючий S-M 30-45см/1","Менше 10","Нашийники, нашийники-зашморги",141.56,175,0,{"$f":"G1067*I1067","v":0}]
[null,1111132097,12221,"Нашийник  Safer Life Silver  з лапками світловідбиваючий XS-S 22-35см/","Більше 10","Нашийники, нашийники-зашморги",129.03,159,0,{"$f":"G1068*I1068","v":0}]
[null,1111150519,202901,"Нашийник Premium з метал.ланцюг L–XL:45–70см/25мм чорн.","Менше 10","Нашийники, нашийники-зашморги",234.26,288,0,{"$f":"G1069*I1069","v":0}]
[null,1111150688,201716,"Нашийник Premium нейлон L–XL:40–65см/25мм графіт","Менше 10","Нашийники, нашийники-зашморги",181.64,224,0,{"$f":"G1070*I1070","v":0}]
[null,1111150689,201717,"Нашийник Premium нейлон L–XL:40–65см/25мм зелений","Менше 10","Нашийники, нашийники-зашморги",167.53,207,0,{"$f":"G1071*I1071","v":0}]
[null,1111150685,201713,"Нашийник Premium нейлон L–XL:40–65см/25мм індиго","Менше 10","Нашийники, нашийники-зашморги",167.53,207,0,{"$f":"G1072*I1072","v":0}]
[null,1111150686,201714,"Нашийник Premium нейлон L–XL:40–65см/25мм карамель","Більше 10","Нашийники, нашийники-зашморги",167.53,207,0,{"$f":"G1073*I1073","v":0}]
[null,1111150691,201719,"Нашийник Premium нейлон L–XL:40–65см/25мм оливковий","Менше 10","Нашийники, нашийники-зашморги",167.53,207,0,{"$f":"G1074*I1074","v":0}]
[null,1111150684,201711,"Нашийник Premium нейлон L–XL:40–65см/25мм фуксія","Менше 10","Нашийники, нашийники-зашморги",181.64,224,0,{"$f":"G1075*I1075","v":0}]
[null,1111151049,201703,"Нашийник Premium нейлон L–XL:40–65см/25мм червоний","Менше 10","Нашийники, нашийники-зашморги",181.64,224,0,{"$f":"G1076*I1076","v":0}]
[null,1111150678,201616,"Нашийник Premium нейлон M–L:35–55см/20мм графіт","Менше 10","Нашийники, нашийники-зашморги",129.03,159,0,{"$f":"G1077*I1077","v":0}]
[null,1111150675,201613,"Нашийник Premium нейлон M–L:35–55см/20мм індиго","Менше 10","Нашийники, нашийники-зашморги",119.01,147,0,{"$f":"G1078*I1078","v":0}]
[null,1111150681,201619,"Нашийник Premium нейлон M–L:35–55см/20мм оливковий","Менше 10","Нашийники, нашийники-зашморги",119.01,147,0,{"$f":"G1079*I1079","v":0}]
[null,1111150680,201618,"Нашийник Premium нейлон M–L:35–55см/20мм папайя","Менше 10","Нашийники, нашийники-зашморги",119.01,147,0,{"$f":"G1080*I1080","v":0}]
[null,1111150673,201611,"Нашийник Premium нейлон M–L:35–55см/20мм фуксія","Менше 10","Нашийники, нашийники-зашморги",129.03,159,0,{"$f":"G1081*I1081","v":0}]
[null,1111151046,201603,"Нашийник Premium нейлон M–L:35–55см/20мм червоний","Менше 10","Нашийники, нашийники-зашморги",129.03,159,0,{"$f":"G1082*I1082","v":0}]
[null,1111151045,201601,"Нашийник Premium нейлон M–L:35–55см/20мм чорний","Більше 10","Нашийники, нашийники-зашморги",129.03,159,0,{"$f":"G1083*I1083","v":0}]
[null,1111151051,202201,"Нашийник Premium нейлон S:25–40см/15мм чорний","Більше 10","Нашийники, нашийники-зашморги",102.72,127,0,{"$f":"G1084*I1084","v":0}]
[null,1111150717,202220,"Нашийник Premium нейлон S:25–40см/15мм яскраво-рожевий","Менше 10","Нашийники, нашийники-зашморги",90.12,111,0,{"$f":"G1085*I1085","v":0}]
[null,1111151083,201503,"Нашийник Premium нейлон S-M 30-45см/15мм червоний","Більше 10","Нашийники, нашийники-зашморги",102.72,127,0,{"$f":"G1086*I1086","v":0}]
[null,1111150669,201516,"Нашийник Premium нейлон S–M:30–45см/15мм графіт","Менше 10","Нашийники, нашийники-зашморги",102.72,127,0,{"$f":"G1087*I1087","v":0}]
[null,1111151136,201517,"Нашийник Premium нейлон S–M:30–45см/15мм зелений","Менше 10","Нашийники, нашийники-зашморги",94.74,117,0,{"$f":"G1088*I1088","v":0}]
[null,1111150666,201513,"Нашийник Premium нейлон S–M:30–45см/15мм індиго","Більше 10","Нашийники, нашийники-зашморги",94.74,117,0,{"$f":"G1089*I1089","v":0}]
[null,1111150671,201519,"Нашийник Premium нейлон S–M:30–45см/15мм оливковий","Менше 10","Нашийники, нашийники-зашморги",94.74,117,0,{"$f":"G1090*I1090","v":0}]
[null,1111150670,201518,"Нашийник Premium нейлон S–M:30–45см/15мм папайя","Менше 10","Нашийники, нашийники-зашморги",94.74,117,0,{"$f":"G1091*I1091","v":0}]
[null,1111150664,201511,"Нашийник Premium нейлон S–M:30–45см/15мм фуксія","Менше 10","Нашийники, нашийники-зашморги",102.72,127,0,{"$f":"G1092*I1092","v":0}]
[null,1111150659,201416,"Нашийник Premium нейлон XS–S:22–35см/10мм графіт","Менше 10","Нашийники, нашийники-зашморги",88.94,110,0,{"$f":"G1093*I1093","v":0}]
[null,1111150656,201413,"Нашийник Premium нейлон XS–S:22–35см/10мм індиго","Менше 10","Нашийники, нашийники-зашморги",82.03,101,0,{"$f":"G1094*I1094","v":0}]
[null,1111150657,201414,"Нашийник Premium нейлон XS–S:22–35см/10мм карамель","Менше 10","Нашийники, нашийники-зашморги",82.03,101,0,{"$f":"G1095*I1095","v":0}]
[null,1111150661,201418,"Нашийник Premium нейлон XS–S:22–35см/10мм папайа","Менше 10","Нашийники, нашийники-зашморги",82.03,101,0,{"$f":"G1096*I1096","v":0}]
[null,1111150478,201402,"Нашийник Premium нейлон XS–S:22–35см/10мм синій","Менше 10","Нашийники, нашийники-зашморги",88.94,110,0,{"$f":"G1097*I1097","v":0}]
[null,1111150654,201411,"Нашийник Premium нейлон XS–S:22–35см/10мм фуксія","Менше 10","Нашийники, нашийники-зашморги",88.94,110,0,{"$f":"G1098*I1098","v":0}]
[null,1111150660,201417,"Нашийник Premium нейлон XS–S:22–35см/10мм яскравозелен.","Менше 10","Нашийники, нашийники-зашморги",82.03,101,0,{"$f":"G1099*I1099","v":0}]
[null,1111150706,202117,"Нашийник Premium нейлон XXS–XS:15–25см/10мм зелений","Більше 10","Нашийники, нашийники-зашморги",70.48,87,0,{"$f":"G1100*I1100","v":0}]
[null,1111150703,202113,"Нашийник Premium нейлон XXS–XS:15–25см/10мм індиго","Менше 10","Нашийники, нашийники-зашморги",70.48,87,0,{"$f":"G1101*I1101","v":0}]
[null,1111150704,202114,"Нашийник Premium нейлон XXS–XS:15–25см/10мм карамель","Менше 10","Нашийники, нашийники-зашморги",70.48,87,0,{"$f":"G1102*I1102","v":0}]
[null,1111150707,202119,"Нашийник Premium нейлон XXS–XS:15–25см/10мм оливковий","Менше 10","Нашийники, нашийники-зашморги",70.48,87,0,{"$f":"G1103*I1103","v":0}]
[null,1111150935,202118,"Нашийник Premium нейлон XXS–XS:15–25см/10мм папайя","Менше 10","Нашийники, нашийники-зашморги",70.48,87,0,{"$f":"G1104*I1104","v":0}]
[null,1111150701,202111,"Нашийник Premium нейлон XXS–XS:15–25см/10мм фуксія","Більше 10","Нашийники, нашийники-зашморги",76.41,94,0,{"$f":"G1105*I1105","v":0}]
[null,1111151050,202103,"Нашийник Premium нейлон XXS–XS:15–25см/10мм червоний","Більше 10","Нашийники, нашийники-зашморги",76.41,94,0,{"$f":"G1106*I1106","v":0}]
[null,1111150662,201419,"Нашийник Premium нейлон, XS–S: 22–35 см/15мм оливковий","Менше 10","Нашийники, нашийники-зашморги",82.03,101,0,{"$f":"G1107*I1107","v":0}]
[null,8897,4006,"Нашийник антиблошиний біо TRIXIE для котів","Більше 10","Протипаразитні препарати: антигельмінтні, інсектицидні, інсектоакарицидні, репелентні",112.46,146,0,{"$f":"G1108*I1108","v":0}]
[null,8898,3906,"Нашийник антиблошиний біо TRIXIE для собак","Більше 10","Протипаразитні препарати: антигельмінтні, інсектицидні, інсектоакарицидні, репелентні",128.05000000000001,166,0,{"$f":"G1109*I1109","v":0}]
[null,1111119921,2240,"Нашийник дворядний хромовананий 30см/2мм","Менше 10","Нашийники, нашийники-зашморги",167.53,206,0,{"$f":"G1110*I1110","v":0}]
[null,1111119919,2242,"Нашийник дворядний хромовананий 40см/2мм","Менше 10","Нашийники, нашийники-зашморги",207.95,257,0,{"$f":"G1111*I1111","v":0}]
[null,1111119918,2243,"Нашийник дворядний хромовананий 45см/2,5мм","Менше 10","Нашийники, нашийники-зашморги",260.56,323,0,{"$f":"G1112*I1112","v":0}]
[null,1111119917,2244,"Нашийник дворядний хромовананий 50см/2,5мм","Менше 10","Нашийники, нашийники-зашморги",260.56,323,0,{"$f":"G1113*I1113","v":0}]
[null,1111119916,2245,"Нашийник дворядний хромовананий 55см/2,5мм","Менше 10","Нашийники, нашийники-зашморги",286.87,355,0,{"$f":"G1114*I1114","v":0}]
[null,8229,2246,"Нашийник дворядний хромовананий 60см/2,5мм","Менше 10","Нашийники, нашийники-зашморги",286.87,355,0,{"$f":"G1115*I1115","v":0}]
[null,1111122419,4207,"Нашийник для котів  Glitter","Менше 10","Нашийники, нашийники-зашморги",102.72,127,0,{"$f":"G1116*I1116","v":0}]
[null,1111115139,4179,"Нашийник для котів  Kitty  нейлоновий","Більше 10","Нашийники, нашийники-зашморги",65.14,81,0,{"$f":"G1117*I1117","v":0}]
[null,1111119923,4180,"Нашийник для котів  My Home","Більше 10","Нашийники, нашийники-зашморги",87.69,108,0,{"$f":"G1118*I1118","v":0}]
[null,1111115342,4148,"Нашийник для котів вельветовий з заклепками та дзвіночком","Більше 10","Нашийники, нашийники-зашморги",110.24,136,0,{"$f":"G1119*I1119","v":0}]
[null,9607,4154,"Нашийник для котів еластичний з дзвіночком","Більше 10","Нашийники, нашийники-зашморги",45.1,56,0,{"$f":"G1120*I1120","v":0}]
[null,1111115555,4173,"Нашийник для котів нейлоновий прикрашений","Більше 10","Нашийники, нашийники-зашморги",87.69,108,0,{"$f":"G1121*I1121","v":0}]
[null,1111119523,4145,"Нашийник для котів світловідбиваючий","Більше 10","Нашийники, нашийники-зашморги",53.87,67,0,{"$f":"G1122*I1122","v":0}]
[null,1111127876,41686,"Нашийник для кошенят зі світловідбиваючою смугою","Менше 10","Нашийники, нашийники-зашморги",53.87,67,0,{"$f":"G1123*I1123","v":0}]
[null,1111115774,4178,"Нашийник для кошенят нейлоновий з кішечками та дзвіночком","Менше 10","Нашийники, нашийники-зашморги",65.14,81,0,{"$f":"G1124*I1124","v":0}]
[null,1111139995,12702,"Нашийник з підсвічуванням з USB зелений L-XL 65см/7мм","Більше 100","Нашийники, нашийники-зашморги",435.94,539,0,{"$f":"G1125*I1125","v":0}]
[null,1111139994,12701,"Нашийник з підсвічуванням з USB зелений M-L 45см/7мм","Більше 10","Нашийники, нашийники-зашморги",402.12,497,0,{"$f":"G1126*I1126","v":0}]
[null,1111139945,12700,"Нашийник з підсвічуванням з USB зелений XS-S 35см/7мм","Більше 10","Нашийники, нашийники-зашморги",368.29,455,0,{"$f":"G1127*I1127","v":0}]
[null,1111141001,12705,"Нашийник з підсвічуванням з USB оранжевий L-XL 65см/7мм","Більше 100","Нашийники, нашийники-зашморги",435.94,539,0,{"$f":"G1128*I1128","v":0}]
[null,1111141000,12704,"Нашийник з підсвічуванням з USB оранжевий M-L 45см/7мм","Більше 10","Нашийники, нашийники-зашморги",402.12,497,0,{"$f":"G1129*I1129","v":0}]
[null,1111140999,12703,"Нашийник з підсвічуванням з USB оранжевий XS-S 35см/7мм","Більше 10","Нашийники, нашийники-зашморги",368.29,455,0,{"$f":"G1130*I1130","v":0}]
[null,1111141004,12708,"Нашийник з підсвічуванням з USB рожевий L-XL 65см/7мм","Більше 10","Нашийники, нашийники-зашморги",435.94,539,0,{"$f":"G1131*I1131","v":0}]
[null,1111141003,12707,"Нашийник з підсвічуванням з USB рожевий M-L 45см/7мм","Більше 100","Нашийники, нашийники-зашморги",402.12,497,0,{"$f":"G1132*I1132","v":0}]
[null,1111141002,12706,"Нашийник з підсвічуванням з USB рожевий XS-S 35см/7мм","Більше 10","Нашийники, нашийники-зашморги",368.29,455,0,{"$f":"G1133*I1133","v":0}]
[null,1111142214,12685,"Нашийник з підсвічуванням з USB силікон зелений L-XL 70cм/18мм","Менше 10","Нашийники, нашийники-зашморги",503.59,622,0,{"$f":"G1134*I1134","v":0}]
[null,1111142213,12684,"Нашийник з підсвічуванням з USB силікон зелений M-L 50cм/18мм","Більше 10","Нашийники, нашийники-зашморги",435.94,539,0,{"$f":"G1135*I1135","v":0}]
[null,1111142207,12671,"Нашийник з підсвічуванням з USB силікон широкий синій M-L 50cм/30мм","Менше 10","Нашийники, нашийники-зашморги",503.59,622,0,{"$f":"G1136*I1136","v":0}]
[null,1111116669,2265,"Нашийник трирядний хромовананий 45см/2,5мм","Менше 10","Нашийники, нашийники-зашморги",286.87,355,0,{"$f":"G1137*I1137","v":0}]
[null,1111116670,2266,"Нашийник трирядний хромовананий 50см/2,5мм","Менше 10","Нашийники, нашийники-зашморги",313.18,388,0,{"$f":"G1138*I1138","v":0}]
[null,1111116672,2267,"Нашийник трирядний хромовананий 55см/2,5мм","Менше 10","Нашийники, нашийники-зашморги",339.48,419,0,{"$f":"G1139*I1139","v":0}]
[null,1111116673,2268,"Нашийник трирядний хромовананий 60см/2,5мм","Менше 10","Нашийники, нашийники-зашморги",365.79,452,0,{"$f":"G1140*I1140","v":0}]
[null,8228,2269,"Нашийник трирядний хромовананий 65см/2,5мм","Менше 10","Нашийники, нашийники-зашморги",365.79,452,0,{"$f":"G1141*I1141","v":0}]
[null,1111150547,144101,"Нашийник-зашморг Cavo нейлон L–XL:52–60см/18мм чорний","Менше 10","Нашийники, нашийники-зашморги",207.95,257,0,{"$f":"G1142*I1142","v":0}]
[null,1111150225,143701,"Нашийник-зашморг Cavo нейлон S-M 35-41см/12мм чорний","Менше 10","Нашийники, нашийники-зашморги",115.25,143,0,{"$f":"G1143*I1143","v":0}]
[null,1111141797,"1360/1,2 *****","Нашийник-удавка  Cavo Reflect  світловідбиваючий S-M 35-41см/12мм","Менше 10","Нашийники, нашийники-зашморги",50,0,0,{"$f":"G1144*I1144","v":0}]
[null,9613,2351,"Ножиці 18 см","Більше 10","Аксесуари для грумінгу",155.34,192,0,{"$f":"G1145*I1145","v":0}]
[null,1111150258,23690,"Ножиці для стрижки Professional сталь, 20 см","Менше 10","Аксесуари для грумінгу",672.7,832,0,{"$f":"G1146*I1146","v":0}]
[null,9614,2360,"Ножиці маленькі для лап 9,5 см","Більше 10","Аксесуари для грумінгу",102.72,127,0,{"$f":"G1147*I1147","v":0}]
[null,9615,2352,"Ножиці філіровочні 18 см","Більше 10","Аксесуари для грумінгу",177.88,220,0,{"$f":"G1148*I1148","v":0}]
[null,1111183745,32039,"Нюхальний килим Trixie 38 см Арт32039","Більше 10","Іграшки для собак",599,778,0,{"$f":"G1149*I1149","v":0}]
[null,1111126952,76081,"Обігрівач Гарячий шнур 25Вт/4,5м","Менше 10","Обладнання для тераріуму, комплектуючі",841.82,1042,0,{"$f":"G1150*I1150","v":0}]
[null,1111126953,76082,"Обігрівач Гарячий шнур 50Вт/7м","Менше 10","Обладнання для тераріуму, комплектуючі",1099.8699999999999,1359,0,{"$f":"G1151*I1151","v":0}]
[null,1111134786,45767,"Овечка плюшева 10 см","Немає в наявності","Іграшки для котів",87.69,110,0,{"$f":"G1152*I1152","v":0}]
[null,1111126407,35933,"Овечка плюшева кудлата 21 см","Більше 10","Іграшки для собак",268.08,331,0,{"$f":"G1153*I1153","v":0}]
[null,1111136765,45560,"Овечка плюшева на резинці 20 см","Менше 10","Іграшки для котів",129.03,159,0,{"$f":"G1154*I1154","v":0}]
[null,1111163136,35796,"Овечка, 14 см, плюш","Більше 10","Іграшки для собак",207.95,256,0,{"$f":"G1155*I1155","v":0}]
[null,1111151109,"30131*****","Охолоджуючий жилет, PVA, XS:20см","Більше 10","Одяг",287.81,402.93,0,{"$f":"G1156*I1156","v":0}]
[null,1111183741,28688,"Охолоджуючий килимок Trixie XL–XXL 100 х 60 см синій Арт28688","Більше 10","Килимки, пледи",841.82,1094,0,{"$f":"G1157*I1157","v":0}]
[null,1111118162,2547,"Очищувач для вух 50 мл","Більше 10","Засоби для догляду за очима та вухами",131.53,163,0,{"$f":"G1158*I1158","v":0}]
[null,1111118161,2546,"Очищувач для очей 50 мл","Більше 10","Засоби для догляду за очима та вухами",131.53,163,0,{"$f":"G1159*I1159","v":0}]
[null,1111147510,"14405*****","Ошейник-удавка  Cavo  нейлон L 47-55см/18мм коричневый/бежевый","Менше 10","Нашийники, нашийники-зашморги",65,0,0,{"$f":"G1160*I1160","v":0}]
[null,1111147516,"14415*****","Ошейник-удавка  Cavo  нейлон L-XL 52-60см/18мм коричневый/бежевый","Менше 10","Нашийники, нашийники-зашморги",75,0,0,{"$f":"G1161*I1161","v":0}]
[null,1111147517,"14416*****","Ошейник-удавка  Cavo  нейлон L-XL 52-60см/18мм неон голубой/неон розов","Менше 10","Нашийники, нашийники-зашморги",65,0,0,{"$f":"G1162*I1162","v":0}]
[null,1111147472,"13642*****","Ошейник-удавка  Cavo Reflect  светоотраж. L-XL 52-60см/18мм сине-красн","Менше 10","Нашийники, нашийники-зашморги",85,0,0,{"$f":"G1163*I1163","v":0}]
[null,1111115532,4043,"Пакет для котячого туалету 48х37 см (1уп-10 шт.)","Більше 10","Пакети, диспенсери",71.400000000000006,90,0,{"$f":"G1164*I1164","v":0}]
[null,1111116030,4044,"Пакет для котячого туалету 59х46 см (1уп-10 шт.)","Більше 10","Пакети, диспенсери",87.69,110,0,{"$f":"G1165*I1165","v":0}]
[null,1111137776,4051,"Пакети Trixie для котячого туалету XL 10 шт в упаковці Арт4051","Більше 10","Пакети, диспенсери",147.82,192,0,{"$f":"G1166*I1166","v":0}]
[null,1111162593,22839,"Пакети для фекалій Trixie з лаванд для соб 4х20 пак фіолетові Арт22839","Більше 100","Пакети, диспенсери",62.64,88,0,{"$f":"G1167*I1167","v":0}]
[null,1111183720,22845,"Пакети для фекалій Trixie з ручками для соб 3х15 пак Арт22845","Більше 100","Пакети, диспенсери",62.64,81,0,{"$f":"G1168*I1168","v":0}]
[null,1111137240,"31329_1шт","Паличка Trixie для чищення зубів Denta Fun з куркою натуральна шкіра 4","Більше 100","Ласощі для собак",202.94,262,0,{"$f":"G1169*I1169","v":0}]
[null,1111126433,45741,"Паличка з метеликом и м ячиком 54 см","Більше 100","Іграшки для котів",76.41,94,0,{"$f":"G1170*I1170","v":0}]
[null,1111126443,45733,"Паличка з метеликом і пером 45 см","Більше 10","Іграшки для котів",88.94,110,0,{"$f":"G1171*I1171","v":0}]
[null,1111129736,45804,"Паличка з мишкою із тканини та пір ям 50 см","Більше 10","Іграшки для котів",102.72,127,0,{"$f":"G1172*I1172","v":0}]
[null,8038,4106,"Паличка з пір ям 50 см","Більше 100","Іграшки для котів",45.1,56,0,{"$f":"G1173*I1173","v":0}]
[null,1111116627,4550,"Паличка з пір ям 50 см","Більше 100","Іграшки для котів",62.64,78,0,{"$f":"G1174*I1174","v":0}]
[null,1111141839,45742,"Паличка з плюшевою рибкою 42 см","Більше 100","Іграшки для котів",102.72,127,0,{"$f":"G1175*I1175","v":0}]
[null,1111122660,45724,"Паличка з плюшевою стрічкою і пером 48 см","Більше 10","Іграшки для котів",52.61,65,0,{"$f":"G1176*I1176","v":0}]
[null,1111139788,45289,"Паличка з пташкою та пір ям 50 см","Більше 10","Іграшки для котів",238.01,294,0,{"$f":"G1177*I1177","v":0}]
[null,1111141838,45739,"Паличка з трьома плюшевими м ячиками 35 см","Більше 10","Іграшки для котів",88.94,111,0,{"$f":"G1178*I1178","v":0}]
[null,1111134509,45797,"Паличка зі смайликом і пером 50 см","Більше 10","Іграшки для котів",76.41,94,0,{"$f":"G1179*I1179","v":0}]
[null,1111119737,4091,"Паличка зі стрічками 65 см","Більше 100","Іграшки для котів",42.59,53,0,{"$f":"G1180*I1180","v":0}]
[null,1111141811,45746,"Паличка подвійна з мишкою і стрічками 40 см","Менше 10","Іграшки для котів",129.03,159,0,{"$f":"G1181*I1181","v":0}]
[null,1111118652,2615,"Палички Trixie д/соб жув натур шкіра 12см/d=5-6мм 333г 100шт/упак","Більше 10","Ласощі для собак",432.18,559,0,{"$f":"G1182*I1182","v":0}]
[null,1111118654,2616,"Палички Trixie д/соб жув натур шкіра 12см/d=7-8мм 505г 100шт/упак","Більше 10","Ласощі для собак",504.84,654,0,{"$f":"G1183*I1183","v":0}]
[null,1111115848,2617,"Палички Trixie д/соб жув натур шкіра 12см/d=9-10мм 850г 100шт/упак","Більше 10","Ласощі для собак",795.47,1030,0,{"$f":"G1184*I1184","v":0}]
[null,1111183767,42427,"Палички Trixie мататабі жувальні для котів 10 г Арт42427","Більше 10","Іграшки для котів",76,99,0,{"$f":"G1185*I1185","v":0}]
[null,1111163129,35674,"Панда, 26 см, плюш","Менше 10","Іграшки для собак",268.08,332,0,{"$f":"G1186*I1186","v":0}]
[null,1111124104,35232,"Пацючок, мишка латексні 22 см","Більше 10","Іграшки для собак",177.88,219,0,{"$f":"G1187*I1187","v":0}]
[null,1111183724,23370,"Пелюшки Trixie з активованим вугіллям для собак 40х60см 7шт Арт23370","Більше 10","Пелюшки для собак",88.94,116,0,{"$f":"G1188*I1188","v":0}]
[null,1111183725,23372,"Пелюшки Trixie з активованим вугіллям для собак 60х60см 10шт Арт23372","Більше 10","Пелюшки для собак",181.64,236,0,{"$f":"G1189*I1189","v":0}]
[null,1111143317,23410,"Пелюшки для собак 30х50 см (7 шт.)","Більше 10","Пелюшки для собак",62.64,79,0,{"$f":"G1190*I1190","v":0}]
[null,1111139268,23417,"Пелюшки для собак 40х60 см (50 шт.)","Більше 10","Пелюшки для собак",523.63,658,0,{"$f":"G1191*I1191","v":0}]
[null,13601,23411,"Пелюшки для собак 40х60 см (7 шт.)","Більше 100","Пелюшки для собак",88.94,112,0,{"$f":"G1192*I1192","v":0}]
[null,1111122415,23412,"Пелюшки для собак 60х60 см (10 шт.)","Більше 100","Пелюшки для собак",181.64,228,0,{"$f":"G1193*I1193","v":0}]
[null,1111134496,23413,"Пелюшки для собак 60х90 см (8 шт.)","Більше 100","Пелюшки для собак",207.95,261,0,{"$f":"G1194*I1194","v":0}]
[null,1111143316,23371,"Пелюшки для собак з ароматом лаванди 40х60 см (7 шт.)","Більше 100","Пелюшки для собак",88.94,112,0,{"$f":"G1195*I1195","v":0}]
[null,1111143270,39824,"Переноска  Capri  37х34х55 см зелена до 8 кг","Немає в наявності","Переноски пластикові",897.08,1128,0,{"$f":"G1196*I1196","v":0}]
[null,1111113714,39822,"Переноска  Capri  37х34х55 см синя до 8 кг","Менше 10","Переноски пластикові",972.62,1223,0,{"$f":"G1197*I1197","v":0}]
[null,1111113712,39821,"Переноска  Capri  37х34х55 см сіра до 8 кг","Немає в наявності","Переноски пластикові",972.62,1223,0,{"$f":"G1198*I1198","v":0}]
[null,1111113717,39832,"Переноска  Capri  40х38х61 см синя до 12 кг","Менше 10","Переноски пластикові",1175.8699999999999,1479,0,{"$f":"G1199*I1199","v":0}]
[null,1111121807,39861,"Переноска  Capri III Open Top  40*38*61 см до 12 кг","Менше 10","Переноски пластикові",1588.11,1998,0,{"$f":"G1200*I1200","v":0}]
[null,1111117848,39871,"Переноска  Gulliver IV  52х51х72 см до 18 кг","Менше 10","Переноски пластикові",3766.46,4738,0,{"$f":"G1201*I1201","v":0}]
[null,1111117850,39872,"Переноска  Gulliver V  58х60х79 см до 25 кг","Менше 10","Переноски пластикові",4886.0600000000004,6146,0,{"$f":"G1202*I1202","v":0}]
[null,1111117849,39873,"Переноска  Gulliver VI  64х64х92 см до 38 кг","Менше 10","Переноски пластикові",6151.5,7738,0,{"$f":"G1203*I1203","v":0}]
[null,1111117847,39874,"Переноска  Gulliver VII  73х75х104 см до 50 кг","Менше 10","Переноски пластикові",7078.19,8905,0,{"$f":"G1204*I1204","v":0}]
[null,1111119250,39792,"Переноска  Midi-Capri  пластикова з ременем 44х33х32 см до 5 кг","Менше 10","Переноски пластикові",719.99,906,0,{"$f":"G1205*I1205","v":0}]
[null,1111137372,5900,"Переноска  Pico  для гризунів 18х12х13 см","Менше 10","Переноски пластикові",177.88,225,0,{"$f":"G1206*I1206","v":0}]
[null,1111116042,5903,"Переноска  Pico  для гризунів 23х17,5х16 см","Більше 10","Переноски пластикові",207.95,262,0,{"$f":"G1207*I1207","v":0}]
[null,1111139278,39741,"Переноска  Skudo 3  40х39х60 см коричнева/пісочна до 24 кг","Менше 10","Переноски пластикові",1342.38,1688,0,{"$f":"G1208*I1208","v":0}]
[null,1111139279,39742,"Переноска  Skudo 4  48х51х68 см коричнева/пісочна до 30 кг","Менше 10","Переноски пластикові",3039.58,3824,0,{"$f":"G1209*I1209","v":0}]
[null,1111139280,39743,"Переноска  Skudo 5  59х65х79 см коричнева/пісочна до 35 кг","Менше 10","Переноски пластикові",3997.27,5029,0,{"$f":"G1210*I1210","v":0}]
[null,1111139281,39744,"Переноска  Skudo 6  63х70х92 см коричнева/пісочна до 40 кг","Менше 10","Переноски пластикові",5536.01,6964,0,{"$f":"G1211*I1211","v":0}]
[null,1111140885,39745,"Переноска  Skudo 7  73х76х105 см коричнева/пісочна до 45 кг","Менше 10","Переноски пластикові",6613.12,8319,0,{"$f":"G1212*I1212","v":0}]
[null,1111161045,39823,"Переноска Capri 2 XS-S: 37*34*55 см, сіра/лілова","Менше 10","Переноски пластикові",972.62,1223,0,{"$f":"G1213*I1213","v":0}]
[null,1111115833,39802,"Переноска Mini-Capri 40х30х22 см","Менше 10","Переноски пластикові",538.55999999999995,678,0,{"$f":"G1214*I1214","v":0}]
[null,1111146794,39735,"Переноска Skudo 1 30*32*49 см коричнева/пісочна","Менше 10","Переноски пластикові",995.59,1252,0,{"$f":"G1215*I1215","v":0}]
[null,1111165785,"207518*****","Перестіжка  Fusion  нейлон, L–XL: 2.00 м/25 мм, графіт/синій","Менше 10","Повідки: для прогулянок, тренувальні, з регульованою довжиною",523.63,647,0,{"$f":"G1216*I1216","v":0}]
[null,1111132096,12216,"Перестьожка  Safer Life Silver  з лапками світловідбиваюча L-XL 2м/25м","Менше 10","Повідки: для прогулянок, тренувальні, з регульованою довжиною",523.63,647,0,{"$f":"G1217*I1217","v":0}]
[null,1111132095,12215,"Перестьожка  Safer Life Silver  з лапками світловідбиваюча M-L 2м/20мм","Менше 10","Повідки: для прогулянок, тренувальні, з регульованою довжиною",392.1,485,0,{"$f":"G1218*I1218","v":0}]
[null,1111150220,143601,"Перестьожка Cavo нейлон L–XL:2м/18мм, чорна","Менше 10","Повідки: для прогулянок, тренувальні, з регульованою довжиною",576.24,712,0,{"$f":"G1219*I1219","v":0}]
[null,1111150212,143501,"Перестьожка Cavo нейлон S–M:2м/12мм, чорна","Менше 10","Повідки: для прогулянок, тренувальні, з регульованою довжиною",339.48,421,0,{"$f":"G1220*I1220","v":0}]
[null,1111150650,200516,"Перестьожка Premium нейлон M–L:2.00м/20мм графітова","Менше 10","Повідки: для прогулянок, тренувальні, з регульованою довжиною",392.1,485,0,{"$f":"G1221*I1221","v":0}]
[null,1111150647,200513,"Перестьожка Premium нейлон M–L:2.00м/20мм індиго","Менше 10","Повідки: для прогулянок, тренувальні, з регульованою довжиною",361.64,447,0,{"$f":"G1222*I1222","v":0}]
[null,1111150648,200514,"Перестьожка Premium нейлон M–L:2.00м/20мм карамель","Менше 10","Повідки: для прогулянок, тренувальні, з регульованою довжиною",361.64,447,0,{"$f":"G1223*I1223","v":0}]
[null,1111150652,200518,"Перестьожка Premium нейлон M–L:2.00м/20мм папайя","Менше 10","Повідки: для прогулянок, тренувальні, з регульованою довжиною",361.64,447,0,{"$f":"G1224*I1224","v":0}]
[null,1111150645,200511,"Перестьожка Premium нейлон M–L:2.00м/20мм фуксія","Менше 10","Повідки: для прогулянок, тренувальні, з регульованою довжиною",392.1,485,0,{"$f":"G1225*I1225","v":0}]
[null,1111150639,200416,"Перестьожка Premium нейлон XS–S:2.00м/15мм графітова","Менше 10","Повідки: для прогулянок, тренувальні, з регульованою довжиною",313.18,388,0,{"$f":"G1226*I1226","v":0}]
[null,1111150640,200417,"Перестьожка Premium нейлон XS–S:2.00м/15мм зелена","Менше 10","Повідки: для прогулянок, тренувальні, з регульованою довжиною",288.85000000000002,358,0,{"$f":"G1227*I1227","v":0}]
[null,1111150642,200419,"Перестьожка Premium нейлон XS–S:2.00м/15мм оливкова","Менше 10","Повідки: для прогулянок, тренувальні, з регульованою довжиною",288.85000000000002,358,0,{"$f":"G1228*I1228","v":0}]
[null,1111150641,200418,"Перестьожка Premium нейлон XS–S:2.00м/15мм папайя","Менше 10","Повідки: для прогулянок, тренувальні, з регульованою довжиною",288.85000000000002,358,0,{"$f":"G1229*I1229","v":0}]
[null,1111150643,200420,"Перестьожка Premium нейлон XS–S:2.00м/15мм рожева","Менше 10","Повідки: для прогулянок, тренувальні, з регульованою довжиною",288.85000000000002,358,0,{"$f":"G1230*I1230","v":0}]
[null,1111183782,51700,"Підвісний міст Trixie для птахів вербовий 61 х 8 см Арт51700","Більше 10","Обладнання для кліток",268,349,0,{"$f":"G1231*I1231","v":0}]
[null,1111183783,58842,"Підвісний міст Trixie на сизалі для птахів 45 см Арт58842","Більше 10","Обладнання для кліток",298,388,0,{"$f":"G1232*I1232","v":0}]
[null,1111139272,23643,"Підгузки для кобелів L-XL: 60-80 см (12 шт.)","Більше 10","Памперси, прокладки для собак",358.27,451,0,{"$f":"G1233*I1233","v":0}]
[null,1111132140,23633,"Підгузки для собак M (12 шт.)","Більше 10","Памперси, прокладки для собак",268.08,337,0,{"$f":"G1234*I1234","v":0}]
[null,1111132141,23634,"Підгузки для собак M-L (12 шт.)","Немає в наявності","Памперси, прокладки для собак",298.14,375,0,{"$f":"G1235*I1235","v":0}]
[null,1111132139,23632,"Підгузки для собак S-M (12 шт.)","Більше 10","Памперси, прокладки для собак",238.01,299,0,{"$f":"G1236*I1236","v":0}]
[null,1111132143,23636,"Підгузки для собак XL (12 шт.)","Менше 10","Памперси, прокладки для собак",418.4,526,0,{"$f":"G1237*I1237","v":0}]
[null,1111132138,23631,"Підгузки для собак XS-S (12 шт.)","Більше 10","Памперси, прокладки для собак",207.95,261,0,{"$f":"G1238*I1238","v":0}]
[null,1111127915,24790,"Підставка  Eat on Feet  + миски керамічні для котів 2?0,25л/12,5см","Більше 10","Миски",418.4,526,0,{"$f":"G1239*I1239","v":0}]
[null,1111136681,24791,"Підставка  Eat on Feet  + миски керамічні для котів 2?0,3л/12см яскрав","Більше 10","Миски",478.53,601,0,{"$f":"G1240*I1240","v":0}]
[null,1111136775,24640,"Підставка  Eat on Feet  + миски керамічні для собак 2?0,25л/13см","Більше 10","Миски",448.47,564,0,{"$f":"G1241*I1241","v":0}]
[null,1111124112,24641,"Підставка  Eat on Feet  + миски керамічні для собак 2?0,6л/15см","Менше 10","Миски",598.79,753,0,{"$f":"G1242*I1242","v":0}]
[null,1111124113,24642,"Підставка  Eat on Feet  + миски керамічні для собак 2?1,6л/20см","Менше 10","Миски",899.44,1132,0,{"$f":"G1243*I1243","v":0}]
[null,1111141857,24820,"Підставка дерев яна + миски керамічні для собак 2?0,2л/28?5?15см чорні","Більше 10","Миски",841.82,1059,0,{"$f":"G1244*I1244","v":0}]
[null,11905,24830,"Підставка під миски + миски металеві 2?0,2 л","Більше 100","Миски",131.53,166,0,{"$f":"G1245*I1245","v":0}]
[null,11904,24831,"Підставка під миски + миски металеві 2?0,45 л","Більше 100","Миски",177.88,223,0,{"$f":"G1246*I1246","v":0}]
[null,12130,24832,"Підставка під миски + миски металеві 2?0,75 л","Більше 10","Миски",238.01,299,0,{"$f":"G1247*I1247","v":0}]
[null,1111119276,24920,"Підставка під миски + миски металеві 2?0,75 л","Більше 10","Миски",672.7,845,0,{"$f":"G1248*I1248","v":0}]
[null,10355,24921,"Підставка під миски + миски металеві 2?1,8 л","Більше 10","Миски",1010.93,1272,0,{"$f":"G1249*I1249","v":0}]
[null,1111111510,24833,"Підставка під миски + миски металеві 2?1,8 л","Менше 10","Миски",358.27,450,0,{"$f":"G1250*I1250","v":0}]
[null,10352,24922,"Підставка під миски + миски металеві 2?2,8 л","Більше 10","Миски",1180.05,1484,0,{"$f":"G1251*I1251","v":0}]
[null,1111119275,2497,"Підставка під миски + миски металеві 2?2,8 л","Менше 10","Миски",1589.68,1999,0,{"$f":"G1252*I1252","v":0}]
[null,10356,24923,"Підставка під миски + миски металеві 2?4,7 л","Менше 10","Миски",1589.68,1999,0,{"$f":"G1253*I1253","v":0}]
[null,1111139948,25230,"Підставка під миски нековзаюча + миски металеві 2?0,2 л","Більше 10","Миски",238.01,300,0,{"$f":"G1254*I1254","v":0}]
[null,1111139949,25231,"Підставка під миски нековзаюча + миски металеві 2?0,45 л","Більше 10","Миски",298.14,375,0,{"$f":"G1255*I1255","v":0}]
[null,1111163636,19406,"Підтримуюча шлейка для собак M: 55-65 см, чорна","Менше 10","Шлеї",260.56,322,0,{"$f":"G1256*I1256","v":0}]
[null,1111127477,76070,"Плафон із захистом 14?17 см","Менше 10","Обладнання для тераріуму, комплектуючі",1386.74,1713,0,{"$f":"G1257*I1257","v":0}]
[null,1111126978,76071,"Плафон із захистом 21?19 см","Менше 10","Обладнання для тераріуму, комплектуючі",1724.97,2344,0,{"$f":"G1258*I1258","v":0}]
[null,1111147482,14133,"Повідець  Classic  нейлон L-XL 1,2-1,8 м / 25 мм, червоний","Менше 10","Повідки: для прогулянок, тренувальні, з регульованою довжиною",164.07,202,0,{"$f":"G1259*I1259","v":0}]
[null,1111147481,14113,"Повідець  Classic  нейлон XS-S 1,2-1,8 м / 15 мм, червоний","Менше 10","Повідки: для прогулянок, тренувальні, з регульованою довжиною",80.88,100,0,{"$f":"G1260*I1260","v":0}]
[null,1111163578,196703,"Повідець  Premium  XS-S 3.00 м/15 мм, нейлон,червоний","Менше 10","Повідки: для прогулянок, тренувальні, з регульованою довжиною",410.17,506,0,{"$f":"G1261*I1261","v":0}]
[null,1111163577,196702,"Повідець  Premium  XS-S: 3.00 м/15 мм нейлон, синій","Менше 10","Повідки: для прогулянок, тренувальні, з регульованою довжиною",410.17,506,0,{"$f":"G1262*I1262","v":0}]
[null,1111165398,203012,"Повідець Trixie для собак Premium з неопреновою підкладкою для руки","Більше 10","Повідки: для прогулянок, тренувальні, з регульованою довжиною",385.91,476.59,0,{"$f":"G1263*I1263","v":0}]
[null,1111141356,14131,"Поводок  Classic  нейлоновий L-XL 1,2-1,8м/25мм","Менше 10","Повідки: для прогулянок, тренувальні, з регульованою довжиною",164.07,202,0,{"$f":"G1264*I1264","v":0}]
[null,1111116504,14111,"Поводок  Classic  нейлоновий XS-S 1,2-1,8м/15мм","Менше 10","Повідки: для прогулянок, тренувальні, з регульованою довжиною",80.88,100,0,{"$f":"G1265*I1265","v":0}]
[null,1111119751,1275,"Поводок  Hands Free  ремінь 60-120см/40мм, поводок 1-1,35м/25мм","Менше 10","Повідки: для прогулянок, тренувальні, з регульованою довжиною",786.7,973,0,{"$f":"G1266*I1266","v":0}]
[null,1111156037,201101,"Поводок  Premium  нейлон д/двох соб. XS-M 40-70см/15мм","Менше 10","Повідки: для прогулянок, тренувальні, з регульованою довжиною",260.56,321,0,{"$f":"G1267*I1267","v":0}]
[null,1111115153,41960,"Поводок + шлея для великого кота 34-57см/13мм","Менше 10","Амуніція комплекти",207.95,256,0,{"$f":"G1268*I1268","v":0}]
[null,1111127528,41893,"Поводок + шлея для великого кота коричнева","Менше 10","Амуніція комплекти",392.1,485,0,{"$f":"G1269*I1269","v":0}]
[null,1111122462,41891,"Поводок + шлея для котів  Premium","Менше 10","Амуніція комплекти",286.87,355,0,{"$f":"G1270*I1270","v":0}]
[null,1111124107,41894,"Поводок + шлея для котів  Skull","Більше 10","Амуніція комплекти",216.06,268,0,{"$f":"G1271*I1271","v":0}]
[null,1111126941,41896,"Поводок + шлея для котів  XCat","Менше 10","Амуніція комплекти",418.4,517,0,{"$f":"G1272*I1272","v":0}]
[null,11471,4142,"Поводок + шлея для котів з кішечками","Менше 10","Амуніція комплекти",234.26,288,0,{"$f":"G1273*I1273","v":0}]
[null,1111121036,4209,"Поводок + шлея для котів з рибками","Більше 10","Амуніція комплекти",155.34,192,0,{"$f":"G1274*I1274","v":0}]
[null,9610,4185,"Поводок + шлея для котів нейлон","Немає в наявності","Амуніція комплекти",129.03,159,0,{"$f":"G1275*I1275","v":0}]
[null,1111119416,4183,"Поводок + шлея для котів світловідбиваючий","Більше 10","Амуніція комплекти",132.79,164,0,{"$f":"G1276*I1276","v":0}]
[null,1111119265,4181,"Поводок + шлея для кошенят  Kitty Cat","Менше 10","Амуніція комплекти",234.26,288,0,{"$f":"G1277*I1277","v":0}]
[null,1111115132,4182,"Поводок + шлея для кошенят кольоровий","Менше 10","Амуніція комплекти",155.34,192,0,{"$f":"G1278*I1278","v":0}]
[null,1111119437,6265,"Поводок + шлея для кроленят","Менше 10","Амуніція комплекти",207.95,256,0,{"$f":"G1279*I1279","v":0}]
[null,1111115560,6263,"Поводок + шлея для кроликів","Менше 10","Амуніція комплекти",234.26,289,0,{"$f":"G1280*I1280","v":0}]
[null,1111122236,61513,"Поводок + шлея м яка для кроликів","Менше 10","Амуніція комплекти",222.98,275,0,{"$f":"G1281*I1281","v":0}]
[null,1111122235,61512,"Поводок + шлея м яка для морських свинок","Немає в наявності","Амуніція комплекти",200.43,247,0,{"$f":"G1282*I1282","v":0}]
[null,1111122234,61511,"Поводок + шлея м яка для пацючків","Більше 10","Амуніція комплекти",177.88,219,0,{"$f":"G1283*I1283","v":0}]
[null,1111150204,143401,"Поводок Cavo нейлон S-M 1м/12мм чорний","Менше 10","Повідки: для прогулянок, тренувальні, з регульованою довжиною",207.95,256,0,{"$f":"G1284*I1284","v":0}]
[null,1111149806,14123,"Поводок Classic нейлон M-L 1,2-1,8м/20мм червоний","Менше 10","Повідки: для прогулянок, тренувальні, з регульованою довжиною",112.07,139,0,{"$f":"G1285*I1285","v":0}]
[null,1111116505,14121,"Поводок Classic нейлон M-L 1,2-1,8м/20мм чорний","Менше 10","Повідки: для прогулянок, тренувальні, з регульованою довжиною",112.07,139,0,{"$f":"G1286*I1286","v":0}]
[null,1111150599,200019,"Поводок Premium підкл. неопрен XS:1,20м/10мм оливковий","Менше 10","Повідки: для прогулянок, тренувальні, з регульованою довжиною",191.8,236,0,{"$f":"G1287*I1287","v":0}]
[null,1111150609,200117,"Поводок Premium підкл. неопрен XS–S:1,20м/15мм зелений","Менше 10","Повідки: для прогулянок, тренувальні, з регульованою довжиною",288.85000000000002,358,0,{"$f":"G1288*I1288","v":0}]
[null,1111150605,200113,"Поводок Premium підкл. неопрен XS–S:1,20м/15мм індиго","Більше 10","Повідки: для прогулянок, тренувальні, з регульованою довжиною",288.85000000000002,358,0,{"$f":"G1289*I1289","v":0}]
[null,1111150606,200114,"Поводок Premium підкл. неопрен XS–S:1,20м/15мм карамель","Менше 10","Повідки: для прогулянок, тренувальні, з регульованою довжиною",288.85000000000002,358,0,{"$f":"G1290*I1290","v":0}]
[null,1111150603,200111,"Поводок Premium підкл. неопрен XS–S:1,20м/15мм фуксія","Менше 10","Повідки: для прогулянок, тренувальні, з регульованою довжиною",286.87,356,0,{"$f":"G1291*I1291","v":0}]
[null,1111150628,200316,"Поводок Premium підкладка неопрен L–XL:1м/25мм графіт","Більше 10","Повідки: для прогулянок, тренувальні, з регульованою довжиною",392.1,484,0,{"$f":"G1292*I1292","v":0}]
[null,1111150625,200313,"Поводок Premium підкладка неопрен L–XL:1м/25мм індиго","Менше 10","Повідки: для прогулянок, тренувальні, з регульованою довжиною",410.17,506,0,{"$f":"G1293*I1293","v":0}]
[null,1111150631,200319,"Поводок Premium підкладка неопрен L–XL:1м/25мм оливков.","Менше 10","Повідки: для прогулянок, тренувальні, з регульованою довжиною",410.17,506,0,{"$f":"G1294*I1294","v":0}]
[null,1111150618,200216,"Поводок Premium підкладка неопрен M–L:1м/20мм графіт","Більше 10","Повідки: для прогулянок, тренувальні, з регульованою довжиною",313.18,387,0,{"$f":"G1295*I1295","v":0}]
[null,1111150615,200213,"Поводок Premium підкладка неопрен M–L:1м/20мм індиго","Менше 10","Повідки: для прогулянок, тренувальні, з регульованою довжиною",313.11,387,0,{"$f":"G1296*I1296","v":0}]
[null,1111150616,200214,"Поводок Premium підкладка неопрен M–L:1м/20мм карамель","Менше 10","Повідки: для прогулянок, тренувальні, з регульованою довжиною",313.11,387,0,{"$f":"G1297*I1297","v":0}]
[null,1111150621,200219,"Поводок Premium підкладка неопрен M–L:1м/20мм оливковий","Менше 10","Повідки: для прогулянок, тренувальні, з регульованою довжиною",313.11,387,0,{"$f":"G1298*I1298","v":0}]
[null,1111150613,200211,"Поводок Premium підкладка неопрен M–L:1м/20мм фуксія","Менше 10","Повідки: для прогулянок, тренувальні, з регульованою довжиною",313.18,387,0,{"$f":"G1299*I1299","v":0}]
[null,1111150596,200016,"Поводок Premium підкладка неопрен XS:1,20м/10мм графіт","Менше 10","Повідки: для прогулянок, тренувальні, з регульованою довжиною",207.95,257,0,{"$f":"G1300*I1300","v":0}]
[null,1111115591,"14031 Trixie","Поводок-ланцюг з нейлоновою ручкою 1м/4мм чорний","Менше 10","Повідки: для прогулянок, тренувальні, з регульованою довжиною",334.47,413,0,{"$f":"G1301*I1301","v":0}]
[null,1111116594,1983,"Поводок-сворка для двох собак шкіра M-L 35см/18мм","Менше 10","Повідки: для прогулянок, тренувальні, з регульованою довжиною",499.14,617,0,{"$f":"G1302*I1302","v":0}]
[null,1111132113,1982,"Поводок-сворка для двох собак шкіра S-M 30см/13мм","Менше 10","Повідки: для прогулянок, тренувальні, з регульованою довжиною",398.61,493,0,{"$f":"G1303*I1303","v":0}]
[null,1111116593,1981,"Поводок-сворка для двох собак шкіра XS-S 30см/10мм","Менше 10","Повідки: для прогулянок, тренувальні, з регульованою довжиною",331.6,410,0,{"$f":"G1304*I1304","v":0}]
[null,1111168084,38951,"Подушка Kaline овальна 44*31см сіра/кремова","Менше 10","Подушки",435.94,610,0,{"$f":"G1305*I1305","v":0}]
[null,1111112060,60445,"Поїлка автоматична для гризунів  Honey and Hopper  125 мл скло","Менше 10","Обладнання для кліток",191.66,236,0,{"$f":"G1306*I1306","v":0}]
[null,311982,60447,"Поїлка автоматична для гризунів  Honey and Hopper  500 мл скло","Менше 10","Обладнання для кліток",268.08,331,0,{"$f":"G1307*I1307","v":0}]
[null,6934,"6052_1шт","Поїлка автоматична для гризунів 100 мл","Більше 100","Обладнання для кліток",51.36,64,0,{"$f":"G1308*I1308","v":0}]
[null,546,"60571_1шт","Поїлка автоматична для гризунів 125 мл","Більше 10","Обладнання для кліток",76.41,94,0,{"$f":"G1309*I1309","v":0}]
[null,547,"60572_1шт","Поїлка автоматична для гризунів 250 мл","Більше 100","Обладнання для кліток",102.72,127,0,{"$f":"G1310*I1310","v":0}]
[null,5976,"6053_1шт","Поїлка автоматична для гризунів 250 мл","Більше 100","Обладнання для кліток",65.14,81,0,{"$f":"G1311*I1311","v":0}]
[null,5975,"6054_1шт","Поїлка автоматична для гризунів 450 мл","Більше 100","Обладнання для кліток",72.66,90,0,{"$f":"G1312*I1312","v":0}]
[null,1111116147,6065,"Поїлка автоматична для гризунів 450 мл","Більше 10","Обладнання для кліток",76.41,95,0,{"$f":"G1313*I1313","v":0}]
[null,6928,"6051_1шт","Поїлка автоматична для гризунів 50 мл","Більше 100","Обладнання для кліток",51.36,64,0,{"$f":"G1314*I1314","v":0}]
[null,1111122421,"60573_1шт Trixie","Поїлка автоматична для гризунів 500 мл","Більше 10","Обладнання для кліток",129.03,159,0,{"$f":"G1315*I1315","v":0}]
[null,12131,"6050_1шт","Поїлка автоматична для гризунів 600 мл","Більше 10","Обладнання для кліток",87.69,108,0,{"$f":"G1316*I1316","v":0}]
[null,1111137672,60441,"Поїлка для гризунів скло 125 мл","Менше 10","Обладнання для кліток",191.66,236,0,{"$f":"G1317*I1317","v":0}]
[null,1111137673,60442,"Поїлка для гризунів скло 250 мл","Більше 10","Обладнання для кліток",207.95,257,0,{"$f":"G1318*I1318","v":0}]
[null,1111118317,6070,"Поїлка для гризунів скло 50 мл","Більше 10","Обладнання для кліток",115.25,142,0,{"$f":"G1319*I1319","v":0}]
[null,1111118498,5420,"Поїлка для папуг 130мл/16см","Більше 10","Обладнання для кліток",62.64,77,0,{"$f":"G1320*I1320","v":0}]
[null,6926,5410,"Поїлка для папуг 35 мл","Більше 10","Обладнання для кліток",42.59,53,0,{"$f":"G1321*I1321","v":0}]
[null,1111140887,24605,"Поїлка металева 300 мл дорожня","Менше 10","Миски, поїлки для подорожей",368.29,463,0,{"$f":"G1322*I1322","v":0}]
[null,1111121138,2462,"Поїлка пластикова 0,25 л дорожня","Більше 10","Миски, поїлки для подорожей",102.72,130,0,{"$f":"G1323*I1323","v":0}]
[null,13727,2461,"Поїлка пластикова 0,5 л дорожня","Більше 100","Миски, поїлки для подорожей",129.03,163,0,{"$f":"G1324*I1324","v":0}]
[null,1111124228,2459,"Поїлка пластикова 0,7 л дорожня","Більше 100","Миски, поїлки для подорожей",155.34,196,0,{"$f":"G1325*I1325","v":0}]
[null,1111170423,24446,"Поїлка-фонтан д/котівFlower біл/сір.Пласт.2л 18,5*13*18,5 см арт.24446","Менше 10","Автогодівниці, автопоїлки",1010.93,1274,0,{"$f":"G1326*I1326","v":0}]
[null,1111170421,24444,"Поїлка-фонтан д/соб.CurvedStream біла пласт.2,5л25*24,5*35см арт.24444","Менше 10","Автогодівниці, автопоїлки",1484.45,1870,0,{"$f":"G1327*I1327","v":0}]
[null,1111132122,35185,"Поросятко з квітами хрюкаюче 20 см","Менше 10","Іграшки для собак",368.29,454,0,{"$f":"G1328*I1328","v":0}]
[null,1111132125,35190,"Поросятко зі щетиною латексне хрюкаюче 10 см","Більше 10","Іграшки для собак",117.75,145,0,{"$f":"G1329*I1329","v":0}]
[null,1111123631,35499,"Поросятко зі щетиною латексне хрюкаюче 21 см","Більше 10","Іграшки для собак",238.01,294,0,{"$f":"G1330*I1330","v":0}]
[null,1111114475,35092,"Поросятко латексне 13,5 см","Більше 100","Іграшки для собак",71.400000000000006,88,0,{"$f":"G1331*I1331","v":0}]
[null,1111114474,3537,"Поросятко латексне 25 см","Менше 10","Іграшки для собак",147.82,182,0,{"$f":"G1332*I1332","v":0}]
[null,1111119263,35490,"Поросятко латексне хрюкаюче 17 см","Більше 10","Іграшки для собак",238.01,295,0,{"$f":"G1333*I1333","v":0}]
[null,1111116917,35491,"Поросятко латексне хрюкаюче 23 см","Більше 10","Іграшки для собак",238.01,294,0,{"$f":"G1334*I1334","v":0}]
[null,1111136658,35173,"Поросятко латексне яскраве 11 см","Більше 10","Іграшки для собак",219.53,271,0,{"$f":"G1335*I1335","v":0}]
[null,1111157199,19407,"Пояс Trixie для собак підтримуючий неопрен чорний L: 65–75см","Менше 10","Шлеї",286.87,354,0,{"$f":"G1336*I1336","v":0}]
[null,11120,4238,"Притягувач Кошача м ята спрей 150 мл","Більше 10","Засоби для привчання",115.25,142,0,{"$f":"G1337*I1337","v":0}]
[null,1111129085,4241,"Притягувач Кошача м ята спрей 50 мл","Менше 10","Засоби для привчання",87.69,108,0,{"$f":"G1338*I1338","v":0}]
[null,1111118477,2934,"Притягувач-олія до туалету 50 мл","Більше 10","Засоби для привчання",165.36,205,0,{"$f":"G1339*I1339","v":0}]
[null,1111133315,35182,"Пташка латексна 20 см","Більше 10","Іграшки для собак",177.88,219,0,{"$f":"G1340*I1340","v":0}]
[null,1111134632,35968,"Пташка плюшева 30 см","Більше 10","Іграшки для собак",298.14,369,0,{"$f":"G1341*I1341","v":0}]
[null,1111117633,"6288  Trixie","Пуходерка + гребінь для гризуна пластикова ручка 7?13 см","Більше 10","Аксесуари для грумінгу",102.72,127,0,{"$f":"G1342*I1342","v":0}]
[null,4223,2353,"Пуходерка + гребінь для котів дерев яна ручка 6?13 см","Більше 10","Аксесуари для грумінгу",102.72,128,0,{"$f":"G1343*I1343","v":0}]
[null,6194,2356,"Пуходерка + гребінь для собак дерев яна ручка 11?14 см","Більше 10","Аксесуари для грумінгу",155.34,192,0,{"$f":"G1344*I1344","v":0}]
[null,2182,2354,"Пуходерка + гребінь для собак дерев яна ручка 9?13 см","Більше 10","Аксесуари для грумінгу",115.25,142,0,{"$f":"G1345*I1345","v":0}]
[null,1111165536,24057,"Пуходерка Trixie для собак м яка пластик/метал 12*16см","Більше 10","Аксесуари для грумінгу",238.01,294,0,{"$f":"G1346*I1346","v":0}]
[null,1111165535,24055,"Пуходерка Trixie для собак м яка пластик/метал 7*16см","Більше 10","Аксесуари для грумінгу",177.88,219,0,{"$f":"G1347*I1347","v":0}]
[null,1111165623,24056,"Пуходерка Trixie для собак м яка пластик/метал 9*16см","Більше 10","Аксесуари для грумінгу",207.95,257,0,{"$f":"G1348*I1348","v":0}]
[null,1111150261,24155,"Пуходерка д/собак Tangle Teezer пластик, 19см, бірюзова","Більше 100","Аксесуари для грумінгу",102.72,127,0,{"$f":"G1349*I1349","v":0}]
[null,1111113776,2359,"Пуходерка для котів двостороння дерев яна ручка 6?13 см","Більше 10","Аксесуари для грумінгу",106.3,131,0,{"$f":"G1350*I1350","v":0}]
[null,2118,2358,"Пуходерка для котів одинарна дерев яна ручка 6?13 см","Більше 10","Аксесуари для грумінгу",94.74,117,0,{"$f":"G1351*I1351","v":0}]
[null,1111145745,23125,"Пуходерка для котів пластик. ручка з кульками 7?16 см","Більше 10","Аксесуари для грумінгу",298.14,369,0,{"$f":"G1352*I1352","v":0}]
[null,1111113773,2301,"Пуходерка для собак із кульками гумова ручка 10?17 см","Більше 100","Аксесуари для грумінгу",102.72,127,0,{"$f":"G1353*I1353","v":0}]
[null,12276,2306,"Пуходерка для собак із кульками гумова ручка двостороння 10?17 см","Більше 10","Аксесуари для грумінгу",129.03,159,0,{"$f":"G1354*I1354","v":0}]
[null,9745,2305,"Пуходерка для собак із кульками двостороння дерев яна ручка 10?18 см","Більше 10","Аксесуари для грумінгу",129.03,159,0,{"$f":"G1355*I1355","v":0}]
[null,5083,2300,"Пуходерка для собак із кульками дерев яна ручка 10?18 см","Більше 100","Аксесуари для грумінгу",115.25,142,0,{"$f":"G1356*I1356","v":0}]
[null,1111125835,24141,"Пуходерка для собак із кульками пластикова ручка 7?16 см","Менше 10","Аксесуари для грумінгу",298.14,369,0,{"$f":"G1357*I1357","v":0}]
[null,1111125833,24132,"Пуходерка для собак пластикова ручка м яка 10?17 см","Менше 10","Аксесуари для грумінгу",268.08,331,0,{"$f":"G1358*I1358","v":0}]
[null,1111125834,24133,"Пуходерка для собак пластикова ручка м яка 12?20 см","Менше 10","Аксесуари для грумінгу",328.21,405,0,{"$f":"G1359*I1359","v":0}]
[null,1111152084,"92501_1шт","Різдвяна іграшка Олень плюшевий 42 см 1 шт.","Більше 100","Іграшки для собак",294.51,411,0,{"$f":"G1360*I1360","v":0}]
[null,1111183908,"31510_5шт","Рулька з куркою для собак 150 гр","Більше 100","Ласощі для собак",752,977,0,{"$f":"G1361*I1361","v":0}]
[null,1111114716,2882,"Рюкзак-переноска  Tbag  для собаки нейлоновий 30х21х44 см","Більше 10","Сумки-переноски, рюкзаки",904.45,1138,0,{"$f":"G1362*I1362","v":0}]
[null,1111125950,28941,"Рюкзак-переноска  кенгурятник  для собаки нейлоновий 30х26х33 см","Менше 10","Сумки-переноски, рюкзаки",1707.43,2148,0,{"$f":"G1363*I1363","v":0}]
[null,1111183743,28840,"Рюкзак-переноска Trixie Ава 32 х 42 х 20 см сірий Арт28840","Менше 10","Сумки-переноски, рюкзаки",1268,1648,0,{"$f":"G1364*I1364","v":0}]
[null,1111122532,28871,"Рюкзак-переноска для собаки  deLuxe  нейлоновий 41х30х21 см","Менше 10","Сумки-переноски, рюкзаки",1489.46,1874,0,{"$f":"G1365*I1365","v":0}]
[null,12132,3252,"Сарделі на мотузці 75 см","Більше 10","Іграшки для собак",177.88,219,0,{"$f":"G1366*I1366","v":0}]
[null,1111119352,2254,"Свисток Buffalo 6,5 см","Менше 10","Обладнання для аджиліті, дресирування",234.26,294,0,{"$f":"G1367*I1367","v":0}]
[null,1111119353,2255,"Свисток Buffalo 9 см","Менше 10","Обладнання для аджиліті, дресирування",260.56,327,0,{"$f":"G1368*I1368","v":0}]
[null,5569,2258,"Свисток ультразвуковий для собаки 5 см металевий","Більше 10","Обладнання для аджиліті, дресирування",102.72,129,0,{"$f":"G1369*I1369","v":0}]
[null,1111114755,2257,"Свисток ультразвуковий для собаки 8 см метал/пластик","Менше 10","Обладнання для аджиліті, дресирування",115.25,145,0,{"$f":"G1370*I1370","v":0}]
[null,1111146936,29415,"Серветки для очей пластикова банка (30 шт.)","Більше 10","Засоби для догляду за очима та вухами",177.88,219,0,{"$f":"G1371*I1371","v":0}]
[null,1111121025,2940,"Серветки з алое вера універсальні 30 шт.","Більше 10","Вологі серветки універсальні",177.88,219,0,{"$f":"G1372*I1372","v":0}]
[null,1111115170,4505,"Сир хутряний з іграшками 36?8?26 см","Більше 10","Іграшки для котів",334.47,413,0,{"$f":"G1373*I1373","v":0}]
[null,1111136657,35172,"Собака латексна яскрава 8 см","Менше 10","Іграшки для собак",117.75,146,0,{"$f":"G1374*I1374","v":0}]
[null,1111124008,35930,"Собака плюшева кудлата 30 см","Більше 10","Іграшки для собак",238.01,294,0,{"$f":"G1375*I1375","v":0}]
[null,1111163140,35977,"Собака, 26 см, плюш / тканина, в клітинку","Більше 10","Іграшки для собак",177.88,219,0,{"$f":"G1376*I1376","v":0}]
[null,1111163137,35864,"Собака, 28 см, плюш","Більше 10","Іграшки для собак",238.01,294,0,{"$f":"G1377*I1377","v":0}]
[null,1111114677,3242,"Сосиска на мотузці 11 см","Більше 100","Іграшки для собак",60.13,74,0,{"$f":"G1378*I1378","v":0}]
[null,9236,6030,"Спрей антиблошиний біо BioLiberat 100 мл","Більше 10","Протипаразитні препарати: антигельмінтні, інсектицидні, інсектоакарицидні, репелентні",271.83999999999997,351,0,{"$f":"G1379*I1379","v":0}]
[null,12201,2930,"Спрей від ковтунів 150 мл","Більше 10","Косметика, засоби догляду для грумінгу",117.75,146,0,{"$f":"G1380*I1380","v":0}]
[null,8164,2548,"Спрей для зубів з фтором для собак 50 мл","Більше 10","Засоби для догляду за зубами та ротовою порожниною",117.75,145,0,{"$f":"G1381*I1381","v":0}]
[null,1111132059,2572,"Спрей для подушечок лап 50 мл","Більше 10","Засоби для догляду за лапами",102.72,127,0,{"$f":"G1382*I1382","v":0}]
[null,1111137874,44000,"Стовпчик для дряпки 12?30 см","Менше 10","Комплектуючі для дряпок",432.18,544,0,{"$f":"G1383*I1383","v":0}]
[null,1111119421,44002,"Стовпчик для дряпки 12?50 см","Менше 10","Комплектуючі для дряпок",650.15,819,0,{"$f":"G1384*I1384","v":0}]
[null,1111119422,44003,"Стовпчик для дряпки 12?60 см","Менше 10","Комплектуючі для дряпок",795.47,1001,0,{"$f":"G1385*I1385","v":0}]
[null,1111120481,43993,"Стовпчик для дряпки 9?*60 см","Більше 10","Комплектуючі для дряпок",504.84,635,0,{"$f":"G1386*I1386","v":0}]
[null,1111120814,43991,"Стовпчик для дряпки 9?40 см","Більше 10","Комплектуючі для дряпок",359.53,452,0,{"$f":"G1387*I1387","v":0}]
[null,1111120269,43992,"Стовпчик для дряпки 9?50 см","Більше 10","Комплектуючі для дряпок",432.18,544,0,{"$f":"G1388*I1388","v":0}]
[null,1111120631,43994,"Стовпчик для дряпки 9?70 см","Менше 10","Комплектуючі для дряпок",613.82000000000005,773,0,{"$f":"G1389*I1389","v":0}]
[null,1111120126,3238,"Сумка  Baggy  для дресирування 10?15 см","Менше 10","Сумки для їжі, прогулянок і дресирування",119.01,150,0,{"$f":"G1390*I1390","v":0}]
[null,1111122838,3227,"Сумка  Baggy deluxe  для дресирування 10*14 см","Більше 10","Сумки для їжі, прогулянок і дресирування",129.03,163,0,{"$f":"G1391*I1391","v":0}]
[null,1111139966,32283,"Сумка  Dog Activity Baggi  2 в 1  для дресирування 10*13 см","Більше 10","Сумки для їжі, прогулянок і дресирування",219.53,276,0,{"$f":"G1392*I1392","v":0}]
[null,1111134488,"32282_1шт","Сумка  Dog Activity Mini  для дресирування 7*9 см","Більше 10","Сумки для їжі, прогулянок і дресирування",87.69,110,0,{"$f":"G1393*I1393","v":0}]
[null,1111183721,22852,"Сумка для пакетів Trixie для собак неопрен 1 шт на 20 пакетів Арт22852","Більше 10","Пакети, диспенсери",129.03,168,0,{"$f":"G1394*I1394","v":0}]
[null,1111128783,22841,"Сумка нейлонова + пакети для фекалій 2*15 шт. M","Менше 10","Пакети, диспенсери",102.72,130,0,{"$f":"G1395*I1395","v":0}]
[null,1111136845,2331,"Сумка пластикова + пакети для фекалій 2*20 шт. M","Більше 10","Пакети, диспенсери",88.94,111,0,{"$f":"G1396*I1396","v":0}]
[null,1111143757,22846,"Сумка-кісточка пластикова + пакети для фекалій М (15 шт.)","Більше 10","Пакети, диспенсери",88.94,112,0,{"$f":"G1397*I1397","v":0}]
[null,1111143314,36253,"Сумка-переноска  Helen  19х28х40 см сіра","Менше 10","Сумки-переноски, рюкзаки",2434,3063,0,{"$f":"G1398*I1398","v":0}]
[null,1111140967,28952,"Сумка-переноска  Kilian  31х32х48 см блакитна/чорна","Немає в наявності","Сумки-переноски, рюкзаки",1574.82,1980,0,{"$f":"G1399*I1399","v":0}]
[null,1111143310,28954,"Сумка-переноска  Libby  25х27х42 см коричнева/сіра","Менше 10","Сумки-переноски, рюкзаки",1086.0899999999999,1366,0,{"$f":"G1400*I1400","v":0}]
[null,1111116805,36211,"Сумка-переноска  RIVA  26х30х45 см чорна","Більше 10","Сумки-переноски, рюкзаки",1086.0899999999999,1366,0,{"$f":"G1401*I1401","v":0}]
[null,1111118183,39703,"Сумка-переноска  Tcamp  60х50х50 см","Менше 10","Сумки-переноски, рюкзаки",1489.46,1875,0,{"$f":"G1402*I1402","v":0}]
[null,1111150271,28956,"Сумка-переноска Sling Front Bag 50*25*18см рожева/чорна","Менше 10","Сумки-переноски, рюкзаки",722.81,909,0,{"$f":"G1403*I1403","v":0}]
[null,1111119364,28851,"Сумка-переноска Trixie Раян 30 х 30 х 54 см чорна Арт28851","Більше 10","Сумки-переноски, рюкзаки",904,1176,0,{"$f":"G1404*I1404","v":0}]
[null,1111122195,2889,"Сумка-переноска з кісточками  Adrina  42х27х26 см","Менше 10","Сумки-переноски, рюкзаки",904.45,1139,0,{"$f":"G1405*I1405","v":0}]
[null,1111115569,"28841 Trixie","Сумка-переноска з сіткою нейлонова  Ryan  47х27х26 см","Менше 10","Сумки-переноски, рюкзаки",904.45,1138,0,{"$f":"G1406*I1406","v":0}]
[null,1111134485,28903,"Сумка-переноска-будиночок  Maxima  33х32х54 см","Менше 10","Сумки-переноски, рюкзаки",3556.42,4475,0,{"$f":"G1407*I1407","v":0}]
[null,1111123137,2880,"Сумка-рюкзак  Tbag Trolley на колесах 36х50х27 см","Менше 10","Сумки-переноски, рюкзаки",2216.0300000000002,2789,0,{"$f":"G1408*I1408","v":0}]
[null,1111163127,35672,"Сурикат, 40 см, плюш","Менше 10","Іграшки для собак",435.94,538,0,{"$f":"G1409*I1409","v":0}]
[null,1111161177,31855,"Тrixie PREMIO Horse Stripes з кінським м_ясом для собак, 11 см, 100 г","Менше 10","Ласощі для собак",224.23,290,0,{"$f":"G1410*I1410","v":0}]
[null,1111157556,31808,"Тrixie PREMIO з кролячими вухами і куркою для собак, 80 г","Більше 100","Ласощі для собак",92.7,120,0,{"$f":"G1411*I1411","v":0}]
[null,1111126014,76147,"Тераріумний субстрат Trixie букова тирса 10 л Арт76147","Більше 10","Ґрунти, наповнювачі для тераріуму",430,559,0,{"$f":"G1412*I1412","v":0}]
[null,1111126025,76132,"Тераріумний субстрат Trixie пустельний пісок 5кг червоний Арт76132","Більше 10","Ґрунти, наповнювачі для тераріуму",505,656,0,{"$f":"G1413*I1413","v":0}]
[null,1111127603,76115,"Термометр-гігрометр електронний із присоскою для тераріума","Менше 10","Обладнання для тераріуму, комплектуючі",503.59,742,0,{"$f":"G1414*I1414","v":0}]
[null,1111126096,76113,"Термометр-гігрометр механічний для тераріума","Менше 10","Обладнання для тераріуму, комплектуючі",298.14,332,0,{"$f":"G1415*I1415","v":0}]
[null,1111117393,4232,"Трава Trixie Soft Grass для котів і кошенят 100 г (пакет)","Більше 10","Ласощі для котів",92.7,120,0,{"$f":"G1416*I1416","v":0}]
[null,1111115510,4235,"Трава Trixie для котів, 100 г (контейнер)","Більше 100","Ласощі для котів",71.400000000000006,92,0,{"$f":"G1417*I1417","v":0}]
[null,12194,4236,"Трава Trixie для котів, 100 г (пакет)","Більше 10","Ласощі для котів",50.11,65,0,{"$f":"G1418*I1418","v":0}]
[null,1111120133,6035,"Трава Trixie для маленьких тварин 100 г Арт6035","Більше 10","Ласощі для гризунів",73.91,96,0,{"$f":"G1419*I1419","v":0}]
[null,1111115322,6091,"Тримач універсальний (2 шт.)","Більше 10","Обладнання для кліток",35.08,43,0,{"$f":"G1420*I1420","v":0}]
[null,1111121075,23490,"Труси для собак чорні 20-25 см","Більше 10","Гігієнічний одяг",87.69,108,0,{"$f":"G1421*I1421","v":0}]
[null,1111121076,23491,"Труси для собак чорні 24-31 см","Більше 10","Гігієнічний одяг",98.96,123,0,{"$f":"G1422*I1422","v":0}]
[null,1111121077,23492,"Труси для собак чорні 32-39 см","Більше 10","Гігієнічний одяг",110.24,136,0,{"$f":"G1423*I1423","v":0}]
[null,1111121078,23493,"Труси для собак чорні 40-49 см","Більше 10","Гігієнічний одяг",121.51,151,0,{"$f":"G1424*I1424","v":0}]
[null,1111121079,23494,"Труси для собак чорні 50-59 см","Більше 10","Гігієнічний одяг",132.79,164,0,{"$f":"G1425*I1425","v":0}]
[null,1111121080,23495,"Труси для собак чорні 60-70 см","Менше 10","Гігієнічний одяг",155.34,192,0,{"$f":"G1426*I1426","v":0}]
[null,1111165690,40212,"Туал.Trixie д/котів Be Eco Carlo з рамкою перер.пласт сірий 38*17*58см","Менше 10","Туалети",358.27,450,0,{"$f":"G1427*I1427","v":0}]
[null,1111147533,40275,"Туалет  Vico  закр. д/котів з дверима 40 * 40 * 56 см, бірюз. / білий","Менше 10","Туалети",610.9,768,0,{"$f":"G1428*I1428","v":0}]
[null,1111149306,40345,"Туалет  Vico Easy Clean  закритий для котів з дверима 40 * 40 * 56 см,","Менше 10","Туалети",954.27,1200,0,{"$f":"G1429*I1429","v":0}]
[null,1111165633,40184,"Туалет Trixie для котів Classic з рамкою срий/білий пластик 37*15*47см","Менше 10","Туалети",323.2,407,0,{"$f":"G1430*I1430","v":0}]
[null,1111165777,40278,"Туалет Trixie для котів Vico закритий пластик фіол/білий 40*40*56см","Менше 10","Туалети",610.9,768,0,{"$f":"G1431*I1431","v":0}]
[null,1111149279,40154,"Туалет д/котів Berto рамка + сітка 59?39?22 см сірий","Більше 10","Туалети",792.33,996,0,{"$f":"G1432*I1432","v":0}]
[null,1111150307,40271,"Туалет д/котів Vico закритий, 40?40?56см графіт/сірий","Більше 10","Туалети",610.9,768,0,{"$f":"G1433*I1433","v":0}]
[null,1111165723,40279,"Туалет для котів  Carlo  43х31х14 см","Більше 10","Туалети",883.31,1111,0,{"$f":"G1434*I1434","v":0}]
[null,8162,40111,"Туалет для котів  Carlo  43х31х14 см","Більше 10","Туалети",249.18,314,0,{"$f":"G1435*I1435","v":0}]
[null,8150,40121,"Туалет для котів  Carlo  58х38х17 см","Більше 10","Туалети",358.27,451,0,{"$f":"G1436*I1436","v":0}]
[null,1111143300,40394,"Туалет для котів  Cisco з рамкою напівпрозорий 38х11х50 см","Більше 10","Туалети",334.47,422,0,{"$f":"G1437*I1437","v":0}]
[null,1111137777,4040,"Туалет для котів  Mio з рамкою 43х32х12 см","Більше 10","Туалети",233,294,0,{"$f":"G1438*I1438","v":0}]
[null,1111119259,4042,"Туалет для котів 37х27х9 см","Більше 10","Туалети",141.56,178,0,{"$f":"G1439*I1439","v":0}]
[null,1111166535,40397,"Туалет для котов Delio с рамкой 38*20*50см серый пластик","Менше 10","Туалети",577.5,727,0,{"$f":"G1440*I1440","v":0}]
[null,1111127519,23415,"Туалет для цуценят під пелюшку 49х41 см","Більше 10","Туалети",435.94,549,0,{"$f":"G1441*I1441","v":0}]
[null,1111127520,23416,"Туалет для цуценят під пелюшку 65х55 см","Більше 10","Туалети",1010.93,1273,0,{"$f":"G1442*I1442","v":0}]
[null,1111183757,40210,"Туалет-будиночок Trixie Віко 40х40х56см антрацит сіро-зелений Арт40210","Більше 10","Туалети",611,794,0,{"$f":"G1443*I1443","v":0}]
[null,1111150588,40341,"Туалет-будиночок Trixie Віко 40х40х56см сіро-білий Арт40341","Більше 10","Туалети",973,1264,0,{"$f":"G1444*I1444","v":0}]
[null,1111130641,62796,"Тунель Trixie для гри пластиковий для гризунів бірюзовий Арт62796","Більше 10","Обладнання для кліток",148,192,0,{"$f":"G1445*I1445","v":0}]
[null,1111183786,60770,"Тунель Trixie з сіном і корою для гризунів 6,5 х 20 см 25 г Арт60770","Більше 10","Обладнання для кліток",351,456,0,{"$f":"G1446*I1446","v":0}]
[null,1111134905,6130,"Тунель дерев яний для гризунів 20 см","Більше 10","Обладнання для кліток",147.82,183,0,{"$f":"G1447*I1447","v":0}]
[null,1111117659,6131,"Тунель дерев яний для гризунів 30 см","Менше 10","Обладнання для кліток",238.01,294,0,{"$f":"G1448*I1448","v":0}]
[null,1111137485,4305,"Тунель нейлоновий для котів 3?22?50 см","Менше 10","Гамаки, мішки, тенти, тунелі",571.23,720,0,{"$f":"G1449*I1449","v":0}]
[null,1111114747,4302,"Тунель тканинний для котів 115см?d30см","Більше 10","Гамаки, мішки, тенти, тунелі",435.94,549,0,{"$f":"G1450*I1450","v":0}]
[null,1111115586,4301,"Тунель тканинний для котів 50см?d25см","Менше 10","Гамаки, мішки, тенти, тунелі",334.47,421,0,{"$f":"G1451*I1451","v":0}]
[null,1111127080,6910,"Тунель тканинний для хорька 20?45 см","Більше 10","Обладнання для кліток",177.88,220,0,{"$f":"G1452*I1452","v":0}]
[null,1111163143,36045,"Тюлень BE NORDIC, 30 см, поліестер","Менше 10","Іграшки для собак",268.08,332,0,{"$f":"G1453*I1453","v":0}]
[null,1111119346,2148,"Удавка велика ланка хромована 46см/3мм","Менше 10","Нашийники, нашийники-зашморги",102.72,127,0,{"$f":"G1454*I1454","v":0}]
[null,1111119349,2151,"Удавка велика ланка хромована 59см/4мм","Менше 10","Нашийники, нашийники-зашморги",181.64,226,0,{"$f":"G1455*I1455","v":0}]
[null,1111143068,2167,"Удавка нержавіюча сталь 52см/3мм","Менше 10","Нашийники, нашийники-зашморги",191.8,238,0,{"$f":"G1456*I1456","v":0}]
[null,1111143069,2168,"Удавка нержавіюча сталь 57см/3мм","Менше 10","Нашийники, нашийники-зашморги",216.06,267,0,{"$f":"G1457*I1457","v":0}]
[null,1111183762,41310,"Указка Trixie світлодіодна з малюнком миші 11 см Арт41310","Більше 10","Іграшки для котів",238,309,0,{"$f":"G1458*I1458","v":0}]
[null,1111128767,4130,"Указка лазерна  Catch the light  для котів","Більше 100","Іграшки для котів",129.03,159,0,{"$f":"G1459*I1459","v":0}]
[null,1111141009,41311,"Указка лазерна  Moving Light  для котів 11 см на стіну","Менше 10","Іграшки для котів",899.44,1111,0,{"$f":"G1460*I1460","v":0}]
[null,1111114744,3297,"Ухватка джутова 25 см","Менше 10","Іграшки для собак",207.95,257,0,{"$f":"G1461*I1461","v":0}]
[null,1111170422,24445,"Фільтр Trixie змінний для фонтану 24444 6шт арт.24445","Більше 10","Комплектуючі до мисок, автогодівниць, автопоїлок, туалетів",41.34,52,0,{"$f":"G1462*I1462","v":0}]
[null,1111170424,24447,"Фільтр Trixie змінний для фонтану 24446 2шт арт.24447","Менше 10","Комплектуючі до мисок, автогодівниць, автопоїлок, туалетів",48.86,62,0,{"$f":"G1463*I1463","v":0}]
[null,1111126382,40350,"Фільтр для туалету 40284/40286/40342/40345","Менше 10","Комплектуючі до мисок, автогодівниць, автопоїлок, туалетів",71.2,89,0,{"$f":"G1464*I1464","v":0}]
[null,1111183735,24464,"Фонтан Trixie автомат з бульбашками 3л 25х16см блакитно-білий Арт24464","Більше 10","Автогодівниці, автопоїлки",1268.99,1650,0,{"$f":"G1465*I1465","v":0}]
[null,1111183734,24462,"Фонтан Trixie автоматичний 2 реж 1л 20х12х23см біло-блакитний Арт24462","Більше 10","Автогодівниці, автопоїлки",1180.05,1534,0,{"$f":"G1466*I1466","v":0}]
[null,1111147060,35854,"Черепаха з оригінальним звуком плюш 40 см","Менше 10","Іграшки для собак",435.94,539,0,{"$f":"G1467*I1467","v":0}]
[null,12228,1958,"Чобітки Walker 2 шт. L чорні","Більше 10","Шкарпетки, панчохи",177.88,219,0,{"$f":"G1468*I1468","v":0}]
[null,1111114368,1956,"Чобітки Walker 2 шт. S чорні","Менше 10","Шкарпетки, панчохи",132.79,164,0,{"$f":"G1469*I1469","v":0}]
[null,12227,1955,"Чобітки Walker 2 шт. XXL чорні","Більше 10","Шкарпетки, панчохи",222.98,275,0,{"$f":"G1470*I1470","v":0}]
[null,12229,1957,"Чобітки Walker 2 шт. М чорні","Більше 10","Шкарпетки, панчохи",155.34,192,0,{"$f":"G1471*I1471","v":0}]
[null,7287,1959,"Чобітки Walker 2 шт. ХL чорні","Менше 10","Шкарпетки, панчохи",200.43,248,0,{"$f":"G1472*I1472","v":0}]
[null,1111114704,1949,"Чобітки Walker для собак ХХХL чорні","Менше 10","Шкарпетки, панчохи",222.98,275,0,{"$f":"G1473*I1473","v":0}]
[null,13423,2908,"Шампунь для котів 250 мл","Більше 10","Косметика, засоби догляду для грумінгу",131.53,163,0,{"$f":"G1474*I1474","v":0}]
[null,1111132995,29191,"Шампунь для котів 250 мл довгошерстих порід","Більше 100","Косметика, засоби догляду для грумінгу",131.53,163,0,{"$f":"G1475*I1475","v":0}]
[null,1111119475,2917,"Шампунь для котів і собак 1 л нейтральний","Більше 10","Косметика, засоби догляду для грумінгу",298.14,368,0,{"$f":"G1476*I1476","v":0}]
[null,12380,2907,"Шампунь для котів і собак 250 мл нейтральний","Більше 100","Косметика, засоби догляду для грумінгу",131.53,163,0,{"$f":"G1477*I1477","v":0}]
[null,1111119470,2910,"Шампунь для собак 1 л з олією макадамії й обліпихи","Більше 10","Косметика, засоби догляду для грумінгу",298.14,368,0,{"$f":"G1478*I1478","v":0}]
[null,1111138459,29198,"Шампунь для собак 250 мл  Skin Care","Менше 10","Косметика, засоби догляду для грумінгу",131.53,163,0,{"$f":"G1479*I1479","v":0}]
[null,1111138458,29197,"Шампунь для собак 250 мл  Two in one","Більше 10","Косметика, засоби догляду для грумінгу",131.53,163,0,{"$f":"G1480*I1480","v":0}]
[null,9728,2914,"Шампунь для собак 250 мл білого окрасу","Більше 100","Косметика, засоби догляду для грумінгу",131.53,163,0,{"$f":"G1481*I1481","v":0}]
[null,1111132057,2921,"Шампунь для собак 250 мл від ковтунів","Більше 10","Косметика, засоби догляду для грумінгу",131.53,163,0,{"$f":"G1482*I1482","v":0}]
[null,9922,2901,"Шампунь для собак 250 мл довгошерстих порід","Більше 10","Косметика, засоби догляду для грумінгу",131.53,163,0,{"$f":"G1483*I1483","v":0}]
[null,1111115314,2905,"Шампунь для собак 250 мл довгошерстих порід з кокосовою олією","Більше 10","Косметика, засоби догляду для грумінгу",131.53,163,0,{"$f":"G1484*I1484","v":0}]
[null,12663,2898,"Шампунь для собак 250 мл з алое вера","Більше 100","Косметика, засоби догляду для грумінгу",131.53,163,0,{"$f":"G1485*I1485","v":0}]
[null,1111137774,29195,"Шампунь для собак 250 мл з олією макадамії й обліпихи","Більше 10","Косметика, засоби догляду для грумінгу",131.53,163,0,{"$f":"G1486*I1486","v":0}]
[null,11731,2945,"Шампунь для собак 250 мл з олією чайного дерева","Більше 10","Косметика, засоби догляду для грумінгу",131.53,163,0,{"$f":"G1487*I1487","v":0}]
[null,11941,2942,"Шампунь для собак 250 мл зволожуючий з олією мелії","Більше 10","Косметика, засоби догляду для грумінгу",131.53,163,0,{"$f":"G1488*I1488","v":0}]
[null,1291,2899,"Шампунь для собак 250 мл медовий","Менше 10","Косметика, засоби догляду для грумінгу",131.53,163,0,{"$f":"G1489*I1489","v":0}]
[null,1111114673,2904,"Шампунь для собак 250 мл проти лупи","Більше 10","Косметика, засоби догляду для грумінгу",131.53,163,0,{"$f":"G1490*I1490","v":0}]
[null,9727,2915,"Шампунь для собак 250 мл чорного окрасу","Більше 10","Косметика, засоби догляду для грумінгу",131.53,163,0,{"$f":"G1491*I1491","v":0}]
[null,1111167885,29199,"Шампунь для собак з олією коноплі 250мл","Менше 10","Косметика, засоби догляду для грумінгу",136.34,169,0,{"$f":"G1492*I1492","v":0}]
[null,5681,29181,"Шампунь для собак і котів 100 гр сухий","Більше 10","Косметика, засоби догляду для грумінгу",102.72,127,0,{"$f":"G1493*I1493","v":0}]
[null,1111128596,29182,"Шампунь для собак і котів 200 гр сухий","Більше 10","Косметика, засоби догляду для грумінгу",155.34,192,0,{"$f":"G1494*I1494","v":0}]
[null,1111167886,25393,"Шампунь для собак проти бліх та кліщів 250мл","Більше 10","Косметика, засоби догляду для грумінгу",311.92,386,0,{"$f":"G1495*I1495","v":0}]
[null,1111119474,2916,"Шампунь для цуценят 1 л","Більше 10","Косметика, засоби догляду для грумінгу",298.14,368,0,{"$f":"G1496*I1496","v":0}]
[null,1111114574,2906,"Шампунь для цуценят 250 мл","Більше 100","Косметика, засоби догляду для грумінгу",131.53,163,0,{"$f":"G1497*I1497","v":0}]
[null,1111146935,29194,"Шампунь з апельсином 250 мл","Більше 10","Косметика, засоби догляду для грумінгу",131.53,163,0,{"$f":"G1498*I1498","v":0}]
[null,1111114675,2903,"Шампунь-кондиціонер для собак 250 мл","Немає в наявності","Косметика, засоби догляду для грумінгу",131.53,163,0,{"$f":"G1499*I1499","v":0}]
[null,1111115547,14321,"Шлея  Classic  M-L 50-75см/20мм нейлон чорна","Менше 10","Шлеї",184.86,228,0,{"$f":"G1500*I1500","v":0}]
[null,1111147400,14313,"Шлея  Classic , S-M 40-65см/15мм нейлон червона","Менше 10","Шлеї",132.87,164,0,{"$f":"G1501*I1501","v":0}]
[null,1111147378,14303,"Шлея  Classic , XS-S, 30-40 см / 10 мм, нейлон, червона","Більше 10","Шлеї",112.07,139,0,{"$f":"G1502*I1502","v":0}]
[null,1111134298,12233,"Шлея  Safer Life Silver  з лапками світловідбиваюча M-L 50-75см/25мм","Менше 10","Шлеї",523.63,647,0,{"$f":"G1503*I1503","v":0}]
[null,1111134297,12232,"Шлея  Safer Life Silver  з лапками світловідбиваюча S-M 40-65см/20мм","Більше 10","Шлеї",392.1,485,0,{"$f":"G1504*I1504","v":0}]
[null,1111134296,12231,"Шлея  Safer Life Silver  з лапками світловідбиваюча XS-S 30-40см/15мм","Більше 10","Шлеї",313.18,387,0,{"$f":"G1505*I1505","v":0}]
[null,1111148846,"203502 /20352","Шлея Premium нейлонова L-XL 75-100см/25мм синя","Менше 10","Шлеї",471.02,582,0,{"$f":"G1506*I1506","v":0}]
[null,1111150798,203917,"Шлея Premium туристична M:45–70см/25мм яскраво-зелена","Менше 10","Шлеї",458.7,567,0,{"$f":"G1507*I1507","v":0}]
[null,1111150807,204016,"Шлея Premium туристична M–L:50–80см/25мм графітова","Менше 10","Шлеї",497.32,614,0,{"$f":"G1508*I1508","v":0}]
[null,1111150802,204011,"Шлея Premium туристична M–L:50–80см/25мм фуксія","Менше 10","Шлеї",497.32,614,0,{"$f":"G1509*I1509","v":0}]
[null,1111150777,203716,"Шлея Premium туристична S:35–50см/20мм графітова","Менше 10","Шлеї",365.79,452,0,{"$f":"G1510*I1510","v":0}]
[null,1111150788,203817,"Шлея Premium туристична S–M:40–60см/20мм яскраво-зелена","Менше 10","Шлеї",361.64,447,0,{"$f":"G1511*I1511","v":0}]
[null,1111150767,203616,"Шлея Premium туристична XS–S:30–40см/15мм графітова","Менше 10","Шлеї",313.18,388,0,{"$f":"G1512*I1512","v":0}]
[null,1111150762,203611,"Шлея Premium туристична XS–S:30–40см/15мм фуксія","Менше 10","Шлеї",313.18,388,0,{"$f":"G1513*I1513","v":0}]
[null,1111147048,16278,"Шлея Soft м яка S 33-50см/20мм фуксія","Менше 10","Шлеї",576.24,712,0,{"$f":"G1514*I1514","v":0}]
[null,1111143743,16271,"Шлея Soft м яка S 33-50см/20мм чорна","Менше 10","Шлеї",576.24,712,0,{"$f":"G1515*I1515","v":0}]
[null,1111147052,16288,"Шлея Soft м яка S-M 35-60см/20мм фуксія","Менше 10","Шлеї",655.16,809,0,{"$f":"G1516*I1516","v":0}]
[null,1111147049,16283,"Шлея Soft м яка S-M 35-60см/20мм червона","Менше 10","Шлеї",655.16,809,0,{"$f":"G1517*I1517","v":0}]
[null,1111143744,16281,"Шлея Soft м яка S-M 35-60см/20мм чорна","Менше 10","Шлеї",655.16,809,0,{"$f":"G1518*I1518","v":0}]
[null,1111147044,16268,"Шлея Soft м яка XS-S 30-45см/15мм фуксія","Менше 10","Шлеї",497.32,614,0,{"$f":"G1519*I1519","v":0}]
[null,1111143742,16261,"Шлея Soft м яка XS-S 30-45см/15мм чорна","Менше 10","Шлеї",497.32,614,0,{"$f":"G1520*I1520","v":0}]
[null,1111147036,16248,"Шлея Soft м яка XXS-XS 25-35см/15мм фуксія","Менше 10","Шлеї",392.1,485,0,{"$f":"G1521*I1521","v":0}]
[null,1111147033,16243,"Шлея Soft м яка XXS-XS 25-35см/15мм червона","Менше 10","Шлеї",392.1,485,0,{"$f":"G1522*I1522","v":0}]
[null,1111143741,16251,"Шлея Soft м яка XXS-XS 28-40см/15мм чорна","Менше 10","Шлеї",444.71,549,0,{"$f":"G1523*I1523","v":0}]
[null,1111150873,204820,"Шлея-вісімка Premium XXS–XS:20–32см/10мм рожева","Менше 10","Шлеї",143.27000000000001,177,0,{"$f":"G1524*I1524","v":0}]
[null,1111147185,"204203 /20423","Шлея-вісімка Premium нейлон L-XL 70-100см/25мм червона","Менше 10","Шлеї",523.63,647,0,{"$f":"G1525*I1525","v":0}]
[null,1111148869,"203902 /20392","Шлея-вісімка Premium нейлонова M 45-70см/25мм синя","Менше 10","Шлеї",497.32,614,0,{"$f":"G1526*I1526","v":0}]
[null,1111148868,"203901 /20391","Шлея-вісімка Premium нейлонова M 45-70см/25мм чорна","Менше 10","Шлеї",497.32,614,0,{"$f":"G1527*I1527","v":0}]
[null,1111148876,"203702 /20372","Шлея-вісімка Premium нейлонова S 35-50см/20мм синя","Менше 10","Шлеї",365.79,452,0,{"$f":"G1528*I1528","v":0}]
[null,1111148877,"203703 /20373","Шлея-вісімка Premium нейлонова S 35-50см/20мм червона","Менше 10","Шлеї",365.79,452,0,{"$f":"G1529*I1529","v":0}]
[null,1111148884,"203803 /20383","Шлея-вісімка Premium нейлонова S-M 40-70см/20мм червона","Менше 10","Шлеї",392.1,485,0,{"$f":"G1530*I1530","v":0}]
[null,1111150757,203516,"Шлея-вісімка Premium, L–XL:75–120см/25мм графітова","Менше 10","Шлеї",471.02,581,0,{"$f":"G1531*I1531","v":0}]
[null,1111150755,203513,"Шлея-вісімка Premium, L–XL:75–120см/25мм індиго","Менше 10","Шлеї",434.43,536,0,{"$f":"G1532*I1532","v":0}]
[null,1111150759,203519,"Шлея-вісімка Premium, L–XL:75–120см/25мм оливкова","Менше 10","Шлеї",434.43,536,0,{"$f":"G1533*I1533","v":0}]
[null,1111150520,203403,"Шлея-вісімка Premium, M–L:50–75см/20мм червона","Менше 10","Шлеї",339.48,421,0,{"$f":"G1534*I1534","v":0}]
[null,1111150750,203416,"Шлея-вісімка Premium, M–L:52–75см/20мм графітова","Більше 10","Шлеї",339.48,421,0,{"$f":"G1535*I1535","v":0}]
[null,1111151096,203413,"Шлея-вісімка Premium, M–L:52–75см/20мм індиго","Більше 10","Шлеї",313.11,388,0,{"$f":"G1536*I1536","v":0}]
[null,1111150751,203418,"Шлея-вісімка Premium, M–L:52–75см/20мм папайя","Менше 10","Шлеї",313.11,388,0,{"$f":"G1537*I1537","v":0}]
[null,1111150747,203316,"Шлея-вісімка Premium, S–M:42–60см/15мм графітова","Більше 10","Шлеї",260.56,321,0,{"$f":"G1538*I1538","v":0}]
[null,1111151092,203313,"Шлея-вісімка Premium, S–M:42–60см/15мм індиго","Менше 10","Шлеї",216.06,266,0,{"$f":"G1539*I1539","v":0}]
[null,1111151141,203320,"Шлея-вісімка Premium, S–M:42–60см/15мм нейлон рожева","Менше 10","Шлеї",216.06,266,0,{"$f":"G1540*I1540","v":0}]
[null,1111151093,203318,"Шлея-вісімка Premium, S–M:42–60см/15мм папайя","Менше 10","Шлеї",216.06,266,0,{"$f":"G1541*I1541","v":0}]
[null,1111150739,203216,"Шлея-вісімка Premium, XS–S:30–44см/10мм графітова","Менше 10","Шлеї",207.95,257,0,{"$f":"G1542*I1542","v":0}]
[null,1111150742,203219,"Шлея-вісімка Premium, XS–S:30–44см/10мм оливкова","Менше 10","Шлеї",167.53,207,0,{"$f":"G1543*I1543","v":0}]
[null,1111150740,203218,"Шлея-вісімка Premium, XS–S:30–44см/10мм папайя","Менше 10","Шлеї",167.53,207,0,{"$f":"G1544*I1544","v":0}]
[null,1111150743,203220,"Шлея-вісімка Premium, XS–S:30–44см/10мм яскраво-рожева","Менше 10","Шлеї",167.53,207,0,{"$f":"G1545*I1545","v":0}]
[null,1111150870,204816,"Шлея-вісімка Premium, XXS–XS:20–32см/10мм графітова","Менше 10","Шлеї",181.64,224,0,{"$f":"G1546*I1546","v":0}]
[null,1111150868,204813,"Шлея-вісімка Premium, XXS–XS:20–32см/10мм індиго","Менше 10","Шлеї",143.27000000000001,177,0,{"$f":"G1547*I1547","v":0}]
[null,1111150872,204819,"Шлея-вісімка Premium, XXS–XS:20–32см/10мм оливкова","Менше 10","Шлеї",143.27000000000001,177,0,{"$f":"G1548*I1548","v":0}]
[null,1111163598,203724,"Шлея-вісімка Premium,S,35-65 см/20 мм, нейлон, м ятна","Менше 10","Шлеї",337.38,417,0,{"$f":"G1549*I1549","v":0}]
[null,1111148889,204601,"Шлея-зашморг Premium нейлонова L 65-80см/25мм чорна","Менше 10","Шлеї",442.2,546,0,{"$f":"G1550*I1550","v":0}]
[null,1111148897,204701,"Шлея-зашморг Premium нейлонова XL 80-100см/25мм чорна","Менше 10","Шлеї",513.61,634,0,{"$f":"G1551*I1551","v":0}]
[null,1111150528,204301,"Шлея-петля  Premium , XS-S, 30-40 см / 10 мм, чорна","Більше 10","Шлеї",207.95,257,0,{"$f":"G1552*I1552","v":0}]
[null,1111150856,204616,"Шлея-петля Premium, L:65–80см/25мм графітова","Менше 10","Шлеї",442.2,546,0,{"$f":"G1553*I1553","v":0}]
[null,1111150854,204613,"Шлея-петля Premium, L:65–80см/25мм індиго","Менше 10","Шлеї",407.86,504,0,{"$f":"G1554*I1554","v":0}]
[null,1111150855,204614,"Шлея-петля Premium, L:65–80см/25мм карамель","Менше 10","Шлеї",407.86,504,0,{"$f":"G1555*I1555","v":0}]
[null,1111150858,204619,"Шлея-петля Premium, L:65–80см/25мм оливкова","Менше 10","Шлеї",407.86,504,0,{"$f":"G1556*I1556","v":0}]
[null,1111150853,204611,"Шлея-петля Premium, L:65–80см/25мм фуксія","Менше 10","Шлеї",442.2,546,0,{"$f":"G1557*I1557","v":0}]
[null,1111150849,204516,"Шлея-петля Premium, M:50–65см/20мм графітова","Менше 10","Шлеї",305.66000000000003,377,0,{"$f":"G1558*I1558","v":0}]
[null,1111150847,204513,"Шлея-петля Premium, M:50–65см/20мм індиго","Менше 10","Шлеї",281.92,348,0,{"$f":"G1559*I1559","v":0}]
[null,1111150848,204514,"Шлея-петля Premium, M:50–65см/20мм карамель","Менше 10","Шлеї",281.92,348,0,{"$f":"G1560*I1560","v":0}]
[null,1111150851,204519,"Шлея-петля Premium, M:50–65см/20мм оливкова","Менше 10","Шлеї",281.92,348,0,{"$f":"G1561*I1561","v":0}]
[null,1111150535,204502,"Шлея-петля Premium, M:50–65см/20мм синя","Менше 10","Шлеї",305.66000000000003,377,0,{"$f":"G1562*I1562","v":0}]
[null,1111150846,204511,"Шлея-петля Premium, M:50–65см/20мм фуксія","Менше 10","Шлеї",305.66000000000003,377,0,{"$f":"G1563*I1563","v":0}]
[null,1111150536,204503,"Шлея-петля Premium, M:50–65см/20мм червона","Менше 10","Шлеї",305.66000000000003,377,0,{"$f":"G1564*I1564","v":0}]
[null,1111150534,204501,"Шлея-петля Premium, M:50–65см/20мм чорна","Менше 10","Шлеї",305.66000000000003,377,0,{"$f":"G1565*I1565","v":0}]
[null,1111150850,204517,"Шлея-петля Premium, M:50–65см/20мм яскраво-зелена","Менше 10","Шлеї",281.92,348,0,{"$f":"G1566*I1566","v":0}]
[null,1111150842,204416,"Шлея-петля Premium, S:40–50см/15мм графітова","Більше 10","Шлеї",253.05,311,0,{"$f":"G1567*I1567","v":0}]
[null,1111150841,204414,"Шлея-петля Premium, S:40–50см/15мм карамель","Менше 10","Шлеї",199.89,246,0,{"$f":"G1568*I1568","v":0}]
[null,1111150844,204419,"Шлея-петля Premium, S:40–50см/15мм оливкова","Менше 10","Шлеї",199.89,246,0,{"$f":"G1569*I1569","v":0}]
[null,1111150532,204402,"Шлея-петля Premium, S:40–50см/15мм синя","Менше 10","Шлеї",253.05,311,0,{"$f":"G1570*I1570","v":0}]
[null,1111150839,204411,"Шлея-петля Premium, S:40–50см/15мм фуксія","Менше 10","Шлеї",253.05,311,0,{"$f":"G1571*I1571","v":0}]
[null,1111150533,204403,"Шлея-петля Premium, S:40–50см/15мм червона","Більше 10","Шлеї",253.05,311,0,{"$f":"G1572*I1572","v":0}]
[null,1111150531,204401,"Шлея-петля Premium, S:40–50см/15мм чорна","Більше 10","Шлеї",253.05,311,0,{"$f":"G1573*I1573","v":0}]
[null,1111150843,204417,"Шлея-петля Premium, S:40–50см/15мм яскраво-зелена","Менше 10","Шлеї",199.89,246,0,{"$f":"G1574*I1574","v":0}]
[null,1111150836,204316,"Шлея-петля Premium, XS–S:30–40см/10мм графітова","Більше 10","Шлеї",207.95,257,0,{"$f":"G1575*I1575","v":0}]
[null,1111150834,204313,"Шлея-петля Premium, XS–S:30–40см/10мм індиго","Менше 10","Шлеї",181.4,224,0,{"$f":"G1576*I1576","v":0}]
[null,1111150835,204314,"Шлея-петля Premium, XS–S:30–40см/10мм карамель","Більше 10","Шлеї",181.4,224,0,{"$f":"G1577*I1577","v":0}]
[null,1111150838,204319,"Шлея-петля Premium, XS–S:30–40см/10мм оливкова","Менше 10","Шлеї",181.4,224,0,{"$f":"G1578*I1578","v":0}]
[null,1111150529,204302,"Шлея-петля Premium, XS–S:30–40см/10мм синя","Менше 10","Шлеї",207.95,257,0,{"$f":"G1579*I1579","v":0}]
[null,1111150833,204311,"Шлея-петля Premium, XS–S:30–40см/10мм фуксія","Менше 10","Шлеї",207.95,257,0,{"$f":"G1580*I1580","v":0}]
[null,1111150530,204303,"Шлея-петля Premium, XS–S:30–40см/10мм червона","Менше 10","Шлеї",207.95,257,0,{"$f":"G1581*I1581","v":0}]
[null,1111150837,204317,"Шлея-петля Premium, XS–S:30–40см/10мм яскраво-зелена","Менше 10","Шлеї",181.4,224,0,{"$f":"G1582*I1582","v":0}]
[null,1111134466,2297,"Щипці-крючок для витягання кліщів пластикові 6,5 см","Більше 10","Інструменти для видалення кліщів",65.14,80,0,{"$f":"G1583*I1583","v":0}]
[null,1111165534,24053,"Щітка Trixie для шерсті двостороння нейлон/метал/пластик 5*12см","Менше 10","Аксесуари для грумінгу",191.8,237,0,{"$f":"G1584*I1584","v":0}]
[null,1111113774,2322,"Щітка д/Соб.таКот.двост.кругл.зНейл./метал.щетин.дерев.5*17см арт.2322","Більше 10","Аксесуари для грумінгу",129.03,159,0,{"$f":"G1585*I1585","v":0}]
[null,9746,2333,"Щітка для собак гумова м яка 9?13 см","Більше 10","Аксесуари для грумінгу",207.95,257,0,{"$f":"G1586*I1586","v":0}]
[null,12274,2336,"Щітка для собак гумова меланж 9?13 см","Немає в наявності","Аксесуари для грумінгу",191.66,236,0,{"$f":"G1587*I1587","v":0}]
[null,12129,2330,"Щітка для тер єра з кульками 7?12 см","Більше 10","Аксесуари для грумінгу",129.03,159,0,{"$f":"G1588*I1588","v":0}]
[null,4701,2335,"Щітка-рукавиця  Handy Pet","Більше 10","Аксесуари для грумінгу",115.25,142,0,{"$f":"G1589*I1589","v":0}]
[null,1111134531,23391,"Щітка-рукавиця 18?24 см","Більше 10","Аксесуари для грумінгу",115.25,143,0,{"$f":"G1590*I1590","v":0}]
[null,12275,2334,"Щітка-рукавиця для собак гумова масажна 12?20 см","Більше 10","Аксесуари для грумінгу",219.53,271,0,{"$f":"G1591*I1591","v":0}]
[null,1111135345,23392,"Щітка-рукавиця із кульками 18?24 см","Більше 10","Аксесуари для грумінгу",207.95,257,0,{"$f":"G1592*I1592","v":0}]
[null,1111183267,42754,"Юніор Лосось Хмари 40 г","Більше 100","Ласощі для котів",65.14,85,0,{"$f":"G1593*I1593","v":0}]

{"sheet":"Tropical","index":65,"n_rows":53,"n_cols":10,"rows_kept":53,"cut":false,"hidden":false,"merged":[]}
[]
[null,null,null,null,null,null,"suziria.ua"]
[null,null,null,null,null,null,"0 800 21 82 99"]
[null,null,null,null,null,null,"feedback@suziria.ua"]
[]
["Зображення","Код","Артикул","Номенклатура","Наявність","Категорія","Ціна опт.","Ціна РРЦ","Замовлення, шт.","Сума, грн."]
[null,null,null,null,null,null,null,null,null,{"$f":"SUM(J8:J53)","v":0}]
[null,1111137330,33032,"Algin 50 мл боротьба з зеленими водорост.","Менше 10","Засоби для догляду за акваріумом, живими рослинами, його мешканцями",121.5,164,0,{"$f":"G8*I8","v":0}]
[null,13109,34301,"Bactro Аctive 30 мл живі культури бактерій","Більше 10","Засоби для догляду за акваріумом, живими рослинами, його мешканцями",99.41,134,0,{"$f":"G9*I9","v":0}]
[null,1111130542,61441,"Betta granulat 10 г гранули основний корм для півників","Більше 10","Корм сухий для риб",72.290000000000006,98,0,{"$f":"G10*I10","v":0}]
[null,1111130534,11366,"Biorept W 1 л /300g","Менше 10","Корм сухий для черепах і рептилій",406.68,549,0,{"$f":"G11*I11","v":0}]
[null,1111129777,11363,"Biorept W 100 мл /30g","Більше 10","Корм сухий для черепах і рептилій",86.35,117,0,{"$f":"G12*I12","v":0}]
[null,1111113184,11341,"Biorept W 20g","Більше 10","Корм сухий для черепах і рептилій",53.22,72,0,{"$f":"G13*I13","v":0}]
[null,1111130533,11364,"Biorept W 250 мл /75 г","Більше 10","Корм сухий для черепах і рептилій",173.71,235,0,{"$f":"G14*I14","v":0}]
[null,23111,11368,"Biorept W 5 л /1,5 кг","Менше 10","Корм сухий для черепах і рептилій",1555.41,2100,0,{"$f":"G15*I15","v":0}]
[null,1111129378,11365,"Biorept W 500 мл /150g","Менше 10","Корм сухий для черепах і рептилій",294.22000000000003,397,0,{"$f":"G16*I16","v":0}]
[null,1111116001,74411,"Bio-vit 12 г пластівці рослинний корм","Більше 10","Корм сухий для риб",44.18,60,0,{"$f":"G17*I17","v":0}]
[null,1111111133,74419,"Bio-vit 21л/4кг пластівці рослинний корм","Менше 10","Корм сухий для риб",3856.89,5207,0,{"$f":"G18*I18","v":0}]
[null,1111131045,"63536_ord","Cichlid  and Arowana Large Sticks 1л/300г з астаксантином","Менше 10","Корм сухий для риб",528.17999999999995,713,0,{"$f":"G19*I19","v":0}]
[null,1111132893,63529,"Cichlid  and Arowana Medium Sticks 10 л з астаксантином","Менше 10","Корм сухий для риб",4167.17,5626,0,{"$f":"G20*I20","v":0}]
[null,1111132683,63526,"Cichlid  and Arowana Medium Sticks 1л/360г з астаксантином","Менше 10","Корм сухий для риб",605.49,817,0,{"$f":"G21*I21","v":0}]
[null,1111131043,"63736_ord","Cichlid Red and Green Large ST. 1л/300г для цихлід","Менше 10","Корм сухий для риб",541.23,731,0,{"$f":"G22*I22","v":0}]
[null,1111131044,63726,"Cichlid Red and Green Medium ST. 1л/360г для цихлід","Менше 10","Корм сухий для риб",621.57000000000005,839,0,{"$f":"G23*I23","v":0}]
[null,1111137678,32182,"CMF 50 мл протигрибковий і антибактиріальний препарат","Більше 10","Засоби для догляду за акваріумом, живими рослинами, його мешканцями",121.5,164,0,{"$f":"G24*I24","v":0}]
[null,1111131054,60474,"Goldfish colour pellet 250мл/90г д/золотих риб і Коі","Менше 10","Корм сухий для риб",188.78,255,0,{"$f":"G25*I25","v":0}]
[null,1111129380,66428,"Green algae wafers 5л/2,25кг д/анциструс. птеригопліхт.","Менше 10","Корм сухий для риб",3313.65,4473,0,{"$f":"G26*I26","v":0}]
[null,1111138229,77003,"Ichtio-vit 100мл/20г пластівці д/усіх видів риб","Більше 10","Корм сухий для риб",78.319999999999993,106,0,{"$f":"G27*I27","v":0}]
[null,1111117072,74401,"Ichtio-vit 12 г пластівці д/усіх видів риб","Більше 10","Корм сухий для риб",44.18,60,0,{"$f":"G28*I28","v":0}]
[null,1111138230,77004,"Ichtio-vit 250мл/50г пластівці д/усіх видів риб","Менше 10","Корм сухий для риб",135.56,183,0,{"$f":"G29*I29","v":0}]
[null,1111138231,77005,"Ichtio-vit 500мл/100г пластівці д/усіх видів риб","Менше 10","Корм сухий для риб",218.9,296,0,{"$f":"G30*I30","v":0}]
[null,1111143140,40656,"KOI  and  Gold COLOR ST. 10 л/800g","Немає в наявності","Корм сухий для ставкових риб",470.94,636,0,{"$f":"G31*I31","v":0}]
[null,1111143005,40352,"KOI  and  Gold COLOR ST. 50 л/4 кг","Немає в наявності","Корм сухий для ставкових риб",1791.38,2418,0,{"$f":"G32*I32","v":0}]
[null,1111113194,74431,"Ovo-vit 12 г пластівці з яєчним жовтком","Більше 10","Корм сухий для риб",44.18,60,0,{"$f":"G33*I33","v":0}]
[null,1111138358,77036,"Ovo-vit 1л/200г пластівці з яєчним жовтком","Менше 10","Корм сухий для риб",388.6,525,0,{"$f":"G34*I34","v":0}]
[null,1111111135,74439,"Ovo-vit 21л/4кг пластівці з яєчним жовтком","Менше 10","Корм сухий для риб",3856.89,5207,0,{"$f":"G35*I35","v":0}]
[null,1111143139,40311,"Pond ST. MIXED 50 л/4 кг","Більше 10","Корм сухий для ставкових риб",1791.38,2418,0,{"$f":"G36*I36","v":0}]
[null,1111131064,63363,"SHRIMP ST. 100мл/55г палички для ракоподібних","Більше 10","Корм сухий для риб",175.73,237,0,{"$f":"G37*I37","v":0}]
[null,1111130540,61401,"SuperVit Granulat 10 г гранули д/імунітету","Менше 10","Корм сухий для риб",35.15,47,0,{"$f":"G38*I38","v":0}]
[null,1111130541,61421,"SuperVit MINI Granulat 10 г гранули д/імунітету","Більше 10","Корм сухий для риб",36.15,49,0,{"$f":"G39*I39","v":0}]
[null,1111111134,74429,"Tropical 21л/4кг пластівці з висок. вмістом білка","Менше 10","Корм сухий для риб",3856.89,5207,0,{"$f":"G40*I40","v":0}]
[null,1111130537,60463,"Welsi Gran 100мл/55г тонучі гранули для донних риб","Менше 10","Корм сухий для риб",138.57,187,0,{"$f":"G41*I41","v":0}]
[null,1111174059,"13011_ord","БальзамД/догл.заШкір.таОчимаРептил.Ophtalvit-A Chelonia 15мл арт.13011","Більше 10","Засоби для догляду за тераріумом і його мешканцями",338.39,457,0,{"$f":"G42*I42","v":0}]
[null,1111182158,"34305_ord","Засіб для акваріума  Bacto-Active 250мл","Менше 10","Засоби для догляду за акваріумом, живими рослинами, його мешканцями",406.68,549,0,{"$f":"G43*I43","v":0}]
[null,1111182156,"34065_ord","Засіб для акваріума Antychlor 250мл","Менше 10","Засоби для догляду за акваріумом, живими рослинами, його мешканцями",352.45,476,0,{"$f":"G44*I44","v":0}]
[null,1111182157,"34015_ord","Засіб для акваріума Esklarin 250мл","Менше 10","Засоби для догляду за акваріумом, живими рослинами, його мешканцями",352.45,476,0,{"$f":"G45*I45","v":0}]
[null,1111182154,"34115_ord","Засіб для ставка Antychlor Pond 250мл","Менше 10","Засоби для догляду за ставком, рослинами та його мешканцями",317.3,428,0,{"$f":"G46*I46","v":0}]
[null,1111182155,"33148_ord","Засіб для ставка Blue Guard Pond 2л","Менше 10","Засоби для догляду за ставком, рослинами та його мешканцями",3021.45,4079,0,{"$f":"G47*I47","v":0}]
[null,1111144272,"60716_ord","Корм Tropical д/Цихлід-папугRedParrot гранулят пос.забарвл.1000мл/400г","Менше 10","Корм сухий для риб",643.66,869,0,{"$f":"G48*I48","v":0}]
[null,1111131063,"11353_ord","Корм Tropical для рептилій Біорепт Л у вигляді гранул 100мл/28г","Менше 10","Корм сухий для черепах і рептилій",86.35,117,0,{"$f":"G49*I49","v":0}]
[null,1111131057,"11354_ord","Корм Tropical для рептилій Біорепт Л у вигляді гранул 250мл/70г","Менше 10","Корм сухий для черепах і рептилій",173.71,235,0,{"$f":"G50*I50","v":0}]
[null,1111171131,"61618_ord","Корм для дискусів D-50 Plus у вигляді грануляту 2,2кг/5л арт.61618","Менше 10","Корм сухий для риб",2279.39,2279.39,0,{"$f":"G51*I51","v":0}]
[null,1111182152,"63558_ord","Корм для риб Tropical  Red Mico Colour Sticks 1,7кг","Менше 10","Корм сухий для риб",3593.81,3593.81,0,{"$f":"G52*I52","v":0}]
[null,1111181358,"34335_ord","Препарат Tropical Supreme д/підгот.водопровід.води алоє концент.250мл","Менше 10","Засоби для догляду за акваріумом, живими рослинами, його мешканцями",352.45,476,0,{"$f":"G53*I53","v":0}]

{"sheet":"True Fresh","index":66,"n_rows":28,"n_cols":10,"rows_kept":28,"cut":false,"hidden":false,"merged":[]}
[]
[null,null,null,null,null,null,"suziria.ua"]
[null,null,null,null,null,null,"0 800 21 82 99"]
[null,null,null,null,null,null,"feedback@suziria.ua"]
[]
["Зображення","Код","Артикул","Номенклатура","Наявність","Категорія","Ціна опт.","Ціна РРЦ","Замовлення, шт.","Сума, грн."]
[null,null,null,null,null,null,null,null,null,{"$f":"SUM(J8:J28)","v":0}]
[null,1111166053,171548,"Carnilove True Fresh BEEF з яловичиною для собак, 1.4 кг","Більше 10","Корм сухий для собак",726.72,1126,0,{"$f":"G8*I8","v":0}]
[null,1111167496,171549,"Carnilove True Fresh BEEF яловичина для дорослих собак, 4 кг","Менше 10","Корм сухий для собак",1807.61,2802,0,{"$f":"G9*I9","v":0}]
[null,1111174829,172163,"Carnilove True Fresh Cat Fresh Chicken д/дорослих котів курка 1,8 кг","Менше 10","Корм сухий для котів",683.19,1059,0,{"$f":"G10*I10","v":0}]
[null,1111174828,172162,"Carnilove True Fresh Cat Fresh Chicken д/дорослих котів курка 340 г","Більше 10","Корм сухий для котів",199.35,309,0,{"$f":"G11*I11","v":0}]
[null,1111174830,172164,"Carnilove True Fresh Cat Fresh Chicken д/дорослих котів курка 4,8 кг","Менше 10","Корм сухий для котів",1612.26,2499,0,{"$f":"G12*I12","v":0}]
[null,1111174824,172157,"Carnilove True Fresh Cat Fresh Fish д/дорослих котів риба 1,8 кг","Більше 10","Корм сухий для котів",772.09,1197,0,{"$f":"G13*I13","v":0}]
[null,1111174823,172156,"Carnilove True Fresh Cat Fresh Fish д/дорослих котів риба 340 г","Більше 10","Корм сухий для котів",218.71,339,0,{"$f":"G14*I14","v":0}]
[null,1111174825,172158,"Carnilove True Fresh Cat Fresh Fish д/дорослих котів риба 4,8 кг","Менше 10","Корм сухий для котів",1825.16,2829,0,{"$f":"G15*I15","v":0}]
[null,1111174827,172160,"Carnilove True Fresh Cat Fresh Turkey д/дорослих котів індичка 1,8 кг","Менше 10","Корм сухий для котів",683.19,1059,0,{"$f":"G16*I16","v":0}]
[null,1111174826,172159,"Carnilove True Fresh Cat Fresh Turkey д/дорослих котів індичка 340 г","Менше 10","Корм сухий для котів",199.35,309,0,{"$f":"G17*I17","v":0}]
[null,1111182589,172138,"Carnilove True Fresh Fish Adult Small Breed д/малих порід риба 11,4кг","Менше 10","Корм сухий для собак",3354.11,5199,0,{"$f":"G18*I18","v":0}]
[null,1111182588,172137,"Carnilove True Fresh Fish Adult Small Breed д/малих порід риба 4кг","Більше 10","Корм сухий для собак",1547.72,2399,0,{"$f":"G19*I19","v":0}]
[null,1111182587,172136,"Carnilove True Fresh Fish Small Breed д/малих порід риба 1,4кг","Більше 100","Корм сухий для собак",580,899,0,{"$f":"G20*I20","v":0}]
[null,1111166052,171545,"Carnilove True Fresh FISH з рибою для собак, 1,4 кг","Більше 10","Корм сухий для собак",686.48,1064,0,{"$f":"G21*I21","v":0}]
[null,1111167495,171547,"Carnilove True Fresh FISH риба для дорослих собак, 11,4 кг","Менше 10","Корм сухий для собак",3804.94,5898,0,{"$f":"G22*I22","v":0}]
[null,1111167494,171546,"Carnilove True Fresh FISH риба для дорослих собак, 4 кг","Більше 10","Корм сухий для собак",1716.77,2661,0,{"$f":"G23*I23","v":0}]
[null,1111182584,172074,"Carnilove True Fresh Turkey Puppy д/цуценят індичка 1,4кг","Більше 100","Корм сухий для собак",580.01,899,0,{"$f":"G24*I24","v":0}]
[null,1111182586,172076,"Carnilove True Fresh Turkey Puppy д/цуценят індичка 11,4кг","Більше 10","Корм сухий для собак",3225.16,4999,0,{"$f":"G25*I25","v":0}]
[null,1111166051,171542,"Carnilove True Fresh TURKEY з індичкою для собак, 1,4 кг","Немає в наявності","Корм сухий для собак",686.48,1064,0,{"$f":"G26*I26","v":0}]
[null,1111167493,171544,"Carnilove True Fresh TURKEY індичка для дорослих собак, 11,4 кг","Немає в наявності","Корм сухий для собак",3804.94,5898,0,{"$f":"G27*I27","v":0}]
[null,1111182595,172161,"Корм сухий Carnilove True Fresh Turkey д/котів індичка 4,8кг","Менше 10","Корм сухий для котів",1612.21,2499,0,{"$f":"G28*I28","v":0}]

{"sheet":"Vitakraft","index":67,"n_rows":42,"n_cols":10,"rows_kept":42,"cut":false,"hidden":false,"merged":[]}
[]
[null,null,null,null,null,null,"suziria.ua"]
[null,null,null,null,null,null,"0 800 21 82 99"]
[null,null,null,null,null,null,"feedback@suziria.ua"]
[]
["Зображення","Код","Артикул","Номенклатура","Наявність","Категорія","Ціна опт.","Ціна РРЦ","Замовлення, шт.","Сума, грн."]
[null,null,null,null,null,null,null,null,null,{"$f":"SUM(J8:J42)","v":0}]
[null,1111166864,35291,"Корм Vitakraft для котів Poésie Délice pouch індичка в соусі 85г","Більше 10","Корм вологий для котів",40.24,52,0,{"$f":"G8*I8","v":0}]
[null,1111166866,35284,"Корм Vitakraft для котів Poésie Délice pouch курка в соусі 85г","Більше 10","Корм вологий для котів",40.24,52,0,{"$f":"G9*I9","v":0}]
[null,1111166865,35289,"Корм Vitakraft для котів Poésie Délice pouch сердечки у соусі  85г","Більше 10","Корм вологий для котів",40.24,52,0,{"$f":"G10*I10","v":0}]
[null,1111142798,"31455/33745","Корм д/кроликів Emotion Beauty 600 г","Більше 10","Корм для гризунів",272.83,382,0,{"$f":"G11*I11","v":0}]
[null,7397,21643,"Корм для американських папуг Amazonia 750 г","Менше 10","Корм для птахів",284.22000000000003,398,0,{"$f":"G12*I12","v":0}]
[null,7398,21640,"Корм для жако і африканських папуг 750 г","Більше 10","Корм для птахів",262.93,367,0,{"$f":"G13*I13","v":0}]
[null,13263,"21446 /21447","Корм для канарок Menu 500 г","Більше 10","Корм для птахів",133.83000000000001,188,0,{"$f":"G14*I14","v":0}]
[null,1111111810,29219,"Корм для кроликів Menu 1 кг","Більше 10","Корм для гризунів",226.9,317,0,{"$f":"G15*I15","v":0}]
[null,1111117983,25542,"Корм для кроликів Menu 3 кг","Менше 10","Корм для гризунів",550.11,771,0,{"$f":"G16*I16","v":0}]
[null,1111119041,25246,"Корм для кроликів Pellets 1 кг","Більше 100","Корм для гризунів",202.1,283,0,{"$f":"G17*I17","v":0}]
[null,1111119052,25314,"Корм для кроликів Vita Special 600 г","Більше 100","Корм для гризунів",210.66,295,0,{"$f":"G18*I18","v":0}]
[null,1111111809,"29220/25582","Корм для морських свинок Menu 1 кг","Більше 10","Корм для гризунів",230.78,323,0,{"$f":"G19*I19","v":0}]
[null,1111111808,"10646/25583","Корм для морських свинок Menu 400 г","Немає в наявності","Корм для гризунів",98.57,139,0,{"$f":"G20*I20","v":0}]
[null,1111121971,25311,"Корм для морських свинок Vita Special 600 г","Більше 10","Корм для гризунів",206.67,290,0,{"$f":"G21*I21","v":0}]
[null,10054,21641,"Корм для нерозлучників і дрібних африканських папуг 750 г","Більше 10","Корм для птахів",276.94,388,0,{"$f":"G22*I22","v":0}]
[null,6081,21003,"Корм для німф Menu 1 кг","Немає в наявності","Корм для птахів",212.09,297,0,{"$f":"G23*I23","v":0}]
[null,1111143687,"31462/33758","Корм для шиншил Emotion Beauty 600 г","Немає в наявності","Корм для гризунів",274.12,384,0,{"$f":"G24*I24","v":0}]
[null,311999,25076,"Корм для шиншил Pellets 1 кг","Більше 10","Корм для гризунів",115.08,162,0,{"$f":"G25*I25","v":0}]
[null,11740,"25326 /25847","Корм для шиншил Vita Reg 600 г","Більше 10","Корм для гризунів",212.55,298,0,{"$f":"G26*I26","v":0}]
[null,6276,"21294 Vitakraft","Крекер Vitakraft в період линьки для ари, (2 шт.)","Більше 10","Ласощі для птахів",151.12,212,0,{"$f":"G27*I27","v":0}]
[null,1111111806,21221,"Крекер Vitakraft в період линьки для канарок, (2 шт.)","Більше 10","Ласощі для птахів",55.36,77,0,{"$f":"G28*I28","v":0}]
[null,12148,21237,"Крекер Vitakraft з інжиром, бананом і ківі для папуг, (3 шт.)","Більше 10","Ласощі для птахів",97.11,138,0,{"$f":"G29*I29","v":0}]
[null,1111112226,25062,"Крекер Vitakraft з кальцієм для шиншил, (2 шт.)","Менше 10","Ласощі для гризунів",106.47,151,0,{"$f":"G30*I30","v":0}]
[null,1111121124,"25227 Vitakraft","Крекер Vitakraft з овоч, горіх, лісов. ягодами для кроликів, (3 шт)","Більше 10","Ласощі для гризунів",136.49,193,0,{"$f":"G31*I31","v":0}]
[null,6280,"21264 /26231","Крекер Vitakraft з фруктами для папуг, (2 шт.)","Більше 10","Ласощі для птахів",62.54,87,0,{"$f":"G32*I32","v":0}]
[null,1111117991,25140,"Крекер Vitakraft зерно+фрукти для пацючків, (2 шт.)","Більше 10","Ласощі для гризунів",105.49,147,0,{"$f":"G33*I33","v":0}]
[null,6562,21289,"Крекер Vitakraft фруктовий для великих австралійських папуг, (2 шт.)","Більше 10","Ласощі для птахів",175.25,246,0,{"$f":"G34*I34","v":0}]
[null,7409,21265,"Крекер Vitakraft яєчний для канарок, (2 шт.)","Більше 10","Ласощі для птахів",63.65,90,0,{"$f":"G35*I35","v":0}]
[null,1111166870,28823,"Ласощі Vitakraft для котів Yums лосось та Омега 3 40г","Більше 10","Ласощі для котів",93.05,131,0,{"$f":"G36*I36","v":0}]
[null,1111128662,24192,"Палички м ясні Vitakraft для котів індичка та ягня 3шт х 6г","Більше 100","Ласощі для котів",68.22,96,0,{"$f":"G37*I37","v":0}]
[null,1111166867,31218,"Палички м ясні Vitakraft для котів камбала та Омега 3шт х 6г","Більше 10","Ласощі для котів",68.22,96,0,{"$f":"G38*I38","v":0}]
[null,1111121398,24190,"Палички м ясні Vitakraft для котів качка та кролик 3шт х 6г","Більше 100","Ласощі для котів",68.22,96,0,{"$f":"G39*I39","v":0}]
[null,9819,15010,"Пісок для шиншил Sandy 1 кг","Менше 10","Пісок для птахів і гризунів",198.22,278,0,{"$f":"G40*I40","v":0}]
[null,1111166859,28813,"Подушечки Vitakraft для котів Crispy Crunch м ята для зубів 60г","Більше 100","Ласощі для котів",80.599999999999994,112,0,{"$f":"G41*I41","v":0}]
[null,1111119069,25692,"Суміш Vitakraft трав_яна з подорожником і конюшиною для гризунів, 70 г","Більше 10","Ласощі для гризунів",144.75,204,0,{"$f":"G42*I42","v":0}]

{"sheet":"WahoPet","index":68,"n_rows":16,"n_cols":10,"rows_kept":16,"cut":false,"hidden":false,"merged":[]}
[]
[null,null,null,null,null,null,"suziria.ua"]
[null,null,null,null,null,null,"0 800 21 82 99"]
[null,null,null,null,null,null,"feedback@suziria.ua"]
[]
["Зображення","Код","Артикул","Номенклатура","Наявність","Категорія","Ціна опт.","Ціна РРЦ","Замовлення, шт.","Сума, грн."]
[null,null,null,null,null,null,null,null,null,{"$f":"SUM(J8:J16)","v":0}]
[null,1111169755,"WA00002","Килимок-годівниця WahoPet для собак сова силіконова жовта арт.WA00002","Менше 10","Миски",270.51,378,0,{"$f":"G8*I8","v":0}]
[null,1111169754,"WA00001","Килимок-годівниця WahoPet для собак сова силіконова м’ятна арт.WA00001","Менше 10","Миски",270.51,311,0,{"$f":"G9*I9","v":0}]
[null,1111172305,"WA00019","Миска WahoPet для котів з рибками пластикова помаранчова арт.WA00019","Менше 10","Миски",164.16,213,0,{"$f":"G10*I10","v":0}]
[null,1111172304,"WA00018","Миска WahoPet для котів з рибками пластиковаблакитна арт.WA00018","Менше 10","Миски",180.58,234,0,{"$f":"G11*I11","v":0}]
[null,1111172303,"WA00017","Миска WahoPet для собак пластикова блакитна арт.WA00017","Менше 10","Миски",197.3,256,0,{"$f":"G12*I12","v":0}]
[null,1111169759,"WA00006","Миска-лабіринт WahoPet для собак зірка пластиков коричнева арт.WA00006","Менше 10","Миски",201.96,283,0,{"$f":"G13*I13","v":0}]
[null,1111169758,"WA00005","Миска-лабіринт WahoPet для собак зірка пластикова жовта арт.WA00005","Менше 10","Миски",201.96,283,0,{"$f":"G14*I14","v":0}]
[null,1111169761,"WA00008","Миска-лабіринт WahoPet для собак пластикова зелена арт.WA00008","Менше 10","Миски",200.64,261,0,{"$f":"G15*I15","v":0}]
[null,1111169762,"WA00009","Миска-лабіринт WahoPet для собак пластикова коричнева арт.WA00009","Менше 10","Миски",200.64,261,0,{"$f":"G16*I16","v":0}]

{"sheet":"Yalute","index":69,"n_rows":15,"n_cols":10,"rows_kept":15,"cut":false,"hidden":false,"merged":[]}
[]
[null,null,null,null,null,null,"suziria.ua"]
[null,null,null,null,null,null,"0 800 21 82 99"]
[null,null,null,null,null,null,"feedback@suziria.ua"]
[]
["Зображення","Код","Артикул","Номенклатура","Наявність","Категорія","Ціна опт.","Ціна РРЦ","Замовлення, шт.","Сума, грн."]
[null,null,null,null,null,null,null,null,null,{"$f":"SUM(J8:J15)","v":0}]
[null,1111170829,"DU-05B","Yalute Baked duck strip запечені качині смужки для собак, 100 г","Більше 10","Ласощі для собак",80.290000000000006,113,0,{"$f":"G8*I8","v":0}]
[null,1111170831,"DU-44","Yalute Bone Shape of Duck and Apple качка і яблуко для собак, 100 г","Більше 10","Ласощі для собак",80.290000000000006,113,0,{"$f":"G9*I9","v":0}]
[null,1111170840,"CH-130","Yalute Chicken and Codfish Dices кубики з курки і тріски д/котів, 50г","Менше 10","Ласощі для котів",42.42,60,0,{"$f":"G10*I10","v":0}]
[null,1111170828,"CH-072","Yalute Chicken and Duck Fillets філе курки та качки для собак, 100 г","Більше 10","Ласощі для собак",80.290000000000006,113,0,{"$f":"G11*I11","v":0}]
[null,1111170836,"RA-31","Yalute Rabbit and Banana Chips кролик і банан для собак, 100 г","Більше 10","Ласощі для собак",75.75,106,0,{"$f":"G12*I12","v":0}]
[null,1111170834,"YLT-042","Yalute Salmon and Oats in Heart Shape лосось і овес для собак, 100 г","Менше 10","Ласощі для собак",80.290000000000006,113,0,{"$f":"G13*I13","v":0}]
[null,1111170833,"FI-40","Yalute Salmon Fillets філе лосося для собак, 100 г","Менше 10","Ласощі для собак",75.75,106,0,{"$f":"G14*I14","v":0}]
[null,1111170838,"CH-113","Yalute Short Chicken Slices шматочки курки для котів, 50 г","Більше 10","Ласощі для котів",49.23,69,0,{"$f":"G15*I15","v":0}]

{"sheet":"Yee","index":70,"n_rows":34,"n_cols":10,"rows_kept":34,"cut":false,"hidden":false,"merged":[]}
[]
[null,null,null,null,null,null,"suziria.ua"]
[null,null,null,null,null,null,"0 800 21 82 99"]
[null,null,null,null,null,null,"feedback@suziria.ua"]
[]
["Зображення","Код","Артикул","Номенклатура","Наявність","Категорія","Ціна опт.","Ціна РРЦ","Замовлення, шт.","Сума, грн."]
[null,null,null,null,null,null,null,null,null,{"$f":"SUM(J8:J34)","v":0}]
[null,1111176700,"YEE-994","Адаптер Yee із вилкою європейського стандарту","Більше 10","Обладнання для акваріума, комплектуючі",20.36,29,0,{"$f":"G8*I8","v":0}]
[null,1111176675,"YES-100B","Компресор Yee д/акваріума акумуляторний з USB кабелем 1,5 Вт","Менше 10","Обладнання для акваріума, комплектуючі",550.51,771,0,{"$f":"G9*I9","v":0}]
[null,1111176676,"YES-200A","Компресор Yee д/акваріума акумуляторний з USB кабелем 3 Вт","Менше 10","Обладнання для акваріума, комплектуючі",648.49,908,0,{"$f":"G10*I10","v":0}]
[null,1111176677,"YTZ-300","Компресор Yee д/акваріума безшумний 3 Вт","Більше 10","Обладнання для акваріума, комплектуючі",152.13,213,0,{"$f":"G11*I11","v":0}]
[null,1111176680,"YKK-201","Компресор Yee д/акваріума з USB кабелем 1,5 Вт","Більше 10","Обладнання для акваріума, комплектуючі",244.95,343,0,{"$f":"G12*I12","v":0}]
[null,1111176678,"YTZ-212","Компресор Yee д/акваріума з двома виходами 3,5 Вт","Більше 10","Обладнання для акваріума, комплектуючі",400.96,561,0,{"$f":"G13*I13","v":0}]
[null,1111176679,"YEE-2034","Компресор Yee д/акваріума з двома виходами 6 Вт","Більше 10","Обладнання для акваріума, комплектуючі",469.28,657,0,{"$f":"G14*I14","v":0}]
[null,1111176687,"YEE-3002","Обігрівач Yee д/акваріума YGH-100 скляний 24,5см 100 Вт","Більше 10","Обладнання для акваріума, комплектуючі",243.66,341,0,{"$f":"G15*I15","v":0}]
[null,1111176688,"YEE-3003","Обігрівач Yee д/акваріума YGH-200 скляний 28,5см 200 Вт","Більше 10","Обладнання для акваріума, комплектуючі",244.95,343,0,{"$f":"G16*I16","v":0}]
[null,1111176689,"YEE-3000","Обігрівач Yee д/акваріума YGH-25 скляний 20см 25 Вт","Більше 10","Обладнання для акваріума, комплектуючі",220.46,309,0,{"$f":"G17*I17","v":0}]
[null,1111176690,"YEE-3001","Обігрівач Yee д/акваріума YGH-50 скляний 20см 50 Вт","Більше 10","Обладнання для акваріума, комплектуючі",237.22,332,0,{"$f":"G18*I18","v":0}]
[null,1111176681,"YEE-3007","Обігрівач Yee д/акваріума YSH-100 металевий 30см 100 Вт","Більше 10","Обладнання для акваріума, комплектуючі",310.3,434,0,{"$f":"G19*I19","v":0}]
[null,1111176682,"YEE-3008","Обігрівач Yee д/акваріума YSH-200 металевий 30см 200 Вт","Більше 10","Обладнання для акваріума, комплектуючі",318.38,446,0,{"$f":"G20*I20","v":0}]
[null,1111176683,"YEE-3005","Обігрівач Yee д/акваріума YSH-25 металевий 19см 25 Вт","Більше 10","Обладнання для акваріума, комплектуючі",294.14999999999998,412,0,{"$f":"G21*I21","v":0}]
[null,1111176684,"YEE-3009","Обігрівач Yee д/акваріума YSH-300 металевий 38см 300 Вт","Більше 10","Обладнання для акваріума, комплектуючі",319.52999999999997,447,0,{"$f":"G22*I22","v":0}]
[null,1111176686,"YEE-3006","Обігрівач Yee д/акваріума YSH-50 металевий 19см 50 Вт","Більше 10","Обладнання для акваріума, комплектуючі",294.14999999999998,412,0,{"$f":"G23*I23","v":0}]
[null,1111176685,"YEE-3010","Обігрівач Yee д/акваріума YSH-500 металевий 38см 500 Вт","Більше 10","Обладнання для акваріума, комплектуючі",320.67,449,0,{"$f":"G24*I24","v":0}]
[null,1111176669,"TN-K200","Світильник Yee д/акваріума світлодіодний 18см 5 Вт","Менше 10","Обладнання для акваріума, комплектуючі",216.58,303,0,{"$f":"G25*I25","v":0}]
[null,1111176671,"YGX-578","Світильник Yee д/акваріума світлодіодний 57,8см 24 Вт","Менше 10","Обладнання для акваріума, комплектуючі",559.53,783,0,{"$f":"G26*I26","v":0}]
[null,1111176672,"NKD-010","Світильник Yee д/акваріума світлодіодний з USB кабелем білий 5 Вт","Більше 10","Обладнання для акваріума, комплектуючі",376.45,527,0,{"$f":"G27*I27","v":0}]
[null,1111176691,"YEE-3631","Фільтр Yee аерліфтний синій","Більше 10","Обладнання для акваріума, комплектуючі",105.72,148,0,{"$f":"G28*I28","v":0}]
[null,1111176696,"YJY-900","Фільтр Yee д/акваріума внутрішній 1200 л/год 25 Вт","Менше 10","Обладнання для акваріума, комплектуючі",357.26,500,0,{"$f":"G29*I29","v":0}]
[null,1111176692,"YJY-400","Фільтр Yee д/акваріума внутрішній 400 л/год 4 Вт","Більше 10","Обладнання для акваріума, комплектуючі",213.4,299,0,{"$f":"G30*I30","v":0}]
[null,1111176693,"YJY-500","Фільтр Yee д/акваріума внутрішній 500 л/год 6 Вт","Більше 10","Обладнання для акваріума, комплектуючі",256.08999999999997,359,0,{"$f":"G31*I31","v":0}]
[null,1111176695,"YJY-9100F","Фільтр Yee д/акваріума внутрішній 500 л/год 8 Вт","Менше 10","Обладнання для акваріума, комплектуючі",321.83,451,0,{"$f":"G32*I32","v":0}]
[null,1111176694,"YJY-600","Фільтр Yee д/акваріума внутрішній 600 л/год 15 Вт","Більше 10","Обладнання для акваріума, комплектуючі",284.92,399,0,{"$f":"G33*I33","v":0}]
[null,1111176697,"NkKD-003","Фільтр Yee д/акваріума навісний 250 л/год 2,5 Вт","Більше 10","Обладнання для акваріума, комплектуючі",215.71,302,0,{"$f":"G34*I34","v":0}]

{"sheet":"Білі лапки","index":71,"n_rows":8,"n_cols":10,"rows_kept":8,"cut":false,"hidden":false,"merged":[]}
[]
[null,null,null,null,null,null,"suziria.ua"]
[null,null,null,null,null,null,"0 800 21 82 99"]
[null,null,null,null,null,null,"feedback@suziria.ua"]
[]
["Зображення","Код","Артикул","Номенклатура","Наявність","Категорія","Ціна опт.","Ціна РРЦ","Замовлення, шт.","Сума, грн."]
[null,null,null,null,null,null,null,null,null,{"$f":"SUM(J8:J8)","v":0}]
[null,1111168431,"T000001*****","Наповнювач  Білі лапки  мінеральний, 3-6 мм, T000001","Більше 100","Наповнювачі бентонітові",96,130,0,{"$f":"G8*I8","v":0}]

{"sheet":"ЕкоВет, фітокомплекси","index":72,"n_rows":25,"n_cols":10,"rows_kept":25,"cut":false,"hidden":false,"merged":[]}
[]
[null,null,null,null,null,null,"suziria.ua"]
[null,null,null,null,null,null,"0 800 21 82 99"]
[null,null,null,null,null,null,"feedback@suziria.ua"]
[]
["Зображення","Код","Артикул","Номенклатура","Наявність","Категорія","Ціна опт.","Ціна РРЦ","Замовлення, шт.","Сума, грн."]
[null,null,null,null,null,null,null,null,null,{"$f":"SUM(J8:J25)","v":0}]
[null,1111160838,"PR241752","ProVET ВЕСЕЛИЙ КІТ для покращ. функ. сечовивід.системи для котів 20 мл","Більше 10","Засоби для корекції поведінки",67,97,0,{"$f":"G8*I8","v":0}]
[null,1111160839,"PR241753","ProVET КІТ ВОРКІТ для корекції поруш. повед. у котів та собак 20 мл","Більше 100","Засоби для корекції поведінки",68,98,0,{"$f":"G9*I9","v":0}]
[null,1111159466,"PR241369","ProVET Фітовіт для вивед. шерсті + покращ. сечовид. сис. для котів","Більше 10","Вітаміни та мінерали",79,114,0,{"$f":"G10*I10","v":0}]
[null,1111159471,"PR241373","ProVET Фітовіт для зміц. та віднов. суглоб. і зв_яз. для собак","Більше 10","Вітаміни та мінерали",196,284,0,{"$f":"G11*I11","v":0}]
[null,1111159470,"PR241374","ProVET Фітовіт для зміцнення зубів та кісток для собак 100 таб.","Більше 10","Вітаміни та мінерали",85,123,0,{"$f":"G12*I12","v":0}]
[null,1111159468,"PR241376","ProVET Фітовіт для покращ. функ. сечовид. сис. для котів 100 таб.","Більше 10","Вітаміни та мінерали",76,110,0,{"$f":"G13*I13","v":0}]
[null,1111159473,"PR241371","ProVET Фітовіт для покращ. функ. шлунк.-кишк. тракту собак 100 таб.","Більше 100","Вітаміни та мінерали",83,120,0,{"$f":"G14*I14","v":0}]
[null,1111159469,"PR241375","ProVET Фітовіт для шерсті + покращ. функції сечовид. сис. для котів","Більше 10","Вітаміни та мінерали",76,110,0,{"$f":"G15*I15","v":0}]
[null,1111159472,"PR241372","ProVET Фітовіт для шерсті собак 100 таб.","Більше 10","Вітаміни та мінерали",83,120,0,{"$f":"G16*I16","v":0}]
[null,1111159467,"PR241368","ProVET Фітовіт при поруш. функ. нерв. та імун. сис. + сечовид. сис. дл","Більше 10","Вітаміни та мінерали",77,112,0,{"$f":"G17*I17","v":0}]
[null,1111159474,"PR241370","ProVET Фітовіт протиалергійний для собак 100 таб.","Більше 10","Вітаміни та мінерали",83,120,0,{"$f":"G18*I18","v":0}]
[null,1111155032,"PR241112_1уп.(4пип)","Краплі ProVET ЕкоВет для великих порід собак, 4 піпетки по 2,0 мл","Більше 10","Протипаразитні препарати: антигельмінтні, інсектицидні, інсектоакарицидні, репелентні",176,255,0,{"$f":"G19*I19","v":0}]
[null,1111155030,"PR241110_1уп (4пип)","Краплі ProVET ЕкоВет для котів та дрібних порід собак, 4х0,5","Більше 100","Протипаразитні препарати: антигельмінтні, інсектицидні, інсектоакарицидні, репелентні",131,190,0,{"$f":"G20*I20","v":0}]
[null,1111155031,"PR241111_1уп.(4пип)","Краплі ProVET ЕкоВет для середніх порід собак, 4 піпетки по 1,0 мл","Більше 10","Протипаразитні препарати: антигельмінтні, інсектицидні, інсектоакарицидні, репелентні",141,204,0,{"$f":"G21*I21","v":0}]
[null,1111155035,"PR241115","Нашийник ProVET ЕкоВет для котів та дрібних порід собак 35 см","Більше 10","Протипаразитні препарати: антигельмінтні, інсектицидні, інсектоакарицидні, репелентні",81,117,0,{"$f":"G22*I22","v":0}]
[null,1111155036,"PR241116","Нашийник ProVET ЕкоВет для собак 70 см","Більше 10","Протипаразитні препарати: антигельмінтні, інсектицидні, інсектоакарицидні, репелентні",104,151,0,{"$f":"G23*I23","v":0}]
[null,1111155033,"PR241113","Спрей ProVET ЕкоВет для котів та собак 100 мл","Більше 10","Протипаразитні препарати: антигельмінтні, інсектицидні, інсектоакарицидні, репелентні",127,184,0,{"$f":"G24*I24","v":0}]
[null,1111155034,"PR241114","Спрей ProVET ЕкоВет для котів та собак 250 мл","Більше 10","Протипаразитні препарати: антигельмінтні, інсектицидні, інсектоакарицидні, репелентні",246,357,0,{"$f":"G25*I25","v":0}]

{"sheet":"Природа","index":73,"n_rows":446,"n_cols":10,"rows_kept":446,"cut":false,"hidden":false,"merged":[[8,0,9,0],[272,0,276,0],[282,0,284,0],[427,0,431,0]]}
[]
[null,null,null,null,null,null,"suziria.ua"]
[null,null,null,null,null,null,"0 800 21 82 99"]
[null,null,null,null,null,null,"feedback@suziria.ua"]
[]
["Зображення","Код","Артикул","Номенклатура","Наявність","Категорія","Ціна опт.","Ціна РРЦ","Замовлення, шт.","Сума, грн."]
[null,null,null,null,null,null,null,null,null,{"$f":"SUM(J8:J446)","v":0}]
[null,1111154287,"PR241107","Автомобіль 11х4х6 см","Менше 10","Декорації для акваріуму",215.5,280.18,0,{"$f":"G8*I8","v":0}]
[null,1111137367,"PR740148","Асорті-печиво Природа Палички для гризунів, 100 г","Більше 100","Ласощі для гризунів",25.56,37,0,{"$f":"G9*I9","v":0}]
[null,1111137368,"PR740149","Асорті-печиво Природа Сердечка для гризунів, 100 г","Більше 100","Ласощі для гризунів",25.42,37,0,{"$f":"G10*I10","v":0}]
[null,1111162301,"PR241956","Будинок з повсті для гризунів","Більше 10","Обладнання для кліток",73,99,0,{"$f":"G11*I11","v":0}]
[null,1111162523,"PR241990","Будинок-лежак  CAPRICE  (38 * 38 * 36)","Менше 10","Лежаки",598.75,808.31,0,{"$f":"G12*I12","v":0}]
[null,1111161525,"PR241892","Будинок-лежак  COMFORT  1 (32*31*28), PR241892","Менше 10","Будиночки-лежаки",445.03,600.79,0,{"$f":"G13*I13","v":0}]
[null,1111161526,"PR241891","Будинок-лежак  COMFORT  2 (35*34*31),PR241891","Більше 10","Будиночки-лежаки",521.19000000000005,703.61,0,{"$f":"G14*I14","v":0}]
[null,1111161527,"PR241890","Будинок-лежак  COMFORT  3 (39*38*35),PR241890","Менше 10","Будиночки-лежаки",589.25,795.49,0,{"$f":"G15*I15","v":0}]
[null,1111161528,"PR241889","Будинок-лежак  COMFORT  4 (44*43*40), PR241889","Більше 10","Будиночки-лежаки",710.95,959.78,0,{"$f":"G16*I16","v":0}]
[null,1111161523,"PR241888","Будинок-лежак  CUBE  (40*40*37), PR241888","Більше 10","Будиночки-лежаки",679.68,917.56,0,{"$f":"G17*I17","v":0}]
[null,1111161524,"PR241899","Будинок-лежак  LORD  (36*36*32), арт.PR241899","Більше 10","Будиночки-лежаки",510.5,689.17,0,{"$f":"G18*I18","v":0}]
[null,1111161521,"PR241898","Будинок-лежак  YURT  орнамент (38*38*36), PR241898","Більше 10","Будиночки-лежаки",536.54999999999995,724.35,0,{"$f":"G19*I19","v":0}]
[null,1111144192,"PR001198","Будиночок д/кролика Мрія","Більше 10","Обладнання для кліток",377.45,509.1,0,{"$f":"G20*I20","v":0}]
[null,1111143417,"PR001193","Будиночок д/морської свинки Мрія","Більше 10","Обладнання для кліток",227.28,306.2,0,{"$f":"G21*I21","v":0}]
[null,1111143416,"PR001192","Будиночок д/хом яків Мрія","Більше 10","Обладнання для кліток",129.47,174.9,0,{"$f":"G22*I22","v":0}]
[null,8932,"PR740804","Будиночок для птахів великий дерев яний","Більше 10","Обладнання для кліток",268.72000000000003,362.1,0,{"$f":"G23*I23","v":0}]
[null,10399,"PR740805","Будиночок для птахів малий дерев яний","Більше 10","Обладнання для кліток",85.62,115,0,{"$f":"G24*I24","v":0}]
[null,11005,"PR740806","Будиночок для птахів середній дерев яний","Менше 10","Обладнання для кліток",154.11000000000001,208.5,0,{"$f":"G25*I25","v":0}]
[null,1111140383,"PR240277","Будиночок для хом яків пластиковий","Більше 100","Обладнання для кліток",42.96,58.62,0,{"$f":"G26*I26","v":0}]
[null,1111133768,"PR740811","Будиночок-переноска для тваринок МАКСІ картон","Більше 100","Будиночки-переноски картонні",12.98,17.52,0,{"$f":"G27*I27","v":0}]
[null,5155,"PR240124","Вітаміни Природа Медові для папуг, 20 г","Більше 100","Вітаміни та мінерали",8.76,13.2,0,{"$f":"G28*I28","v":0}]
[null,5154,"PR240125","Вітаміни Природа Пір_ячко для папуг, 20 г","Більше 100","Вітаміни та мінерали",8.76,13.2,0,{"$f":"G29*I29","v":0}]
[null,5153,"PR240126","Вітаміни Природа Юніор для папуг, 20 г","Більше 100","Вітаміни та мінерали",8.76,13.2,0,{"$f":"G30*I30","v":0}]
[null,1111154286,"PR241106","Вулкан 11х6х8 см","Більше 10","Декорації для акваріуму",235.5,306.41000000000003,0,{"$f":"G31*I31","v":0}]
[null,1111113084,"PR740824","Годівничка для Клітки Zoo","Більше 100","Обладнання для кліток",19.54,25.44,0,{"$f":"G32*I32","v":0}]
[null,7136,"PR740823","Годівничка для папуг","Більше 100","Обладнання для кліток",7.64,10.41,0,{"$f":"G33*I33","v":0}]
[null,1111112029,"PR740825","Годівничка-поїлка керамічна для гризунів велика","Більше 10","Обладнання для кліток",181,244.57,0,{"$f":"G34*I34","v":0}]
[null,1111112030,"PR740826","Годівничка-поїлка керамічна для гризунів мала","Більше 10","Обладнання для кліток",150.5,205.75,0,{"$f":"G35*I35","v":0}]
[null,1111125107,"PR740152","Гранулят для гризунів Фієста Овочевий, 100 г","Більше 100","Ласощі для гризунів",25.74,37,0,{"$f":"G36*I36","v":0}]
[null,1111125106,"PR740153","Гранулят для гризунів Фієста Трав_яний Лужок, 100 г","Більше 100","Ласощі для гризунів",25.74,37,0,{"$f":"G37*I37","v":0}]
[null,1111125105,"PR740154","Гранулят для гризунів Фієста Фруктово-трав яний, 100 г","Більше 100","Ласощі для гризунів",25.74,37,0,{"$f":"G38*I38","v":0}]
[null,7827,"PR740781/27К","Грот для черепах кутовий малий 14х16х13 см","Менше 10","Декорації для тераріуму",311.52999999999997,406,0,{"$f":"G39*I39","v":0}]
[null,22726,"PR740788/31К","Дві колоди з амфорою 23х23 см","Менше 10","Декорації для акваріуму",522.94000000000005,680,0,{"$f":"G40*I40","v":0}]
[null,8206,"PR740787/30К","Дві колоди маленькі 18х20 см","Менше 10","Декорації для акваріуму",321.62,418,0,{"$f":"G41*I41","v":0}]
[null,1111155968,"PR241233","Декорація Літак 12х9х4.5","Менше 10","Декорації для акваріуму",207,269.38,0,{"$f":"G42*I42","v":0}]
[null,1111155969,"PR241232","Декорація Піраміда Майя 11.5х11х8","Менше 10","Декорації для акваріуму",230,298.60000000000002,0,{"$f":"G43*I43","v":0}]
[null,1111129866,"PR740156","Десерт Мікс Фієста ГАРБУЗИК для гризунів, 50 г","Більше 100","Ласощі для гризунів",36.29,53,0,{"$f":"G44*I44","v":0}]
[null,1111129881,"PR740158","Десерт Мікс Фієста ЯБЛУЧКО для гризунів, 50 г","Більше 100","Ласощі для гризунів",33.6,49,0,{"$f":"G45*I45","v":0}]
[null,1111160923,"PR241775","Десерт Природа Качка для собак, 100 г","Більше 10","Ласощі для собак",25.93,35.200000000000003,0,{"$f":"G46*I46","v":0}]
[null,1111160924,"PR241774","Десерт Природа Качка для собак, 550 г","Більше 10","Ласощі для собак",102.32,139.19999999999999,0,{"$f":"G47*I47","v":0}]
[null,1111132673,"PR740173","Десерт Природа Мікс для собак 550 г","Більше 100","Ласощі для собак",102.32,139.19999999999999,0,{"$f":"G48*I48","v":0}]
[null,1111141181,"PR240343","Десерт Природа Мікс для собак, 100 г","Більше 100","Ласощі для собак",25.93,35.200000000000003,0,{"$f":"G49*I49","v":0}]
[null,1111141551,"PR240344","Десерт Природа Молочний для собак, 100 г","Більше 10","Ласощі для собак",25.93,36,0,{"$f":"G50*I50","v":0}]
[null,1111132674,"PR740175","Десерт Природа Молочний для собак, 550 г","Більше 10","Ласощі для собак",107.21,145,0,{"$f":"G51*I51","v":0}]
[null,1111142128,"PR240348","Десерт Природа Сирний коктейль для собак, 100 г","Більше 10","Ласощі для собак",25.93,35.200000000000003,0,{"$f":"G52*I52","v":0}]
[null,1111132676,"PR740185","Десерт Природа Сирний коктейль для собак, 550 г","Більше 10","Ласощі для собак",102.32,139.19999999999999,0,{"$f":"G53*I53","v":0}]
[null,1111137106,"PR740160","Десерт Природа Фієста Мікс Асорті для гризунів, 100 г","Більше 100","Ласощі для гризунів",29.28,44,0,{"$f":"G54*I54","v":0}]
[null,1111137112,"PR740161","Десерт Природа Фієста Мікс Асорті для папуг, 100 г","Більше 100","Ласощі для птахів",30.1,45,0,{"$f":"G55*I55","v":0}]
[null,1111142395,"PR240347","Десерт Природа Яєчний для собак, 100 г","Більше 10","Ласощі для собак",25.93,35.200000000000003,0,{"$f":"G56*I56","v":0}]
[null,1111132678,"PR740183","Десерт Природа Яєчний для собак, 550 г","Більше 10","Ласощі для собак",102.32,139.19999999999999,0,{"$f":"G57*I57","v":0}]
[null,1111141379,"PR240340","Десерт Природа Яловичина-бекон для собак, 100 г","Більше 100","Ласощі для собак",25.95,35.200000000000003,0,{"$f":"G58*I58","v":0}]
[null,1111132671,"PR740163","Десерт Природа Яловичина-бекон для собак, 550 г","Більше 10","Ласощі для собак",102.32,139.19999999999999,0,{"$f":"G59*I59","v":0}]
[null,1111137498,"PR740159","Десерт Фієста Мікс Асорті кулька, трубочка, тарталетка д/гризунів 70г","Більше 100","Ласощі для гризунів",27.56,40,0,{"$f":"G60*I60","v":0}]
[null,1111126567,"PR740251","Дряпка  Валентинка","Більше 10","Дряпки-стовпчики",493.73,641.54,0,{"$f":"G61*I61","v":0}]
[null,1111163192,"PR242069","Дряпка  Лофт  сіра","Менше 10","Дряпки-стовпчики",528.64,687.7,0,{"$f":"G62*I62","v":0}]
[null,1111141433,"PR240375","Дряпка  Миша-стовпчик  50 cм СІРА","Менше 10","Дряпки-стовпчики",615.67999999999995,799,0,{"$f":"G63*I63","v":0}]
[null,1111167044,"PR242523","Дряпка  Мімі  джут  штучне хутро беж, PR242523","Більше 10","Дряпки-стовпчики",378.17,491.79,0,{"$f":"G64*I64","v":0}]
[null,1111170981,"PR242958","Дряпка  Мімі  МІКС, PR242958","Більше 10","Дряпки-стовпчики",360.32,410.89,0,{"$f":"G65*I65","v":0}]
[null,1111170980,"PR242957","Дряпка  Фєлікс  МІКС,PR242957","Більше 10","Дряпки-стовпчики",443.68,577,0,{"$f":"G66*I66","v":0}]
[null,1111167042,"PR242525","Дряпка  Фєлікс джут світло-сіре штучне хутро, PR242525","Більше 10","Дряпки-стовпчики",473.14,638.45000000000005,0,{"$f":"G67*I67","v":0}]
[null,1111156592,"PR241234","Дряпка Вежа бежева","Менше 10","Дряпки-комплекси",1483.76,1929.27,0,{"$f":"G68*I68","v":0}]
[null,1111156591,"PR241235","Дряпка Вежа сіра","Менше 10","Дряпки-комплекси",1483.76,1929.27,0,{"$f":"G69*I69","v":0}]
[null,1111158646,"PR241411*****","Дряпка Гігант стовпчик сизаль бежева","Більше 10","Дряпки-стовпчики",809.6,1052,0,{"$f":"G70*I70","v":0}]
[null,1111170979,"PR242956","Дряпка Д00  ДЖУТ  МІКС,PR242956","Більше 10","Дряпки-стовпчики",301.76,392.18,0,{"$f":"G71*I71","v":0}]
[null,1111137278,"PR740276","Дряпка Д00 ЖАКАРД стовпчик 53 cм","Більше 10","Дряпки-стовпчики",420.18,546.69000000000005,0,{"$f":"G72*I72","v":0}]
[null,1111167040,"PR242527","Дряпка Д00 стовпчик 53 см  ДЖУТ  штучне хутро беж, PR242527","Більше 10","Дряпки-стовпчики",310.83999999999997,403.68,0,{"$f":"G73*I73","v":0}]
[null,1111114198,"PR740282","Дряпка Д01 СІРА стовпчик 67 см","Більше 10","Дряпки-стовпчики",472.44,614.61,0,{"$f":"G74*I74","v":0}]
[null,1111114028,"PR740287*****","Дряпка Д02  Клоун  БЕЖЕВА/КОРИЧНЕВА стовпчик 70 см","Менше 10","Дряпки-стовпчики",542.01,704.77,0,{"$f":"G75*I75","v":0}]
[null,1111114031,"PR740292","Дряпка Д04 з чотирма бубонами СІРА стовпчик 67 см","Більше 10","Дряпки-стовпчики",538.08000000000004,700,0,{"$f":"G76*I76","v":0}]
[null,1111118775,"PR740296","Дряпка Д04-ЛАПКА з чотирма бубонами стовпчик 67 см","Більше 10","Дряпки-стовпчики",590.17999999999995,767.53,0,{"$f":"G77*I77","v":0}]
[null,1111171263,"PR242960","Дряпка Д051 з аркою,PR242960","Менше 10","Дряпки-комплекси",1444,1877,0,{"$f":"G78*I78","v":0}]
[null,1111114066,"PR740306","Дряпка Д1 з будкою СІРА","Більше 10","Дряпки-комплекси",767.21,998,0,{"$f":"G79*I79","v":0}]
[null,1111114017,"PR740310","Дряпка Д11 з будкою велика СІРА","Менше 10","Дряпки-комплекси",870.11,1131,0,{"$f":"G80*I80","v":0}]
[null,5755,"PR740314","Дряпка Д11 кутова з будкою СІРА","Менше 10","Дряпки-комплекси",1002.88,1304,0,{"$f":"G81*I81","v":0}]
[null,1111114264,"PR740327*****","Дряпка Д22 з барабаном ЖАКАРД","Менше 10","Дряпки-комплекси",1536.99,1997.84,0,{"$f":"G82*I82","v":0}]
[null,1111114015,"PR740326","Дряпка Д22 з барабаном СІРА","Менше 10","Дряпки-комплекси",1395.52,1814,0,{"$f":"G83*I83","v":0}]
[null,1111171264,"PR242961","Дряпка Д23, PR242961","Менше 10","Дряпки-комплекси",1862,2421,0,{"$f":"G84*I84","v":0}]
[null,1111151660,"PR740277","Дряпка Природа Д00 стовпчик бежева 53см арт.PR740277","Більше 10","Дряпки-стовпчики",410.44,533,0,{"$f":"G85*I85","v":0}]
[null,1111151662,"PR740280","Дряпка Природа Д01 стовпчик беж 37х37х67см арт.PR740280","Більше 10","Дряпки-стовпчики",472.44,614.16999999999996,0,{"$f":"G86*I86","v":0}]
[null,1111151664,"PR740293","Дряпка Природа Д04 стовпчик з чотирма бубонами бежева 67см","Більше 10","Дряпки-стовпчики",548.91,714,0,{"$f":"G87*I87","v":0}]
[null,1111151669,"PR740305","Дряпка Природа Д1 з будкою бежева арт.PR740305","Менше 10","Дряпки-комплекси",820.6,1067,0,{"$f":"G88*I88","v":0}]
[null,1111151673,"PR740313","Дряпка Природа Д11у кутова з будкою бежева арт.PR740313","Більше 10","Дряпки-комплекси",1041.1300000000001,1353,0,{"$f":"G89*I89","v":0}]
[null,1111151678,"PR740325","Дряпка Природа Д22 з барабаном бежева арт.PR740325","Менше 10","Дряпки-комплекси",1453.72,1890,0,{"$f":"G90*I90","v":0}]
[null,1111151686,"PR740341","Дряпка Природа ДУ кутова бежева арт.PR740341","Більше 10","Дряпки настінні, килимки",513.08000000000004,667,0,{"$f":"G91*I91","v":0}]
[null,1111151654,"PR740260","Дряпка Природа Містечко 2 беж арт.PR740260","Менше 10","Дряпки-комплекси",2844.13,3697,0,{"$f":"G92*I92","v":0}]
[null,1111151680,"PR740328","Дряпка Природа Містечко велика беж арт.PR740328","Менше 10","Дряпки-комплекси",3694.53,4988,0,{"$f":"G93*I93","v":0}]
[null,1111151631,"PR740263","Дряпка Природа Містечко кутова бежева арт.PR740263","Більше 10","Дряпки-комплекси",2936.09,3817,0,{"$f":"G94*I94","v":0}]
[null,1111179154,"PR243474","Дряпка Шале сіро-бежева","Менше 10","Дряпки-стовпчики",1218.22,1582,0,{"$f":"G95*I95","v":0}]
[null,1111173414,"PR243079","Іграшка  Кісточка велика","Більше 10","Іграшки для котів",45,60,0,{"$f":"G96*I96","v":0}]
[null,1111173415,"PR243078","Іграшка  Кісточка маленька","Більше 10","Іграшки для котів",37,50,0,{"$f":"G97*I97","v":0}]
[null,1111173419,"PR243074","Іграшка  Курочка з повсті","Більше 10","Іграшки для котів",37,50,0,{"$f":"G98*I98","v":0}]
[null,1111173418,"PR243075","Іграшка  Мишка","Більше 10","Іграшки для котів",40,54,0,{"$f":"G99*I99","v":0}]
[null,1111173417,"PR243076","Іграшка  Пантофля","Більше 10","Іграшки для котів",51,68,0,{"$f":"G100*I100","v":0}]
[null,1111173416,"PR243077","Іграшка  Пантофля з канатом","Більше 10","Іграшки для котів",41,55,0,{"$f":"G101*I101","v":0}]
[null,1111173422,"PR243071","Іграшка  Полівка смугаста","Більше 10","Іграшки для котів",60,82,0,{"$f":"G102*I102","v":0}]
[null,1111173423,"PR243070","Іграшка  Хвіст","Більше 10","Іграшки для котів",153,207,0,{"$f":"G103*I103","v":0}]
[null,1111173421,"PR243072","Іграшка  Чупа","Більше 10","Іграшки для котів",119,160,0,{"$f":"G104*I104","v":0}]
[null,1111152782,"PR000888","Іграшка для кота  Шустрик (упак. 30 шт.)","Більше 10","Іграшки для котів",607.05999999999995,819.54,0,{"$f":"G105*I105","v":0}]
[null,6571,"PR240373","Іграшка для кота Восьминіг на резинці","Більше 100","Іграшки для котів",38.6,52.12,0,{"$f":"G106*I106","v":0}]
[null,7657,"PR240374","Іграшка для кота Каченя на резинці","Більше 10","Іграшки для котів",45.51,61.44,0,{"$f":"G107*I107","v":0}]
[null,6462,"PR240371","Іграшка для кота М ячик пухнастий з пір ячком","Більше 100","Іграшки для котів",36.24,48.93,0,{"$f":"G108*I108","v":0}]
[null,6509,"PR240372","Іграшка для кота М ячик пухнастий з пір ячком на резинці","Більше 100","Іграшки для котів",41.36,55.84,0,{"$f":"G109*I109","v":0}]
[null,6798,"PR240370","Іграшка для кота М ячик пухнастий на резинці","Більше 100","Іграшки для котів",35.229999999999997,47.56,0,{"$f":"G110*I110","v":0}]
[null,5195,"PR240369","Іграшка для кота Пацючок","Більше 10","Іграшки для котів",39.69,53.58,0,{"$f":"G111*I111","v":0}]
[null,1111135832,"PR240254","Іграшка для кота пластикова Шар-дзвоник 4,5 см","Більше 100","Іграшки для котів",7.03,10.199999999999999,0,{"$f":"G112*I112","v":0}]
[null,1111154383,"PR240960","Іграшка для кота Шустрик (1 шт.)","Більше 10","Іграшки для котів",19.329999999999998,29,0,{"$f":"G113*I113","v":0}]
[null,1111143831,"PR240442","Іграшка для котів Паличка з пір ям","Більше 10","Іграшки для котів",49.26,66.5,0,{"$f":"G114*I114","v":0}]
[null,1111143832,"PR240443","Іграшка для котів паличка з пір ям на резинці","Більше 100","Іграшки для котів",60.66,81.89,0,{"$f":"G115*I115","v":0}]
[null,1111138611,"PR240256","Іграшка для папуг  Гойдалка  (1 шт.)","Більше 100","Обладнання для кліток",14.57,18.510000000000002,0,{"$f":"G116*I116","v":0}]
[null,1111138570,"PR000990","Іграшка для папуг  Гойдалка  (упак. 5 шт.)","Більше 10","Обладнання для кліток",80.16,106.84,0,{"$f":"G117*I117","v":0}]
[null,1111137841,"PR240260","Іграшка для папуг  Драбинка  (1 шт.)","Більше 10","Обладнання для кліток",9.76,13.75,0,{"$f":"G118*I118","v":0}]
[null,1111135839,"PR000962","Іграшка для папуг  Драбинка  (упак. 5 шт.)","Більше 10","Обладнання для кліток",47.03,62.91,0,{"$f":"G119*I119","v":0}]
[null,1111137840,"PR240258","Іграшка для папуг  Драбинка з іграшкою  (1 шт.)","Більше 100","Обладнання для кліток",11,13.89,0,{"$f":"G120*I120","v":0}]
[null,1111137828,"PR000967","Іграшка для папуг  Драбинка з іграшкою  (упак. 5 шт.)","Менше 10","Обладнання для кліток",69.930000000000007,93.89,0,{"$f":"G121*I121","v":0}]
[null,1111135840,"PR240255","Іграшка для папуг Гірлянда зі дзвіночком","Більше 10","Обладнання для кліток",20.76,29.29,0,{"$f":"G122*I122","v":0}]
[null,1111135838,"PR240257","Іграшка для папуг Шар із дзвіночком","Більше 10","Обладнання для кліток",15.48,19.66,0,{"$f":"G123*I123","v":0}]
[null,1111173420,"PR243073","Іграшка-вудка  Рибка на магніті","Більше 10","Іграшки для котів",106.18,143.34,0,{"$f":"G124*I124","v":0}]
[null,1111154284,"PR241104","Камінь 10х5х7 см","Менше 10","Декорації для акваріуму",224,291.7,0,{"$f":"G125*I125","v":0}]
[null,1111135693,"PR240259","Кільця для папуг Олімпійка","Більше 100","Обладнання для кліток",17.05,22.84,0,{"$f":"G126*I126","v":0}]
[null,1111159086,"PR241495","Клітка Природа Арка Велика для птахів 44*27*75 хром/світло-блакитна","Менше 10","Клітки для дрібних і середніх птахів",1224.76,1592.6,0,{"$f":"G127*I127","v":0}]
[null,1111159087,"PR241494","Клітка Природа Арка для птахів 44*27*65 хром/бежева арт.PR241494","Менше 10","Клітки для дрібних і середніх птахів",989.99,1286.5999999999999,0,{"$f":"G128*I128","v":0}]
[null,1111159092,"PR241504","Клітка Природа Ауріка для птахів 44*27*64 біла/бежева арт.PR241504","Менше 10","Клітки для дрібних і середніх птахів",1038.26,1350,0,{"$f":"G129*I129","v":0}]
[null,1111159106,"PR241503","Клітка Природа Белла для птахів 37*25*37 біла/світло-блакитна","Менше 10","Клітки для дрібних і середніх птахів",848.32,1102,0,{"$f":"G130*I130","v":0}]
[null,1111159107,"PR241486","Клітка Природа Белла для птахів 37*25*37 хром/світло-блакитна","Менше 10","Клітки для дрібних і середніх птахів",781.11,1015.1,0,{"$f":"G131*I131","v":0}]
[null,1111159110,"PR241502","Клітка Природа Воля для птахів 44*27*63 біла/фіолетова арт.PR241502","Менше 10","Клітки для дрібних і середніх птахів",1134.01,1474,0,{"$f":"G132*I132","v":0}]
[null,1111159109,"PR241485","Клітка Природа Воля для птахів 44*27*63 хром/бежева арт.PR241485","Менше 10","Клітки для дрібних і середніх птахів",1061.58,1379.5,0,{"$f":"G133*I133","v":0}]
[null,1111159128,"PR241530","Клітка Природа Давид-1 для гризунів 30*20*24 синя/бежева арт.PR241530","Менше 10","Клітки для дрібних і середніх гризунів",550.01,714,0,{"$f":"G134*I134","v":0}]
[null,1111159131,"PR241520","Клітка Природа Джунгарик з будиночком для гризунів 30*20*24 хром/бежев","Менше 10","Клітки для дрібних і середніх гризунів",564.05999999999995,733,0,{"$f":"G135*I135","v":0}]
[null,1111159127,"PR241531","Клітка Природа для гризунів Гоша 44*27*43.5 біла/зелена арт.PR241531","Більше 10","Клітки для дрібних і середніх гризунів",893.55,1162,0,{"$f":"G136*I136","v":0}]
[null,1111159142,"PR241526","Клітка Природа для гризунів Міккі з колесом 37*25*30 синя/зелена","Менше 10","Клітки для дрібних і середніх гризунів",705.49,917,0,{"$f":"G137*I137","v":0}]
[null,1111159144,"PR241511","Клітка Природа для гризунів Міккі з колесом 37*25*30 хром/світло-блаки","Менше 10","Клітки для дрібних і середніх гризунів",698.28,908,0,{"$f":"G138*I138","v":0}]
[null,1111159145,"PR241512","Клітка Природа для гризунів Міккі з колесом 37*25*30 хром/фіолетова","Менше 10","Клітки для дрібних і середніх гризунів",698.28,908,0,{"$f":"G139*I139","v":0}]
[null,1111159113,"PR241501","Клітка Природа Ізабель-1 для птахів 44*27*61 біла/бежева арт.PR241501","Менше 10","Клітки для дрібних і середніх птахів",1118.29,1454,0,{"$f":"G140*I140","v":0}]
[null,1111159112,"PR241482","Клітка Природа Ізабель-1 для птахів 44*27*61 хром/бежева арт.PR241482","Менше 10","Клітки для дрібних і середніх птахів",1068.19,1388.6,0,{"$f":"G141*I141","v":0}]
[null,1111159135,"PR241517","Клітка Природа Кролик 50 для гризунів 50*27*30 хром/сіра арт.PR241517","Менше 10","Клітки, вольєри для кроликів",1302.58,1694,0,{"$f":"G142*I142","v":0}]
[null,1111159136,"PR241508","Клітка Природа Кролик 70 для гризунів 70*45*40 хром/синя арт.PR241508","Менше 10","Клітки, вольєри для кроликів",1921.26,2498,0,{"$f":"G143*I143","v":0}]
[null,1111159119,"PR241499","Клітка Природа Ліна для птахів 44*27*54 біла/бежева арт.PR241499","Немає в наявності","Клітки для дрібних і середніх птахів",1056.76,1374,0,{"$f":"G144*I144","v":0}]
[null,1111159121,"PR241475","Клітка Природа Ліна для птахів 44*27*54 хром/фіолетова арт.PR241475","Менше 10","Клітки для дрібних і середніх птахів",1022.49,1329.7,0,{"$f":"G145*I145","v":0}]
[null,1111159123,"PR241498","Клітка Природа Мері для птахів 44*27*54 біла/фіолетова арт.PR241498","Менше 10","Клітки для дрібних і середніх птахів",1111.8800000000001,1446,0,{"$f":"G146*I146","v":0}]
[null,1111159140,"PR241514","Клітка Природа Міккі з драбинкою для гризунів 37*25*30 хром/світло-бла","Менше 10","Клітки для дрібних і середніх гризунів",695.28,904,0,{"$f":"G147*I147","v":0}]
[null,1111159141,"PR241515","Клітка Природа Міккі з драбинкою для гризунів 37*25*30 хром/фіолетова","Менше 10","Клітки для дрібних і середніх гризунів",695.28,904,0,{"$f":"G148*I148","v":0}]
[null,1111159126,"PR241470","Клітка Природа Німфа для птахів 70*40*76 хром/сіра арт.PR241470","Менше 10","Клітки для дрібних і середніх птахів",3142.43,4085,0,{"$f":"G149*I149","v":0}]
[null,1111159146,"PR241524","Клітка Природа Нюра з будиночком для гризунів 44*27*59 біла/бежева","Менше 10","Клітки для дрібних і середніх гризунів",1101.6099999999999,1432,0,{"$f":"G150*I150","v":0}]
[null,1111159148,"PR241523","Клітка Природа Нюра з будиночком для гризунів 44*27*59 біла/фіолетова","Менше 10","Клітки для дрібних і середніх гризунів",1101.6099999999999,1432,0,{"$f":"G151*I151","v":0}]
[null,1111159149,"PR241521","Клітка Природа Фаворит з колесом для гризунів 30*20*24 біла/фіолетова","Більше 10","Клітки для дрібних і середніх гризунів",505.62,658,0,{"$f":"G152*I152","v":0}]
[null,1111159150,"PR241510","Клітка Природа Шиншила для гризунів 70*44*66 хром/синя арт.PR241510","Менше 10","Клітки для шиншил",2764.62,3594,0,{"$f":"G153*I153","v":0}]
[null,1111159151,"PR241509","Клітка Природа Шиншила для гризунів 70*44*66 чорна/синя арт.PR241509","Менше 10","Клітки для шиншил",2673.94,3476,0,{"$f":"G154*I154","v":0}]
[null,8777,"PR740817","Колесо для хом яків метал+пластик d14 см","Більше 100","Обладнання для кліток",29.66,39.51,0,{"$f":"G155*I155","v":0}]
[null,1111139129,"PR240264","Колесо-барабан для хом яків d14 см","Більше 100","Обладнання для кліток",22.95,32.1,0,{"$f":"G156*I156","v":0}]
[null,22714,"PR740019","Колосок Природа Бісквіт для гризунів, 140 г","Більше 100","Ласощі для гризунів",27.04,43,0,{"$f":"G157*I157","v":0}]
[null,22639,"PR740021","Колосок Природа Бісквіт для папуг, 140 г","Більше 100","Ласощі для птахів",27.04,43,0,{"$f":"G158*I158","v":0}]
[null,7527,"PR740052","Колосок Природа Горіховий для гризунів, 140 г","Більше 100","Ласощі для гризунів",27.04,43,0,{"$f":"G159*I159","v":0}]
[null,9776,"PR740025","Колосок Природа Горіховий для папуг, 140 г","Більше 100","Ласощі для птахів",27.04,43,0,{"$f":"G160*I160","v":0}]
[null,1111138531,"PR240095","Колосок Природа Коктейль гібіскус, чумиза, кокос д/хвиляст. папуг 90г","Більше 100","Ласощі для птахів",34.61,54,0,{"$f":"G161*I161","v":0}]
[null,1111138269,"PR240101","Колосок Природа Коктейль лугові трави, мінерали, горіх д/шиншил, 90 г","Більше 100","Ласощі для гризунів",34.5,54,0,{"$f":"G162*I162","v":0}]
[null,1111138268,"PR240100","Колосок Природа Коктейль мультивітамін, кокос, мед для гризунів, 90 г","Більше 100","Ласощі для гризунів",34.61,54,0,{"$f":"G163*I163","v":0}]
[null,1111138561,"PR240098","Колосок Природа Коктейль мультифр. горіх, цитрус д/середн папуг, 90 г","Більше 100","Ласощі для птахів",34.5,54,0,{"$f":"G164*I164","v":0}]
[null,1111138532,"PR240094","Колосок Природа Коктейль сафлор, ліс.ягода, кокос д/хвил. папуг, 90 г","Більше 100","Ласощі для птахів",34.61,54,0,{"$f":"G165*I165","v":0}]
[null,1111138267,"PR240099","Колосок Природа Коктейль фрукти, горіхи, кокос для гризунів, 90 г","Більше 100","Ласощі для гризунів",34.5,54,0,{"$f":"G166*I166","v":0}]
[null,1111113899,"PR740054","Колосок Природа Лугові трави для екзотичних птахів, 140 г","Більше 10","Ласощі для птахів",28.44,44,0,{"$f":"G167*I167","v":0}]
[null,1111113900,"PR740027","Колосок Природа Лугові трави для папуг, 140 г","Більше 100","Ласощі для птахів",27.04,43,0,{"$f":"G168*I168","v":0}]
[null,1111117448,"PR740005","Колосок Природа МАКСІ Фруктовий для шиншил, 210 г","Більше 100","Ласощі для гризунів",44.34,69,0,{"$f":"G169*I169","v":0}]
[null,7490,"PR740050","Колосок Природа Медовий для гризунів, 140 г","Більше 100","Ласощі для гризунів",27.04,43,0,{"$f":"G170*I170","v":0}]
[null,7428,"PR740022","Колосок Природа Медовий для папуг, 140 г","Більше 100","Ласощі для птахів",27.04,43,0,{"$f":"G171*I171","v":0}]
[null,7395,"PR740049","Колосок Природа Медовий для середніх папуг, 140 г","Більше 100","Ласощі для птахів",28.44,44,0,{"$f":"G172*I172","v":0}]
[null,22713,"PR740018","Колосок Природа Мультивітамін для гризунів, 140 г","Більше 100","Ласощі для гризунів",27.04,43,0,{"$f":"G173*I173","v":0}]
[null,22640,"PR740020","Колосок Природа Мультивітамін для папуг, 140 г","Більше 100","Ласощі для птахів",27.04,43,0,{"$f":"G174*I174","v":0}]
[null,1111156058,"PR241257","Колосок Природа Мультизлак для папуги , 140 г","Більше 100","Ласощі для птахів",27.04,43,0,{"$f":"G175*I175","v":0}]
[null,1111115869,"PR740001","Колосок Природа Мультифрукт для середніх папуг, 140 г","Більше 100","Ласощі для птахів",28.44,44,0,{"$f":"G176*I176","v":0}]
[null,7512,"PR740051","Колосок Природа Овочевий для гризунів, 140 г","Більше 100","Ласощі для гризунів",27.04,43,0,{"$f":"G177*I177","v":0}]
[null,9777,"PR740023","Колосок Природа Овочевий для папуг, 140 г","Більше 100","Ласощі для птахів",27.04,43,0,{"$f":"G178*I178","v":0}]
[null,9785,"PR740057","Колосок Природа Фруктовий для гризунів, 140 г","Більше 100","Ласощі для гризунів",27.04,43,0,{"$f":"G179*I179","v":0}]
[null,7414,"PR740026","Колосок Природа Фруктовий для папуг, 140 г","Більше 100","Ласощі для птахів",27.04,43,0,{"$f":"G180*I180","v":0}]
[null,1111130420,"PR740228","Колосок Фієста Горіховий для гризунів, 100 г","Більше 100","Ласощі для гризунів",28.67,45,0,{"$f":"G181*I181","v":0}]
[null,1111130425,"PR740231","Колосок Фієста Горіховий для хвилястих папуг, 100 г","Більше 100","Ласощі для птахів",26.59,41,0,{"$f":"G182*I182","v":0}]
[null,1111130421,"PR740226","Колосок Фієста Лугові трави для гризунів, 100 г","Більше 100","Ласощі для гризунів",26.59,41,0,{"$f":"G183*I183","v":0}]
[null,1111130417,"PR740227","Колосок Фієста Медовий для гризунів, 100 г","Більше 100","Ласощі для гризунів",26.59,41,0,{"$f":"G184*I184","v":0}]
[null,1111130419,"PR740229","Колосок Фієста Мультивітамін для гризунів, 100 г","Більше 100","Ласощі для гризунів",24.93,45,0,{"$f":"G185*I185","v":0}]
[null,1111130424,"PR740233","Колосок Фієста Мультивітамін для середніх папуг, 100 г","Більше 100","Ласощі для птахів",24.93,45,0,{"$f":"G186*I186","v":0}]
[null,1111130427,"PR740230","Колосок Фієста Мультивітамін для хвилястих папуг, 100 г","Більше 100","Ласощі для птахів",28.67,45,0,{"$f":"G187*I187","v":0}]
[null,1111130418,"PR740235","Колосок Фієста Мультифрукт для гризунів, 100 г","Більше 100","Ласощі для гризунів",26.58,41,0,{"$f":"G188*I188","v":0}]
[null,1111130416,"PR740225","Колосок Фієста Овочевий для гризунів, 100 г","Більше 100","Ласощі для гризунів",28.67,45,0,{"$f":"G189*I189","v":0}]
[null,1111130422,"PR740236","Колосок Фієста Трави та мінерали для шиншил, 100 г","Більше 100","Ласощі для гризунів",24.93,45,0,{"$f":"G190*I190","v":0}]
[null,1111130426,"PR740232","Колосок Фієста Фруктовий для хвилястих папуг, 100 г","Більше 100","Ласощі для птахів",23.12,41,0,{"$f":"G191*I191","v":0}]
[null,1111155093,"PR241079","Корм «Екзотик» NEW","Більше 100","Корм для птахів",44.43,63,0,{"$f":"G192*I192","v":0}]
[null,1111155094,"PR241078","Корм «Канарка» NEW","Більше 100","Корм для птахів",43.27,61,0,{"$f":"G193*I193","v":0}]
[null,1111155091,"PR241081","Корм «Корела «Йод» NEW","Більше 100","Корм для птахів",32.9,46,0,{"$f":"G194*I194","v":0}]
[null,1111155092,"PR241080","Корм «Німфа» NEW","Більше 100","Корм для птахів",34.06,47,0,{"$f":"G195*I195","v":0}]
[null,1111155089,"PR241083","Корм «Папужка «Енергія» NEW","Більше 100","Корм для птахів",35.86,50.5,0,{"$f":"G196*I196","v":0}]
[null,1111155088,"PR241084","Корм «Папужка «Йод+ехінацея» NEW","Більше 100","Корм для птахів",35.86,50.5,0,{"$f":"G197*I197","v":0}]
[null,1111155086,"PR241086","Корм «Папужка «Йод+кокос» NEW","Більше 100","Корм для птахів",35.86,50.5,0,{"$f":"G198*I198","v":0}]
[null,1111155087,"PR241085","Корм «Папужка «Йод+колор» NEW","Більше 100","Корм для птахів",35.86,50.5,0,{"$f":"G199*I199","v":0}]
[null,1111155085,"PR241087","Корм «Папужка «Йод» NEW","Більше 100","Корм для птахів",35.86,50.5,0,{"$f":"G200*I200","v":0}]
[null,1111155090,"PR241082","Корм «Папужка «Юніор» NEW","Більше 100","Корм для птахів",37.19,51.5,0,{"$f":"G201*I201","v":0}]
[null,1111155103,"PR241073","Корм «Пацючок» NEW","Більше 100","Корм для гризунів",27.39,39,0,{"$f":"G202*I202","v":0}]
[null,1111155095,"PR241077","Корм «Шиншилка +Ензим» NEW","Більше 100","Корм для гризунів",34.14,48,0,{"$f":"G203*I203","v":0}]
[null,1111155096,"PR241076","Корм «Шиншилка» NEW","Більше 100","Корм для гризунів",35.299999999999997,49,0,{"$f":"G204*I204","v":0}]
[null,1111145397,"PR240464","Корм Біовіт д/риб Актив (пластин.) 10 г","Більше 100","Корм сухий для риб",15.25,20,0,{"$f":"G205*I205","v":0}]
[null,1111145398,"PR240465","Корм Біовіт д/риб Базис (пластин.) 10 г","Більше 100","Корм сухий для риб",14.91,20,0,{"$f":"G206*I206","v":0}]
[null,1111145400,"PR240467","Корм Біовіт д/риб Золоті рибки (гранул.) 10 г","Більше 100","Корм сухий для риб",15.02,20,0,{"$f":"G207*I207","v":0}]
[null,1111145395,"PR240462","Корм Біовіт д/риб Колор (пластин.) 10 г","Більше 100","Корм сухий для риб",15.23,20,0,{"$f":"G208*I208","v":0}]
[null,1111145396,"PR240463","Корм Біовіт д/риб Плант (пластин.) 10 г","Більше 100","Корм сухий для риб",15.25,20,0,{"$f":"G209*I209","v":0}]
[null,1111145404,"PR240469","Корм Біовіт д/риб Сомики (гранул.) 25 г","Більше 100","Корм сухий для риб",30.07,39,0,{"$f":"G210*I210","v":0}]
[null,1111145402,"PR240471","Корм Біовіт д/риб Супербаланс (гранул.) 25 г","Більше 100","Корм сухий для риб",23.36,30.5,0,{"$f":"G211*I211","v":0}]
[null,1111145399,"PR240466","Корм Біовіт д/риб Універсал (пластин.) 10 г","Більше 100","Корм сухий для риб",15.15,20,0,{"$f":"G212*I212","v":0}]
[null,1111145401,"PR240468","Корм Біовіт д/риб Цихліди (гранул.) 25 г","Більше 100","Корм сухий для риб",28.68,37,0,{"$f":"G213*I213","v":0}]
[null,1111145403,"PR240470","Корм Біовіт д/риб Черепашки (гранул.) 25 г","Більше 100","Корм сухий для черепах і рептилій",25.75,33.35,0,{"$f":"G214*I214","v":0}]
[null,1111159559,"PR241565","Корм Гранулят для гризунів 500 г","Більше 100","Корм для гризунів",49.32,69,0,{"$f":"G215*I215","v":0}]
[null,1111159560,"PR241564","Корм Гранулят для шиншил 500 г","Більше 100","Корм для гризунів",60.46,84,0,{"$f":"G216*I216","v":0}]
[null,1111155098,"PR241074","Корм для кролика «Біотин» NEW","Більше 100","Корм для гризунів",28.05,40,0,{"$f":"G217*I217","v":0}]
[null,1111155097,"PR241075","Корм для кролика NEW","Більше 100","Корм для гризунів",28.05,40,0,{"$f":"G218*I218","v":0}]
[null,1111155100,"PR241069","Корм для морських свинок «Біотин» NEW","Більше 100","Корм для гризунів",28.05,40,0,{"$f":"G219*I219","v":0}]
[null,1111155099,"PR241071","Корм для морських свинок NEW","Більше 100","Корм для гризунів",28.05,40,0,{"$f":"G220*I220","v":0}]
[null,23648,"PR740117","Корм для риб  Аквабазис  10 г","Більше 100","Корм сухий для риб",9.7899999999999991,13,0,{"$f":"G221*I221","v":0}]
[null,1111126588,"PR740095","Корм для риб  Аквабаланс  10 г","Більше 100","Корм сухий для риб",9.7899999999999991,13,0,{"$f":"G222*I222","v":0}]
[null,23652,"PR740119","Корм для риб  Аквавіт  10 г","Більше 100","Корм сухий для риб",9.7899999999999991,13,0,{"$f":"G223*I223","v":0}]
[null,1111114418,"PR740121","Корм для риб  Акваінтенсив  10 г","Більше 100","Корм сухий для риб",9.7899999999999991,13,0,{"$f":"G224*I224","v":0}]
[null,1111114419,"PR740120","Корм для риб  Акваколор  10 г","Більше 100","Корм сухий для риб",9.7899999999999991,13,0,{"$f":"G225*I225","v":0}]
[null,5015,"PR740111","Корм для риб  Аквамікс  10 г","Більше 100","Корм сухий для риб",9.7899999999999991,13,0,{"$f":"G226*I226","v":0}]
[null,23651,"PR740118","Корм для риб  Аквамін  10 г","Більше 100","Корм сухий для риб",9.7899999999999991,13,0,{"$f":"G227*I227","v":0}]
[null,5027,"PR740112","Корм для риб  Акваплант  10 г","Більше 100","Корм сухий для риб",9.7899999999999991,13,0,{"$f":"G228*I228","v":0}]
[null,5028,"PR740113","Корм для риб  Акварубін  10 г","Більше 100","Корм сухий для риб",9.7899999999999991,13,0,{"$f":"G229*I229","v":0}]
[null,1111126590,"PR740093","Корм для риб  Акватропік  10 г","Більше 10","Корм сухий для риб",9.7899999999999991,13,0,{"$f":"G230*I230","v":0}]
[null,10775,"PR740115","Корм для риб  Гаммарус  10 г","Більше 100","Корм сухий для риб",10.63,13,0,{"$f":"G231*I231","v":0}]
[null,3933,"PR740114","Корм для риб  Дафнія  10 г","Більше 100","Корм сухий для риб",8.09,10.35,0,{"$f":"G232*I232","v":0}]
[null,5026,"PR740116","Корм для риб  Мальок  10 г","Більше 100","Корм сухий для риб",9.7899999999999991,13,0,{"$f":"G233*I233","v":0}]
[null,1111126589,"PR740094","Корм для риб  Супермікс  10 г","Більше 100","Корм сухий для риб",9.7899999999999991,13,0,{"$f":"G234*I234","v":0}]
[null,1111155102,"PR241072","Корм для хом’яків «Колор + Ензим» NEW","Більше 100","Корм для гризунів",28.16,40,0,{"$f":"G235*I235","v":0}]
[null,1111155101,"PR241070","Корм для хом’яків NEW","Більше 100","Корм для гризунів",27.39,39,0,{"$f":"G236*I236","v":0}]
[null,1111112826,"PR740147","Корм ЖАКО 1 кг (для великих папуг)","Більше 100","Корм для птахів",100.78,142.5,0,{"$f":"G237*I237","v":0}]
[null,1111146903,"PR740046","Корм Коктейль для гризуна Хом ячок 0,5 кг картон","Більше 100","Корм для гризунів",61.54,86,0,{"$f":"G238*I238","v":0}]
[null,1111145600,"PR740044 КАРТОН","Корм Коктейль для гризунів Кролик 0,5 кг","Більше 100","Корм для гризунів",59.92,83,0,{"$f":"G239*I239","v":0}]
[null,1111145604,"PR740045 КАРТОН","Корм Коктейль для гризунів Морська свинка 0,5 кг Картон","Більше 100","Корм для гризунів",65.2,91,0,{"$f":"G240*I240","v":0}]
[null,1111145601,"PR740043 КАРТОН","Корм Коктейль для гризунів Пацючок 0,5 кг Картон","Більше 100","Корм для гризунів",65.92,92,0,{"$f":"G241*I241","v":0}]
[null,1111145577,"PR740047 КАРТОН","Корм Коктейль для гризунів Шиншилка 0,5 кг Картон","Більше 100","Корм для гризунів",73.87,103,0,{"$f":"G242*I242","v":0}]
[null,1111158782,"PR241341 КАРТОН","Корм Коктейль для папуг Лугові трави 0,5 кг","Більше 100","Корм для птахів",53.57,75,0,{"$f":"G243*I243","v":0}]
[null,1111145599,"PR740030 Картон","Корм Коктейль для папуг Суперменю 0,5 кг","Більше 100","Корм для птахів",57.03,80,0,{"$f":"G244*I244","v":0}]
[null,1111153824,"PR241028","Корм Коктейль для папуги  Фруктовий  0,5кг Картон","Більше 100","Корм для птахів",60.14,85,0,{"$f":"G245*I245","v":0}]
[null,1111153846,"PR241029","Корм Коктейль для птахів  Екзотик  0,5кг Картон","Більше 10","Корм для птахів",61.35,86,0,{"$f":"G246*I246","v":0}]
[null,1111148081,"PR740032 Картон","Корм Коктейль для птахів  Канарка  0,5кг Картон","Більше 10","Корм для птахів",63.26,89,0,{"$f":"G247*I247","v":0}]
[null,1111148082,"PR740042 Картон","Корм Коктейль для середніх папуг Корела 0,5 кг (картон)","Більше 100","Корм для птахів",61.77,86,0,{"$f":"G248*I248","v":0}]
[null,1111167098,"PR242528","Корм Природа для вуличних птахів 500г арт.PR242528","Більше 100","Корм для птахів",32.14,45,0,{"$f":"G249*I249","v":0}]
[null,1111159306,"PR241389","Корм Природа Фієста Африка для великих папуг 0.6 кг арт.PR241389","Більше 100","Корм для птахів",65.09,92,0,{"$f":"G250*I250","v":0}]
[null,1111159312,"PR241378","Корм Природа Фієста Дегу для гризунів  0.6 кг арт.PR241378","Більше 100","Корм для гризунів",75.709999999999994,107,0,{"$f":"G251*I251","v":0}]
[null,1111159303,"PR241381","Корм Природа Фієста Енергія для хвилястих папуг 0.6 кг арт.PR241381","Більше 100","Корм для птахів",52.82,74,0,{"$f":"G252*I252","v":0}]
[null,1111159304,"PR241388","Корм Природа Фієста Йод для хвилястих папуг  0.6 кг арт.PR241388","Більше 100","Корм для птахів",51.63,72,0,{"$f":"G253*I253","v":0}]
[null,1111159311,"PR241387","Корм Природа Фієста Кролик для гризунів  0.6 кг арт.PR241387","Більше 100","Корм для гризунів",52.84,74,0,{"$f":"G254*I254","v":0}]
[null,1111159309,"PR241386","Корм Природа Фієста Морська свинка для гризунів 0.6 кг арт.PR241386","Більше 100","Корм для гризунів",51.89,73,0,{"$f":"G255*I255","v":0}]
[null,1111159305,"PR241385","Корм Природа Фієста Німфа для середніх папуг  0.6 кг арт.PR241385","Більше 100","Корм для птахів",54.09,76,0,{"$f":"G256*I256","v":0}]
[null,1111159310,"PR241384","Корм Природа Фієста Пацючок для гризунів  0.6 кг арт.PR241384","Більше 100","Корм для гризунів",51.52,72,0,{"$f":"G257*I257","v":0}]
[null,1111159302,"PR241383","Корм Природа Фієста Фруктовий для хвилястих папуг 0.6 кг арт.PR241383","Більше 100","Корм для птахів",53.18,74,0,{"$f":"G258*I258","v":0}]
[null,1111159307,"PR241382","Корм Природа Фієста Хом ячок для гризунів 600 г","Більше 100","Корм для гризунів",50.76,71,0,{"$f":"G259*I259","v":0}]
[null,1111159308,"PR241380","Корм Природа Фієста Шиншилка для гризунів 0.6 кг арт.PR241380","Більше 100","Корм для гризунів",55.89,79,0,{"$f":"G260*I260","v":0}]
[null,1111135843,"PR740083","Корм Раціон для дрібних гризунів 1,5 кг","Більше 100","Корм для гризунів",75.72,106,0,{"$f":"G261*I261","v":0}]
[null,1111135842,"PR740084","Корм Раціон для середніх гризунів 1,5 кг","Більше 100","Корм для гризунів",74.5,104,0,{"$f":"G262*I262","v":0}]
[null,1111135847,"PR740081","Корм Раціон для середніх папуг 1,5 кг","Більше 100","Корм для птахів",90.21,126.5,0,{"$f":"G263*I263","v":0}]
[null,1111135846,"PR740082","Корм Раціон для хвилястих папуг  Мультивітамін+йод  1,5 кг","Більше 100","Корм для птахів",87.62,123,0,{"$f":"G264*I264","v":0}]
[null,1111135844,"PR740085","Корм Раціон для шиншил 1,5 кг","Більше 100","Корм для гризунів",95.57,134,0,{"$f":"G265*I265","v":0}]
[null,7714,"PR740012","Крейда Природа для гризунів, 18 г","Більше 100","Вітаміни та мінерали",8.67,12.43,0,{"$f":"G266*I266","v":0}]
[null,7717,"PR740011","Крейда Природа для німфи, 18 г","Більше 100","Вітаміни та мінерали",8.67,12.43,0,{"$f":"G267*I267","v":0}]
[null,7712,"PR740010","Крейда Природа для хвилястих папуг, 18 г","Більше 100","Вітаміни та мінерали",8.67,12.43,0,{"$f":"G268*I268","v":0}]
[null,1111125111,"PR740759","Кульки-десерт Фієста для гризунів, 3 шт., 70г","Більше 10","Ласощі для гризунів",29.47,44,0,{"$f":"G269*I269","v":0}]
[null,1111162532,"PR241981","Лежак  KOKOS   №1 (48*38*18)","Більше 10","Лежаки",356.95,481.89,0,{"$f":"G270*I270","v":0}]
[null,1111162533,"PR241980","Лежак  KOKOS   №2 (54*44*20)","Більше 10","Лежаки",444.22,599.69000000000005,0,{"$f":"G271*I271","v":0}]
[null,1111162534,"PR241979","Лежак  KOKOS   №3 (64*50*22)","Більше 10","Лежаки",521.48,704,0,{"$f":"G272*I272","v":0}]
[null,1111160989,"PR241780","Лежак  LUX  5 (86*62*27), PR241780","Більше 10","Лежаки",859,1146,0,{"$f":"G273*I273","v":0}]
[null,1111160990,"PR241779","Лежак  Place  (58*48*16), PR241779","Менше 10","Лежаки",407.91,550.67999999999995,0,{"$f":"G274*I274","v":0}]
[null,1111162530,"PR241983","Лежак  TRANSFORMER  №1 (42*52*18)","Більше 10","Лежаки",491.5,663.53,0,{"$f":"G275*I275","v":0}]
[null,1111162531,"PR241982","Лежак  TRANSFORMER  №2 (54*66*20)","Більше 10","Лежаки",680.08,918.11,0,{"$f":"G276*I276","v":0}]
[null,1111168661,"PR242859","Лежак BERRY (60х50х18)","Більше 10","Лежаки",504.81,681.5,0,{"$f":"G277*I277","v":0}]
[null,1111173128,"PR243069","Лежак Buddy (50х40х12)","Більше 10","Лежаки",317,428,0,{"$f":"G278*I278","v":0}]
[null,1111170229,"PR242918","Лежак CORAL 1 смужка","Більше 10","Лежаки",332.77,449.24,0,{"$f":"G279*I279","v":0}]
[null,1111170230,"PR242919","Лежак CORAL 2 смужка","Більше 10","Лежаки",452.71,611.16,0,{"$f":"G280*I280","v":0}]
[null,1111170231,"PR242920","Лежак CORAL 3 смужка","Менше 10","Лежаки",587.86,793.61,0,{"$f":"G281*I281","v":0}]
[null,1111173943,"PR243089","Лежак Green (50х40х13)","Більше 10","Лежаки",348.71,470.76,0,{"$f":"G282*I282","v":0}]
[null,1111160929,"PR241776","Лежак LABYRINTH  1 (40*25*20)","Більше 10","Лежаки",293.68,396.47,0,{"$f":"G283*I283","v":0}]
[null,1111160930,"PR241777","Лежак LABYRINTH  2 (50*40*20)","Більше 10","Лежаки",434.15,586.11,0,{"$f":"G284*I284","v":0}]
[null,1111160931,"PR241778","Лежак LABYRINTH  3 (65*45*20)","Більше 10","Лежаки",631.05999999999995,851.93,0,{"$f":"G285*I285","v":0}]
[null,1111173941,"PR243091","Лежак Laki  (52х38х13)","Менше 10","Лежаки",346.74,468.1,0,{"$f":"G286*I286","v":0}]
[null,1111160985,"PR241784","Лежак LUX  1 (40*30*17)","Більше 10","Лежаки",261.3,352.75,0,{"$f":"G287*I287","v":0}]
[null,1111160986,"PR241783","Лежак LUX  2 (52*36*20)","Більше 10","Лежаки",370,494,0,{"$f":"G288*I288","v":0}]
[null,1111160987,"PR241782","Лежак LUX  3 (62*44*22)","Більше 10","Лежаки",569.1,768.28,0,{"$f":"G289*I289","v":0}]
[null,1111160988,"PR241781","Лежак LUX  4 (57*79*24)","Менше 10","Лежаки",732.27,988.56,0,{"$f":"G290*I290","v":0}]
[null,1111173944,"PR243088","Лежак Michael (52х40х12)","Більше 10","Лежаки",346.71,468.06,0,{"$f":"G291*I291","v":0}]
[null,1111172842,"PR243063","Лежак PRINT № 1 (50*40*12)","Більше 10","Лежаки",244.97,330.71,0,{"$f":"G292*I292","v":0}]
[null,1111172843,"PR243062","Лежак PRINT № 2 (60*52*14)","Менше 10","Лежаки",323.57,436.82,0,{"$f":"G293*I293","v":0}]
[null,1111172844,"PR243061","Лежак PRINT № 3 (82*64*16)","Менше 10","Лежаки",476.97,643.9,0,{"$f":"G294*I294","v":0}]
[null,1111168662,"PR242858","Лежак RICKY № 2 (50*40*16)","Більше 10","Лежаки",404,545.4,0,{"$f":"G295*I295","v":0}]
[null,1111168663,"PR242857","Лежак RICKY № 3 (62*48*18)","Більше 10","Лежаки",537.95000000000005,726.24,0,{"$f":"G296*I296","v":0}]
[null,1111173942,"PR243090","Лежак Robert (52х38х12)","Менше 10","Лежаки",311,420,0,{"$f":"G297*I297","v":0}]
[null,1111173132,"PR243065","Лежак Rocky  (60х60х10)","Менше 10","Лежаки",398,537,0,{"$f":"G298*I298","v":0}]
[null,1111173130,"PR243067","Лежак Skye (45х45х10)","Більше 10","Лежаки",221.34,298.81,0,{"$f":"G299*I299","v":0}]
[null,1111173131,"PR243066","Лежак Tommy (50х50х10)","Менше 10","Лежаки",316.38,427.12,0,{"$f":"G300*I300","v":0}]
[null,1111119222,"PR740437","Лопатка №3 для гранул і піску","Більше 100","Лопатки",13.73,17.46,0,{"$f":"G301*I301","v":0}]
[null,22758,"PR740440","Лопатка велика №2","Більше 100","Лопатки",13.26,18.559999999999999,0,{"$f":"G302*I302","v":0}]
[null,23208,"PR740438","Лопатка маленька №1","Більше 100","Лопатки",7.87,10.9,0,{"$f":"G303*I303","v":0}]
[null,4031,"PR740429СПЕЦЦЕНА","Матрац С16 36?56?2 см","Більше 10","Матраци",141.18,190.59,0,{"$f":"G304*I304","v":0}]
[null,4032,"PR740430СПЕЦЦЕНА","Матрац С17 44?66?2 см","Менше 10","Матраци",225.82,304.86,0,{"$f":"G305*I305","v":0}]
[null,10172,"PR740431СПЕЦЦЕНА","Матрац С17,5 52?77?2 см","Менше 10","Матраци",266.31,359.52,0,{"$f":"G306*I306","v":0}]
[null,4033,"PR740432СПЕЦЦЕНА","Матрац С18 57?84?2 см","Менше 10","Матраци",295.41000000000003,398.8,0,{"$f":"G307*I307","v":0}]
[null,5114,"PR740433СПЕЦЦЕНА","Матрац С19 84?112?2 см","Менше 10","Матраци",458.28,618.67999999999995,0,{"$f":"G308*I308","v":0}]
[null,1111115654,"PR740450","Миска  Модерн  №3 750 мл","Більше 10","Миски",32.76,44.2,0,{"$f":"G309*I309","v":0}]
[null,1111137281,"PR740451","Миска  Модерн  №4 1,25 л","Більше 10","Миски",42.28,56.38,0,{"$f":"G310*I310","v":0}]
[null,1111123540,"PR740452","Миска  Модерн  подвійна №1 для кота  Дует  400 мл","Більше 100","Миски",21.71,28.5,0,{"$f":"G311*I311","v":0}]
[null,1111161380,"PR241868","Миска «Етно», 200 мл, кераміка","Менше 10","Миски",309,402.12,0,{"$f":"G312*I312","v":0}]
[null,1111177032,"PR243390","Миска №0 0,12 л жовта","Більше 100","Миски",9.7100000000000009,11.94,0,{"$f":"G313*I313","v":0}]
[null,1111177033,"PR243389","Миска №0 0,12 л зелена","Більше 100","Миски",9.7100000000000009,11.94,0,{"$f":"G314*I314","v":0}]
[null,1111177031,"PR243391","Миска №0 0,12 л синя","Більше 100","Миски",9.7100000000000009,11.94,0,{"$f":"G315*I315","v":0}]
[null,1111177030,"PR243392","Миска №0 0,12 л червона","Більше 100","Миски",9.7100000000000009,11.94,0,{"$f":"G316*I316","v":0}]
[null,1111177036,"PR243386","Миска №1 0,3 л жовта","Більше 100","Миски",15.81,21.77,0,{"$f":"G317*I317","v":0}]
[null,1111177037,"PR243385","Миска №1 0,3 л зелена","Більше 10","Миски",15.81,21.77,0,{"$f":"G318*I318","v":0}]
[null,1111177035,"PR243387","Миска №1 0,3 л синя","Більше 10","Миски",15.81,21.77,0,{"$f":"G319*I319","v":0}]
[null,1111177034,"PR243388","Миска №1 0,3 л червона","Більше 10","Миски",15.81,21.77,0,{"$f":"G320*I320","v":0}]
[null,260,"PR740457","Миска №4 2,0 л","Більше 10","Миски",46.29,63,0,{"$f":"G321*I321","v":0}]
[null,1111117001,"PR740458*****","Миска №5 2,4 л","Більше 10","Миски",75.900000000000006,101.26,0,{"$f":"G322*I322","v":0}]
[null,1111118852,"PR740459*****","Миска №6 3,0 л","Немає в наявності","Миски",87.89,119.05,0,{"$f":"G323*I323","v":0}]
[null,1111125929,"PR740463","Миска для гризунів  Лариска  100 мл","Більше 100","Обладнання для кліток",9.5,12.33,0,{"$f":"G324*I324","v":0}]
[null,1111127212,"PR740464","Миска для кота плоска 200 мл","Більше 100","Миски",14.22,20.5,0,{"$f":"G325*I325","v":0}]
[null,1111124815,"PR740465","Миска для персидського кота 400 мл","Більше 100","Миски",17.739999999999998,24.59,0,{"$f":"G326*I326","v":0}]
[null,1111136799,"PR740466","Миска для спанієля 750 мл","Більше 10","Миски",29.89,39.36,0,{"$f":"G327*I327","v":0}]
[null,1111177008,"PR243414","Миска Модерн №0 0, 2л світло-блакитна","Більше 100","Миски",11.91,16.73,0,{"$f":"G328*I328","v":0}]
[null,1111177006,"PR243416","Миска Модерн №0 0,2 л рожево-бежева","Більше 100","Миски",11.91,16.73,0,{"$f":"G329*I329","v":0}]
[null,1111177007,"PR243415","Миска Модерн №0 0,2 л світло-бежева","Більше 100","Миски",11.91,16.73,0,{"$f":"G330*I330","v":0}]
[null,1111177009,"PR243413","Миска Модерн №0 0,2 л світло-фіолетова","Більше 100","Миски",11.91,16.73,0,{"$f":"G331*I331","v":0}]
[null,1111177010,"PR243412","Миска Модерн №1 0,3 л рожево-бежева","Більше 100","Миски",15.82,21.47,0,{"$f":"G332*I332","v":0}]
[null,1111177011,"PR243411","Миска Модерн №1 0,3 л світло-бежева","Більше 100","Миски",15.82,21.47,0,{"$f":"G333*I333","v":0}]
[null,1111177012,"PR243410","Миска Модерн №1 0,3 л світло-блакитна","Більше 100","Миски",15.82,21.47,0,{"$f":"G334*I334","v":0}]
[null,1111177013,"PR243409","Миска Модерн №1 0,3 л світло-фіолетова","Більше 100","Миски",15.82,21.47,0,{"$f":"G335*I335","v":0}]
[null,265,"PR740461","Миска подвійна №1 для кота 400 мл","Більше 100","Миски",20.239999999999998,27.92,0,{"$f":"G336*I336","v":0}]
[null,1111116369,"PR740015","Мінерал Природа Зелене яблуко для гризунів, 18 г","Більше 100","Вітаміни та мінерали",8.67,12.43,0,{"$f":"G337*I337","v":0}]
[null,1111116162,"PR740013","Мінерал Природа Зелене яблуко для попуг, 18 г","Більше 100","Вітаміни та мінерали",8.67,12.43,0,{"$f":"G338*I338","v":0}]
[null,1111116191,"PR740016","Мінерал Природа Каротин для гризунів, 18 г","Більше 100","Вітаміни та мінерали",8.67,12.43,0,{"$f":"G339*I339","v":0}]
[null,1111133896,"PR740061","Мінерал Природа Максі Бурячок для гризунів, 124 г","Більше 100","Вітаміни та мінерали",32.11,46,0,{"$f":"G340*I340","v":0}]
[null,1111133898,"PR740062","Мінерал Природа Максі Каротин-трави для гризунів, 124 г","Більше 100","Вітаміни та мінерали",32.11,46,0,{"$f":"G341*I341","v":0}]
[null,1111133895,"PR740060","Мінерал Природа Максі Мультифрукт для птахів, 124 г","Більше 100","Вітаміни та мінерали",28.75,41,0,{"$f":"G342*I342","v":0}]
[null,1111133897,"PR740063","Мінерал Природа Максі Мюслі для гризунів, 124 г","Більше 100","Вітаміни та мінерали",28.75,41,0,{"$f":"G343*I343","v":0}]
[null,1111116190,"PR740014","Мінерал Природа Цитрус для папуг, 18 г","Більше 100","Вітаміни та мінерали",8.67,12.43,0,{"$f":"G344*I344","v":0}]
[null,1111125916,"PR240119","Наповнювач SANI PET НАТУРАЛЬНИЙ 10 кг","Більше 100","Наповнювачі деревні",185,240.6,0,{"$f":"G345*I345","v":0}]
[null,1111149902,"PR240791 лимон 2,5кг","Наповнювач деревний SANI PET УНІВЕРСАЛЬНИЙ 2,5 кг лимон","Більше 100","Наповнювачі деревні",49,63.4,0,{"$f":"G346*I346","v":0}]
[null,1111137941,"PR740416 натур 2,5кг","Наповнювач деревний SANI PET УНІВЕРСАЛЬНИЙ 2,5кг натур.","Більше 100","Наповнювачі деревні",49,63.4,0,{"$f":"G347*I347","v":0}]
[null,1111149888,"PR240793 яблоко 2,5кг","Наповнювач деревний SANI PET УНІВЕРСАЛЬНИЙ 2,5кг ЯБЛУКО","Більше 100","Наповнювачі деревні",49,63.4,0,{"$f":"G348*I348","v":0}]
[null,1111149903,"PR240792 лимон 5кг","Наповнювач деревний SANI PET УНІВЕРСАЛЬНИЙ 5 кг лимон","Більше 100","Наповнювачі деревні",96,126.3,0,{"$f":"G349*I349","v":0}]
[null,1111137942,"PR740415 натур 5кг","Наповнювач деревний SANI PET УНІВЕРСАЛЬНИЙ 5 кг натур.","Більше 100","Наповнювачі деревні",96,126.3,0,{"$f":"G350*I350","v":0}]
[null,1111149901,"PR240794 яблоко 5кг","Наповнювач деревний SANI PET УНІВЕРСАЛЬНИЙ 5 кг ЯБЛУКО","Більше 100","Наповнювачі деревні",96,126.3,0,{"$f":"G351*I351","v":0}]
[null,1111180855,"PR243572","Натуральні сушені ласощі д/собак Вим’я яловиче сушене 1000г","Більше 10","Ласощі для собак",453.81,590,0,{"$f":"G352*I352","v":0}]
[null,1111180854,"PR243573","Натуральні сушені ласощі д/собак Вим’я яловиче сушене 100г","Більше 10","Ласощі для собак",47.59,62,0,{"$f":"G353*I353","v":0}]
[null,1111180865,"PR243562","Натуральні сушені ласощі д/собак Жила станова яловича сушена 1000г","Більше 10","Ласощі для собак",473.12,615,0,{"$f":"G354*I354","v":0}]
[null,1111180864,"PR243563","Натуральні сушені ласощі д/собак Жила станова яловича сушена 100г","Більше 10","Ласощі для собак",53.73,70,0,{"$f":"G355*I355","v":0}]
[null,1111180869,"PR243558","Натуральні сушені ласощі д/собак Лапи курячі сушені 1000г","Більше 10","Ласощі для собак",342.29,445,0,{"$f":"G356*I356","v":0}]
[null,1111180868,"PR243559","Натуральні сушені ласощі д/собак Лапи курячі сушені 100г","Більше 10","Ласощі для собак",38.909999999999997,51,0,{"$f":"G357*I357","v":0}]
[null,1111180861,"PR243566","Натуральні сушені ласощі д/собак Легені яловичі сушені 500г","Більше 10","Ласощі для собак",270.73,352,0,{"$f":"G358*I358","v":0}]
[null,1111180860,"PR243567","Натуральні сушені ласощі д/собак Легені яловичі сушені 50г","Більше 10","Ласощі для собак",39.76,52,0,{"$f":"G359*I359","v":0}]
[null,1111180877,"PR243550","Натуральні сушені ласощі д/собак Мікс яловичий сушений 1000г","Більше 10","Ласощі для собак",442.74,575,0,{"$f":"G360*I360","v":0}]
[null,1111180859,"PR243568","Натуральні сушені ласощі д/собак Нирки яловичі сушені 1000г","Менше 10","Ласощі для собак",581.28,755,0,{"$f":"G361*I361","v":0}]
[null,1111180858,"PR243569","Натуральні сушені ласощі д/собак Нирки яловичі сушені 100г","Більше 10","Ласощі для собак",68.91,89,0,{"$f":"G362*I362","v":0}]
[null,1111180845,"PR243582","Натуральні сушені ласощі д/собак Пеніс яловичий сушений 1000г","Більше 10","Ласощі для собак",1445.52,1880,0,{"$f":"G363*I363","v":0}]
[null,1111180844,"PR243583","Натуральні сушені ласощі д/собак Пеніс яловичий сушений 100г","Більше 10","Ласощі для собак",177.03,230,0,{"$f":"G364*I364","v":0}]
[null,1111180857,"PR243570","Натуральні сушені ласощі д/собак Печінка яловича сушена 1000г","Більше 10","Ласощі для собак",438.28,570,0,{"$f":"G365*I365","v":0}]
[null,1111180856,"PR243571","Натуральні сушені ласощі д/собак Печінка яловича сушена 100г","Більше 10","Ласощі для собак",49.71,64,0,{"$f":"G366*I366","v":0}]
[null,1111180849,"PR243578","Натуральні сушені ласощі д/собак Рубець яловичий сушений 500г","Більше 10","Ласощі для собак",250.2,325,0,{"$f":"G367*I367","v":0}]
[null,1111180848,"PR243579","Натуральні сушені ласощі д/собак Рубець яловичий сушений 50г","Більше 10","Ласощі для собак",36.75,48,0,{"$f":"G368*I368","v":0}]
[null,1111180851,"PR243576","Натуральні сушені ласощі д/собак Рубець яловичий сушений слайсами 500г","Менше 10","Ласощі для собак",269.31,370,0,{"$f":"G369*I369","v":0}]
[null,1111180850,"PR243577","Натуральні сушені ласощі д/собак Рубець яловичий сушений слайсами 50г","Більше 10","Ласощі для собак",31.93,41,0,{"$f":"G370*I370","v":0}]
[null,1111180853,"PR243574","Натуральні сушені ласощі д/собак Стравохід яловичий сушений 1000г","Менше 10","Ласощі для собак",661.84,860,0,{"$f":"G371*I371","v":0}]
[null,1111180852,"PR243575","Натуральні сушені ласощі д/собак Стравохід яловичий сушений 100г","Більше 10","Ласощі для собак",90.32,118,0,{"$f":"G372*I372","v":0}]
[null,1111180847,"PR243580","Натуральні сушені ласощі д/собак Трахея яловича сушена рублена 500г","Менше 10","Ласощі для собак",242.02,315,0,{"$f":"G373*I373","v":0}]
[null,1111180846,"PR243581","Натуральні сушені ласощі д/собак Трахея яловича сушена рублена 50г","Більше 10","Ласощі для собак",32.29,42,0,{"$f":"G374*I374","v":0}]
[null,1111180875,"PR243552","Натуральні сушені ласощі д/собак Шлунок качиний сушений слайсами 1000г","Більше 10","Ласощі для собак",589.08000000000004,765,0,{"$f":"G375*I375","v":0}]
[null,1111180873,"PR243554","Натуральні сушені ласощі д/собак Шлунок курячий сушений слайсами 1000г","Менше 10","Ласощі для собак",661.19,860,0,{"$f":"G376*I376","v":0}]
[null,1111180872,"PR243555","Натуральні сушені ласощі д/собак Шлунок курячий сушений слайсами 100г","Більше 10","Ласощі для собак",98.18,127,0,{"$f":"G377*I377","v":0}]
[null,7666,"PR240253","Перекладина для птахів","Більше 100","Обладнання для кліток",8.26,10.83,0,{"$f":"G378*I378","v":0}]
[null,1111160233,"PR001082","Піддон середній 37x25 зелений. арт. PR001082","Менше 10","Запчастини для кліток, вольєрів",66.78,87,0,{"$f":"G379*I379","v":0}]
[null,1111161381,"PR241867","Підставка + 2 миски «Етно», 200 мл, кераміка","Більше 10","Миски",728,981.97,0,{"$f":"G380*I380","v":0}]
[null,8699,"PR740413","Підставка під миски 1,8 л","Менше 10","Підставки під миски",1005.33,1357.19,0,{"$f":"G381*I381","v":0}]
[null,8665,"PR740414","Підставка під миски 2,8 л","Менше 10","Підставки під миски",1040.67,1404.9,0,{"$f":"G382*I382","v":0}]
[null,1111160179,"PR241686","Пісок для птахів з морськими мушлями 1кг","Більше 100","Пісок для птахів і гризунів",30.44,43,0,{"$f":"G383*I383","v":0}]
[null,1111160178,"PR241687","Пісок Природа для птахів 1000г арт.PR241687","Більше 100","Пісок для птахів і гризунів",28.1,45,0,{"$f":"G384*I384","v":0}]
[null,1111160180,"PR241685","Пісок Природа для шиншил 1000г арт.PR241685","Більше 100","Пісок для птахів і гризунів",31.67,44,0,{"$f":"G385*I385","v":0}]
[null,1111173133,"PR243064","Подушка-матрас Oliver  (80х60х10)","Більше 10","Лежаки",274.08,370,0,{"$f":"G386*I386","v":0}]
[null,1111173129,"PR243068","Подушка-матрас Ostin (80х60х10)","Більше 10","Лежаки",247,333,0,{"$f":"G387*I387","v":0}]
[null,1111136075,"PR740827","Поїлка автоматична для гризунів 150 мл","Більше 10","Обладнання для кліток",60.32,80.040000000000006,0,{"$f":"G388*I388","v":0}]
[null,1111139917,"PR240265","Поїлка автоматична для гризунів 300 мл","Більше 100","Обладнання для кліток",72.75,99.75,0,{"$f":"G389*I389","v":0}]
[null,1111133737,"PR740828","Поїлка автоматична для гризунів 60 мл","Більше 100","Обладнання для кліток",60.15,82.89,0,{"$f":"G390*I390","v":0}]
[null,8278,"PR740829","Поїлка для папуг 60 мл","Більше 100","Обладнання для кліток",11.41,16.489999999999998,0,{"$f":"G391*I391","v":0}]
[null,1111134306,"PR240222","Пояс гігієнічний для кобелів M","Більше 10","Гігієнічний одяг",235.09,317.38,0,{"$f":"G392*I392","v":0}]
[null,1111134305,"PR240223","Пояс гігієнічний для кобелів S","Більше 10","Гігієнічний одяг",195.66,264.13,0,{"$f":"G393*I393","v":0}]
[null,1111134217,"PR240224","Пояс гігієнічний для кобелів XS","Менше 10","Гігієнічний одяг",181.67,245.25,0,{"$f":"G394*I394","v":0}]
[null,1111145245,"PR240446","Природа Піца ласощі для гризунів, 40 г","Більше 10","Ласощі для гризунів",34.28,50,0,{"$f":"G395*I395","v":0}]
[null,1111141376,"PR240336","Сіно для гризунів  Люцерна  200 г","Більше 100","Корм для гризунів",40.4,57,0,{"$f":"G396*I396","v":0}]
[null,1111140748,"PR240339","Сіно для гризунів  М ята  200 г","Більше 100","Корм для гризунів",25.85,36,0,{"$f":"G397*I397","v":0}]
[null,1111140421,"PR240335","Сіно для гризунів  Фруктово-овочеве  200 г","Більше 100","Корм для гризунів",25.85,36,0,{"$f":"G398*I398","v":0}]
[null,4025,"PR740067","Сіно лугове для гризунів 300 г","Більше 100","Корм для гризунів",26.09,36,0,{"$f":"G399*I399","v":0}]
[null,1111132200,"PR740068","Сіно лугове для гризунів 600 г","Більше 100","Корм для гризунів",41.73,58,0,{"$f":"G400*I400","v":0}]
[null,7731,"PR740802/45К","Скриня 14х11 см","Менше 10","Декорації для акваріуму",314.5,408.68,0,{"$f":"G401*I401","v":0}]
[null,7747,"PR240108/46К","Скриня міні 13х8 см","Менше 10","Декорації для акваріуму",294,383.17,0,{"$f":"G402*I402","v":0}]
[null,1111162535,"PR241978","Сумка-переноска  BASIC  №1 (37*30*23)","Більше 10","Сумки-переноски, рюкзаки",701.2,946.62,0,{"$f":"G403*I403","v":0}]
[null,1111162536,"PR241977","Сумка-переноска  BASIC  №2 (41*30*26)","Більше 10","Сумки-переноски, рюкзаки",787.92,1063.69,0,{"$f":"G404*I404","v":0}]
[null,1111162537,"PR241976","Сумка-переноска  BASIC  №3 (42*32*24)","Менше 10","Сумки-переноски, рюкзаки",847.33,1143.9000000000001,0,{"$f":"G405*I405","v":0}]
[null,1111162538,"PR241975","Сумка-переноска  CONSTANTA  (40*28*28)","Більше 10","Сумки-переноски, рюкзаки",875.79,1182.32,0,{"$f":"G406*I406","v":0}]
[null,1111176060,"PR243275","Сумка-переноска BAG","Більше 10","Сумки-переноски, рюкзаки",574.41,775.46,0,{"$f":"G407*I407","v":0}]
[null,1111176059,"PR243276","Сумка-переноска CARRI","Більше 10","Сумки-переноски, рюкзаки",455.49,614.91,0,{"$f":"G408*I408","v":0}]
[null,1111176061,"PR243274","Сумка-переноска FABI","Менше 10","Сумки-переноски, рюкзаки",785.33,1060.2,0,{"$f":"G409*I409","v":0}]
[null,1854,"PR740064","Тирса для гризунів 900 г","Більше 100","Тирса",42.84,60.18,0,{"$f":"G410*I410","v":0}]
[null,1111158663,"PR241408","Трав_яні снеки Природа КАЛЕНДУЛА ТА МОРКВА для гризунів, 60 г","Більше 100","Ласощі для гризунів",33.72,52,0,{"$f":"G411*I411","v":0}]
[null,1111160922,"PR241768","Трав_яні снеки Природа КОКОС І ЯБЛУКО для гризунів, 60 г","Більше 10","Ласощі для гризунів",33.72,52,0,{"$f":"G412*I412","v":0}]
[null,1111160921,"PR241769","Трав_яні снеки Природа М ЯТА І ЯБЛУКО для гризунів, 60 г","Більше 100","Ласощі для гризунів",33.72,52,0,{"$f":"G413*I413","v":0}]
[null,1111158662,"PR241409","Трав_яні снеки Природа ЯБЛУКО ТА БУРЯК для гризунів, 60 г","Більше 100","Ласощі для гризунів",33.72,52,0,{"$f":"G414*I414","v":0}]
[null,1111158661,"PR241410","Трав_яні снеки Прирорда РОМАШКА ТА ГРУША для гризунів, 60 г","Більше 100","Ласощі для гризунів",33.72,52,0,{"$f":"G415*I415","v":0}]
[null,1111136584,"PR240122","Трава Природа Мікс швидкозростаюча для котів","Більше 100","Вітаміни та мінерали",20.329999999999998,26.26,0,{"$f":"G416*I416","v":0}]
[null,7096,"PR240123","Трава швидкозростаюча Природа для котів","Більше 100","Вітаміни та мінерали",20.329999999999998,26.26,0,{"$f":"G417*I417","v":0}]
[null,6315,"PR240225","Труси для собак 1 25-30 см","Менше 10","Гігієнічний одяг",86.2,118.1,0,{"$f":"G418*I418","v":0}]
[null,6316,"PR240226","Труси для собак 2 30-36 см","Менше 10","Гігієнічний одяг",88.12,118.97,0,{"$f":"G419*I419","v":0}]
[null,6317,"PR240227","Труси для собак 3 36-42 см","Менше 10","Гігієнічний одяг",90.11,121.64,0,{"$f":"G420*I420","v":0}]
[null,6318,"PR240228","Труси для собак 4 42-48 см","Менше 10","Гігієнічний одяг",99.35,134.12,0,{"$f":"G421*I421","v":0}]
[null,6319,"PR240229","Труси для собак 5 48-55 см","Менше 10","Гігієнічний одяг",100.82,138.12,0,{"$f":"G422*I422","v":0}]
[null,6320,"PR240230","Труси для собак 6 55-62 см","Менше 10","Гігієнічний одяг",105.82,142.86000000000001,0,{"$f":"G423*I423","v":0}]
[null,7660,"PR240232","Труси для собак ЛІТНІ 25-30 см Т1-Л","Більше 10","Гігієнічний одяг",84.85,114.55,0,{"$f":"G424*I424","v":0}]
[null,7659,"PR240233","Труси для собак ЛІТНІ 30-36 см Т2-Л","Менше 10","Гігієнічний одяг",86.22,118.12,0,{"$f":"G425*I425","v":0}]
[null,7661,"PR240234","Труси для собак ЛІТНІ 36-42 см Т3-Л","Більше 10","Гігієнічний одяг",88.05,118.86,0,{"$f":"G426*I426","v":0}]
[null,1111141708,"PR240380","Туалет глибокий із сіткою  Барсик 40?30?11 см","Більше 100","Туалети",135.27000000000001,182.69,0,{"$f":"G427*I427","v":0}]
[null,1111160622,"PR241739","Туалет для котів Comfort L 49х39х15, бордо","Більше 10","Туалети",216.5,291.07,0,{"$f":"G428*I428","v":0}]
[null,1111160623,"PR241740","Туалет для котів Comfort L 49х39х15, лайм","Більше 10","Туалети",216.5,291.07,0,{"$f":"G429*I429","v":0}]
[null,1111160621,"PR241698","Туалет для котів Comfort L 49х39х15, сірий","Більше 10","Туалети",216.5,291.07,0,{"$f":"G430*I430","v":0}]
[null,1111160624,"PR241741","Туалет для котів Comfort L 49х39х15, ультрамарин","Більше 10","Туалети",184.49,248,0,{"$f":"G431*I431","v":0}]
[null,1111160626,"PR241736","Туалет для котів Comfort M 41х30х13.5, бордо","Більше 10","Туалети",167.29,226.94,0,{"$f":"G432*I432","v":0}]
[null,1111160627,"PR241737","Туалет для котів Comfort M 41х30х13.5, лайм","Більше 10","Туалети",167.29,226.94,0,{"$f":"G433*I433","v":0}]
[null,1111160625,"PR241699","Туалет для котів Comfort M 41х30х13.5, сірий","Більше 100","Туалети",167.29,226.94,0,{"$f":"G434*I434","v":0}]
[null,1111160628,"PR241738","Туалет для котів Comfort M 41х30х13.5, ультрамарин","Більше 10","Туалети",167.29,226.94,0,{"$f":"G435*I435","v":0}]
[null,1111113280,"PR740434","Туалет для піску  Доллі  40?30?10 см","Більше 100","Туалети",80.349999999999994,109.32,0,{"$f":"G436*I436","v":0}]
[null,11360,"PR740436","Туалет для піску  Міні","Більше 100","Туалети",50.32,68.56,0,{"$f":"G437*I437","v":0}]
[null,1111115442,"PR740435","Туалет з рамкою  Маркіз","Більше 100","Туалети",108.69,147.43,0,{"$f":"G438*I438","v":0}]
[null,2096,"PR740443","Туалет з сіткою 36,5x27,5x5,5 см","Більше 100","Туалети",86.48,115.79,0,{"$f":"G439*I439","v":0}]
[null,1111111585,"PR740444","Туалет з сіткою N1 Light 34,5х26х5 см","Більше 100","Туалети",61.55,82.56,0,{"$f":"G440*I440","v":0}]
[null,1111162300,"PR241957","Тунель для гризунів, з повсті","Більше 10","Обладнання для кліток",58,78,0,{"$f":"G441*I441","v":0}]
[null,1111154285,"PR241105","Фігура з острова Пасхи 5,5х10х3 см","Менше 10","Декорації для акваріуму",210,272.83,0,{"$f":"G442*I442","v":0}]
[null,1111129743,"PR740757","Чумиза натуральна Фієста для гризунів, 25 г","Більше 100","Ласощі для гризунів",55.34,80,0,{"$f":"G443*I443","v":0}]
[null,1111129744,"PR740758","Чумиза натуральна Фієста для папуг, 25 г","Більше 100","Ласощі для птахів",55.34,80,0,{"$f":"G444*I444","v":0}]
[null,1111134706,"PR740830","Шар для гризунів d19 см","Більше 10","Обладнання для кліток",120.88,162.43,0,{"$f":"G445*I445","v":0}]
[null,1111140262,"PR240278","Шар-міні для гризунів d13 см","Більше 10","Обладнання для кліток",149.6,202.29,0,{"$f":"G446*I446","v":0}]

{"sheet":"Профілайн","index":74,"n_rows":20,"n_cols":10,"rows_kept":20,"cut":false,"hidden":false,"merged":[]}
[]
[null,null,null,null,null,null,"suziria.ua"]
[null,null,null,null,null,null,"0 800 21 82 99"]
[null,null,null,null,null,null,"feedback@suziria.ua"]
[]
["Зображення","Код","Артикул","Номенклатура","Наявність","Категорія","Ціна опт.","Ціна РРЦ","Замовлення, шт.","Сума, грн."]
[null,null,null,null,null,null,null,null,null,{"$f":"SUM(J8:J20)","v":0}]
[null,1111166058,"PR242207","Шампунь ProVET ПрофіЛайн антибактеріальний для котів 300 мл","Більше 10","Косметика, засоби догляду для грумінгу",96.97,140,0,{"$f":"G8*I8","v":0}]
[null,1111166057,"PR242208","Шампунь ProVET ПрофіЛайн антибактеріальний для собак 300 мл","Більше 10","Косметика, засоби догляду для грумінгу",96.97,140,0,{"$f":"G9*I9","v":0}]
[null,1111172225,"PR242890","Шампунь ProVET ПрофіЛайн гіпоалергенний для собак 3 л","Менше 10","Косметика, засоби догляду для грумінгу",590,855,0,{"$f":"G10*I10","v":0}]
[null,1111166059,"PR242206","Шампунь ProVET ПрофіЛайн гіпоалергенний для собак 300 мл","Більше 100","Косметика, засоби догляду для грумінгу",96.97,140,0,{"$f":"G11*I11","v":0}]
[null,1111172226,"PR242889","Шампунь ProVET ПрофіЛайн глибоке очищ. з алое для котів та собак 3 л","Менше 10","Косметика, засоби догляду для грумінгу",590,855,0,{"$f":"G12*I12","v":0}]
[null,1111166060,"PR242205","Шампунь ProVET ПрофіЛайн глибоке очищення з алое для котів 300 мл","Більше 10","Косметика, засоби догляду для грумінгу",96.97,140,0,{"$f":"G13*I13","v":0}]
[null,1111166061,"PR242204","Шампунь ProVET ПрофіЛайн для собак з білою та світлою шерстю 300 мл","Більше 100","Косметика, засоби догляду для грумінгу",96.97,140,0,{"$f":"G14*I14","v":0}]
[null,1111166064,"PR242201","Шампунь ProVET ПрофіЛайн для тхорів та гризунів 300 мл","Більше 10","Косметика, засоби догляду для грумінгу",111.01,161,0,{"$f":"G15*I15","v":0}]
[null,1111166062,"PR242203","Шампунь ProVET ПрофіЛайн з кератином для довгошерстих котів 300 мл","Більше 10","Косметика, засоби догляду для грумінгу",96.97,140,0,{"$f":"G16*I16","v":0}]
[null,1111172227,"PR242888","Шампунь ProVET ПрофіЛайн з кератином для довгошерстих собак 3 л","Менше 10","Косметика, засоби догляду для грумінгу",590,855,0,{"$f":"G17*I17","v":0}]
[null,1111166063,"PR242202","Шампунь ProVET ПрофіЛайн з кератином для довгошерстих собак 300 мл","Більше 10","Косметика, засоби догляду для грумінгу",96.97,140,0,{"$f":"G18*I18","v":0}]
[null,1111166066,"PR242199","Шампунь ProVET Профілайн з ромашкою для кошенят 300 мл","Більше 10","Косметика, засоби догляду для грумінгу",110.42,160,0,{"$f":"G19*I19","v":0}]
[null,1111166065,"PR242200","Шампунь ProVET ПрофіЛайн з ромашкою для цуценят 300 мл","Більше 100","Косметика, засоби догляду для грумінгу",110.42,160,0,{"$f":"G20*I20","v":0}]

{"sheet":"Стоп","index":75,"n_rows":48,"n_cols":10,"rows_kept":48,"cut":false,"hidden":false,"merged":[]}
[]
[null,null,null,null,null,null,"suziria.ua"]
[null,null,null,null,null,null,"0 800 21 82 99"]
[null,null,null,null,null,null,"feedback@suziria.ua"]
[]
["Зображення","Код","Артикул","Номенклатура","Наявність","Категорія","Ціна опт.","Ціна РРЦ","Замовлення, шт.","Сума, грн."]
[null,null,null,null,null,null,null,null,null,{"$f":"SUM(J8:J48)","v":0}]
[null,1111141380,"PR020069","Краплі ProVET АКАРОСТОП для собак та котів 10 мл","Більше 100","Лікувальні препарати та засоби (соматичні препарати)",33,48,0,{"$f":"G8*I8","v":0}]
[null,1111151581,"PR020026 _1уп.(6пип.)","Краплі ProVET ІНСЕКТОСТОП для котів та собак, 6 піпеток по 0,8 мл","Більше 100","Протипаразитні препарати: антигельмінтні, інсектицидні, інсектоакарицидні, репелентні",60,87,0,{"$f":"G9*I9","v":0}]
[null,1111151582,"PR020027 _1 уп.(6пип.)","Краплі ProVET ІНСЕКТОСТОП для кошенят та цуценят, 6 піпеток по 0,5 мл","Більше 100","Протипаразитні препарати: антигельмінтні, інсектицидні, інсектоакарицидні, репелентні",56,82,0,{"$f":"G10*I10","v":0}]
[null,1111162044,"PR241746","Краплі ProVET МЕГАСТОП для котів 4-8 кг, 1п.х1,0 мл","Більше 100","Протипаразитні препарати: антигельмінтні, інсектицидні, інсектоакарицидні, репелентні",38,56,0,{"$f":"G11*I11","v":0}]
[null,1111151583,"PR020074_1уп.(4пип)","Краплі ProVET МЕГАСТОП для котів 4-8 кг, 4п.х1,0 мл","Більше 100","Протипаразитні препарати: антигельмінтні, інсектицидні, інсектоакарицидні, репелентні",131,190,0,{"$f":"G12*I12","v":0}]
[null,1111162043,"PR241747","Краплі ProVET МЕГАСТОП для котів до 4 кг, 1п.х0,5 мл","Більше 100","Протипаразитні препарати: антигельмінтні, інсектицидні, інсектоакарицидні, репелентні",35,51,0,{"$f":"G13*I13","v":0}]
[null,1111151584,"PR020073_1уп.(4пип)","Краплі ProVET МЕГАСТОП для котів до 4 кг, 4п.х0,5 мл","Більше 100","Протипаразитні препарати: антигельмінтні, інсектицидні, інсектоакарицидні, репелентні",120,175,0,{"$f":"G14*I14","v":0}]
[null,1111162047,"PR241743","Краплі ProVET МЕГАСТОП для собак 10-20 кг, 1п.х2,0 мл","Більше 100","Протипаразитні препарати: антигельмінтні, інсектицидні, інсектоакарицидні, репелентні",51,74,0,{"$f":"G15*I15","v":0}]
[null,1111151585,"PR020077_1уп.(4пип)","Краплі ProVET МЕГАСТОП для собак 10-20 кг, 4п.х2,0 мл","Більше 100","Протипаразитні препарати: антигельмінтні, інсектицидні, інсектоакарицидні, репелентні",174,253,0,{"$f":"G16*I16","v":0}]
[null,1111162048,"PR241742","Краплі ProVET МЕГАСТОП для собак 20-30 кг, 1п.х3,0 мл","Більше 100","Протипаразитні препарати: антигельмінтні, інсектицидні, інсектоакарицидні, репелентні",57,83,0,{"$f":"G17*I17","v":0}]
[null,1111151586,"PR020078_1уп.(4пип)","Краплі ProVET МЕГАСТОП для собак 20-30 кг, 4п.х3,0 мл","Більше 100","Протипаразитні препарати: антигельмінтні, інсектицидні, інсектоакарицидні, репелентні",198,286,0,{"$f":"G18*I18","v":0}]
[null,1111162046,"PR241744","Краплі ProVET МЕГАСТОП для собак 4-10 кг, 1п.х1,0 мл","Більше 10","Протипаразитні препарати: антигельмінтні, інсектицидні, інсектоакарицидні, репелентні",45,65,0,{"$f":"G19*I19","v":0}]
[null,1111151587,"PR020076_1уп(4пип)","Краплі ProVET МЕГАСТОП для собак 4-10 кг, 4п.х1,0 мл","Більше 100","Протипаразитні препарати: антигельмінтні, інсектицидні, інсектоакарицидні, репелентні",150,217,0,{"$f":"G20*I20","v":0}]
[null,1111162045,"PR241745","Краплі ProVET МЕГАСТОП для собак до 4 кг, 1п.х0,5 мл","Більше 100","Протипаразитні препарати: антигельмінтні, інсектицидні, інсектоакарицидні, репелентні",39,57,0,{"$f":"G21*I21","v":0}]
[null,1111151588,"PR020075_1уп (4пип)","Краплі ProVET МЕГАСТОП для собак до 4 кг, 4п.х0,5 мл","Більше 100","Протипаразитні препарати: антигельмінтні, інсектицидні, інсектоакарицидні, репелентні",128,185,0,{"$f":"G22*I22","v":0}]
[null,1111180396,"PR242512","Краплі PROVET МЕГАСТОП УЛЬТРА для котів 4-8 кг 4 п.х 0,8 мл","Більше 100","Протипаразитні препарати: антигельмінтні, інсектицидні, інсектоакарицидні, репелентні",191.98,278.39999999999998,0,{"$f":"G23*I23","v":0}]
[null,1111180399,"PR242505","Краплі PROVET МЕГАСТОП УЛЬТРА для собак 10-25 кг 4 п.х 2,5 мл","Більше 10","Протипаразитні препарати: антигельмінтні, інсектицидні, інсектоакарицидні, репелентні",273.7,396.9,0,{"$f":"G24*I24","v":0}]
[null,1111180400,"PR242504","Краплі PROVET МЕГАСТОП УЛЬТРА для собак 25-40 кг 4 п.х 4,0 мл","Більше 100","Протипаразитні препарати: антигельмінтні, інсектицидні, інсектоакарицидні, репелентні",421.26,610.79999999999995,0,{"$f":"G25*I25","v":0}]
[null,1111180398,"PR242506","Краплі PROVET МЕГАСТОП УЛЬТРА для собак 4-10 кг 4 п.х 1,0 мл","Більше 100","Протипаразитні препарати: антигельмінтні, інсектицидні, інсектоакарицидні, репелентні",210.96,305.89999999999998,0,{"$f":"G26*I26","v":0}]
[null,1111180397,"PR242507","Краплі PROVET МЕГАСТОП УЛЬТРА для собак до 4 кг 4 п.х 0,4 мл","Більше 10","Протипаразитні препарати: антигельмінтні, інсектицидні, інсектоакарицидні, репелентні",171.23,248.3,0,{"$f":"G27*I27","v":0}]
[null,1111138350,"PR020030","Краплі ProVET МІКОСТОП для котів та собак 10 мл","Більше 10","Лікувальні препарати та засоби (соматичні препарати)",32,46,0,{"$f":"G28*I28","v":0}]
[null,1111164730,"PR241915_1уп.(1пип)","Краплі ProVET МОКСІСТОП для котів 4-10 кг, 1 піпетка 1,0 мл","Більше 100","Протипаразитні препарати: антигельмінтні, інсектицидні, інсектоакарицидні, репелентні",82,119,0,{"$f":"G29*I29","v":0}]
[null,1111164729,"PR241916_1уп.(1пип)","Краплі ProVET МОКСІСТОП для котів до 4 кг, 1 піпетка 0,4 мл","Більше 10","Протипаразитні препарати: антигельмінтні, інсектицидні, інсектоакарицидні, репелентні",60,88,0,{"$f":"G30*I30","v":0}]
[null,1111164733,"PR241917_1уп.(1пип)*****","Краплі ProVET МОКСІСТОП для собак 10-25 кг, 1 піпетка 2,5 мл","Більше 10","Протипаразитні препарати: антигельмінтні, інсектицидні, інсектоакарицидні, репелентні",148,215,0,{"$f":"G31*I31","v":0}]
[null,1111164732,"PR241918_1уп.(1пип)","Краплі ProVET МОКСІСТОП для собак 4-10 кг, 1 піпетка 1,0 мл","Більше 10","Протипаразитні препарати: антигельмінтні, інсектицидні, інсектоакарицидні, репелентні",101,147,0,{"$f":"G32*I32","v":0}]
[null,1111164731,"PR241919_1уп.(1пип)","Краплі ProVET МОКСІСТОП для собак до 4 кг, 1 піпетка 0,4 мл","Більше 10","Протипаразитні препарати: антигельмінтні, інсектицидні, інсектоакарицидні, репелентні",83,120,0,{"$f":"G33*I33","v":0}]
[null,1111143954,"PR020120","Найшийник ProVET ІНСЕКТОСТОП для собак 70 см","Більше 100","Протипаразитні препарати: антигельмінтні, інсектицидні, інсектоакарицидні, репелентні",37,54,0,{"$f":"G34*I34","v":0}]
[null,1111143953,"PR020119","Нашийник ProVET ІНСЕКТОСТОП для котів та дрібних порід собак 35 см","Більше 100","Протипаразитні препарати: антигельмінтні, інсектицидні, інсектоакарицидні, репелентні",31,45,0,{"$f":"G35*I35","v":0}]
[null,1111143956,"PR020118","Нашийник ProVET СТОПБІО для котів та дрібних порід собак 35 см","Більше 100","Протипаразитні препарати: антигельмінтні, інсектицидні, інсектоакарицидні, репелентні",31,44,0,{"$f":"G36*I36","v":0}]
[null,1111143955,"PR020117","Нашийник ProVET СТОПБІО для собак 70 см","Більше 100","Протипаразитні препарати: антигельмінтні, інсектицидні, інсектоакарицидні, репелентні",38,55,0,{"$f":"G37*I37","v":0}]
[null,1111140834,"PR240978","Спрей ProVET ІНСЕКТОСТОП для котів та собак 100 мл","Більше 100","Протипаразитні препарати: антигельмінтні, інсектицидні, інсектоакарицидні, репелентні",101,146,0,{"$f":"G38*I38","v":0}]
[null,1111140835,"PR240979","Спрей ProVET ІНСЕКТОСТОП для котів та собак 250 мл","Більше 10","Протипаразитні препарати: антигельмінтні, інсектицидні, інсектоакарицидні, репелентні",176,256,0,{"$f":"G39*I39","v":0}]
[null,1111138351,"PR020031","Спрей ProVET МІКОСТОП для котів та собак 30 мл","Більше 10","Лікувальні препарати та засоби (соматичні препарати)",61,88,0,{"$f":"G40*I40","v":0}]
[null,1111138259,"PR020028","Суспензія ProVET ПРАЗІСТОП для котів та собак, 5 мл","Більше 100","Протипаразитні препарати: антигельмінтні, інсектицидні, інсектоакарицидні, репелентні",37,54,0,{"$f":"G41*I41","v":0}]
[null,1111138260,"PR020029","Суспензія ProVET СЕКССТОП для котів і собак 2.0 мл","Більше 100","Засоби для корекції поведінки",31,45,0,{"$f":"G42*I42","v":0}]
[null,1111164728,"PR241913_1уп.(2табл.)","Таблетки ProVET МОКСІСТОП макси для собак 10-20 кг, 2 шт по 500 мг","Більше 100","Протипаразитні препарати: антигельмінтні, інсектицидні, інсектоакарицидні, репелентні",135,196,0,{"$f":"G43*I43","v":0}]
[null,1111164727,"PR241914_1уп.(2табл.)","Таблетки ProVET МОКСІСТОП міді для собак 4-10 кг, 2 шт. по 120 мг","Більше 100","Протипаразитні препарати: антигельмінтні, інсектицидні, інсектоакарицидні, репелентні",107,156,0,{"$f":"G44*I44","v":0}]
[null,1111164726,"PR241920_1уп.(2табл.)","Таблетки ProVET МОКСІСТОП міні для котів та собак до 4 кг, 2х120","Більше 100","Протипаразитні препарати: антигельмінтні, інсектицидні, інсектоакарицидні, репелентні",82,118,0,{"$f":"G45*I45","v":0}]
[null,1111163329,"PR241756_1уп.(10таб)","Таблетки ProVET ПРАЗІСТОП для котів та собак 10 таб.","Більше 100","Протипаразитні препарати: антигельмінтні, інсектицидні, інсектоакарицидні, репелентні",68,99,0,{"$f":"G46*I46","v":0}]
[null,1111180402,"PR242503","Таблетки PROVET ПРАЗІСТОП УЛЬТРА для собак 2 табл","Більше 100","Протипаразитні препарати: антигельмінтні, інсектицидні, інсектоакарицидні, репелентні",56.96,82.6,0,{"$f":"G47*I47","v":0}]
[null,1111180403,"PR242959_1блист.(10таб)","Таблетки PROVET СЕКССТОП для котів та собак 10 табл","Більше 100","Засоби для корекції поведінки",27,39.1,0,{"$f":"G48*I48","v":0}]

{"sheet":"Загальне замовлення","index":76,"n_rows":4413,"n_cols":10,"rows_kept":4413,"cut":false,"hidden":false,"merged":[]}
[]
[null,null,null,null,null,null,"suziria.ua"]
[null,null,null,null,null,null,"0 800 21 82 99"]
[null,null,null,null,null,null,"feedback@suziria.ua"]
[]
["Зображення","Код","Артикул","Номенклатура","Наявність","Категорія","Ціна опт.","Ціна РРЦ","Замовлення, шт.","Сума, грн."]
[null,null,null,null,null,null,null,null,null,{"$f":"SUM(J8:J4413)","v":0}]
[null,1111131631,"660470 /109525","8in1 Excel Brewers Yeast вітам. пивні дріжджі з часн. д/вел.соб 80 таб","Більше 100","Вітаміни та мінерали",302.05,408,{"$f":"'8in1'!I$8","v":0},{"$f":"'8in1'!J$8","v":0}]
[null,1111131781,"660432 /108603","8in1 Excel Brewers Yeast вітам. пивні дріжджі з часник д/собак 260табл","Менше 10","Вітаміни та мінерали",291.29000000000002,394,{"$f":"'8in1'!I$9","v":0},{"$f":"'8in1'!J$9","v":0}]
[null,1111136895,"660895 /115731","8in1 Excel Brewers Yeast для собак і котів, 1430 табл.","Більше 10","Вітаміни та мінерали",1256.6099999999999,1696,{"$f":"'8in1'!I$10","v":0},{"$f":"'8in1'!J$10","v":0}]
[null,1111136894,"660894 /115717","8in1 Excel Brewers Yeast для собак і котів, 780 табл.","Менше 10","Вітаміни та мінерали",753.79,1018,{"$f":"'8in1'!I$11","v":0},{"$f":"'8in1'!J$11","v":0}]
[null,1111131633,"660474 /109433","8in1 Excel Calcium добавка з кальцієм для собак, 470табл./300мл","Більше 10","Вітаміни та мінерали",674.01,910,{"$f":"'8in1'!I$12","v":0},{"$f":"'8in1'!J$12","v":0}]
[null,1111135196,"660891 /115540","8in1 Excel Calcium добавка з кальцієм для собак, 880 табл, 400 г","Більше 10","Вітаміни та мінерали",1130.23,1526,{"$f":"'8in1'!I$13","v":0},{"$f":"'8in1'!J$13","v":0}]
[null,1111145091,"661022 /124245","8in1 Excel Deter Coprophagia харчова добавка для собак, 100 табл, 60 г","Більше 100","Вітаміни та мінерали",188.23,254,{"$f":"'8in1'!I$14","v":0},{"$f":"'8in1'!J$14","v":0}]
[null,1111133176,"660433 /108634","8in1 Excel Excel Multi Vit-Puppy мультивіт добавка д/цуценят, 100табл.","Більше 100","Вітаміни та мінерали",298.47000000000003,403,{"$f":"'8in1'!I$15","v":0},{"$f":"'8in1'!J$15","v":0}]
[null,1111145209,"661024 /124290  MSM","8in1 Excel Glucosamine + MSM вітаміни для собак, 55 табл, 210 г","Більше 10","Вітаміни та мінерали",585.28,790,{"$f":"'8in1'!I$16","v":0},{"$f":"'8in1'!J$16","v":0}]
[null,1111138166,"660890 /121596","8in1 Excel Glucosamine добавка з глюкозаміном для собак, 110 табл.","Більше 10","Вітаміни та мінерали",878.37,1186,{"$f":"'8in1'!I$17","v":0},{"$f":"'8in1'!J$17","v":0}]
[null,1111138165,"660889 /121565","8in1 Excel Glucosamine добавка з глюкозаміном для собак, 55 табл.","Більше 10","Вітаміни та мінерали",523.44000000000005,706,{"$f":"'8in1'!I$18","v":0},{"$f":"'8in1'!J$18","v":0}]
[null,5024,"660435 /108665","8in1 Excel Multi Vit-Adult мультивітамінна добавка д/собак, 70 табл.","Немає в наявності","Вітаміни та мінерали",339.69,459,{"$f":"'8in1'!I$19","v":0},{"$f":"'8in1'!J$19","v":0}]
[null,1111131632,"660471 /109372","8in1 Excel Multi Vitamin мультивіт. добавка для дрібних собак 70 табл.","Більше 100","Вітаміни та мінерали",339.69,459,{"$f":"'8in1'!I$20","v":0},{"$f":"'8in1'!J$20","v":0}]
[null,1111135180,"660436 /108696","8in1 Excel Multi Vit-Senior добавка для старіючих собак 70табл, 190 г","Більше 100","Вітаміни та мінерали",338.8,458,{"$f":"'8in1'!I$21","v":0},{"$f":"'8in1'!J$21","v":0}]
[null,1111180894,680519,"Дезодоручий спрей Nature_s miracle Aloe Rain 709 мл","Більше 10","Засоби для знищення плям і запахів",360.68,530,{"$f":"'8in1'!I$22","v":0},{"$f":"'8in1'!J$22","v":0}]
[null,1111180893,680518,"Дезодоручий спрей Nature_s miracle Lavender 709 мл","Більше 10","Засоби для знищення плям і запахів",360.68,530,{"$f":"'8in1'!I$23","v":0},{"$f":"'8in1'!J$23","v":0}]
[null,1111161389,"661618/151869/661510СПЕЦ","Дешеддер для вичісування котів, 4.5 см, 8in1","Більше 10","Аксесуари для грумінгу",452,701,{"$f":"'8in1'!I$24","v":0},{"$f":"'8in1'!J$24","v":0}]
[null,1111161388,"661617/151821/661509СПЕЦ","Дешеддер для вичісування собак, L, 10 см, 8in1","Менше 10","Аксесуари для грумінгу",537.87,834,{"$f":"'8in1'!I$25","v":0},{"$f":"'8in1'!J$25","v":0}]
[null,1111161387,"661616/151791/661508СПЕЦ","Дешеддер для вичісування собак, M, 6.5 см, 8in1","Менше 10","Аксесуари для грумінгу",483.22,749,{"$f":"'8in1'!I$26","v":0},{"$f":"'8in1'!J$26","v":0}]
[null,1111161386,"661615/151753/661507СПЕЦ","Дешеддер для вичісування собак, S, 4.5 см, 8in1","Менше 10","Аксесуари для грумінгу",452,701,{"$f":"'8in1'!I$27","v":0},{"$f":"'8in1'!J$27","v":0}]
[null,1111137653,"680508/680219 /5558  USA","Засіб д/знищ. плям і запахів, проти повторних міток, спрей 8in1","Більше 10","Засоби для знищення плям і запахів",562.51,810,{"$f":"'8in1'!I$28","v":0},{"$f":"'8in1'!J$28","v":0}]
[null,1111156829,"680402 USA","Засіб д/знищен. плям/запах. д/пілоги 8in1, 709мл","Більше 10","Засоби для знищення плям і запахів",492.7,721,{"$f":"'8in1'!I$29","v":0},{"$f":"'8in1'!J$29","v":0}]
[null,1111156831,"680399 USA СПЕЦЦЕНА","Засіб д/знищен. плям/запах. котів ORANGE OXY 8in1 3,7 л","Більше 10","Засоби для знищення плям і запахів",1386.79,2496,{"$f":"'8in1'!I$30","v":0},{"$f":"'8in1'!J$30","v":0}]
[null,1111156830,"680398/1707 USA","Засіб д/знищен. плям/запах. котів ORANGE OXY 8in1 709мл","Більше 10","Засоби для знищення плям і запахів",472.43,701,{"$f":"'8in1'!I$31","v":0},{"$f":"'8in1'!J$31","v":0}]
[null,1111157473,"680396/8172 USA","Засіб д/знищен. плям/запах. собак ORANGE OXY 8in1 709мл","Менше 10","Засоби для знищення плям і запахів",472.43,701,{"$f":"'8in1'!I$32","v":0},{"$f":"'8in1'!J$32","v":0}]
[null,1111158238,"680397 USA","Засіб д/знищен. плям/запах. собак спрей 8in1, 946мл","Більше 10","Засоби для знищення плям і запахів",539.58000000000004,805,{"$f":"'8in1'!I$33","v":0},{"$f":"'8in1'!J$33","v":0}]
[null,1111136417,"680284 /5778  USA","Засіб для запобігання дряпанню котів  8 in 1  236 мл","Більше 10","Засоби для заборони",349,504,{"$f":"'8in1'!I$34","v":0},{"$f":"'8in1'!J$34","v":0}]
[null,1111136392,"680205 /5552  USA","Засіб для знищення запаху котячих туалетів, спрей  8 in 1  709 мл","Більше 10","Засоби для знищення плям і запахів",399.09,560,{"$f":"'8in1'!I$35","v":0},{"$f":"'8in1'!J$35","v":0}]
[null,1111136564,"680413/680423/680400 USA*","Засіб для знищення плям і запахів Laundry Boost  8 in 1  946 мл","Більше 10","Засоби для знищення плям і запахів",490.03,759,{"$f":"'8in1'!I$36","v":0},{"$f":"'8in1'!J$36","v":0}]
[null,1111149419,"680476/680418/680067 USA","Засіб для усунення запахів мочі ,для котів,946мл","Більше 10","Засоби для знищення плям і запахів",562.75,737,{"$f":"'8in1'!I$37","v":0},{"$f":"'8in1'!J$37","v":0}]
[null,1111149424,"680442/680135/6946 USA","Засіб для усунення плям та запахів з посиленою формулою,518 мл,для соб","Більше 10","Засоби для знищення плям і запахів",441.63,652,{"$f":"'8in1'!I$38","v":0},{"$f":"'8in1'!J$38","v":0}]
[null,1111149418,"680111/6974 USA","Засіб для усунення плям та запахів, універсальний,946мл","Більше 10","Засоби для знищення плям і запахів",503.43,745,{"$f":"'8in1'!I$39","v":0},{"$f":"'8in1'!J$39","v":0}]
[null,1111149416,"680417/680043/6973 USA***","Засіб для усунення плям та запахів,473мл,для котів","Більше 10","Засоби для знищення плям і запахів",291.61,417,{"$f":"'8in1'!I$40","v":0},{"$f":"'8in1'!J$40","v":0}]
[null,1111150461,"680321/7006 USA","Лосьйон гігієніч. Про-Сенс д/вух собак та котів,118 ml","Більше 10","Засоби для догляду за очима та вухами",345.04,491,{"$f":"'8in1'!I$41","v":0},{"$f":"'8in1'!J$41","v":0}]
[null,1111123510,"660293 /102250","Пелюшки 8in1 Training Pads для собак 56*56см 14шт арт.660293/102250","Більше 100","Пелюшки для собак",332.75,466,{"$f":"'8in1'!I$42","v":0},{"$f":"'8in1'!J$42","v":0}]
[null,1111123511,"660296 /102281","Пелюшки 8in1 Training Pads для собак 56*56см 30шт арт.660296/102281","Більше 100","Пелюшки для собак",621.41999999999996,870,{"$f":"'8in1'!I$43","v":0},{"$f":"'8in1'!J$43","v":0}]
[null,1111166848,"680480 USA","Спрей 8in1 для усунення запахів сечі собак 946мл арт.680480","Менше 10","Засоби для знищення плям і запахів",569.20000000000005,781,{"$f":"'8in1'!I$44","v":0},{"$f":"'8in1'!J$44","v":0}]
[null,1111161986,"680432/ 983121 USA*****","Спрей Nature s Miracle 8in1 освіжаючий для собак, 236 мл","Більше 10","Косметика, засоби догляду для грумінгу",295.25,430,{"$f":"'8in1'!I$45","v":0},{"$f":"'8in1'!J$45","v":0}]
[null,1111114528,"680514/680309","Спрей Nature_s Miracle для привчання цуценя до туалету 236 мл","Немає в наявності","Засоби для привчання",277.92,406,{"$f":"'8in1'!I$46","v":0},{"$f":"'8in1'!J$46","v":0}]
[null,1111149411,"680005/6962 USA","Спрей для усунення плям та запахів 3в1 ,для собак,709мл","Більше 10","Засоби для знищення плям і запахів",454.56,652,{"$f":"'8in1'!I$47","v":0},{"$f":"'8in1'!J$47","v":0}]
[null,1111149426,"680234/6993 USA","Спрей для усунення плям та запахів 3в1 з посилен формулою,лимон,д/кот,","Більше 10","Засоби для знищення плям і запахів",616.09,899,{"$f":"'8in1'!I$48","v":0},{"$f":"'8in1'!J$48","v":0}]
[null,1111149414,"680104/7016 USA","Спрей для усунення плям та запахів 3в1 з посиленою формулою,д/соб,946м","Більше 10","Засоби для знищення плям і запахів",616.09,890,{"$f":"'8in1'!I$49","v":0},{"$f":"'8in1'!J$49","v":0}]
[null,1111149421,"680197/6966 USA","Спрей для усунення плям та запахів, диня ,946мл, для собак","Більше 10","Засоби для знищення плям і запахів",503.43,745,{"$f":"'8in1'!I$50","v":0},{"$f":"'8in1'!J$50","v":0}]
[null,1111149425,"680210/6976 USA","Спрей для усунення плям та запахів, диня ,946мл,для котів","Більше 10","Засоби для знищення плям і запахів",503.43,745,{"$f":"'8in1'!I$51","v":0},{"$f":"'8in1'!J$51","v":0}]
[null,1111140527,"680286 /5780 USA","Спрей заспокійливий для котів Антистрес  8 in 1  236 мл","Більше 10","Засоби для корекції поведінки",362.43,527,{"$f":"'8in1'!I$52","v":0},{"$f":"'8in1'!J$52","v":0}]
[null,1111161985,"680488/680431/ 983305","Шампунь 8in1 д/соб для білої та світлої шерсті 473мл арт.680488/680431","Більше 10","Косметика, засоби догляду для грумінгу",409.49,604,{"$f":"'8in1'!I$53","v":0},{"$f":"'8in1'!J$53","v":0}]
[null,1111161983,"680487/680429/ 983275","Шампунь 8in1 для собак гіпоалергенний 473мл арт.680487/680429/ 983275","Більше 100","Косметика, засоби догляду для грумінгу",409.49,604,{"$f":"'8in1'!I$54","v":0},{"$f":"'8in1'!J$54","v":0}]
[null,1111161981,"680485/680427/983282","Шампунь 8in1 для собак з вівсяним молочком 473мл арт.680485/680427","Більше 10","Косметика, засоби догляду для грумінгу",409.49,604,{"$f":"'8in1'!I$55","v":0},{"$f":"'8in1'!J$55","v":0}]
[null,1111161982,"680486/680428/ 983299","Шампунь 8in1 для цуценят Nature s Miracle 473мл арт.680486/680428","Більше 10","Косметика, засоби догляду для грумінгу",409.49,604,{"$f":"'8in1'!I$56","v":0},{"$f":"'8in1'!J$56","v":0}]
[null,1111161979,"680482/680424 USA","Шампунь Nature s Miracle з лавандою для собак, 473 мл, 8in1","Більше 10","Косметика, засоби догляду для грумінгу",409.49,604,{"$f":"'8in1'!I$57","v":0},{"$f":"'8in1'!J$57","v":0}]
[null,1111183468,"83039UT/83012","Animonda Vom Feinsten Adt beef in milk sauce д/кот ял/мол соус 100г","Більше 100","Корм вологий для котів",38.9,54,{"$f":"Animonda!I$8","v":0},{"$f":"Animonda!J$8","v":0}]
[null,1111183461,"82300UT/82330","Animonda Vom Feinsten Adt gourme Chicken + liver д/соб кур/лів 150г","Більше 100","Корм вологий для собак",50.65,71,{"$f":"Animonda!I$9","v":0},{"$f":"Animonda!J$9","v":0}]
[null,1111183470,"83045UT/83014","Animonda Vom Feinsten Adt Lamb in herb sauce д/кот янг/соус 100 г","Більше 100","Корм вологий для котів",38.9,54,{"$f":"Animonda!I$10","v":0},{"$f":"Animonda!J$10","v":0}]
[null,1111183469,"83040UT/83013","Animonda Vom Feinsten Adt turkey yogurt sauce д/кот інд/соус йог 100г","Більше 100","Корм вологий для котів",38.9,54,{"$f":"Animonda!I$11","v":0},{"$f":"Animonda!J$11","v":0}]
[null,1111183462,"82301UT/82331","Animonda Vom Feinsten gourme Adt beef+chicken file д/соб з ял/кур 150г","Більше 100","Корм вологий для собак",50.65,71,{"$f":"Animonda!I$12","v":0},{"$f":"Animonda!J$12","v":0}]
[null,1111184308,"82333UT/82303","Animonda Vom Feinsten gourme Adt Deer + yogurt д/соб з ол/йог 150г","Більше 10","Корм вологий для собак",50.65,71,{"$f":"Animonda!I$13","v":0},{"$f":"Animonda!J$13","v":0}]
[null,1111183463,"82302UT/82332","Animonda Vom Feinsten gourme Adt Turkey+Ham д/соб інд/шин 150г","Більше 100","Корм вологий для собак",50.65,71,{"$f":"Animonda!I$14","v":0},{"$f":"Animonda!J$14","v":0}]
[null,1111183467,"82311UT/82337","Animonda Vom Feinsten sauce Adt Beef + lamb д/соб ял/ягн 150г","Більше 100","Корм вологий для собак",50.65,71,{"$f":"Animonda!I$15","v":0},{"$f":"Animonda!J$15","v":0}]
[null,1111183465,"82309UT/82335","Animonda Vom Feinsten sauce Adt Chicken + rabbit д/соб кур/крол 150г","Більше 100","Корм вологий для собак",50.65,71,{"$f":"Animonda!I$16","v":0},{"$f":"Animonda!J$16","v":0}]
[null,1111183464,"82308UT/82334","Animonda Vom Feinsten sauce Adt Chicken + salmon д/соб кур/лос 150г","Більше 100","Корм вологий для собак",50.65,71,{"$f":"Animonda!I$17","v":0},{"$f":"Animonda!J$17","v":0}]
[null,1111183466,"82310UT/82336","Animonda Vom Feinsten sauce Adt Turkey + duck д/соб інд/кач 150г","Більше 100","Корм вологий для собак",50.65,71,{"$f":"Animonda!I$18","v":0},{"$f":"Animonda!J$18","v":0}]
[null,1111171485,"AM-83708","Корм Carny д/кот з ялович, індичкою і креветками 200 г арт.AM-83708","Більше 10","Корм вологий для котів",69.319999999999993,97,{"$f":"Animonda!I$19","v":0},{"$f":"Animonda!J$19","v":0}]
[null,1111171492,"AM-83722","Корм Carny д/кот з ялович, курк і качин серцями 400 г арт.AM-83722","Більше 100","Корм вологий для котів",101.5,142.1,{"$f":"Animonda!I$20","v":0},{"$f":"Animonda!J$20","v":0}]
[null,1111171484,"AM-83706","Корм Carny д/кот з ялович, куркою і качин серцями 200г арт.AM-83706","Більше 10","Корм вологий для котів",69.319999999999993,97,{"$f":"Animonda!I$21","v":0},{"$f":"Animonda!J$21","v":0}]
[null,1111171489,"AM-83701","Корм Carny д/кот з ялович, тріскою і корнем петрушки 200г арт.AM-83701","Більше 10","Корм вологий для котів",69.319999999999993,97,{"$f":"Animonda!I$22","v":0},{"$f":"Animonda!J$22","v":0}]
[null,1111171497,"AM-83717","Корм Carny д/кот з ялович, тріскою і корнем петрушки 400г арт.AM-83717","Немає в наявності","Корм вологий для котів",101.5,142.1,{"$f":"Animonda!I$23","v":0},{"$f":"Animonda!J$23","v":0}]
[null,1111171490,"AM-83707","Корм Carny д/кот з яловичиною 200 г арт.AM-83707","Більше 10","Корм вологий для котів",69.319999999999993,97,{"$f":"Animonda!I$24","v":0},{"$f":"Animonda!J$24","v":0}]
[null,1111171487,"AM-83703","Корм Carny д/кот з яловичиною і куркою 200 г арт.AM-83703","Більше 10","Корм вологий для котів",69.319999999999993,97,{"$f":"Animonda!I$25","v":0},{"$f":"Animonda!J$25","v":0}]
[null,1111171495,"AM-83719","Корм Carny д/кот з яловичиною і куркою 400 г арт.AM-83719","Більше 10","Корм вологий для котів",101.5,142.1,{"$f":"Animonda!I$26","v":0},{"$f":"Animonda!J$26","v":0}]
[null,1111171486,"AM-83705","Корм Carny д/кот з яловичиною і ягнятиною 200 г арт.AM-83705","Більше 10","Корм вологий для котів",69.319999999999993,97,{"$f":"Animonda!I$27","v":0},{"$f":"Animonda!J$27","v":0}]
[null,1111171488,"AM-83700","Корм Carny д/кот з яловичиною, олениною і брусницею 200 г арт.AM-83700","Більше 10","Корм вологий для котів",69.319999999999993,97,{"$f":"Animonda!I$28","v":0},{"$f":"Animonda!J$28","v":0}]
[null,1111171483,"AM-83702","Корм Carny д/кот мультим ясний коктейль 200 г арт.AM-83702","Більше 10","Корм вологий для котів",69.319999999999993,97,{"$f":"Animonda!I$29","v":0},{"$f":"Animonda!J$29","v":0}]
[null,1111171531,"AM-82804","Корм GranCarno д/соб з качкою 800 г арт.AM-82804","Більше 10","Корм вологий для собак",175.14,245,{"$f":"Animonda!I$30","v":0},{"$f":"Animonda!J$30","v":0}]
[null,1111171521,"AM-82753","Корм GranCarno д/соб з ялович, олениною і яблуком 400 г арт.AM-82753","Більше 10","Корм вологий для собак",96.08,135,{"$f":"Animonda!I$31","v":0},{"$f":"Animonda!J$31","v":0}]
[null,1111171529,"AM-82764","Корм GranCarno д/соб з ялович, олениною і яблуком 800 г арт.AM-82764","Менше 10","Корм вологий для собак",175.14,245,{"$f":"Animonda!I$32","v":0},{"$f":"Animonda!J$32","v":0}]
[null,1111171532,"AM-82745","Корм GranCarno д/соб з яловичиною і дичиною 800 г арт.AM-82745","Більше 10","Корм вологий для собак",175.14,245,{"$f":"Animonda!I$33","v":0},{"$f":"Animonda!J$33","v":0}]
[null,1111171522,"AM-82732","Корм GranCarno д/соб з яловичиною і куркою 400 г арт.AM-82732","Більше 10","Корм вологий для собак",96.08,135,{"$f":"Animonda!I$34","v":0},{"$f":"Animonda!J$34","v":0}]
[null,1111171530,"AM-82741","Корм GranCarno д/соб з яловичиною і куркою 800 г арт.AM-82741","Більше 10","Корм вологий для собак",175.14,245,{"$f":"Animonda!I$35","v":0},{"$f":"Animonda!J$35","v":0}]
[null,1111171520,"AM-82733","Корм GranCarno д/соб з яловичиною і ягнятиною 400 г арт.AM-82733","Більше 10","Корм вологий для собак",96.08,135,{"$f":"Animonda!I$36","v":0},{"$f":"Animonda!J$36","v":0}]
[null,1111171527,"AM-82742","Корм GranCarno д/соб з яловичиною і ягнятиною 800 г арт.AM-82742","Більше 10","Корм вологий для собак",175.14,245,{"$f":"Animonda!I$37","v":0},{"$f":"Animonda!J$37","v":0}]
[null,1111171526,"AM-82739","Корм GranCarno д/соб мультим ясний коктейль 800 г арт.AM-82739","Більше 10","Корм вологий для собак",175.14,245,{"$f":"Animonda!I$38","v":0},{"$f":"Animonda!J$38","v":0}]
[null,1111171518,"AM-82728","Корм GranCarno д/цуценят з яловичиною і індичкою 400 г арт.AM-82728","Більше 100","Корм вологий для собак",96.08,135,{"$f":"Animonda!I$39","v":0},{"$f":"Animonda!J$39","v":0}]
[null,1111171473,"AM-83203","Корм Vom Feinsten д/кот з індичими серцями 100 г арт.AM-83203","Більше 100","Корм вологий для котів",38.9,54.46,{"$f":"Animonda!I$40","v":0},{"$f":"Animonda!J$40","v":0}]
[null,1111171479,"AM-83360","Корм Vom Feinsten д/кот з індичкою в томат соусі 100 г арт.AM-83360","Менше 10","Корм вологий для котів",38.9,54.46,{"$f":"Animonda!I$41","v":0},{"$f":"Animonda!J$41","v":0}]
[null,1111171467,"AM-83205","Корм Vom Feinsten д/кот з індичкою і кроликом  100 г арт.AM-83205","Більше 100","Корм вологий для котів",38.9,54.46,{"$f":"Animonda!I$42","v":0},{"$f":"Animonda!J$42","v":0}]
[null,1111171478,"AM-83037","Корм Vom Feinsten д/кот з кроликом в вершк соусі  100г арт.AM-83037","Більше 100","Корм вологий для котів",40.72,56.95,{"$f":"Animonda!I$43","v":0},{"$f":"Animonda!J$43","v":0}]
[null,1111171470,"AM-83261","Корм Vom Feinsten д/кот з курк, лосос і шпинатом 100 г арт.AM-83261","Менше 10","Корм вологий для котів",38.9,54.46,{"$f":"Animonda!I$44","v":0},{"$f":"Animonda!J$44","v":0}]
[null,1111171475,"AM-83262","Корм Vom Feinsten д/кот з куркою, ялович та морквою 100 г арт.AM-83262","Більше 10","Корм вологий для котів",38.9,54.46,{"$f":"Animonda!I$45","v":0},{"$f":"Animonda!J$45","v":0}]
[null,1111171468,"AM-83304","Корм Vom Feinsten д/кот з курячою печінкою  100 г арт.AM-83304","Більше 10","Корм вологий для котів",38.9,54.46,{"$f":"Animonda!I$46","v":0},{"$f":"Animonda!J$46","v":0}]
[null,1111171465,"AM-83202","Корм Vom Feinsten д/кот з лососем і креветками 100 г арт.AM-83202","Більше 10","Корм вологий для котів",38.9,54.46,{"$f":"Animonda!I$47","v":0},{"$f":"Animonda!J$47","v":0}]
[null,1111171464,"AM-83200","Корм Vom Feinsten д/кот з птицею і телятиною 100 г арт.AM-83200","Більше 10","Корм вологий для котів",38.9,54.46,{"$f":"Animonda!I$48","v":0},{"$f":"Animonda!J$48","v":0}]
[null,1111171474,"AM-83208","Корм Vom Feinsten д/кот з яловичиною і куркою 100 г арт.AM-83208","Немає в наявності","Корм вологий для котів",38.9,54.46,{"$f":"Animonda!I$49","v":0},{"$f":"Animonda!J$49","v":0}]
[null,1111171462,"AM-83207","Корм Vom Feinsten д/кошенят Бебі-пате 100 г арт.AM-83207","Більше 100","Корм вологий для котів",38.9,54.46,{"$f":"Animonda!I$50","v":0},{"$f":"Animonda!J$50","v":0}]
[null,1111171472,"AM-83221","Корм Vom Feinsten д/кошенят з птицею 100 г арт.AM-83221","Більше 100","Корм вологий для котів",38.9,54.46,{"$f":"Animonda!I$51","v":0},{"$f":"Animonda!J$51","v":0}]
[null,1111171463,"AM-83236","Корм Vom Feinsten д/кошенят з ягнятиною 100 г арт.AM-83236","Більше 10","Корм вологий для котів",38.9,54.46,{"$f":"Animonda!I$52","v":0},{"$f":"Animonda!J$52","v":0}]
[null,1111171471,"AM-83220","Корм Vom Feinsten д/кошенят з яловичиною 100 г арт.AM-83220","Більше 10","Корм вологий для котів",38.9,54.46,{"$f":"Animonda!I$53","v":0},{"$f":"Animonda!J$53","v":0}]
[null,1111171517,"AM-82623","Корм Vom Feinsten д/літніх соб з птицею і ягнятиною 150 г арт.AM-82623","Більше 100","Корм вологий для собак",50.65,70.900000000000006,{"$f":"Animonda!I$54","v":0},{"$f":"Animonda!J$54","v":0}]
[null,1111171506,"AM-82318","Корм Vom Feinsten д/соб з індичкою і сиром 150 г арт.AM-82318","Більше 100","Корм вологий для собак",50.65,70.900000000000006,{"$f":"Animonda!I$55","v":0},{"$f":"Animonda!J$55","v":0}]
[null,1111171504,"AM-82661","Корм Vom Feinsten д/соб з кроликом 150 г арт.AM-82661","Більше 100","Корм вологий для собак",50.65,70.900000000000006,{"$f":"Animonda!I$56","v":0},{"$f":"Animonda!J$56","v":0}]
[null,1111171512,"AM-82300","Корм Vom Feinsten д/соб з куркою і печінкою 150 г арт.AM-82300","Більше 100","Корм вологий для собак",50.65,70.900000000000006,{"$f":"Animonda!I$57","v":0},{"$f":"Animonda!J$57","v":0}]
[null,1111171508,"AM-82610","Корм Vom Feinsten д/соб з птицею 150 г арт.AM-82610","Більше 100","Корм вологий для собак",50.65,70.900000000000006,{"$f":"Animonda!I$58","v":0},{"$f":"Animonda!J$58","v":0}]
[null,1111171515,"AM-82612","Корм Vom Feinsten д/соб з яловичиною і індич серцями 150г арт.AM-82612","Більше 100","Корм вологий для собак",50.65,70.900000000000006,{"$f":"Animonda!I$59","v":0},{"$f":"Animonda!J$59","v":0}]
[null,1111171507,"AM-82657","Корм Vom Feinsten д/цуценят з птичою печінкою 150 г арт.AM-82657","Більше 100","Корм вологий для собак",50.65,70.900000000000006,{"$f":"Animonda!I$60","v":0},{"$f":"Animonda!J$60","v":0}]
[null,1111112730,"12516*****","Carbolit 62,5л / 25кг * 4mm pellets гранул. актив. вугілля","Менше 10","Обладнання для акваріума, комплектуючі",3100,4340,{"$f":"'Aqua Medic'!I$8","v":0},{"$f":"'Aqua Medic'!J$8","v":0}]
[null,1111165574,"234/418956_1шт*****","Декор «Медуза» розмір S, 6 x 6 x 18 см, в асортименті","Менше 10","Декорації для акваріуму",200.71,404,{"$f":"AquaDella!I$8","v":0},{"$f":"AquaDella!J$8","v":0}]
[null,1111166108,"234/448694*****","Декорація AquaDella Антична колона 15.8*5.5*14.1см","Менше 10","Декорації для акваріуму",253.84,501,{"$f":"AquaDella!I$9","v":0},{"$f":"AquaDella!J$9","v":0}]
[null,1111166107,"234/429624*****","Декорація AquaDella Балійский лев 7.7*5.5*12см","Менше 10","Декорації для акваріуму",194.07,381,{"$f":"AquaDella!I$10","v":0},{"$f":"AquaDella!J$10","v":0}]
[null,1111166106,"234/429617*****","Декорація AquaDella Будда Байон пузатий M 9.5*9.5*12.5см","Менше 10","Декорації для акваріуму",225.8,434,{"$f":"AquaDella!I$11","v":0},{"$f":"AquaDella!J$11","v":0}]
[null,1111166111,"251/110041*****","Декорація AquaDella натуральна корч мангове дерево 600-800мм","Менше 10","Декорації для акваріуму",1337.8,2554,{"$f":"AquaDella!I$12","v":0},{"$f":"AquaDella!J$12","v":0}]
[null,1111165579,"234/446218*****","Корал-гілка 19 x 6 x 21 см, плоский","Менше 10","Декорації для акваріуму",445.7,884,{"$f":"AquaDella!I$13","v":0},{"$f":"AquaDella!J$13","v":0}]
[null,1111165587,"251/110034*****","Корч 300-500 мм, натуральний, манго","Менше 10","Декорації для акваріуму",1027.03,2303,{"$f":"AquaDella!I$14","v":0},{"$f":"AquaDella!J$14","v":0}]
[null,1111165581,"234/449233*****","Щогла корабля 16 x 7,7 x 14,5 см","Менше 10","Декорації для акваріуму",343.87,674,{"$f":"AquaDella!I$15","v":0},{"$f":"AquaDella!J$15","v":0}]
[null,1111131254,109183,"CIRCULATOR 1500 л турбінна помпа","Менше 10","Обладнання для акваріума, комплектуючі",1475.71,2066,{"$f":"Aquael!I$8","v":0},{"$f":"Aquael!J$8","v":0}]
[null,1111131255,109184,"CIRCULATOR 2000 л турбінна помпа","Менше 10","Обладнання для акваріума, комплектуючі",1791.49,2508,{"$f":"Aquael!I$9","v":0},{"$f":"Aquael!J$9","v":0}]
[null,1111131252,109181,"CIRCULATOR 500 л турбінна помпа","Більше 10","Обладнання для акваріума, комплектуючі",534.63,1011,{"$f":"Aquael!I$10","v":0},{"$f":"Aquael!J$10","v":0}]
[null,1111161652,"124533 /122730","Акваріум Leddy з балкою Day  and  Night 60, 54 л, білий","Менше 10","Акваріуми, акваріумні набори, комплектуючі",4052.64,5674,{"$f":"Aquael!I$11","v":0},{"$f":"Aquael!J$11","v":0}]
[null,1111161651,"124532 /122743","Акваріум Leddy з балкою Day  and  Night 60, 54 л, чорний","Менше 10","Акваріуми, акваріумні набори, комплектуючі",3899.25,5459,{"$f":"Aquael!I$12","v":0},{"$f":"Aquael!J$12","v":0}]
[null,1111139146,"122979 / 114958 /113229","Акваріум для креветки SMART 20 л білий","Менше 10","Акваріуми, акваріумні набори, комплектуючі",3266.73,4573,{"$f":"Aquael!I$13","v":0},{"$f":"Aquael!J$13","v":0}]
[null,1111123670,"303091 /2369","Акваріум круглий d23 5,5 л","Менше 10","Акваріуми, акваріумні набори, комплектуючі",592.75,830,{"$f":"Aquael!I$14","v":0},{"$f":"Aquael!J$14","v":0}]
[null,1111123671,"300456 /2746","Акваріум круглий d25 8,5 л","Менше 10","Акваріуми, акваріумні набори, комплектуючі",745.19,1043,{"$f":"Aquael!I$15","v":0},{"$f":"Aquael!J$15","v":0}]
[null,1111117768,"101076 /2528_ord","Біоконтейнер до UNIFILTER 750/1000","Менше 10","Запчастини для акваріумного обладнання",180.38,253,{"$f":"Aquael!I$16","v":0},{"$f":"Aquael!J$16","v":0}]
[null,1111171626,122663,"ВісьКерам.д/ротораЗовн.фільтрULTRAMAX/ULTRA/UNIPUMP1000/1500арт.122663","Менше 10","Запчастини для акваріумного обладнання",164.76,231,{"$f":"Aquael!I$17","v":0},{"$f":"Aquael!J$17","v":0}]
[null,1111123698,"106611 /53952","Вкладиш для фільтра BioCera MAX Pro 600 1 л","Менше 10","Обладнання для акваріума, комплектуючі",274.12,384,{"$f":"Aquael!I$18","v":0},{"$f":"Aquael!J$18","v":0}]
[null,1111123699,"106612 /53969","Вкладиш для фільтра BioCera MAX UltraPro 1200 1 л","Менше 10","Обладнання для акваріума, комплектуючі",377.8,529,{"$f":"Aquael!I$19","v":0},{"$f":"Aquael!J$19","v":0}]
[null,1111142190,"113904 /198233 Standart","Вкладиш для фільтра FAN mini Plus (2 шт.)","Менше 10","Обладнання для акваріума, комплектуючі",113.63,159,{"$f":"Aquael!I$20","v":0},{"$f":"Aquael!J$20","v":0}]
[null,1111142189,"113905 /198240","Вкладиш для фільтра FAN-1 Plus (2 шт.)","Менше 10","Обладнання для акваріума, комплектуючі",144.4,202,{"$f":"Aquael!I$21","v":0},{"$f":"Aquael!J$21","v":0}]
[null,1111142249,"113907 /198264","Вкладиш для фільтра FAN-3 Plus (2 шт.)","Менше 10","Обладнання для акваріума, комплектуючі",237.67,333,{"$f":"Aquael!I$22","v":0},{"$f":"Aquael!J$22","v":0}]
[null,1111147581,"131305/246271","Гравій Aquael базальтовий чорний 2-4мм 10кг","Менше 10","Ґрунти, субстрати для акваріуму",368.67,516,{"$f":"Aquael!I$23","v":0},{"$f":"Aquael!J$23","v":0}]
[null,1111147585,"131304/246274","Гравій Aquael доломіт білий 2-4мм 10кг","Більше 10","Ґрунти, субстрати для акваріуму",368.81,516,{"$f":"Aquael!I$24","v":0},{"$f":"Aquael!J$24","v":0}]
[null,1111147576,114040,"Грунт базальт 2-4 мм (2 кг) чорний","Більше 10","Ґрунти, субстрати для акваріуму",73.38,103,{"$f":"Aquael!I$25","v":0},{"$f":"Aquael!J$25","v":0}]
[null,1111147577,114042,"Грунт доломіт 2-4 мм (2 кг) білий","Більше 10","Ґрунти, субстрати для акваріуму",73.38,103,{"$f":"Aquael!I$26","v":0},{"$f":"Aquael!J$26","v":0}]
[null,1111147582,"115468 /246276","Грунт натуральний 3-5 мм (10 кг)","Менше 10","Ґрунти, субстрати для акваріуму",368.81,516,{"$f":"Aquael!I$27","v":0},{"$f":"Aquael!J$27","v":0}]
[null,1111147579,114044,"Грунт натуральний 3-5 мм (2 кг)","Більше 100","Ґрунти, субстрати для акваріуму",73.38,103,{"$f":"Aquael!I$28","v":0},{"$f":"Aquael!J$28","v":0}]
[null,1111147580,114045,"Грунт натуральний 5-10 мм (2 кг)","Більше 10","Ґрунти, субстрати для акваріуму",73.38,103,{"$f":"Aquael!I$29","v":0},{"$f":"Aquael!J$29","v":0}]
[null,1111147583,115112,"Грунт пісок кварц 0,4-1,2 мм (2 кг)","Більше 10","Ґрунти, субстрати для акваріуму",73.38,103,{"$f":"Aquael!I$30","v":0},{"$f":"Aquael!J$30","v":0}]
[null,1111148077,"249250 /246309_ord","Камінь Dinosaur bone (уп., 20 кг)","Менше 10","Декорації для акваріуму",3254.42,4556,{"$f":"Aquael!I$31","v":0},{"$f":"Aquael!J$31","v":0}]
[null,1111148078,"249285 /246310","Камінь кварц (уп., 20 кг)","Менше 10","Декорації для акваріуму",2269.1999999999998,3177,{"$f":"Aquael!I$32","v":0},{"$f":"Aquael!J$32","v":0}]
[null,1111145250,"101236 /3239_ord","Ковпачок FAN-mini/FAN-micro Plus","Менше 10","Запчастини для акваріумного обладнання",48.29,68,{"$f":"Aquael!I$33","v":0},{"$f":"Aquael!J$33","v":0}]
[null,1111148435,115316,"Компресор MiniBoost 100 NEW","Менше 10","Обладнання для акваріума, комплектуючі",378.75,530,{"$f":"Aquael!I$34","v":0},{"$f":"Aquael!J$34","v":0}]
[null,323,109735,"Контейнер для TURBO FILTER 1000/1500/2000","Менше 10","Запчастини для акваріумного обладнання",494.74,693,{"$f":"Aquael!I$35","v":0},{"$f":"Aquael!J$35","v":0}]
[null,22488,109733,"Контейнер для TURBO FILTER 500","Менше 10","Запчастини для акваріумного обладнання",390.11,546,{"$f":"Aquael!I$36","v":0},{"$f":"Aquael!J$36","v":0}]
[null,1111145933,"253065/246311","Корінь Driftwood MIX 8-10 кг (уп.)","Менше 10","Декорації для акваріуму",9529.86,13342,{"$f":"Aquael!I$37","v":0},{"$f":"Aquael!J$37","v":0}]
[null,13347,"100891 /0288","Корпус Aquael для внутрішнього фільтра FAN-1","Менше 10","Запчастини для акваріумного обладнання",187.01,262,{"$f":"Aquael!I$38","v":0},{"$f":"Aquael!J$38","v":0}]
[null,11037,"101026 /0289","Корпус для FAN-2","Менше 10","Запчастини для акваріумного обладнання",218.73,306,{"$f":"Aquael!I$39","v":0},{"$f":"Aquael!J$39","v":0}]
[null,11040,"101174 /0290","Корпус для FAN-3","Менше 10","Запчастини для акваріумного обладнання",293.06,410,{"$f":"Aquael!I$40","v":0},{"$f":"Aquael!J$40","v":0}]
[null,6642,100413,"Корпус для FAN-mini Plus","Менше 10","Запчастини для акваріумного обладнання",151.03,211,{"$f":"Aquael!I$41","v":0},{"$f":"Aquael!J$41","v":0}]
[null,1111116409,"100698 /0132_ord","Корпус для UNIFILTER 750/1000","Менше 10","Запчастини для акваріумного обладнання",393.43,551,{"$f":"Aquael!I$42","v":0},{"$f":"Aquael!J$42","v":0}]
[null,1111125926,"101647_ord","Корпус кварцевий для лампи 11 Вт","Менше 10","Запчастини для акваріумного обладнання",609.79,854,{"$f":"Aquael!I$43","v":0},{"$f":"Aquael!J$43","v":0}]
[null,6114,"103027 /101228_ord","Набір насадок KR-3","Менше 10","Устаткування для ставка, комплектуючі",421.36,590,{"$f":"Aquael!I$44","v":0},{"$f":"Aquael!J$44","v":0}]
[null,1111182894,"131455_ord","Наповнювач для фільтра Aquael Magic Balls 1л","Менше 10","Обладнання для акваріума, комплектуючі",243.88,341,{"$f":"Aquael!I$45","v":0},{"$f":"Aquael!J$45","v":0}]
[null,1111182891,"131452_ord","Наповнювач для фільтра Aquael NanoMax Bio 1л","Менше 10","Обладнання для акваріума, комплектуючі",683.24,957,{"$f":"Aquael!I$46","v":0},{"$f":"Aquael!J$46","v":0}]
[null,1111182892,"131453_ord","Наповнювач для фільтра Aquael NatureMax Bio 1л","Менше 10","Обладнання для акваріума, комплектуючі",390.49,547,{"$f":"Aquael!I$47","v":0},{"$f":"Aquael!J$47","v":0}]
[null,1111182893,"131454_ord","Наповнювач для фільтра Aquael PearlMax Bio 1л","Менше 10","Обладнання для акваріума, комплектуючі",488.23,684,{"$f":"Aquael!I$48","v":0},{"$f":"Aquael!J$48","v":0}]
[null,13239,"101232_ord","Насадка KR MAX","Менше 10","Запчастини для акваріумного обладнання",315.77999999999997,442,{"$f":"Aquael!I$49","v":0},{"$f":"Aquael!J$49","v":0}]
[null,1111162574,"130412_ord","Обігрівач Flow Heater 2.0 з системою регулювання One Touch, 500Вт, про","Менше 10","Обладнання для акваріума, комплектуючі",2761.57,3866,{"$f":"Aquael!I$50","v":0},{"$f":"Aquael!J$50","v":0}]
[null,1111153509,121217,"Обігрівач PLATINUM 100Вт з електрон. термостат. 24,5см","Менше 10","Обладнання для акваріума, комплектуючі",521.32000000000005,986,{"$f":"Aquael!I$51","v":0},{"$f":"Aquael!J$51","v":0}]
[null,1111153502,121218,"Обігрівач PLATINUM 150Вт з електрон. термостат. 28,5см","Менше 10","Обладнання для акваріума, комплектуючі",748.51,1048,{"$f":"Aquael!I$52","v":0},{"$f":"Aquael!J$52","v":0}]
[null,1111153866,"121219_ord","Обігрівач PLATINUM 200Вт з електрон. термостатом 28,5см","Менше 10","Обладнання для акваріума, комплектуючі",766.5,1073,{"$f":"Aquael!I$53","v":0},{"$f":"Aquael!J$53","v":0}]
[null,1111153508,121214,"Обігрівач PLATINUM 25Вт з електрон. термостатом, 20,5см","Більше 10","Обладнання для акваріума, комплектуючі",656.19,919,{"$f":"Aquael!I$54","v":0},{"$f":"Aquael!J$54","v":0}]
[null,1111153808,121215,"Обігрівач PLATINUM 50Вт з електрон. термостатом, 22,5см","Менше 10","Обладнання для акваріума, комплектуючі",490.49,928,{"$f":"Aquael!I$55","v":0},{"$f":"Aquael!J$55","v":0}]
[null,1111153505,121216,"Обігрівач PLATINUM 75Вт з електрон. термостатом, 22,5см","Менше 10","Обладнання для акваріума, комплектуючі",669.44,937,{"$f":"Aquael!I$56","v":0},{"$f":"Aquael!J$56","v":0}]
[null,1111153507,"129614/115512","Обігрівач ULTRA HEATER 50Вт","Більше 10","Обладнання для акваріума, комплектуючі",1065.74,1492,{"$f":"Aquael!I$57","v":0},{"$f":"Aquael!J$57","v":0}]
[null,1111131840,222876,"Очищувач грунту GV10 S 260 мм","Менше 10","Аксесуари для догляду за акваріумом",313.42,439,{"$f":"Aquael!I$58","v":0},{"$f":"Aquael!J$58","v":0}]
[null,1111131839,222874,"Очищувач грунту GV10 XL 665 мм","Менше 10","Аксесуари для догляду за акваріумом",885.81,1240,{"$f":"Aquael!I$59","v":0},{"$f":"Aquael!J$59","v":0}]
[null,1111140420,"103186_ord","Патрон-стабілізатор для UV 5/9/11 Вт","Менше 10","Запчастини для акваріумного обладнання",1766.4,2473,{"$f":"Aquael!I$60","v":0},{"$f":"Aquael!J$60","v":0}]
[null,1111164836,"115028_ord","Помпа PFN-6000 ECO NEW для фонтану, 6000 л / ч","Менше 10","Устаткування для ставка, комплектуючі",6323.73,8853,{"$f":"Aquael!I$61","v":0},{"$f":"Aquael!J$61","v":0}]
[null,1111146679,"115026_ord","Помпа для фонтана PFN- 8000 ECO NEW 7500 л / ч","Менше 10","Устаткування для ставка, комплектуючі",6639.51,9295,{"$f":"Aquael!I$62","v":0},{"$f":"Aquael!J$62","v":0}]
[null,1111146680,"115027_ord","Помпа для фонтана PFN-10000 ECO NEW 9000 л / ч","Менше 10","Устаткування для ставка, комплектуючі",7060.88,9885,{"$f":"Aquael!I$63","v":0},{"$f":"Aquael!J$63","v":0}]
[null,13100,"109436 /102809 /1100_ord","Помпа для фонтана PFN-1500","Менше 10","Устаткування для ставка, комплектуючі",2423.54,3393,{"$f":"Aquael!I$64","v":0},{"$f":"Aquael!J$64","v":0}]
[null,11033,"109844/102656 /17009_ord","Помпа для фонтана PFN-3500","Менше 10","Устаткування для ставка, комплектуючі",4215.9799999999996,5902,{"$f":"Aquael!I$65","v":0},{"$f":"Aquael!J$65","v":0}]
[null,1111131638,"109433_ord","Помпа для фонтана PFN-500","Менше 10","Устаткування для ставка, комплектуючі",896.22,1255,{"$f":"Aquael!I$66","v":0},{"$f":"Aquael!J$66","v":0}]
[null,1111117174,"100491 /1448","Присоски AqEl d=24 (4 шт.)","Більше 10","Запчастини для акваріумного обладнання",144.4,202,{"$f":"Aquael!I$67","v":0},{"$f":"Aquael!J$67","v":0}]
[null,1111117172,"100492 /1449","Присоски AqEl d=36 (4 шт.)","Більше 10","Запчастини для акваріумного обладнання",171.39,240,{"$f":"Aquael!I$68","v":0},{"$f":"Aquael!J$68","v":0}]
[null,4192,"100500 /0026","Розпилювач для AQUA","Менше 10","Аксесуари для догляду за акваріумом",231.04,323,{"$f":"Aquael!I$69","v":0},{"$f":"Aquael!J$69","v":0}]
[null,1111171624,121795,"Ротор Aquael до зовнішнього фільтру ULTRAMAX 1000/1500 арт.121795","Менше 10","Запчастини для акваріумного обладнання",421.36,590,{"$f":"Aquael!I$70","v":0},{"$f":"Aquael!J$70","v":0}]
[null,1111171625,121796,"Ротор Aquael до зовнішнього фільтру ULTRAMAX 2000 арт.121796","Менше 10","Запчастини для акваріумного обладнання",507.05,710,{"$f":"Aquael!I$71","v":0},{"$f":"Aquael!J$71","v":0}]
[null,1111135240,109727,"Ротор для CIR/TURBO/PFN-2000","Менше 10","Запчастини для акваріумного обладнання",497.11,696,{"$f":"Aquael!I$72","v":0},{"$f":"Aquael!J$72","v":0}]
[null,1111117295,"100789 /3438","Ротор для FAN-3 plus","Менше 10","Запчастини для акваріумного обладнання",132.09,185,{"$f":"Aquael!I$73","v":0},{"$f":"Aquael!J$73","v":0}]
[null,1111118016,"101241 /3244","Ротор для FAN-mini /1 Plus","Менше 10","Запчастини для акваріумного обладнання",132.09,185,{"$f":"Aquael!I$74","v":0},{"$f":"Aquael!J$74","v":0}]
[null,1111134727,"108562*_ord","Ротор для PFN-15000/20000/25000 PLUS","Менше 10","Запчастини для акваріумного обладнання",3954.17,5536,{"$f":"Aquael!I$75","v":0},{"$f":"Aquael!J$75","v":0}]
[null,11889,"101259 /1337_ord","Ротор для PFN-7500-10000","Менше 10","Запчастини для акваріумного обладнання",1675.03,2345,{"$f":"Aquael!I$76","v":0},{"$f":"Aquael!J$76","v":0}]
[null,1111182162,"124227_ord","Світильник для акваріума LEDDY TUBE MINI 3 W","Менше 10","Обладнання для акваріума, комплектуючі",522.53,732,{"$f":"Aquael!I$77","v":0},{"$f":"Aquael!J$77","v":0}]
[null,1111145596,245268,"Термометр скляний з присоскою 6 см","Більше 10","Аксесуари для догляду за акваріумом",92.32,129,{"$f":"Aquael!I$78","v":0},{"$f":"Aquael!J$78","v":0}]
[null,1111127169,"100571/4260_ord","Фиксатор колпачка к фил. FAN micro/mini/1","Менше 10","Запчастини для акваріумного обладнання",37.4,52,{"$f":"Aquael!I$79","v":0},{"$f":"Aquael!J$79","v":0}]
[null,1111114158,"102368 /3069","Фільтр AQUA EL FAN 1 Plus","Більше 10","Обладнання для акваріума, комплектуючі",691.22,968,{"$f":"Aquael!I$80","v":0},{"$f":"Aquael!J$80","v":0}]
[null,1111115429,"102369 /3070","Фільтр AQUA EL FAN 2 Plus","Більше 10","Обладнання для акваріума, комплектуючі",931.26,1304,{"$f":"Aquael!I$81","v":0},{"$f":"Aquael!J$81","v":0}]
[null,6870,"102370 /3071","Фільтр AQUA EL FAN 3 plus","Більше 10","Обладнання для акваріума, комплектуючі",1122.52,1572,{"$f":"Aquael!I$82","v":0},{"$f":"Aquael!J$82","v":0}]
[null,1111114823,"107621 /3067","Фільтр AQUA EL FAN MIKRO Plus","Менше 10","Обладнання для акваріума, комплектуючі",571.44000000000005,800,{"$f":"Aquael!I$83","v":0},{"$f":"Aquael!J$83","v":0}]
[null,1111114157,"101786 /3068","Фільтр AQUA EL FAN MINI Plus","Більше 10","Обладнання для акваріума, комплектуючі",596.53,835,{"$f":"Aquael!I$84","v":0},{"$f":"Aquael!J$84","v":0}]
[null,1111182889,"132053_ord","Фільтр Aquael для акваріума FZN PRO 1000","Менше 10","Обладнання для акваріума, комплектуючі",2247.54,3147,{"$f":"Aquael!I$85","v":0},{"$f":"Aquael!J$85","v":0}]
[null,1111182887,"132051_ord","Фільтр Aquael для акваріума FZN PRO 400","Менше 10","Обладнання для акваріума, комплектуючі",1021.57,1430,{"$f":"Aquael!I$86","v":0},{"$f":"Aquael!J$86","v":0}]
[null,1111182888,"132052_ord","Фільтр Aquael для акваріума FZN PRO 700","Менше 10","Обладнання для акваріума, комплектуючі",1941.19,2718,{"$f":"Aquael!I$87","v":0},{"$f":"Aquael!J$87","v":0}]
[null,1111182890,"130574_ord","Фільтр Aquael для акваріума TURBO-MINI","Менше 10","Обладнання для акваріума, комплектуючі",540.39,757,{"$f":"Aquael!I$88","v":0},{"$f":"Aquael!J$88","v":0}]
[null,1111130156,"107715 /111121","Фільтр PAT-mini","Менше 10","Обладнання для акваріума, комплектуючі",544.46,762,{"$f":"Aquael!I$89","v":0},{"$f":"Aquael!J$89","v":0}]
[null,1111131636,109403,"Фільтр TURBO FILTER 1000 л/г","Більше 10","Обладнання для акваріума, комплектуючі",1379.6,1931,{"$f":"Aquael!I$90","v":0},{"$f":"Aquael!J$90","v":0}]
[null,1111131637,109404,"Фільтр TURBO FILTER 1500 л/г","Менше 10","Обладнання для акваріума, комплектуючі",1767.35,2474,{"$f":"Aquael!I$91","v":0},{"$f":"Aquael!J$91","v":0}]
[null,1111132013,109405,"Фільтр TURBO FILTER 2000 л/г","Менше 10","Обладнання для акваріума, комплектуючі",2075.09,2905,{"$f":"Aquael!I$92","v":0},{"$f":"Aquael!J$92","v":0}]
[null,1111131642,109401,"Фільтр TURBO FILTER 500 л/г","Більше 10","Обладнання для акваріума, комплектуючі",961.56,1346,{"$f":"Aquael!I$93","v":0},{"$f":"Aquael!J$93","v":0}]
[null,9322,"115432/102591/2199_ord","Фільтр для ставка KlarJET 5000 filter set","Менше 10","Устаткування для ставка, комплектуючі",10539.71,14756,{"$f":"Aquael!I$94","v":0},{"$f":"Aquael!J$94","v":0}]
[null,9326,"102576 /0604_ord","Фільтр для ставка KlarJET15000 filter set","Менше 10","Устаткування для ставка, комплектуючі",17916.37,25083,{"$f":"Aquael!I$95","v":0},{"$f":"Aquael!J$95","v":0}]
[null,1111138546,113175,"Фільтр зовнішній FZN-MINI 235 л/г NEW","Менше 10","Обладнання для акваріума, комплектуючі",653.82000000000005,915,{"$f":"Aquael!I$96","v":0},{"$f":"Aquael!J$96","v":0}]
[null,1111133345,109441,"Фільтр зовнішній MULTI KANI 800 (20-320 л)","Менше 10","Обладнання для акваріума, комплектуючі",2620.96,3669,{"$f":"Aquael!I$97","v":0},{"$f":"Aquael!J$97","v":0}]
[null,1111159616,120665,"Фільтр зовнішній з префільтром ULTRAMAX 1500","Менше 10","Обладнання для акваріума, комплектуючі",8343.9,11681,{"$f":"Aquael!I$98","v":0},{"$f":"Aquael!J$98","v":0}]
[null,1111120746,"101455 /1740_ord","Штуцер для стерилізатора 5, 9, 11 Вт","Менше 10","Запчастини для акваріумного обладнання",132.09,185,{"$f":"Aquael!I$99","v":0},{"$f":"Aquael!J$99","v":0}]
[null,1111133271,"100241_ord","Штуцер для стерилізатора PS 15, 30, 55 Вт","Менше 10","Запчастини для акваріумного обладнання",215.41,302,{"$f":"Aquael!I$100","v":0},{"$f":"Aquael!J$100","v":0}]
[null,1111143797,"Х001-3/01289","Аквариум круглый  8л","Менше 10","Акваріуми, акваріумні набори, комплектуючі",761.25,1103.81,{"$f":"'Aquarium Ukr'!I$8","v":0},{"$f":"'Aquarium Ukr'!J$8","v":0}]
[null,1111163181,"Х009/14851","Акваріум 9 л круглий","Менше 10","Акваріуми, акваріумні набори, комплектуючі",752.5,1091.1300000000001,{"$f":"'Aquarium Ukr'!I$9","v":0},{"$f":"'Aquarium Ukr'!J$9","v":0}]
[null,1111143796,"Х006-3/53826","Акваріум круглий 5 л","Менше 10","Акваріуми, акваріумні набори, комплектуючі",498.75,723.19,{"$f":"'Aquarium Ukr'!I$10","v":0},{"$f":"'Aquarium Ukr'!J$10","v":0}]
[null,1111143790,"Д058-1/01210","Акваріум-бокал 5 л","Менше 10","Акваріуми, акваріумні набори, комплектуючі",735,1065.75,{"$f":"'Aquarium Ukr'!I$11","v":0},{"$f":"'Aquarium Ukr'!J$11","v":0}]
[null,1111169190,"BS5108","Наповнювач Benty Sandy для котів бентонітовий без запаху 5л арт.BS5108","Більше 10","Наповнювачі бентонітові",291.98,380,{"$f":"'Benty Sandy'!I$8","v":0},{"$f":"'Benty Sandy'!J$8","v":0}]
[null,1111138101,"G-75.64","Пісок Biokats BIANCO FRESH 10 кг","Більше 10","Наповнювачі бентонітові",660.03,858,{"$f":"Biokats!I$8","v":0},{"$f":"Biokats!J$8","v":0}]
[null,1111138102,"G-75.65","Пісок Biokats BIANCO FRESH 5 кг","Більше 10","Наповнювачі бентонітові",374.79,488,{"$f":"Biokats!I$9","v":0},{"$f":"Biokats!J$9","v":0}]
[null,1111134391,"G-613307/614458","Пісок Biokats CLASSIC  3 в 1  10 л","Менше 10","Наповнювачі бентонітові",343.72,447,{"$f":"Biokats!I$10","v":0},{"$f":"Biokats!J$10","v":0}]
[null,1111161000,"G-613789","Пісок Biokats CLASSIC (3in1) 18L","Більше 10","Наповнювачі бентонітові",643.07000000000005,836,{"$f":"Biokats!I$11","v":0},{"$f":"Biokats!J$11","v":0}]
[null,1111145220,"G-613253","Пісок Biokats DIAMOND CLASSIC 8 л","Більше 10","Наповнювачі бентонітові",598.47,778,{"$f":"Biokats!I$12","v":0},{"$f":"Biokats!J$12","v":0}]
[null,1111145221,"G-613260","Пісок Biokats DIAMOND FRESH 8 л","Менше 10","Наповнювачі бентонітові",615.80999999999995,801,{"$f":"Biokats!I$13","v":0},{"$f":"Biokats!J$13","v":0}]
[null,1111147022,"G-617220/613413","Пісок Biokats FIOR de COTTON 3in1 10 кг","Більше 10","Наповнювачі бентонітові",389.33,506,{"$f":"Biokats!I$14","v":0},{"$f":"Biokats!J$14","v":0}]
[null,1111134392,"G-613314/614212","Пісок Biokats FRESH  3 в 1  10 л","Більше 10","Наповнювачі бентонітові",389.5,506,{"$f":"Biokats!I$15","v":0},{"$f":"Biokats!J$15","v":0}]
[null,1111161001,"G-613796","Пісок Biokats FRESH (3in1) 18L","Менше 10","Наповнювачі бентонітові",758.96,987,{"$f":"Biokats!I$16","v":0},{"$f":"Biokats!J$16","v":0}]
[null,1111162365,"171299/0839","Brit Care Cat Adult Activity Support д/активн. дорослих котів, 400 г","Більше 10","Корм сухий для котів",172.97,225,{"$f":"'Brit Care'!I$8","v":0},{"$f":"'Brit Care'!J$8","v":0}]
[null,1111162364,"171298/0822","Brit Care Cat Adult Activity Support д/активних дорослих котів, 2 кг","Більше 10","Корм сухий для котів",628.29,818,{"$f":"'Brit Care'!I$9","v":0},{"$f":"'Brit Care'!J$9","v":0}]
[null,1111162363,"171297/0815","Brit Care Cat Adult Activity Support д/активних дорослих котів, 7 кг","Менше 10","Корм сухий для котів",2054.5,2672,{"$f":"'Brit Care'!I$10","v":0},{"$f":"'Brit Care'!J$10","v":0}]
[null,1111167491,171963,"Brit Care Cat GF Insect з комахами та оселедцем для котів, 2кг","Більше 10","Корм сухий для котів",632.78,824,{"$f":"'Brit Care'!I$11","v":0},{"$f":"'Brit Care'!J$11","v":0}]
[null,1111167490,171962,"Brit Care Cat GF Insect з комахами та оселедцем для котів, 400г","Більше 10","Корм сухий для котів",179.44,235,{"$f":"'Brit Care'!I$12","v":0},{"$f":"'Brit Care'!J$12","v":0}]
[null,1111175077,172541,"Brit Care Cat GF Kitten Digestion Immunity д/кошенят лосось 0,4кг","Більше 10","Корм сухий для котів",187.53,244,{"$f":"'Brit Care'!I$13","v":0},{"$f":"'Brit Care'!J$13","v":0}]
[null,1111175078,172542,"Brit Care Cat GF Kitten Digestion Immunity д/кошенят лосось 2кг","Більше 10","Корм сухий для котів",654.57000000000005,851,{"$f":"'Brit Care'!I$14","v":0},{"$f":"'Brit Care'!J$14","v":0}]
[null,1111175079,172543,"Brit Care Cat GF Kitten Digestion Immunity д/кошенят лосось 7кг","Менше 10","Корм сухий для котів",2047.26,2661,{"$f":"'Brit Care'!I$15","v":0},{"$f":"'Brit Care'!J$15","v":0}]
[null,1111175080,172544,"Brit Care Cat GF Sterilized Immunity д/стерил. котів свинина 0,4кг","Більше 10","Корм сухий для котів",187.53,244,{"$f":"'Brit Care'!I$16","v":0},{"$f":"'Brit Care'!J$16","v":0}]
[null,1111175081,172545,"Brit Care Cat GF Sterilized Immunity д/стерил. котів свинина 2кг","Більше 10","Корм сухий для котів",654.57000000000005,851,{"$f":"'Brit Care'!I$17","v":0},{"$f":"'Brit Care'!J$17","v":0}]
[null,1111175082,172546,"Brit Care Cat GF Sterilized Immunity д/стерил. котів свинина 7кг","Менше 10","Корм сухий для котів",2047.26,2661,{"$f":"'Brit Care'!I$18","v":0},{"$f":"'Brit Care'!J$18","v":0}]
[null,1111162371,"171307/0891","Brit Care Cat Haircare Healthy and Shiny Coat д/шкір. шерсті кот. 400г","Більше 100","Корм сухий для котів",172.97,225,{"$f":"'Brit Care'!I$19","v":0},{"$f":"'Brit Care'!J$19","v":0}]
[null,1111162370,"171306/0884","Brit Care Cat Haircare Healthy and Shiny Coat д/шкір. шерсті котів 2кг","Більше 10","Корм сухий для котів",628.29,818,{"$f":"'Brit Care'!I$20","v":0},{"$f":"'Brit Care'!J$20","v":0}]
[null,1111162369,"171305/0877","Brit Care Cat Haircare Healthy and Shiny Coat д/шкір. шерсті котів 7кг","Більше 10","Корм сухий для котів",2054.5,2672,{"$f":"'Brit Care'!I$21","v":0},{"$f":"'Brit Care'!J$21","v":0}]
[null,1111162368,"171303/0860","Brit Care Cat Indoor Anti-stress д/котів, які живуть у приміщенні 400г","Більше 100","Корм сухий для котів",172.97,225,{"$f":"'Brit Care'!I$22","v":0},{"$f":"'Brit Care'!J$22","v":0}]
[null,1111162367,"171302/0853","Brit Care Cat Indoor Anti-stress д/котів, які живуть у приміщенні, 2кг","Більше 10","Корм сухий для котів",628.29,818,{"$f":"'Brit Care'!I$23","v":0},{"$f":"'Brit Care'!J$23","v":0}]
[null,1111162366,"171301/0846","Brit Care Cat Indoor Anti-stress д/котів, які живуть у приміщенні, 7кг","Більше 10","Корм сухий для котів",2054.5,2672,{"$f":"'Brit Care'!I$24","v":0},{"$f":"'Brit Care'!J$24","v":0}]
[null,1111162349,"171278/0679","Brit Care Cat Kitten HGrowth and Development для кошенят, 2 кг","Більше 100","Корм сухий для котів",592.19000000000005,770,{"$f":"'Brit Care'!I$25","v":0},{"$f":"'Brit Care'!J$25","v":0}]
[null,1111162350,"171279/0686","Brit Care Cat Kitten HGrowth and Development для кошенят, 400 г","Більше 100","Корм сухий для котів",141.88,185,{"$f":"'Brit Care'!I$26","v":0},{"$f":"'Brit Care'!J$26","v":0}]
[null,1111162348,"171277/0662","Brit Care Cat Kitten HGrowth and Development для кошенят, 7 кг","Менше 10","Корм сухий для котів",1898.2,2469,{"$f":"'Brit Care'!I$27","v":0},{"$f":"'Brit Care'!J$27","v":0}]
[null,1111162664,"100531/0532","Brit Care Cat pouch з філе індички в соусі для кошенят, 85 г","Більше 100","Корм вологий для котів",37.44,49,{"$f":"'Brit Care'!I$28","v":0},{"$f":"'Brit Care'!J$28","v":0}]
[null,1111162661,"100528/0501","Brit Care Cat pouch з філе індички та лосося в соусі для котів, 85 г","Більше 10","Корм вологий для котів",37.44,49,{"$f":"'Brit Care'!I$29","v":0},{"$f":"'Brit Care'!J$29","v":0}]
[null,1111162662,"100529/0518","Brit Care Cat pouch з філе качки в соусі для котів, 85 г","Більше 100","Корм вологий для котів",37.44,49,{"$f":"'Brit Care'!I$30","v":0},{"$f":"'Brit Care'!J$30","v":0}]
[null,1111162660,"100526/0488","Brit Care Cat pouch з філе кролика в соусі д/стериліз котів, 85 г","Більше 100","Корм вологий для котів",37.44,49,{"$f":"'Brit Care'!I$31","v":0},{"$f":"'Brit Care'!J$31","v":0}]
[null,1111162663,"100530/0525","Brit Care Cat pouch з філе лосося в соусі для котів, 85 г","Більше 100","Корм вологий для котів",37.44,49,{"$f":"'Brit Care'!I$32","v":0},{"$f":"'Brit Care'!J$32","v":0}]
[null,1111163842,"100533/0556","Brit Care Cat pouch філе в желе з тунцем для котів, 85 г","Більше 100","Корм вологий для котів",37.44,49,{"$f":"'Brit Care'!I$33","v":0},{"$f":"'Brit Care'!J$33","v":0}]
[null,1111163843,"100535/0570","Brit Care Cat pouch філе в желе індичка з креветками для котів, 85 г","Більше 10","Корм вологий для котів",37.44,49,{"$f":"'Brit Care'!I$34","v":0},{"$f":"'Brit Care'!J$34","v":0}]
[null,1111163841,"100532/0549","Brit Care Cat pouch філе в желе качка, індичка д/стерил. котів 85 г","Більше 100","Корм вологий для котів",37.44,49,{"$f":"'Brit Care'!I$35","v":0},{"$f":"'Brit Care'!J$35","v":0}]
[null,1111163845,"100537/0594","Brit Care Cat pouch філе в желе лосось для кошенят, 85 г","Більше 100","Корм вологий для котів",37.44,49,{"$f":"'Brit Care'!I$36","v":0},{"$f":"'Brit Care'!J$36","v":0}]
[null,1111163844,"100536/0587","Brit Care Cat pouch філе в желе тріска і форель для котів, 85 г","Більше 100","Корм вологий для котів",37.44,49,{"$f":"'Brit Care'!I$37","v":0},{"$f":"'Brit Care'!J$37","v":0}]
[null,1111162374,"171311/0921","Brit Care Cat Power and Vitality д/котів великих порід,  400 г","Більше 10","Корм сухий для котів",172.97,225,{"$f":"'Brit Care'!I$38","v":0},{"$f":"'Brit Care'!J$38","v":0}]
[null,1111162373,"171310/0914","Brit Care Cat Power and Vitality д/котів великих порід, 2 кг","Більше 10","Корм сухий для котів",628.29,818,{"$f":"'Brit Care'!I$39","v":0},{"$f":"'Brit Care'!J$39","v":0}]
[null,1111162372,"171309/0907","Brit Care Cat Power and Vitality д/котів великих порід, 7 кг","Менше 10","Корм сухий для котів",2054.5,2672,{"$f":"'Brit Care'!I$40","v":0},{"$f":"'Brit Care'!J$40","v":0}]
[null,1111162376,"171314/0945","Brit Care Cat Senior Weight Control д/контролю ваги у стар. котів 2кг","Більше 10","Корм сухий для котів",628.29,818,{"$f":"'Brit Care'!I$41","v":0},{"$f":"'Brit Care'!J$41","v":0}]
[null,1111162377,"171315/0952","Brit Care Cat Senior Weight Control д/контролю ваги у стар. котів 400г","Більше 10","Корм сухий для котів",172.97,225,{"$f":"'Brit Care'!I$42","v":0},{"$f":"'Brit Care'!J$42","v":0}]
[null,1111162375,"171313/0938","Brit Care Cat Senior Weight Control д/контролю ваги у стар. котів 7кг","Менше 10","Корм сухий для котів",2054.5,2672,{"$f":"'Brit Care'!I$43","v":0},{"$f":"'Brit Care'!J$43","v":0}]
[null,1111162353,"171283/0716","Brit Care Cat Sensitive HDigestion Delicate для вибагливих котів 400г","Більше 10","Корм сухий для котів",185.05,241,{"$f":"'Brit Care'!I$44","v":0},{"$f":"'Brit Care'!J$44","v":0}]
[null,1111162352,"171282/0709","Brit Care Cat Sensitive HDigestion Delicate для вибагливих котів, 2кг","Більше 10","Корм сухий для котів",651.87,848,{"$f":"'Brit Care'!I$45","v":0},{"$f":"'Brit Care'!J$45","v":0}]
[null,1111162351,"171281/0693","Brit Care Cat Sensitive HDigestion Delicate для вибагливих котів, 7кг","Більше 10","Корм сухий для котів",2101.8200000000002,2733,{"$f":"'Brit Care'!I$46","v":0},{"$f":"'Brit Care'!J$46","v":0}]
[null,1111176212,111901,"Brit Care Cat Snack Calming з куркою д/котів 50г","Більше 10","Ласощі для котів",74.91,97,{"$f":"'Brit Care'!I$47","v":0},{"$f":"'Brit Care'!J$47","v":0}]
[null,1111176213,111902,"Brit Care Cat Snack Digestion з тунцем д/котів 50г","Більше 10","Ласощі для котів",74.91,97,{"$f":"'Brit Care'!I$48","v":0},{"$f":"'Brit Care'!J$48","v":0}]
[null,1111176209,111269,"Brit Care Cat Snack Superfruits Chicken д/котів курка 100г","Більше 10","Ласощі для котів",82.12,107,{"$f":"'Brit Care'!I$49","v":0},{"$f":"'Brit Care'!J$49","v":0}]
[null,1111180641,100653,"Brit Care Cat Snack Superfruits Herring д/котів оселедець 100 г","Більше 100","Ласощі для котів",91.54,119,{"$f":"'Brit Care'!I$50","v":0},{"$f":"'Brit Care'!J$50","v":0}]
[null,1111180640,100652,"Brit Care Cat Snack Superfruits Insect д/котів комахи 100 г","Більше 100","Ласощі для котів",91.54,119,{"$f":"'Brit Care'!I$51","v":0},{"$f":"'Brit Care'!J$51","v":0}]
[null,1111176208,111268,"Brit Care Cat Snack Superfruits Kitten д/кошенят 100г","Більше 10","Ласощі для котів",82.12,107,{"$f":"'Brit Care'!I$52","v":0},{"$f":"'Brit Care'!J$52","v":0}]
[null,1111176210,111270,"Brit Care Cat Snack Superfruits Salmon д/котів лосось 100г","Більше 10","Ласощі для котів",82.12,107,{"$f":"'Brit Care'!I$53","v":0},{"$f":"'Brit Care'!J$53","v":0}]
[null,1111176211,111900,"Brit Care Cat Snack Urinary з індичкою д/котів 50г","Більше 10","Ласощі для котів",74.91,97,{"$f":"'Brit Care'!I$54","v":0},{"$f":"'Brit Care'!J$54","v":0}]
[null,1111162358,"171290/0761","Brit Care Cat Sterilized Sensitive д/стериліз. котів з чутл.травл 2 кг","Більше 100","Корм сухий для котів",632.29,822,{"$f":"'Brit Care'!I$55","v":0},{"$f":"'Brit Care'!J$55","v":0}]
[null,1111162359,"171291/0778","Brit Care Cat Sterilized Sensitive д/стериліз. котів з чутл.травл 400г","Більше 10","Корм сухий для котів",180.2,236,{"$f":"'Brit Care'!I$56","v":0},{"$f":"'Brit Care'!J$56","v":0}]
[null,1111162357,"171289/0754","Brit Care Cat Sterilized Sensitive д/стериліз. котів з чутл.травл 7 кг","Більше 100","Корм сухий для котів",2101.8200000000002,2733,{"$f":"'Brit Care'!I$57","v":0},{"$f":"'Brit Care'!J$57","v":0}]
[null,1111162356,"171287/0747","Brit Care Cat Sterilized Urinary Health для стерилізованих котів 400 г","Більше 100","Корм сухий для котів",172.97,225,{"$f":"'Brit Care'!I$58","v":0},{"$f":"'Brit Care'!J$58","v":0}]
[null,1111162355,"171286/0730","Brit Care Cat Sterilized Urinary Health для стерилізованих котів, 2 кг","Більше 100","Корм сухий для котів",628.29,818,{"$f":"'Brit Care'!I$59","v":0},{"$f":"'Brit Care'!J$59","v":0}]
[null,1111162354,"171285/0723","Brit Care Cat Sterilized Urinary Health для стерилізованих котів, 7 кг","Більше 10","Корм сухий для котів",2054.5,2672,{"$f":"'Brit Care'!I$60","v":0},{"$f":"'Brit Care'!J$60","v":0}]
[null,1111162362,"171295/0808","Brit Care Cat Sterilized Weight д/контролю ваги у стерил. котів 400г","Більше 100","Корм сухий для котів",172.97,225,{"$f":"'Brit Care'!I$61","v":0},{"$f":"'Brit Care'!J$61","v":0}]
[null,1111162361,"171294/0792","Brit Care Cat Sterilized Weight д/контролю ваги у стериліз. котів 2кг","Більше 100","Корм сухий для котів",628.29,818,{"$f":"'Brit Care'!I$62","v":0},{"$f":"'Brit Care'!J$62","v":0}]
[null,1111162360,"171293/0785","Brit Care Cat Sterilized Weight д/контролю ваги у стериліз. котів 7кг","Більше 10","Корм сухий для котів",2054.5,2672,{"$f":"'Brit Care'!I$63","v":0},{"$f":"'Brit Care'!J$63","v":0}]
[null,1111170893,"XMASS_00670*****","Brit Care Cat Superfruit різдвяні ласощі лосось обліпиха д/котів 100г","Менше 10","Ласощі для котів",81.209999999999994,98,{"$f":"'Brit Care'!I$64","v":0},{"$f":"'Brit Care'!J$64","v":0}]
[null,1111176203,100624,"Brit Care Crunchy Cracker Insects Lamb д/собак комахи і ягня 200г","Більше 10","Ласощі для собак",156.86000000000001,199,{"$f":"'Brit Care'!I$65","v":0},{"$f":"'Brit Care'!J$65","v":0}]
[null,1111176202,100623,"Brit Care Crunchy Cracker Insects Rabbit д/собак комахи і кролик 200г","Більше 10","Ласощі для собак",156.86000000000001,199,{"$f":"'Brit Care'!I$66","v":0},{"$f":"'Brit Care'!J$66","v":0}]
[null,1111176205,100626,"Brit Care Crunchy Cracker Insects Salmon д/собак комахи і лосось 200г","Більше 10","Ласощі для собак",156.86000000000001,199,{"$f":"'Brit Care'!I$67","v":0},{"$f":"'Brit Care'!J$67","v":0}]
[null,1111176206,100627,"Brit Care Crunchy Cracker Insects Tuna д/собак комахи і тунець 200г","Більше 10","Ласощі для собак",156.86000000000001,199,{"$f":"'Brit Care'!I$68","v":0},{"$f":"'Brit Care'!J$68","v":0}]
[null,1111176204,100625,"Brit Care Crunchy Cracker Insects Turkey д/собак комахи і індичка 200г","Більше 10","Ласощі для собак",156.86000000000001,199,{"$f":"'Brit Care'!I$69","v":0},{"$f":"'Brit Care'!J$69","v":0}]
[null,1111176207,100628,"Brit Care Crunchy Cracker Insects Whey д/цуценят комахи сироватка 200г","Більше 10","Ласощі для собак",156.86000000000001,199,{"$f":"'Brit Care'!I$70","v":0},{"$f":"'Brit Care'!J$70","v":0}]
[null,1111158243,"111418/9949","Brit Care Dental функціональні ласощі д/соб. оленина з розмарин. 150 г","Більше 100","Ласощі для собак",146.91,191,{"$f":"'Brit Care'!I$71","v":0},{"$f":"'Brit Care'!J$71","v":0}]
[null,1111158248,"111263/1371","Brit Care Dental функціональні ласощі для котів, індичка, 50 г","Більше 100","Ласощі для котів",74.91,97,{"$f":"'Brit Care'!I$72","v":0},{"$f":"'Brit Care'!J$72","v":0}]
[null,1111176556,172649,"Brit Care Dog Hypoallergenic Adult Small Breed д/дорослих собак малих","Більше 100","Корм сухий для собак",250.36,327,{"$f":"'Brit Care'!I$73","v":0},{"$f":"'Brit Care'!J$73","v":0}]
[null,1111176557,172650,"Brit Care Dog Hypoallergenic Adult Small Breed д/дорослих собак малих","Більше 100","Корм сухий для собак",707.62,921,{"$f":"'Brit Care'!I$74","v":0},{"$f":"'Brit Care'!J$74","v":0}]
[null,1111176558,172651,"Brit Care Dog Hypoallergenic Adult Small Breed д/дорослих собак малих","Більше 100","Корм сухий для собак",1672.11,2175,{"$f":"'Brit Care'!I$75","v":0},{"$f":"'Brit Care'!J$75","v":0}]
[null,1111174833,172189,"Brit Care Dog Sustainable Sensitive д/соб з чутл шкір комахи/риба 12кг","Менше 10","Корм сухий для собак",3476.09,4519,{"$f":"'Brit Care'!I$76","v":0},{"$f":"'Brit Care'!J$76","v":0}]
[null,1111174831,172187,"Brit Care Dog Sustainable Sensitive д/соб з чутл шкір комахи/риба 1кг","Більше 10","Корм сухий для собак",371.21,484,{"$f":"'Brit Care'!I$77","v":0},{"$f":"'Brit Care'!J$77","v":0}]
[null,1111174832,172188,"Brit Care Dog Sustainable Sensitive д/соб з чутл шкір комахи/риба 3кг","Менше 10","Корм сухий для собак",967.58,1258,{"$f":"'Brit Care'!I$78","v":0},{"$f":"'Brit Care'!J$78","v":0}]
[null,1111158247,"111424/0006","Brit Care Endurance функціональні ласощі д/соб. ягня з бананом, 150 г","Більше 100","Ласощі для собак",146.91,191,{"$f":"'Brit Care'!I$79","v":0},{"$f":"'Brit Care'!J$79","v":0}]
[null,1111180649,111425,"Brit Care Functional Snack Antiparasitic ласощі д/собак лосось 150г","Більше 100","Ласощі для собак",146.91,191,{"$f":"'Brit Care'!I$80","v":0},{"$f":"'Brit Care'!J$80","v":0}]
[null,1111180647,111422,"Brit Care Functional Snack Antistress ласощі д/собак креветка 150г","Більше 10","Ласощі для собак",146.91,191,{"$f":"'Brit Care'!I$81","v":0},{"$f":"'Brit Care'!J$81","v":0}]
[null,1111180648,111423,"Brit Care Functional Snack Mineral Ham ласощі д/цуценят шинка 150г","Більше 100","Ласощі для собак",146.91,191,{"$f":"'Brit Care'!I$82","v":0},{"$f":"'Brit Care'!J$82","v":0}]
[null,1111180650,111426,"Brit Care Functional Snack Recovery ласощі д/собак оселедець 150г","Більше 100","Ласощі для собак",146.91,191,{"$f":"'Brit Care'!I$83","v":0},{"$f":"'Brit Care'!J$83","v":0}]
[null,1111148812,"170770/0107","Brit Care GF Mini Adult Lamb ягня для собак малих порід, 2 кг","Більше 100","Корм сухий для собак",617.75,805,{"$f":"'Brit Care'!I$84","v":0},{"$f":"'Brit Care'!J$84","v":0}]
[null,1111148813,"170771/0114","Brit Care GF Mini Adult Lamb ягня для собак малих порід, 400 г","Менше 10","Корм сухий для собак",168.8,220,{"$f":"'Brit Care'!I$85","v":0},{"$f":"'Brit Care'!J$85","v":0}]
[null,1111148814,"170772/0121","Brit Care GF Mini Adult Lamb ягня для собак малих порід, 7 кг","Більше 10","Корм сухий для собак",1940.9,2523,{"$f":"'Brit Care'!I$86","v":0},{"$f":"'Brit Care'!J$86","v":0}]
[null,1111148824,"170782/0220","Brit Care GF Mini Hair and Skin д/шкіри, шерсті у соб. мал. порід 2 кг","Більше 10","Корм сухий для собак",633.26,824,{"$f":"'Brit Care'!I$87","v":0},{"$f":"'Brit Care'!J$87","v":0}]
[null,1111148825,"170783/0237","Brit Care GF Mini Hair and Skin д/шкіри, шерсті у соб. мал. порід 400г","Більше 100","Корм сухий для собак",170.51,222,{"$f":"'Brit Care'!I$88","v":0},{"$f":"'Brit Care'!J$88","v":0}]
[null,1111148826,"170784/0244","Brit Care GF Mini Hair and Skin д/шкіри, шерсті у соб. мал. порід 7 кг","Менше 10","Корм сухий для собак",2056.0300000000002,2673,{"$f":"'Brit Care'!I$89","v":0},{"$f":"'Brit Care'!J$89","v":0}]
[null,1111148827,"170785/1067","Brit Care GF Mini Light and Sterilised д/контролю ваги у собак 2 кг","Більше 10","Корм сухий для собак",701.34,913,{"$f":"'Brit Care'!I$90","v":0},{"$f":"'Brit Care'!J$90","v":0}]
[null,1111148828,"170786/1074","Brit Care GF Mini Light and Sterilised д/контролю ваги у собак 400г","Більше 100","Корм сухий для собак",185.12,242,{"$f":"'Brit Care'!I$91","v":0},{"$f":"'Brit Care'!J$91","v":0}]
[null,1111148829,"170787/1081","Brit Care GF Mini Light and Sterilised д/контролю ваги у собак 7 кг","Більше 10","Корм сухий для собак",2297.52,2987,{"$f":"'Brit Care'!I$92","v":0},{"$f":"'Brit Care'!J$92","v":0}]
[null,1111148815,"170773/0138","Brit Care GF Mini Puppy Lamb ягня для цуценят малих порід, 2 кг","Більше 100","Корм сухий для собак",688.89,895,{"$f":"'Brit Care'!I$93","v":0},{"$f":"'Brit Care'!J$93","v":0}]
[null,1111148816,"170774/0145","Brit Care GF Mini Puppy Lamb ягня для цуценят малих порід, 400 г","Більше 100","Корм сухий для собак",181.33,235,{"$f":"'Brit Care'!I$94","v":0},{"$f":"'Brit Care'!J$94","v":0}]
[null,1111148817,"170775/0152","Brit Care GF Mini Puppy Lamb ягня для цуценят малих порід, 7 кг","Більше 10","Корм сухий для собак",2185.25,2841,{"$f":"'Brit Care'!I$95","v":0},{"$f":"'Brit Care'!J$95","v":0}]
[null,1111148818,"170776/0169","Brit Care GF Mini Sensitive для собак чутливим травленням, 2 кг","Більше 10","Корм сухий для собак",704.68,917,{"$f":"'Brit Care'!I$96","v":0},{"$f":"'Brit Care'!J$96","v":0}]
[null,1111148819,"170777/0176","Brit Care GF Mini Sensitive для собак чутливим травленням, 400 г","Більше 100","Корм сухий для собак",185.12,242,{"$f":"'Brit Care'!I$97","v":0},{"$f":"'Brit Care'!J$97","v":0}]
[null,1111148820,"170778/0183","Brit Care GF Mini Sensitive для собак чутливим травленням, 7 кг","Менше 10","Корм сухий для собак",2308.96,3003,{"$f":"'Brit Care'!I$98","v":0},{"$f":"'Brit Care'!J$98","v":0}]
[null,1111148821,"170779/0190","Brit Care GF Mini Yorkshire для собак малих порід, для йорків, 2 кг","Більше 10","Корм сухий для собак",617.49,805,{"$f":"'Brit Care'!I$99","v":0},{"$f":"'Brit Care'!J$99","v":0}]
[null,1111148822,"170780/0206","Brit Care GF Mini Yorkshire для собак малих порід, для йорків, 400 г","Більше 100","Корм сухий для собак",167.36,218,{"$f":"'Brit Care'!I$100","v":0},{"$f":"'Brit Care'!J$100","v":0}]
[null,1111148823,"170781/0213","Brit Care GF Mini Yorkshire для собак малих порід, для йорків, 7 кг","Немає в наявності","Корм сухий для собак",2003.92,2606,{"$f":"'Brit Care'!I$101","v":0},{"$f":"'Brit Care'!J$101","v":0}]
[null,1111158250,"111265/1395","Brit Care Hairball функціональні ласощі для котів, качка, 50 г","Більше 100","Ласощі для котів",74.91,97,{"$f":"'Brit Care'!I$102","v":0},{"$f":"'Brit Care'!J$102","v":0}]
[null,1111158246,"111421/9970","Brit Care Immunity функціональні ласощі д/соб. комахи з імбиром, 150 г","Більше 10","Ласощі для собак",146.91,191,{"$f":"'Brit Care'!I$103","v":0},{"$f":"'Brit Care'!J$103","v":0}]
[null,1111158244,"111419/9956","Brit Care Light функціональні ласощі д/соб. кролик з папаєю, 150 г","Більше 100","Ласощі для собак",146.91,191,{"$f":"'Brit Care'!I$104","v":0},{"$f":"'Brit Care'!J$104","v":0}]
[null,1111162670,"100915/100220/4456","Brit Care Mini pouch з філе дичини в соусі для собак малих порід, 85г","Більше 100","Корм вологий для собак",48.26,62,{"$f":"'Brit Care'!I$105","v":0},{"$f":"'Brit Care'!J$105","v":0}]
[null,1111162668,"100913/100218/4432","Brit Care Mini pouch з філе кролика/лосося в соусі д/соб мал порід 85г","Більше 100","Корм вологий для собак",48.26,62,{"$f":"'Brit Care'!I$106","v":0},{"$f":"'Brit Care'!J$106","v":0}]
[null,1111162667,"100912/100217/4425","Brit Care Mini pouch з філе курки і тунця в соусі д/соб мал порід 85г","Більше 100","Корм вологий для собак",48.26,62,{"$f":"'Brit Care'!I$107","v":0},{"$f":"'Brit Care'!J$107","v":0}]
[null,1111162669,"100914/100219/4449","Brit Care Mini pouch з філе лосося/оселед. в соусі д/соб мал порід 85г","Більше 100","Корм вологий для собак",48.26,62,{"$f":"'Brit Care'!I$108","v":0},{"$f":"'Brit Care'!J$108","v":0}]
[null,1111162666,"100911/100216/4418","Brit Care Mini pouch з філе ягнят в соусі для собак для цуценят, 85 г","Більше 100","Корм вологий для собак",48.26,62,{"$f":"'Brit Care'!I$109","v":0},{"$f":"'Brit Care'!J$109","v":0}]
[null,1111162665,"100910/100215/4401","Brit Care Mini pouch з філе ягнят в соусі для собак малих порід, 85 г","Більше 100","Корм вологий для собак",48.26,62,{"$f":"'Brit Care'!I$110","v":0},{"$f":"'Brit Care'!J$110","v":0}]
[null,1111158242,"111417/9932","Brit Care Mobility функціональні ласощі д/соб. кальмар з ананас. 150 г","Більше 10","Ласощі для собак",146.91,191,{"$f":"'Brit Care'!I$111","v":0},{"$f":"'Brit Care'!J$111","v":0}]
[null,1111158249,"111264/1388","Brit Care Shiny Hair функціональні ласощі для котів, лосось, 50 г","Більше 100","Ласощі для котів",74.91,97,{"$f":"'Brit Care'!I$112","v":0},{"$f":"'Brit Care'!J$112","v":0}]
[null,1111158245,"111420/9963","Brit Care Skin and Coat функціонал. ласощі д/соб. криль з кокос. 150 г","Більше 10","Ласощі для собак",146.91,191,{"$f":"'Brit Care'!I$113","v":0},{"$f":"'Brit Care'!J$113","v":0}]
[null,1111182593,101152,"Brit Care Soup Chicken д/котів суп з куркою 75 г","Більше 100","Корм вологий для котів",36.159999999999997,47,{"$f":"'Brit Care'!I$114","v":0},{"$f":"'Brit Care'!J$114","v":0}]
[null,1111182590,101056,"Brit Care Soup Duck д/котів суп качка 75 г","Більше 100","Корм вологий для котів",36.159999999999997,47,{"$f":"'Brit Care'!I$115","v":0},{"$f":"'Brit Care'!J$115","v":0}]
[null,1111182594,101153,"Brit Care Soup Salmon д/котів суп з лососем 75 г","Більше 100","Корм вологий для котів",36.159999999999997,47,{"$f":"'Brit Care'!I$116","v":0},{"$f":"'Brit Care'!J$116","v":0}]
[null,1111182592,101058,"Brit Care Soup Tuna д/котів суп з тунцем 75 г","Більше 100","Корм вологий для котів",36.159999999999997,47,{"$f":"'Brit Care'!I$117","v":0},{"$f":"'Brit Care'!J$117","v":0}]
[null,1111176198,"172661*****","Brit Care Sustainable Adult Large д/дор вел собак курка/комахи 12+2кг","Більше 10","Корм сухий для собак",2116.4,2752,{"$f":"'Brit Care'!I$118","v":0},{"$f":"'Brit Care'!J$118","v":0}]
[null,1111176197,"172660*****","Brit Care Sustainable Adult Medium д/дор сер собак курка/комахи 12+2кг","Більше 10","Корм сухий для собак",2085.1999999999998,2710,{"$f":"'Brit Care'!I$119","v":0},{"$f":"'Brit Care'!J$119","v":0}]
[null,1111176199,"172662*****","Brit Care Sustainable Sensitive д/собак з чутл шкір комахи/риба 12+2кг","Більше 10","Корм сухий для собак",3286.48,4272,{"$f":"'Brit Care'!I$120","v":0},{"$f":"'Brit Care'!J$120","v":0}]
[null,1111144270,"101115/2844","Brit Care олія лосося для собак 250 мл","Немає в наявності","Вітаміни та мінерали",589.35,767,{"$f":"'Brit Care'!I$121","v":0},{"$f":"'Brit Care'!J$121","v":0}]
[null,1111145210,"101117 /442868","Brit Care олія лосося для собак, 1 л","Менше 10","Вітаміни та мінерали",919.14,1196,{"$f":"'Brit Care'!I$122","v":0},{"$f":"'Brit Care'!J$122","v":0}]
[null,13260,"101116/2851","Brit Care олія лосося для собак, 500 мл","Більше 10","Вітаміни та мінерали",700.65,912,{"$f":"'Brit Care'!I$123","v":0},{"$f":"'Brit Care'!J$123","v":0}]
[null,1111151070,"100838/100060/9780","Brit Mono Protein Dog консерви з індичкою для собак, 400 г","Більше 100","Корм вологий для собак",113.75,150,{"$f":"'Brit Care'!I$124","v":0},{"$f":"'Brit Care'!J$124","v":0}]
[null,1111151067,"100837/100056/9759","Brit Mono Protein Dog консерви з індичкою і бататом для собак, 400 г","Більше 100","Корм вологий для собак",113.75,150,{"$f":"'Brit Care'!I$125","v":0},{"$f":"'Brit Care'!J$125","v":0}]
[null,1111151071,"100835/100061/9797","Brit Mono Protein Dog консерви з кроликом для собак, 400 г","Більше 100","Корм вологий для собак",113.75,150,{"$f":"'Brit Care'!I$126","v":0},{"$f":"'Brit Care'!J$126","v":0}]
[null,1111151066,"100836/100055/9742","Brit Mono Protein Dog консерви з тунцем і бататом для собак, 400 г","Більше 10","Корм вологий для собак",113.75,147,{"$f":"'Brit Care'!I$127","v":0},{"$f":"'Brit Care'!J$127","v":0}]
[null,1111151069,"100834/100058/9773","Brit Mono Protein Dog консерви з ягням для собак, 400 г","Більше 100","Корм вологий для собак",113.75,150,{"$f":"'Brit Care'!I$128","v":0},{"$f":"'Brit Care'!J$128","v":0}]
[null,1111151064,"100833/100053/9728","Brit Mono Protein Dog консерви з ягням і темним рисом для собак, 400 г","Більше 100","Корм вологий для собак",113.75,150,{"$f":"'Brit Care'!I$129","v":0},{"$f":"'Brit Care'!J$129","v":0}]
[null,1111151068,"100831/100057/9766","Brit Mono Protein Dog консерви з яловичиною для собак, 400 г","Більше 100","Корм вологий для собак",113.75,150,{"$f":"'Brit Care'!I$130","v":0},{"$f":"'Brit Care'!J$130","v":0}]
[null,1111151065,"100832/100054/9735","Brit Mono Protein Dog консерви з яловичиною і темним рисом д/соб, 400г","Більше 100","Корм вологий для собак",113.75,150,{"$f":"'Brit Care'!I$131","v":0},{"$f":"'Brit Care'!J$131","v":0}]
[null,1111151337,"100865/100074/0298","Brit Pate and Meat Dog консерви з індичкою для собак, 400 г","Більше 100","Корм вологий для собак",102.66,134,{"$f":"'Brit Care'!I$132","v":0},{"$f":"'Brit Care'!J$132","v":0}]
[null,1111151338,"100860/100075/0304","Brit Pate and Meat Dog консерви з качкою для собак, 400 г","Більше 100","Корм вологий для собак",102.66,134,{"$f":"'Brit Care'!I$133","v":0},{"$f":"'Brit Care'!J$133","v":0}]
[null,1111151339,"100863/100076/0311","Brit Pate and Meat Dog консерви з кроликом для собак, 400 г","Більше 100","Корм вологий для собак",102.66,134,{"$f":"'Brit Care'!I$134","v":0},{"$f":"'Brit Care'!J$134","v":0}]
[null,1111151336,"100859/100073/0281","Brit Pate and Meat Dog консерви з куркою для собак, 400 г","Більше 100","Корм вологий для собак",102.66,134,{"$f":"'Brit Care'!I$135","v":0},{"$f":"'Brit Care'!J$135","v":0}]
[null,1111151334,"100864/100071/0267","Brit Pate and Meat Dog консерви з лососем для собак, 400 г","Більше 10","Корм вологий для собак",102.66,134,{"$f":"'Brit Care'!I$136","v":0},{"$f":"'Brit Care'!J$136","v":0}]
[null,1111151341,"100866/100078/0328","Brit Pate and Meat Dog консерви з олениною для собак, 400 г","Більше 100","Корм вологий для собак",102.66,134,{"$f":"'Brit Care'!I$137","v":0},{"$f":"'Brit Care'!J$137","v":0}]
[null,1111151340,"100861/100077/0441","Brit Pate and Meat Dog консерви з ягням для собак, 400 г","Більше 100","Корм вологий для собак",102.66,134,{"$f":"'Brit Care'!I$138","v":0},{"$f":"'Brit Care'!J$138","v":0}]
[null,1111151335,"100858/100072/0274","Brit Pate and Meat Dog консерви з яловичиною для собак, 400 г","Більше 100","Корм вологий для собак",102.66,134,{"$f":"'Brit Care'!I$139","v":0},{"$f":"'Brit Care'!J$139","v":0}]
[null,1111151342,"100862/100079/0335","Brit Pate and Meat Puppy 400 г з куркою для цуценят, 400 г","Більше 100","Корм вологий для собак",102.66,134,{"$f":"'Brit Care'!I$140","v":0},{"$f":"'Brit Care'!J$140","v":0}]
[null,1111176193,112131,"Brit Raw Treat Digestion Freeze-dried д/собак курка 40г","Більше 10","Ласощі для собак",143.28,215,{"$f":"'Brit Care'!I$141","v":0},{"$f":"'Brit Care'!J$141","v":0}]
[null,1111180677,112190,"Brit Raw Treat HairandSkin ласощі д/котів з рибою та індичкою 40 г","Більше 100","Ласощі для котів",166,249,{"$f":"'Brit Care'!I$142","v":0},{"$f":"'Brit Care'!J$142","v":0}]
[null,1111176195,112133,"Brit Raw Treat Immunity Freeze-dried д/собак ягня і курка 40г","Більше 10","Ласощі для собак",143.28,215,{"$f":"'Brit Care'!I$143","v":0},{"$f":"'Brit Care'!J$143","v":0}]
[null,1111180676,112189,"Brit Raw Treat IndoorandAntistress ласощі д/котів з куркою 40 г","Більше 100","Ласощі для котів",166,249,{"$f":"'Brit Care'!I$144","v":0},{"$f":"'Brit Care'!J$144","v":0}]
[null,1111180674,112187,"Brit Raw Treat Kitten ласощі д/кошенят з куркою і лососем 40 г","Більше 100","Ласощі для котів",166,249,{"$f":"'Brit Care'!I$145","v":0},{"$f":"'Brit Care'!J$145","v":0}]
[null,1111180678,112191,"Brit Raw Treat Sensitive ласощі д/котів з індичкою 40 г","Більше 100","Ласощі для котів",166,249,{"$f":"'Brit Care'!I$146","v":0},{"$f":"'Brit Care'!J$146","v":0}]
[null,1111176194,112132,"Brit Raw Treat Skin and Coat Freeze-dried д/собак риба і курка 40г","Більше 10","Ласощі для собак",143.28,215,{"$f":"'Brit Care'!I$147","v":0},{"$f":"'Brit Care'!J$147","v":0}]
[null,1111176196,112134,"Brit Raw Treat Urinary Freeze-dried д/собак індичка 40г","Більше 10","Ласощі для собак",143.28,215,{"$f":"'Brit Care'!I$148","v":0},{"$f":"'Brit Care'!J$148","v":0}]
[null,1111180675,112188,"Brit Raw Treat Urinary ласощі д/котів з куркою та індичкою 40 г","Більше 100","Ласощі для котів",166,249,{"$f":"'Brit Care'!I$149","v":0},{"$f":"'Brit Care'!J$149","v":0}]
[null,1111173371,172225,"Бріт Кеа Гіпоал вейт лос д/дор соб з надмірн ваг 12кг,арт.172225","Більше 10","Корм сухий для собак",2872.64,3736,{"$f":"'Brit Care'!I$150","v":0},{"$f":"'Brit Care'!J$150","v":0}]
[null,1111173369,172223,"Бріт Кеа Гіпоал вейт лос д/дор соб з надмірн ваг 1кг,арт.172223","Більше 10","Корм сухий для собак",276.97000000000003,360,{"$f":"'Brit Care'!I$151","v":0},{"$f":"'Brit Care'!J$151","v":0}]
[null,1111173370,172224,"Бріт Кеа Гіпоал вейт лос д/дор соб з надмірн ваг 3кг,арт.172224","Більше 10","Корм сухий для собак",790.93,1030,{"$f":"'Brit Care'!I$152","v":0},{"$f":"'Brit Care'!J$152","v":0}]
[null,1111173368,172222,"Бріт Кеа Гіпоал едалт лар бр д/дор соб вел пор від25кг,12кг,арт.172222","Більше 100","Корм сухий для собак",2359.4,3068,{"$f":"'Brit Care'!I$153","v":0},{"$f":"'Brit Care'!J$153","v":0}]
[null,1111173366,172220,"Бріт Кеа Гіпоал едалт лар бр д/дор соб вел пор від25кг,1кг,арт.172220","Більше 10","Корм сухий для собак",244.57,319,{"$f":"'Brit Care'!I$154","v":0},{"$f":"'Brit Care'!J$154","v":0}]
[null,1111173367,172221,"Бріт Кеа Гіпоал едалт лар бр д/дор соб вел пор від25кг,3кг,арт.172221","Більше 100","Корм сухий для собак",687.06,894,{"$f":"'Brit Care'!I$155","v":0},{"$f":"'Brit Care'!J$155","v":0}]
[null,1111173362,172216,"Бріт Кеа Гіпоал едалт мед бр д/дор соб сер пор10-25кг ,12кг арт.172216","Більше 100","Корм сухий для собак",2353.15,3061,{"$f":"'Brit Care'!I$156","v":0},{"$f":"'Brit Care'!J$156","v":0}]
[null,1111173360,172214,"Бріт Кеа Гіпоал едалт мед бр д/дор соб сер пор10-25кг ,1кг арт.172214","Більше 100","Корм сухий для собак",239.7,312,{"$f":"'Brit Care'!I$157","v":0},{"$f":"'Brit Care'!J$157","v":0}]
[null,1111173361,172215,"Бріт Кеа Гіпоал едалт мед бр д/дор соб сер пор10-25кг ,3кг арт.172215","Більше 100","Корм сухий для собак",678.96,883,{"$f":"'Brit Care'!I$158","v":0},{"$f":"'Brit Care'!J$158","v":0}]
[null,1111173365,172219,"Бріт Кеа Гіпоал юні лар бр д/цуц/мол вел пор від 25кг,12кг,арт.172219","Більше 10","Корм сухий для собак",2411.27,3134,{"$f":"'Brit Care'!I$159","v":0},{"$f":"'Brit Care'!J$159","v":0}]
[null,1111173363,172217,"Бріт Кеа Гіпоал юні лар бр д/цуц/мол вел пор від 25кг,1кг,арт.172217","Більше 10","Корм сухий для собак",244.81,319,{"$f":"'Brit Care'!I$160","v":0},{"$f":"'Brit Care'!J$160","v":0}]
[null,1111173364,172218,"Бріт Кеа Гіпоал юні лар бр д/цуц/мол вел пор від 25кг,3кг,арт.172218","Більше 10","Корм сухий для собак",690.52,900,{"$f":"'Brit Care'!I$161","v":0},{"$f":"'Brit Care'!J$161","v":0}]
[null,1111173390,172210,"Бріт Кеа ГрейнФрі сенсітів д/дор соб з чутл травл 12кг,арт.172210","Більше 10","Корм сухий для собак",3461.44,4500,{"$f":"'Brit Care'!I$162","v":0},{"$f":"'Brit Care'!J$162","v":0}]
[null,1111173388,172208,"Бріт Кеа ГрейнФрі сенсітів д/дор соб з чутл травл 1кг,арт.172208","Більше 10","Корм сухий для собак",376.06,491,{"$f":"'Brit Care'!I$163","v":0},{"$f":"'Brit Care'!J$163","v":0}]
[null,1111173389,172209,"Бріт Кеа ГрейнФрі сенсітів д/дор соб з чутл травл 3кг,арт.172209","Більше 10","Корм сухий для собак",957.21,1245,{"$f":"'Brit Care'!I$164","v":0},{"$f":"'Brit Care'!J$164","v":0}]
[null,1111173373,172228,"Бріт Кеа дог Гіпоал чемпіон для виставкових собак  12кг, арт. 172228","Менше 10","Корм сухий для собак",2859.56,3718,{"$f":"'Brit Care'!I$165","v":0},{"$f":"'Brit Care'!J$165","v":0}]
[null,1111173372,172227,"Бріт Кеа дог Гіпоал чемпіон для виставкових собак  3кг, арт. 172227","Менше 10","Корм сухий для собак",833,1084,{"$f":"'Brit Care'!I$166","v":0},{"$f":"'Brit Care'!J$166","v":0}]
[null,1111173359,172213,"Бріт Кеа дог Гіпоалергенний Паппі д/цуценят 12кг арт.172213","Більше 10","Корм сухий для собак",2269.8000000000002,2952,{"$f":"'Brit Care'!I$167","v":0},{"$f":"'Brit Care'!J$167","v":0}]
[null,1111173357,172211,"Бріт Кеа дог Гіпоалергенний Паппі д/цуценят 1кг арт.172211","Більше 100","Корм сухий для собак",227.32,296,{"$f":"'Brit Care'!I$168","v":0},{"$f":"'Brit Care'!J$168","v":0}]
[null,1111173358,172212,"Бріт Кеа дог Гіпоалергенний Паппі д/цуценят 3кг арт.172212","Більше 100","Корм сухий для собак",646.51,841,{"$f":"'Brit Care'!I$169","v":0},{"$f":"'Brit Care'!J$169","v":0}]
[null,1111173379,172198,"Бріт Кеа дог Грейн Фрі едалт д/дор собак усіх порід 12кг, арт. 172198","Більше 10","Корм сухий для собак",2719.11,3536,{"$f":"'Brit Care'!I$170","v":0},{"$f":"'Brit Care'!J$170","v":0}]
[null,1111173377,172196,"Бріт Кеа дог Грейн Фрі едалт д/дор собак усіх порід 1кг, арт. 172196","Більше 10","Корм сухий для собак",268.38,350,{"$f":"'Brit Care'!I$171","v":0},{"$f":"'Brit Care'!J$171","v":0}]
[null,1111173378,172197,"Бріт Кеа дог Грейн Фрі едалт д/дор собак усіх порід 3кг, арт. 172197","Більше 10","Корм сухий для собак",765.9,997,{"$f":"'Brit Care'!I$172","v":0},{"$f":"'Brit Care'!J$172","v":0}]
[null,1111173376,172195,"Бріт Кеа дог Грейн Фрі Паппі д/цуценят 12кг, арт. 172195","Менше 10","Корм сухий для собак",2828.69,3678,{"$f":"'Brit Care'!I$173","v":0},{"$f":"'Brit Care'!J$173","v":0}]
[null,1111173374,172193,"Бріт Кеа дог Грейн Фрі Паппі д/цуценят 1кг, арт. 172193","Більше 10","Корм сухий для собак",274.83999999999997,359,{"$f":"'Brit Care'!I$174","v":0},{"$f":"'Brit Care'!J$174","v":0}]
[null,1111173375,172194,"Бріт Кеа дог Грейн Фрі Паппі д/цуценят 3кг, арт. 172194","Більше 10","Корм сухий для собак",792.81,1030,{"$f":"'Brit Care'!I$175","v":0},{"$f":"'Brit Care'!J$175","v":0}]
[null,1111173356,172192,"Бріт Кеа дог Саст актівіті д/дор соб з витрат енергії  12кг арт.172192","Менше 10","Корм сухий для собак",2323.1999999999998,3021,{"$f":"'Brit Care'!I$176","v":0},{"$f":"'Brit Care'!J$176","v":0}]
[null,1111173355,172191,"Бріт Кеа дог Саст актівіті д/дор соб з витрат енергії  3кг арт.172191","Менше 10","Корм сухий для собак",663.3,861,{"$f":"'Brit Care'!I$177","v":0},{"$f":"'Brit Care'!J$177","v":0}]
[null,1111173353,172173,"Бріт Кеа дог Саст едалт смол брід д/дор соб ваг до10 кг,3кг,арт.172173","Більше 10","Корм сухий для собак",694.75,904,{"$f":"'Brit Care'!I$178","v":0},{"$f":"'Brit Care'!J$178","v":0}]
[null,1111173354,172174,"Бріт Кеа дог Саст едалт смол брід д/дор соб ваг до10кг,7кг,арт.172174","Більше 10","Корм сухий для собак",1641.71,2135,{"$f":"'Brit Care'!I$179","v":0},{"$f":"'Brit Care'!J$179","v":0}]
[null,1111173607,172171,"Бріт Кеа дог Састейнебл Паппі від 4 тижнів до 12 міс, 12кг, арт.172171","Менше 10","Корм сухий для собак",2223.7199999999998,2891,{"$f":"'Brit Care'!I$180","v":0},{"$f":"'Brit Care'!J$180","v":0}]
[null,1111173606,172170,"Бріт Кеа дог Састейнебл Паппі від 4 тижнів до 12 міс, 3кг, арт.172170","Більше 10","Корм сухий для собак",610.20000000000005,793,{"$f":"'Brit Care'!I$181","v":0},{"$f":"'Brit Care'!J$181","v":0}]
[null,1111173613,172183,"Бріт Кеа Саст едалт лар бр д/дор соб вел пор від25кг,12кг,арт172183","Менше 10","Корм сухий для собак",2238.5,2911,{"$f":"'Brit Care'!I$182","v":0},{"$f":"'Brit Care'!J$182","v":0}]
[null,1111173612,172182,"Бріт Кеа Саст едалт лар бр д/дор соб вел пор від25кг,3кг,арт172182","Більше 10","Корм сухий для собак",620.4,806,{"$f":"'Brit Care'!I$183","v":0},{"$f":"'Brit Care'!J$183","v":0}]
[null,1111173609,172176,"Бріт Кеа Саст едалт мед брід д/дор соб сер пор 10-25кг ,3кг,арт.172176","Більше 10","Корм сухий для собак",611.6,795,{"$f":"'Brit Care'!I$184","v":0},{"$f":"'Brit Care'!J$184","v":0}]
[null,1111173610,172177,"Бріт Кеа Саст едалт мед брід д/дор соб сер пор 10-25кг,12кг,арт.172177","Менше 10","Корм сухий для собак",2205.5,2867,{"$f":"'Brit Care'!I$185","v":0},{"$f":"'Brit Care'!J$185","v":0}]
[null,1111173384,172204,"БрітКеаГрейнФрі едал лар бр д/дорСобВелПор ваг від25кг,12кг,арт.172204","Більше 10","Корм сухий для собак",2827.96,3677,{"$f":"'Brit Care'!I$186","v":0},{"$f":"'Brit Care'!J$186","v":0}]
[null,1111173383,172203,"БрітКеаГрейнФрі едалт лар бр д/дорСобВелПор ваг від25кг,3кг,арт.172203","Менше 10","Корм сухий для собак",795.03,1034,{"$f":"'Brit Care'!I$187","v":0},{"$f":"'Brit Care'!J$187","v":0}]
[null,1111173387,172207,"БрітКеаГрейнФрі сеньй and лай д/соб похил віку/з надмір ваг12кг","Більше 10","Корм сухий для собак",2464.44,3203,{"$f":"'Brit Care'!I$188","v":0},{"$f":"'Brit Care'!J$188","v":0}]
[null,1111173385,172205,"БрітКеаГрейнФрі сеньй and лайт д/соб похил віку/з надмір ваг1к","Менше 10","Корм сухий для собак",246.39,320,{"$f":"'Brit Care'!I$189","v":0},{"$f":"'Brit Care'!J$189","v":0}]
[null,1111173386,172206,"БрітКеаГрейнФрі сеньй and лайт д/соб похил віку/з надмір ваг3кг","Менше 10","Корм сухий для собак",700.19,912,{"$f":"'Brit Care'!I$190","v":0},{"$f":"'Brit Care'!J$190","v":0}]
[null,1111173382,172201,"БрітКеаГрейнФрі юні лар бр д/цуц/мол вел соб від25кг,12кг,арт.172201","Більше 10","Корм сухий для собак",2780.01,3615,{"$f":"'Brit Care'!I$191","v":0},{"$f":"'Brit Care'!J$191","v":0}]
[null,1111173380,172199,"БрітКеаГрейнФрі юні лар бр д/цуц/мол вел соб від25кг,1кг,арт.172199","Менше 10","Корм сухий для собак",276.5,360,{"$f":"'Brit Care'!I$192","v":0},{"$f":"'Brit Care'!J$192","v":0}]
[null,1111173381,172200,"БрітКеаГрейнФрі юні лар бр д/цуц/мол вел соб від25кг,3кг,арт.172200","Більше 10","Корм сухий для собак",803.55,1045,{"$f":"'Brit Care'!I$193","v":0},{"$f":"'Brit Care'!J$193","v":0}]
[null,1111171949,172172,"Корм  сух д/дор соб до10кг БрітКеаСастЕдалтСмолБрід кур з комах 1кг","Більше 10","Корм сухий для собак",245.81,321,{"$f":"'Brit Care'!I$194","v":0},{"$f":"'Brit Care'!J$194","v":0}]
[null,1111171950,172175,"Корм сух д/дор соб від10до25кг БрітКеаСастЕдалтМедБрід кур з комах 1кг","Більше 10","Корм сухий для собак",215.6,281,{"$f":"'Brit Care'!I$195","v":0},{"$f":"'Brit Care'!J$195","v":0}]
[null,1111171948,172169,"Корм сух д/цуц БрітКеаСастейнеблПапі кур з комах від 4тиж до 12міс 1кг","Більше 10","Корм сухий для собак",217.08,283,{"$f":"'Brit Care'!I$196","v":0},{"$f":"'Brit Care'!J$196","v":0}]
[null,1111174806,112105,"Ласощі Brit Dental Stick Calm д/собак заспокійливі 7 шт 251г","Більше 100","Ласощі для собак",140.11000000000001,183,{"$f":"'Brit Care'!I$197","v":0},{"$f":"'Brit Care'!J$197","v":0}]
[null,1111174805,112104,"Ласощі Brit Dental Stick Immuno д/собак д/імунітету 7 шт 251г","Більше 100","Ласощі для собак",140.11000000000001,183,{"$f":"'Brit Care'!I$198","v":0},{"$f":"'Brit Care'!J$198","v":0}]
[null,1111174804,112103,"Ласощі Brit Dental Stick Mobility д/собак д/суглобів 7 шт 251г","Більше 10","Ласощі для собак",140.11000000000001,183,{"$f":"'Brit Care'!I$199","v":0},{"$f":"'Brit Care'!J$199","v":0}]
[null,1111174803,112102,"Ласощі Brit Dental Stick Teeth and Gums д/собак д/зубів 7 шт 251г","Більше 100","Ласощі для собак",140.11000000000001,183,{"$f":"'Brit Care'!I$200","v":0},{"$f":"'Brit Care'!J$200","v":0}]
[null,1111168377,200260018,"Brit Excellent наповнювач бентонітовий, 5 кг","Більше 100","Наповнювачі бентонітові",237.73,310,{"$f":"'Brit Fresh'!I$8","v":0},{"$f":"'Brit Fresh'!J$8","v":0}]
[null,1111153743,"170991/530755","Brit Fresh Beef/Pumpkin Puppy Large ялов. гарб. д/цуцен. вел. пор 12кг","Більше 10","Корм сухий для собак",2347.41,3053,{"$f":"'Brit Fresh'!I$9","v":0},{"$f":"'Brit Fresh'!J$9","v":0}]
[null,1111153744,"170992 /0762","Brit Fresh Beef/Pumpkin Puppy Large ялов.гарб. д/цуцен. вел. пор 2,5кг","Більше 10","Корм сухий для собак",567.69000000000005,739,{"$f":"'Brit Fresh'!I$10","v":0},{"$f":"'Brit Fresh'!J$10","v":0}]
[null,1111153741,170989,"Brit Fresh Chicken/Potato Adult курка, картопля для собак, 12 кг","Менше 10","Корм сухий для собак",2440.37,3172,{"$f":"'Brit Fresh'!I$11","v":0},{"$f":"'Brit Fresh'!J$11","v":0}]
[null,1111153742,"170990/0748","Brit Fresh Chicken/Potato Adult курка, картопля для собак, 2,5 кг","Більше 10","Корм сухий для собак",595.05999999999995,774,{"$f":"'Brit Fresh'!I$12","v":0},{"$f":"'Brit Fresh'!J$12","v":0}]
[null,1111153739,170987,"Brit Fresh Chicken/Potato Puppy курка, картопля для цуценят, 12 кг","Менше 10","Корм сухий для собак",2449.2800000000002,3185,{"$f":"'Brit Fresh'!I$13","v":0},{"$f":"'Brit Fresh'!J$13","v":0}]
[null,1111153740,"170988 /0724","Brit Fresh Chicken/Potato Puppy курка, картопля для цуценят, 2,5 кг","Більше 10","Корм сухий для собак",590.78,769,{"$f":"'Brit Fresh'!I$14","v":0},{"$f":"'Brit Fresh'!J$14","v":0}]
[null,1111153753,"100159/3893","Brit Fresh Chicken/Sweet Potato консерви з куркою і бататом д/соб 400г","Немає в наявності","Корм вологий для собак",129.36000000000001,170,{"$f":"'Brit Fresh'!I$15","v":0},{"$f":"'Brit Fresh'!J$15","v":0}]
[null,1111153749,"170997/30816","Brit Fresh Duck/Millet Active Run and Work качка, пшоно д/собак 12 кг","Менше 10","Корм сухий для собак",2659.57,3458,{"$f":"'Brit Fresh'!I$16","v":0},{"$f":"'Brit Fresh'!J$16","v":0}]
[null,1111153750,"170998/0823","Brit Fresh Duck/Millet Active Run and Work качка, пшоно д/собак 2,5кг","Більше 10","Корм сухий для собак",641.51,834,{"$f":"'Brit Fresh'!I$17","v":0},{"$f":"'Brit Fresh'!J$17","v":0}]
[null,1111153754,"100160/3909","Brit Fresh Duck/Millet консерви з качкою і пшоном для собак, 400 г","Більше 10","Корм вологий для собак",129.36000000000001,170,{"$f":"'Brit Fresh'!I$18","v":0},{"$f":"'Brit Fresh'!J$18","v":0}]
[null,1111153745,"170993/530779","Brit Fresh Fish/Pumpkin Adult Large риба, гарбуз д/соб. вел.пор. 12кг","Менше 10","Корм сухий для собак",2593.5100000000002,3373,{"$f":"'Brit Fresh'!I$19","v":0},{"$f":"'Brit Fresh'!J$19","v":0}]
[null,1111153746,"170994 /0786","Brit Fresh Fish/Pumpkin Adult Large риба, гарбуз д/соб. вел.пор. 2,5кг","Більше 10","Корм сухий для собак",628.28,817,{"$f":"'Brit Fresh'!I$20","v":0},{"$f":"'Brit Fresh'!J$20","v":0}]
[null,1111153747,170995,"Brit Fresh Turkey/Pea Light Fit and Slim Adult індич. горох д/соб 12кг","Менше 10","Корм сухий для собак",2488.7399999999998,3236,{"$f":"'Brit Fresh'!I$21","v":0},{"$f":"'Brit Fresh'!J$21","v":0}]
[null,1111153748,"170996 /0809","Brit Fresh Turkey/Pea Light Fit and Slim Adult індич.горох д/соб 2,5кг","Більше 10","Корм сухий для собак",589.16,767,{"$f":"'Brit Fresh'!I$22","v":0},{"$f":"'Brit Fresh'!J$22","v":0}]
[null,1111153751,"100157/3879","Brit Fresh Turkey/Peas консерви з індичкою і горошком для собак, 400 г","Немає в наявності","Корм вологий для собак",129.36000000000001,170,{"$f":"'Brit Fresh'!I$23","v":0},{"$f":"'Brit Fresh'!J$23","v":0}]
[null,1111167458,171859,"Brit Premium by Nature Cat Adult Chicken з куркою д/котів, 1,5 кг","Більше 100","Корм сухий для котів",285.75,374,{"$f":"'Brit Premium'!I$8","v":0},{"$f":"'Brit Premium'!J$8","v":0}]
[null,1111167456,171843,"Brit Premium by Nature Cat Adult Chicken з куркою д/котів, 300 г","Більше 10","Корм сухий для котів",93.31,122,{"$f":"'Brit Premium'!I$9","v":0},{"$f":"'Brit Premium'!J$9","v":0}]
[null,1111167459,171867,"Brit Premium by Nature Cat Adult Chicken з куркою д/котів, 8 кг","Більше 10","Корм сухий для котів",1231.53,1602,{"$f":"'Brit Premium'!I$10","v":0},{"$f":"'Brit Premium'!J$10","v":0}]
[null,1111167457,171851,"Brit Premium by Nature Cat Adult Chicken з куркою д/котів, 800 г","Більше 10","Корм сухий для котів",180.59,235,{"$f":"'Brit Premium'!I$11","v":0},{"$f":"'Brit Premium'!J$11","v":0}]
[null,1111167466,171861,"Brit Premium by Nature Cat Indoor д/кот, що живуть у приміщенні, 1,5кг","Більше 100","Корм сухий для котів",284.48,370,{"$f":"'Brit Premium'!I$12","v":0},{"$f":"'Brit Premium'!J$12","v":0}]
[null,1111167464,171845,"Brit Premium by Nature Cat Indoor д/кот, що живуть у приміщенні, 300г","Більше 10","Корм сухий для котів",91.75,121,{"$f":"'Brit Premium'!I$13","v":0},{"$f":"'Brit Premium'!J$13","v":0}]
[null,1111167465,171853,"Brit Premium by Nature Cat Indoor д/кот, що живуть у приміщенні, 800г","Менше 10","Корм сухий для котів",180.59,235,{"$f":"'Brit Premium'!I$14","v":0},{"$f":"'Brit Premium'!J$14","v":0}]
[null,1111167467,171869,"Brit Premium by Nature Cat Indoor д/кот, що живуть у приміщенні, 8кг","Більше 10","Корм сухий для котів",1276.97,1661,{"$f":"'Brit Premium'!I$15","v":0},{"$f":"'Brit Premium'!J$15","v":0}]
[null,1111167470,171858,"Brit Premium by Nature Cat Kitten з куркою для кошенят, 1,5 г","Більше 100","Корм сухий для котів",296.48,387,{"$f":"'Brit Premium'!I$16","v":0},{"$f":"'Brit Premium'!J$16","v":0}]
[null,1111167468,171842,"Brit Premium by Nature Cat Kitten з куркою для кошенят, 300 г","Більше 100","Корм сухий для котів",93.47,122,{"$f":"'Brit Premium'!I$17","v":0},{"$f":"'Brit Premium'!J$17","v":0}]
[null,1111167471,171866,"Brit Premium by Nature Cat Kitten з куркою для кошенят, 8 г","Більше 10","Корм сухий для котів",1433.42,1865,{"$f":"'Brit Premium'!I$18","v":0},{"$f":"'Brit Premium'!J$18","v":0}]
[null,1111167469,171850,"Brit Premium by Nature Cat Kitten з куркою для кошенят, 800 г","Більше 10","Корм сухий для котів",180.59,235,{"$f":"'Brit Premium'!I$19","v":0},{"$f":"'Brit Premium'!J$19","v":0}]
[null,1111167473,171865,"Brit Premium by Nature Cat Sensitive д/котів із чутл. травленням 1,5кг","Більше 10","Корм сухий для котів",312.8,407,{"$f":"'Brit Premium'!I$20","v":0},{"$f":"'Brit Premium'!J$20","v":0}]
[null,1111167472,171849,"Brit Premium by Nature Cat Sensitive д/котів із чутл. травленням 300 г","Більше 100","Корм сухий для котів",96.32,126,{"$f":"'Brit Premium'!I$21","v":0},{"$f":"'Brit Premium'!J$21","v":0}]
[null,1111167474,171873,"Brit Premium by Nature Cat Sensitive д/котів із чутл. травленням, 8 кг","Більше 10","Корм сухий для котів",1390.87,1810,{"$f":"'Brit Premium'!I$22","v":0},{"$f":"'Brit Premium'!J$22","v":0}]
[null,1111167475,171846,"Brit Premium by Nature Cat Sterilised для стерелізованих котів, 300 г","Більше 100","Корм сухий для котів",95.02,125,{"$f":"'Brit Premium'!I$23","v":0},{"$f":"'Brit Premium'!J$23","v":0}]
[null,1111167478,171870,"Brit Premium by Nature Cat Sterilised для стерилізованих котів, 8 кг","Більше 10","Корм сухий для котів",1377.24,1791,{"$f":"'Brit Premium'!I$24","v":0},{"$f":"'Brit Premium'!J$24","v":0}]
[null,1111167476,171854,"Brit Premium by Nature Cat Sterilised для стерилізованих котів, 800 г","Менше 10","Корм сухий для котів",192.03,251,{"$f":"'Brit Premium'!I$25","v":0},{"$f":"'Brit Premium'!J$25","v":0}]
[null,1111167477,171862,"Brit Premium by Nature Cat Sterilised з куркою 1,5кг","Більше 10","Корм сухий для котів",301.44,392,{"$f":"'Brit Premium'!I$26","v":0},{"$f":"'Brit Premium'!J$26","v":0}]
[null,1111167486,171863,"Brit Premium by Nature Cat Sterilized Lamb ягня д/стерил. кот. 1,5 кг","Більше 10","Корм сухий для котів",301.44,392,{"$f":"'Brit Premium'!I$27","v":0},{"$f":"'Brit Premium'!J$27","v":0}]
[null,1111167484,171847,"Brit Premium by Nature Cat Sterilized Lamb ягня д/стерил. кот. 300г","Більше 100","Корм сухий для котів",95.02,125,{"$f":"'Brit Premium'!I$28","v":0},{"$f":"'Brit Premium'!J$28","v":0}]
[null,1111167487,171871,"Brit Premium by Nature Cat Sterilized Lamb ягня д/стерил. кот. 8 кг","Більше 10","Корм сухий для котів",1377.24,1791,{"$f":"'Brit Premium'!I$29","v":0},{"$f":"'Brit Premium'!J$29","v":0}]
[null,1111167485,171855,"Brit Premium by Nature Cat Sterilized Lamb ягня д/стерил. кот. 800 кг","Більше 10","Корм сухий для котів",192.03,251,{"$f":"'Brit Premium'!I$30","v":0},{"$f":"'Brit Premium'!J$30","v":0}]
[null,1111167480,171848,"Brit Premium by Nature Cat Sterilized Salmon лосось д/стер. кот. 300 г","Більше 10","Корм сухий для котів",95.02,125,{"$f":"'Brit Premium'!I$31","v":0},{"$f":"'Brit Premium'!J$31","v":0}]
[null,1111167483,171872,"Brit Premium by Nature Cat Sterilized Salmon лосось д/стер. кот. 8 кг","Більше 10","Корм сухий для котів",1377.24,1791,{"$f":"'Brit Premium'!I$32","v":0},{"$f":"'Brit Premium'!J$32","v":0}]
[null,1111167481,171856,"Brit Premium by Nature Cat Sterilized Salmon лосось д/стер. кот. 800 г","Більше 10","Корм сухий для котів",192.03,251,{"$f":"'Brit Premium'!I$33","v":0},{"$f":"'Brit Premium'!J$33","v":0}]
[null,1111163313,"100619/5124","Brit Premium by Nature Cat консерви індичка з печінкою для котів 200 г","Менше 10","Корм вологий для котів",76.150000000000006,99,{"$f":"'Brit Premium'!I$34","v":0},{"$f":"'Brit Premium'!J$34","v":0}]
[null,1111163311,"100617/5049","Brit Premium by Nature Cat консерви індичка з ягням для котів, 200 г","Більше 10","Корм вологий для котів",76.150000000000006,99,{"$f":"'Brit Premium'!I$35","v":0},{"$f":"'Brit Premium'!J$35","v":0}]
[null,1111163309,"100615/5025","Brit Premium by Nature Cat консерви курка з серцями для котів, 200 г","Більше 10","Корм вологий для котів",76.150000000000006,99,{"$f":"'Brit Premium'!I$36","v":0},{"$f":"'Brit Premium'!J$36","v":0}]
[null,1111163310,"100616/5032","Brit Premium by Nature Cat консерви форель з печінкою д/котів, 200 г","Більше 10","Корм вологий для котів",76.150000000000006,99,{"$f":"'Brit Premium'!I$37","v":0},{"$f":"'Brit Premium'!J$37","v":0}]
[null,1111159941,"100408/8553","Brit Premium by Nature консерви для собак, індичка/печінка, 400 г","Більше 100","Корм вологий для собак",86.97,113,{"$f":"'Brit Premium'!I$38","v":0},{"$f":"'Brit Premium'!J$38","v":0}]
[null,1111159942,"100410/8577","Brit Premium by Nature консерви для собак, індичка/печінка, 800 г","Більше 100","Корм вологий для собак",156.9,192,{"$f":"'Brit Premium'!I$39","v":0},{"$f":"'Brit Premium'!J$39","v":0}]
[null,1111159939,"100405/8522","Brit Premium by Nature консерви для собак, курка/серця курячі, 400 г","Більше 100","Корм вологий для собак",86.97,113,{"$f":"'Brit Premium'!I$40","v":0},{"$f":"'Brit Premium'!J$40","v":0}]
[null,1111159945,"100414/8614","Brit Premium by Nature консерви для собак, ягня/гречка, 400 г","Більше 100","Корм вологий для собак",86.97,113,{"$f":"'Brit Premium'!I$41","v":0},{"$f":"'Brit Premium'!J$41","v":0}]
[null,1111159946,"100416/8638","Brit Premium by Nature консерви для собак, ягня/гречка, 800 г","Більше 100","Корм вологий для собак",147.44,192,{"$f":"'Brit Premium'!I$42","v":0},{"$f":"'Brit Premium'!J$42","v":0}]
[null,1111159943,"100411/8584","Brit Premium by Nature консерви для собак, яловичина/рубець, 400 г","Більше 100","Корм вологий для собак",86.97,113,{"$f":"'Brit Premium'!I$43","v":0},{"$f":"'Brit Premium'!J$43","v":0}]
[null,1111178696,111833,"Brit Premium Cat pouch 100 g лосось для стерилізованих котів","Немає в наявності","Корм вологий для котів",22.89,29.7,{"$f":"'Brit Premium'!I$44","v":0},{"$f":"'Brit Premium'!J$44","v":0}]
[null,1111178695,111832,"Brit Premium Cat pouch 100 g печінка для стерилізованих котів","Більше 100","Корм вологий для котів",22.89,29.7,{"$f":"'Brit Premium'!I$45","v":0},{"$f":"'Brit Premium'!J$45","v":0}]
[null,1111178694,111831,"Brit Premium Cat pouch 100 g ягнятина для стерилізованих котів","Більше 100","Корм вологий для котів",22.89,29.7,{"$f":"'Brit Premium'!I$46","v":0},{"$f":"'Brit Premium'!J$46","v":0}]
[null,1111142141,"100273 /506019","Brit Premium Cat pouch д/котів, з куркою та індичкою, 100 г","Більше 100","Корм вологий для котів",22.89,29.7,{"$f":"'Brit Premium'!I$47","v":0},{"$f":"'Brit Premium'!J$47","v":0}]
[null,1111142139,"100271 /505999","Brit Premium Cat pouch д/котів, з лососем та фореллю, 100 г","Більше 100","Корм вологий для котів",22.89,29.7,{"$f":"'Brit Premium'!I$48","v":0},{"$f":"'Brit Premium'!J$48","v":0}]
[null,1111142140,"100272 /506002","Brit Premium Cat pouch д/котів, з тріскою, 100 г","Більше 100","Корм вологий для котів",22.89,29.7,{"$f":"'Brit Premium'!I$49","v":0},{"$f":"'Brit Premium'!J$49","v":0}]
[null,1111142138,"100270 /505982","Brit Premium Cat pouch д/котів, з яловичиною та горохом, 100 г","Більше 100","Корм вологий для котів",22.89,29.7,{"$f":"'Brit Premium'!I$50","v":0},{"$f":"'Brit Premium'!J$50","v":0}]
[null,1111142144,"100277 /506262","Brit Premium Cat pouch д/котів, набір М_ясна тарілка, 4 шт. х 100 г","Більше 10","Корм вологий для котів",85.81,108,{"$f":"'Brit Premium'!I$51","v":0},{"$f":"'Brit Premium'!J$51","v":0}]
[null,1111143011,"100278 /506255","Brit Premium Cat pouch д/котів, набір Сімейна тарілка, 12 шт. х 100 г","Більше 100","Корм вологий для котів",253.37,318.06,{"$f":"'Brit Premium'!I$52","v":0},{"$f":"'Brit Premium'!J$52","v":0}]
[null,1111142142,"100274 /506026","Brit Premium Cat pouch д/кошенят, з куркою, 100 г","Немає в наявності","Корм вологий для котів",22.89,29.7,{"$f":"'Brit Premium'!I$53","v":0},{"$f":"'Brit Premium'!J$53","v":0}]
[null,1111142143,"100275 /506033","Brit Premium Cat pouch д/стерилізованих котів, з куркою, 100 г","Більше 100","Корм вологий для котів",22.89,29.7,{"$f":"'Brit Premium'!I$54","v":0},{"$f":"'Brit Premium'!J$54","v":0}]
[null,1111146982,"111240/463","Brit Premium Cat pouch куряче філе в желе для котів, 85 г","Більше 100","Корм вологий для котів",30.21,38.340000000000003,{"$f":"'Brit Premium'!I$55","v":0},{"$f":"'Brit Premium'!J$55","v":0}]
[null,1111146988,"111250/524","Brit Premium Cat pouch куряче філе в соусі для котів, 85 г","Більше 100","Корм вологий для котів",30.21,38.340000000000003,{"$f":"'Brit Premium'!I$56","v":0},{"$f":"'Brit Premium'!J$56","v":0}]
[null,1111142415,"100276 /506248","Brit Premium Cat pouch рибна тарілка для котів, 4шт х 100г","Більше 10","Корм вологий для котів",85.81,108,{"$f":"'Brit Premium'!I$57","v":0},{"$f":"'Brit Premium'!J$57","v":0}]
[null,1111146995,"111245/408","Brit Premium Cat pouch сімейна тарілка в желе, 12шт х 85г","Більше 10","Корм вологий для котів",319.2,400,{"$f":"'Brit Premium'!I$58","v":0},{"$f":"'Brit Premium'!J$58","v":0}]
[null,1111146994,"111257/422","Brit Premium Cat pouch сімейна тарілка в соусі, 12шт х 85г","Більше 10","Корм вологий для котів",319.2,400,{"$f":"'Brit Premium'!I$59","v":0},{"$f":"'Brit Premium'!J$59","v":0}]
[null,1111146989,"111251/531","Brit Premium Cat pouch філе індика в соусі для котів, 85 г","Більше 100","Корм вологий для котів",30.21,38.340000000000003,{"$f":"'Brit Premium'!I$60","v":0},{"$f":"'Brit Premium'!J$60","v":0}]
[null,1111146990,"111252/548","Brit Premium Cat pouch філе тунця в соусі для котів, 85 г","Більше 100","Корм вологий для котів",30.21,38.340000000000003,{"$f":"'Brit Premium'!I$61","v":0},{"$f":"'Brit Premium'!J$61","v":0}]
[null,1111146985,"111243/494","Brit Premium Cat pouch філе форелі в желе для котів, 85 г","Більше 10","Корм вологий для котів",30.21,38.340000000000003,{"$f":"'Brit Premium'!I$62","v":0},{"$f":"'Brit Premium'!J$62","v":0}]
[null,1111146983,"111241/470","Brit Premium Cat pouch філе яловичини в желе для котів, 85 г","Більше 10","Корм вологий для котів",30.21,38.340000000000003,{"$f":"'Brit Premium'!I$63","v":0},{"$f":"'Brit Premium'!J$63","v":0}]
[null,1111146991,"111253/555","Brit Premium Cat pouch філе яловичини в соусі для котів, 85 г","Більше 100","Корм вологий для котів",30.21,38.340000000000003,{"$f":"'Brit Premium'!I$64","v":0},{"$f":"'Brit Premium'!J$64","v":0}]
[null,1111178697,111834,"Brit Premium Cat Набір паучів д/стерилізованих котів 4 смаки 100gх12шт","Більше 10","Корм вологий для котів",253.37,318,{"$f":"'Brit Premium'!I$65","v":0},{"$f":"'Brit Premium'!J$65","v":0}]
[null,1111150965,"170827/6468","Brit Premium Dog Adult L для дорослих собак великих порід, 15 кг","Більше 100","Корм сухий для собак",1610.85,2095,{"$f":"'Brit Premium'!I$66","v":0},{"$f":"'Brit Premium'!J$66","v":0}]
[null,1111150963,"170825/6444","Brit Premium Dog Adult L для дорослих собак великих порід, 3 кг","Більше 10","Корм сухий для собак",422.17,549,{"$f":"'Brit Premium'!I$67","v":0},{"$f":"'Brit Premium'!J$67","v":0}]
[null,1111150964,"170826/6451","Brit Premium Dog Adult L для дорослих собак великих порід, 8 кг","Більше 10","Корм сухий для собак",833.78,1084,{"$f":"'Brit Premium'!I$68","v":0},{"$f":"'Brit Premium'!J$68","v":0}]
[null,1111150953,"170815/6345","Brit Premium Dog Adult M для дорослих собак середніх порід, 1 кг","Більше 10","Корм сухий для собак",190.4,248,{"$f":"'Brit Premium'!I$69","v":0},{"$f":"'Brit Premium'!J$69","v":0}]
[null,1111150956,"170818/6376","Brit Premium Dog Adult M для дорослих собак середніх порід, 15 кг","Більше 100","Корм сухий для собак",1496.64,1945,{"$f":"'Brit Premium'!I$70","v":0},{"$f":"'Brit Premium'!J$70","v":0}]
[null,1111150954,"170816/6352","Brit Premium Dog Adult M для дорослих собак середніх порід, 3 кг","Більше 10","Корм сухий для собак",403.5,525,{"$f":"'Brit Premium'!I$71","v":0},{"$f":"'Brit Premium'!J$71","v":0}]
[null,1111150955,"170817/6369","Brit Premium Dog Adult M для дорослих собак середніх порід, 8 кг","Більше 10","Корм сухий для собак",792.05,1030,{"$f":"'Brit Premium'!I$72","v":0},{"$f":"'Brit Premium'!J$72","v":0}]
[null,1111150947,"170809/6284","Brit Premium Dog Adult S для дорослих собак малих порід, 1 кг","Більше 10","Корм сухий для собак",238.17,310,{"$f":"'Brit Premium'!I$73","v":0},{"$f":"'Brit Premium'!J$73","v":0}]
[null,1111150948,"170810/6291","Brit Premium Dog Adult S для дорослих собак малих порід, 3 кг","Більше 10","Корм сухий для собак",509.02,662,{"$f":"'Brit Premium'!I$74","v":0},{"$f":"'Brit Premium'!J$74","v":0}]
[null,1111150949,"170811/6307","Brit Premium Dog Adult S для дорослих собак малих порід, 8 кг","Більше 10","Корм сухий для собак",1196.1500000000001,1549,{"$f":"'Brit Premium'!I$75","v":0},{"$f":"'Brit Premium'!J$75","v":0}]
[null,1111150973,"170833/6529","Brit Premium Dog Adult XL для дорослих собак гігантських порід, 15 кг","Немає в наявності","Корм сухий для собак",1826.72,2376,{"$f":"'Brit Premium'!I$76","v":0},{"$f":"'Brit Premium'!J$76","v":0}]
[null,1111150972,"170832/6512","Brit Premium Dog Adult XL для дорослих собак гігантських порід, 3 кг","Більше 10","Корм сухий для собак",491.28,640,{"$f":"'Brit Premium'!I$77","v":0},{"$f":"'Brit Premium'!J$77","v":0}]
[null,1111150962,"170824/6437","Brit Premium Dog Junior L для молодих собак великих порід, 15 кг","Більше 10","Корм сухий для собак",1715.25,2146,{"$f":"'Brit Premium'!I$78","v":0},{"$f":"'Brit Premium'!J$78","v":0}]
[null,1111150961,"170823/6420","Brit Premium Dog Junior L для молодих собак великих порід, 3 кг","Більше 10","Корм сухий для собак",469.88,612,{"$f":"'Brit Premium'!I$79","v":0},{"$f":"'Brit Premium'!J$79","v":0}]
[null,1111150950,"170812/6314","Brit Premium Dog Junior M для молодих собак середніх порід, 1 кг","Менше 10","Корм сухий для собак",186.92,245,{"$f":"'Brit Premium'!I$80","v":0},{"$f":"'Brit Premium'!J$80","v":0}]
[null,1111150952,"170814/6338","Brit Premium Dog Junior M для молодих собак середніх порід, 15 кг","Більше 10","Корм сухий для собак",1779.54,2225,{"$f":"'Brit Premium'!I$81","v":0},{"$f":"'Brit Premium'!J$81","v":0}]
[null,1111150951,"170813/6321","Brit Premium Dog Junior M для молодих собак середніх порід, 3 кг","Більше 10","Корм сухий для собак",486.87,634,{"$f":"'Brit Premium'!I$82","v":0},{"$f":"'Brit Premium'!J$82","v":0}]
[null,1111150945,"170807/6260","Brit Premium Dog Junior S для молодих собак малих порід, 3 кг","Менше 10","Корм сухий для собак",556.05999999999995,723,{"$f":"'Brit Premium'!I$83","v":0},{"$f":"'Brit Premium'!J$83","v":0}]
[null,1111150971,"170831/6505","Brit Premium Dog Junior XL для молодих собак гігантських порід, 15 кг","Більше 10","Корм сухий для собак",1879.65,2445,{"$f":"'Brit Premium'!I$84","v":0},{"$f":"'Brit Premium'!J$84","v":0}]
[null,1111150968,"170830/6499","Brit Premium Dog Junior XL для молодих собак гігантських порід, 3 кг","Менше 10","Корм сухий для собак",491.28,640,{"$f":"'Brit Premium'!I$85","v":0},{"$f":"'Brit Premium'!J$85","v":0}]
[null,1111150975,"170841/6604","Brit Premium Dog Light для собак з надмірною вагою, 15 кг","Більше 10","Корм сухий для собак",1438.12,1869,{"$f":"'Brit Premium'!I$86","v":0},{"$f":"'Brit Premium'!J$86","v":0}]
[null,1111150974,"170839/6581","Brit Premium Dog Light для собак з надмірною вагою, 3 кг","Більше 10","Корм сухий для собак",410.82,535,{"$f":"'Brit Premium'!I$87","v":0},{"$f":"'Brit Premium'!J$87","v":0}]
[null,1111150967,"170829/6482","Brit Premium Dog Senior L+XL д/стар. собак велик, гігант. порід, 15кг","Менше 10","Корм сухий для собак",1896.57,2467,{"$f":"'Brit Premium'!I$88","v":0},{"$f":"'Brit Premium'!J$88","v":0}]
[null,1111150966,"170828/6475","Brit Premium Dog Senior L+XL д/стар. собак велик, гігант. порід, 3 кг","Менше 10","Корм сухий для собак",510.43,665,{"$f":"'Brit Premium'!I$89","v":0},{"$f":"'Brit Premium'!J$89","v":0}]
[null,1111150979,"170845/6642","Brit Premium Dog Sensitive Lamb для собак з чутливим травленням 15 кг","Більше 10","Корм сухий для собак",2407.9499999999998,3131,{"$f":"'Brit Premium'!I$90","v":0},{"$f":"'Brit Premium'!J$90","v":0}]
[null,1111150976,"170842/6611","Brit Premium Dog Sensitive Lamb для собак з чутливим травленням, 1 кг","Немає в наявності","Корм сухий для собак",200.73,260,{"$f":"'Brit Premium'!I$91","v":0},{"$f":"'Brit Premium'!J$91","v":0}]
[null,1111150977,"170843/6628","Brit Premium Dog Sensitive Lamb для собак з чутливим травленням, 3 кг","Більше 10","Корм сухий для собак",618.03,804,{"$f":"'Brit Premium'!I$92","v":0},{"$f":"'Brit Premium'!J$92","v":0}]
[null,1111150981,"170848/6673","Brit Premium Dog Sport для собак з високими витратами енергії, 15 кг","Більше 10","Корм сухий для собак",1709.04,2222,{"$f":"'Brit Premium'!I$93","v":0},{"$f":"'Brit Premium'!J$93","v":0}]
[null,1111150980,"170847/6666","Brit Premium Dog Sport для собак з високими витратами енергії, 3 кг","Менше 10","Корм сухий для собак",512.01,666,{"$f":"'Brit Premium'!I$94","v":0},{"$f":"'Brit Premium'!J$94","v":0}]
[null,1111167462,171860,"Brit Premium Nature Cat Adult Salmon з лососем д/котів, 1,5 кг","Менше 10","Корм сухий для котів",311.18,405,{"$f":"'Brit Premium'!I$95","v":0},{"$f":"'Brit Premium'!J$95","v":0}]
[null,1111167460,171844,"Brit Premium Nature Cat Adult Salmon з лососем д/котів, 300 г","Більше 100","Корм сухий для котів",96.32,126,{"$f":"'Brit Premium'!I$96","v":0},{"$f":"'Brit Premium'!J$96","v":0}]
[null,1111167463,171868,"Brit Premium Nature Cat Adult Salmon з лососем д/котів, 8 кг","Менше 10","Корм сухий для котів",1392.48,1811,{"$f":"'Brit Premium'!I$97","v":0},{"$f":"'Brit Premium'!J$97","v":0}]
[null,1111167461,171852,"Brit Premium Nature Cat Adult Salmon з лососем д/котів, 800 г","Більше 10","Корм сухий для котів",192.03,251,{"$f":"'Brit Premium'!I$98","v":0},{"$f":"'Brit Premium'!J$98","v":0}]
[null,1111150946,"170805/6246","Ком Brit Premium сухий для молодих собак дрібних порід вагою 1-10кг Бр","Менше 10","Корм сухий для собак",1127.54,1459,{"$f":"'Brit Premium'!I$99","v":0},{"$f":"'Brit Premium'!J$99","v":0}]
[null,1111168652,100710,"Brit VetDiets Cat Diabetes консерви д/котів з діабетом, 200г","Немає в наявності","Корм вологий ветеринарний для котів",75.319999999999993,98,{"$f":"'Brit VetDiets'!I$8","v":0},{"$f":"'Brit VetDiets'!J$8","v":0}]
[null,1111152755,"170969/528523","Brit VetDiets Cat Diabets для котів з цукровим діабетом, 2 кг","Менше 10","Корм сухий для котів",658.02,856,{"$f":"'Brit VetDiets'!I$9","v":0},{"$f":"'Brit VetDiets'!J$9","v":0}]
[null,1111152756,"170970/528530","Brit VetDiets Cat Diabets для котів з цукровим діабетом, 400 г","Більше 10","Корм сухий для котів",181.02,236,{"$f":"'Brit VetDiets'!I$10","v":0},{"$f":"'Brit VetDiets'!J$10","v":0}]
[null,1111152752,"170964/528431","Brit VetDiets Cat Gastrointestinal д/кот. з порушеннями травлення 400г","Більше 10","Корм сухий для котів",202.17,265,{"$f":"'Brit VetDiets'!I$11","v":0},{"$f":"'Brit VetDiets'!J$11","v":0}]
[null,1111152751,"170963/528424","Brit VetDiets Cat Gastrointestinal д/котів з порушеннями травлення 2кг","Більше 10","Корм сухий для котів",764.61,994,{"$f":"'Brit VetDiets'!I$12","v":0},{"$f":"'Brit VetDiets'!J$12","v":0}]
[null,1111169971,100712,"Brit VetDiets Cat Gastrointestinal консерви при захвор. ШКТ у кот 200г","Більше 100","Корм вологий ветеринарний для котів",74.12,93,{"$f":"'Brit VetDiets'!I$13","v":0},{"$f":"'Brit VetDiets'!J$13","v":0}]
[null,1111152749,"170960/528370","Brit VetDiets Cat Hypoallergenic для котів з харчовою алергією, 2 кг","Більше 10","Корм сухий для котів",679.4,884,{"$f":"'Brit VetDiets'!I$14","v":0},{"$f":"'Brit VetDiets'!J$14","v":0}]
[null,1111152750,"170961/528387","Brit VetDiets Cat Hypoallergenic для котів з харчовою алергією, 400 г","Більше 10","Корм сухий для котів",185.6,240,{"$f":"'Brit VetDiets'!I$15","v":0},{"$f":"'Brit VetDiets'!J$15","v":0}]
[null,1111168650,100709,"Brit VetDiets Cat Hypoallergenic консерви д/котів з харч. алерг. 200г","Більше 10","Корм вологий ветеринарний для котів",74.12,93,{"$f":"'Brit VetDiets'!I$16","v":0},{"$f":"'Brit VetDiets'!J$16","v":0}]
[null,1111152753,"170966/528479","Brit VetDiets Cat Obesity для зниження зайвої ваги у котів, 2 кг","Менше 10","Корм сухий для котів",664.12,864,{"$f":"'Brit VetDiets'!I$17","v":0},{"$f":"'Brit VetDiets'!J$17","v":0}]
[null,1111152754,"170967/528486","Brit VetDiets Cat Obesity для зниження зайвої ваги у котів, 400 г","Менше 10","Корм сухий для котів",182.57,238,{"$f":"'Brit VetDiets'!I$18","v":0},{"$f":"'Brit VetDiets'!J$18","v":0}]
[null,1111152747,"170957/528325","Brit VetDiets Cat Renal для котів з нирковою недостатністю, 2 кг","Більше 10","Корм сухий для котів",755.44,983,{"$f":"'Brit VetDiets'!I$19","v":0},{"$f":"'Brit VetDiets'!J$19","v":0}]
[null,1111152748,"170958/528332","Brit VetDiets Cat Renal для котів з нирковою недостатністю, 400 кг","Більше 10","Корм сухий для котів",200.61,260,{"$f":"'Brit VetDiets'!I$20","v":0},{"$f":"'Brit VetDiets'!J$20","v":0}]
[null,1111166665,"100714/9870","Brit VetDiets Cat Renal консерви при нирковій недостатн. котів, 200 г","Більше 100","Корм вологий ветеринарний для котів",77.680000000000007,97,{"$f":"'Brit VetDiets'!I$21","v":0},{"$f":"'Brit VetDiets'!J$21","v":0}]
[null,1111166664,"100713/9863","Brit VetDiets Cat Struvite консерви при сечокам хворобі у котів, 200 г","Більше 10","Корм вологий ветеринарний для котів",74.12,93,{"$f":"'Brit VetDiets'!I$22","v":0},{"$f":"'Brit VetDiets'!J$22","v":0}]
[null,1111152745,"170954/528271","Brit VetDiets Cat Struvite при сечокам. хворобі котів, 2 кг","Немає в наявності","Корм сухий для котів",598.61,778,{"$f":"'Brit VetDiets'!I$23","v":0},{"$f":"'Brit VetDiets'!J$23","v":0}]
[null,1111152746,"170955/528288","Brit VetDiets Cat Struvite при сечокам. хворобі котів, 400г","Більше 10","Корм сухий для котів",169,219,{"$f":"'Brit VetDiets'!I$24","v":0},{"$f":"'Brit VetDiets'!J$24","v":0}]
[null,1111151943,"170942/528097","Brit VetDiets Dog Diabetes для собак з цукровим діабетом, 12 кг","Менше 10","Корм сухий для собак",3139.77,4081,{"$f":"'Brit VetDiets'!I$25","v":0},{"$f":"'Brit VetDiets'!J$25","v":0}]
[null,1111151944,"170943/8103","Brit VetDiets Dog Diabetes для собак з цукровим діабетом, 2 кг","Менше 10","Корм сухий для собак",611.33000000000004,795,{"$f":"'Brit VetDiets'!I$26","v":0},{"$f":"'Brit VetDiets'!J$26","v":0}]
[null,1111166667,"100263/5910","Brit VetDiets Dog Diabetes консерви при цукровому діабеті, 400 г","Більше 10","Корм вологий ветеринарний для собак",151.01,196,{"$f":"'Brit VetDiets'!I$27","v":0},{"$f":"'Brit VetDiets'!J$27","v":0}]
[null,1111151945,"170944/528127","Brit VetDiets Dog Gastrointestinal д/соб. з порушеннями травлен. 12 кг","Менше 10","Корм сухий для собак",3377.52,4391,{"$f":"'Brit VetDiets'!I$28","v":0},{"$f":"'Brit VetDiets'!J$28","v":0}]
[null,1111151946,"170945/8134","Brit VetDiets Dog Gastrointestinal д/соб. з порушеннями травлен. 2 кг","Більше 10","Корм сухий для собак",650.91,847,{"$f":"'Brit VetDiets'!I$29","v":0},{"$f":"'Brit VetDiets'!J$29","v":0}]
[null,1111168806,100287,"Brit VetDiets Dog Gastrointestinal консерви при захвор. ШКТ у соб 400г","Більше 100","Корм вологий ветеринарний для собак",151.01,196,{"$f":"'Brit VetDiets'!I$30","v":0},{"$f":"'Brit VetDiets'!J$30","v":0}]
[null,1111151947,"170946/528158","Brit VetDiets Dog Hepatic для собак з захворюваннями печінки, 12 кг","Менше 10","Корм сухий для собак",3339.72,4343,{"$f":"'Brit VetDiets'!I$31","v":0},{"$f":"'Brit VetDiets'!J$31","v":0}]
[null,1111151948,"170947/8165","Brit VetDiets Dog Hepatic для собак з захворюваннями печінки, 2 кг","Більше 10","Корм сухий для собак",643.37,838,{"$f":"'Brit VetDiets'!I$32","v":0},{"$f":"'Brit VetDiets'!J$32","v":0}]
[null,1111166669,"100275/6030","Brit VetDiets Dog Hepatic консерви д/підтримки печінки у собак 400г","Більше 100","Корм вологий ветеринарний для собак",151.01,196,{"$f":"'Brit VetDiets'!I$33","v":0},{"$f":"'Brit VetDiets'!J$33","v":0}]
[null,1111151950,"170939/8042","Brit VetDiets Dog Hypoallergenic для собак з харчовою алергією, 2 кг","Більше 10","Корм сухий для собак",692.49,901,{"$f":"'Brit VetDiets'!I$34","v":0},{"$f":"'Brit VetDiets'!J$34","v":0}]
[null,1111166666,"100259/5873","Brit VetDiets Dog Hypoallergenic консерви д/соб з харч алергією 400г","Більше 100","Корм вологий ветеринарний для собак",151.01,196,{"$f":"'Brit VetDiets'!I$35","v":0},{"$f":"'Brit VetDiets'!J$35","v":0}]
[null,1111151935,"170952/528240","Brit VetDiets Dog Mobility для собак з захворюваннями суглобів, 12 кг","Менше 10","Корм сухий для собак",3883.17,5049,{"$f":"'Brit VetDiets'!I$36","v":0},{"$f":"'Brit VetDiets'!J$36","v":0}]
[null,1111151936,"170953/8257","Brit VetDiets Dog Mobility для собак з захворюваннями суглобів, 2 кг","Менше 10","Корм сухий для собак",733.96,955,{"$f":"'Brit VetDiets'!I$37","v":0},{"$f":"'Brit VetDiets'!J$37","v":0}]
[null,1111151937,"170940/8066","Brit VetDiets Dog Obesity для зниження зайвої ваги у собак, 12 кг","Немає в наявності","Корм сухий для собак",3415.23,4440,{"$f":"'Brit VetDiets'!I$38","v":0},{"$f":"'Brit VetDiets'!J$38","v":0}]
[null,1111151938,"170941/8073","Brit VetDiets Dog Obesity для зниження зайвої ваги у собак, 2 кг","Більше 10","Корм сухий для собак",656.58,854,{"$f":"'Brit VetDiets'!I$39","v":0},{"$f":"'Brit VetDiets'!J$39","v":0}]
[null,1111166671,"100283/6115","Brit VetDiets Dog Obesity консерви при надмірній вазі у собак, 400 г","Більше 10","Корм вологий ветеринарний для собак",151.01,196,{"$f":"'Brit VetDiets'!I$40","v":0},{"$f":"'Brit VetDiets'!J$40","v":0}]
[null,1111151939,"170948/528189","Brit VetDiets Dog Renal для собак з нирковою недостатністю, 12 кг","Менше 10","Корм сухий для собак",3168.06,4120,{"$f":"'Brit VetDiets'!I$41","v":0},{"$f":"'Brit VetDiets'!J$41","v":0}]
[null,1111151940,"170949/8196","Brit VetDiets Dog Renal для собак з нирковою недостатністю, 2 кг","Більше 10","Корм сухий для собак",616.97,802,{"$f":"'Brit VetDiets'!I$42","v":0},{"$f":"'Brit VetDiets'!J$42","v":0}]
[null,1111168648,100267,"Brit VetDiets Dog Renal консерви д/собак з нирк. недостатн. 400г","Більше 10","Корм вологий ветеринарний для собак",151.01,196,{"$f":"'Brit VetDiets'!I$43","v":0},{"$f":"'Brit VetDiets'!J$43","v":0}]
[null,1111166670,"100279/6078","Brit VetDiets Dog Struvite консерви при сечокам. хворобі собак, 400г","Більше 10","Корм вологий ветеринарний для собак",151.01,196,{"$f":"'Brit VetDiets'!I$44","v":0},{"$f":"'Brit VetDiets'!J$44","v":0}]
[null,1111151941,"170950/528219","Brit VetDiets Dog Struvite при сечокам. хворобі у собак, 12 кг","Менше 10","Корм сухий для собак",3190.68,4149,{"$f":"'Brit VetDiets'!I$45","v":0},{"$f":"'Brit VetDiets'!J$45","v":0}]
[null,1111151942,"170951/8226","Brit VetDiets Dog Struvite при сечокам. хворобі у собак, 2 кг","Більше 10","Корм сухий для собак",618.86,806,{"$f":"'Brit VetDiets'!I$46","v":0},{"$f":"'Brit VetDiets'!J$46","v":0}]
[null,1111168649,100291,"Brit VetDiets Dog/Cat Recovery д/відновленя після хвороби кіт/соб 400г","Більше 100","Корм вологий ветеринарний для собак",151.01,196,{"$f":"'Brit VetDiets'!I$47","v":0},{"$f":"'Brit VetDiets'!J$47","v":0}]
[null,1111180644,101115,"Паучі Brit GF VD Care Sterilised для котів з лососем 12x85г","Більше 10","Корм вологий ветеринарний для котів",559.20000000000005,699,{"$f":"'Brit VetDiets'!I$48","v":0},{"$f":"'Brit VetDiets'!J$48","v":0}]
[null,1111180645,101116,"Паучі Brit GF VD Recovery для котів з лососем 12x85г","Більше 100","Корм вологий ветеринарний для котів",559.21,699,{"$f":"'Brit VetDiets'!I$49","v":0},{"$f":"'Brit VetDiets'!J$49","v":0}]
[null,1111174817,112058,"Вітаміни Brit Vitamins Calm д/собак д/нервової системи 150 г","Більше 10","Вітаміни та мінерали",470.32,635,{"$f":"'Brit Vitamins'!I$8","v":0},{"$f":"'Brit Vitamins'!J$8","v":0}]
[null,1111174816,112057,"Вітаміни Brit Vitamins Mobility д/собак д/суглобів 150 г","Більше 10","Вітаміни та мінерали",548.85,741,{"$f":"'Brit Vitamins'!I$9","v":0},{"$f":"'Brit Vitamins'!J$9","v":0}]
[null,1111174820,112061,"Вітаміни Brit Vitamins Multivitamin д/собак д/здоров_я 150 г","Менше 10","Вітаміни та мінерали",470.32,635,{"$f":"'Brit Vitamins'!I$10","v":0},{"$f":"'Brit Vitamins'!J$10","v":0}]
[null,1111174821,112062,"Вітаміни Brit Vitamins Probiotic д/собак з пробіотиками 150 г","Менше 10","Вітаміни та мінерали",548.85,741,{"$f":"'Brit Vitamins'!I$11","v":0},{"$f":"'Brit Vitamins'!J$11","v":0}]
[null,1111174818,112059,"Вітаміни Brit Vitamins Puppy д/цуценят д/здорового розвитку 150 г","Більше 10","Вітаміни та мінерали",548.85,741,{"$f":"'Brit Vitamins'!I$12","v":0},{"$f":"'Brit Vitamins'!J$12","v":0}]
[null,1111174819,112060,"Вітаміни Brit Vitamins Skin and Coat д/собак д/шкіри і шерсті 150 г","Більше 10","Вітаміни та мінерали",470.32,635,{"$f":"'Brit Vitamins'!I$13","v":0},{"$f":"'Brit Vitamins'!J$13","v":0}]
[null,1111175242,"PR243224*****","Костюм  Din  S","Менше 10","Одяг",975.5,1316.93,{"$f":"'Buddy Boo'!I$8","v":0},{"$f":"'Buddy Boo'!J$8","v":0}]
[null,1111175244,"PR243222*****","Костюм  Din  XS","Більше 10","Одяг",870.34,1174.97,{"$f":"'Buddy Boo'!I$9","v":0},{"$f":"'Buddy Boo'!J$9","v":0}]
[null,1111175243,"PR243223*****","Костюм  Din  XS-2","Менше 10","Одяг",937.56,1265.7,{"$f":"'Buddy Boo'!I$10","v":0},{"$f":"'Buddy Boo'!J$10","v":0}]
[null,1111111961,"120314 AD","Caniletten вітамінний комплекс для дорослих собак, 1000г/500табл.","Менше 10","Вітаміни та мінерали",1280.94,1665,{"$f":"Canina!I$8","v":0},{"$f":"Canina!J$8","v":0}]
[null,1111111960,"120307 AD","Caniletten вітамінний комплекс для дорослих собак, 300г/150табл.","Немає в наявності","Вітаміни та мінерали",538.23,700,{"$f":"Canina!I$9","v":0},{"$f":"Canina!J$9","v":0}]
[null,1111111956,"101092 AD","Canina Biotin forte інтенсивний курс для шерсті собак, 100г/30табл.","Більше 10","Вітаміни та мінерали",596.20000000000005,775,{"$f":"Canina!I$10","v":0},{"$f":"Canina!J$10","v":0}]
[null,1111121976,"101122 AD","Canina Biotin forte інтенсивний курс для шерсті собак, 2000г/600табл.","Менше 10","Вітаміни та мінерали",7381.48,9596,{"$f":"Canina!I$11","v":0},{"$f":"Canina!J$11","v":0}]
[null,1111112701,"101115 AD","Canina Biotin forte інтенсивний курс для шерсті собак, 700г/210табл.","Менше 10","Вітаміни та мінерали",2749.81,3575,{"$f":"Canina!I$12","v":0},{"$f":"Canina!J$12","v":0}]
[null,1111116348,"130900 AD","Canina Dog Fell Gel гель для собак проблемами шерсті, 100 мл","Менше 10","Вітаміни та мінерали",650.61,846,{"$f":"Canina!I$13","v":0},{"$f":"Canina!J$13","v":0}]
[null,1111144112,"710003 AD","Canina Flexan вітаміни для собак, 150 г","Немає в наявності","Вітаміни та мінерали",621.04,807,{"$f":"Canina!I$14","v":0},{"$f":"Canina!J$14","v":0}]
[null,1111111963,"130016 Canina","Canina Hefe дріжджові таблетки з ензимами для собак, 800 г, 992 таб","Менше 10","Вітаміни та мінерали",1135.6099999999999,1476,{"$f":"Canina!I$15","v":0},{"$f":"Canina!J$15","v":0}]
[null,1111112705,"723324 AD","Canina PETVITAL GAG глюкозамін з екстрактом мідій для собак, 600 табл.","Менше 10","Вітаміни та мінерали",4879.08,6343,{"$f":"Canina!I$16","v":0},{"$f":"Canina!J$16","v":0}]
[null,1111111972,"110100 AD","Canina V25 полівітамінний комплекс для собак, 100г/30табл.","Немає в наявності","Вітаміни та мінерали",475.54,618,{"$f":"Canina!I$17","v":0},{"$f":"Canina!J$17","v":0}]
[null,1111111974,"110117 AD","Canina V25 полівітамінний комплекс для собак, 200г/60табл.","Немає в наявності","Вітаміни та мінерали",704.24,916,{"$f":"Canina!I$18","v":0},{"$f":"Canina!J$18","v":0}]
[null,1111140517,"701902 AD","Canina Velox Gelenkenergie порошок з глюкозаміногліканами д/соб. 150г","Менше 10","Вітаміни та мінерали",842.3,1095,{"$f":"Canina!I$19","v":0},{"$f":"Canina!J$19","v":0}]
[null,1111111975,"120741 AD","Canina Welpenkalk добавка для цуценят, 150г/150 табл.","Немає в наявності","Вітаміни та мінерали",498.18,648,{"$f":"Canina!I$20","v":0},{"$f":"Canina!J$20","v":0}]
[null,1111111983,"201525 AD","Canivita Cat-Fell O.K. біотин для котів з проблемами шерсті, 50 г","Немає в наявності","Вітаміни та мінерали",295.17,384,{"$f":"Canina!I$21","v":0},{"$f":"Canina!J$21","v":0}]
[null,1111112702,"110025 AD","Canivita вітамінний тонік зі швидким ефектом для котів та собак, 1 л","Менше 10","Вітаміни та мінерали",3469.53,4510,{"$f":"Canina!I$22","v":0},{"$f":"Canina!J$22","v":0}]
[null,1111111958,"110001 /101001 AD","Canivita вітамінний тонік зі швидким ефектом для котів та собак, 100мл","Немає в наявності","Вітаміни та мінерали",412.05,536,{"$f":"Canina!I$23","v":0},{"$f":"Canina!J$23","v":0}]
[null,1111111959,"110018 AD","Canivita вітамінний тонік зі швидким ефектом для котів та собак, 250мл","Менше 10","Вітаміни та мінерали",973.95,1266,{"$f":"Canina!I$24","v":0},{"$f":"Canina!J$24","v":0}]
[null,1111128014,"140183 AD","Dental Can 100 мл усунення запаху та здорова ротова порожнина","Менше 10","Засоби для догляду за зубами та ротовою порожниною",334.6,435,{"$f":"Canina!I$25","v":0},{"$f":"Canina!J$25","v":0}]
[null,1111116895,"230815 AD","Katzenmilch молоко для кошенят, 450 г","Менше 10","Корм сухий для котів",648.64,843,{"$f":"Canina!I$26","v":0},{"$f":"Canina!J$26","v":0}]
[null,1111112179,"140305 AD","Ohren-Balsam 100 мл бальзам для вух собак","Менше 10","Засоби для догляду за очима та вухами",374.03,486,{"$f":"Canina!I$27","v":0},{"$f":"Canina!J$27","v":0}]
[null,1111111990,"712304 AD","PETVITAL Darm-Gel 30 мл пробіотик від проблем з травленням","Менше 10","Лікувальні препарати та засоби (соматичні препарати)",571.19000000000005,743,{"$f":"Canina!I$28","v":0},{"$f":"Canina!J$28","v":0}]
[null,1111111978,"702206 AD","PETVITAL Derm-Liguid 25 мл тонік для проблемної шкіри та шерсті","Менше 10","Лікувальні препарати та засоби (соматичні препарати)",662.44,861,{"$f":"Canina!I$29","v":0},{"$f":"Canina!J$29","v":0}]
[null,1111111991,"702121 AD","PETVITAL Dеrm-Caps 40г/100табл. для проблемної шкіри та шерсті","Менше 10","Лікувальні препарати та засоби (соматичні препарати)",567.80999999999995,738,{"$f":"Canina!I$30","v":0},{"$f":"Canina!J$30","v":0}]
[null,1111121625,"130702 AD","Welpenmilch сухе молоко для собак, 150 г","Менше 10","Корм сухий для собак",413.46,538,{"$f":"Canina!I$31","v":0},{"$f":"Canina!J$31","v":0}]
[null,1111145090,"140503 AD","Winter Pfotenbalsam 100 мл бальзам для лап в зимовий період","Більше 10","Засоби для догляду за лапами",512.6,666,{"$f":"Canina!I$32","v":0},{"$f":"Canina!J$32","v":0}]
[null,1111111955,"140008 AD","Лосьйон для догляду за очима 100 мл","Менше 10","Засоби для догляду за очима та вухами",390.37,507,{"$f":"Canina!I$33","v":0},{"$f":"Canina!J$33","v":0}]
[null,1111145076,"150825/8877","Carnilove Adult Duck and Pheasant качка/фазан д/доросл. соб. 1,5 кг","Більше 10","Корм сухий для собак",475.36,773,{"$f":"Carnilove!I$8","v":0},{"$f":"Carnilove!J$8","v":0}]
[null,1111145077,"150818/8860","Carnilove Adult Duck and Pheasant качка/фазан д/доросл. соб. 12 кг","Менше 10","Корм сухий для собак",3075.38,4770,{"$f":"Carnilove!I$9","v":0},{"$f":"Carnilove!J$9","v":0}]
[null,1111145078,"150824/8983","Carnilove Adult Lamb and Wild Boar ягня/дикий кабан д/дор соб. 1,5 кг","Більше 10","Корм сухий для собак",474.82,773,{"$f":"Carnilove!I$10","v":0},{"$f":"Carnilove!J$10","v":0}]
[null,1111145079,"150817/8921","Carnilove Adult Lamb and Wild Boar ягня/дикий кабан д/дор соб. 12 кг","Більше 10","Корм сухий для собак",3242.84,5031,{"$f":"Carnilove!I$11","v":0},{"$f":"Carnilove!J$11","v":0}]
[null,1111145082,"150828/8952","Carnilove Adult Large Breed Salmon and Turkey д/соб велик. порід 1,5кг","Менше 10","Корм сухий для собак",475.65,773,{"$f":"Carnilove!I$12","v":0},{"$f":"Carnilove!J$12","v":0}]
[null,1111145083,"150821/8945","Carnilove Adult Large Breed Salmon and Turkey д/соб велик. порід 12кг","Немає в наявності","Корм сухий для собак",3075.74,4770,{"$f":"Carnilove!I$13","v":0},{"$f":"Carnilove!J$13","v":0}]
[null,1111145080,"150827/8891","Carnilove Adult Raindeer з оленем д/дорослих собак, 1,5 кг","Менше 10","Корм сухий для собак",588.9,981,{"$f":"Carnilove!I$14","v":0},{"$f":"Carnilove!J$14","v":0}]
[null,1111145081,"150820/8884","Carnilove Adult Raindeer з оленем д/дорослих собак, 12 кг","Менше 10","Корм сухий для собак",3778.86,5864,{"$f":"Carnilove!I$15","v":0},{"$f":"Carnilove!J$15","v":0}]
[null,1111145088,"150826/8914","Carnilove Adult Salmon з лососем для дорослих собак, 1,5 кг","Більше 10","Корм сухий для собак",475.29,773,{"$f":"Carnilove!I$16","v":0},{"$f":"Carnilove!J$16","v":0}]
[null,1111145089,"150819/8907","Carnilove Adult Salmon з лососем для дорослих собак, 12 кг","Менше 10","Корм сухий для собак",3240.6,5031,{"$f":"Carnilove!I$17","v":0},{"$f":"Carnilove!J$17","v":0}]
[null,1111153877,"100411/7199","Carnilove Cat Crunchy ласощі качка, малина д/котів, 50 г","Немає в наявності","Ласощі для котів",72.459999999999994,114,{"$f":"Carnilove!I$18","v":0},{"$f":"Carnilove!J$18","v":0}]
[null,1111153876,"100410/ 527175","Carnilove Cat Crunchy ласощі лосось, м_ята д/котів, 50 г","Більше 100","Ласощі для котів",72.459999999999994,114,{"$f":"Carnilove!I$19","v":0},{"$f":"Carnilove!J$19","v":0}]
[null,1111145066,"170200/2256","Carnilove Cat Energy and Outdoor для активних котів, 2 кг","Більше 10","Корм сухий для котів",696.5,1080,{"$f":"Carnilove!I$20","v":0},{"$f":"Carnilove!J$20","v":0}]
[null,1111145067,"170194/2263","Carnilove Cat Energy and Outdoor для активних котів, 400г","Більше 10","Корм сухий для котів",212.59,331,{"$f":"Carnilove!I$21","v":0},{"$f":"Carnilove!J$21","v":0}]
[null,1111145057,"170197/2348","Carnilove Cat Hairball Controll д/вивед. шерсті зі шлунку котів, 2 кг","Більше 10","Корм сухий для котів",665.58,1031,{"$f":"Carnilove!I$22","v":0},{"$f":"Carnilove!J$22","v":0}]
[null,1111145058,"170191/2355","Carnilove Cat Hairball Controll д/вивед. шерсті зі шлунку котів, 400г","Більше 10","Корм сухий для котів",212.25,348,{"$f":"Carnilove!I$23","v":0},{"$f":"Carnilove!J$23","v":0}]
[null,1111145059,"170203/2331","Carnilove Cat Hairball Controll д/вивед. шерсті зі шлунку котів, 6 кг","Менше 10","Корм сухий для котів",1833.44,2842,{"$f":"Carnilove!I$24","v":0},{"$f":"Carnilove!J$24","v":0}]
[null,1111154395,"100560/111282/8974","Carnilove Cat k 100g курка, качка, фазан д/ котів","Більше 100","Корм вологий для котів",80.849999999999994,109,{"$f":"Carnilove!I$25","v":0},{"$f":"Carnilove!J$25","v":0}]
[null,1111154397,"100558/111281/8936","Carnilove Cat k 100g курка, ягня д/ котів","Більше 10","Корм вологий для котів",80.849999999999994,109,{"$f":"Carnilove!I$26","v":0},{"$f":"Carnilove!J$26","v":0}]
[null,1111145069,"170196/2225","Carnilove Cat Kitten для кошенят, 2 кг","Більше 10","Корм сухий для котів",665.58,1031,{"$f":"Carnilove!I$27","v":0},{"$f":"Carnilove!J$27","v":0}]
[null,1111145070,"170190/2232","Carnilove Cat Kitten для кошенят, 400г","Більше 10","Корм сухий для котів",212.77,348,{"$f":"Carnilove!I$28","v":0},{"$f":"Carnilove!J$28","v":0}]
[null,1111145071,"170202/2218","Carnilove Cat Kitten для кошенят, 6 кг","Менше 10","Корм сухий для котів",1833.44,2842,{"$f":"Carnilove!I$29","v":0},{"$f":"Carnilove!J$29","v":0}]
[null,1111145060,"170201/2768","Carnilove Cat Large Breed для котів великих порід, 2 кг","Більше 10","Корм сухий для котів",665.58,1031,{"$f":"Carnilove!I$30","v":0},{"$f":"Carnilove!J$30","v":0}]
[null,1111145061,"170195/2775","Carnilove Cat Large Breed для котів великих порід, 400 г","Більше 10","Корм сухий для котів",212.25,348,{"$f":"Carnilove!I$31","v":0},{"$f":"Carnilove!J$31","v":0}]
[null,1111145062,"170207/2751","Carnilove Cat Large Breed для котів великих порід, 6 кг","Менше 10","Корм сухий для котів",1833.44,2842,{"$f":"Carnilove!I$32","v":0},{"$f":"Carnilove!J$32","v":0}]
[null,1111145072,"170198/2287","Carnilove Cat Sensitive and Long Hair д/котів з чутливим травлен. 2 кг","Більше 10","Корм сухий для котів",696.5,1080,{"$f":"Carnilove!I$33","v":0},{"$f":"Carnilove!J$33","v":0}]
[null,1111145073,"170192/2294","Carnilove Cat Sensitive and Long Hair д/котів з чутливим травлен. 400г","Більше 10","Корм сухий для котів",212.59,331,{"$f":"Carnilove!I$34","v":0},{"$f":"Carnilove!J$34","v":0}]
[null,1111145074,"170204/2270","Carnilove Cat Sensitive and Long Hair д/котів з чутливим травлен. 6 кг","Менше 10","Корм сухий для котів",1975.42,3063,{"$f":"Carnilove!I$35","v":0},{"$f":"Carnilove!J$35","v":0}]
[null,1111153874,"111376/7212","Carnilove Cat Snack ласощі курка, чебрець, д/котів, 50 г","Більше 100","Ласощі для котів",72.459999999999994,114,{"$f":"Carnilove!I$36","v":0},{"$f":"Carnilove!J$36","v":0}]
[null,1111153875,"111377/7236","Carnilove Cat Snack ласощі сардина, петрушка д/котів, 50 г","Більше 100","Ласощі для котів",72.459999999999994,114,{"$f":"Carnilove!I$37","v":0},{"$f":"Carnilove!J$37","v":0}]
[null,1111145063,"170199/2317","Carnilove Cat Sterilised для стерилізованих котів, 2 кг","Більше 10","Корм сухий для котів",665.58,1031,{"$f":"Carnilove!I$38","v":0},{"$f":"Carnilove!J$38","v":0}]
[null,1111145064,"170193/2324","Carnilove Cat Sterilised для стерилізованих котів, 400г","Більше 10","Корм сухий для котів",212.25,348,{"$f":"Carnilove!I$39","v":0},{"$f":"Carnilove!J$39","v":0}]
[null,1111145065,"170205/2300","Carnilove Cat Sterilised для стерилізованих котів, 6 кг","Більше 10","Корм сухий для котів",1833.44,2842,{"$f":"Carnilove!I$40","v":0},{"$f":"Carnilove!J$40","v":0}]
[null,1111154394,"100562/111284/9018","Carnilove Cat консерви індик, північний олень для котів, 100 г","Більше 10","Корм вологий для котів",80.849999999999994,109,{"$f":"Carnilove!I$41","v":0},{"$f":"Carnilove!J$41","v":0}]
[null,1111154396,"100561/111283/8998","Carnilove Cat консерви індичка, лосось д/ дорослих котів, 100 г","Більше 100","Корм вологий для котів",80.849999999999994,109,{"$f":"Carnilove!I$42","v":0},{"$f":"Carnilove!J$42","v":0}]
[null,1111178701,100385,"Carnilove cat пауч з качкою і котячою м_ятою 85г","Більше 100","Корм вологий для котів",48.48,65,{"$f":"Carnilove!I$43","v":0},{"$f":"Carnilove!J$43","v":0}]
[null,1111178705,100479,"Carnilove cat пауч з кроликом і календулою для кошенят 85г","Більше 100","Корм вологий для котів",48.48,65,{"$f":"Carnilove!I$44","v":0},{"$f":"Carnilove!J$44","v":0}]
[null,1111178700,100384,"Carnilove cat пауч з перепілкою і кульбабою д/стерилізованих котів 85г","Більше 100","Корм вологий для котів",48.48,65,{"$f":"Carnilove!I$45","v":0},{"$f":"Carnilove!J$45","v":0}]
[null,1111178702,100386,"Carnilove cat пауч з фазаном і листям малини 85г","Більше 100","Корм вологий для котів",48.48,65,{"$f":"Carnilove!I$46","v":0},{"$f":"Carnilove!J$46","v":0}]
[null,1111153869,"100407/7298","Carnilove Dog Crunchy Snack ласощі дикий кабан, шипшина для собак 200г","Більше 10","Ласощі для собак",131.47,199,{"$f":"Carnilove!I$47","v":0},{"$f":"Carnilove!J$47","v":0}]
[null,1111153867,"100408/8851","Carnilove Dog Crunchy Snack ласощі лосось, чорниця для собак, 200 г","Більше 10","Ласощі для собак",131.47,199,{"$f":"Carnilove!I$48","v":0},{"$f":"Carnilove!J$48","v":0}]
[null,1111153870,"100406/7274","Carnilove Dog Crunchy Snack ласощі м ясо страуса, ожина для собак 200г","Більше 100","Ласощі для собак",131.47,199,{"$f":"Carnilove!I$49","v":0},{"$f":"Carnilove!J$49","v":0}]
[null,1111153868,"100409/8875","Carnilove Dog Crunchy Snack ласощі скумбрія, малина для собак, 200 г","Більше 10","Ласощі для собак",131.47,199,{"$f":"Carnilove!I$50","v":0},{"$f":"Carnilove!J$50","v":0}]
[null,1111153871,"100405/7250","Carnilove Dog Crunchy Snack ласощі ягня, журавлина для собак, 200 г","Більше 100","Ласощі для собак",131.47,199,{"$f":"Carnilove!I$51","v":0},{"$f":"Carnilove!J$51","v":0}]
[null,1111154400,"111373/7311","Carnilove Dog Semi Moist ласощі качка, розмарин для собак, 200 г","Більше 100","Ласощі для собак",126.6,205,{"$f":"Carnilove!I$52","v":0},{"$f":"Carnilove!J$52","v":0}]
[null,1111154401,"111374/7335","Carnilove Dog Semi Moist ласощі короп, чебрець для собак, 200 г","Більше 10","Ласощі для собак",126.6,205,{"$f":"Carnilove!I$53","v":0},{"$f":"Carnilove!J$53","v":0}]
[null,1111154402,"111375/7359","Carnilove Dog Semi Moist ласощі перепілка, орегано для собак, 200 г","Більше 100","Ласощі для собак",126.6,205,{"$f":"Carnilove!I$54","v":0},{"$f":"Carnilove!J$54","v":0}]
[null,1111154398,"111371/8899","Carnilove Dog Semi Moist ласощі сардина, часник для собак, 200 г","Більше 10","Ласощі для собак",126.6,205,{"$f":"Carnilove!I$55","v":0},{"$f":"Carnilove!J$55","v":0}]
[null,1111154399,"111372/8912","Carnilove Dog Semi Moist ласощі форель, кріп для собак, 200 г","Більше 100","Ласощі для собак",126.6,205,{"$f":"Carnilove!I$56","v":0},{"$f":"Carnilove!J$56","v":0}]
[null,1111150029,"100134/529230","Carnilove Dog консерви з качкою та фазаном для собак, 400 г","Більше 100","Корм вологий для собак",146.72999999999999,198,{"$f":"Carnilove!I$57","v":0},{"$f":"Carnilove!J$57","v":0}]
[null,1111148556,"100132/529278","Carnilove Dog консерви з лососем та індичкою для собак, 400 г","Більше 100","Корм вологий для собак",146.72999999999999,198,{"$f":"Carnilove!I$58","v":0},{"$f":"Carnilove!J$58","v":0}]
[null,1111150032,"100133/529292","Carnilove Dog консерви з олениною для собак, 400 г","Більше 100","Корм вологий для собак",146.72999999999999,198,{"$f":"Carnilove!I$59","v":0},{"$f":"Carnilove!J$59","v":0}]
[null,1111150030,"100131/529315","Carnilove Dog консерви з ягням та диким кабаном для собак, 400 г","Більше 100","Корм вологий для собак",146.72999999999999,198,{"$f":"Carnilove!I$60","v":0},{"$f":"Carnilove!J$60","v":0}]
[null,1111153670,"170877/7441","Carnilove Fresh Carp and Trout Sterilised короп д/стерил. котів 2 кг","Немає в наявності","Корм сухий для котів",785.84,1265,{"$f":"Carnilove!I$61","v":0},{"$f":"Carnilove!J$61","v":0}]
[null,1111153669,"170876/7427","Carnilove Fresh Carp and Trout Sterilised короп д/стерил. котів 400 г","Більше 10","Корм сухий для котів",227.47,368,{"$f":"Carnilove!I$62","v":0},{"$f":"Carnilove!J$62","v":0}]
[null,1111153665,"170871/7533","Carnilove Fresh Carp and Trout з коропом та фореллю для собак, 1.5 кг","Більше 10","Корм сухий для собак",609.92999999999995,933,{"$f":"Carnilove!I$63","v":0},{"$f":"Carnilove!J$63","v":0}]
[null,1111153666,"170872/7557","Carnilove Fresh Carp and Trout з коропом та фореллю для собак, 12 кг","Менше 10","Корм сухий для собак",3826.23,5855,{"$f":"Carnilove!I$64","v":0},{"$f":"Carnilove!J$64","v":0}]
[null,1111153668,"170874/7397","Carnilove Fresh Chicken and Rabbit з куркою та кроликом д/котів, 2 кг","Менше 10","Корм сухий для котів",786.48,1205,{"$f":"Carnilove!I$65","v":0},{"$f":"Carnilove!J$65","v":0}]
[null,1111153667,"170873/7373","Carnilove Fresh Chicken and Rabbit з куркою та кроликом д/котів, 400 г","Більше 10","Корм сухий для котів",227.56,348,{"$f":"Carnilove!I$66","v":0},{"$f":"Carnilove!J$66","v":0}]
[null,1111153661,"170867/7502","Carnilove Fresh Chicken and Rabbit курка з кроликом для собак, 1,5 кг","Більше 10","Корм сухий для собак",610.32000000000005,981,{"$f":"Carnilove!I$67","v":0},{"$f":"Carnilove!J$67","v":0}]
[null,1111153662,"170868/7526","Carnilove Fresh Chicken and Rabbit курка з кроликом для собак, 12 кг","Менше 10","Корм сухий для собак",3827.74,5864,{"$f":"Carnilove!I$68","v":0},{"$f":"Carnilove!J$68","v":0}]
[null,1111153664,"170870/7496","Carnilove Fresh Ostrich and Lamb страус з ягням д/соб. мал. порід 6кг","Більше 10","Корм сухий для собак",2151.46,3294,{"$f":"Carnilove!I$69","v":0},{"$f":"Carnilove!J$69","v":0}]
[null,1111153663,"170869/7472","Carnilove Fresh Ostrich and Lamb страус/ягням д/соб. мал. порід 1,5кг","Більше 10","Корм сухий для собак",620.77,950,{"$f":"Carnilove!I$70","v":0},{"$f":"Carnilove!J$70","v":0}]
[null,1111152301,"170878/7465","Carnilove Fresh з коропом та фореллю для стерилізованих котів, 6 кг","Більше 10","Корм сухий для котів",2112.9899999999998,3233,{"$f":"Carnilove!I$71","v":0},{"$f":"Carnilove!J$71","v":0}]
[null,1111152299,"170875/7410","Carnilove Fresh з куркою та кроликом для котів, 6 кг","Менше 10","Корм сухий для котів",2112.61,3233,{"$f":"Carnilove!I$72","v":0},{"$f":"Carnilove!J$72","v":0}]
[null,1111153873,"100559/111280/8950","Carnilove Kitten консерви індичка, лосось для кошенят, 100 г","Більше 100","Корм вологий для котів",80.849999999999994,109,{"$f":"Carnilove!I$73","v":0},{"$f":"Carnilove!J$73","v":0}]
[null,1111145084,"150823/8853","Carnilove Puppy Large Breed Salmon and Turkey д/цуцен вел. порід 1,5кг","Більше 10","Корм сухий для собак",466.03,759,{"$f":"Carnilove!I$74","v":0},{"$f":"Carnilove!J$74","v":0}]
[null,1111145085,"150816/8846","Carnilove Puppy Large Breed Salmon and Turkey д/цуцен вел. порід 12 кг","Менше 10","Корм сухий для собак",3181.23,4937,{"$f":"Carnilove!I$75","v":0},{"$f":"Carnilove!J$75","v":0}]
[null,1111145086,"150822/8839","Carnilove Puppy Salmon and Turkey для цуценят, 1,5 кг","Більше 100","Корм сухий для собак",466.29,725,{"$f":"Carnilove!I$76","v":0},{"$f":"Carnilove!J$76","v":0}]
[null,1111145087,"150815/8822","Carnilove Puppy Salmon and Turkey для цуценят, 12 кг","Менше 10","Корм сухий для собак",3182.5,4937,{"$f":"Carnilove!I$77","v":0},{"$f":"Carnilove!J$77","v":0}]
[null,1111150031,"100130/529254","Carnilove Puppy консерви з лососем та індичкою для цуценят, 400 г","Більше 100","Корм вологий для собак",146.72999999999999,198,{"$f":"Carnilove!I$78","v":0},{"$f":"Carnilove!J$78","v":0}]
[null,1111117839,"JRS300086/0861","Наповнювач Cats Best EKO PLUS 5 л/2,1 кг","Більше 10","Наповнювачі деревні",294.42,397,{"$f":"'Cats Best'!I$8","v":0},{"$f":"'Cats Best'!J$8","v":0}]
[null,1111150983,"JRS319116/1163","Наповнювач Cats Best ORIGINAL (ЕКО ПЛЮС) 12л/5,2 кг","Більше 10","Наповнювачі деревні",606.38,819,{"$f":"'Cats Best'!I$9","v":0},{"$f":"'Cats Best'!J$9","v":0}]
[null,1111149475,"JRS300088/0885","Наповнювач Cats Best SMART Pellets 10л/5кг","Більше 10","Наповнювачі деревні",720.38,972,{"$f":"'Cats Best'!I$10","v":0},{"$f":"'Cats Best'!J$10","v":0}]
[null,1111149476,"JRS321742/7429","Наповнювач Cats Best SMART Pellets 20л/10кг","Більше 10","Наповнювачі деревні",1365.6,1844,{"$f":"'Cats Best'!I$11","v":0},{"$f":"'Cats Best'!J$11","v":0}]
[null,1111149474,"JRS320213/2135","Наповнювач Cats Best SMART Pellets 5л/2,5кг","Більше 10","Наповнювачі деревні",375.85,508,{"$f":"'Cats Best'!I$12","v":0},{"$f":"'Cats Best'!J$12","v":0}]
[null,12548,"JRS300046/0465","Наповнювач Cats Best Universal 10 л","Менше 10","Наповнювачі деревні",350.79,473,{"$f":"'Cats Best'!I$13","v":0},{"$f":"'Cats Best'!J$13","v":0}]
[null,1111117838,"JRS300084/0847","Наповнювач Cats Best Universal 20 л","Менше 10","Наповнювачі деревні",551.25,744,{"$f":"'Cats Best'!I$14","v":0},{"$f":"'Cats Best'!J$14","v":0}]
[null,12547,"JRS300047/0472","Наповнювач Cats Best Universal 40 л","Менше 10","Наповнювачі деревні",1033.5899999999999,1395,{"$f":"'Cats Best'!I$15","v":0},{"$f":"'Cats Best'!J$15","v":0}]
[null,1111111114,"JRS300062/0625","Наповнювач Cats Best Universal 7 л","Більше 10","Наповнювачі деревні",281.89,380,{"$f":"'Cats Best'!I$16","v":0},{"$f":"'Cats Best'!J$16","v":0}]
[null,12546,"JRS300070/0700","Наповнювач Chipsi classic 60л/3,2кг","Більше 10","Тирса",225.51,305,{"$f":"Chipsi!I$8","v":0},{"$f":"Chipsi!J$8","v":0}]
[null,12551,"10л/0427","Наповнювач Chipsi mais 10 л","Більше 10","Наповнювачі на рослинній основі (в т.ч. паперові)",388.38,524,{"$f":"Chipsi!I$9","v":0},{"$f":"Chipsi!J$9","v":0}]
[null,1111173939,"JRS3318898","Наповнювач CHIPSI для гризунів Зелене яблуко тирса 15л/1кг","Більше 10","Тирса",96.47,131,{"$f":"Chipsi!I$10","v":0},{"$f":"Chipsi!J$10","v":0}]
[null,1111173937,"JRS3318874","Наповнювач CHIPSI для гризунів Класік тирса 15л/1кг","Більше 10","Тирса",90.2,122,{"$f":"Chipsi!I$11","v":0},{"$f":"Chipsi!J$11","v":0}]
[null,1111173938,"JRS3318881","Наповнювач CHIPSI для гризунів Цитрус тирса 15л/1кг","Менше 10","Тирса",96.47,131,{"$f":"Chipsi!I$12","v":0},{"$f":"Chipsi!J$12","v":0}]
[null,1111114658,"JRS300082/0823","Наповнювач Chipsi+зелене яблуко 60л/3,2кг","Більше 10","Тирса",206.72,279,{"$f":"Chipsi!I$13","v":0},{"$f":"Chipsi!J$13","v":0}]
[null,1111147756,"A620***** СПЕЦЦЕНА","Гребінець іонізуючий (щетина мідь/нейлон) 21,59 см","Менше 10","Професійні аксесуари для грумінгу",417.26,0,{"$f":"'Chris Christensen'!I$8","v":0},{"$f":"'Chris Christensen'!J$8","v":0}]
[null,1111158680,"850604/А923","Гребінь 16 BS овальний медіум,A923","Менше 10","Професійні аксесуари для грумінгу",1666.8,2167,{"$f":"'Chris Christensen'!I$9","v":0},{"$f":"'Chris Christensen'!J$9","v":0}]
[null,1111180930,849086,"Засіб Chris Christensen для собак та котів Smartwash50 гіпоалергенний","Менше 10","Професійна косметика для грумінгу",3603,4684,{"$f":"'Chris Christensen'!I$10","v":0},{"$f":"'Chris Christensen'!J$10","v":0}]
[null,1111132713,"841050/79","Кондиціонер CCS After Bath 3,8 л","Менше 10","Професійна косметика для грумінгу",3263.91,4243,{"$f":"'Chris Christensen'!I$11","v":0},{"$f":"'Chris Christensen'!J$11","v":0}]
[null,1111181008,841499,"Кондиціонер Chris Christensen для для собак та котів Smartrinse 3,8л","Менше 10","Професійна косметика для грумінгу",4156.28,5403,{"$f":"'Chris Christensen'!I$12","v":0},{"$f":"'Chris Christensen'!J$12","v":0}]
[null,1111180918,849094,"Кондиціонер Chris Christensen для собак та котів Miracle Moisture 3.8л","Менше 10","Професійна косметика для грумінгу",5023.3500000000004,6530,{"$f":"'Chris Christensen'!I$13","v":0},{"$f":"'Chris Christensen'!J$13","v":0}]
[null,1111180917,849092,"Кондиціонер Chris Christensen для собак та котів Miracle Repair 3.8л","Менше 10","Професійна косметика для грумінгу",4940.24,6422,{"$f":"'Chris Christensen'!I$14","v":0},{"$f":"'Chris Christensen'!J$14","v":0}]
[null,1111132725,"841047/061","Кондиціонер Day to Day 3,8 л","Більше 10","Професійна косметика для грумінгу",2790.39,3628,{"$f":"'Chris Christensen'!I$15","v":0},{"$f":"'Chris Christensen'!J$15","v":0}]
[null,1111124937,"841046/060","Кондиціонер Day to Day 473 мл","Немає в наявності","Професійна косметика для грумінгу",997.81,1297,{"$f":"'Chris Christensen'!I$16","v":0},{"$f":"'Chris Christensen'!J$16","v":0}]
[null,1111126641,"048 /05-243-1","Лосьйон для вух Mystic Ear 236 мл","Менше 10","Професійна косметика для грумінгу",1145.73,1489,{"$f":"'Chris Christensen'!I$17","v":0},{"$f":"'Chris Christensen'!J$17","v":0}]
[null,1111132749,"845024/049/ Скл.048","Лосьйон для вух Mystic Ear 3,8 л","Менше 10","Професійна косметика для грумінгу",4027.48,5236,{"$f":"'Chris Christensen'!I$18","v":0},{"$f":"'Chris Christensen'!J$18","v":0}]
[null,1111132734,"844806/089","Маска протеїнова відновлююча Spectrum Ten 473 мл","Менше 10","Професійна косметика для грумінгу",1442.49,1875,{"$f":"'Chris Christensen'!I$19","v":0},{"$f":"'Chris Christensen'!J$19","v":0}]
[null,1111180922,860635,"Ножиці для грумінгу  Chris Christensen Adalynn Rose 7 Chunky Blender","Немає в наявності","Аксесуари для грумінгу",15900,20670,{"$f":"'Chris Christensen'!I$20","v":0},{"$f":"'Chris Christensen'!J$20","v":0}]
[null,1111180923,860636,"Ножиці для грумінгу  Chris Christensen Classic 7 округлі","Менше 10","Аксесуари для грумінгу",7096.93,9226,{"$f":"'Chris Christensen'!I$21","v":0},{"$f":"'Chris Christensen'!J$21","v":0}]
[null,1111180924,860637,"Ножиці для грумінгу  Chris Christensen Classic 8","Немає в наявності","Аксесуари для грумінгу",7096.93,9226,{"$f":"'Chris Christensen'!I$22","v":0},{"$f":"'Chris Christensen'!J$22","v":0}]
[null,1111126648,"844801/054 /03-202","Очищуючий засіб для шерсті Show Off 473 мл","Менше 10","Професійна косметика для грумінгу",1026,1334,{"$f":"'Chris Christensen'!I$23","v":0},{"$f":"'Chris Christensen'!J$23","v":0}]
[null,1111180915,849062,"Парфуми Chris Christensen д/соб та кот Smart Scents Jungle Apple 473мл","Менше 10","Парфумерія",1179,1533,{"$f":"'Chris Christensen'!I$24","v":0},{"$f":"'Chris Christensen'!J$24","v":0}]
[null,1111180914,849061,"Парфуми Chris Christensen д/соб/кот Smart Scents Cherry and Oats 473мл","Менше 10","Парфумерія",1179,1533,{"$f":"'Chris Christensen'!I$25","v":0},{"$f":"'Chris Christensen'!J$25","v":0}]
[null,1111180912,849059,"Парфуми Chris Christensen д/соб/кот Smart Scents Papaya Starfruit473мл","Менше 10","Парфумерія",1179,1533,{"$f":"'Chris Christensen'!I$26","v":0},{"$f":"'Chris Christensen'!J$26","v":0}]
[null,1111180913,849060,"Парфуми Chris Christensen д/соб/кот Smart Scents Tropical Breeze 473мл","Менше 10","Парфумерія",1179,1533,{"$f":"'Chris Christensen'!I$27","v":0},{"$f":"'Chris Christensen'!J$27","v":0}]
[null,1111147774,"849048/103","Пляшка для змішування 473 мл","Немає в наявності","Професійні аксесуари для грумінгу",167.43,218,{"$f":"'Chris Christensen'!I$28","v":0},{"$f":"'Chris Christensen'!J$28","v":0}]
[null,1111147690,"849074/PUMPGAL","Помпа для галонів CCS","Менше 10","Обладнання для грумінг-салонів",338.08,440,{"$f":"'Chris Christensen'!I$29","v":0},{"$f":"'Chris Christensen'!J$29","v":0}]
[null,1111181007,850592,"Пуходерка  Chris Christensen для собак велика коралова","Немає в наявності","Професійні аксесуари для грумінгу",5776.93,7510,{"$f":"'Chris Christensen'!I$30","v":0},{"$f":"'Chris Christensen'!J$30","v":0}]
[null,1111132731,"841058/64","рідк. шовк Silk Spirits 236 мл","Менше 10","Професійна косметика для грумінгу",1377.69,1791,{"$f":"'Chris Christensen'!I$31","v":0},{"$f":"'Chris Christensen'!J$31","v":0}]
[null,1111147775,"827042/SP03","Розпилювач CCS 300 мл","Менше 10","Професійні аксесуари для грумінгу",539.39,701,{"$f":"'Chris Christensen'!I$32","v":0},{"$f":"'Chris Christensen'!J$32","v":0}]
[null,1111137616,"844244/122 /скл 004","Спрей Precious Drop кератин терапія д/довгошерст 473 мл","Немає в наявності","Професійна косметика для грумінгу",912.29,1186,{"$f":"'Chris Christensen'!I$33","v":0},{"$f":"'Chris Christensen'!J$33","v":0}]
[null,1111126635,"841055/051 /03-181","Спрей для розчісування Ice on Ice 473 мл","Менше 10","Професійна косметика для грумінгу",1100.45,1431,{"$f":"'Chris Christensen'!I$34","v":0},{"$f":"'Chris Christensen'!J$34","v":0}]
[null,1111139176,"844240/125/1019","Спрей для розчісування Just Divine 473 мл","Менше 10","Професійна косметика для грумінгу",1100.45,1431,{"$f":"'Chris Christensen'!I$35","v":0},{"$f":"'Chris Christensen'!J$35","v":0}]
[null,1111149688,"849067/284_ord","Туалетна вода Brooklynn s Sweet and Sassy 473 мл","Менше 10","Парфумерія",1099.04,1429,{"$f":"'Chris Christensen'!I$36","v":0},{"$f":"'Chris Christensen'!J$36","v":0}]
[null,1111132721,38,"Шампунь CCS Black on Black 1,9 л","Менше 10","Професійна косметика для грумінгу",2691,3498,{"$f":"'Chris Christensen'!I$37","v":0},{"$f":"'Chris Christensen'!J$37","v":0}]
[null,1111129338,"841040/035-1 /Скл. 046","Шампунь CCS White on White 3,8 л","Менше 10","Професійна косметика для грумінгу",4657.5,6055,{"$f":"'Chris Christensen'!I$38","v":0},{"$f":"'Chris Christensen'!J$38","v":0}]
[null,1111180927,841558,"Шампунь Chris Christensen д/соб та кот Whitening and Brightening 3.8л","Менше 10","Професійна косметика для грумінгу",3758,4885,{"$f":"'Chris Christensen'!I$39","v":0},{"$f":"'Chris Christensen'!J$39","v":0}]
[null,1111180929,849069,"Шампунь Chris Christensen для собак та котів Miracle Moisture 3.8л","Менше 10","Професійна косметика для грумінгу",4544.9399999999996,5908,{"$f":"'Chris Christensen'!I$40","v":0},{"$f":"'Chris Christensen'!J$40","v":0}]
[null,1111180931,849090,"Шампунь Chris Christensen для собак та котів Miracle Repair 3.8л","Менше 10","Професійна косметика для грумінгу",4528.91,5888,{"$f":"'Chris Christensen'!I$41","v":0},{"$f":"'Chris Christensen'!J$41","v":0}]
[null,1111180926,841497,"Шампунь Chris Christensen для собак та котів Smartwash50 De-Shed 3.8л","Менше 10","Професійна косметика для грумінгу",4234.09,5504,{"$f":"'Chris Christensen'!I$42","v":0},{"$f":"'Chris Christensen'!J$42","v":0}]
[null,1111180928,844878,"Шампунь Chris Christensenдля для собак та котів  Ice on Ice 3,8л","Менше 10","Професійна косметика для грумінгу",3996.43,5195,{"$f":"'Chris Christensen'!I$43","v":0},{"$f":"'Chris Christensen'!J$43","v":0}]
[null,1111132714,"841031/032","Шампунь Clean Start суперочищуючий 3,8 л","Менше 10","Професійна косметика для грумінгу",2834.93,3685,{"$f":"'Chris Christensen'!I$44","v":0},{"$f":"'Chris Christensen'!J$44","v":0}]
[null,1111132715,"841033/058","Шампунь Day to Day зволожуючий 3,8 л","Більше 10","Професійна косметика для грумінгу",2790.39,3628,{"$f":"'Chris Christensen'!I$45","v":0},{"$f":"'Chris Christensen'!J$45","v":0}]
[null,1111140114,"841091/165 /1016","Шампунь Peace and Kindness 473 мл","Менше 10","Професійна косметика для грумінгу",1596.5,2075,{"$f":"'Chris Christensen'!I$46","v":0},{"$f":"'Chris Christensen'!J$46","v":0}]
[null,1111139163,"841406/223 /1029","Шампунь Smartwash Tropical Breeze 3,8 л","Немає в наявності","Професійна косметика для грумінгу",3235.2,4206,{"$f":"'Chris Christensen'!I$47","v":0},{"$f":"'Chris Christensen'!J$47","v":0}]
[null,1111139157,"841410/227 /1033","Шампунь Smartwash вишня з вівсянкою 3,8 л","Менше 10","Професійна косметика для грумінгу",3235.2,4206,{"$f":"'Chris Christensen'!I$48","v":0},{"$f":"'Chris Christensen'!J$48","v":0}]
[null,1111139159,"841414/231 /1037","Шампунь Smatrwash Jungle Apple 3,8 л","Менше 10","Професійна косметика для грумінгу",3425.51,4453,{"$f":"'Chris Christensen'!I$49","v":0},{"$f":"'Chris Christensen'!J$49","v":0}]
[null,1111132717,"841035/202/ Скл.002","Шампунь Spectrum One для жорсткої шерсті 3,8 л","Немає в наявності","Професійна косметика для грумінгу",3779.29,4913,{"$f":"'Chris Christensen'!I$50","v":0},{"$f":"'Chris Christensen'!J$50","v":0}]
[null,1111132716,"841034/201/ Скл.001","Шампунь Spectrum One для жорсткої шерсті 473 мл","Менше 10","Професійна косметика для грумінгу",1197.78,1557,{"$f":"'Chris Christensen'!I$51","v":0},{"$f":"'Chris Christensen'!J$51","v":0}]
[null,1111124939,"841038/034 /03-167","Шампунь White on White відбілюючий 473 мл","Менше 10","Професійна косметика для грумінгу",1100.45,1431,{"$f":"'Chris Christensen'!I$52","v":0},{"$f":"'Chris Christensen'!J$52","v":0}]
[null,1111149381,113385,"Іграшка Comfy Mint Dental Bone 12,5 см зелена","Більше 10","Іграшки для собак",166.43,225,{"$f":"Comfy!I$8","v":0},{"$f":"Comfy!J$8","v":0}]
[null,1111149395,113386,"Іграшка Comfy Mint Dental Bone 12,5 см оранжева","Більше 10","Іграшки для собак",166.43,225,{"$f":"Comfy!I$9","v":0},{"$f":"Comfy!J$9","v":0}]
[null,1111138276,113384,"Іграшка Comfy Mint Dental Bone 12,5 см рожева","Більше 10","Іграшки для собак",166.43,225,{"$f":"Comfy!I$10","v":0},{"$f":"Comfy!J$10","v":0}]
[null,1111149296,113554,"Іграшка Comfy Mint Dental Bone 16,5cm зелена","Менше 10","Іграшки для собак",229.09,309,{"$f":"Comfy!I$11","v":0},{"$f":"Comfy!J$11","v":0}]
[null,1111149302,"113381 Comfy","Іграшка Comfy Mint Dental Bone 8,5 см зелена","Більше 10","Іграшки для собак",104.52,141,{"$f":"Comfy!I$12","v":0},{"$f":"Comfy!J$12","v":0}]
[null,1111138275,113380,"Іграшка Comfy Mint Dental Bone MIX NEW 8,5 см","Більше 10","Іграшки для собак",104.27,141,{"$f":"Comfy!I$13","v":0},{"$f":"Comfy!J$13","v":0}]
[null,1111149303,113382,"Іграшка Comfy Mint Dental Bone, 8,5 см, помаранчева","Більше 10","Іграшки для собак",104.27,141,{"$f":"Comfy!I$14","v":0},{"$f":"Comfy!J$14","v":0}]
[null,1111179718,129679,"Іграшка Comfy д/соб Кістка аром ананас харчов пласт ТПЕ жовтий 12,5см","Менше 10","Іграшки для собак",166.43,225,{"$f":"Comfy!I$15","v":0},{"$f":"Comfy!J$15","v":0}]
[null,1111143026,245023,"Іграшка Comfy м ячик із дзвіночком на вудці 40 см","Немає в наявності","Іграшки для котів",114.12,154,{"$f":"Comfy!I$16","v":0},{"$f":"Comfy!J$16","v":0}]
[null,1111153614,"121634*****","Іграшка Create and Play кулька з отвором зелена (35шт./уп.)","Менше 10","Іграшки для собак",219.05,660,{"$f":"Comfy!I$17","v":0},{"$f":"Comfy!J$17","v":0}]
[null,1111153615,"121635*****","Іграшка Create and Play кулька з отвором оранж. (35шт./уп.)","Менше 10","Іграшки для собак",219.05,660,{"$f":"Comfy!I$18","v":0},{"$f":"Comfy!J$18","v":0}]
[null,1111153613,"121633*****","Іграшка Create and Play кулька з отвором рожева (35шт./уп.)","Менше 10","Іграшки для собак",219.05,660,{"$f":"Comfy!I$19","v":0},{"$f":"Comfy!J$19","v":0}]
[null,1111153619,"121639*****","Іграшка Create and Play мотузка COMFY (30шт./упак.)","Менше 10","Іграшки для собак",326.68,0,{"$f":"Comfy!I$20","v":0},{"$f":"Comfy!J$20","v":0}]
[null,1111151873,"121697*****","Іграшка Create and Play набір гачків метал COMFY","Менше 10","Іграшки для собак",110,330,{"$f":"Comfy!I$21","v":0},{"$f":"Comfy!J$21","v":0}]
[null,1111153617,"121637*****","Іграшка Create and Play товсте кільце оранжеве (30шт/упак.)","Менше 10","Іграшки для собак",147,0,{"$f":"Comfy!I$22","v":0},{"$f":"Comfy!J$22","v":0}]
[null,1111137300,112161,"Наповнювач деревний PINOKIO COMFY 7 л","Більше 10","Наповнювачі деревні",323.88,437,{"$f":"Comfy!I$23","v":0},{"$f":"Comfy!J$23","v":0}]
[null,1111171673,"10112Ку","Корм Cookie сухий для собак з куркою 10кг арт.10112Ку","Більше 10","Корм сухий для собак",649.95000000000005,746,{"$f":"Cookie!I$8","v":0},{"$f":"Cookie!J$8","v":0}]
[null,1111171674,"10113Ку","Корм Cookie сухий для собак з яловичиною 10кг арт.10113Ку","Більше 100","Корм сухий для собак",649.95000000000005,746,{"$f":"Cookie!I$9","v":0},{"$f":"Cookie!J$9","v":0}]
[null,1111171672,"10111Ку","Корм Cookie сухий для собак усіх порід 10кг арт.10111Ку","Більше 100","Корм сухий для собак",550.20000000000005,651,{"$f":"Cookie!I$10","v":0},{"$f":"Cookie!J$10","v":0}]
[null,1111162745,"AM311355CS*****","Декор  Anemone , силікон","Менше 10","Декорації для акваріуму",1632.38,2285,{"$f":"Deming!I$8","v":0},{"$f":"Deming!J$8","v":0}]
[null,1111162749,"AM311051DB*****","Декор  Корал-віяло , силікон","Більше 10","Декорації для акваріуму",247.1,346,{"$f":"Deming!I$9","v":0},{"$f":"Deming!J$9","v":0}]
[null,1111162748,"AM311132DB*****","Декор  Корал-горгонарія","Більше 10","Декорації для акваріуму",344.45,482,{"$f":"Deming!I$10","v":0},{"$f":"Deming!J$10","v":0}]
[null,1111162758,"AM003101PB*****","Декор  Риба-крилатка  S, силікон","Більше 10","Декорації для акваріуму",228.38,320,{"$f":"Deming!I$11","v":0},{"$f":"Deming!J$11","v":0}]
[null,1111165858,"AM311150PB*****","Декор силіконовий Акропора Glowing, 9*8 см","Менше 10","Декорації для акваріуму",336.96,472,{"$f":"Deming!I$12","v":0},{"$f":"Deming!J$12","v":0}]
[null,1111165864,"AM005031PT*****","Декор силіконовий Восьминіг, 11*9.5*4.5 см","Менше 10","Декорації для акваріуму",262.08,367,{"$f":"Deming!I$13","v":0},{"$f":"Deming!J$13","v":0}]
[null,1111165860,"AM311186PB*****","Декор силіконовий Дискосома, 11*8 см","Більше 10","Декорації для акваріуму",398.74,559,{"$f":"Deming!I$14","v":0},{"$f":"Deming!J$14","v":0}]
[null,1111165861,"AM311172PB*****","Декор силіконовий Корал-серіатопора, 10.5*7*14 см","Менше 10","Декорації для акваріуму",526.03,736,{"$f":"Deming!I$15","v":0},{"$f":"Deming!J$15","v":0}]
[null,1111165863,"AM211114PT*****","Декор силіконовий Морскі анемони різнокольорові","Менше 10","Декорації для акваріуму",428.69,600,{"$f":"Deming!I$16","v":0},{"$f":"Deming!J$16","v":0}]
[null,1111165862,"AM311156PT*****","Декор силіконовий Морскі анемони, 7*7*9 см","Більше 10","Декорації для акваріуму",381.89,534,{"$f":"Deming!I$17","v":0},{"$f":"Deming!J$17","v":0}]
[null,1111162771,"AM309266SB*****","Рослина  Апоногетон L , силіконова","Більше 10","Декорації для акваріуму",344.45,482,{"$f":"Deming!I$18","v":0},{"$f":"Deming!J$18","v":0}]
[null,1111162777,"AM309505PT*****","Рослина  Блікса , силіконова","Більше 10","Декорації для акваріуму",308.88,434,{"$f":"Deming!I$19","v":0},{"$f":"Deming!J$19","v":0}]
[null,1111162772,"AM309225SB*****","Рослина  Перо , силіконова","Менше 10","Декорації для акваріуму",151.63,213,{"$f":"Deming!I$20","v":0},{"$f":"Deming!J$20","v":0}]
[null,1111165887,"AM209111PT*****","Рослина силіконова Актинія, 13*8.5 см","Більше 10","Декорації для акваріуму",417.46,585,{"$f":"Deming!I$21","v":0},{"$f":"Deming!J$21","v":0}]
[null,1111165879,"AM309263SB*****","Рослина силіконова Апоногетон мадагаскарський, 14*4.5 см","Більше 10","Декорації для акваріуму",200.3,280,{"$f":"Deming!I$22","v":0},{"$f":"Deming!J$22","v":0}]
[null,1111165878,"AM309341SB*****","Рослина силіконова Банксія спичкова, 25*4.5 см","Менше 10","Декорації для акваріуму",344.45,482,{"$f":"Deming!I$23","v":0},{"$f":"Deming!J$23","v":0}]
[null,1111165882,"AM409176SB*****","Рослина силіконова Болотниця маленька, 17.5*4.5 см","Менше 10","Декорації для акваріуму",224.64,314,{"$f":"Deming!I$24","v":0},{"$f":"Deming!J$24","v":0}]
[null,1111165877,"AM309043SB*****","Рослина силіконова Валіснерія, 15*19 см","Менше 10","Декорації для акваріуму",247.1,346,{"$f":"Deming!I$25","v":0},{"$f":"Deming!J$25","v":0}]
[null,1111165872,"AM309493SB*****","Рослина силіконова Гигрофіла, 12*20 см","Менше 10","Декорації для акваріуму",275.18,386,{"$f":"Deming!I$26","v":0},{"$f":"Deming!J$26","v":0}]
[null,1111165873,"AM309059SB*****","Рослина силіконова Ейхорнія, 17*19.5 см","Більше 10","Декорації для акваріуму",320.11,449,{"$f":"Deming!I$27","v":0},{"$f":"Deming!J$27","v":0}]
[null,1111165869,"AM309327SB*****","Рослина силіконова Елодея + Валіснерія, 18*7 см","Менше 10","Декорації для акваріуму",325.73,457,{"$f":"Deming!I$28","v":0},{"$f":"Deming!J$28","v":0}]
[null,1111165883,"AM309508PT*****","Рослина силіконова Кабомба, 8*18 см","Менше 10","Декорації для акваріуму",247.1,346,{"$f":"Deming!I$29","v":0},{"$f":"Deming!J$29","v":0}]
[null,1111165884,"AM309064PT*****","Рослина силіконова Композиція зі стрілами, 8*14 см","Менше 10","Декорації для акваріуму",308.88,434,{"$f":"Deming!I$30","v":0},{"$f":"Deming!J$30","v":0}]
[null,1111165875,"AM309482SB*****","Рослина силіконова Композиція папоротті, 11*19 см","Більше 10","Декорації для акваріуму",308.88,434,{"$f":"Deming!I$31","v":0},{"$f":"Deming!J$31","v":0}]
[null,1111165881,"AM311332SB*****","Рослина силіконова Ламінарія, 14*10 см","Менше 10","Декорації для акваріуму",344.45,482,{"$f":"Deming!I$32","v":0},{"$f":"Deming!J$32","v":0}]
[null,1111165876,"AM309455SB*****","Рослина силіконова Людвигія, 11*18 см","Більше 10","Декорації для акваріуму",250.85,352,{"$f":"Deming!I$33","v":0},{"$f":"Deming!J$33","v":0}]
[null,1111165874,"AM309501SB*****","Рослина силіконова Папороття, 10.5*18 см","Більше 10","Декорації для акваріуму",282.67,397,{"$f":"Deming!I$34","v":0},{"$f":"Deming!J$34","v":0}]
[null,1111165885,"AM311302PT*****","Рослина силіконова Підводнийй бутон, 10*17 см","Більше 10","Декорації для акваріуму",471.74,662,{"$f":"Deming!I$35","v":0},{"$f":"Deming!J$35","v":0}]
[null,1111165886,"AM309364SB*****","Рослина силіконова Пучок ламинарії, 12*7 см","Більше 10","Декорації для акваріуму",271.44,380,{"$f":"Deming!I$36","v":0},{"$f":"Deming!J$36","v":0}]
[null,1111165868,"AM309183SB*****","Рослина силіконова Роголисник 20*9 см","Менше 10","Декорації для акваріуму",262.08,367,{"$f":"Deming!I$37","v":0},{"$f":"Deming!J$37","v":0}]
[null,1111165871,"AM309291SB*****","Рослина силіконова Роланда 22*8 см","Менше 10","Декорації для акваріуму",247.1,346,{"$f":"Deming!I$38","v":0},{"$f":"Deming!J$38","v":0}]
[null,1111165867,"AM309313SB*****","Рослина силіконова Ротала 18*6.5 см","Менше 10","Декорації для акваріуму",247.1,346,{"$f":"Deming!I$39","v":0},{"$f":"Deming!J$39","v":0}]
[null,1111165870,"AM309322SB*****","Рослина силіконова Таиландский папоротник , 24*6 см","Більше 10","Декорації для акваріуму",308.88,434,{"$f":"Deming!I$40","v":0},{"$f":"Deming!J$40","v":0}]
[null,1111168658,"VR05*****","Лежак  для собак антиалергенний Simit Series плюшевий жовтий 52*9см","Менше 10","Лежаки",640.17999999999995,865,{"$f":"Dubex!I$8","v":0},{"$f":"Dubex!J$8","v":0}]
[null,1111168656,"VR02*****","Лежак для собак антиалергенний Simit Series плюш темно-малинов. 52х9см","Менше 10","Лежаки",640.17999999999995,865,{"$f":"Dubex!I$9","v":0},{"$f":"Dubex!J$9","v":0}]
[null,1111168657,"VR04*****","Лежак для собак антиалергенний Simit Series плюшевий блакитний 52*9см","Менше 10","Лежаки",640.17999999999995,865,{"$f":"Dubex!I$10","v":0},{"$f":"Dubex!J$10","v":0}]
[null,1111168659,"VR04_2*****","Матрас для собак водовідштов. ортопедичний темно-персиковий  80*62*8см","Менше 10","Лежаки",820.1,1107,{"$f":"Dubex!I$11","v":0},{"$f":"Dubex!J$11","v":0}]
[null,1111171359,"VR03_2*****","Матрас для собак водовідштовхуючий ортопедичний бузковий 66*48*8см","Менше 10","Лежаки",877.45,1184,{"$f":"Dubex!I$12","v":0},{"$f":"Dubex!J$12","v":0}]
[null,1111141058,"1000318/173039*****","Edel Cat консерви індичка, печінка для котів, 400 г","Більше 10","Корм вологий для котів",78.77,104,{"$f":"Edel!I$8","v":0},{"$f":"Edel!J$8","v":0}]
[null,1111141056,"1000316/173015*****","Edel Cat консерви курка, качка для котів, 400 г","Більше 10","Корм вологий для котів",78.77,104,{"$f":"Edel!I$9","v":0},{"$f":"Edel!J$9","v":0}]
[null,1111141057,"1000321/173053*****","Edel Cat консерви лосось, форель для котів, 400 г","Менше 10","Корм вологий для котів",78.77,104,{"$f":"Edel!I$10","v":0},{"$f":"Edel!J$10","v":0}]
[null,1111141059,"1000319/173046*****","Edel Cat консерви три види м_яса птиці для котів, 400 г","Більше 10","Корм вологий для котів",78.77,104,{"$f":"Edel!I$11","v":0},{"$f":"Edel!J$11","v":0}]
[null,1111141052,"1000332/177020*****","Edel Dog консерви індичка, печінка для собак, 400 г","Більше 10","Корм вологий для собак",78.77,104,{"$f":"Edel!I$12","v":0},{"$f":"Edel!J$12","v":0}]
[null,1111141054,"1000334/177037*****","Edel Dog консерви птиця, морква для собак, 400 г","Більше 10","Корм вологий для собак",78.77,104,{"$f":"Edel!I$13","v":0},{"$f":"Edel!J$13","v":0}]
[null,1111141055,"1000331/177013*****","Edel Dog консерви телятина, кролик для собак, 400 г","Більше 10","Корм вологий для собак",78.77,104,{"$f":"Edel!I$14","v":0},{"$f":"Edel!J$14","v":0}]
[null,1111141053,"1002184/180037*****","Edel Dog консерви три види м_яса для собак, 400 г","Більше 10","Корм вологий для собак",78.77,104,{"$f":"Edel!I$15","v":0},{"$f":"Edel!J$15","v":0}]
[null,1111168518,20321,"Essence консерви з куркою для дорослих собак, 200 г","Більше 100","Корм вологий для собак",29.3,39,{"$f":"Essence!I$8","v":0},{"$f":"Essence!J$8","v":0}]
[null,1111168522,20369,"Essence консерви з куркою для цуценят, 200 г","Більше 100","Корм вологий для собак",29.3,39,{"$f":"Essence!I$9","v":0},{"$f":"Essence!J$9","v":0}]
[null,1111168516,20307,"Essence консерви з яловичиною для дорослих собак, 200 г","Менше 10","Корм вологий для собак",29.3,39,{"$f":"Essence!I$10","v":0},{"$f":"Essence!J$10","v":0}]
[null,1111141546,"PT2910","Водоспад-поїлка маленький","Менше 10","Обладнання для тераріуму, комплектуючі",1497.35,2095,{"$f":"ExoTerra!I$8","v":0},{"$f":"ExoTerra!J$8","v":0}]
[null,1111113352,"PT2812*****","Годівниця середня","Менше 10","Обладнання для тераріуму, комплектуючі",429.45,600,{"$f":"ExoTerra!I$9","v":0},{"$f":"ExoTerra!J$9","v":0}]
[null,1111153490,"PT3157****","Декорація Tiki (3в1 схованка, поїлка і миска) велика","Менше 10","Декорації для тераріуму",1661.81,2327,{"$f":"ExoTerra!I$10","v":0},{"$f":"ExoTerra!J$10","v":0}]
[null,311936,"PT2136","Лампа денна S20/75 Вт для тераріуму","Менше 10","Обладнання для тераріуму, комплектуючі",278.36,392,{"$f":"ExoTerra!I$11","v":0},{"$f":"ExoTerra!J$11","v":0}]
[null,311937,"PT2141","Лампа інфрачервона R20/50 Вт для тераріуму","Більше 10","Обладнання для тераріуму, комплектуючі",332.32,467,{"$f":"ExoTerra!I$12","v":0},{"$f":"ExoTerra!J$12","v":0}]
[null,1111116857,"PT2770","Наповнювач Plantation Soil для тераріуму 8,8 л","Немає в наявності","Ґрунти, наповнювачі для тераріуму",92.54,130,{"$f":"ExoTerra!I$13","v":0},{"$f":"ExoTerra!J$13","v":0}]
[null,1111113366,"PT2930_ord","Нора для рептилій мала","Менше 10","Декорації для тераріуму",229.71,321,{"$f":"ExoTerra!I$14","v":0},{"$f":"ExoTerra!J$14","v":0}]
[null,1111124955,"PT2011","Обігрівач для тераріуму шнур 15Вт/3,5м","Менше 10","Обладнання для тераріуму, комплектуючі",1010.95,1415,{"$f":"ExoTerra!I$15","v":0},{"$f":"ExoTerra!J$15","v":0}]
[null,1111124956,"PT2012_ord","Обігрівач для тераріуму шнур 25Вт/4,5м","Менше 10","Обладнання для тераріуму, комплектуючі",1201.96,1683,{"$f":"ExoTerra!I$16","v":0},{"$f":"ExoTerra!J$16","v":0}]
[null,1111153492,"PT3159_ord","Печера з поїлкою Кокос, 21*12*11,5 см","Менше 10","Обладнання для тераріуму, комплектуючі",440.73,617,{"$f":"ExoTerra!I$17","v":0},{"$f":"ExoTerra!J$17","v":0}]
[null,1111123580,"PT2075","Пінцет для годування рептилій","Менше 10","Аксесуари для догляду за тераріумом",308.83999999999997,430,{"$f":"ExoTerra!I$18","v":0},{"$f":"ExoTerra!J$18","v":0}]
[null,1111120238,"PT2052","Плафон для лампи в тераріум 14 см","Менше 10","Обладнання для тераріуму, комплектуючі",880.99,1234,{"$f":"ExoTerra!I$19","v":0},{"$f":"ExoTerra!J$19","v":0}]
[null,1111162214,"PT3168****","Поїлка Aztec Frog для рептилій","Менше 10","Обладнання для тераріуму, комплектуючі",296.33,418,{"$f":"ExoTerra!I$20","v":0},{"$f":"ExoTerra!J$20","v":0}]
[null,1111162216,"PT3170****","Поїлка Aztec для рептилій, велика","Менше 10","Обладнання для тераріуму, комплектуючі",391.39,549,{"$f":"ExoTerra!I$21","v":0},{"$f":"ExoTerra!J$21","v":0}]
[null,1111163707,"PT2828_ord","Поїлка для рептилій, 300 мл, кутова, велика","Менше 10","Обладнання для тераріуму, комплектуючі",720.13,1010,{"$f":"ExoTerra!I$22","v":0},{"$f":"ExoTerra!J$22","v":0}]
[null,1111143875,"PT2492****","Поїлка з помпою Exo Terra рослина велика","Менше 10","Обладнання для тераріуму, комплектуючі",2458.23,3442,{"$f":"ExoTerra!I$23","v":0},{"$f":"ExoTerra!J$23","v":0}]
[null,1111122336,"PT2991_ord","Рослина ExoTerra д/тераріуму пластик 6,5x45x5см","Менше 10","Декорації для тераріуму",627.92999999999995,879,{"$f":"ExoTerra!I$24","v":0},{"$f":"ExoTerra!J$24","v":0}]
[null,1111122328,"PT2980_ord","Рослина на підставці Barrel Cactus мала","Менше 10","Декорації для тераріуму",216.24,306,{"$f":"ExoTerra!I$25","v":0},{"$f":"ExoTerra!J$25","v":0}]
[null,1111113377,"PT3042","Рослина шовкова ABULITON середня","Менше 10","Декорації для тераріуму",387.57,542,{"$f":"ExoTerra!I$26","v":0},{"$f":"ExoTerra!J$26","v":0}]
[null,1111121417,"PT2226","Світильник COMPACT TOP 45?9?20 см","Менше 10","Обладнання для тераріуму, комплектуючі",1570.52,2200,{"$f":"ExoTerra!I$27","v":0},{"$f":"ExoTerra!J$27","v":0}]
[null,1111121419,"PT2228","Світильник COMPACT TOP 90?9?20 см","Менше 10","Обладнання для тераріуму, комплектуючі",4147.84,5808,{"$f":"ExoTerra!I$28","v":0},{"$f":"ExoTerra!J$28","v":0}]
[null,1111162389,"PT2335_ord","Світильник Exo-terra для тераріуму Day and  Night з LED системою мален","Менше 10","Обладнання для тераріуму, комплектуючі",1546.5,2165,{"$f":"ExoTerra!I$29","v":0},{"$f":"ExoTerra!J$29","v":0}]
[null,1111146467,"PT2606","Тераріум 45х45х90 см, скляний","Менше 10","Тераріуми, комплектуючі",11179.37,15651,{"$f":"ExoTerra!I$30","v":0},{"$f":"ExoTerra!J$30","v":0}]
[null,1111121412,"PT2613","Тераріум скляний 90х45х45","Менше 10","Тераріуми, комплектуючі",12643.95,17701,{"$f":"ExoTerra!I$31","v":0},{"$f":"ExoTerra!J$31","v":0}]
[null,22312,"PT2465","Термометр для тераріуму механічний","Менше 10","Обладнання для тераріуму, комплектуючі",177.73,249,{"$f":"ExoTerra!I$32","v":0},{"$f":"ExoTerra!J$32","v":0}]
[null,1111113815,"PT2255","Фаунаріум пластиковий 23х15х17","Менше 10","Тераріуми, комплектуючі",282.85000000000002,424,{"$f":"ExoTerra!I$33","v":0},{"$f":"ExoTerra!J$33","v":0}]
[null,1111143465,"1301 Украина","Губка 10?15 см кругла","Більше 10","Обладнання для акваріума, комплектуючі",52.27,73,{"$f":"'Filter sponge Ukr'!I$8","v":0},{"$f":"'Filter sponge Ukr'!J$8","v":0}]
[null,1111142358,"1264 Украина","Губка 10?20 см пряма великопориста","Більше 10","Обладнання для акваріума, комплектуючі",63.54,89,{"$f":"'Filter sponge Ukr'!I$9","v":0},{"$f":"'Filter sponge Ukr'!J$9","v":0}]
[null,1111144188,"1226 Украина","Губка 9?15 см пряма великопориста","Більше 10","Обладнання для акваріума, комплектуючі",41.53,58,{"$f":"'Filter sponge Ukr'!I$10","v":0},{"$f":"'Filter sponge Ukr'!J$10","v":0}]
[null,1111144189,"1219 Украина","Губка 9?15 см пряма великопориста рифлена","Більше 10","Обладнання для акваріума, комплектуючі",52.27,73,{"$f":"'Filter sponge Ukr'!I$11","v":0},{"$f":"'Filter sponge Ukr'!J$11","v":0}]
[null,1111152114,"12111 BLACK Flexi","Контейнер VARIO MultiBox для рулетки 7*d5 см чорний","Більше 100","Аксесуари для амуніції (адресовки, брелоки, медальйони, підвіски)",204.18,266,{"$f":"Flexi!I$8","v":0},{"$f":"Flexi!J$8","v":0}]
[null,1111161942,"FL 034125","Рулетка BLACK DESIGN, L, 5 м, стрічка, зелена","Менше 10","Рулетки",692.64,901,{"$f":"Flexi!I$9","v":0},{"$f":"Flexi!J$9","v":0}]
[null,1111161943,"FL 034118","Рулетка BLACK DESIGN, L, 5 м, стрічка, рожева","Менше 10","Рулетки",692.64,901,{"$f":"Flexi!I$10","v":0},{"$f":"Flexi!J$10","v":0}]
[null,1111161941,"FL 034132","Рулетка BLACK DESIGN, L, 5 м, стрічка, синя","Менше 10","Рулетки",692.64,901,{"$f":"Flexi!I$11","v":0},{"$f":"Flexi!J$11","v":0}]
[null,1111161939,"FL 034101","Рулетка BLACK DESIGN, L, 5 м, стрічка, чорна","Менше 10","Рулетки",692.64,901,{"$f":"Flexi!I$12","v":0},{"$f":"Flexi!J$12","v":0}]
[null,1111162167,"FL 034026","Рулетка BLACK DESIGN, M, 5 м, стрічка, зелена","Більше 10","Рулетки",615.67999999999995,801,{"$f":"Flexi!I$13","v":0},{"$f":"Flexi!J$13","v":0}]
[null,1111162166,"FL 034033","Рулетка BLACK DESIGN, M, 5 м, стрічка, синя","Менше 10","Рулетки",615.67999999999995,801,{"$f":"Flexi!I$14","v":0},{"$f":"Flexi!J$14","v":0}]
[null,1111162168,"FL 034002","Рулетка BLACK DESIGN, M, 5 м, стрічка, чорна","Більше 10","Рулетки",615.67999999999995,801,{"$f":"Flexi!I$15","v":0},{"$f":"Flexi!J$15","v":0}]
[null,1111161934,"FL 033425","Рулетка BLACK DESIGN, M, 5 м, трос, зелена","Менше 10","Рулетки",469.46,611,{"$f":"Flexi!I$16","v":0},{"$f":"Flexi!J$16","v":0}]
[null,1111162163,"FL 033418","Рулетка BLACK DESIGN, M, 5 м, трос, рожева","Менше 10","Рулетки",469.46,611,{"$f":"Flexi!I$17","v":0},{"$f":"Flexi!J$17","v":0}]
[null,1111161933,"FL 033432","Рулетка BLACK DESIGN, M, 5 м, трос, синя","Менше 10","Рулетки",469.46,611,{"$f":"Flexi!I$18","v":0},{"$f":"Flexi!J$18","v":0}]
[null,1111162164,"FL 033401","Рулетка BLACK DESIGN, M, 5 м, трос, чорна","Менше 10","Рулетки",469.46,611,{"$f":"Flexi!I$19","v":0},{"$f":"Flexi!J$19","v":0}]
[null,1111161936,"FL 033920","Рулетка BLACK DESIGN, S, 5 м, стрічка, зелена","Більше 10","Рулетки",517.55999999999995,673,{"$f":"Flexi!I$20","v":0},{"$f":"Flexi!J$20","v":0}]
[null,1111162165,"FL 033937","Рулетка BLACK DESIGN, S, 5 м, стрічка, синя","Менше 10","Рулетки",517.55999999999995,673,{"$f":"Flexi!I$21","v":0},{"$f":"Flexi!J$21","v":0}]
[null,1111161935,"FL 033906","Рулетка BLACK DESIGN, S, 5 м, стрічка, чорна","Менше 10","Рулетки",517.55999999999995,673,{"$f":"Flexi!I$22","v":0},{"$f":"Flexi!J$22","v":0}]
[null,1111161931,"FL 033326","Рулетка BLACK DESIGN, S, 5 м, трос, зелена","Більше 10","Рулетки",407.89,530,{"$f":"Flexi!I$23","v":0},{"$f":"Flexi!J$23","v":0}]
[null,1111161932,"FL 033319","Рулетка BLACK DESIGN, S, 5 м, трос, рожева","Менше 10","Рулетки",407.89,530,{"$f":"Flexi!I$24","v":0},{"$f":"Flexi!J$24","v":0}]
[null,1111161930,"FL 033333","Рулетка BLACK DESIGN, S, 5 м, трос, синя","Більше 10","Рулетки",407.89,530,{"$f":"Flexi!I$25","v":0},{"$f":"Flexi!J$25","v":0}]
[null,1111161929,"FL 033302","Рулетка BLACK DESIGN, S, 5 м, трос, чорна","Менше 10","Рулетки",407.89,530,{"$f":"Flexi!I$26","v":0},{"$f":"Flexi!J$26","v":0}]
[null,1111161926,"FL 033227","Рулетка BLACK DESIGN, XS, 3 м, трос, зелена","Менше 10","Рулетки",350.17,455,{"$f":"Flexi!I$27","v":0},{"$f":"Flexi!J$27","v":0}]
[null,1111161928,"FL 033210","Рулетка BLACK DESIGN, XS, 3 м, трос, рожева","Більше 10","Рулетки",350.17,455,{"$f":"Flexi!I$28","v":0},{"$f":"Flexi!J$28","v":0}]
[null,1111161924,"FL 033203","Рулетка BLACK DESIGN, XS, 3 м, трос, чорна","Менше 10","Рулетки",350.17,455,{"$f":"Flexi!I$29","v":0},{"$f":"Flexi!J$29","v":0}]
[null,1111161938,"FL 034019","Рулетка BLACK DESIGN, М, 5 м, стрічка, рожева","Менше 10","Рулетки",615.67999999999995,801,{"$f":"Flexi!I$30","v":0},{"$f":"Flexi!J$30","v":0}]
[null,1111131992,"20929 BLACK Flexi","Рулетка Flexi GIANT L 8м/50кг (стрічка) жовт/чорн. неон","Менше 10","Рулетки",1562.29,2032,{"$f":"Flexi!I$31","v":0},{"$f":"Flexi!J$31","v":0}]
[null,10353,"FL 030004","Рулетка Flexi GIANT XL 8м/75кг (стрічка) чорна","Менше 10","Рулетки",1658.95,2156.5,{"$f":"Flexi!I$32","v":0},{"$f":"Flexi!J$32","v":0}]
[null,1111148214,"FL 031711","Рулетка Flexi NEON L 5м (стрічка) чорна","Менше 10","Рулетки",899.47,1170,{"$f":"Flexi!I$33","v":0},{"$f":"Flexi!J$33","v":0}]
[null,1111148213,"FL 031704","Рулетка Flexi NEON M 5м (стрічка) чорна","Менше 10","Рулетки",812.89,1057,{"$f":"Flexi!I$34","v":0},{"$f":"Flexi!J$34","v":0}]
[null,1111134452,"FL 025222","Рулетка Flexi NEON M 5м/20кг (шнур) чорна","Менше 10","Рулетки",619.53,806,{"$f":"Flexi!I$35","v":0},{"$f":"Flexi!J$35","v":0}]
[null,1111134451,"20911 BLACK Flexi","Рулетка Flexi NEON S 5м/12кг (шнур) чорна","Менше 10","Рулетки",554.11,721,{"$f":"Flexi!I$36","v":0},{"$f":"Flexi!J$36","v":0}]
[null,1111139914,"Cat PINK Flexi","Рулетка Flexi NEW CLASSIC CAT рожева","Менше 10","Рулетки",351.13,456,{"$f":"Flexi!I$37","v":0},{"$f":"Flexi!J$37","v":0}]
[null,1111147987,"Cat BLUE Flexi","Рулетка Flexi NEW CLASSIC CAT синя","Менше 10","Рулетки",351.13,456,{"$f":"Flexi!I$38","v":0},{"$f":"Flexi!J$38","v":0}]
[null,1111148008,"Cat RED Flexi","Рулетка Flexi NEW CLASSIC CAT червона","Менше 10","Рулетки",351.13,456,{"$f":"Flexi!I$39","v":0},{"$f":"Flexi!J$39","v":0}]
[null,1111147026,"Cat BLACK Flexi","Рулетка Flexi NEW CLASSIC CAT чорна","Менше 10","Рулетки",351.13,456,{"$f":"Flexi!I$40","v":0},{"$f":"Flexi!J$40","v":0}]
[null,1111148215,"11723 RED Flexi","Рулетка Flexi NEW CLASSIC L 5м (стрічка) червона","Менше 10","Рулетки",755.17,982,{"$f":"Flexi!I$41","v":0},{"$f":"Flexi!J$41","v":0}]
[null,1111148217,"11721 BLACK Flexi","Рулетка Flexi NEW CLASSIC L 5м (стрічка) чорна","Менше 10","Рулетки",755.17,982,{"$f":"Flexi!I$42","v":0},{"$f":"Flexi!J$42","v":0}]
[null,1111148633,"11732 BLUE Flexi","Рулетка Flexi NEW CLASSIC L 8м (стрічка) синя","Менше 10","Рулетки",1022.61,1330,{"$f":"Flexi!I$43","v":0},{"$f":"Flexi!J$43","v":0}]
[null,1111148632,"11733 RED Flexi","Рулетка Flexi NEW CLASSIC L 8м (стрічка) червона","Менше 10","Рулетки",1022.61,1330,{"$f":"Flexi!I$44","v":0},{"$f":"Flexi!J$44","v":0}]
[null,1111148634,"11731 BLACK Flexi","Рулетка Flexi NEW CLASSIC L 8м (стрічка) чорна","Більше 10","Рулетки",1022.61,1330,{"$f":"Flexi!I$45","v":0},{"$f":"Flexi!J$45","v":0}]
[null,1111147894,"11786 PINK Flexi","Рулетка Flexi NEW CLASSIC S 5м/12кг (шнур) рожева","Менше 10","Рулетки",416.55,542,{"$f":"Flexi!I$46","v":0},{"$f":"Flexi!J$46","v":0}]
[null,1111147892,"11782 BLUE Flexi","Рулетка Flexi NEW CLASSIC S 5м/12кг (шнур) синя","Менше 10","Рулетки",416.55,542,{"$f":"Flexi!I$47","v":0},{"$f":"Flexi!J$47","v":0}]
[null,1111147893,"11783 RED Flexi","Рулетка Flexi NEW CLASSIC S 5м/12кг (шнур) червона","Більше 10","Рулетки",416.55,542,{"$f":"Flexi!I$48","v":0},{"$f":"Flexi!J$48","v":0}]
[null,1111139751,"11781 BLACK Flexi","Рулетка Flexi NEW CLASSIC S 5м/12кг (шнур) чорна","Більше 10","Рулетки",416.55,542,{"$f":"Flexi!I$49","v":0},{"$f":"Flexi!J$49","v":0}]
[null,1111147886,"11836 PINK Flexi","Рулетка Flexi NEW CLASSIC S 5м/15кг (стрічка) рожева","Менше 10","Рулетки",548.34,713,{"$f":"Flexi!I$50","v":0},{"$f":"Flexi!J$50","v":0}]
[null,1111147887,"11832 BLUE Flexi","Рулетка Flexi NEW CLASSIC S 5м/15кг (стрічка) синя","Менше 10","Рулетки",548.34,713,{"$f":"Flexi!I$51","v":0},{"$f":"Flexi!J$51","v":0}]
[null,1111139748,"11833 RED Flexi","Рулетка Flexi NEW CLASSIC S 5м/15кг (стрічка) червона","Більше 10","Рулетки",548.34,713,{"$f":"Flexi!I$52","v":0},{"$f":"Flexi!J$52","v":0}]
[null,1111147888,"11831 BLACK Flexi","Рулетка Flexi NEW CLASSIC S 5м/15кг (стрічка) чорна","Більше 10","Рулетки",548.34,713,{"$f":"Flexi!I$53","v":0},{"$f":"Flexi!J$53","v":0}]
[null,1111139746,"11806 PINK Flexi","Рулетка Flexi NEW CLASSIC S 8м/12кг (шнур) рожева","Менше 10","Рулетки",653.20000000000005,850,{"$f":"Flexi!I$54","v":0},{"$f":"Flexi!J$54","v":0}]
[null,1111148009,"11802 BLUE Flexi","Рулетка Flexi NEW CLASSIC S 8м/12кг (шнур) синя","Менше 10","Рулетки",653.20000000000005,850,{"$f":"Flexi!I$55","v":0},{"$f":"Flexi!J$55","v":0}]
[null,1111148010,"11803 RED Flexi","Рулетка Flexi NEW CLASSIC S 8м/12кг (шнур) червона","Менше 10","Рулетки",653.20000000000005,850,{"$f":"Flexi!I$56","v":0},{"$f":"Flexi!J$56","v":0}]
[null,1111148011,"11801 BLACK Flexi","Рулетка Flexi NEW CLASSIC S 8м/12кг (шнур) чорна","Менше 10","Рулетки",653.20000000000005,850,{"$f":"Flexi!I$57","v":0},{"$f":"Flexi!J$57","v":0}]
[null,1111147889,"11826 PINK Flexi","Рулетка Flexi NEW CLASSIC XS 3м/12кг (стрічка) рожева","Менше 10","Рулетки",460.8,599,{"$f":"Flexi!I$58","v":0},{"$f":"Flexi!J$58","v":0}]
[null,1111147891,"11822 BLUE Flexi","Рулетка Flexi NEW CLASSIC XS 3м/12кг (стрічка) синя","Менше 10","Рулетки",460.8,599,{"$f":"Flexi!I$59","v":0},{"$f":"Flexi!J$59","v":0}]
[null,1111147890,"11823 RED Flexi","Рулетка Flexi NEW CLASSIC XS 3м/12кг (стрічка) червона","Менше 10","Рулетки",460.8,599,{"$f":"Flexi!I$60","v":0},{"$f":"Flexi!J$60","v":0}]
[null,1111139745,"11821 BLACK Flexi","Рулетка Flexi NEW CLASSIC XS 3м/12кг (стрічка) чорна","Більше 10","Рулетки",460.8,599,{"$f":"Flexi!I$61","v":0},{"$f":"Flexi!J$61","v":0}]
[null,1111147369,"11776 PINK Flexi","Рулетка Flexi NEW CLASSIC XS 3м/8кг (шнур) рожева","Менше 10","Рулетки",351.13,456,{"$f":"Flexi!I$62","v":0},{"$f":"Flexi!J$62","v":0}]
[null,1111147368,"11772 BLUE Flexi","Рулетка Flexi NEW CLASSIC XS 3м/8кг (шнур) синя","Більше 10","Рулетки",351.13,456,{"$f":"Flexi!I$63","v":0},{"$f":"Flexi!J$63","v":0}]
[null,1111147367,"11773 RED Flexi","Рулетка Flexi NEW CLASSIC XS 3м/8кг (шнур) червона","Менше 10","Рулетки",351.13,456,{"$f":"Flexi!I$64","v":0},{"$f":"Flexi!J$64","v":0}]
[null,1111139752,"11771 BLACK Flexi","Рулетка Flexi NEW CLASSIC XS 3м/8кг (шнур) чорна","Більше 10","Рулетки",351.13,456,{"$f":"Flexi!I$65","v":0},{"$f":"Flexi!J$65","v":0}]
[null,1111148219,"11712 BLUE Flexi","Рулетка Flexi NEW CLASSIC М 5м (стрічка) синя","Менше 10","Рулетки",690.72,898,{"$f":"Flexi!I$66","v":0},{"$f":"Flexi!J$66","v":0}]
[null,1111148218,"11713 RED Flexi","Рулетка Flexi NEW CLASSIC М 5м (стрічка) червона","Менше 10","Рулетки",690.72,898,{"$f":"Flexi!I$67","v":0},{"$f":"Flexi!J$67","v":0}]
[null,1111148220,"11711 BLACK Flexi","Рулетка Flexi NEW CLASSIC М 5м (стрічка) чорна","Менше 10","Рулетки",690.72,898,{"$f":"Flexi!I$68","v":0},{"$f":"Flexi!J$68","v":0}]
[null,1111147898,"11796 PINK Flexi","Рулетка Flexi NEW CLASSIC М 5м/20кг (шнур) рожева","Менше 10","Рулетки",482.92,628,{"$f":"Flexi!I$69","v":0},{"$f":"Flexi!J$69","v":0}]
[null,1111147899,"11792 BLUE Flexi","Рулетка Flexi NEW CLASSIC М 5м/20кг (шнур) синя","Більше 10","Рулетки",482.92,629,{"$f":"Flexi!I$70","v":0},{"$f":"Flexi!J$70","v":0}]
[null,1111139750,"11793 RED Flexi","Рулетка Flexi NEW CLASSIC М 5м/20кг (шнур) червона","Менше 10","Рулетки",482.92,629,{"$f":"Flexi!I$71","v":0},{"$f":"Flexi!J$71","v":0}]
[null,1111147900,"11791 BLACK Flexi","Рулетка Flexi NEW CLASSIC М 5м/20кг (шнур) чорна","Більше 10","Рулетки",482.92,629,{"$f":"Flexi!I$72","v":0},{"$f":"Flexi!J$72","v":0}]
[null,1111148012,"11816 PINK Flexi","Рулетка Flexi NEW CLASSIC М 8м/20кг (шнур) рожева","Менше 10","Рулетки",701.3,912,{"$f":"Flexi!I$73","v":0},{"$f":"Flexi!J$73","v":0}]
[null,1111148013,"11812 BLUE Flexi","Рулетка Flexi NEW CLASSIC М 8м/20кг (шнур) синя","Менше 10","Рулетки",701.3,912,{"$f":"Flexi!I$74","v":0},{"$f":"Flexi!J$74","v":0}]
[null,1111139747,"11813 RED Flexi","Рулетка Flexi NEW CLASSIC М 8м/20кг (шнур) червона","Менше 10","Рулетки",701.3,912,{"$f":"Flexi!I$75","v":0},{"$f":"Flexi!J$75","v":0}]
[null,1111148014,"11811 BLACK Flexi","Рулетка Flexi NEW CLASSIC М 8м/20кг (шнур) чорна","Менше 10","Рулетки",701.3,912,{"$f":"Flexi!I$76","v":0},{"$f":"Flexi!J$76","v":0}]
[null,1111162588,"FL 043813","Рулетка Flexi для собак NEW COMFORT стрічка синій L 8м арт.FL 043813","Менше 10","Рулетки",1234.25,1605,{"$f":"Flexi!I$77","v":0},{"$f":"Flexi!J$77","v":0}]
[null,1111149661,"11716 PINK Flexi","Рулетка NEW CLASSIC, М, 5 м, стрічка, рожева","Менше 10","Рулетки",690.72,898,{"$f":"Flexi!I$78","v":0},{"$f":"Flexi!J$78","v":0}]
[null,1111162159,"FL 043714","Рулетка NEW COMFORT, L, 5 м, стрічка, синя","Менше 10","Рулетки",1161.1300000000001,1510,{"$f":"Flexi!I$79","v":0},{"$f":"Flexi!J$79","v":0}]
[null,1111162160,"FL 043707","Рулетка NEW COMFORT, L, 5 м, стрічка, червона","Менше 10","Рулетки",1161.1300000000001,1510,{"$f":"Flexi!I$80","v":0},{"$f":"Flexi!J$80","v":0}]
[null,1111161957,"FL 043721","Рулетка NEW COMFORT, L, 5 м, стрічка, чорна","Менше 10","Рулетки",1161.1300000000001,1510,{"$f":"Flexi!I$81","v":0},{"$f":"Flexi!J$81","v":0}]
[null,1111162161,"FL 043806","Рулетка NEW COMFORT, L, 8 м, стрічка, червона","Менше 10","Рулетки",1234.25,1605,{"$f":"Flexi!I$82","v":0},{"$f":"Flexi!J$82","v":0}]
[null,1111162162,"FL 043820","Рулетка NEW COMFORT, L, 8 м, стрічка, чорна","Менше 10","Рулетки",1234.25,1605,{"$f":"Flexi!I$83","v":0},{"$f":"Flexi!J$83","v":0}]
[null,1111162158,"FL 043646","Рулетка NEW COMFORT, M, 5 м, стрічка, чорна","Менше 10","Рулетки",765.75,996,{"$f":"Flexi!I$84","v":0},{"$f":"Flexi!J$84","v":0}]
[null,1111162157,"FL 043516","Рулетка NEW COMFORT, S, 5 м, стрічка, блакитна","Менше 10","Рулетки",632.03,822,{"$f":"Flexi!I$85","v":0},{"$f":"Flexi!J$85","v":0}]
[null,1111161954,"FL 043509","Рулетка NEW COMFORT, S, 5 м, стрічка, рожева","Менше 10","Рулетки",632.03,822,{"$f":"Flexi!I$86","v":0},{"$f":"Flexi!J$86","v":0}]
[null,1111161953,"FL 043530","Рулетка NEW COMFORT, S, 5 м, стрічка, синя","Більше 10","Рулетки",632.03,822,{"$f":"Flexi!I$87","v":0},{"$f":"Flexi!J$87","v":0}]
[null,1111161923,"FL 043523","Рулетка NEW COMFORT, S, 5 м, стрічка, червона","Менше 10","Рулетки",632.03,822,{"$f":"Flexi!I$88","v":0},{"$f":"Flexi!J$88","v":0}]
[null,1111161952,"FL 043547","Рулетка NEW COMFORT, S, 5 м, стрічка, чорна","Менше 10","Рулетки",632.03,822,{"$f":"Flexi!I$89","v":0},{"$f":"Flexi!J$89","v":0}]
[null,1111162155,"FL 043417","Рулетка NEW COMFORT, XS, 3 м, стрічка, блакитна","Немає в наявності","Рулетки",530.05999999999995,689,{"$f":"Flexi!I$90","v":0},{"$f":"Flexi!J$90","v":0}]
[null,1111161947,"FL 043400","Рулетка NEW COMFORT, XS, 3 м, стрічка, рожева","Більше 10","Рулетки",530.05999999999995,690,{"$f":"Flexi!I$91","v":0},{"$f":"Flexi!J$91","v":0}]
[null,1111161945,"FL 043431","Рулетка NEW COMFORT, XS, 3 м, стрічка, синя","Менше 10","Рулетки",530.05999999999995,690,{"$f":"Flexi!I$92","v":0},{"$f":"Flexi!J$92","v":0}]
[null,1111161946,"FL 043424","Рулетка NEW COMFORT, XS, 3 м, стрічка, червона","Менше 10","Рулетки",530.05999999999995,690,{"$f":"Flexi!I$93","v":0},{"$f":"Flexi!J$93","v":0}]
[null,1111162156,"FL 043448","Рулетка NEW COMFORT, XS, 3 м, стрічка, чорна","Менше 10","Рулетки",530.05999999999995,689,{"$f":"Flexi!I$94","v":0},{"$f":"Flexi!J$94","v":0}]
[null,1111161956,"FL 043615","Рулетка NEW COMFORT, М, 5 м, стрічка, блакитна","Менше 10","Рулетки",765.75,996,{"$f":"Flexi!I$95","v":0},{"$f":"Flexi!J$95","v":0}]
[null,1111161955,"FL 043622","Рулетка NEW COMFORT, М, 5 м, стрічка, червона","Менше 10","Рулетки",765.75,996,{"$f":"Flexi!I$96","v":0},{"$f":"Flexi!J$96","v":0}]
[null,1111145972,"15004_ord","Акваріум FL FLEX 34 л чорний","Менше 10","Акваріуми, акваріумні набори, комплектуючі",6433.08,9006,{"$f":"Fluval!I$8","v":0},{"$f":"Fluval!J$8","v":0}]
[null,1111145973,"15007_ord","Акваріум FL FLEX 57 л чорний","Менше 10","Акваріуми, акваріумні набори, комплектуючі",9071.52,12704,{"$f":"Fluval!I$9","v":0},{"$f":"Fluval!J$9","v":0}]
[null,1111111662,"A20196*****","Головка до фільтра FL 406","Менше 10","Запчастини для акваріумного обладнання",3236.24,4851,{"$f":"Fluval!I$10","v":0},{"$f":"Fluval!J$10","v":0}]
[null,1111114973,"A20210","Кільце ущільнююче в FL FX-5","Менше 10","Запчастини для акваріумного обладнання",430.37,602,{"$f":"Fluval!I$11","v":0},{"$f":"Fluval!J$11","v":0}]
[null,1111115096,"A20212","Кільце ущільнююче в FL FX-5","Менше 10","Запчастини для акваріумного обладнання",122.94,172,{"$f":"Fluval!I$12","v":0},{"$f":"Fluval!J$12","v":0}]
[null,11239,"A20192","Корпус до фільтра FL306","Менше 10","Запчастини для акваріумного обладнання",1139.9100000000001,1596,{"$f":"Fluval!I$13","v":0},{"$f":"Fluval!J$13","v":0}]
[null,1111112550,"A20116","Кришка до ротора FL 104","Менше 10","Запчастини для акваріумного обладнання",258.24,361,{"$f":"Fluval!I$14","v":0},{"$f":"Fluval!J$14","v":0}]
[null,1111147834,"A20204_ord","Кришка корпуса для фільтра Fluval FX6","Менше 10","Запчастини для акваріумного обладнання",1484.86,2079,{"$f":"Fluval!I$15","v":0},{"$f":"Fluval!J$15","v":0}]
[null,1111174254,"A20095","Набір запчастин Fluval для фільтру FL 207","Менше 10","Запчастини для акваріумного обладнання",1084.9100000000001,1519,{"$f":"Fluval!I$16","v":0},{"$f":"Fluval!J$16","v":0}]
[null,1111174255,"A20096","Набір запчастин Fluval для фільтру FL 307","Менше 10","Запчастини для акваріумного обладнання",1244.3900000000001,1743,{"$f":"Fluval!I$17","v":0},{"$f":"Fluval!J$17","v":0}]
[null,1111174256,"A20097","Набір запчастин Fluval для фільтру FL 407","Менше 10","Запчастини для акваріумного обладнання",1244.3900000000001,1743,{"$f":"Fluval!I$18","v":0},{"$f":"Fluval!J$18","v":0}]
[null,1111162217,"A20053_ord","Патрубок для забору води для фільтрів A443, A446, A449, арт. A20053","Менше 10","Запчастини для акваріумного обладнання",382.75,536,{"$f":"Fluval!I$19","v":0},{"$f":"Fluval!J$19","v":0}]
[null,10228,"A20152","Ротор у фільтр FL 304","Менше 10","Запчастини для акваріумного обладнання",395.06,553,{"$f":"Fluval!I$20","v":0},{"$f":"Fluval!J$20","v":0}]
[null,22565,"A20153_ord","Ротор у фільтр FL 306","Менше 10","Запчастини для акваріумного обладнання",468.27,656,{"$f":"Fluval!I$21","v":0},{"$f":"Fluval!J$21","v":0}]
[null,22553,"A20173","Ротор у фільтр FL 406","Менше 10","Запчастини для акваріумного обладнання",483.44,677,{"$f":"Fluval!I$22","v":0},{"$f":"Fluval!J$22","v":0}]
[null,1111137338,"A20206","Ротор у фільтр FL FХ5/FX6","Менше 10","Запчастини для акваріумного обладнання",2022.89,2832,{"$f":"Fluval!I$23","v":0},{"$f":"Fluval!J$23","v":0}]
[null,1111147835,"A20225_ord","Трубка забору води FLl FX4 / FX5 / FX6","Менше 10","Запчастини для акваріумного обладнання",376.39,527,{"$f":"Fluval!I$24","v":0},{"$f":"Fluval!J$24","v":0}]
[null,1111124727,"A20207","Ущільнювач в FL ЕХ5","Менше 10","Запчастини для акваріумного обладнання",122.89,172,{"$f":"Fluval!I$25","v":0},{"$f":"Fluval!J$25","v":0}]
[null,1111135745,"A219","Фільтр FLUVAL FX6","Менше 10","Обладнання для акваріума, комплектуючі",18048.63,25270,{"$f":"Fluval!I$26","v":0},{"$f":"Fluval!J$26","v":0}]
[null,3358,15200030,"Вольєр д/птахів TIFFANY 72х55,5х123,5 см","Менше 10","Клітки, вольєри для великих птахів",15215.79,19780,{"$f":"Fop!I$8","v":0},{"$f":"Fop!J$8","v":0}]
[null,1633,20070270,"Клітка д/гризун BERNIE DELUXE 53х38х25,5см укомплект.","Більше 10","Клітки для дрібних і середніх гризунів",1205.4100000000001,1566,{"$f":"Fop!I$9","v":0},{"$f":"Fop!J$9","v":0}]
[null,1111112359,20070070,"Клітка д/гризунів BERNIE 53х38х25,5 см пластикова","Менше 10","Клітки для дрібних і середніх гризунів",866.84,1127,{"$f":"Fop!I$10","v":0},{"$f":"Fop!J$10","v":0}]
[null,1111129209,20030270,"Клітка д/гризунів JUNIOR DELUXE 42х34х22 см укомплект.","Менше 10","Клітки для дрібних і середніх гризунів",782.52,1018,{"$f":"Fop!I$11","v":0},{"$f":"Fop!J$11","v":0}]
[null,7798,20810088,"Клітка д/гризунів MARY CHARME 66х45х121см трирівнева","Менше 10","Клітки для дрібних і середніх гризунів",8984.5499999999993,11680,{"$f":"Fop!I$12","v":0},{"$f":"Fop!J$12","v":0}]
[null,1111148627,20107011,"Клітка д/гризунів PINO 45х27,5х40 см укомплектована","Менше 10","Клітки для дрібних і середніх гризунів",2061.87,2680,{"$f":"Fop!I$13","v":0},{"$f":"Fop!J$13","v":0}]
[null,1111148629,20790011,"Клітка д/гризунів ZOE 45х27х20 см укомплектована","Менше 10","Клітки для дрібних і середніх гризунів",876.06,1138,{"$f":"Fop!I$14","v":0},{"$f":"Fop!J$14","v":0}]
[null,1111140442,10710011,"Клітка д/птахів ANITA BIG FUN 53х32х67 см","Менше 10","Клітки для дрібних і середніх птахів",3028.67,3938,{"$f":"Fop!I$15","v":0},{"$f":"Fop!J$15","v":0}]
[null,903,10380010,"Клітка д/птахів EVITA 53х33х80 см біла, з підставкою","Менше 10","Клітки для дрібних і середніх птахів",4431.68,5761,{"$f":"Fop!I$16","v":0},{"$f":"Fop!J$16","v":0}]
[null,1111143819,15270030,"Клітка д/птахів IVONNE 66х45х60 см біла","Менше 10","Клітки для дрібних і середніх птахів",4224.8500000000004,5493,{"$f":"Fop!I$17","v":0},{"$f":"Fop!J$17","v":0}]
[null,1111148625,10720011,"Клітка д/птахів LARA BIG FUN 40х27х51 см","Менше 10","Клітки для дрібних і середніх птахів",2110.4499999999998,2745,{"$f":"Fop!I$18","v":0},{"$f":"Fop!J$18","v":0}]
[null,1111148622,10300030,"Клітка д/птахів OLGA 59х36х66 см оцинкована","Менше 10","Клітки для дрібних і середніх птахів",3487.12,4534,{"$f":"Fop!I$19","v":0},{"$f":"Fop!J$19","v":0}]
[null,1111127613,15110010,"Клітка для птахів CRISTINA 66?45?84см біла з підставкою","Менше 10","Клітки для дрібних і середніх птахів",5258.99,6837,{"$f":"Fop!I$20","v":0},{"$f":"Fop!J$20","v":0}]
[null,1111131117,"2541007/0,6","Туалет д/котів закритий BUFFY 54х38,5х38 см","Менше 10","Туалети",633.14,823,{"$f":"Fop!I$21","v":0},{"$f":"Fop!J$21","v":0}]
[null,1111182748,"FC1400","Наповнювач Forest Cat вівсяний для котів 3 кг","Більше 100","Наповнювачі на рослинній основі (в т.ч. паперові)",51.03,69,{"$f":"'Forest Cat'!I$8","v":0},{"$f":"'Forest Cat'!J$8","v":0}]
[null,1111182747,"FC1431","Наповнювач Forest Cat вівсяний для котів 5 кг","Більше 100","Наповнювачі на рослинній основі (в т.ч. паперові)",77.11,104,{"$f":"'Forest Cat'!I$9","v":0},{"$f":"'Forest Cat'!J$9","v":0}]
[null,1111161390,"691664 СПЕЦЦЕНА","Граблі FURminator NEW з обертовими зубцями","Менше 10","Аксесуари для грумінгу",364.6,565,{"$f":"FURminator!I$8","v":0},{"$f":"FURminator!J$8","v":0}]
[null,1111158254,"691715 СПЕЦЦЕНА","Гребінець-щітка Furminator NEW гумова","Більше 10","Аксесуари для грумінгу",254.38,395,{"$f":"FURminator!I$9","v":0},{"$f":"FURminator!J$9","v":0}]
[null,1111158255,"691669 СПЕЦЦЕНА","Ковтунорыз Furminator NEW","Менше 10","Аксесуари для грумінгу",599.13,929,{"$f":"FURminator!I$10","v":0},{"$f":"FURminator!J$10","v":0}]
[null,1111156133,"691662СПЕЦЦЕНА","Фурмінатор FURminator для котів з довгою шерстю M/L арт.691741/691662","Більше 100","Аксесуари для грумінгу",689.24,1068,{"$f":"FURminator!I$11","v":0},{"$f":"FURminator!J$11","v":0}]
[null,1111156123,"691654СПЕЦЦЕНА","Фурмінатор FURminator для собак з довгою шерстю S арт.691733/691654","Більше 10","Аксесуари для грумінгу",639.45000000000005,991,{"$f":"FURminator!I$12","v":0},{"$f":"FURminator!J$12","v":0}]
[null,1111156125,"691655СПЕЦЦЕНА","Фурмінатор FURminator для собак з довгою шерстю М арт.691734/691655","Більше 100","Аксесуари для грумінгу",800.21,1240,{"$f":"FURminator!I$13","v":0},{"$f":"FURminator!J$13","v":0}]
[null,1111156124,"691665СПЕЦЦЕНА","Фурмінатор FURminator для собак з короткою шерстю М арт.691742/691665","Більше 10","Аксесуари для грумінгу",800.21,1240,{"$f":"FURminator!I$14","v":0},{"$f":"FURminator!J$14","v":0}]
[null,1111156131,"691660СПЕЦЦЕНА","Фурмінатор NEW д/котів довга ш., розмір S","Більше 10","Аксесуари для грумінгу",639.45000000000005,991,{"$f":"FURminator!I$15","v":0},{"$f":"FURminator!J$15","v":0}]
[null,1111156132,"691661СПЕЦЦЕНА","Фурмінатор NEW д/котів корот. ш., розмір L","Більше 100","Аксесуари для грумінгу",689.24,1068,{"$f":"FURminator!I$16","v":0},{"$f":"FURminator!J$16","v":0}]
[null,1111156130,"691659СПЕЦЦЕНА","Фурмінатор NEW д/котів корот.ш., розмір S","Більше 100","Аксесуари для грумінгу",639.45000000000005,991,{"$f":"FURminator!I$17","v":0},{"$f":"FURminator!J$17","v":0}]
[null,1111156127,"691657СПЕЦЦЕНА","Фурмінатор NEW д/собак довга ш., розмір L","Більше 10","Аксесуари для грумінгу",959.53,1487,{"$f":"FURminator!I$18","v":0},{"$f":"FURminator!J$18","v":0}]
[null,1111156129,"691658СПЕЦЦЕНА","Фурмінатор NEW д/собак довга ш., розмір XL","Більше 10","Аксесуари для грумінгу",1116.01,1729,{"$f":"FURminator!I$19","v":0},{"$f":"FURminator!J$19","v":0}]
[null,1111156121,"691693СПЕЦЦЕНА","Фурмінатор NEW д/собак довга ш., розмір XS","Менше 10","Аксесуари для грумінгу",561.20000000000005,869,{"$f":"FURminator!I$20","v":0},{"$f":"FURminator!J$20","v":0}]
[null,1111156126,"92955FL/691656СПЕЦЦЕНА","Фурмінатор NEW д/собак корот.ш., розмір L","Більше 10","Аксесуари для грумінгу",959.53,1487,{"$f":"FURminator!I$21","v":0},{"$f":"FURminator!J$21","v":0}]
[null,1111156122,"691653СПЕЦЦЕНА","Фурмінатор NEW д/собак корот.ш., розмір S","Більше 10","Аксесуари для грумінгу",639.45000000000005,991,{"$f":"FURminator!I$22","v":0},{"$f":"FURminator!J$22","v":0}]
[null,1111156128,"691694СПЕЦЦЕНА","Фурмінатор NEW д/собак корот.ш., розмір XL","Менше 10","Аксесуари для грумінгу",1116.01,1729,{"$f":"FURminator!I$23","v":0},{"$f":"FURminator!J$23","v":0}]
[null,1111156120,"691692СПЕЦЦЕНА","Фурмінатор NEW д/собак корот.ш., розмір XS","Менше 10","Аксесуари для грумінгу",561.20000000000005,869,{"$f":"FURminator!I$24","v":0},{"$f":"FURminator!J$24","v":0}]
[null,1111158253,"691663 СПЕЦЦЕНА","Щітка Furminator NEW двостороння","Менше 10","Аксесуари для грумінгу",381.96,592,{"$f":"FURminator!I$25","v":0},{"$f":"FURminator!J$25","v":0}]
[null,1111158252,"691668 СПЕЦЦЕНА","Щітка Furminator NEW для збору шерсті","Більше 10","Аксесуари для грумінгу",504.97,783,{"$f":"FURminator!I$26","v":0},{"$f":"FURminator!J$26","v":0}]
[null,1111170987,"153184 СПЕЦЦЕНА","Щітка-пуходерка жорстка FURminator для котів/собак арт.153184 СПЕЦЦЕНА","Більше 10","Аксесуари для грумінгу",451.67,700,{"$f":"FURminator!I$27","v":0},{"$f":"FURminator!J$27","v":0}]
[null,1111170988,"153214 СПЕЦЦЕНА","Щітка-пуходерка м_яка FURminator для котів та собак арт153214 СПЕЦЦЕНА","Менше 10","Аксесуари для грумінгу",451.67,700,{"$f":"FURminator!I$28","v":0},{"$f":"FURminator!J$28","v":0}]
[null,1111165387,"2.210162/14800","GimBi Natural Delight кульбаба і яблука для гризунів, 100 г,","Менше 10","Ласощі для гризунів",179.74,270,{"$f":"GimBi!I$8","v":0},{"$f":"GimBi!J$8","v":0}]
[null,1111165378,"2.201887/17486","GimBi Дропси з буряком для гризунів, 50 г","Більше 10","Ласощі для гризунів",118.02,178,{"$f":"GimBi!I$9","v":0},{"$f":"GimBi!J$9","v":0}]
[null,1111165376,"2.201863/17488","GimBi Дропси з кульбабою для гризунів, 50 г","Менше 10","Ласощі для гризунів",118.02,178,{"$f":"GimBi!I$10","v":0},{"$f":"GimBi!J$10","v":0}]
[null,1111165375,"2.201856/17489","GimBi Дропси з морквою для гризунів, 50 г","Більше 10","Ласощі для гризунів",118.02,178,{"$f":"GimBi!I$11","v":0},{"$f":"GimBi!J$11","v":0}]
[null,1111165377,"2.201870/17487","GimBi Дропси з травами для гризунів, 50 г","Менше 10","Ласощі для гризунів",118.02,178,{"$f":"GimBi!I$12","v":0},{"$f":"GimBi!J$12","v":0}]
[null,1111163647,"G-205090","Сіно Gimbi для гризунів 500 г з трояндою і м ятою","Більше 10","Корм для гризунів",186.95,281,{"$f":"GimBi!I$13","v":0},{"$f":"GimBi!J$13","v":0}]
[null,1111129443,"G-205069","Сіно для гризунів 1 кг","Більше 10","Корм для гризунів",128.36000000000001,193,{"$f":"GimBi!I$14","v":0},{"$f":"GimBi!J$14","v":0}]
[null,1111160189,"G-205151","Сіно Тимофіївки, 500 г, Gimbi, Grain Free","Більше 10","Корм для гризунів",206.09,309,{"$f":"GimBi!I$15","v":0},{"$f":"GimBi!J$15","v":0}]
[null,1111159298,"G-418742","Cat-Mintips 40г вітамін. ласощі з котячою м ятою","Більше 100","Вітаміни та мінерали",97.69,137,{"$f":"GimCat!I$8","v":0},{"$f":"GimCat!J$8","v":0}]
[null,1111183839,"G-401010","Cheese Biotin Paste Gim Cat д/котів cирна з біотином 100г","Більше 100","Вітаміни та мінерали",308.97000000000003,433,{"$f":"GimCat!I$9","v":0},{"$f":"GimCat!J$9","v":0}]
[null,1111183697,"G-427201","DUO PASTE Anti-hairboll Gim Cat д/котів з чутлив.травл мальт,курка 50г","Більше 100","Вітаміни та мінерали",197,276,{"$f":"GimCat!I$10","v":0},{"$f":"GimCat!J$10","v":0}]
[null,1111183698,"G-427218","DUO PASTE Anti-hairboll Gim Cat д/котів з чутлив.травл мальт,сир 50г","Більше 100","Вітаміни та мінерали",197,276,{"$f":"GimCat!I$11","v":0},{"$f":"GimCat!J$11","v":0}]
[null,1111183699,"G-421841","DUO PASTE Multi-vitamin Gim Cat д/котів 12вітамінів,сир 50г","Більше 10","Вітаміни та мінерали",207,290,{"$f":"GimCat!I$12","v":0},{"$f":"GimCat!J$12","v":0}]
[null,1111183700,"G-421858","DUO PASTE Multi-vitamin Gim Cat д/котів 12вітамінів,тунець 50г","Більше 100","Вітаміни та мінерали",207,290,{"$f":"GimCat!I$13","v":0},{"$f":"GimCat!J$13","v":0}]
[null,1111153594,"G-420653/420615","GimCat Every Day Dental для здоров. зубів котів, 40 г","Більше 100","Вітаміни та мінерали",99.22,139,{"$f":"GimCat!I$14","v":0},{"$f":"GimCat!J$14","v":0}]
[null,1111160999,"G-426174","GimCat Every Day Kitten вітамінні таблетки д/кошенят, 40 г","Більше 100","Вітаміни та мінерали",104.53,147,{"$f":"GimCat!I$15","v":0},{"$f":"GimCat!J$15","v":0}]
[null,1111161838,"G-427034/427065","GimCat Every Day Malt Tabs вітамінні таблетки для котів, 40 г","Більше 10","Вітаміни та мінерали",102.38,144,{"$f":"GimCat!I$16","v":0},{"$f":"GimCat!J$16","v":0}]
[null,1111153596,"G-421681/418704","GimCat Every Day Multivitamin мультивітамін. Для котів, 40 г","Більше 100","Вітаміни та мінерали",97.72,137,{"$f":"GimCat!I$17","v":0},{"$f":"GimCat!J$17","v":0}]
[null,1111153593,"G-418711/419114","GimCat Every Day Skin and Coat для шерсті котів, 40 г","Більше 10","Вітаміни та мінерали",97.81,137,{"$f":"GimCat!I$18","v":0},{"$f":"GimCat!J$18","v":0}]
[null,1111150088,"G-417950/417462","GimCat Expert Line Gastro Intestinal паста для травлення котів, 50г","Більше 10","Вітаміни та мінерали",279.10000000000002,391,{"$f":"GimCat!I$19","v":0},{"$f":"GimCat!J$19","v":0}]
[null,1111151180,"G-426167/ 406787","GimCat Expert Line Kitten паста для кошенят, 50 г","Більше 10","Вітаміни та мінерали",279.10000000000002,391,{"$f":"GimCat!I$20","v":0},{"$f":"GimCat!J$20","v":0}]
[null,1111169214,"G-421698","GimCat Expert Line Relax паста для котів 50 г","Більше 10","Вітаміни та мінерали",279.11,391,{"$f":"GimCat!I$21","v":0},{"$f":"GimCat!J$21","v":0}]
[null,1111150087,"G-402192/402109","GimCat Expert Line Taurine Extra паста з таурином для котів, 50г","Більше 10","Вітаміни та мінерали",276.52,387,{"$f":"GimCat!I$22","v":0},{"$f":"GimCat!J$22","v":0}]
[null,1111169213,"G-427041","GimCat Expert Line UT Balance паста для котів, 50 г","Більше 10","Вітаміни та мінерали",279.10000000000002,391,{"$f":"GimCat!I$23","v":0},{"$f":"GimCat!J$23","v":0}]
[null,1111152120,"G-421612/401324","GimCat Extra Мультивітамінна паста для котів, 100 г","Більше 10","Вітаміни та мінерали",328.01,460,{"$f":"GimCat!I$24","v":0},{"$f":"GimCat!J$24","v":0}]
[null,1111152119,"G-421636/401881","GimCat Extra Мультивітамінна паста для котів, 200 г","Більше 10","Вітаміни та мінерали",480.57,673,{"$f":"GimCat!I$25","v":0},{"$f":"GimCat!J$25","v":0}]
[null,1111152121,"G-401300/421605","GimCat Extra Мультивітамінна паста для котів, 50 г","Більше 10","Вітаміни та мінерали",201.02,282,{"$f":"GimCat!I$26","v":0},{"$f":"GimCat!J$26","v":0}]
[null,1111135228,"G-427010/417080*****","GimCat GrasBits вітамінні ласощі з травою для котів, 710шт./425г","Більше 100","Ласощі для котів",643.79999999999995,901,{"$f":"GimCat!I$27","v":0},{"$f":"GimCat!J$27","v":0}]
[null,1111142196,"G-417653/417271","GimCat GrasBits таблетки вітамінізовані з травою для котів 40г/65шт","Більше 100","Ласощі для котів",100.41,142,{"$f":"GimCat!I$28","v":0},{"$f":"GimCat!J$28","v":0}]
[null,5033,"G-409139/419060","GimCat Katzentabs з алгобіотином і біотином для котів, 710 шт.","Більше 10","Вітаміни та мінерали",643.79999999999995,901,{"$f":"GimCat!I$29","v":0},{"$f":"GimCat!J$29","v":0}]
[null,1111133360,"G-419084/408064","GimCat Katzentabs з маскарпоне і біотином для котів, 710 шт.","Більше 10","Вітаміни та мінерали",643.79999999999995,901,{"$f":"GimCat!I$30","v":0},{"$f":"GimCat!J$30","v":0}]
[null,667,"G-407531/417936","GimCat Malt-soft EXTRA паста д/виведення шерсті зі шлунку котів, 100 г","Більше 100","Вітаміни та мінерали",310.83999999999997,435,{"$f":"GimCat!I$31","v":0},{"$f":"GimCat!J$31","v":0}]
[null,2831,"G-407081/417912","GimCat Malt-soft EXTRA паста д/виведення шерсті зі шлунку котів, 20 г","Більше 100","Вітаміни та мінерали",110.96,155,{"$f":"GimCat!I$32","v":0},{"$f":"GimCat!J$32","v":0}]
[null,1111138174,"G-417127/417943","GimCat Malt-soft EXTRA паста д/виведення шерсті зі шлунку котів, 200г","Немає в наявності","Вітаміни та мінерали",490.71,687,{"$f":"GimCat!I$33","v":0},{"$f":"GimCat!J$33","v":0}]
[null,1111123383,"G-407364/417929","GimCat Malt-soft EXTRA паста д/виведення шерсті зі шлунку котів, 50г","Немає в наявності","Вітаміни та мінерали",197.08,276,{"$f":"GimCat!I$34","v":0},{"$f":"GimCat!J$34","v":0}]
[null,1111164085,"G-419183/419275","GimCat Nutri Pockets ласощі кантрі мікс для котів, 150 г","Більше 100","Ласощі для котів",137.19999999999999,193,{"$f":"GimCat!I$35","v":0},{"$f":"GimCat!J$35","v":0}]
[null,1111164086,"G-419220/419312","GimCat Nutri Pockets ласощі качка + мультивітамін для котів , 60 г","Більше 100","Ласощі для котів",79.55,112,{"$f":"GimCat!I$36","v":0},{"$f":"GimCat!J$36","v":0}]
[null,1111164084,"G-419176/419268","GimCat Nutri Pockets ласощі морський мікс для котів, 150 г","Більше 100","Ласощі для котів",137.19999999999999,193,{"$f":"GimCat!I$37","v":0},{"$f":"GimCat!J$37","v":0}]
[null,1111140229,"G-418285/419336/419244","GimCat Nutri Pockets подушечки для зубів, для котів, 60 г","Більше 100","Ласощі для котів",79.55,112,{"$f":"GimCat!I$38","v":0},{"$f":"GimCat!J$38","v":0}]
[null,1111138662,"G-419282/400723","GimCat Nutri Pockets подушечки Котяча м_ята + Мультивіт д/котів, 60 г","Більше 100","Ласощі для котів",79.55,112,{"$f":"GimCat!I$39","v":0},{"$f":"GimCat!J$39","v":0}]
[null,1111138663,"G-419299/400730","GimCat Nutri Pockets подушечки Лосось + Омега 3+6 для котів, 60 г","Більше 100","Ласощі для котів",79.55,112,{"$f":"GimCat!I$40","v":0},{"$f":"GimCat!J$40","v":0}]
[null,1111138659,"G-419251/400693/419169","GimCat Nutri Pockets подушечки мультивітамінний мікс для котів, 150 г","Більше 100","Ласощі для котів",137.19999999999999,193,{"$f":"GimCat!I$41","v":0},{"$f":"GimCat!J$41","v":0}]
[null,1111138661,"G-419329/400716/419237","GimCat Nutri Pockets подушечки Сир + Таурин для котів, 60 г","Більше 100","Ласощі для котів",79.55,112,{"$f":"GimCat!I$42","v":0},{"$f":"GimCat!J$42","v":0}]
[null,1111138664,"G-419305/400747","GimCat Nutri Pockets подушечки Яловичина + Солод (Мальт) для котів 60г","Більше 100","Ласощі для котів",79.55,112,{"$f":"GimCat!I$43","v":0},{"$f":"GimCat!J$43","v":0}]
[null,1111146624,"G-420967/420578","GimCat SUPERFOOD М_ясні дуо-палички курка і ліс ягоди для котів, 3 шт.","Більше 10","Ласощі для котів",57.84,81,{"$f":"GimCat!I$44","v":0},{"$f":"GimCat!J$44","v":0}]
[null,1111146622,"G-420943/420554","GimCat SUPERFOOD М_ясні дуо-палички лосось і манго для котів, 3 шт.","Більше 100","Ласощі для котів",57.84,81,{"$f":"GimCat!I$45","v":0},{"$f":"GimCat!J$45","v":0}]
[null,1111146623,"G-420950/420561","GimCat SUPERFOOD М_ясні дуо-палички яловичина і яблука для котів, 3 шт","Більше 10","Ласощі для котів",57.84,81,{"$f":"GimCat!I$46","v":0},{"$f":"GimCat!J$46","v":0}]
[null,5031,"G-419039/409351*****","GimCat вітамінізовані сердечка з куркою і таурином для котів, 650 шт.","Більше 10","Вітаміни та мінерали",765.9,1072,{"$f":"GimCat!I$47","v":0},{"$f":"GimCat!J$47","v":0}]
[null,1111141917,"Gimborn","GimCat Вітамінний мікс, таблетки для котів, 12 шт","Більше 100","Вітаміни та мінерали",17.079999999999998,24,{"$f":"GimCat!I$48","v":0},{"$f":"GimCat!J$48","v":0}]
[null,1111126502,"G-401027/421599","GimCat Евері Дей Мультивітамін паста для котів, 100 г","Більше 10","Вітаміни та мінерали",294.93,413,{"$f":"GimCat!I$49","v":0},{"$f":"GimCat!J$49","v":0}]
[null,1111137838,"G-401423/421629","GimCat Евері Дей Мультивітамін паста дя котів, 50 г","Більше 100","Вітаміни та мінерали",197.08,276,{"$f":"GimCat!I$50","v":0},{"$f":"GimCat!J$50","v":0}]
[null,1111140716,"G-420844/420929/420448","GimCat м_ясні палички для кошенят 3 шт.","Більше 100","Ласощі для котів",52.45,73,{"$f":"GimCat!I$51","v":0},{"$f":"GimCat!J$51","v":0}]
[null,1111145480,"G-420868/400761","GimCat М_ясні палички з м ясом птахів для котів, 4 шт. х 5 г","Більше 100","Ласощі для котів",73.849999999999994,103,{"$f":"GimCat!I$52","v":0},{"$f":"GimCat!J$52","v":0}]
[null,1111138138,"G-401898/421643","GimCat Мультивітамінна паста Extra для котів, 200 г","Менше 10","Вітаміни та мінерали",486.36,682,{"$f":"GimCat!I$53","v":0},{"$f":"GimCat!J$53","v":0}]
[null,1111130024,"G-420905/420530","GimCat палички з індичкою та кроликом для котів, 4шт.х 5г","Більше 100","Ласощі для котів",73.849999999999994,103,{"$f":"GimCat!I$54","v":0},{"$f":"GimCat!J$54","v":0}]
[null,1111130025,"G-400778","GimCat палички з лососем та тріскою для котів, 4шт.х 5г","Більше 100","Ласощі для котів",73.849999999999994,103,{"$f":"GimCat!I$55","v":0},{"$f":"GimCat!J$55","v":0}]
[null,1111130023,"G-420912/420523/420820","GimCat палички з ягням та птицею для котів, 4шт.х 5г","Більше 100","Ласощі для котів",73.849999999999994,103,{"$f":"GimCat!I$56","v":0},{"$f":"GimCat!J$56","v":0}]
[null,1111142195,"G-418728/418339","GimCat таблетки сирні загальнозміцнюючий комплекс д/котів, 40г/80 шт","Більше 100","Ласощі для котів",97.79,137,{"$f":"GimCat!I$57","v":0},{"$f":"GimCat!J$57","v":0}]
[null,1111160187,"G-418735","MilkBits 40г вітамін. ласощі з молоком","Більше 100","Вітаміни та мінерали",97.69,137,{"$f":"GimCat!I$58","v":0},{"$f":"GimCat!J$58","v":0}]
[null,1111184123,"G-419626","Nutri Pockets д/котів Рибні Лосось 60г","Більше 100","Ласощі для котів",79.55,112,{"$f":"GimCat!I$59","v":0},{"$f":"GimCat!J$59","v":0}]
[null,1111184124,"G-419633","Nutri Pockets д/котів Рибні Тунець 60г","Більше 100","Ласощі для котів",79.55,112,{"$f":"GimCat!I$60","v":0},{"$f":"GimCat!J$60","v":0}]
[null,1111148270,"G-413785 /412962","Shiny Cat Filet консерви курка і креветки для котів, 70 г","Більше 100","Корм вологий для котів",61.65,78,{"$f":"GimCat!I$61","v":0},{"$f":"GimCat!J$61","v":0}]
[null,1111140228,"G-412979 / 413792","Shiny Cat Filet консерви курка і манго для котів, 70 г","Більше 10","Корм вологий для котів",61.65,78,{"$f":"GimCat!I$62","v":0},{"$f":"GimCat!J$62","v":0}]
[null,1111146614,"G-414515/414553","Shiny Cat SUPERFOOD консерви курка і яблуко для котів, 70 г","Більше 10","Корм вологий для котів",67.099999999999994,85,{"$f":"GimCat!I$63","v":0},{"$f":"GimCat!J$63","v":0}]
[null,1111137996,"G-413112 /413310","Shiny Cat консерви курка для котів, 70 г","Більше 100","Корм вологий для котів",58.25,73,{"$f":"GimCat!I$64","v":0},{"$f":"GimCat!J$64","v":0}]
[null,1111137997,"G-413129 /413327","Shiny Cat консерви курка і креветки для котів, 70 г","Більше 10","Корм вологий для котів",58.25,73,{"$f":"GimCat!I$65","v":0},{"$f":"GimCat!J$65","v":0}]
[null,1111146346,"G-412948/413587","Shiny Cat консерви курка і папайя для котів, 70 г","Більше 10","Корм вологий для котів",58.25,73,{"$f":"GimCat!I$66","v":0},{"$f":"GimCat!J$66","v":0}]
[null,1111148269,"G-413273*****","Shiny Cat консерви курка, креветка і мальт для котів, 70 г","Менше 10","Корм вологий для котів",66.62,84,{"$f":"GimCat!I$67","v":0},{"$f":"GimCat!J$67","v":0}]
[null,1111137993,"G-413082 /413280","Shiny Cat консерви тунець для котів, 70 г","Більше 100","Корм вологий для котів",60.71,77,{"$f":"GimCat!I$68","v":0},{"$f":"GimCat!J$68","v":0}]
[null,1111137994,"G-413099 /413297","Shiny Cat консерви тунець і креветки для котів, 70 г","Більше 100","Корм вологий для котів",60.71,77,{"$f":"GimCat!I$69","v":0},{"$f":"GimCat!J$69","v":0}]
[null,1111137995,"G-413105 /413303","Shiny Cat консерви тунець і курка для котів, 70 г","Більше 10","Корм вологий для котів",60.71,77,{"$f":"GimCat!I$70","v":0},{"$f":"GimCat!J$70","v":0}]
[null,1111148267,"G-414317 /195","Shiny Cat консерви тунець і лосось для котів, 70 г","Більше 10","Корм вологий для котів",60.71,77,{"$f":"GimCat!I$71","v":0},{"$f":"GimCat!J$71","v":0}]
[null,1111148266,"G-414300/414188","Shiny Cat консерви тунець і сир для котів, 70 г","Більше 10","Корм вологий для котів",60.71,77,{"$f":"GimCat!I$72","v":0},{"$f":"GimCat!J$72","v":0}]
[null,1111138665,"G-413143/413341","Shiny Kitten консерви курка для кошенят, 70 г","Більше 10","Корм вологий для котів",58.25,73,{"$f":"GimCat!I$73","v":0},{"$f":"GimCat!J$73","v":0}]
[null,1111138666,"G-413150/413358","Shiny Kitten консерви тунець для кошенят, 70 г","Більше 100","Корм вологий для котів",62.96,80,{"$f":"GimCat!I$74","v":0},{"$f":"GimCat!J$74","v":0}]
[null,1111160355,"G-80703","Паличка GimCat з дзвіночками і великим пір ям, 48 см","Більше 10","Іграшки для котів",196.65,255,{"$f":"GimCat!I$75","v":0},{"$f":"GimCat!J$75","v":0}]
[null,1111160354,"G-80701","Паличка GimCat з пір ям і спіральками з паперу, 62 см","Менше 10","Іграшки для котів",174.14,226,{"$f":"GimCat!I$76","v":0},{"$f":"GimCat!J$76","v":0}]
[null,1111160358,"G-80707","Паличка GimCat з потрійними хутряним хвостом, 46 см","Більше 10","Іграшки для котів",190.64,248,{"$f":"GimCat!I$77","v":0},{"$f":"GimCat!J$77","v":0}]
[null,1111148275,"G-513164 /027","Shiny Dog Pure Delight консерви курка, тунець для собак, 85 г","Менше 10","Корм вологий для собак",57.48,72,{"$f":"GimDog!I$8","v":0},{"$f":"GimDog!J$8","v":0}]
[null,1111148274,"G-513157/513010","Shiny Dog Pure Delight консерви тунець для собак, 85 г","Більше 100","Корм вологий для собак",57.48,72,{"$f":"GimDog!I$9","v":0},{"$f":"GimDog!J$9","v":0}]
[null,1111160366,"G-80728","Іграшка GimDog BIG BANG Бомба M, д/соб, 15,2 см","Менше 10","Іграшки для собак",388.8,505,{"$f":"GimDog!I$10","v":0},{"$f":"GimDog!J$10","v":0}]
[null,1111160365,"G-80727","Іграшка GimDog BIG BANG Бомба S, д/соб, 12,7 см","Більше 10","Іграшки для собак",280.72000000000003,365,{"$f":"GimDog!I$11","v":0},{"$f":"GimDog!J$11","v":0}]
[null,1111162219,"G-80784","Іграшка GimDog Дент Плюс мотузка / кільце з термопластичною гумою,15см","Більше 10","Іграшки для собак",198.16,258,{"$f":"GimDog!I$12","v":0},{"$f":"GimDog!J$12","v":0}]
[null,1111162222,"G-80780","Іграшка GimDog Дент Плюс мотузка з термопластичною гумою, 30 см","Більше 10","Іграшки для собак",189.14,246,{"$f":"GimDog!I$13","v":0},{"$f":"GimDog!J$13","v":0}]
[null,1111162228,"G-80791","Іграшка GimDog Інтерактивна кісточка, 14 см, з ароматом курки","Менше 10","Іграшки для собак",366.29,476,{"$f":"GimDog!I$14","v":0},{"$f":"GimDog!J$14","v":0}]
[null,1111162233,"G-80796","Іграшка GimDog Інтерактивна кісточка, 17,8 см, з ароматом бекону","Більше 10","Іграшки для собак",297.24,386,{"$f":"GimDog!I$15","v":0},{"$f":"GimDog!J$15","v":0}]
[null,1111162230,"G-80793","Іграшка GimDog Інтерактивна кісточка, 17,8 см, з ароматом яловичини","Менше 10","Іграшки для собак",366.29,476,{"$f":"GimDog!I$16","v":0},{"$f":"GimDog!J$16","v":0}]
[null,1111152653,"G-80550","Іграшка Крокодил, 63,5 см, плюш/тканина GimDog","Менше 10","Іграшки для собак",645.5,839,{"$f":"GimDog!I$17","v":0},{"$f":"GimDog!J$17","v":0}]
[null,1111152643,"G-2.504780","Кондиціонер Natural Solutions для собак 250 мл GimDog","Менше 10","Косметика, засоби догляду для грумінгу",481.94,627,{"$f":"GimDog!I$18","v":0},{"$f":"GimDog!J$18","v":0}]
[null,1111163502,80303206619,"Нашийник Alfresco подвійн. неопрен 3.2*42-66см помаран.","Менше 10","Нашийники, нашийники-зашморги",450.35,585,{"$f":"GimDog!I$19","v":0},{"$f":"GimDog!J$19","v":0}]
[null,1111163495,80302004016,"Нашийник Alfresco подвійний неопрен 2.0*28-40см жовтий","Менше 10","Нашийники, нашийники-зашморги",310.74,404,{"$f":"GimDog!I$20","v":0},{"$f":"GimDog!J$20","v":0}]
[null,1111163494,80302004013,"Нашийник Alfresco подвійний неопрен 2.0*28-40см чорний","Менше 10","Нашийники, нашийники-зашморги",310.74,404,{"$f":"GimDog!I$21","v":0},{"$f":"GimDog!J$21","v":0}]
[null,1111163498,80302505116,"Нашийник Alfresco подвійний неопрен 2.5*35-51см жовтий","Менше 10","Нашийники, нашийники-зашморги",367.79,478,{"$f":"GimDog!I$22","v":0},{"$f":"GimDog!J$22","v":0}]
[null,1111163497,80302505113,"Нашийник Alfresco подвійний неопрен 2.5*35-51см чорний","Менше 10","Нашийники, нашийники-зашморги",367.79,478,{"$f":"GimDog!I$23","v":0},{"$f":"GimDog!J$23","v":0}]
[null,1111163501,80303206616,"Нашийник Alfresco подвійний неопрен 3.2*42-66см жовтий","Менше 10","Нашийники, нашийники-зашморги",450.35,585,{"$f":"GimDog!I$24","v":0},{"$f":"GimDog!J$24","v":0}]
[null,1111163481,80202003012,"Нашийник HARLEM нейлон 1.0*20-30см блакитний","Менше 10","Нашийники, нашийники-зашморги",178.64,232,{"$f":"GimDog!I$25","v":0},{"$f":"GimDog!J$25","v":0}]
[null,1111163478,80202003011,"Нашийник HARLEM нейлон 1.0*20-30см червоний","Менше 10","Нашийники, нашийники-зашморги",178.64,232,{"$f":"GimDog!I$26","v":0},{"$f":"GimDog!J$26","v":0}]
[null,1111163486,80202504012,"Нашийник HARLEM нейлон 1.5*25-40см блакитний","Менше 10","Нашийники, нашийники-зашморги",214.66,279,{"$f":"GimDog!I$27","v":0},{"$f":"GimDog!J$27","v":0}]
[null,1111163484,80202504014,"Нашийник HARLEM нейлон 1.5*25-40см рожевий","Менше 10","Нашийники, нашийники-зашморги",214.66,279,{"$f":"GimDog!I$28","v":0},{"$f":"GimDog!J$28","v":0}]
[null,1111163482,80202504013,"Нашийник HARLEM нейлон 1.5*25-40см чорний","Менше 10","Нашийники, нашийники-зашморги",214.66,279,{"$f":"GimDog!I$29","v":0},{"$f":"GimDog!J$29","v":0}]
[null,1111163490,80203505112,"Нашийник HARLEM нейлон 2.0*35-51см блакитний","Менше 10","Нашийники, нашийники-зашморги",259.70999999999998,337,{"$f":"GimDog!I$30","v":0},{"$f":"GimDog!J$30","v":0}]
[null,1111163487,80203505113,"Нашийник HARLEM нейлон 2.0*35-51см чорний","Менше 10","Нашийники, нашийники-зашморги",259.70999999999998,337,{"$f":"GimDog!I$31","v":0},{"$f":"GimDog!J$31","v":0}]
[null,1111163514,80312012016,"Повідець Alfresco неопрен+фліс 2.0*120см жовтий","Менше 10","Повідки: для прогулянок, тренувальні, з регульованою довжиною",640.99,834,{"$f":"GimDog!I$32","v":0},{"$f":"GimDog!J$32","v":0}]
[null,1111163513,80312012013,"Повідець Alfresco неопрен+фліс 2.0*120см чорний","Менше 10","Повідки: для прогулянок, тренувальні, з регульованою довжиною",640.99,834,{"$f":"GimDog!I$33","v":0},{"$f":"GimDog!J$33","v":0}]
[null,1111163517,80312512016,"Повідець Alfresco неопрен+фліс 2.5*120см жовтий","Менше 10","Повідки: для прогулянок, тренувальні, з регульованою довжиною",705.55,917,{"$f":"GimDog!I$34","v":0},{"$f":"GimDog!J$34","v":0}]
[null,1111163516,80312512013,"Повідець Alfresco неопрен+фліс 2.5*120см чорний","Менше 10","Повідки: для прогулянок, тренувальні, з регульованою довжиною",705.55,917,{"$f":"GimDog!I$35","v":0},{"$f":"GimDog!J$35","v":0}]
[null,1111163507,80242012012,"Повідець HARLEM неопрен 2.0*120см блакитний","Менше 10","Повідки: для прогулянок, тренувальні, з регульованою довжиною",427.83,556,{"$f":"GimDog!I$36","v":0},{"$f":"GimDog!J$36","v":0}]
[null,1111163505,80242012014,"Повідець HARLEM неопрен 2.0*120см рожевий","Менше 10","Повідки: для прогулянок, тренувальні, з регульованою довжиною",427.83,556,{"$f":"GimDog!I$37","v":0},{"$f":"GimDog!J$37","v":0}]
[null,1111152640,"G-2.504759","Шампунь Natural Solutions для цуценят 250 мл GimDog","Більше 10","Косметика, засоби догляду для грумінгу",426.2,555,{"$f":"GimDog!I$38","v":0},{"$f":"GimDog!J$38","v":0}]
[null,1111163539,"080321505516*****","Шлея Alfresco Y неопрен 1.5*42 45-55см жовта","Менше 10","Шлеї",596.37,895,{"$f":"GimDog!I$39","v":0},{"$f":"GimDog!J$39","v":0}]
[null,1111163540,80321505519,"Шлея Alfresco Y неопрен 1.5*42 45-55см помаранчева","Менше 10","Шлеї",750.58,976,{"$f":"GimDog!I$40","v":0},{"$f":"GimDog!J$40","v":0}]
[null,1111163541,"080322007016*****","Шлея Alfresco Y неопрен 2.0*55 58-70см жовта","Менше 10","Шлеї",687.6,1032,{"$f":"GimDog!I$41","v":0},{"$f":"GimDog!J$41","v":0}]
[null,1111163542,80322007019,"Шлея Alfresco Y неопрен 2.0*55 58-70см помаранчева","Менше 10","Шлеї",864.67,1124,{"$f":"GimDog!I$42","v":0},{"$f":"GimDog!J$42","v":0}]
[null,1111163543,"080322509016*****","Шлея Alfresco Y неопрен 2.5*70 72-90см жовта","Менше 10","Шлеї",824.32,1237,{"$f":"GimDog!I$43","v":0},{"$f":"GimDog!J$43","v":0}]
[null,1111163545,"080323210019*****","Шлея Alfresco Y неопрен 3.2*75 80-100см помаранчева","Менше 10","Шлеї",871.33,1308,{"$f":"GimDog!I$44","v":0},{"$f":"GimDog!J$44","v":0}]
[null,1111163544,80323210013,"Шлея Alfresco Y неопрен 3.2*75 80-100см чорна","Менше 10","Шлеї",1110.8699999999999,1444,{"$f":"GimDog!I$45","v":0},{"$f":"GimDog!J$45","v":0}]
[null,1111163557,80334705016,"Шлея Alfresco неопрен L 47-50см жовта","Менше 10","Шлеї",774.6,1007,{"$f":"GimDog!I$46","v":0},{"$f":"GimDog!J$46","v":0}]
[null,1111163556,80334705013,"Шлея Alfresco неопрен L 47-50см чорна","Менше 10","Шлеї",774.6,1007,{"$f":"GimDog!I$47","v":0},{"$f":"GimDog!J$47","v":0}]
[null,1111163555,80334104419,"Шлея Alfresco неопрен M 41-44см помаранчева","Менше 10","Шлеї",723.56,940,{"$f":"GimDog!I$48","v":0},{"$f":"GimDog!J$48","v":0}]
[null,1111163549,80333403619,"Шлея Alfresco неопрен XS 34-36см помаранчева","Менше 10","Шлеї",630.49,819,{"$f":"GimDog!I$49","v":0},{"$f":"GimDog!J$49","v":0}]
[null,1111171260,80261505513,"Шлея GimDog для собак Harlem H нейлон чорний 1.5*40-55см","Менше 10","Шлеї",495.38,644,{"$f":"GimDog!I$50","v":0},{"$f":"GimDog!J$50","v":0}]
[null,1111163534,80261505512,"Шлея HARLEM H 1.5 * 40-55 см, нейлон, блакитна","Менше 10","Шлеї",495.38,644,{"$f":"GimDog!I$51","v":0},{"$f":"GimDog!J$51","v":0}]
[null,1111163537,80262509013,"Шлея HARLEM H 2.5 * 67-90 см, нейлон, чорна","Менше 10","Шлеї",821.13,1068,{"$f":"GimDog!I$52","v":0},{"$f":"GimDog!J$52","v":0}]
[null,1111163531,80261004412,"Шлея HARLEM H нейлон 1.0*33-44см блакитна","Менше 10","Шлеї",375.29,488,{"$f":"GimDog!I$53","v":0},{"$f":"GimDog!J$53","v":0}]
[null,1111163520,80251004412,"Шлея HARLEM X 1.0 * 32-44 см, нейлон, блакитна","Менше 10","Шлеї",339.26,441,{"$f":"GimDog!I$54","v":0},{"$f":"GimDog!J$54","v":0}]
[null,1111163519,80251004414,"Шлея HARLEM X 1.0 * 32-44 см, нейлон, рожева","Менше 10","Шлеї",339.26,441,{"$f":"GimDog!I$55","v":0},{"$f":"GimDog!J$55","v":0}]
[null,1111163518,80251004411,"Шлея HARLEM X 1.0 * 32-44 см, нейлон, червона","Менше 10","Шлеї",339.26,441,{"$f":"GimDog!I$56","v":0},{"$f":"GimDog!J$56","v":0}]
[null,1111163522,80251506314,"Шлея HARLEM X 1.5 * 45-63 см, нейлон, рожева","Менше 10","Шлеї",453.35,589,{"$f":"GimDog!I$57","v":0},{"$f":"GimDog!J$57","v":0}]
[null,1111163524,80252007713,"Шлея HARLEM X 2.0 * 53-77 см, нейлон, чорна","Менше 10","Шлеї",570.44000000000005,741,{"$f":"GimDog!I$58","v":0},{"$f":"GimDog!J$58","v":0}]
[null,1111163528,80252509926,"Шлея HARLEM X 2.5 * 65-99 см, нейлон, сіра","Менше 10","Шлеї",726.56,945,{"$f":"GimDog!I$59","v":0},{"$f":"GimDog!J$59","v":0}]
[null,1111163527,80252509913,"Шлея HARLEM X 2.5 * 65-99 см, нейлон, чорна","Менше 10","Шлеї",726.56,945,{"$f":"GimDog!I$60","v":0},{"$f":"GimDog!J$60","v":0}]
[null,1111163694,"A14763_ord","Лампа Hagen аквар. для FL FLEX 34л LED Lamp Assembly змінна","Менше 10","Запчастини для акваріумного обладнання",1111.46,1556,{"$f":"Hagen!I$8","v":0},{"$f":"Hagen!J$8","v":0}]
[null,1111163695,"A14772_ord","Лампа Hagen акваріумна для FL FLEX GER 57л LED Lamp Assembly змінна","Менше 10","Запчастини для акваріумного обладнання",1244.7,1743,{"$f":"Hagen!I$9","v":0},{"$f":"Hagen!J$9","v":0}]
[null,1111175732,20840,"HalfHalf д/дорослих котів із яловичиною 2 кг","Більше 100","Корм сухий для котів",323.57,404,{"$f":"'Half&Half'!I$8","v":0},{"$f":"'Half&Half'!J$8","v":0}]
[null,1111175731,20956,"HalfHalf д/дорослих котів із яловичиною 300 г","Більше 100","Корм сухий для котів",59.06,74,{"$f":"'Half&Half'!I$9","v":0},{"$f":"'Half&Half'!J$9","v":0}]
[null,1111175733,20857,"HalfHalf д/дорослих котів із яловичиною 8 кг","Більше 10","Корм сухий для котів",1175.1199999999999,1469,{"$f":"'Half&Half'!I$10","v":0},{"$f":"'Half&Half'!J$10","v":0}]
[null,1111175746,20918,"HalfHalf д/дорослих котів качка/соус у формі пауча 100г","Більше 100","Корм вологий для котів",18.52,21.9,{"$f":"'Half&Half'!I$11","v":0},{"$f":"'Half&Half'!J$11","v":0}]
[null,1111175745,20901,"HalfHalf д/дорослих котів лосось/желе у формі пауча 100г","Більше 100","Корм вологий для котів",18.52,21.9,{"$f":"'Half&Half'!I$12","v":0},{"$f":"'Half&Half'!J$12","v":0}]
[null,1111175741,20772,"HalfHalf д/дорослих собак вел/порід із яловичиною 12 кг","Більше 10","Корм сухий для собак",1215.25,1458,{"$f":"'Half&Half'!I$13","v":0},{"$f":"'Half&Half'!J$13","v":0}]
[null,1111175740,20765,"HalfHalf д/дорослих собак вел/порід із яловичиною 2 кг","Більше 10","Корм сухий для собак",286.49,344,{"$f":"'Half&Half'!I$14","v":0},{"$f":"'Half&Half'!J$14","v":0}]
[null,1111175737,20734,"HalfHalf д/дорослих собак мал/порід із яловичиною 12 кг","Більше 10","Корм сухий для собак",1366.65,1640,{"$f":"'Half&Half'!I$15","v":0},{"$f":"'Half&Half'!J$15","v":0}]
[null,1111175736,20727,"HalfHalf д/дорослих собак мал/порід із яловичиною 2 кг","Більше 10","Корм сухий для собак",286.49,344,{"$f":"'Half&Half'!I$16","v":0},{"$f":"'Half&Half'!J$16","v":0}]
[null,1111175739,20758,"HalfHalf д/дорослих собак сер/порід із яловичиною 12 кг","Більше 10","Корм сухий для собак",1215.25,1458,{"$f":"'Half&Half'!I$17","v":0},{"$f":"'Half&Half'!J$17","v":0}]
[null,1111175738,20741,"HalfHalf д/дорослих собак сер/порід із яловичиною 2 кг","Більше 10","Корм сухий для собак",286.49,344,{"$f":"'Half&Half'!I$18","v":0},{"$f":"'Half&Half'!J$18","v":0}]
[null,1111175729,20826,"HalfHalf д/котів із чутливим травленям з індичкою 2 кг","Більше 10","Корм сухий для котів",338.98,424,{"$f":"'Half&Half'!I$19","v":0},{"$f":"'Half&Half'!J$19","v":0}]
[null,1111175728,20949,"HalfHalf д/котів із чутливим травленям з індичкою 300 г","Більше 10","Корм сухий для котів",64.97,81,{"$f":"'Half&Half'!I$20","v":0},{"$f":"'Half&Half'!J$20","v":0}]
[null,1111175730,20833,"HalfHalf д/котів із чутливим травленям з індичкою 8 кг","Більше 10","Корм сухий для котів",1231.07,1539,{"$f":"'Half&Half'!I$21","v":0},{"$f":"'Half&Half'!J$21","v":0}]
[null,1111175723,20789,"HalfHalf д/кошенят з яловичиною 2 кг","Більше 100","Корм сухий для котів",315.92,395,{"$f":"'Half&Half'!I$22","v":0},{"$f":"'Half&Half'!J$22","v":0}]
[null,1111175722,20925,"HalfHalf д/кошенят з яловичиною 300 г","Більше 100","Корм сухий для котів",51.04,64,{"$f":"'Half&Half'!I$23","v":0},{"$f":"'Half&Half'!J$23","v":0}]
[null,1111175724,20796,"HalfHalf д/кошенят з яловичиною 8 кг","Більше 10","Корм сухий для котів",1066.67,1333,{"$f":"'Half&Half'!I$24","v":0},{"$f":"'Half&Half'!J$24","v":0}]
[null,1111175742,20864,"HalfHalf д/кошенят індичка/желе у формі пауча 100г","Більше 100","Корм вологий для котів",18.52,21.9,{"$f":"'Half&Half'!I$25","v":0},{"$f":"'Half&Half'!J$25","v":0}]
[null,1111175726,20802,"HalfHalf д/стерил котів із яловичиною 2 кг","Більше 10","Корм сухий для котів",323.57,404,{"$f":"'Half&Half'!I$26","v":0},{"$f":"'Half&Half'!J$26","v":0}]
[null,1111175725,20932,"HalfHalf д/стерил котів із яловичиною 300 г","Більше 100","Корм сухий для котів",59.06,74,{"$f":"'Half&Half'!I$27","v":0},{"$f":"'Half&Half'!J$27","v":0}]
[null,1111175727,20819,"HalfHalf д/стерил котів із яловичиною 8 кг","Більше 10","Корм сухий для котів",1175.6300000000001,1470,{"$f":"'Half&Half'!I$28","v":0},{"$f":"'Half&Half'!J$28","v":0}]
[null,1111175744,20895,"HalfHalf д/стерил котів індичка/желе у формі пауча 100г","Більше 100","Корм вологий для котів",18.52,21.9,{"$f":"'Half&Half'!I$29","v":0},{"$f":"'Half&Half'!J$29","v":0}]
[null,1111175743,20888,"HalfHalf д/стерил котів тунець/соус у формі пауча  100г","Більше 100","Корм вологий для котів",18.52,21.9,{"$f":"'Half&Half'!I$30","v":0},{"$f":"'Half&Half'!J$30","v":0}]
[null,1111175735,20710,"HalfHalf д/цуценят усіх порід  із яловичиною 12 кг","Більше 10","Корм сухий для собак",1296.3800000000001,1556,{"$f":"'Half&Half'!I$31","v":0},{"$f":"'Half&Half'!J$31","v":0}]
[null,1111175734,20703,"HalfHalf д/цуценят усіх порід  із яловичиною 2 кг","Більше 10","Корм сухий для собак",296.20999999999998,355,{"$f":"'Half&Half'!I$32","v":0},{"$f":"'Half&Half'!J$32","v":0}]
[null,1111175716,31861,"Ласощі HalfHalf для котів з яловичиною 50 г","Більше 100","Ласощі для котів",49.66,71,{"$f":"'Half&Half'!I$33","v":0},{"$f":"'Half&Half'!J$33","v":0}]
[null,1111175715,31847,"Ласощі HalfHalf для котів із качкою 50 г","Більше 100","Ласощі для котів",49.66,71,{"$f":"'Half&Half'!I$34","v":0},{"$f":"'Half&Half'!J$34","v":0}]
[null,1111175717,"31854 Half","Ласощі HalfHalf для котів із куркою 50 г","Більше 100","Ласощі для котів",49.66,71,{"$f":"'Half&Half'!I$35","v":0},{"$f":"'Half&Half'!J$35","v":0}]
[null,1111175714,31830,"Ласощі HalfHalf для кошенят з індичкою 50 г","Більше 100","Ласощі для котів",49.66,71,{"$f":"'Half&Half'!I$36","v":0},{"$f":"'Half&Half'!J$36","v":0}]
[null,1111175709,31816,"Ласощі HalfHalf для собак з яловичиною 100 г","Більше 100","Ласощі для собак",77.22,110,{"$f":"'Half&Half'!I$37","v":0},{"$f":"'Half&Half'!J$37","v":0}]
[null,1111175710,31823,"Ласощі HalfHalf для собак із качкою 100 г","Більше 100","Ласощі для собак",77.22,110,{"$f":"'Half&Half'!I$38","v":0},{"$f":"'Half&Half'!J$38","v":0}]
[null,1111175708,31793,"Ласощі HalfHalf для собак із куркою 100 г","Більше 100","Ласощі для собак",77.22,110,{"$f":"'Half&Half'!I$39","v":0},{"$f":"'Half&Half'!J$39","v":0}]
[null,1111175707,31786,"Ласощі HalfHalf для цуценят з яловичиною 100 г","Більше 100","Ласощі для собак",77.22,110,{"$f":"'Half&Half'!I$40","v":0},{"$f":"'Half&Half'!J$40","v":0}]
[null,1111175721,31885,"Ласощі HalfHalf м_ясні палички для котів з індичкою 5 г","Більше 100","Ласощі для котів",8.19,12,{"$f":"'Half&Half'!I$41","v":0},{"$f":"'Half&Half'!J$41","v":0}]
[null,1111175720,31892,"Ласощі HalfHalf м_ясні палички для котів з качкою 5 г","Більше 100","Ласощі для котів",8.19,12,{"$f":"'Half&Half'!I$42","v":0},{"$f":"'Half&Half'!J$42","v":0}]
[null,1111175719,31908,"Ласощі HalfHalf м_ясні палички для котів з лососем 5 г","Більше 100","Ласощі для котів",8.19,12,{"$f":"'Half&Half'!I$43","v":0},{"$f":"'Half&Half'!J$43","v":0}]
[null,1111175718,31878,"Ласощі HalfHalf м_ясні палички для кошенят з індичкою 5 г","Більше 100","Ласощі для котів",8.19,12,{"$f":"'Half&Half'!I$44","v":0},{"$f":"'Half&Half'!J$44","v":0}]
[null,1111175713,31779,"Ласощі HalfHalf м_ясні палички для собак з куркою 100 г","Більше 100","Ласощі для собак",39.9,57,{"$f":"'Half&Half'!I$45","v":0},{"$f":"'Half&Half'!J$45","v":0}]
[null,1111175712,31762,"Ласощі HalfHalf м_ясні палички для собак з яловичиною 100 г","Більше 100","Ласощі для собак",39.9,57,{"$f":"'Half&Half'!I$46","v":0},{"$f":"'Half&Half'!J$46","v":0}]
[null,1111175711,31755,"Ласощі HalfHalf м_ясні палчки для цуценят з індичкою 100 г","Більше 100","Ласощі для собак",39.9,57,{"$f":"'Half&Half'!I$47","v":0},{"$f":"'Half&Half'!J$47","v":0}]
[null,6105,31117,"Клей акваріумний 310 мл прозорий","Менше 10","Аксесуари для догляду за акваріумом",374.2,524,{"$f":"Jaba!I$8","v":0},{"$f":"Jaba!J$8","v":0}]
[null,890,31131,"Клей акваріумний 310 мл чорний","Менше 10","Аксесуари для догляду за акваріумом",374.2,524,{"$f":"Jaba!I$9","v":0},{"$f":"Jaba!J$9","v":0}]
[null,5719,6115,"Клей акваріумний 60 мл прозорий","Менше 10","Аксесуари для догляду за акваріумом",99.6,139,{"$f":"Jaba!I$10","v":0},{"$f":"Jaba!J$10","v":0}]
[null,5720,"006139_ord","Клей акваріумний 60 мл чорний","Немає в наявності","Аксесуари для догляду за акваріумом",99.6,139,{"$f":"Jaba!I$11","v":0},{"$f":"Jaba!J$11","v":0}]
[null,1111163179,"89020_ordСПЕЦЦЕНА","Автогодівниця Juwel 2.0","Менше 10","Обладнання для акваріума, комплектуючі",2425.5,3278,{"$f":"Juwel!I$8","v":0},{"$f":"Juwel!J$8","v":0}]
[null,1111132184,"11450/11400СПЕЦЦЕНА_ord","Акваріум LIDO 120 білий","Менше 10","Акваріуми, акваріумні набори, комплектуючі",11242.31,14615,{"$f":"Juwel!I$9","v":0},{"$f":"Juwel!J$9","v":0}]
[null,1111117078,"11350/11300_ordСПЕЦЦЕНА","Акваріум LIDO 120 чорний","Менше 10","Акваріуми, акваріумні набори, комплектуючі",12538.07,17553,{"$f":"Juwel!I$10","v":0},{"$f":"Juwel!J$10","v":0}]
[null,1111145262,"25580/25380СПЕЦЦЕНА","Акваріум PRIMO 110 LED чорний","Менше 10","Акваріуми, акваріумні набори, комплектуючі",7754.08,10081,{"$f":"Juwel!I$11","v":0},{"$f":"Juwel!J$11","v":0}]
[null,1111132174,"1450/1400СПЕЦЦЕНА","Акваріум RIO 125 білий","Менше 10","Акваріуми, акваріумні набори, комплектуючі",11242.31,14615,{"$f":"Juwel!I$12","v":0},{"$f":"Juwel!J$12","v":0}]
[null,1111113965,"1750/1700СПЕЦЦЕНА_ord","Акваріум RIO 125 коричневий","Немає в наявності","Акваріуми, акваріумні набори, комплектуючі",12538.07,17553,{"$f":"Juwel!I$13","v":0},{"$f":"Juwel!J$13","v":0}]
[null,1111137687,"88108*****СПЕЦЦЕНА","Вкладиш для фільтра активоване вугілля Carbax L (Standart)","Менше 10","Обладнання для акваріума, комплектуючі",651.27,912,{"$f":"Juwel!I$14","v":0},{"$f":"Juwel!J$14","v":0}]
[null,7789,"88099СПЕЦЦЕНА_ord","Вкладиш для фільтра вата bioPad L (Standart)","Більше 10","Обладнання для акваріума, комплектуючі",85.47,111,{"$f":"Juwel!I$15","v":0},{"$f":"Juwel!J$15","v":0}]
[null,4627,"88049СПЕЦЦЕНА","Вкладиш для фільтра вата bioPad M (Compact)","Більше 10","Обладнання для акваріума, комплектуючі",62.79,82,{"$f":"Juwel!I$16","v":0},{"$f":"Juwel!J$16","v":0}]
[null,6323,"88059СПЕЦЦЕНА","Вкладиш для фільтра вугільна губка bioCarb M (Compact)","Менше 10","Обладнання для акваріума, комплектуючі",210.11,305,{"$f":"Juwel!I$17","v":0},{"$f":"Juwel!J$17","v":0}]
[null,4628,"88050СПЕЦЦЕНА","Вкладиш для фільтра груба губка bioPlus coarse M (Compact)","Більше 10","Обладнання для акваріума, комплектуючі",120.89,178,{"$f":"Juwel!I$18","v":0},{"$f":"Juwel!J$18","v":0}]
[null,2907,"88051СПЕЦЦЕНА","Вкладиш для фільтра дрібнопориста губка bioPlus fine M (Compact)","Більше 10","Обладнання для акваріума, комплектуючі",120.75,178,{"$f":"Juwel!I$19","v":0},{"$f":"Juwel!J$19","v":0}]
[null,1111111549,"88055СПЕЦЦЕНА","Вкладиш для фільтра протинітратний Nitrax M (Compact)","Менше 10","Обладнання для акваріума, комплектуючі",169.05,244,{"$f":"Juwel!I$20","v":0},{"$f":"Juwel!J$20","v":0}]
[null,1111119971,"89000СПЕЦЦЕНА","Годівниця автоматична EasyFeed","Менше 10","Аксесуари для догляду за акваріумом",1260,1638,{"$f":"Juwel!I$21","v":0},{"$f":"Juwel!J$21","v":0}]
[null,1111135398,"85756СПЕЦЦЕНА_ord","Головка Juwel Eccoflow 1000 л/г","Менше 10","Обладнання для акваріума, комплектуючі",1640.1,2131,{"$f":"Juwel!I$22","v":0},{"$f":"Juwel!J$22","v":0}]
[null,1111135806,"85758_ord","Головка Juwel Eccoflow 1500 л/г","Менше 10","Обладнання для акваріума, комплектуючі",2398.41,3358,{"$f":"Juwel!I$23","v":0},{"$f":"Juwel!J$23","v":0}]
[null,1111135396,"85752СПЕЦЦЕНА_ord","Головка Juwel Eccoflow 500 л/г","Менше 10","Обладнання для акваріума, комплектуючі",1178.0999999999999,1531,{"$f":"Juwel!I$24","v":0},{"$f":"Juwel!J$24","v":0}]
[null,1111135397,"85754СПЕЦЦЕНА_ord","Головка Juwel Eccoflow 600 л/г","Менше 10","Обладнання для акваріума, комплектуючі",1454.36,2036,{"$f":"Juwel!I$25","v":0},{"$f":"Juwel!J$25","v":0}]
[null,2212,"93910СПЕЦЦЕНА_ord","Комплект відкидних кришок (100х40 см)","Менше 10","Запчастини для акваріумного обладнання",993.3,1438,{"$f":"Juwel!I$26","v":0},{"$f":"Juwel!J$26","v":0}]
[null,11977,"90046СПЕЦЦЕНА_ord","Комплект трубок","Менше 10","Аксесуари для догляду за акваріумом",142.88,200,{"$f":"Juwel!I$27","v":0},{"$f":"Juwel!J$27","v":0}]
[null,1111161649,"86830СПЕЦЦЕНА_ord","Лампа Juwel LED Nature 1047 мм, 6500К","Менше 10","Обладнання для акваріума, комплектуючі",945,1321,{"$f":"Juwel!I$28","v":0},{"$f":"Juwel!J$28","v":0}]
[null,1111161640,"86805СПЕЦЦЕНА_ord","Лампа для акваріму Juwel LED Day  590 мм, 9000К арт.86805","Менше 10","Обладнання для акваріума, комплектуючі",693,969,{"$f":"Juwel!I$29","v":0},{"$f":"Juwel!J$29","v":0}]
[null,1111161643,"86810СПЕЦЦЕНА_ord","Лампа для акваріму Juwel LED Day 1047 мм, 9000К арт.86810","Менше 10","Обладнання для акваріума, комплектуючі",1039.5,1453,{"$f":"Juwel!I$30","v":0},{"$f":"Juwel!J$30","v":0}]
[null,1111161644,"86812СПЕЦЦЕНА_ord","Лампа для акваріму Juwel LED Day 1200 мм, 9000К арт.86812","Менше 10","Обладнання для акваріума, комплектуючі",1155,1615,{"$f":"Juwel!I$31","v":0},{"$f":"Juwel!J$31","v":0}]
[null,1111161639,"86804СПЕЦЦЕНА_ord","Лампа для акваріму Juwel LED Day 438 мм, 9000К арт.86804","Менше 10","Обладнання для акваріума, комплектуючі",646.79999999999995,906,{"$f":"Juwel!I$32","v":0},{"$f":"Juwel!J$32","v":0}]
[null,1111161641,"86807СПЕЦЦЕНА_ord","Лампа для акваріму Juwel LED Day 742 мм, 9000К арт.86807","Менше 10","Обладнання для акваріума, комплектуючі",854.7,1199,{"$f":"Juwel!I$33","v":0},{"$f":"Juwel!J$33","v":0}]
[null,1111161642,"86808СПЕЦЦЕНА_ord","Лампа для акваріму Juwel LED Day 895 мм, 9000К арт.86808","Менше 10","Обладнання для акваріума, комплектуючі",947.1,1329,{"$f":"Juwel!I$34","v":0},{"$f":"Juwel!J$34","v":0}]
[null,1111161648,"86828СПЕЦЦЕНА_ord","Лампа для акваріму Juwel LED Nature  895 мм, 6500К арт.86828","Менше 10","Обладнання для акваріума, комплектуючі",947.1,1329,{"$f":"Juwel!I$35","v":0},{"$f":"Juwel!J$35","v":0}]
[null,1111161650,"86832СПЕЦЦЕНА_ord","Лампа для акваріму Juwel LED Nature 1200 мм, 6500К арт.86832","Менше 10","Обладнання для акваріума, комплектуючі",1155,1615,{"$f":"Juwel!I$36","v":0},{"$f":"Juwel!J$36","v":0}]
[null,1111161645,"86824СПЕЦЦЕНА_ord","Лампа для акваріму Juwel LED Nature 438 мм, 6500К арт.86824","Менше 10","Обладнання для акваріума, комплектуючі",646.79999999999995,906,{"$f":"Juwel!I$37","v":0},{"$f":"Juwel!J$37","v":0}]
[null,1111161646,"86825СПЕЦЦЕНА_ord","Лампа для акваріму Juwel LED Nature 590 мм, 6500К арт.86825","Менше 10","Обладнання для акваріума, комплектуючі",693,969,{"$f":"Juwel!I$38","v":0},{"$f":"Juwel!J$38","v":0}]
[null,1111161647,"86827СПЕЦЦЕНА_ord","Лампа для акваріму Juwel LED Nature 742 мм, 6500К арт.86827","Менше 10","Обладнання для акваріума, комплектуючі",854.7,1199,{"$f":"Juwel!I$39","v":0},{"$f":"Juwel!J$39","v":0}]
[null,1111123470,"93968 СПЕЦЦЕНА_ord","Набір відкидних кришок на VISION 450","Менше 10","Запчастини для акваріумного обладнання",1986.6,2881,{"$f":"Juwel!I$40","v":0},{"$f":"Juwel!J$40","v":0}]
[null,1111148246,"46510СПЕЦЦЕНА_ord","Освітлювальна балка Multilux LED 100 см","Менше 10","Обладнання для акваріума, комплектуючі",5590.2,7266,{"$f":"Juwel!I$41","v":0},{"$f":"Juwel!J$41","v":0}]
[null,1111148247,"46512СПЕЦЦЕНА_ord","Освітлювальна балка Multilux LED 120 см","Менше 10","Обладнання для акваріума, комплектуючі",6144.6,7988,{"$f":"Juwel!I$42","v":0},{"$f":"Juwel!J$42","v":0}]
[null,1111162079,"46515СПЕЦЦЕНА_ord","Освітлювальна балка Multilux LED 150 см","Менше 10","Обладнання для акваріума, комплектуючі",7161,9309,{"$f":"Juwel!I$43","v":0},{"$f":"Juwel!J$43","v":0}]
[null,1111148242,"46506СПЕЦЦЕНА_ord","Освітлювальна балка Multilux LED 60 см","Менше 10","Обладнання для акваріума, комплектуючі",4389,5708,{"$f":"Juwel!I$44","v":0},{"$f":"Juwel!J$44","v":0}]
[null,1111148243,"46507СПЕЦЦЕНА_ord","Освітлювальна балка Multilux LED 70 см","Менше 10","Обладнання для акваріума, комплектуючі",4389,5708,{"$f":"Juwel!I$45","v":0},{"$f":"Juwel!J$45","v":0}]
[null,1111148245,"46509СПЕЦЦЕНА_ord","Освітлювальна балка Multilux LED 92 см","Менше 10","Обладнання для акваріума, комплектуючі",5174.3999999999996,6728,{"$f":"Juwel!I$46","v":0},{"$f":"Juwel!J$46","v":0}]
[null,1111116189,"50063/55300СПЕЦЦЕНА","Підставка під акваріум Rekord 60/70 чорна, 50063/55300","Менше 10","Акваріуми, акваріумні набори, комплектуючі",3039.43,3951,{"$f":"Juwel!I$47","v":0},{"$f":"Juwel!J$47","v":0}]
[null,5848,"50103/66300СПЕЦЦЕНА_ord","Підставка під акваріум RIO 125 /PRIMO 110 чорна","Менше 10","Акваріуми, акваріумні набори, комплектуючі",5110.1400000000003,6644,{"$f":"Juwel!I$48","v":0},{"$f":"Juwel!J$48","v":0}]
[null,1111113968,"50107/66700СПЕЦЦЕНА_ord","Підставка під акваріум RIO 125 коричнева","Немає в наявності","Акваріуми, акваріумні набори, комплектуючі",5506.14,7709,{"$f":"Juwel!I$49","v":0},{"$f":"Juwel!J$49","v":0}]
[null,1111132177,"50114/67400СПЕЦЦЕНА_ord","Підставка під акваріум RIO 180 біла","Менше 10","Акваріуми, акваріумні набори, комплектуючі",6443.22,8377,{"$f":"Juwel!I$50","v":0},{"$f":"Juwel!J$50","v":0}]
[null,8975,"50313 /71030_ordСПЕЦЦЕНА","Підставка під акваріум VISION 180 чорна","Менше 10","Акваріуми, акваріумні набори, комплектуючі",7198.63,9359,{"$f":"Juwel!I$51","v":0},{"$f":"Juwel!J$51","v":0}]
[null,1111111450,"85145СПЕЦЦЕНА","Повітряний дифузор О2 OxyPlus","Менше 10","Аксесуари для догляду за акваріумом",282.24,408,{"$f":"Juwel!I$52","v":0},{"$f":"Juwel!J$52","v":0}]
[null,1111137491,"85095СПЕЦЦЕНА_ord","Ротор Eccoflow 1000","Менше 10","Запчастини для акваріумного обладнання",531.29999999999995,773,{"$f":"Juwel!I$53","v":0},{"$f":"Juwel!J$53","v":0}]
[null,1111137492,"85097СПЕЦЦЕНА_ord","Ротор Eccoflow 1500","Менше 10","Запчастини для акваріумного обладнання",554.4,804,{"$f":"Juwel!I$54","v":0},{"$f":"Juwel!J$54","v":0}]
[null,1111137489,"85091СПЕЦЦЕНА_ord","Ротор Eccoflow 500","Менше 10","Запчастини для акваріумного обладнання",452.76,655,{"$f":"Juwel!I$55","v":0},{"$f":"Juwel!J$55","v":0}]
[null,1111137490,"85093СПЕЦЦЕНА_ord","Ротор Eccoflow 600","Менше 10","Запчастини для акваріумного обладнання",531.29999999999995,773,{"$f":"Juwel!I$56","v":0},{"$f":"Juwel!J$56","v":0}]
[null,1111123758,"85703СПЕЦЦЕНА","Термометр електронний Juwel","Менше 10","Аксесуари для догляду за акваріумом",898.13,1257,{"$f":"Juwel!I$57","v":0},{"$f":"Juwel!J$57","v":0}]
[null,1111132181,"86249СПЕЦЦЕНА","Фіксатор Juwel (клей для фона)","Менше 10","Аксесуари для догляду за акваріумом",166.32,245,{"$f":"Juwel!I$58","v":0},{"$f":"Juwel!J$58","v":0}]
[null,1111132194,"86262    2 L СПЕЦЦЕНА","Фон Juwel Poster 2 L","Більше 10","Декорації для акваріуму",151.19999999999999,217,{"$f":"Juwel!I$59","v":0},{"$f":"Juwel!J$59","v":0}]
[null,1111113299,"86260  L СПЕЦЦЕНА","Фон Juwel Poster L 100х50 см двосторонній","Менше 10","Декорації для акваріуму",151.19999999999999,217,{"$f":"Juwel!I$60","v":0},{"$f":"Juwel!J$60","v":0}]
[null,1111168508,101106,"KIRBY CAT корм сухий з куркою та яловичиною для котів, 1,5 кг","Менше 10","Корм сухий для котів",183.99,239,{"$f":"'Kirby Cat'!I$8","v":0},{"$f":"'Kirby Cat'!J$8","v":0}]
[null,1111169258,101109,"KIRBY CAT корм сухий з куркою та яловичиною для котів, 12 кг","Менше 10","Корм сухий для котів",1229.58,1345,{"$f":"'Kirby Cat'!I$9","v":0},{"$f":"'Kirby Cat'!J$9","v":0}]
[null,1111168507,101105,"KIRBY CAT корм сухий з куркою, індичкою та овочами для котів, 1,5 кг","Менше 10","Корм сухий для котів",183.99,239,{"$f":"'Kirby Cat'!I$10","v":0},{"$f":"'Kirby Cat'!J$10","v":0}]
[null,1111171025,"TPR-837","Іграшка Kiwi Walker для собак Восьминіг блакитний 12 см арт.TPR-837","Менше 10","Іграшки для собак",356.78,464,{"$f":"'Kiwi Walker'!I$8","v":0},{"$f":"'Kiwi Walker'!J$8","v":0}]
[null,1111171024,"TPR-836","Іграшка Kiwi Walker для собак Восьминіг зелений 12 см арт.TPR-836","Менше 10","Іграшки для собак",356.78,464,{"$f":"'Kiwi Walker'!I$9","v":0},{"$f":"'Kiwi Walker'!J$9","v":0}]
[null,1111171026,"TPR-838","Іграшка Kiwi Walker для собак Восьминіг рожевий 12 см арт.TPR-838","Менше 10","Іграшки для собак",346.02,449,{"$f":"'Kiwi Walker'!I$10","v":0},{"$f":"'Kiwi Walker'!J$10","v":0}]
[null,1111171022,"TPR-829","Іграшка Kiwi Walker для собак Кільце блакитне 13 см арт.TPR-829","Менше 10","Іграшки для собак",256.88,334,{"$f":"'Kiwi Walker'!I$11","v":0},{"$f":"'Kiwi Walker'!J$11","v":0}]
[null,1111171021,"TPR-828","Іграшка Kiwi Walker для собак Кільце зелене 13 см арт.TPR-828","Менше 10","Іграшки для собак",256.88,334,{"$f":"'Kiwi Walker'!I$12","v":0},{"$f":"'Kiwi Walker'!J$12","v":0}]
[null,1111171023,"TPR-830","Іграшка Kiwi Walker для собак Кільце рожеве 13 см арт.TPR-830","Менше 10","Іграшки для собак",256.88,334,{"$f":"'Kiwi Walker'!I$13","v":0},{"$f":"'Kiwi Walker'!J$13","v":0}]
[null,1111171019,"LTX-013","Іграшка Kiwi Walker для собак Птах ківі блакитний 8.5см арт.LTX-013","Менше 10","Іграшки для собак",194.31,253,{"$f":"'Kiwi Walker'!I$14","v":0},{"$f":"'Kiwi Walker'!J$14","v":0}]
[null,1111171016,"LTX-002","Іграшка Kiwi Walker для собак Птах ківі зелений 15.5см арт.LTX-002","Менше 10","Іграшки для собак",403.99,525,{"$f":"'Kiwi Walker'!I$15","v":0},{"$f":"'Kiwi Walker'!J$15","v":0}]
[null,1111171018,"LTX-012","Іграшка Kiwi Walker для собак Птах ківі зелений 8.5см арт.LTX-012","Менше 10","Іграшки для собак",178.86,232,{"$f":"'Kiwi Walker'!I$16","v":0},{"$f":"'Kiwi Walker'!J$16","v":0}]
[null,1111171015,"LTX-001","Іграшка Kiwi Walker для собак Птах ківі помаранчев 15.5см, арт.LTX-001","Менше 10","Іграшки для собак",403.99,525,{"$f":"'Kiwi Walker'!I$17","v":0},{"$f":"'Kiwi Walker'!J$17","v":0}]
[null,1111171017,"LTX-011","Іграшка Kiwi Walker для собак Птах ківі помаранчевий 8.5см арт.LTX-011","Менше 10","Іграшки для собак",178.86,232,{"$f":"'Kiwi Walker'!I$18","v":0},{"$f":"'Kiwi Walker'!J$18","v":0}]
[null,1111171020,"LTX-015","Іграшка Kiwi Walker для собак Птах ківі рожевий 8.5см арт.LTX-015","Менше 10","Іграшки для собак",194.31,253,{"$f":"'Kiwi Walker'!I$19","v":0},{"$f":"'Kiwi Walker'!J$19","v":0}]
[null,1111153805,"22-038/KW Zone БЕЛЫЙ*****","Перехідник пласт. прямий нерегульований (50 шт.)","Менше 10","Аксесуари для догляду за акваріумом",326.5,457,{"$f":"'KW-Zone'!I$8","v":0},{"$f":"'KW-Zone'!J$8","v":0}]
[null,1111153798,"22-048/KW Zone*****","Присоска для/термометра А-003 (100 шт.)","Менше 10","Аксесуари для догляду за акваріумом",220,308,{"$f":"'KW-Zone'!I$9","v":0},{"$f":"'KW-Zone'!J$9","v":0}]
[null,1111135276,"TT-350/Китай*****","Тераріум пластиковий 35х15,5 см","Менше 10","Тераріуми, комплектуючі",290,406,{"$f":"'KW-Zone'!I$10","v":0},{"$f":"'KW-Zone'!J$10","v":0}]
[null,1111111817,"27-002/KW Zone*****","Трубка повітряна силіконова біла 100 м","Менше 10","Аксесуари для догляду за акваріумом",754,1055.5,{"$f":"'KW-Zone'!I$11","v":0},{"$f":"'KW-Zone'!J$11","v":0}]
[null,1111134325,"PT10127*****","Лампа ультрафіолетова 18 Вт для УФ очищувача PT10121","Менше 10","Устаткування для ставка, комплектуючі",400,2585,{"$f":"Laguna!I$8","v":0},{"$f":"Laguna!J$8","v":0}]
[null,1111122856,80905,"Жердинка для птахів Pedi-Perch цемент 16 см","Менше 10","Обладнання для кліток",250.1,378,{"$f":"'Living World'!I$8","v":0},{"$f":"'Living World'!J$8","v":0}]
[null,1111112303,"PP802****","AMBULIA 20 см пластикова рослина","Немає в наявності","Декорації для акваріуму",115.53,162,{"$f":"Marina!I$8","v":0},{"$f":"Marina!J$8","v":0}]
[null,1111112268,"PP1202****","AMBULIA 30 см пластикова рослина","Менше 10","Декорації для акваріуму",214.23,300,{"$f":"Marina!I$9","v":0},{"$f":"Marina!J$9","v":0}]
[null,1111112285,"PP503****","ANACHARIS 13 см пластикова рослина","Менше 10","Декорації для акваріуму",74.45,104,{"$f":"Marina!I$10","v":0},{"$f":"Marina!J$10","v":0}]
[null,1111112270,"PP1205****","CARDAMINE 30 см пластикова рослина","Менше 10","Декорації для акваріуму",227.08,318,{"$f":"Marina!I$11","v":0},{"$f":"Marina!J$11","v":0}]
[null,1111111610,"PP511****","HAIRGRASS 13 см пластикова рослина","Менше 10","Декорації для акваріуму",69.66,98,{"$f":"Marina!I$12","v":0},{"$f":"Marina!J$12","v":0}]
[null,1111111611,"PP811****","HAIRGRASS 20 см пластикова рослина","Менше 10","Декорації для акваріуму",97.28,136,{"$f":"Marina!I$13","v":0},{"$f":"Marina!J$13","v":0}]
[null,1111112295,"PP812****","HORNWORT 20 см пластикова рослина","Менше 10","Декорації для акваріуму",124.21,174,{"$f":"Marina!I$14","v":0},{"$f":"Marina!J$14","v":0}]
[null,1111112296,"PP813****","HYGROPHILA 20 см пластикова рослина","Менше 10","Декорації для акваріуму",114.95,161,{"$f":"Marina!I$15","v":0},{"$f":"Marina!J$15","v":0}]
[null,1111112300,"PP1213****","HYGROPHILA 30 см пластикова рослина","Менше 10","Декорації для акваріуму",202.4,283,{"$f":"Marina!I$16","v":0},{"$f":"Marina!J$16","v":0}]
[null,1111122880,"A7510","Кондиціонер води для черепах","Більше 10","Засоби для догляду за тераріумом і його мешканцями",54.33,82,{"$f":"Marina!I$17","v":0},{"$f":"Marina!J$17","v":0}]
[null,1111112529,"11061_ord","Очищувач грунту 25,5 см діаметр 3,5 см","Менше 10","Аксесуари для догляду за акваріумом",612.88,858,{"$f":"Marina!I$18","v":0},{"$f":"Marina!J$18","v":0}]
[null,1111112530,"11062_ord","Очищувач грунту 38 см діаметр 3,5 см","Менше 10","Аксесуари для догляду за акваріумом",782.43,1095,{"$f":"Marina!I$19","v":0},{"$f":"Marina!J$19","v":0}]
[null,1111115115,"11063_ord","Очищувач грунту 60 см діаметр 3,5 см","Менше 10","Аксесуари для догляду за акваріумом",991.93,1389,{"$f":"Marina!I$20","v":0},{"$f":"Marina!J$20","v":0}]
[null,1111113605,"A970_ord","Розпилювач ELITE 10 см","Менше 10","Аксесуари для догляду за акваріумом",48.28,68,{"$f":"Marina!I$21","v":0},{"$f":"Marina!J$21","v":0}]
[null,1111113602,"A972_ord","Розпилювач ELITE 15 см","Менше 10","Аксесуари для догляду за акваріумом",57.43,80,{"$f":"Marina!I$22","v":0},{"$f":"Marina!J$22","v":0}]
[null,1111113603,"A974","Розпилювач ELITE 30,5 см","Менше 10","Аксесуари для догляду за акваріумом",121.93,183,{"$f":"Marina!I$23","v":0},{"$f":"Marina!J$23","v":0}]
[null,1111119802,11088,"Термометр Marina д/акваріумів самоклеючий 13см","Менше 10","Аксесуари для догляду за акваріумом",41.43,58,{"$f":"Marina!I$24","v":0},{"$f":"Marina!J$24","v":0}]
[null,1111168484,"1125*****","Migliorcane консерви з дичиною для собак, 405 г","Більше 10","Корм вологий для собак",48.18,62.7,{"$f":"Migliorcane!I$8","v":0},{"$f":"Migliorcane!J$8","v":0}]
[null,1111168483,"1110*****","Migliorcane консерви з куркою та індичкою для собак, 405 г","Більше 10","Корм вологий для собак",48.18,62.7,{"$f":"Migliorcane!I$9","v":0},{"$f":"Migliorcane!J$9","v":0}]
[null,1111168485,"1121*****","Migliorcane консерви з яловичиною та овочами для собак, 405 г","Більше 10","Корм вологий для собак",48.18,62.7,{"$f":"Migliorcane!I$10","v":0},{"$f":"Migliorcane!J$10","v":0}]
[null,1111145791,"1245-7060СПЕЦЦЕНА*****","Motor compl. 230V","Менше 10","Обладнання для грумінг-салонів",1145.8800000000001,1375,{"$f":"Moser!I$8","v":0},{"$f":"Moser!J$8","v":0}]
[null,1111150149,"1250-7050СПЕЦЦЕНА *****","Блок живлення д/машинки MOSER MAX 50 (1250-0050 (052))","Менше 10","Машинки для стрижки, комплектуючі",996.73,1196,{"$f":"Moser!I$9","v":0},{"$f":"Moser!J$9","v":0}]
[null,22620,"1233-7080*****СПЕЦЦЕНА","Набір насадок+масло і щіточка д/догляду за лезами","Менше 10","Машинки для стрижки, комплектуючі",50,315,{"$f":"Moser!I$10","v":0},{"$f":"Moser!J$10","v":0}]
[null,1111145532,"MFXL02_ordСПЕЦЦЕНА","Кісточка XL, червона","Менше 10","Аксесуари для амуніції (адресовки, брелоки, медальйони, підвіски)",61.31,184,{"$f":"'My Family'!I$8","v":0},{"$f":"'My Family'!J$8","v":0}]
[null,1111116119,"Nechay236128","Грунт акваріумн. 10 кг чорний дрібний (2-5 мм)","Менше 10","Ґрунти, субстрати для акваріуму",159.6,236,{"$f":"'Nechay ZOO'!I$8","v":0},{"$f":"'Nechay ZOO'!J$8","v":0}]
[null,1111116270,"Nechay000080*****","Грунт акваріумн. 10 кг чорний середній (5-10 мм)","Менше 10","Ґрунти, субстрати для акваріуму",159.6,239,{"$f":"'Nechay ZOO'!I$9","v":0},{"$f":"'Nechay ZOO'!J$9","v":0}]
[null,1111118222,"Nechay009315","Грунт акваріумн. 2 кг рожевий (кварцит) середній","Менше 10","Ґрунти, субстрати для акваріуму",44.5,66,{"$f":"'Nechay ZOO'!I$10","v":0},{"$f":"'Nechay ZOO'!J$10","v":0}]
[null,1111116997,"Nechay009339","Грунт акваріумн. 2 кг чорний дрібний (2-5 мм)","Менше 10","Ґрунти, субстрати для акваріуму",44.5,66,{"$f":"'Nechay ZOO'!I$11","v":0},{"$f":"'Nechay ZOO'!J$11","v":0}]
[null,1111175249,"PR243217","Аксесуар  DEER  M-L","Менше 10","Одяг",216.97,292.91000000000003,{"$f":"'Pet Fashion'!I$8","v":0},{"$f":"'Pet Fashion'!J$8","v":0}]
[null,1111163432,"PR242113*****","Бандана  WEEKEND  M-XL, блакитна","Менше 10","Одяг",77,100,{"$f":"'Pet Fashion'!I$9","v":0},{"$f":"'Pet Fashion'!J$9","v":0}]
[null,1111163434,"PR242111*****","Бандана  WEEKEND , M-XL, помаранчева","Більше 10","Одяг",77,100,{"$f":"'Pet Fashion'!I$10","v":0},{"$f":"'Pet Fashion'!J$10","v":0}]
[null,1111163436,"PR242109*****","Бандана  WEEKEND , M-XL, принт","Менше 10","Одяг",92,119,{"$f":"'Pet Fashion'!I$11","v":0},{"$f":"'Pet Fashion'!J$11","v":0}]
[null,1111163435,"PR242110*****","Бандана  WEEKEND , XS-S, помаранчева","Менше 10","Одяг",67,88,{"$f":"'Pet Fashion'!I$12","v":0},{"$f":"'Pet Fashion'!J$12","v":0}]
[null,1111163437,"PR242108*****","Бандана  WEEKEND , XS-S, принт","Менше 10","Одяг",70,92,{"$f":"'Pet Fashion'!I$13","v":0},{"$f":"'Pet Fashion'!J$13","v":0}]
[null,1111171989,"PR243013*****","Бомбер Grace L","Менше 10","Одяг",683.48,922.7,{"$f":"'Pet Fashion'!I$14","v":0},{"$f":"'Pet Fashion'!J$14","v":0}]
[null,1111171986,"PR243016*****","Бомбер Grace S","Більше 10","Одяг",562.5,759.38,{"$f":"'Pet Fashion'!I$15","v":0},{"$f":"'Pet Fashion'!J$15","v":0}]
[null,1111171988,"PR243014*****","Бомбер Grace XS","Більше 10","Одяг",512.59,692,{"$f":"'Pet Fashion'!I$16","v":0},{"$f":"'Pet Fashion'!J$16","v":0}]
[null,1111171987,"PR243015*****","Бомбер Grace XS-2","Більше 10","Одяг",546.6,737.91,{"$f":"'Pet Fashion'!I$17","v":0},{"$f":"'Pet Fashion'!J$17","v":0}]
[null,1111171985,"PR243017*****","Бомбер Grace М","Більше 10","Одяг",608.27,821.16,{"$f":"'Pet Fashion'!I$18","v":0},{"$f":"'Pet Fashion'!J$18","v":0}]
[null,1111171983,"PR243019*****","Бомбер Spike L","Більше 10","Одяг",683.48,922.7,{"$f":"'Pet Fashion'!I$19","v":0},{"$f":"'Pet Fashion'!J$19","v":0}]
[null,1111171980,"PR243022*****","Бомбер Spike S","Більше 10","Одяг",562.5,759.38,{"$f":"'Pet Fashion'!I$20","v":0},{"$f":"'Pet Fashion'!J$20","v":0}]
[null,1111171984,"PR243018*****","Бомбер Spike XL","Більше 10","Одяг",714.83,965.02,{"$f":"'Pet Fashion'!I$21","v":0},{"$f":"'Pet Fashion'!J$21","v":0}]
[null,1111171982,"PR243020*****","Бомбер Spike XS","Більше 10","Одяг",512.59,692,{"$f":"'Pet Fashion'!I$22","v":0},{"$f":"'Pet Fashion'!J$22","v":0}]
[null,1111171981,"PR243021*****","Бомбер Spike XS-2","Більше 10","Одяг",546.6,737.91,{"$f":"'Pet Fashion'!I$23","v":0},{"$f":"'Pet Fashion'!J$23","v":0}]
[null,1111171979,"PR243023*****","Бомбер Spike М","Більше 10","Одяг",608.27,821.16,{"$f":"'Pet Fashion'!I$24","v":0},{"$f":"'Pet Fashion'!J$24","v":0}]
[null,1111162858,"PR242019*****","Борцовка  COOL , M","Більше 10","Одяг",238,321,{"$f":"'Pet Fashion'!I$25","v":0},{"$f":"'Pet Fashion'!J$25","v":0}]
[null,1111162859,"PR242018*****","Борцовка  COOL , S","Менше 10","Одяг",221,299,{"$f":"'Pet Fashion'!I$26","v":0},{"$f":"'Pet Fashion'!J$26","v":0}]
[null,1111162861,"PR242016*****","Борцовка  COOL , XS","Більше 10","Одяг",195,263,{"$f":"'Pet Fashion'!I$27","v":0},{"$f":"'Pet Fashion'!J$27","v":0}]
[null,1111162860,"PR242017*****","Борцовка  COOL , XS-2","Менше 10","Одяг",208,281,{"$f":"'Pet Fashion'!I$28","v":0},{"$f":"'Pet Fashion'!J$28","v":0}]
[null,1111162844,"PR242025*****","Борцовка  FBI , M","Менше 10","Одяг",235,317,{"$f":"'Pet Fashion'!I$29","v":0},{"$f":"'Pet Fashion'!J$29","v":0}]
[null,1111165974,"PR242364*****","Борцовка  LITTLE HELPER   S","Більше 10","Одяг",226,305,{"$f":"'Pet Fashion'!I$30","v":0},{"$f":"'Pet Fashion'!J$30","v":0}]
[null,1111165975,"PR242363*****","Борцовка  LITTLE HELPER  XS-2","Більше 10","Одяг",222,299,{"$f":"'Pet Fashion'!I$31","v":0},{"$f":"'Pet Fashion'!J$31","v":0}]
[null,1111165973,"PR242365*****","Борцовка  LITTLE HELPER  М","Менше 10","Одяг",245,331,{"$f":"'Pet Fashion'!I$32","v":0},{"$f":"'Pet Fashion'!J$32","v":0}]
[null,1111166495,"PR242474*****","Борцовка  SEA SAND     XS","Менше 10","Одяг",204,286,{"$f":"'Pet Fashion'!I$33","v":0},{"$f":"'Pet Fashion'!J$33","v":0}]
[null,1111166500,"PR242469*****","Борцовка  SUN PLEASE    S2","Менше 10","Одяг",220,308,{"$f":"'Pet Fashion'!I$34","v":0},{"$f":"'Pet Fashion'!J$34","v":0}]
[null,1111166498,"PR242472*****","Борцовка  SUN PLEASE    М2","Менше 10","Одяг",244,341,{"$f":"'Pet Fashion'!I$35","v":0},{"$f":"'Pet Fashion'!J$35","v":0}]
[null,1111154030,"РИО S*****","Борцовка  Ріо  S","Більше 10","Одяг",126,170,{"$f":"'Pet Fashion'!I$36","v":0},{"$f":"'Pet Fashion'!J$36","v":0}]
[null,1111154032,"РИО  XS*****","Борцовка  Ріо  XS","Менше 10","Одяг",105,141,{"$f":"'Pet Fashion'!I$37","v":0},{"$f":"'Pet Fashion'!J$37","v":0}]
[null,1111154033,"РИО XXS*****","Борцовка  Ріо  XXS","Більше 10","Одяг",95,128,{"$f":"'Pet Fashion'!I$38","v":0},{"$f":"'Pet Fashion'!J$38","v":0}]
[null,1111162179,"PR241949","Будинок-лежак  DREAM  розмір 44 * 28 * 45 см","Менше 10","Лежаки",468,631,{"$f":"'Pet Fashion'!I$39","v":0},{"$f":"'Pet Fashion'!J$39","v":0}]
[null,1111160981,"PR241785","Будинок-лежак TUTTI  (36*36*34)","Більше 10","Лежаки",828.37,1118.3,{"$f":"'Pet Fashion'!I$40","v":0},{"$f":"'Pet Fashion'!J$40","v":0}]
[null,1111167822,"PR242718*****","Вітровка Fresh M бежева","Менше 10","Одяг",647,873,{"$f":"'Pet Fashion'!I$41","v":0},{"$f":"'Pet Fashion'!J$41","v":0}]
[null,1111167895,"PR242721*****","Вітровка Fresh XS бежева","Більше 10","Одяг",539,728,{"$f":"'Pet Fashion'!I$42","v":0},{"$f":"'Pet Fashion'!J$42","v":0}]
[null,1111167824,"PR242720*****","Вітровка Fresh XS2 бежева","Менше 10","Одяг",561,757,{"$f":"'Pet Fashion'!I$43","v":0},{"$f":"'Pet Fashion'!J$43","v":0}]
[null,1111166197,"PR242400*****","Дощовик  FALL  2Х","Менше 10","Одяг",831,1122,{"$f":"'Pet Fashion'!I$44","v":0},{"$f":"'Pet Fashion'!J$44","v":0}]
[null,1111166196,"PR242399*****","Дощовик  FALL  5ХL","Менше 10","Одяг",1063,1435,{"$f":"'Pet Fashion'!I$45","v":0},{"$f":"'Pet Fashion'!J$45","v":0}]
[null,1111171808,"PR242988*****","Дощовик ARIEL M","Більше 10","Одяг",788.97,1065.1199999999999,{"$f":"'Pet Fashion'!I$46","v":0},{"$f":"'Pet Fashion'!J$46","v":0}]
[null,1111174482,"PR243155*****","Дощовик ELSA дівчинка XS-2","Більше 10","Одяг",661.9,893.57,{"$f":"'Pet Fashion'!I$47","v":0},{"$f":"'Pet Fashion'!J$47","v":0}]
[null,1111174486,"PR243151*****","Дощовик JIMI XS-2","Більше 10","Одяг",630.55999999999995,851.26,{"$f":"'Pet Fashion'!I$48","v":0},{"$f":"'Pet Fashion'!J$48","v":0}]
[null,1111179022,"PR243452*****","Дощовик Semmy M","Більше 10","Одяг",683,922,{"$f":"'Pet Fashion'!I$49","v":0},{"$f":"'Pet Fashion'!J$49","v":0}]
[null,1111179023,"PR243451*****","Дощовик Semmy S","Менше 10","Одяг",612,826,{"$f":"'Pet Fashion'!I$50","v":0},{"$f":"'Pet Fashion'!J$50","v":0}]
[null,1111179025,"PR243449*****","Дощовик Semmy XS","Більше 10","Одяг",563,760,{"$f":"'Pet Fashion'!I$51","v":0},{"$f":"'Pet Fashion'!J$51","v":0}]
[null,1111179024,"PR243450*****","Дощовик Semmy XS2","Менше 10","Одяг",586,791,{"$f":"'Pet Fashion'!I$52","v":0},{"$f":"'Pet Fashion'!J$52","v":0}]
[null,1111171802,"PR242994*****","Дощовик SILVER M","Більше 10","Одяг",616.77,832.64,{"$f":"'Pet Fashion'!I$53","v":0},{"$f":"'Pet Fashion'!J$53","v":0}]
[null,1111171803,"PR242993*****","Дощовик SILVER S","Більше 10","Одяг",554.64,748.77,{"$f":"'Pet Fashion'!I$54","v":0},{"$f":"'Pet Fashion'!J$54","v":0}]
[null,1111171806,"PR242990*****","Дощовик SILVER XS","Більше 10","Одяг",471.6,636.66,{"$f":"'Pet Fashion'!I$55","v":0},{"$f":"'Pet Fashion'!J$55","v":0}]
[null,1111171805,"PR242991*****","Дощовик SILVER XS-2","Більше 10","Одяг",536.41999999999996,724.17,{"$f":"'Pet Fashion'!I$56","v":0},{"$f":"'Pet Fashion'!J$56","v":0}]
[null,1111171993,"PR243009*****","Жакет Harry XS","Більше 10","Одяг",393.38,531.05999999999995,{"$f":"'Pet Fashion'!I$57","v":0},{"$f":"'Pet Fashion'!J$57","v":0}]
[null,1111171992,"PR243010*****","Жакет Harry XS-2","Більше 10","Одяг",411.76,555.88,{"$f":"'Pet Fashion'!I$58","v":0},{"$f":"'Pet Fashion'!J$58","v":0}]
[null,1111171990,"PR243012*****","Жакет Harry М","Немає в наявності","Одяг",462.48,624.34,{"$f":"'Pet Fashion'!I$59","v":0},{"$f":"'Pet Fashion'!J$59","v":0}]
[null,1111166188,"PR242394*****","Жилет  BIG BOSS  красный  2XL","Менше 10","Одяг",705.9,952.97,{"$f":"'Pet Fashion'!I$60","v":0},{"$f":"'Pet Fashion'!J$60","v":0}]
[null,1111166189,"PR242393*****","Жилет  BIG BOSS  красный  3XL","Менше 10","Одяг",764.85,1032.55,{"$f":"'Pet Fashion'!I$61","v":0},{"$f":"'Pet Fashion'!J$61","v":0}]
[null,1111166190,"PR242392*****","Жилет  BIG BOSS  красный  4XL","Більше 10","Одяг",817.66,1103.8399999999999,{"$f":"'Pet Fashion'!I$62","v":0},{"$f":"'Pet Fashion'!J$62","v":0}]
[null,1111166191,"PR242391*****","Жилет  BIG BOSS  красный  5XL","Менше 10","Одяг",881.04,1189.4000000000001,{"$f":"'Pet Fashion'!I$63","v":0},{"$f":"'Pet Fashion'!J$63","v":0}]
[null,1111166192,"PR242398","Жилет  BIG BOSS  черный  2XL","Менше 10","Одяг",705.9,952.97,{"$f":"'Pet Fashion'!I$64","v":0},{"$f":"'Pet Fashion'!J$64","v":0}]
[null,1111166193,"PR242397","Жилет  BIG BOSS  черный  3XL","Більше 10","Одяг",764.85,1032.55,{"$f":"'Pet Fashion'!I$65","v":0},{"$f":"'Pet Fashion'!J$65","v":0}]
[null,1111166194,"PR242396","Жилет  BIG BOSS  черный  4XL","Більше 10","Одяг",817.66,1103.8399999999999,{"$f":"'Pet Fashion'!I$66","v":0},{"$f":"'Pet Fashion'!J$66","v":0}]
[null,1111166195,"PR242395","Жилет  BIG BOSS  черный  5XL","Більше 10","Одяг",881.04,1189.4000000000001,{"$f":"'Pet Fashion'!I$67","v":0},{"$f":"'Pet Fashion'!J$67","v":0}]
[null,1111166446,"PR242431","Жилет  E.Vest  помаранчевий  М","Менше 10","Одяг",622.62,840.53,{"$f":"'Pet Fashion'!I$68","v":0},{"$f":"'Pet Fashion'!J$68","v":0}]
[null,1111162550,"FLEECY сер-кр S","Жилет  FLEECY  сіро / червоний S","Більше 10","Одяг",364.8,492.49,{"$f":"'Pet Fashion'!I$69","v":0},{"$f":"'Pet Fashion'!J$69","v":0}]
[null,1111162549,"FLEECY сер-кр M","Жилет  FLEECY  сіро / червоний М","Більше 10","Одяг",413.41,558.11,{"$f":"'Pet Fashion'!I$70","v":0},{"$f":"'Pet Fashion'!J$70","v":0}]
[null,1111162551,"FLEECY сер-кр XS2","Жилет  FLEECY  сіро / червоний ХS2","Менше 10","Одяг",357.79,483.01,{"$f":"'Pet Fashion'!I$71","v":0},{"$f":"'Pet Fashion'!J$71","v":0}]
[null,1111162546,"FLEECY кр-сер S*****","Жилет  FLEECY  червоно / сірий S","Більше 10","Одяг",364.8,492.49,{"$f":"'Pet Fashion'!I$72","v":0},{"$f":"'Pet Fashion'!J$72","v":0}]
[null,1111162545,"FLEECY кр-сер M","Жилет  FLEECY  червоно / сірий М","Більше 10","Одяг",413.41,558.11,{"$f":"'Pet Fashion'!I$73","v":0},{"$f":"'Pet Fashion'!J$73","v":0}]
[null,1111162548,"FLEECY кр-сер  XS","Жилет  FLEECY  червоно / сірий ХS","Більше 10","Одяг",347.4,468.99,{"$f":"'Pet Fashion'!I$74","v":0},{"$f":"'Pet Fashion'!J$74","v":0}]
[null,1111162547,"FLEECY кр-сер XS2","Жилет  FLEECY  червоно / сірий ХS2","Більше 10","Одяг",357.79,483.01,{"$f":"'Pet Fashion'!I$75","v":0},{"$f":"'Pet Fashion'!J$75","v":0}]
[null,1111175236,"PR243230*****","Жилет  LUKA  XS","Менше 10","Одяг",545.26,736.1,{"$f":"'Pet Fashion'!I$76","v":0},{"$f":"'Pet Fashion'!J$76","v":0}]
[null,1111175237,"PR243229*****","Жилет  LUKA  XХS","Менше 10","Одяг",528.01,712.81,{"$f":"'Pet Fashion'!I$77","v":0},{"$f":"'Pet Fashion'!J$77","v":0}]
[null,1111160436,"Yellow vest L*****","Жилет  Yellow vest  L","Більше 10","Одяг",425.67,575,{"$f":"'Pet Fashion'!I$78","v":0},{"$f":"'Pet Fashion'!J$78","v":0}]
[null,1111160437,"Yellow vest M*****","Жилет  Yellow vest  M","Більше 10","Одяг",420.09,567,{"$f":"'Pet Fashion'!I$79","v":0},{"$f":"'Pet Fashion'!J$79","v":0}]
[null,1111160438,"Yellow vest S","Жилет  Yellow vest  S","Менше 10","Одяг",361.7,488,{"$f":"'Pet Fashion'!I$80","v":0},{"$f":"'Pet Fashion'!J$80","v":0}]
[null,1111160439,"Yellow vest XS","Жилет  Yellow vest  XS","Більше 10","Одяг",356.43,481,{"$f":"'Pet Fashion'!I$81","v":0},{"$f":"'Pet Fashion'!J$81","v":0}]
[null,1111179016,"PR243458*****","Жилет Kris L","Менше 10","Одяг",725,979,{"$f":"'Pet Fashion'!I$82","v":0},{"$f":"'Pet Fashion'!J$82","v":0}]
[null,1111166460,"PR242417","Жилет PF Active E.Vest для собак морська хвиля L","Менше 10","Одяг",671.48,906.5,{"$f":"'Pet Fashion'!I$83","v":0},{"$f":"'Pet Fashion'!J$83","v":0}]
[null,1111166464,"PR242413","Жилет PF Active E.Vest для собак морська хвиля S","Менше 10","Одяг",466,782.47,{"$f":"'Pet Fashion'!I$84","v":0},{"$f":"'Pet Fashion'!J$84","v":0}]
[null,1111166463,"PR242414","Жилет PF Active E.Vest для собак морська хвиля SМ","Менше 10","Одяг",599.96,809.95,{"$f":"'Pet Fashion'!I$85","v":0},{"$f":"'Pet Fashion'!J$85","v":0}]
[null,1111166459,"PR242418","Жилет PF Active E.Vest для собак морська хвиля XL","Менше 10","Одяг",746.19,1007.36,{"$f":"'Pet Fashion'!I$86","v":0},{"$f":"'Pet Fashion'!J$86","v":0}]
[null,1111166466,"PR242411","Жилет PF Active E.Vest для собак морська хвиля XS","Більше 10","Одяг",535.08000000000004,722.36,{"$f":"'Pet Fashion'!I$87","v":0},{"$f":"'Pet Fashion'!J$87","v":0}]
[null,1111166465,"PR242412","Жилет PF Active E.Vest для собак морська хвиля XS-2","Менше 10","Одяг",554.83000000000004,749.02,{"$f":"'Pet Fashion'!I$88","v":0},{"$f":"'Pet Fashion'!J$88","v":0}]
[null,1111166462,"PR242415","Жилет PF Active E.Vest для собак морська хвиля М","Більше 10","Одяг",622.62,840.53,{"$f":"'Pet Fashion'!I$89","v":0},{"$f":"'Pet Fashion'!J$89","v":0}]
[null,1111166461,"PR242416","Жилет PF Active E.Vest для собак морська хвиля М2","Більше 10","Одяг",700.28,945.38,{"$f":"'Pet Fashion'!I$90","v":0},{"$f":"'Pet Fashion'!J$90","v":0}]
[null,1111166444,"PR242433","Жилет PF Active E.Vest для собак оранжевий L","Менше 10","Одяг",671.48,906.5,{"$f":"'Pet Fashion'!I$91","v":0},{"$f":"'Pet Fashion'!J$91","v":0}]
[null,1111166448,"PR242429","Жилет PF Active E.Vest для собак оранжевий S","Менше 10","Одяг",579.61,782.47,{"$f":"'Pet Fashion'!I$92","v":0},{"$f":"'Pet Fashion'!J$92","v":0}]
[null,1111166447,"PR242430","Жилет PF Active E.Vest для собак оранжевий SМ","Менше 10","Одяг",599.96,809.95,{"$f":"'Pet Fashion'!I$93","v":0},{"$f":"'Pet Fashion'!J$93","v":0}]
[null,1111166443,"PR242434","Жилет PF Active E.Vest для собак оранжевий XL","Більше 10","Одяг",746.19,1007.36,{"$f":"'Pet Fashion'!I$94","v":0},{"$f":"'Pet Fashion'!J$94","v":0}]
[null,1111166450,"PR242427","Жилет PF Active E.Vest для собак оранжевий XS","Більше 10","Одяг",535.08000000000004,722.36,{"$f":"'Pet Fashion'!I$95","v":0},{"$f":"'Pet Fashion'!J$95","v":0}]
[null,1111166449,"PR242428","Жилет PF Active E.Vest для собак оранжевий XS-2","Більше 10","Одяг",554.83000000000004,749.02,{"$f":"'Pet Fashion'!I$96","v":0},{"$f":"'Pet Fashion'!J$96","v":0}]
[null,1111166445,"PR242432","Жилет PF Active E.Vest для собак оранжевий М2","Менше 10","Одяг",700.28,945.38,{"$f":"'Pet Fashion'!I$97","v":0},{"$f":"'Pet Fashion'!J$97","v":0}]
[null,1111166436,"PR242441","Жилет PF Active E.Vest для собак сірий L","Більше 10","Одяг",671.48,906.5,{"$f":"'Pet Fashion'!I$98","v":0},{"$f":"'Pet Fashion'!J$98","v":0}]
[null,1111166440,"PR242437","Жилет PF Active E.Vest для собак сірий S","Більше 10","Одяг",579.61,782.47,{"$f":"'Pet Fashion'!I$99","v":0},{"$f":"'Pet Fashion'!J$99","v":0}]
[null,1111166439,"PR242438","Жилет PF Active E.Vest для собак сірий SМ","Більше 10","Одяг",599.96,809.95,{"$f":"'Pet Fashion'!I$100","v":0},{"$f":"'Pet Fashion'!J$100","v":0}]
[null,1111166435,"PR242442","Жилет PF Active E.Vest для собак сірий XL","Більше 10","Одяг",746.19,1007.36,{"$f":"'Pet Fashion'!I$101","v":0},{"$f":"'Pet Fashion'!J$101","v":0}]
[null,1111166442,"PR242435","Жилет PF Active E.Vest для собак сірий XS","Менше 10","Одяг",535.08000000000004,722.36,{"$f":"'Pet Fashion'!I$102","v":0},{"$f":"'Pet Fashion'!J$102","v":0}]
[null,1111166441,"PR242436","Жилет PF Active E.Vest для собак сірий XS-2","Менше 10","Одяг",554.83000000000004,749.02,{"$f":"'Pet Fashion'!I$103","v":0},{"$f":"'Pet Fashion'!J$103","v":0}]
[null,1111166438,"PR242439","Жилет PF Active E.Vest для собак сірий М","Менше 10","Одяг",622.62,840.53,{"$f":"'Pet Fashion'!I$104","v":0},{"$f":"'Pet Fashion'!J$104","v":0}]
[null,1111166437,"PR242440","Жилет PF Active E.Vest для собак сірий М2","Менше 10","Одяг",700.28,945.38,{"$f":"'Pet Fashion'!I$105","v":0},{"$f":"'Pet Fashion'!J$105","v":0}]
[null,1111166452,"PR242425","Жилет PF Active E.Vest для собак фіолетовий L","Менше 10","Одяг",671.48,906.5,{"$f":"'Pet Fashion'!I$106","v":0},{"$f":"'Pet Fashion'!J$106","v":0}]
[null,1111166456,"PR242421","Жилет PF Active E.Vest для собак фіолетовий S","Менше 10","Одяг",579.61,782.47,{"$f":"'Pet Fashion'!I$107","v":0},{"$f":"'Pet Fashion'!J$107","v":0}]
[null,1111166455,"PR242422","Жилет PF Active E.Vest для собак фіолетовий SМ","Більше 10","Одяг",599.96,809.95,{"$f":"'Pet Fashion'!I$108","v":0},{"$f":"'Pet Fashion'!J$108","v":0}]
[null,1111166451,"PR242426","Жилет PF Active E.Vest для собак фіолетовий XL","Менше 10","Одяг",746.19,1007.36,{"$f":"'Pet Fashion'!I$109","v":0},{"$f":"'Pet Fashion'!J$109","v":0}]
[null,1111166458,"PR242419","Жилет PF Active E.Vest для собак фіолетовий XS","Більше 10","Одяг",535.08000000000004,722.36,{"$f":"'Pet Fashion'!I$110","v":0},{"$f":"'Pet Fashion'!J$110","v":0}]
[null,1111166457,"PR242420","Жилет PF Active E.Vest для собак фіолетовий XS-2","Більше 10","Одяг",554.83000000000004,749.02,{"$f":"'Pet Fashion'!I$111","v":0},{"$f":"'Pet Fashion'!J$111","v":0}]
[null,1111166454,"PR242423","Жилет PF Active E.Vest для собак фіолетовий М","Більше 10","Одяг",622.62,840.53,{"$f":"'Pet Fashion'!I$112","v":0},{"$f":"'Pet Fashion'!J$112","v":0}]
[null,1111166453,"PR242424","Жилет PF Active E.Vest для собак фіолетовий М2","Більше 10","Одяг",700.28,945.38,{"$f":"'Pet Fashion'!I$113","v":0},{"$f":"'Pet Fashion'!J$113","v":0}]
[null,1111166428,"PR242449","Жилет PF Active E.Vest для собак червоний L","Більше 10","Одяг",671.48,906.5,{"$f":"'Pet Fashion'!I$114","v":0},{"$f":"'Pet Fashion'!J$114","v":0}]
[null,1111166432,"PR242445","Жилет PF Active E.Vest для собак червоний S","Менше 10","Одяг",579.61,782.47,{"$f":"'Pet Fashion'!I$115","v":0},{"$f":"'Pet Fashion'!J$115","v":0}]
[null,1111166431,"PR242446","Жилет PF Active E.Vest для собак червоний SМ","Менше 10","Одяг",599.96,809.95,{"$f":"'Pet Fashion'!I$116","v":0},{"$f":"'Pet Fashion'!J$116","v":0}]
[null,1111166427,"PR242450","Жилет PF Active E.Vest для собак червоний XL","Більше 10","Одяг",746.19,1007.36,{"$f":"'Pet Fashion'!I$117","v":0},{"$f":"'Pet Fashion'!J$117","v":0}]
[null,1111166434,"PR242443","Жилет PF Active E.Vest для собак червоний XS","Більше 10","Одяг",535.08000000000004,722.36,{"$f":"'Pet Fashion'!I$118","v":0},{"$f":"'Pet Fashion'!J$118","v":0}]
[null,1111166433,"PR242444","Жилет PF Active E.Vest для собак червоний XS-2","Більше 10","Одяг",554.83000000000004,749.02,{"$f":"'Pet Fashion'!I$119","v":0},{"$f":"'Pet Fashion'!J$119","v":0}]
[null,1111166430,"PR242447","Жилет PF Active E.Vest для собак червоний М","Менше 10","Одяг",622.62,840.53,{"$f":"'Pet Fashion'!I$120","v":0},{"$f":"'Pet Fashion'!J$120","v":0}]
[null,1111166429,"PR242448","Жилет PF Active E.Vest для собак червоний М2","Менше 10","Одяг",700.28,945.38,{"$f":"'Pet Fashion'!I$121","v":0},{"$f":"'Pet Fashion'!J$121","v":0}]
[null,1111160440,"Yellow vest L жф*****","Жилет+фліс  Warm Yellow vest   L","Менше 10","Одяг",629.6,850,{"$f":"'Pet Fashion'!I$122","v":0},{"$f":"'Pet Fashion'!J$122","v":0}]
[null,1111173408,"PR243085","Іграшка   Коник","Більше 10","Іграшки для котів",112.46,152,{"$f":"'Pet Fashion'!I$123","v":0},{"$f":"'Pet Fashion'!J$123","v":0}]
[null,1111173410,"PR243083","Іграшка  Кажан","Більше 10","Іграшки для котів",118.99,161,{"$f":"'Pet Fashion'!I$124","v":0},{"$f":"'Pet Fashion'!J$124","v":0}]
[null,1111173412,"PR243081","Іграшка  Кісточка з канатом","Більше 10","Іграшки для котів",74.319999999999993,100,{"$f":"'Pet Fashion'!I$125","v":0},{"$f":"'Pet Fashion'!J$125","v":0}]
[null,1111173413,"PR243080","Іграшка  Миша","Більше 10","Іграшки для котів",67.45,91,{"$f":"'Pet Fashion'!I$126","v":0},{"$f":"'Pet Fashion'!J$126","v":0}]
[null,1111173409,"PR243084","Іграшка  Рибка","Більше 10","Іграшки для котів",86.34,117,{"$f":"'Pet Fashion'!I$127","v":0},{"$f":"'Pet Fashion'!J$127","v":0}]
[null,1111173411,"PR243082","Іграшка  Саламандра","Більше 10","Іграшки для котів",104.16,141,{"$f":"'Pet Fashion'!I$128","v":0},{"$f":"'Pet Fashion'!J$128","v":0}]
[null,1111179010,"PR243464*****","Кардиган Denis S жовтий","Більше 10","Одяг",395,534,{"$f":"'Pet Fashion'!I$129","v":0},{"$f":"'Pet Fashion'!J$129","v":0}]
[null,1111179013,"PR243461*****","Кардиган Denis S м’ятний","Більше 10","Одяг",397,536,{"$f":"'Pet Fashion'!I$130","v":0},{"$f":"'Pet Fashion'!J$130","v":0}]
[null,1111179012,"PR243462*****","Кардиган Denis XS жовтий","Більше 10","Одяг",354,478,{"$f":"'Pet Fashion'!I$131","v":0},{"$f":"'Pet Fashion'!J$131","v":0}]
[null,1111179015,"PR243459*****","Кардиган Denis XS м’ятний","Більше 10","Одяг",351,474,{"$f":"'Pet Fashion'!I$132","v":0},{"$f":"'Pet Fashion'!J$132","v":0}]
[null,1111179011,"PR243463*****","Кардиган Denis XS2 жовтий","Менше 10","Одяг",382,516,{"$f":"'Pet Fashion'!I$133","v":0},{"$f":"'Pet Fashion'!J$133","v":0}]
[null,1111179014,"PR243460*****","Кардиган Denis XS2 м’ятний","Більше 10","Одяг",381,515,{"$f":"'Pet Fashion'!I$134","v":0},{"$f":"'Pet Fashion'!J$134","v":0}]
[null,1111165268,"PR242328*****","Комбінезон  AMAZE  M","Більше 10","Одяг",694.64,937.76,{"$f":"'Pet Fashion'!I$135","v":0},{"$f":"'Pet Fashion'!J$135","v":0}]
[null,1111165102,"PR242244*****","Комбінезон  PUZZLE   XS","Більше 10","Одяг",658.59,889.09,{"$f":"'Pet Fashion'!I$136","v":0},{"$f":"'Pet Fashion'!J$136","v":0}]
[null,1111159502,"PR241631","Комбінезон  RAIN   2XL","Менше 10","Одяг",669.62,904,{"$f":"'Pet Fashion'!I$137","v":0},{"$f":"'Pet Fashion'!J$137","v":0}]
[null,1111159503,"PR241630*****","Комбінезон  RAIN   3XL","Менше 10","Одяг",705.42,952,{"$f":"'Pet Fashion'!I$138","v":0},{"$f":"'Pet Fashion'!J$138","v":0}]
[null,1111159504,"PR241629*****","Комбінезон  RAIN   4XL","Менше 10","Одяг",734.9,992,{"$f":"'Pet Fashion'!I$139","v":0},{"$f":"'Pet Fashion'!J$139","v":0}]
[null,1111159500,"PR241633*****","Комбінезон  RAIN   M такса","Менше 10","Одяг",459.05,620,{"$f":"'Pet Fashion'!I$140","v":0},{"$f":"'Pet Fashion'!J$140","v":0}]
[null,1111159492,"PR241642","Комбінезон  RAIN   S","Більше 10","Одяг",370.61,500,{"$f":"'Pet Fashion'!I$141","v":0},{"$f":"'Pet Fashion'!J$141","v":0}]
[null,1111159499,"PR241634*****","Комбінезон  RAIN   S-2 такса","Менше 10","Одяг",459.05,620,{"$f":"'Pet Fashion'!I$142","v":0},{"$f":"'Pet Fashion'!J$142","v":0}]
[null,1111159491,"PR241643","Комбінезон  RAIN   XS","Більше 10","Одяг",334.81,452.5,{"$f":"'Pet Fashion'!I$143","v":0},{"$f":"'Pet Fashion'!J$143","v":0}]
[null,1111159498,"PR241635*****","Комбінезон  RAIN  S такса","Менше 10","Одяг",431.67,582.5,{"$f":"'Pet Fashion'!I$144","v":0},{"$f":"'Pet Fashion'!J$144","v":0}]
[null,1111167341,"PR242618","Комбінезон COLD 2XL  червоний","Більше 10","Одяг",1037.8599999999999,1401.11,{"$f":"'Pet Fashion'!I$145","v":0},{"$f":"'Pet Fashion'!J$145","v":0}]
[null,1111167323,"PR242600","Комбінезон COLD 2XL бірюза","Менше 10","Одяг",1037.8599999999999,1401.11,{"$f":"'Pet Fashion'!I$146","v":0},{"$f":"'Pet Fashion'!J$146","v":0}]
[null,1111167359,"PR242636","Комбінезон COLD 2XL сірий","Менше 10","Одяг",1037.8599999999999,1401.11,{"$f":"'Pet Fashion'!I$147","v":0},{"$f":"'Pet Fashion'!J$147","v":0}]
[null,1111167342,"PR242619","Комбінезон COLD 3XL  червоний","Менше 10","Одяг",1132.8,1529.28,{"$f":"'Pet Fashion'!I$148","v":0},{"$f":"'Pet Fashion'!J$148","v":0}]
[null,1111167324,"PR242601","Комбінезон COLD 3XL бірюза","Більше 10","Одяг",1132.8,1529.28,{"$f":"'Pet Fashion'!I$149","v":0},{"$f":"'Pet Fashion'!J$149","v":0}]
[null,1111167360,"PR242637","Комбінезон COLD 3XL сірий","Більше 10","Одяг",1132.8,1529.28,{"$f":"'Pet Fashion'!I$150","v":0},{"$f":"'Pet Fashion'!J$150","v":0}]
[null,1111167343,"PR242620","Комбінезон COLD 4XL  червоний","Більше 10","Одяг",1178.0899999999999,1590.42,{"$f":"'Pet Fashion'!I$151","v":0},{"$f":"'Pet Fashion'!J$151","v":0}]
[null,1111167325,"PR242602","Комбінезон COLD 4XL бірюза","Більше 10","Одяг",1178.0899999999999,1590.42,{"$f":"'Pet Fashion'!I$152","v":0},{"$f":"'Pet Fashion'!J$152","v":0}]
[null,1111167361,"PR242638","Комбінезон COLD 4XL сірий","Менше 10","Одяг",1178.0899999999999,1590.42,{"$f":"'Pet Fashion'!I$153","v":0},{"$f":"'Pet Fashion'!J$153","v":0}]
[null,1111167344,"PR242621","Комбінезон COLD 5XL  червоний","Більше 10","Одяг",1290.5,1742.17,{"$f":"'Pet Fashion'!I$154","v":0},{"$f":"'Pet Fashion'!J$154","v":0}]
[null,1111167326,"PR242603","Комбінезон COLD 5XL бірюза","Менше 10","Одяг",1290.5,1742.17,{"$f":"'Pet Fashion'!I$155","v":0},{"$f":"'Pet Fashion'!J$155","v":0}]
[null,1111167362,"PR242639","Комбінезон COLD 5XL сірий","Менше 10","Одяг",1290.5,1742.17,{"$f":"'Pet Fashion'!I$156","v":0},{"$f":"'Pet Fashion'!J$156","v":0}]
[null,1111167345,"PR242622","Комбінезон COLD 6XL  червоний","Більше 10","Одяг",1316.81,1777.69,{"$f":"'Pet Fashion'!I$157","v":0},{"$f":"'Pet Fashion'!J$157","v":0}]
[null,1111167327,"PR242604","Комбінезон COLD 6XL бірюза","Менше 10","Одяг",1316.81,1777.69,{"$f":"'Pet Fashion'!I$158","v":0},{"$f":"'Pet Fashion'!J$158","v":0}]
[null,1111167363,"PR242640","Комбінезон COLD 6XL сірий","Більше 10","Одяг",1316.81,1777.69,{"$f":"'Pet Fashion'!I$159","v":0},{"$f":"'Pet Fashion'!J$159","v":0}]
[null,1111167346,"PR242623","Комбінезон COLD 7XL  червоний","Більше 10","Одяг",1456.21,1965.88,{"$f":"'Pet Fashion'!I$160","v":0},{"$f":"'Pet Fashion'!J$160","v":0}]
[null,1111167328,"PR242605","Комбінезон COLD 7XL бірюза","Менше 10","Одяг",1456.21,1965.88,{"$f":"'Pet Fashion'!I$161","v":0},{"$f":"'Pet Fashion'!J$161","v":0}]
[null,1111167364,"PR242641","Комбінезон COLD 7XL сірий","Більше 10","Одяг",1456.21,1965.88,{"$f":"'Pet Fashion'!I$162","v":0},{"$f":"'Pet Fashion'!J$162","v":0}]
[null,1111167317,"PR242535","Комбінезон COLD L бірюза","Більше 10","Одяг",807.32,1089.8800000000001,{"$f":"'Pet Fashion'!I$163","v":0},{"$f":"'Pet Fashion'!J$163","v":0}]
[null,1111167353,"PR242630","Комбінезон COLD L сірий","Менше 10","Одяг",807.32,1089.8800000000001,{"$f":"'Pet Fashion'!I$164","v":0},{"$f":"'Pet Fashion'!J$164","v":0}]
[null,1111167335,"PR242612","Комбінезон COLD L червоний","Менше 10","Одяг",807.32,1089.8800000000001,{"$f":"'Pet Fashion'!I$165","v":0},{"$f":"'Pet Fashion'!J$165","v":0}]
[null,1111167334,"PR242611","Комбінезон COLD M  червоний","Більше 10","Одяг",699.58,944.43,{"$f":"'Pet Fashion'!I$166","v":0},{"$f":"'Pet Fashion'!J$166","v":0}]
[null,1111167316,"PR242534","Комбінезон COLD M бірюза","Менше 10","Одяг",699.58,944.43,{"$f":"'Pet Fashion'!I$167","v":0},{"$f":"'Pet Fashion'!J$167","v":0}]
[null,1111167352,"PR242629","Комбінезон COLD M сірий","Більше 10","Одяг",699.58,944.43,{"$f":"'Pet Fashion'!I$168","v":0},{"$f":"'Pet Fashion'!J$168","v":0}]
[null,1111167339,"PR242616","Комбінезон COLD M такса  червоний","Більше 10","Одяг",748.32,1010.23,{"$f":"'Pet Fashion'!I$169","v":0},{"$f":"'Pet Fashion'!J$169","v":0}]
[null,1111167321,"PR242539","Комбінезон COLD M такса бірюза","Більше 10","Одяг",748.32,1010.23,{"$f":"'Pet Fashion'!I$170","v":0},{"$f":"'Pet Fashion'!J$170","v":0}]
[null,1111167357,"PR242634","Комбінезон COLD M такса сірий","Менше 10","Одяг",748.32,1010.23,{"$f":"'Pet Fashion'!I$171","v":0},{"$f":"'Pet Fashion'!J$171","v":0}]
[null,1111167332,"PR242609","Комбінезон COLD M2  червоний","Більше 10","Одяг",743.53,1003.76,{"$f":"'Pet Fashion'!I$172","v":0},{"$f":"'Pet Fashion'!J$172","v":0}]
[null,1111167314,"PR242532","Комбінезон COLD M2 бірюза","Менше 10","Одяг",743.53,1003.76,{"$f":"'Pet Fashion'!I$173","v":0},{"$f":"'Pet Fashion'!J$173","v":0}]
[null,1111167350,"PR242627","Комбінезон COLD M2 сірий","Менше 10","Одяг",743.53,1003.76,{"$f":"'Pet Fashion'!I$174","v":0},{"$f":"'Pet Fashion'!J$174","v":0}]
[null,1111167333,"PR242610","Комбінезон COLD ML  червоний","Більше 10","Одяг",718.43,969.88,{"$f":"'Pet Fashion'!I$175","v":0},{"$f":"'Pet Fashion'!J$175","v":0}]
[null,1111167315,"PR242533","Комбінезон COLD ML бірюза","Більше 10","Одяг",718.43,969.88,{"$f":"'Pet Fashion'!I$176","v":0},{"$f":"'Pet Fashion'!J$176","v":0}]
[null,1111167351,"PR242628","Комбінезон COLD ML сірий","Менше 10","Одяг",718.43,969.88,{"$f":"'Pet Fashion'!I$177","v":0},{"$f":"'Pet Fashion'!J$177","v":0}]
[null,1111167312,"PR242530","Комбінезон COLD S бірюза","Більше 10","Одяг",586.83000000000004,792.22,{"$f":"'Pet Fashion'!I$178","v":0},{"$f":"'Pet Fashion'!J$178","v":0}]
[null,1111167348,"PR242625","Комбінезон COLD S сірий","Менше 10","Одяг",586.83000000000004,792.22,{"$f":"'Pet Fashion'!I$179","v":0},{"$f":"'Pet Fashion'!J$179","v":0}]
[null,1111167337,"PR242614","Комбінезон COLD S такса  червоний","Більше 10","Одяг",645.71,871.7,{"$f":"'Pet Fashion'!I$180","v":0},{"$f":"'Pet Fashion'!J$180","v":0}]
[null,1111167319,"PR242537","Комбінезон COLD S такса бірюза","Менше 10","Одяг",645.71,871.7,{"$f":"'Pet Fashion'!I$181","v":0},{"$f":"'Pet Fashion'!J$181","v":0}]
[null,1111167355,"PR242632","Комбінезон COLD S такса сірий","Більше 10","Одяг",645.71,871.7,{"$f":"'Pet Fashion'!I$182","v":0},{"$f":"'Pet Fashion'!J$182","v":0}]
[null,1111167330,"PR242607","Комбінезон COLD S червоний","Менше 10","Одяг",586.83000000000004,792.22,{"$f":"'Pet Fashion'!I$183","v":0},{"$f":"'Pet Fashion'!J$183","v":0}]
[null,1111167338,"PR242615","Комбінезон COLD S2 такса  червоний","Менше 10","Одяг",717.47,968.59,{"$f":"'Pet Fashion'!I$184","v":0},{"$f":"'Pet Fashion'!J$184","v":0}]
[null,1111167320,"PR242538","Комбінезон COLD S2 такса бірюза","Менше 10","Одяг",717.47,968.59,{"$f":"'Pet Fashion'!I$185","v":0},{"$f":"'Pet Fashion'!J$185","v":0}]
[null,1111167356,"PR242633","Комбінезон COLD S2 такса сірий","Менше 10","Одяг",717.47,968.59,{"$f":"'Pet Fashion'!I$186","v":0},{"$f":"'Pet Fashion'!J$186","v":0}]
[null,1111167331,"PR242608","Комбінезон COLD SM  червоний","Більше 10","Одяг",642.16,866.91,{"$f":"'Pet Fashion'!I$187","v":0},{"$f":"'Pet Fashion'!J$187","v":0}]
[null,1111167313,"PR242531","Комбінезон COLD SM бірюза","Більше 10","Одяг",642.16,866.91,{"$f":"'Pet Fashion'!I$188","v":0},{"$f":"'Pet Fashion'!J$188","v":0}]
[null,1111167349,"PR242626","Комбінезон COLD SM сірий","Менше 10","Одяг",642.16,866.91,{"$f":"'Pet Fashion'!I$189","v":0},{"$f":"'Pet Fashion'!J$189","v":0}]
[null,1111167340,"PR242617","Комбінезон COLD XL  червоний","Більше 10","Одяг",817.39,1103.48,{"$f":"'Pet Fashion'!I$190","v":0},{"$f":"'Pet Fashion'!J$190","v":0}]
[null,1111167322,"PR242599","Комбінезон COLD XL бірюза","Більше 10","Одяг",817.39,1103.48,{"$f":"'Pet Fashion'!I$191","v":0},{"$f":"'Pet Fashion'!J$191","v":0}]
[null,1111167358,"PR242635","Комбінезон COLD XL сірий","Менше 10","Одяг",817.39,1103.48,{"$f":"'Pet Fashion'!I$192","v":0},{"$f":"'Pet Fashion'!J$192","v":0}]
[null,1111167311,"PR242529","Комбінезон COLD XS бірюза","Більше 10","Одяг",541.66999999999996,731.26,{"$f":"'Pet Fashion'!I$193","v":0},{"$f":"'Pet Fashion'!J$193","v":0}]
[null,1111167347,"PR242624","Комбінезон COLD XS сірий","Більше 10","Одяг",541.66999999999996,731.26,{"$f":"'Pet Fashion'!I$194","v":0},{"$f":"'Pet Fashion'!J$194","v":0}]
[null,1111167336,"PR242613","Комбінезон COLD XS такса  червоний","Більше 10","Одяг",597.54999999999995,806.7,{"$f":"'Pet Fashion'!I$195","v":0},{"$f":"'Pet Fashion'!J$195","v":0}]
[null,1111167318,"PR242536","Комбінезон COLD XS такса бірюза","Більше 10","Одяг",597.54999999999995,806.7,{"$f":"'Pet Fashion'!I$196","v":0},{"$f":"'Pet Fashion'!J$196","v":0}]
[null,1111167354,"PR242631","Комбінезон COLD XS такса сірий","Більше 10","Одяг",597.54999999999995,806.7,{"$f":"'Pet Fashion'!I$197","v":0},{"$f":"'Pet Fashion'!J$197","v":0}]
[null,1111167329,"PR242606","Комбінезон COLD XS червоний","Більше 10","Одяг",541.66999999999996,731.26,{"$f":"'Pet Fashion'!I$198","v":0},{"$f":"'Pet Fashion'!J$198","v":0}]
[null,1111174496,"PR243141*****","Комбінезон EGO S2","Менше 10","Одяг",920.95,1243.28,{"$f":"'Pet Fashion'!I$199","v":0},{"$f":"'Pet Fashion'!J$199","v":0}]
[null,1111169838,"PR428960*****","Комбінезон INDIGO картатий M2","Менше 10","Одяг",800.66,1080.8900000000001,{"$f":"'Pet Fashion'!I$200","v":0},{"$f":"'Pet Fashion'!J$200","v":0}]
[null,1111169840,"PR428946*****","Комбінезон INDIGO картатий S2","Менше 10","Одяг",715.59,966.04,{"$f":"'Pet Fashion'!I$201","v":0},{"$f":"'Pet Fashion'!J$201","v":0}]
[null,1111167821,"PR242717*****","Комбінезон Jeans XS темно-синій","Менше 10","Одяг",468,632,{"$f":"'Pet Fashion'!I$202","v":0},{"$f":"'Pet Fashion'!J$202","v":0}]
[null,1111167377,"PR242590","Комбінезон RAIN  2XL сірий","Більше 10","Одяг",886.51,1196.79,{"$f":"'Pet Fashion'!I$203","v":0},{"$f":"'Pet Fashion'!J$203","v":0}]
[null,1111167378,"PR242588","Комбінезон RAIN  3XL сірий","Більше 10","Одяг",944.88,1275.5899999999999,{"$f":"'Pet Fashion'!I$204","v":0},{"$f":"'Pet Fashion'!J$204","v":0}]
[null,1111167379,"PR242587","Комбінезон RAIN  4XL сірий","Більше 10","Одяг",993.32,1340.98,{"$f":"'Pet Fashion'!I$205","v":0},{"$f":"'Pet Fashion'!J$205","v":0}]
[null,1111167380,"PR242586","Комбінезон RAIN  5XL сірий","Більше 10","Одяг",1060.2,1431.26,{"$f":"'Pet Fashion'!I$206","v":0},{"$f":"'Pet Fashion'!J$206","v":0}]
[null,1111167381,"PR242585","Комбінезон RAIN  6XL сірий","Більше 10","Одяг",1123.42,1516.62,{"$f":"'Pet Fashion'!I$207","v":0},{"$f":"'Pet Fashion'!J$207","v":0}]
[null,1111167382,"PR242584","Комбінезон RAIN  7XL сірий","Більше 10","Одяг",1221.57,1649.11,{"$f":"'Pet Fashion'!I$208","v":0},{"$f":"'Pet Fashion'!J$208","v":0}]
[null,1111167371,"PR242597","Комбінезон RAIN  L сірий","Більше 10","Одяг",689.87,931.32,{"$f":"'Pet Fashion'!I$209","v":0},{"$f":"'Pet Fashion'!J$209","v":0}]
[null,1111167370,"PR242596","Комбінезон RAIN  M сірий","Менше 10","Одяг",592.14,799.4,{"$f":"'Pet Fashion'!I$210","v":0},{"$f":"'Pet Fashion'!J$210","v":0}]
[null,1111167375,"PR242593","Комбінезон RAIN  M такса сірий","Більше 10","Одяг",623.17999999999995,841.29,{"$f":"'Pet Fashion'!I$211","v":0},{"$f":"'Pet Fashion'!J$211","v":0}]
[null,1111167368,"PR242592","Комбінезон RAIN  M2 сірий","Менше 10","Одяг",635.66999999999996,858.16,{"$f":"'Pet Fashion'!I$212","v":0},{"$f":"'Pet Fashion'!J$212","v":0}]
[null,1111167369,"PR242594","Комбінезон RAIN  ML сірий","Більше 10","Одяг",615.83000000000004,831.37,{"$f":"'Pet Fashion'!I$213","v":0},{"$f":"'Pet Fashion'!J$213","v":0}]
[null,1111167366,"PR242643","Комбінезон RAIN  S сірий","Більше 10","Одяг",500.09,675.12,{"$f":"'Pet Fashion'!I$214","v":0},{"$f":"'Pet Fashion'!J$214","v":0}]
[null,1111167373,"PR242644","Комбінезон RAIN  S такса сірий","Більше 10","Одяг",576.78,778.65,{"$f":"'Pet Fashion'!I$215","v":0},{"$f":"'Pet Fashion'!J$215","v":0}]
[null,1111167374,"PR242595","Комбінезон RAIN  S2 такса сірий","Більше 10","Одяг",613.71,828.51,{"$f":"'Pet Fashion'!I$216","v":0},{"$f":"'Pet Fashion'!J$216","v":0}]
[null,1111167367,"PR242589","Комбінезон RAIN  SM сірий","Менше 10","Одяг",559.74,755.65,{"$f":"'Pet Fashion'!I$217","v":0},{"$f":"'Pet Fashion'!J$217","v":0}]
[null,1111167365,"PR242642","Комбінезон RAIN  XS сірий","Більше 10","Одяг",453.48,612.20000000000005,{"$f":"'Pet Fashion'!I$218","v":0},{"$f":"'Pet Fashion'!J$218","v":0}]
[null,1111167372,"PR242598","Комбінезон RAIN  XS такса сірий","Більше 10","Одяг",541.16,730.57,{"$f":"'Pet Fashion'!I$219","v":0},{"$f":"'Pet Fashion'!J$219","v":0}]
[null,1111167413,"PR242555","Комбінезон RAIN 2XL  червоний","Більше 10","Одяг",886.51,1196.79,{"$f":"'Pet Fashion'!I$220","v":0},{"$f":"'Pet Fashion'!J$220","v":0}]
[null,1111167395,"PR242573","Комбінезон RAIN 2XL бірюза","Менше 10","Одяг",886.51,1196.79,{"$f":"'Pet Fashion'!I$221","v":0},{"$f":"'Pet Fashion'!J$221","v":0}]
[null,1111167414,"PR242554","Комбінезон RAIN 3XL  червоний","Більше 10","Одяг",944.88,1275.5899999999999,{"$f":"'Pet Fashion'!I$222","v":0},{"$f":"'Pet Fashion'!J$222","v":0}]
[null,1111167396,"PR242572","Комбінезон RAIN 3XL бірюза","Більше 10","Одяг",944.88,1275.5899999999999,{"$f":"'Pet Fashion'!I$223","v":0},{"$f":"'Pet Fashion'!J$223","v":0}]
[null,1111167415,"PR242552","Комбінезон RAIN 4XL  червоний","Більше 10","Одяг",993.32,1340.98,{"$f":"'Pet Fashion'!I$224","v":0},{"$f":"'Pet Fashion'!J$224","v":0}]
[null,1111167397,"PR242556","Комбінезон RAIN 4XL бірюза","Більше 10","Одяг",993.32,1340.98,{"$f":"'Pet Fashion'!I$225","v":0},{"$f":"'Pet Fashion'!J$225","v":0}]
[null,1111167416,"PR242551","Комбінезон RAIN 5XL  червоний","Більше 10","Одяг",1060.2,1431.26,{"$f":"'Pet Fashion'!I$226","v":0},{"$f":"'Pet Fashion'!J$226","v":0}]
[null,1111167398,"PR242645","Комбінезон RAIN 5XL бірюза","Більше 10","Одяг",1060.2,1431.26,{"$f":"'Pet Fashion'!I$227","v":0},{"$f":"'Pet Fashion'!J$227","v":0}]
[null,1111167417,"PR242550","Комбінезон RAIN 6XL  червоний","Більше 10","Одяг",1123.42,1516.62,{"$f":"'Pet Fashion'!I$228","v":0},{"$f":"'Pet Fashion'!J$228","v":0}]
[null,1111167399,"PR242571","Комбінезон RAIN 6XL бірюза","Менше 10","Одяг",1123.42,1516.62,{"$f":"'Pet Fashion'!I$229","v":0},{"$f":"'Pet Fashion'!J$229","v":0}]
[null,1111167418,"PR242549","Комбінезон RAIN 7XL  червоний","Більше 10","Одяг",1221.57,1649.11,{"$f":"'Pet Fashion'!I$230","v":0},{"$f":"'Pet Fashion'!J$230","v":0}]
[null,1111167400,"PR242570","Комбінезон RAIN 7XL бірюза","Більше 10","Одяг",1221.57,1649.11,{"$f":"'Pet Fashion'!I$231","v":0},{"$f":"'Pet Fashion'!J$231","v":0}]
[null,1111167389,"PR242561","Комбінезон RAIN L бірюза","Менше 10","Одяг",689.87,931.32,{"$f":"'Pet Fashion'!I$232","v":0},{"$f":"'Pet Fashion'!J$232","v":0}]
[null,1111167407,"PR242563","Комбінезон RAIN L червоний","Більше 10","Одяг",689.87,931.32,{"$f":"'Pet Fashion'!I$233","v":0},{"$f":"'Pet Fashion'!J$233","v":0}]
[null,1111167406,"PR242564","Комбінезон RAIN M  червоний","Більше 10","Одяг",592.14,799.4,{"$f":"'Pet Fashion'!I$234","v":0},{"$f":"'Pet Fashion'!J$234","v":0}]
[null,1111167388,"PR242574","Комбінезон RAIN M бірюза","Більше 10","Одяг",592.14,799.4,{"$f":"'Pet Fashion'!I$235","v":0},{"$f":"'Pet Fashion'!J$235","v":0}]
[null,1111167411,"PR242558","Комбінезон RAIN M такса  червоний","Більше 10","Одяг",623.17999999999995,841.29,{"$f":"'Pet Fashion'!I$236","v":0},{"$f":"'Pet Fashion'!J$236","v":0}]
[null,1111167404,"PR242566","Комбінезон RAIN M2  червоний","Більше 10","Одяг",635.66999999999996,858.16,{"$f":"'Pet Fashion'!I$237","v":0},{"$f":"'Pet Fashion'!J$237","v":0}]
[null,1111167386,"PR242580","Комбінезон RAIN M2 бірюза","Менше 10","Одяг",635.66999999999996,858.16,{"$f":"'Pet Fashion'!I$238","v":0},{"$f":"'Pet Fashion'!J$238","v":0}]
[null,1111167405,"PR242565","Комбінезон RAIN ML  червоний","Менше 10","Одяг",615.83000000000004,831.37,{"$f":"'Pet Fashion'!I$239","v":0},{"$f":"'Pet Fashion'!J$239","v":0}]
[null,1111167387,"PR242560","Комбінезон RAIN ML бірюза","Менше 10","Одяг",615.83000000000004,831.37,{"$f":"'Pet Fashion'!I$240","v":0},{"$f":"'Pet Fashion'!J$240","v":0}]
[null,1111167384,"PR242582","Комбінезон RAIN S бірюза","Більше 10","Одяг",500.09,675.12,{"$f":"'Pet Fashion'!I$241","v":0},{"$f":"'Pet Fashion'!J$241","v":0}]
[null,1111167409,"PR242562","Комбінезон RAIN S такса  червоний","Більше 10","Одяг",576.78,778.65,{"$f":"'Pet Fashion'!I$242","v":0},{"$f":"'Pet Fashion'!J$242","v":0}]
[null,1111167391,"PR242579","Комбінезон RAIN S такса бірюза","Більше 10","Одяг",576.78,778.65,{"$f":"'Pet Fashion'!I$243","v":0},{"$f":"'Pet Fashion'!J$243","v":0}]
[null,1111167402,"PR242568","Комбінезон RAIN S червоний","Більше 10","Одяг",500.09,675.12,{"$f":"'Pet Fashion'!I$244","v":0},{"$f":"'Pet Fashion'!J$244","v":0}]
[null,1111167410,"PR242559","Комбінезон RAIN S2 такса  червоний","Більше 10","Одяг",613.71,828.51,{"$f":"'Pet Fashion'!I$245","v":0},{"$f":"'Pet Fashion'!J$245","v":0}]
[null,1111167392,"PR242578","Комбінезон RAIN S2 такса бірюза","Більше 10","Одяг",613.71,828.51,{"$f":"'Pet Fashion'!I$246","v":0},{"$f":"'Pet Fashion'!J$246","v":0}]
[null,1111167403,"PR242567","Комбінезон RAIN SM  червоний","Більше 10","Одяг",559.74,755.65,{"$f":"'Pet Fashion'!I$247","v":0},{"$f":"'Pet Fashion'!J$247","v":0}]
[null,1111167385,"PR242581","Комбінезон RAIN SM бірюза","Більше 10","Одяг",559.74,755.65,{"$f":"'Pet Fashion'!I$248","v":0},{"$f":"'Pet Fashion'!J$248","v":0}]
[null,1111167412,"PR242557","Комбінезон RAIN XL  червоний","Більше 10","Одяг",716.14,966.79,{"$f":"'Pet Fashion'!I$249","v":0},{"$f":"'Pet Fashion'!J$249","v":0}]
[null,1111167394,"PR242576","Комбінезон RAIN XL бірюза","Більше 10","Одяг",716.14,966.79,{"$f":"'Pet Fashion'!I$250","v":0},{"$f":"'Pet Fashion'!J$250","v":0}]
[null,1111167376,"PR242591","Комбінезон RAIN XL сірий","Більше 10","Одяг",716.14,966.79,{"$f":"'Pet Fashion'!I$251","v":0},{"$f":"'Pet Fashion'!J$251","v":0}]
[null,1111167383,"PR242583","Комбінезон RAIN XS бірюза","Більше 10","Одяг",453.48,612.20000000000005,{"$f":"'Pet Fashion'!I$252","v":0},{"$f":"'Pet Fashion'!J$252","v":0}]
[null,1111167408,"PR242553","Комбінезон RAIN XS такса  червоний","Більше 10","Одяг",541.16,730.57,{"$f":"'Pet Fashion'!I$253","v":0},{"$f":"'Pet Fashion'!J$253","v":0}]
[null,1111167390,"PR242575","Комбінезон RAIN XS такса бірюза","Менше 10","Одяг",541.16,730.57,{"$f":"'Pet Fashion'!I$254","v":0},{"$f":"'Pet Fashion'!J$254","v":0}]
[null,1111167401,"PR242569","Комбінезон RAIN XS червоний","Більше 10","Одяг",453.48,612.20000000000005,{"$f":"'Pet Fashion'!I$255","v":0},{"$f":"'Pet Fashion'!J$255","v":0}]
[null,1111163438,"PR242107*****","Комірець  BRIGHT , S-M","Більше 10","Одяг",137,178,{"$f":"'Pet Fashion'!I$256","v":0},{"$f":"'Pet Fashion'!J$256","v":0}]
[null,1111163439,"PR242106*****","Комірець  BRIGHT , XS-XS2","Більше 10","Одяг",124,161,{"$f":"'Pet Fashion'!I$257","v":0},{"$f":"'Pet Fashion'!J$257","v":0}]
[null,1111167420,"PR242547*****","Комірець BRIGHT S-M","Менше 10","Одяг",153,214,{"$f":"'Pet Fashion'!I$258","v":0},{"$f":"'Pet Fashion'!J$258","v":0}]
[null,1111167421,"PR242546*****","Комірець BRIGHT XS-XS2","Більше 10","Одяг",145,204,{"$f":"'Pet Fashion'!I$259","v":0},{"$f":"'Pet Fashion'!J$259","v":0}]
[null,1111174489,"PR243148*****","Костюм  LEAF  зелениий  L","Більше 10","Одяг",859.22,1159.95,{"$f":"'Pet Fashion'!I$260","v":0},{"$f":"'Pet Fashion'!J$260","v":0}]
[null,1111175223,"PR243243*****","Костюм  LOLA  S","Менше 10","Одяг",729.48,984.8,{"$f":"'Pet Fashion'!I$261","v":0},{"$f":"'Pet Fashion'!J$261","v":0}]
[null,1111175222,"PR243244*****","Костюм  LOLA  S2","Більше 10","Одяг",888.83,1199.92,{"$f":"'Pet Fashion'!I$262","v":0},{"$f":"'Pet Fashion'!J$262","v":0}]
[null,1111175225,"PR243241*****","Костюм  LOLA  XS","Більше 10","Одяг",634.57000000000005,856.67,{"$f":"'Pet Fashion'!I$263","v":0},{"$f":"'Pet Fashion'!J$263","v":0}]
[null,1111175221,"PR243245*****","Костюм  LOLA  М","Більше 10","Одяг",876.71,1183.56,{"$f":"'Pet Fashion'!I$264","v":0},{"$f":"'Pet Fashion'!J$264","v":0}]
[null,1111175220,"PR243246*****","Костюм  LOLA  М2","Менше 10","Одяг",935.81,1263.3499999999999,{"$f":"'Pet Fashion'!I$265","v":0},{"$f":"'Pet Fashion'!J$265","v":0}]
[null,1111166482,"PR242487*****","Костюм  MOON   М","Більше 10","Одяг",354,495,{"$f":"'Pet Fashion'!I$266","v":0},{"$f":"'Pet Fashion'!J$266","v":0}]
[null,1111175227,"PR243239*****","Костюм  ZHAN  S","Менше 10","Одяг",765.01,1032.77,{"$f":"'Pet Fashion'!I$267","v":0},{"$f":"'Pet Fashion'!J$267","v":0}]
[null,1111175229,"PR243237*****","Костюм  ZHAN  XS","Більше 10","Одяг",664.83,897.52,{"$f":"'Pet Fashion'!I$268","v":0},{"$f":"'Pet Fashion'!J$268","v":0}]
[null,1111175228,"PR243238*****","Костюм  ZHAN  XS-2","Менше 10","Одяг",720.15,972.2,{"$f":"'Pet Fashion'!I$269","v":0},{"$f":"'Pet Fashion'!J$269","v":0}]
[null,1111175226,"PR243240*****","Костюм  ZHAN  М","Менше 10","Одяг",894.62,1207.74,{"$f":"'Pet Fashion'!I$270","v":0},{"$f":"'Pet Fashion'!J$270","v":0}]
[null,1111171792,"PR243004*****","Костюм ALF джинс M","Менше 10","Одяг",532.71,719.16,{"$f":"'Pet Fashion'!I$271","v":0},{"$f":"'Pet Fashion'!J$271","v":0}]
[null,1111171797,"PR242999*****","Костюм ALF хакі M","Більше 10","Одяг",532.71,719.16,{"$f":"'Pet Fashion'!I$272","v":0},{"$f":"'Pet Fashion'!J$272","v":0}]
[null,1111171796,"PR243000*****","Костюм ALF хакі S","Менше 10","Одяг",448.05,604.87,{"$f":"'Pet Fashion'!I$273","v":0},{"$f":"'Pet Fashion'!J$273","v":0}]
[null,1111168853,"PR242863*****","Костюм BLACK S, PR242863","Менше 10","Одяг",649.91999999999996,877.39,{"$f":"'Pet Fashion'!I$274","v":0},{"$f":"'Pet Fashion'!J$274","v":0}]
[null,1111168855,"PR242861*****","Костюм BLACK XS, PR242861","Менше 10","Одяг",584.96,789.7,{"$f":"'Pet Fashion'!I$275","v":0},{"$f":"'Pet Fashion'!J$275","v":0}]
[null,1111168854,"PR242862*****","Костюм BLACK XS2, PR242862","Менше 10","Одяг",623.14,841.24,{"$f":"'Pet Fashion'!I$276","v":0},{"$f":"'Pet Fashion'!J$276","v":0}]
[null,1111168830,"PR242886*****","Костюм JUDY пудровий M, PR242886","Більше 10","Одяг",830.86,1121.6600000000001,{"$f":"'Pet Fashion'!I$277","v":0},{"$f":"'Pet Fashion'!J$277","v":0}]
[null,1111168831,"PR242885*****","Костюм JUDY пудровий S, PR242885","Менше 10","Одяг",716.79,967.66,{"$f":"'Pet Fashion'!I$278","v":0},{"$f":"'Pet Fashion'!J$278","v":0}]
[null,1111168832,"PR242884*****","Костюм JUDY пудровий S2, PR242884","Менше 10","Одяг",831.77,1122.8900000000001,{"$f":"'Pet Fashion'!I$279","v":0},{"$f":"'Pet Fashion'!J$279","v":0}]
[null,1111168834,"PR242882*****","Костюм JUDY пудровий XS, PR242882","Менше 10","Одяг",649.57000000000005,876.91,{"$f":"'Pet Fashion'!I$280","v":0},{"$f":"'Pet Fashion'!J$280","v":0}]
[null,1111168833,"PR242883*****","Костюм JUDY пудровий XS2, PR242883","Більше 10","Одяг",695.73,939.24,{"$f":"'Pet Fashion'!I$281","v":0},{"$f":"'Pet Fashion'!J$281","v":0}]
[null,1111174490,"PR243147*****","Костюм LEAF зелений  М","Більше 10","Одяг",778.3,1050.7,{"$f":"'Pet Fashion'!I$282","v":0},{"$f":"'Pet Fashion'!J$282","v":0}]
[null,1111174491,"PR243146*****","Костюм LEAF зелений S","Більше 10","Одяг",668.91,903.03,{"$f":"'Pet Fashion'!I$283","v":0},{"$f":"'Pet Fashion'!J$283","v":0}]
[null,1111174492,"PR243145*****","Костюм LEAF зелений XS-2","Більше 10","Одяг",608.33000000000004,821.24,{"$f":"'Pet Fashion'!I$284","v":0},{"$f":"'Pet Fashion'!J$284","v":0}]
[null,1111174479,"PR243158*****","Костюм MAN  XХS","Менше 10","Одяг",647.65,874.33,{"$f":"'Pet Fashion'!I$285","v":0},{"$f":"'Pet Fashion'!J$285","v":0}]
[null,1111174141,"PR242758*****","Костюм MAN M","Більше 10","Одяг",911.67,1230.76,{"$f":"'Pet Fashion'!I$286","v":0},{"$f":"'Pet Fashion'!J$286","v":0}]
[null,1111174140,"PR242759*****","Костюм MAN S","Менше 10","Одяг",789.9,1066.3599999999999,{"$f":"'Pet Fashion'!I$287","v":0},{"$f":"'Pet Fashion'!J$287","v":0}]
[null,1111174143,"PR242755*****","Костюм MAN XL","Менше 10","Одяг",1115.31,1505.67,{"$f":"'Pet Fashion'!I$288","v":0},{"$f":"'Pet Fashion'!J$288","v":0}]
[null,1111174138,"PR242761*****","Костюм MAN XS","Більше 10","Одяг",686.36,926.59,{"$f":"'Pet Fashion'!I$289","v":0},{"$f":"'Pet Fashion'!J$289","v":0}]
[null,1111174139,"PR242760*****","Костюм MAN XS2","Менше 10","Одяг",737.65,995.82,{"$f":"'Pet Fashion'!I$290","v":0},{"$f":"'Pet Fashion'!J$290","v":0}]
[null,1111174675,"PR242794*****","Костюм PF STYLE M","Більше 10","Одяг",661.44,892.95,{"$f":"'Pet Fashion'!I$291","v":0},{"$f":"'Pet Fashion'!J$291","v":0}]
[null,1111174674,"PR242795*****","Костюм PF STYLE S","Більше 10","Одяг",600.62,810.84,{"$f":"'Pet Fashion'!I$292","v":0},{"$f":"'Pet Fashion'!J$292","v":0}]
[null,1111174673,"PR242796*****","Костюм PF STYLE XS2","Більше 10","Одяг",553.66999999999996,747.45,{"$f":"'Pet Fashion'!I$293","v":0},{"$f":"'Pet Fashion'!J$293","v":0}]
[null,1111174679,"PR242789*****","Костюм SOFT S","Більше 10","Одяг",714.94,965.17,{"$f":"'Pet Fashion'!I$294","v":0},{"$f":"'Pet Fashion'!J$294","v":0}]
[null,1111174678,"PR242790*****","Костюм SOFT XS2","Більше 10","Одяг",690.05,931.57,{"$f":"'Pet Fashion'!I$295","v":0},{"$f":"'Pet Fashion'!J$295","v":0}]
[null,1111164689,"PR242215*****","Костюм SPELL  S","Більше 10","Одяг",358,483,{"$f":"'Pet Fashion'!I$296","v":0},{"$f":"'Pet Fashion'!J$296","v":0}]
[null,1111164692,"PR242212*****","Костюм SPELL  XS","Більше 10","Одяг",337,455,{"$f":"'Pet Fashion'!I$297","v":0},{"$f":"'Pet Fashion'!J$297","v":0}]
[null,1111164687,"PR242217*****","Костюм SPELL  М","Менше 10","Одяг",403,544,{"$f":"'Pet Fashion'!I$298","v":0},{"$f":"'Pet Fashion'!J$298","v":0}]
[null,1111174148,"PR242763*****","Костюм TENDER M","Більше 10","Одяг",933.24,1259.8800000000001,{"$f":"'Pet Fashion'!I$299","v":0},{"$f":"'Pet Fashion'!J$299","v":0}]
[null,1111174147,"PR242764*****","Костюм TENDER S","Більше 10","Одяг",825.06,1113.83,{"$f":"'Pet Fashion'!I$300","v":0},{"$f":"'Pet Fashion'!J$300","v":0}]
[null,1111174145,"PR242766*****","Костюм TENDER XS","Менше 10","Одяг",728.79,983.87,{"$f":"'Pet Fashion'!I$301","v":0},{"$f":"'Pet Fashion'!J$301","v":0}]
[null,1111174146,"PR242765*****","Костюм TENDER XS2","Менше 10","Одяг",792.24,1069.53,{"$f":"'Pet Fashion'!I$302","v":0},{"$f":"'Pet Fashion'!J$302","v":0}]
[null,1111166419,"PR242408","Лежак  BOND  №1 ліловий (60х50х18)","Більше 10","Лежаки",1217.77,1643.99,{"$f":"'Pet Fashion'!I$303","v":0},{"$f":"'Pet Fashion'!J$303","v":0}]
[null,1111166421,"PR242406","Лежак  BOND  №1 сірий (60х50х18)","Більше 10","Лежаки",1217.77,1643.99,{"$f":"'Pet Fashion'!I$304","v":0},{"$f":"'Pet Fashion'!J$304","v":0}]
[null,1111166420,"PR242407","Лежак  BOND  №2 ліловий (78х60х20)","Більше 10","Лежаки",1675.76,2262.2800000000002,{"$f":"'Pet Fashion'!I$305","v":0},{"$f":"'Pet Fashion'!J$305","v":0}]
[null,1111166422,"PR242405","Лежак  BOND  №2 сірий (78х60х20)","Більше 10","Лежаки",1675.76,2262.2800000000002,{"$f":"'Pet Fashion'!I$306","v":0},{"$f":"'Pet Fashion'!J$306","v":0}]
[null,1111166423,"PR242404","Лежак  DENVER  №1 ягода (60х50х18)","Менше 10","Лежаки",982.99,1327.03,{"$f":"'Pet Fashion'!I$307","v":0},{"$f":"'Pet Fashion'!J$307","v":0}]
[null,1111166424,"PR242403","Лежак  DENVER  №2 ягода (78х60х20)","Менше 10","Лежаки",1458.88,1969.48,{"$f":"'Pet Fashion'!I$308","v":0},{"$f":"'Pet Fashion'!J$308","v":0}]
[null,1111164245,"PR242135","Лежак  MOLLY  № 1 (52*40*17) пісочний","Менше 10","Лежаки",907.84,1225.58,{"$f":"'Pet Fashion'!I$309","v":0},{"$f":"'Pet Fashion'!J$309","v":0}]
[null,1111164246,"PR242134","Лежак  MOLLY  № 2 (62*50*19) пісочний","Менше 10","Лежаки",1139.44,1538.25,{"$f":"'Pet Fashion'!I$310","v":0},{"$f":"'Pet Fashion'!J$310","v":0}]
[null,1111170060,"PR242912","Лежак ASKOLD 4 теракотовий/сірий","Більше 10","Лежаки",1126.79,1521.16,{"$f":"'Pet Fashion'!I$311","v":0},{"$f":"'Pet Fashion'!J$311","v":0}]
[null,1111170227,"PR242916","Лежак ASKOLD 4 фіолетовий/сірий","Більше 10","Лежаки",1126.79,1521.16,{"$f":"'Pet Fashion'!I$312","v":0},{"$f":"'Pet Fashion'!J$312","v":0}]
[null,1111170061,"PR242913","Лежак ASKOLD 5 теракотовий/сірий","Менше 10","Лежаки",1835.21,2477.5300000000002,{"$f":"'Pet Fashion'!I$313","v":0},{"$f":"'Pet Fashion'!J$313","v":0}]
[null,1111170228,"PR242917","Лежак ASKOLD 5 фіолетовий/сірий","Менше 10","Лежаки",1835.21,2477.5300000000002,{"$f":"'Pet Fashion'!I$314","v":0},{"$f":"'Pet Fashion'!J$314","v":0}]
[null,1111162180,"PR241948","Лежак BALI  (22*37*48 см)","Більше 10","Лежаки",438,591,{"$f":"'Pet Fashion'!I$315","v":0},{"$f":"'Pet Fashion'!J$315","v":0}]
[null,1111160858,"PR241767","Лежак BOSPHORUS  1 (60*53*18)","Більше 10","Лежаки",854.52,1153.5999999999999,{"$f":"'Pet Fashion'!I$316","v":0},{"$f":"'Pet Fashion'!J$316","v":0}]
[null,1111160859,"PR241766","Лежак BOSPHORUS  2 (82*65*18)","Більше 10","Лежаки",1335.41,1802.8,{"$f":"'Pet Fashion'!I$317","v":0},{"$f":"'Pet Fashion'!J$317","v":0}]
[null,1111160860,"PR241765","Лежак BOSPHORUS  3 (95*78*24)","Менше 10","Лежаки",1908.45,2576.41,{"$f":"'Pet Fashion'!I$318","v":0},{"$f":"'Pet Fashion'!J$318","v":0}]
[null,1111166418,"PR242409","Лежак BRIG лайм (58*48*20)","Більше 10","Лежаки",730.23,985.81,{"$f":"'Pet Fashion'!I$319","v":0},{"$f":"'Pet Fashion'!J$319","v":0}]
[null,1111171995,"PR243007","Лежак DENVER №1 сірий","Менше 10","Лежаки",969.14,1308.3399999999999,{"$f":"'Pet Fashion'!I$320","v":0},{"$f":"'Pet Fashion'!J$320","v":0}]
[null,1111171996,"PR243006","Лежак DENVER №2 сірий","Менше 10","Лежаки",1438.33,1941.74,{"$f":"'Pet Fashion'!I$321","v":0},{"$f":"'Pet Fashion'!J$321","v":0}]
[null,1111164247,"PR242133","Лежак MOLLY  №1 (52*40*17 см) фіолетовий","Менше 10","Лежаки",907.84,1225.58,{"$f":"'Pet Fashion'!I$322","v":0},{"$f":"'Pet Fashion'!J$322","v":0}]
[null,1111164248,"PR242132","Лежак MOLLY  №2 (62*50*19см) фіолетовий","Менше 10","Лежаки",1139.44,1538.25,{"$f":"'Pet Fashion'!I$323","v":0},{"$f":"'Pet Fashion'!J$323","v":0}]
[null,1111160863,"PR241757","Лежак PRIME  (66*52*24)","Більше 10","Лежаки",1516,2047,{"$f":"'Pet Fashion'!I$324","v":0},{"$f":"'Pet Fashion'!J$324","v":0}]
[null,1111160861,"PR241760","Лежак SIMON  1 (52*42*18)","Менше 10","Лежаки",996.56,1345.36,{"$f":"'Pet Fashion'!I$325","v":0},{"$f":"'Pet Fashion'!J$325","v":0}]
[null,1111160862,"PR241759","Лежак SIMON  2 (66*54*20)","Більше 10","Лежаки",1468.93,1983.06,{"$f":"'Pet Fashion'!I$326","v":0},{"$f":"'Pet Fashion'!J$326","v":0}]
[null,1111160997,"PR241789","Лежак SOFT  (48*48*17) сірий","Більше 10","Лежаки",872.85,1178.3499999999999,{"$f":"'Pet Fashion'!I$327","v":0},{"$f":"'Pet Fashion'!J$327","v":0}]
[null,1111162281,"PR013311*****","Маска захисна малюнок, PR","Більше 10","Гігієнічний одяг",21.7,40,{"$f":"'Pet Fashion'!I$328","v":0},{"$f":"'Pet Fashion'!J$328","v":0}]
[null,1111162544,"PR241969","Матрац Medi Sleep MEMORY ортопедичний L (92 * 65 * 4)","Менше 10","Матраци",1847.33,2493.9,{"$f":"'Pet Fashion'!I$329","v":0},{"$f":"'Pet Fashion'!J$329","v":0}]
[null,1111162543,"PR241970","Матрац Medi Sleep MEMORY ортопедичний M (66 * 46 * 4)","Менше 10","Матраци",1054.51,1423.59,{"$f":"'Pet Fashion'!I$330","v":0},{"$f":"'Pet Fashion'!J$330","v":0}]
[null,1111162542,"PR241971","Матрац Medi Sleep MEMORY ортопедичний S (48 * 32 * 4)","Більше 10","Матраци",591.25,798.18,{"$f":"'Pet Fashion'!I$331","v":0},{"$f":"'Pet Fashion'!J$331","v":0}]
[null,1111167419,"PR242548*****","Метелик XS-M","Менше 10","Одяг",107,150,{"$f":"'Pet Fashion'!I$332","v":0},{"$f":"'Pet Fashion'!J$332","v":0}]
[null,9136,"PR240115","Намордник №2 м який (пудель)","Менше 10","Намордники",71.23,100,{"$f":"'Pet Fashion'!I$333","v":0},{"$f":"'Pet Fashion'!J$333","v":0}]
[null,8937,"PR240116","Намордник №3 м який (вівчарка)","Менше 10","Намордники",74.87,105.5,{"$f":"'Pet Fashion'!I$334","v":0},{"$f":"'Pet Fashion'!J$334","v":0}]
[null,8938,"PR240117","Намордник №4 м який (дог)","Менше 10","Намордники",79.92,112,{"$f":"'Pet Fashion'!I$335","v":0},{"$f":"'Pet Fashion'!J$335","v":0}]
[null,8939,"PR240118","Намордник №5 м який (ротвейлер)","Менше 10","Намордники",83.54,117,{"$f":"'Pet Fashion'!I$336","v":0},{"$f":"'Pet Fashion'!J$336","v":0}]
[null,1111178759,"PR243424","Панама  Blue M","Немає в наявності","Одяг",264,356,{"$f":"'Pet Fashion'!I$337","v":0},{"$f":"'Pet Fashion'!J$337","v":0}]
[null,1111178760,"PR243423","Панама  Blue S","Немає в наявності","Одяг",253,341,{"$f":"'Pet Fashion'!I$338","v":0},{"$f":"'Pet Fashion'!J$338","v":0}]
[null,1111161844,"PR241904","Плед  BLISS  1 м ята (77*60), PR241904","Менше 10","Килимки, пледи",333.77,451,{"$f":"'Pet Fashion'!I$339","v":0},{"$f":"'Pet Fashion'!J$339","v":0}]
[null,1111161842,"PR241902","Плед  BLISS  1 пудра (77*60), PR241902","Більше 10","Килимки, пледи",333.77,451,{"$f":"'Pet Fashion'!I$340","v":0},{"$f":"'Pet Fashion'!J$340","v":0}]
[null,1111161845,"PR241906","Плед  BLISS  2 м ята (77*100), PR241906","Більше 10","Килимки, пледи",447.31,604,{"$f":"'Pet Fashion'!I$341","v":0},{"$f":"'Pet Fashion'!J$341","v":0}]
[null,1111165967,"PR242369*****","Попона  SANTA     M","Менше 10","Одяг",446.39,602.63,{"$f":"'Pet Fashion'!I$342","v":0},{"$f":"'Pet Fashion'!J$342","v":0}]
[null,1111175258,"PR243208","Попона  SANTA  зелена M","Менше 10","Одяг",461.88,623.54,{"$f":"'Pet Fashion'!I$343","v":0},{"$f":"'Pet Fashion'!J$343","v":0}]
[null,1111176044,"PR243291","Попона ROY малиново-сірий 2XL","Більше 10","Одяг",701.32,946.78,{"$f":"'Pet Fashion'!I$344","v":0},{"$f":"'Pet Fashion'!J$344","v":0}]
[null,1111176045,"PR243290","Попона ROY малиново-сірий 3XL","Менше 10","Одяг",751.46,1014.47,{"$f":"'Pet Fashion'!I$345","v":0},{"$f":"'Pet Fashion'!J$345","v":0}]
[null,1111176046,"PR243289","Попона ROY малиново-сірий 4XL","Більше 10","Одяг",845.53,1141.46,{"$f":"'Pet Fashion'!I$346","v":0},{"$f":"'Pet Fashion'!J$346","v":0}]
[null,1111176047,"PR243288","Попона ROY малиново-сірий 5XL","Більше 10","Одяг",885.95,1196.03,{"$f":"'Pet Fashion'!I$347","v":0},{"$f":"'Pet Fashion'!J$347","v":0}]
[null,1111176048,"PR243287","Попона ROY малиново-сірий 6XL","Більше 10","Одяг",1026.8599999999999,1386.25,{"$f":"'Pet Fashion'!I$348","v":0},{"$f":"'Pet Fashion'!J$348","v":0}]
[null,1111176049,"PR243286","Попона ROY малиново-сірий 7XL","Більше 10","Одяг",1132.8900000000001,1529.4,{"$f":"'Pet Fashion'!I$349","v":0},{"$f":"'Pet Fashion'!J$349","v":0}]
[null,1111176043,"PR243292","Попона ROY малиново-сірий XL","Більше 10","Одяг",652.45000000000005,880.81,{"$f":"'Pet Fashion'!I$350","v":0},{"$f":"'Pet Fashion'!J$350","v":0}]
[null,1111176055,"PR243280","Попона ROY хакі-гірчиця  6XL","Більше 10","Одяг",1026.8599999999999,1386.25,{"$f":"'Pet Fashion'!I$351","v":0},{"$f":"'Pet Fashion'!J$351","v":0}]
[null,1111176051,"PR243284","Попона ROY хакі-гірчиця 2XL","Більше 10","Одяг",701.32,946.78,{"$f":"'Pet Fashion'!I$352","v":0},{"$f":"'Pet Fashion'!J$352","v":0}]
[null,1111176052,"PR243283","Попона ROY хакі-гірчиця 3XL","Менше 10","Одяг",751.46,1014.47,{"$f":"'Pet Fashion'!I$353","v":0},{"$f":"'Pet Fashion'!J$353","v":0}]
[null,1111176053,"PR243282","Попона ROY хакі-гірчиця 4XL","Менше 10","Одяг",845.53,1141.46,{"$f":"'Pet Fashion'!I$354","v":0},{"$f":"'Pet Fashion'!J$354","v":0}]
[null,1111176054,"PR243281","Попона ROY хакі-гірчиця 5XL","Більше 10","Одяг",885.95,1196.03,{"$f":"'Pet Fashion'!I$355","v":0},{"$f":"'Pet Fashion'!J$355","v":0}]
[null,1111176056,"PR243279","Попона ROY хакі-гірчиця 7 XL","Більше 10","Одяг",1132.8900000000001,1529.4,{"$f":"'Pet Fashion'!I$356","v":0},{"$f":"'Pet Fashion'!J$356","v":0}]
[null,1111176050,"PR243285","Попона ROY хакі-гірчиця XL","Більше 10","Одяг",652.45000000000005,880.81,{"$f":"'Pet Fashion'!I$357","v":0},{"$f":"'Pet Fashion'!J$357","v":0}]
[null,1111176062,"PR243273","Рюкзак-переноска QUADRA","Більше 10","Сумки-переноски, рюкзаки",1077.02,1453.98,{"$f":"'Pet Fashion'!I$358","v":0},{"$f":"'Pet Fashion'!J$358","v":0}]
[null,1111178735,"PR243448","Сарафан Miya S","Більше 10","Одяг",434,586,{"$f":"'Pet Fashion'!I$359","v":0},{"$f":"'Pet Fashion'!J$359","v":0}]
[null,1111178737,"PR243446","Сарафан Miya XS","Більше 10","Одяг",379,512,{"$f":"'Pet Fashion'!I$360","v":0},{"$f":"'Pet Fashion'!J$360","v":0}]
[null,1111178736,"PR243447","Сарафан Miya XS2","Більше 10","Одяг",416,561,{"$f":"'Pet Fashion'!I$361","v":0},{"$f":"'Pet Fashion'!J$361","v":0}]
[null,1111175216,"PR243250*****","Светр  WIKI  L","Менше 10","Одяг",277.57,374.72,{"$f":"'Pet Fashion'!I$362","v":0},{"$f":"'Pet Fashion'!J$362","v":0}]
[null,1111171615,"PR242970*****","Светр CAT персик L","Менше 10","Одяг",341.45,460.96,{"$f":"'Pet Fashion'!I$363","v":0},{"$f":"'Pet Fashion'!J$363","v":0}]
[null,1111159509,"Ститч S*****","Сорочка  Стітч  S","Менше 10","Одяг",208.12,280.95999999999998,{"$f":"'Pet Fashion'!I$364","v":0},{"$f":"'Pet Fashion'!J$364","v":0}]
[null,1111159520,"Ститч XS*****","Сорочка  Стітч  XS","Більше 10","Одяг",178.47,240.93,{"$f":"'Pet Fashion'!I$365","v":0},{"$f":"'Pet Fashion'!J$365","v":0}]
[null,1111159507,"Феникс S*****","Сорочка  Фенікс  S","Менше 10","Одяг",217.43,293.52999999999997,{"$f":"'Pet Fashion'!I$366","v":0},{"$f":"'Pet Fashion'!J$366","v":0}]
[null,1111159519,"Феникс XS*****","Сорочка  Фенікс  XS","Більше 10","Одяг",184.75,249.42,{"$f":"'Pet Fashion'!I$367","v":0},{"$f":"'Pet Fashion'!J$367","v":0}]
[null,1111162540,"PR241973","Сумка-переноска  REMY  (40*28*21)","Менше 10","Сумки-переноски, рюкзаки",1583.17,2137.2800000000002,{"$f":"'Pet Fashion'!I$368","v":0},{"$f":"'Pet Fashion'!J$368","v":0}]
[null,1111162539,"PR241974","Сумка-переноска  VESTA  (38*22*22)","Більше 10","Сумки-переноски, рюкзаки",1125.5999999999999,1519.56,{"$f":"'Pet Fashion'!I$369","v":0},{"$f":"'Pet Fashion'!J$369","v":0}]
[null,1111176063,"PR243272","Сумка-переноска LINEN","Більше 10","Сумки-переноски, рюкзаки",1054.5899999999999,1423.69,{"$f":"'Pet Fashion'!I$370","v":0},{"$f":"'Pet Fashion'!J$370","v":0}]
[null,1111172179,"PR243030*****","Толстовка BIM S","Більше 10","Одяг",409.79,553.21,{"$f":"'Pet Fashion'!I$371","v":0},{"$f":"'Pet Fashion'!J$371","v":0}]
[null,1111171974,"PR243028*****","Толстовка BIM XS","Більше 10","Одяг",374.39,505.42,{"$f":"'Pet Fashion'!I$372","v":0},{"$f":"'Pet Fashion'!J$372","v":0}]
[null,1111172180,"PR243029*****","Толстовка BIM XS-2","Більше 10","Одяг",403.11,544.20000000000005,{"$f":"'Pet Fashion'!I$373","v":0},{"$f":"'Pet Fashion'!J$373","v":0}]
[null,1111172178,"PR243031*****","Толстовка BIM М","Більше 10","Одяг",450.13,607.66999999999996,{"$f":"'Pet Fashion'!I$374","v":0},{"$f":"'Pet Fashion'!J$374","v":0}]
[null,1111174667,"PR242774*****","Толстовка LILAC M","Менше 10","Одяг",545.59,736.55,{"$f":"'Pet Fashion'!I$375","v":0},{"$f":"'Pet Fashion'!J$375","v":0}]
[null,1111174666,"PR242776*****","Толстовка LILAC S","Менше 10","Одяг",466.72,630.07000000000005,{"$f":"'Pet Fashion'!I$376","v":0},{"$f":"'Pet Fashion'!J$376","v":0}]
[null,1111171978,"PR243024*****","Толстовка Megan XS","Менше 10","Одяг",381.48,515,{"$f":"'Pet Fashion'!I$377","v":0},{"$f":"'Pet Fashion'!J$377","v":0}]
[null,1111179001,"PR243473*****","Толстовка Miley M","Більше 10","Одяг",448,605,{"$f":"'Pet Fashion'!I$378","v":0},{"$f":"'Pet Fashion'!J$378","v":0}]
[null,1111179002,"PR243472*****","Толстовка Miley S","Більше 10","Одяг",391,528,{"$f":"'Pet Fashion'!I$379","v":0},{"$f":"'Pet Fashion'!J$379","v":0}]
[null,1111179004,"PR243470*****","Толстовка Miley XS","Більше 10","Одяг",319,430,{"$f":"'Pet Fashion'!I$380","v":0},{"$f":"'Pet Fashion'!J$380","v":0}]
[null,1111179003,"PR243471*****","Толстовка Miley XS2","Більше 10","Одяг",370,499,{"$f":"'Pet Fashion'!I$381","v":0},{"$f":"'Pet Fashion'!J$381","v":0}]
[null,1111178746,"PR243437","Футбока Rose M дівчинка","Немає в наявності","Одяг",307,414,{"$f":"'Pet Fashion'!I$382","v":0},{"$f":"'Pet Fashion'!J$382","v":0}]
[null,1111178747,"PR243436","Футбока Rose S девочка","Більше 10","Одяг",273,369,{"$f":"'Pet Fashion'!I$383","v":0},{"$f":"'Pet Fashion'!J$383","v":0}]
[null,1111178749,"PR243434","Футбока Rose XS дівчинка","Немає в наявності","Одяг",239,323,{"$f":"'Pet Fashion'!I$384","v":0},{"$f":"'Pet Fashion'!J$384","v":0}]
[null,1111178748,"PR243435","Футбока Rose XS2 дівчинка","Більше 10","Одяг",259,350,{"$f":"'Pet Fashion'!I$385","v":0},{"$f":"'Pet Fashion'!J$385","v":0}]
[null,1111163447,"PR242095*****","Футболка  ART , М","Менше 10","Одяг",214,289,{"$f":"'Pet Fashion'!I$386","v":0},{"$f":"'Pet Fashion'!J$386","v":0}]
[null,1111163460,"PR242082*****","Футболка  MOOD , XS-2","Менше 10","Одяг",222,299,{"$f":"'Pet Fashion'!I$387","v":0},{"$f":"'Pet Fashion'!J$387","v":0}]
[null,1111163458,"PR242084*****","Футболка  MOOD , М","Менше 10","Одяг",255,344,{"$f":"'Pet Fashion'!I$388","v":0},{"$f":"'Pet Fashion'!J$388","v":0}]
[null,1111172853,"PR243052*****","Футболка Maria L дівчинка","Більше 10","Одяг",285,383.98,{"$f":"'Pet Fashion'!I$389","v":0},{"$f":"'Pet Fashion'!J$389","v":0}]
[null,1111165357,"PR242340","Худі  SNOODIE  M красная","Менше 10","Одяг",571.74,771.86,{"$f":"'Pet Fashion'!I$390","v":0},{"$f":"'Pet Fashion'!J$390","v":0}]
[null,1111165365,"PR242336","Худі  SNOODIE  M сіра","Більше 10","Одяг",571.74,771.86,{"$f":"'Pet Fashion'!I$391","v":0},{"$f":"'Pet Fashion'!J$391","v":0}]
[null,1111165361,"PR242344","Худі  SNOODIE  M чорна","Більше 10","Одяг",571.74,771.86,{"$f":"'Pet Fashion'!I$392","v":0},{"$f":"'Pet Fashion'!J$392","v":0}]
[null,1111165358,"PR242339","Худі  SNOODIE  M2 красная","Більше 10","Одяг",637.15,860.15,{"$f":"'Pet Fashion'!I$393","v":0},{"$f":"'Pet Fashion'!J$393","v":0}]
[null,1111165366,"PR242335","Худі  SNOODIE  M2 сіра","Більше 10","Одяг",637.15,860.15,{"$f":"'Pet Fashion'!I$394","v":0},{"$f":"'Pet Fashion'!J$394","v":0}]
[null,1111165362,"PR242343","Худі  SNOODIE  M2 чорна","Менше 10","Одяг",637.15,860.15,{"$f":"'Pet Fashion'!I$395","v":0},{"$f":"'Pet Fashion'!J$395","v":0}]
[null,1111165359,"PR242337","Худі  SNOODIE  S красная","Менше 10","Одяг",531.86,718.01,{"$f":"'Pet Fashion'!I$396","v":0},{"$f":"'Pet Fashion'!J$396","v":0}]
[null,1111165367,"PR242333","Худі  SNOODIE  S сіра","Більше 10","Одяг",531.86,718.01,{"$f":"'Pet Fashion'!I$397","v":0},{"$f":"'Pet Fashion'!J$397","v":0}]
[null,1111165363,"PR242341","Худі  SNOODIE  S чорна","Більше 10","Одяг",531.86,718.01,{"$f":"'Pet Fashion'!I$398","v":0},{"$f":"'Pet Fashion'!J$398","v":0}]
[null,1111165360,"PR242338","Худі  SNOODIE  SM красная","Більше 10","Одяг",547.09,738.57,{"$f":"'Pet Fashion'!I$399","v":0},{"$f":"'Pet Fashion'!J$399","v":0}]
[null,1111165368,"PR242334","Худі  SNOODIE  SM сіра","Більше 10","Одяг",547.09,738.57,{"$f":"'Pet Fashion'!I$400","v":0},{"$f":"'Pet Fashion'!J$400","v":0}]
[null,1111165364,"PR242342","Худі  SNOODIE  SM чорна","Менше 10","Одяг",547.09,738.57,{"$f":"'Pet Fashion'!I$401","v":0},{"$f":"'Pet Fashion'!J$401","v":0}]
[null,1111165277,"PR242319*****","Шапка  PARTY  зима S","Більше 10","Одяг",204.37,275.91000000000003,{"$f":"'Pet Fashion'!I$402","v":0},{"$f":"'Pet Fashion'!J$402","v":0}]
[null,1111165278,"PR242318*****","Шапка  PARTY  зима XS","Більше 10","Одяг",200.09,270.12,{"$f":"'Pet Fashion'!I$403","v":0},{"$f":"'Pet Fashion'!J$403","v":0}]
[null,1111170769,"PR242931*****","Шапка BUBO сіра M","Менше 10","Одяг",152.69999999999999,206.15,{"$f":"'Pet Fashion'!I$404","v":0},{"$f":"'Pet Fashion'!J$404","v":0}]
[null,1111175239,"PR243227*****","Шапка BUBO хакі S","Більше 10","Одяг",142.86000000000001,192.86,{"$f":"'Pet Fashion'!I$405","v":0},{"$f":"'Pet Fashion'!J$405","v":0}]
[null,1111175238,"PR243228*****","Шапка BUBO хакі М","Менше 10","Одяг",152.69999999999999,206.15,{"$f":"'Pet Fashion'!I$406","v":0},{"$f":"'Pet Fashion'!J$406","v":0}]
[null,1111175240,"PR243226*****","Шапка BUBO хакі ХS","Менше 10","Одяг",138.16999999999999,186.53,{"$f":"'Pet Fashion'!I$407","v":0},{"$f":"'Pet Fashion'!J$407","v":0}]
[null,1111165971,"PR242357*****","Шарф  HAPPY  M-XL","Менше 10","Одяг",163.91,221.28,{"$f":"'Pet Fashion'!I$408","v":0},{"$f":"'Pet Fashion'!J$408","v":0}]
[null,1111178740,"PR243443","Шлея Nika  XS","Немає в наявності","Одяг",331,447,{"$f":"'Pet Fashion'!I$409","v":0},{"$f":"'Pet Fashion'!J$409","v":0}]
[null,1111178739,"PR243444","Шлея Nika  XS2","Немає в наявності","Одяг",348,470,{"$f":"'Pet Fashion'!I$410","v":0},{"$f":"'Pet Fashion'!J$410","v":0}]
[null,1111178741,"PR243442","Шлея Nika  ХXS","Немає в наявності","Одяг",319,430,{"$f":"'Pet Fashion'!I$411","v":0},{"$f":"'Pet Fashion'!J$411","v":0}]
[null,1111178738,"PR243445","Шлея Nika S","Немає в наявності","Одяг",354,478,{"$f":"'Pet Fashion'!I$412","v":0},{"$f":"'Pet Fashion'!J$412","v":0}]
[null,1111178742,"PR243441","Шлея-костюм Patrik S","Більше 10","Одяг",466,628,{"$f":"'Pet Fashion'!I$413","v":0},{"$f":"'Pet Fashion'!J$413","v":0}]
[null,1111178744,"PR243439","Шлея-костюм Patrik XS","Більше 10","Одяг",419,566,{"$f":"'Pet Fashion'!I$414","v":0},{"$f":"'Pet Fashion'!J$414","v":0}]
[null,1111178743,"PR243440","Шлея-костюм Patrik XS2","Більше 10","Одяг",455,615,{"$f":"'Pet Fashion'!I$415","v":0},{"$f":"'Pet Fashion'!J$415","v":0}]
[null,1111178745,"PR243438","Шлея-костюм Patrik XХS","Більше 10","Одяг",413,558,{"$f":"'Pet Fashion'!I$416","v":0},{"$f":"'Pet Fashion'!J$416","v":0}]
[null,1111153944,"АРНИ XS*****","Штани  Арні  XS","Менше 10","Одяг",232,303,{"$f":"'Pet Fashion'!I$417","v":0},{"$f":"'Pet Fashion'!J$417","v":0}]
[null,1111175203,"PR243160","Вітаміни PROVET PROFILINE для котів АКТИВ КОМПЛЕКС 180 таб.","Більше 10","Вітаміни та мінерали",195,283,{"$f":"PROFILINE!I$8","v":0},{"$f":"PROFILINE!J$8","v":0}]
[null,1111175202,"PR243161","Вітаміни PROVET PROFILINE для котів БІОТИН КОМПЛЕКС 180 таб.","Більше 10","Вітаміни та мінерали",153,222,{"$f":"PROFILINE!I$9","v":0},{"$f":"PROFILINE!J$9","v":0}]
[null,1111175204,"PR243159","Вітаміни PROVET PROFILINE для котів ГАГ КОМПЛЕКС 180 таб.","Більше 10","Вітаміни та мінерали",203,294,{"$f":"PROFILINE!I$10","v":0},{"$f":"PROFILINE!J$10","v":0}]
[null,1111175193,"PR243170","Вітаміни PROVET PROFILINE для котів ТАУРИН КОМПЛЕКС 180 таб.","Більше 10","Вітаміни та мінерали",146,211,{"$f":"PROFILINE!I$11","v":0},{"$f":"PROFILINE!J$11","v":0}]
[null,1111175196,"PR243167","Вітаміни PROVET PROFILINE для котів УРІНАРІ КОМПЛЕКС 180 таб.","Менше 10","Вітаміни та мінерали",189,274,{"$f":"PROFILINE!I$12","v":0},{"$f":"PROFILINE!J$12","v":0}]
[null,1111175201,"PR243162","Вітаміни PROVET PROFILINE для собак БІОТИН КОМПЛЕКС 100 таб.","Більше 10","Вітаміни та мінерали",163,236,{"$f":"PROFILINE!I$13","v":0},{"$f":"PROFILINE!J$13","v":0}]
[null,1111175197,"PR243166","Вітаміни PROVET PROFILINE для собак ВІТАЛІТІ КОМПЛЕКС 100 таб.","Більше 10","Вітаміни та мінерали",174,252,{"$f":"PROFILINE!I$14","v":0},{"$f":"PROFILINE!J$14","v":0}]
[null,1111175198,"PR243165","Вітаміни PROVET PROFILINE для собак ГАГ КОМПЛЕКС 100 таб.","Більше 10","Вітаміни та мінерали",210,305,{"$f":"PROFILINE!I$15","v":0},{"$f":"PROFILINE!J$15","v":0}]
[null,1111175199,"PR243164","Вітаміни PROVET PROFILINE для собак КАЛЬЦІЙ КОМПЛЕКС 100 таб.","Більше 10","Вітаміни та мінерали",159,231,{"$f":"PROFILINE!I$16","v":0},{"$f":"PROFILINE!J$16","v":0}]
[null,1111175194,"PR243169","Вітаміни PROVET PROFILINE для собак МАКСІ КОМПЛЕКС 100 таб.","Менше 10","Вітаміни та мінерали",193,280,{"$f":"PROFILINE!I$17","v":0},{"$f":"PROFILINE!J$17","v":0}]
[null,1111175195,"PR243168","Вітаміни PROVET PROFILINE для собак МІНІ КОМПЛЕКС 100 таб.","Більше 10","Вітаміни та мінерали",191,277,{"$f":"PROFILINE!I$18","v":0},{"$f":"PROFILINE!J$18","v":0}]
[null,1111175200,"PR243163","Вітаміни PROVET PROFILINE КОМПЛЕКС для кошенят та лакт. кішок 180 таб.","Більше 10","Вітаміни та мінерали",146,211,{"$f":"PROFILINE!I$19","v":0},{"$f":"PROFILINE!J$19","v":0}]
[null,1111175179,"PR243112","Краплі PROVET PROFILINE для котів 4-8 кг, 1п.х 1,0 мл","Більше 10","Протипаразитні препарати: антигельмінтні, інсектицидні, інсектоакарицидні, репелентні",59,86,{"$f":"PROFILINE!I$20","v":0},{"$f":"PROFILINE!J$20","v":0}]
[null,1111175174,"PR243110","Краплі PROVET PROFILINE для котів 4-8 кг, 4п.х 1,0 мл","Більше 100","Протипаразитні препарати: антигельмінтні, інсектицидні, інсектоакарицидні, репелентні",185,269,{"$f":"PROFILINE!I$21","v":0},{"$f":"PROFILINE!J$21","v":0}]
[null,1111175180,"PR243113","Краплі PROVET PROFILINE для котів до 4 кг, 1п.х 0,5 мл","Більше 100","Протипаразитні препарати: антигельмінтні, інсектицидні, інсектоакарицидні, репелентні",50,73,{"$f":"PROFILINE!I$22","v":0},{"$f":"PROFILINE!J$22","v":0}]
[null,1111175173,"PR243111","Краплі PROVET PROFILINE для котів до 4 кг, 4п.х 0,5 мл","Більше 100","Протипаразитні препарати: антигельмінтні, інсектицидні, інсектоакарицидні, репелентні",169,245,{"$f":"PROFILINE!I$23","v":0},{"$f":"PROFILINE!J$23","v":0}]
[null,1111175182,"PR243107","Краплі PROVET PROFILINE для собак 10-20 кг, 1п.х 2,0 мл","Більше 10","Протипаразитні препарати: антигельмінтні, інсектицидні, інсектоакарицидні, репелентні",81,118,{"$f":"PROFILINE!I$24","v":0},{"$f":"PROFILINE!J$24","v":0}]
[null,1111175177,"PR243103","Краплі PROVET PROFILINE для собак 10-20 кг, 4п.х 2,0 мл","Більше 10","Протипаразитні препарати: антигельмінтні, інсектицидні, інсектоакарицидні, репелентні",240,348,{"$f":"PROFILINE!I$25","v":0},{"$f":"PROFILINE!J$25","v":0}]
[null,1111175183,"PR243106","Краплі PROVET PROFILINE для собак 20-40 кг, 1п.х 3,0 мл","Більше 10","Протипаразитні препарати: антигельмінтні, інсектицидні, інсектоакарицидні, репелентні",103,149,{"$f":"PROFILINE!I$26","v":0},{"$f":"PROFILINE!J$26","v":0}]
[null,1111175178,"PR243102","Краплі PROVET PROFILINE для собак 20-40 кг, 4п.х 3,0 мл","Більше 100","Протипаразитні препарати: антигельмінтні, інсектицидні, інсектоакарицидні, репелентні",295,427,{"$f":"PROFILINE!I$27","v":0},{"$f":"PROFILINE!J$27","v":0}]
[null,1111175184,"PR243108","Краплі PROVET PROFILINE для собак 4-10 кг, 1п.х 1,0 мл","Більше 10","Протипаразитні препарати: антигельмінтні, інсектицидні, інсектоакарицидні, репелентні",59,86,{"$f":"PROFILINE!I$28","v":0},{"$f":"PROFILINE!J$28","v":0}]
[null,1111175176,"PR243104","Краплі PROVET PROFILINE для собак 4-10 кг, 4п.х 1,0 мл","Більше 100","Протипаразитні препарати: антигельмінтні, інсектицидні, інсектоакарицидні, репелентні",191,278,{"$f":"PROFILINE!I$29","v":0},{"$f":"PROFILINE!J$29","v":0}]
[null,1111175181,"PR243109","Краплі PROVET PROFILINE для собак до 4 кг, 1п.х 0,5 мл","Більше 10","Протипаразитні препарати: антигельмінтні, інсектицидні, інсектоакарицидні, репелентні",52,75,{"$f":"PROFILINE!I$30","v":0},{"$f":"PROFILINE!J$30","v":0}]
[null,1111175175,"PR243105","Краплі PROVET PROFILINE для собак до 4 кг, 4п.х 0,5 мл","Більше 10","Протипаразитні препарати: антигельмінтні, інсектицидні, інсектоакарицидні, репелентні",171,248,{"$f":"PROFILINE!I$31","v":0},{"$f":"PROFILINE!J$31","v":0}]
[null,1111175189,"PR243101","Нашийник PROVET PROFILINE для великих порід собак 70 см, зелений","Більше 10","Протипаразитні препарати: антигельмінтні, інсектицидні, інсектоакарицидні, репелентні",121,175,{"$f":"PROFILINE!I$32","v":0},{"$f":"PROFILINE!J$32","v":0}]
[null,1111175190,"PR243100","Нашийник PROVET PROFILINE для великих порід собак 70 см, кораловий","Більше 10","Протипаразитні препарати: антигельмінтні, інсектицидні, інсектоакарицидні, репелентні",121,175,{"$f":"PROFILINE!I$33","v":0},{"$f":"PROFILINE!J$33","v":0}]
[null,1111175192,"PR243098","Нашийник PROVET PROFILINE для великих порід собак 70 см, фіолетовий","Більше 10","Протипаразитні препарати: антигельмінтні, інсектицидні, інсектоакарицидні, репелентні",121,175,{"$f":"PROFILINE!I$34","v":0},{"$f":"PROFILINE!J$34","v":0}]
[null,1111175185,"PR243097","Нашийник PROVET PROFILINE для котів та собак 35 см, зелений","Більше 100","Протипаразитні препарати: антигельмінтні, інсектицидні, інсектоакарицидні, репелентні",93,135,{"$f":"PROFILINE!I$35","v":0},{"$f":"PROFILINE!J$35","v":0}]
[null,1111175186,"PR243096","Нашийник PROVET PROFILINE для котів та собак 35 см, кораловий","Більше 10","Протипаразитні препарати: антигельмінтні, інсектицидні, інсектоакарицидні, репелентні",93,135,{"$f":"PROFILINE!I$36","v":0},{"$f":"PROFILINE!J$36","v":0}]
[null,1111175188,"PR243094","Нашийник PROVET PROFILINE для котів та собак 35 см, фіолетовий","Більше 10","Протипаразитні препарати: антигельмінтні, інсектицидні, інсектоакарицидні, репелентні",93,135,{"$f":"PROFILINE!I$37","v":0},{"$f":"PROFILINE!J$37","v":0}]
[null,1111175187,"PR243095","Нашийник PROVET PROFILINE для котів та собак 35 см, фуксія","Більше 100","Протипаразитні препарати: антигельмінтні, інсектицидні, інсектоакарицидні, репелентні",93,135,{"$f":"PROFILINE!I$38","v":0},{"$f":"PROFILINE!J$38","v":0}]
[null,1111175206,"PR243086","Спрей PROVET PROFILINE для котів та собак 30 мл","Більше 10","Протипаразитні препарати: антигельмінтні, інсектицидні, інсектоакарицидні, репелентні",76.55,111,{"$f":"PROFILINE!I$39","v":0},{"$f":"PROFILINE!J$39","v":0}]
[null,1111175205,"PR243087","Суспензія PROVET PROFILINE КОКЦИД для котів та собак 5.0 мл","Більше 10","Протипаразитні препарати: антигельмінтні, інсектицидні, інсектоакарицидні, репелентні",80.12,116,{"$f":"PROFILINE!I$40","v":0},{"$f":"PROFILINE!J$40","v":0}]
[null,1111145684,"170539/7435","Profine Adult Chicken з куркою та картоплею для дорослих собак, 15 кг","Більше 10","Корм сухий для собак",1761,2292,{"$f":"Profine!I$8","v":0},{"$f":"Profine!J$8","v":0}]
[null,1111145685,"170540/7442","Profine Adult Chicken з куркою та картоплею для дорослих собак, 3 кг","Менше 10","Корм сухий для собак",467.89,609,{"$f":"Profine!I$9","v":0},{"$f":"Profine!J$9","v":0}]
[null,1111145686,"170549/7534","Profine Adult Lamb з ягням і картоплею для дорослих собак, 15 кг","Більше 10","Корм сухий для собак",2912.37,3677,{"$f":"Profine!I$10","v":0},{"$f":"Profine!J$10","v":0}]
[null,1111145687,"170550/7541","Profine Adult Lamb з ягням і картоплею для дорослих собак, 3 кг","Менше 10","Корм сухий для собак",796.64,1007,{"$f":"Profine!I$11","v":0},{"$f":"Profine!J$11","v":0}]
[null,1111145688,"170541/7459","Profine Adult Large Breed Chicken з куркою д/собак велик. порід, 15 кг","Більше 10","Корм сухий для собак",1882.63,2377,{"$f":"Profine!I$12","v":0},{"$f":"Profine!J$12","v":0}]
[null,1111145689,"170542/7466","Profine Adult Large Breed Chicken з куркою д/собак велик. порід, 3 кг","Більше 10","Корм сухий для собак",472.94,598,{"$f":"Profine!I$13","v":0},{"$f":"Profine!J$13","v":0}]
[null,1111145690,"170557/7619","Profine Adult Large Breed Salmon з лососем д/собак велик. порід, 15 кг","Менше 10","Корм сухий для собак",2841.51,3696,{"$f":"Profine!I$14","v":0},{"$f":"Profine!J$14","v":0}]
[null,1111145693,"170553/7572","Profine Adult Salmon з лососем для дорослих собак, 15 кг","Менше 10","Корм сухий для собак",2693.9,3402,{"$f":"Profine!I$15","v":0},{"$f":"Profine!J$15","v":0}]
[null,1111145694,"170554/7589","Profine Adult Salmon з лососем для дорослих собак, 3 кг","Більше 10","Корм сухий для собак",619.74,783,{"$f":"Profine!I$16","v":0},{"$f":"Profine!J$16","v":0}]
[null,1111145695,"170536/7404","Profine Adult Small з куркою для собак малих порід, 10 кг","Менше 10","Корм сухий для собак",1610.6,2095,{"$f":"Profine!I$17","v":0},{"$f":"Profine!J$17","v":0}]
[null,1111145696,"170537/7411","Profine Adult Small з куркою для собак малих порід, 2 кг","Більше 10","Корм сухий для собак",410,534,{"$f":"Profine!I$18","v":0},{"$f":"Profine!J$18","v":0}]
[null,1111145713,"170572/7763","Profine Cat Derma лосось для довгошерстих котів, 2 кг","Більше 10","Корм сухий для котів",463.3,603,{"$f":"Profine!I$19","v":0},{"$f":"Profine!J$19","v":0}]
[null,1111145717,"170569/7732","Profine Cat Indoor ягня для виведення шерсті зі шлунку котів, 2 кг","Менше 10","Корм сухий для котів",505.58,659,{"$f":"Profine!I$20","v":0},{"$f":"Profine!J$20","v":0}]
[null,1111145720,"170560/7640","Profine Cat Kitten курка для кошенят 1-12 міс, 2 кг","Немає в наявності","Корм сухий для котів",450.05,586,{"$f":"Profine!I$21","v":0},{"$f":"Profine!J$21","v":0}]
[null,1111145718,"170559/7633","Profine Cat Kitten курка для кошенят 1-12 міс, 300 г","Більше 10","Корм сухий для котів",115.46,151,{"$f":"Profine!I$22","v":0},{"$f":"Profine!J$22","v":0}]
[null,1111145721,"170575/7794","Profine Cat Light індичка для оптимізації ваги у котів, 2 кг","Менше 10","Корм сухий для котів",449.21,586,{"$f":"Profine!I$23","v":0},{"$f":"Profine!J$23","v":0}]
[null,1111145726,"170566/7701","Profine Cat Original Adult курка для котів усіх порід, 2 кг","Менше 10","Корм сухий для котів",449.21,586,{"$f":"Profine!I$24","v":0},{"$f":"Profine!J$24","v":0}]
[null,1111145724,"170565/7695","Profine Cat Original Adult курка для котів усіх порід, 300 г","Менше 10","Корм сухий для котів",104.86,138,{"$f":"Profine!I$25","v":0},{"$f":"Profine!J$25","v":0}]
[null,1111145728,"170564/7688","Profine Cat Sterilised курка з рисом для кастрованих котів, 10 кг","Менше 10","Корм сухий для котів",1807.04,2350,{"$f":"Profine!I$26","v":0},{"$f":"Profine!J$26","v":0}]
[null,1111145729,"170563/7671","Profine Cat Sterilised курка з рисом для кастрованих котів, 2 кг","Більше 10","Корм сухий для котів",463.3,603,{"$f":"Profine!I$27","v":0},{"$f":"Profine!J$27","v":0}]
[null,1111145727,"170562/7664","Profine Cat Sterilised курка з рисом для кастрованих котів, 300 г","Більше 10","Корм сухий для котів",110.95,145,{"$f":"Profine!I$28","v":0},{"$f":"Profine!J$28","v":0}]
[null,1111166055,171762,"Profine Dog Adult Small Lamb and Potatoes д/собак малих порід, 2 кг","Менше 10","Корм сухий для собак",487.36,634,{"$f":"Profine!I$29","v":0},{"$f":"Profine!J$29","v":0}]
[null,1111167046,171761,"Profine Dog Adult Small Lamb and Potatoes ягня д/соб. мал. порід 8 кг","Менше 10","Корм сухий для собак",1642.16,2134,{"$f":"Profine!I$30","v":0},{"$f":"Profine!J$30","v":0}]
[null,1111150394,"100813/100010/4051","Profine Dog консерви з курятиною і курячою печінкою для собак, 400 г","Більше 10","Корм вологий для собак",121.51,159,{"$f":"Profine!I$31","v":0},{"$f":"Profine!J$31","v":0}]
[null,1111150396,"100815/100014/4099","Profine Dog консерви з лососем і куркою для собак, 400 г","Більше 10","Корм вологий для собак",121.51,159,{"$f":"Profine!I$32","v":0},{"$f":"Profine!J$32","v":0}]
[null,1111150397,"100816/100016/4112","Profine Dog консерви з олениною і куркою для собак, 400 г","Менше 10","Корм вологий для собак",121.51,159,{"$f":"Profine!I$33","v":0},{"$f":"Profine!J$33","v":0}]
[null,1111150395,"100814/100012/4075","Profine Dog консерви з ягнятиною для собак, 400 г","Немає в наявності","Корм вологий для собак",121.51,159,{"$f":"Profine!I$34","v":0},{"$f":"Profine!J$34","v":0}]
[null,1111150393,"100812/100008/4037","Profine Dog консерви з яловичиною та печінкою для собак, 400 г","Більше 10","Корм вологий для собак",121.51,159,{"$f":"Profine!I$35","v":0},{"$f":"Profine!J$35","v":0}]
[null,1111145701,"170535/7398","Profine Junior Large Breed з куркою для цуценят великих порід, 3 кг","Менше 10","Корм сухий для собак",473.67,618,{"$f":"Profine!I$36","v":0},{"$f":"Profine!J$36","v":0}]
[null,1111145702,"170555/7596","Profine Junior Large Breed з лососем для цуценят великих порід, 15 кг","Менше 10","Корм сухий для собак",2811.21,3657,{"$f":"Profine!I$37","v":0},{"$f":"Profine!J$37","v":0}]
[null,1111139063,"170534/7381","Profine Junior Large Breed курка д/молод. соб великих порід, 15 кг","Менше 10","Корм сухий для собак",1955.22,2544,{"$f":"Profine!I$38","v":0},{"$f":"Profine!J$38","v":0}]
[null,1111145704,"170551/7558","Profine Light Lamb ягня д/дорослих собак з надмірною вагою, 15 кг","Менше 10","Корм сухий для собак",2463.7800000000002,3113,{"$f":"Profine!I$39","v":0},{"$f":"Profine!J$39","v":0}]
[null,1111145705,"170552/7565","Profine Light Lamb ягня д/дорослих собак з надмірною вагою, 3 кг","Менше 10","Корм сухий для собак",583.58000000000004,738,{"$f":"Profine!I$40","v":0},{"$f":"Profine!J$40","v":0}]
[null,1111145706,"170532/7367","Profine Puppy Chicken курка для цуценят усіх порід, 15 кг","Менше 10","Корм сухий для собак",1797.77,2427,{"$f":"Profine!I$41","v":0},{"$f":"Profine!J$41","v":0}]
[null,1111145707,"170533/7374","Profine Puppy Chicken курка для цуценят усіх порід, 3 кг","Менше 10","Корм сухий для собак",444.8,602,{"$f":"Profine!I$42","v":0},{"$f":"Profine!J$42","v":0}]
[null,1111145708,"170547/7510","Profine Puppy Lamb ягня для цуценят усіх порід, 15 кг","Менше 10","Корм сухий для собак",2867.82,3872,{"$f":"Profine!I$43","v":0},{"$f":"Profine!J$43","v":0}]
[null,1111145710,"170545/7497","Profine Senior Turkey індичка для старіючих собак, 15 кг","Менше 10","Корм сухий для собак",2087.69,2636,{"$f":"Profine!I$44","v":0},{"$f":"Profine!J$44","v":0}]
[null,1111145711,"170546/7503","Profine Senior Turkey індичка для старіючих собак, 3 кг","Менше 10","Корм сухий для собак",503.59,637,{"$f":"Profine!I$45","v":0},{"$f":"Profine!J$45","v":0}]
[null,11070,"PR740574","Акваріум кутовий 57х57х45 см 85 л","Менше 10","Акваріуми, акваріумні набори, комплектуючі",2754.65,3581,{"$f":"'ProVET аква'!I$8","v":0},{"$f":"'ProVET аква'!J$8","v":0}]
[null,9356,"PR740575","Акваріум кутовий 70х70х50 см 142 л","Менше 10","Акваріуми, акваріумні набори, комплектуючі",4964.58,6454,{"$f":"'ProVET аква'!I$9","v":0},{"$f":"'ProVET аква'!J$9","v":0}]
[null,11025,"PR740556 (506401)","Акваріум овальний 100х40х50 см 190 л","Менше 10","Акваріуми, акваріумні набори, комплектуючі",5097.84,6627,{"$f":"'ProVET аква'!I$10","v":0},{"$f":"'ProVET аква'!J$10","v":0}]
[null,10400,"PR740557","Акваріум овальний 120х40х50 см 220 л","Менше 10","Акваріуми, акваріумні набори, комплектуючі",5877.33,7641,{"$f":"'ProVET аква'!I$11","v":0},{"$f":"'ProVET аква'!J$11","v":0}]
[null,8523,"PR740558","Акваріум овальний 150х50х60 см 400 л","Менше 10","Акваріуми, акваріумні набори, комплектуючі",13286.19,17272,{"$f":"'ProVET аква'!I$12","v":0},{"$f":"'ProVET аква'!J$12","v":0}]
[null,1111112596,"PR740546","Акваріум овальний 40х25х25 см 24 л","Більше 10","Акваріуми, акваріумні набори, комплектуючі",900,1170,{"$f":"'ProVET аква'!I$13","v":0},{"$f":"'ProVET аква'!J$13","v":0}]
[null,1111113082,"PR740547","Акваріум овальний 40х25х34 см 32 л","Менше 10","Акваріуми, акваріумні набори, комплектуючі",952.32,1237,{"$f":"'ProVET аква'!I$14","v":0},{"$f":"'ProVET аква'!J$14","v":0}]
[null,5884,"PR740549","Акваріум овальний 50х30х30 см 40 л","Менше 10","Акваріуми, акваріумні набори, комплектуючі",1095.82,1424,{"$f":"'ProVET аква'!I$15","v":0},{"$f":"'ProVET аква'!J$15","v":0}]
[null,10974,"PR740550","Акваріум овальний 50х30х40 см 52 л","Менше 10","Акваріуми, акваріумні набори, комплектуючі",1358.29,1766,{"$f":"'ProVET аква'!I$16","v":0},{"$f":"'ProVET аква'!J$16","v":0}]
[null,5885,"PR740551","Акваріум овальний 60х30х30 см 54 л","Менше 10","Акваріуми, акваріумні набори, комплектуючі",1315.85,1710,{"$f":"'ProVET аква'!I$17","v":0},{"$f":"'ProVET аква'!J$17","v":0}]
[null,10975,"PR740552","Акваріум овальний 60х30х40 см 62 л","Менше 10","Акваріуми, акваріумні набори, комплектуючі",1554.27,2020,{"$f":"'ProVET аква'!I$18","v":0},{"$f":"'ProVET аква'!J$18","v":0}]
[null,5886,"PR740554","Акваріум овальний 80х35х40 см 100 л","Менше 10","Акваріуми, акваріумні набори, комплектуючі",2614.4499999999998,3398,{"$f":"'ProVET аква'!I$19","v":0},{"$f":"'ProVET аква'!J$19","v":0}]
[null,10976,"PR740555","Акваріум овальний 80х35х45 см 110 л","Менше 10","Акваріуми, акваріумні набори, комплектуючі",2869.2,3730,{"$f":"'ProVET аква'!I$20","v":0},{"$f":"'ProVET аква'!J$20","v":0}]
[null,6970,"PR740570","Акваріум прямий 100х40х50 см 200 л","Менше 10","Акваріуми, акваріумні набори, комплектуючі",5049.4399999999996,6565,{"$f":"'ProVET аква'!I$21","v":0},{"$f":"'ProVET аква'!J$21","v":0}]
[null,1111133642,"PR740571","Акваріум прямий 100х40х60 см 235 л H=60 см","Менше 10","Акваріуми, акваріумні набори, комплектуючі",6225.84,8094,{"$f":"'ProVET аква'!I$22","v":0},{"$f":"'ProVET аква'!J$22","v":0}]
[null,6969,"PR740572","Акваріум прямий 120х40х50 см 240 л","Менше 10","Акваріуми, акваріумні набори, комплектуючі",5843.44,7596,{"$f":"'ProVET аква'!I$23","v":0},{"$f":"'ProVET аква'!J$23","v":0}]
[null,7257,"PR740573","Акваріум прямий 150х50х60 см 450 л","Менше 10","Акваріуми, акваріумні набори, комплектуючі",11466.64,14907,{"$f":"'ProVET аква'!I$24","v":0},{"$f":"'ProVET аква'!J$24","v":0}]
[null,4666,"PR740559","Акваріум прямий 36х23х27 см 22 л","Менше 10","Акваріуми, акваріумні набори, комплектуючі",635.65,826,{"$f":"'ProVET аква'!I$25","v":0},{"$f":"'ProVET аква'!J$25","v":0}]
[null,7859,"PR740560","Акваріум прямий 40х25х34 см 34 л","Менше 10","Акваріуми, акваріумні набори, комплектуючі",856.01,1113,{"$f":"'ProVET аква'!I$26","v":0},{"$f":"'ProVET аква'!J$26","v":0}]
[null,4649,"PR740562","Акваріум прямий 50х30х36 см 54 л","Менше 10","Акваріуми, акваріумні набори, комплектуючі",1048.79,1363,{"$f":"'ProVET аква'!I$27","v":0},{"$f":"'ProVET аква'!J$27","v":0}]
[null,6728,"PR740563","Акваріум прямий 50х30х40 см 60 л","Менше 10","Акваріуми, акваріумні набори, комплектуючі",1221.27,1588,{"$f":"'ProVET аква'!I$28","v":0},{"$f":"'ProVET аква'!J$28","v":0}]
[null,5560,"PR740564","Акваріум прямий 60х30х36 см 65 л","Менше 10","Акваріуми, акваріумні набори, комплектуючі",1398.48,1818,{"$f":"'ProVET аква'!I$29","v":0},{"$f":"'ProVET аква'!J$29","v":0}]
[null,6727,"PR740565","Акваріум прямий 60х30х42 см 72 л","Менше 10","Акваріуми, акваріумні набори, комплектуючі",1642.75,2136,{"$f":"'ProVET аква'!I$30","v":0},{"$f":"'ProVET аква'!J$30","v":0}]
[null,4807,"PR740567","Акваріум прямий 80х35х42 см 112 л","Менше 10","Акваріуми, акваріумні набори, комплектуючі",2376.81,3089,{"$f":"'ProVET аква'!I$31","v":0},{"$f":"'ProVET аква'!J$31","v":0}]
[null,5206,"PR740568","Акваріум прямий 80х35х50 см 140 л","Менше 10","Акваріуми, акваріумні набори, комплектуючі",2844.25,3698,{"$f":"'ProVET аква'!I$32","v":0},{"$f":"'ProVET аква'!J$32","v":0}]
[null,1111133643,"PR740569","Акваріум прямий 80х35х60 см 170 л H=60 см","Менше 10","Акваріуми, акваріумні набори, комплектуючі",4344.82,5648,{"$f":"'ProVET аква'!I$33","v":0},{"$f":"'ProVET аква'!J$33","v":0}]
[null,1111160197,"PR241673","Комплект «Міні-куб» 9,5 л","Менше 10","Акваріуми, акваріумні набори, комплектуючі",1800,2340,{"$f":"'ProVET аква'!I$34","v":0},{"$f":"'ProVET аква'!J$34","v":0}]
[null,1111160537,"PR241735","Комплект НЕОН LED 32л Овальний","Менше 10","Акваріуми, акваріумні набори, комплектуючі",2008.76,2611,{"$f":"'ProVET аква'!I$35","v":0},{"$f":"'ProVET аква'!J$35","v":0}]
[null,1111160538,"PR241734","Комплект НЕОН LED 34л Прямий","Менше 10","Акваріуми, акваріумні набори, комплектуючі",1887.11,2453,{"$f":"'ProVET аква'!I$36","v":0},{"$f":"'ProVET аква'!J$36","v":0}]
[null,1111160539,"PR241733","Комплект НЕОН LED 52л Овальний","Менше 10","Акваріуми, акваріумні набори, комплектуючі",2591.4299999999998,3370,{"$f":"'ProVET аква'!I$37","v":0},{"$f":"'ProVET аква'!J$37","v":0}]
[null,1111160540,"PR241732","Комплект НЕОН LED 54л Прямий","Менше 10","Акваріуми, акваріумні набори, комплектуючі",2290.8200000000002,2978,{"$f":"'ProVET аква'!I$38","v":0},{"$f":"'ProVET аква'!J$38","v":0}]
[null,1111160541,"PR241731","Комплект НЕОН LED 62л Овальний","Менше 10","Акваріуми, акваріумні набори, комплектуючі",2674.16,3477,{"$f":"'ProVET аква'!I$39","v":0},{"$f":"'ProVET аква'!J$39","v":0}]
[null,1111160542,"PR241730","Комплект НЕОН LED 72л Прямий","Менше 10","Акваріуми, акваріумні набори, комплектуючі",2869.34,3730,{"$f":"'ProVET аква'!I$40","v":0},{"$f":"'ProVET аква'!J$40","v":0}]
[null,1111160543,"PR241729","Комплект СКАЛЯРІЯ LED 32л Овальний","Менше 10","Акваріуми, акваріумні набори, комплектуючі",2403.7600000000002,3125,{"$f":"'ProVET аква'!I$41","v":0},{"$f":"'ProVET аква'!J$41","v":0}]
[null,1111160544,"PR241728","Комплект СКАЛЯРІЯ LED 34л Прямий","Менше 10","Акваріуми, акваріумні набори, комплектуючі",2194.89,2853,{"$f":"'ProVET аква'!I$42","v":0},{"$f":"'ProVET аква'!J$42","v":0}]
[null,1111160545,"PR241727","Комплект СКАЛЯРІЯ LED 52л Овальний","Менше 10","Акваріуми, акваріумні набори, комплектуючі",2968.45,3859,{"$f":"'ProVET аква'!I$43","v":0},{"$f":"'ProVET аква'!J$43","v":0}]
[null,1111160546,"PR241726","Комплект СКАЛЯРІЯ LED 54л Прямий","Менше 10","Акваріуми, акваріумні набори, комплектуючі",2540.7199999999998,3303,{"$f":"'ProVET аква'!I$44","v":0},{"$f":"'ProVET аква'!J$44","v":0}]
[null,1111160547,"PR241725","Комплект СКАЛЯРІЯ LED 62л Овальний","Менше 10","Акваріуми, акваріумні набори, комплектуючі",3085.49,4012,{"$f":"'ProVET аква'!I$45","v":0},{"$f":"'ProVET аква'!J$45","v":0}]
[null,1111163638,"PR241937","Кришка «LED LIGHT» 50х30 ОВ НОВА","Менше 10","Обладнання для акваріума, комплектуючі",1005,1307,{"$f":"'ProVET аква'!I$46","v":0},{"$f":"'ProVET аква'!J$46","v":0}]
[null,1111163637,"PR241938","Кришка «LED LIGHT» 50х30 ПР НОВА","Менше 10","Обладнання для акваріума, комплектуючі",1005,1307,{"$f":"'ProVET аква'!I$47","v":0},{"$f":"'ProVET аква'!J$47","v":0}]
[null,1111113166,"PR740677","Кришка 40х25 см овальна (міньон)","Менше 10","Обладнання для акваріума, комплектуючі",472.74,615,{"$f":"'ProVET аква'!I$48","v":0},{"$f":"'ProVET аква'!J$48","v":0}]
[null,1111111519,"PR740681","Кришка 40х25 см пряма (міньон)","Менше 10","Обладнання для акваріума, комплектуючі",472.74,615,{"$f":"'ProVET аква'!I$49","v":0},{"$f":"'ProVET аква'!J$49","v":0}]
[null,1111135983,"PR740685","Кришка 60х30 см овальна (міньон)","Менше 10","Обладнання для акваріума, комплектуючі",743.8,967,{"$f":"'ProVET аква'!I$50","v":0},{"$f":"'ProVET аква'!J$50","v":0}]
[null,1111136683,"PR740686","Кришка 60х30 см пряма (міньон)","Менше 10","Обладнання для акваріума, комплектуючі",743.8,967,{"$f":"'ProVET аква'!I$51","v":0},{"$f":"'ProVET аква'!J$51","v":0}]
[null,1111113909,"PR740687","Кришка кругла d21,5","Менше 10","Обладнання для акваріума, комплектуючі",424.99,552,{"$f":"'ProVET аква'!I$52","v":0},{"$f":"'ProVET аква'!J$52","v":0}]
[null,1111159078,"PR241460","Кришка-світильник Природа LED LIGHT для акваріума 100х40 ОВ","Менше 10","Обладнання для акваріума, комплектуючі",2494.41,3243,{"$f":"'ProVET аква'!I$53","v":0},{"$f":"'ProVET аква'!J$53","v":0}]
[null,1111159080,"PR241458","Кришка-світильник Природа LED LIGHT для акваріума 120х40 ОВ","Менше 10","Обладнання для акваріума, комплектуючі",2584.86,3360,{"$f":"'ProVET аква'!I$54","v":0},{"$f":"'ProVET аква'!J$54","v":0}]
[null,1111159079,"PR241459","Кришка-світильник Природа LED LIGHT для акваріума 120х40 ПР","Менше 10","Обладнання для акваріума, комплектуючі",2585,3361,{"$f":"'ProVET аква'!I$55","v":0},{"$f":"'ProVET аква'!J$55","v":0}]
[null,1111159081,"PR241457","Кришка-світильник Природа LED LIGHT для акваріума 150х50 ПР","Менше 10","Обладнання для акваріума, комплектуючі",3352.5,4358,{"$f":"'ProVET аква'!I$56","v":0},{"$f":"'ProVET аква'!J$56","v":0}]
[null,1111162200,"PR241939","Кришка-світильник Природа LED LIGHT для акваріума 40х25 ОВ НОВА","Менше 10","Обладнання для акваріума, комплектуючі",810,1055,{"$f":"'ProVET аква'!I$57","v":0},{"$f":"'ProVET аква'!J$57","v":0}]
[null,1111162199,"PR241940","Кришка-світильник Природа LED LIGHT для акваріума 40х25 ПР НОВА","Менше 10","Обладнання для акваріума, комплектуючі",810,1054,{"$f":"'ProVET аква'!I$58","v":0},{"$f":"'ProVET аква'!J$58","v":0}]
[null,1111162260,"PR241955","Кришка-світильник Природа LED LIGHT для акваріума 57*57 углова","Менше 10","Обладнання для акваріума, комплектуючі",1620,2106,{"$f":"'ProVET аква'!I$59","v":0},{"$f":"'ProVET аква'!J$59","v":0}]
[null,1111162475,"PR241958","Кришка-світильник Природа LED LIGHT для акваріума 70*70 кут","Менше 10","Обладнання для акваріума, комплектуючі",1618,2103.4,{"$f":"'ProVET аква'!I$60","v":0},{"$f":"'ProVET аква'!J$60","v":0}]
[null,1111164462,"PR241933","Кришка-світильник Природа LED LIGHT для акваріума 80х35ОВ арт.PR241933","Менше 10","Обладнання для акваріума, комплектуючі",1749.6,2274,{"$f":"'ProVET аква'!I$61","v":0},{"$f":"'ProVET аква'!J$61","v":0}]
[null,1111164461,"PR241934","Кришка-світильник Природа LED LIGHT для акваріума 80х35ПР арт.PR241934","Менше 10","Обладнання для акваріума, комплектуючі",1749.6,2274,{"$f":"'ProVET аква'!I$62","v":0},{"$f":"'ProVET аква'!J$62","v":0}]
[null,1111162963,"PR242007","Кришка-світильник Природа LED LIGHT для акваріума 89х89 кут","Менше 10","Обладнання для акваріума, комплектуючі",2175,2827.5,{"$f":"'ProVET аква'!I$63","v":0},{"$f":"'ProVET аква'!J$63","v":0}]
[null,1111113628,"PR740609","Піддон під акваріум 100х40 см овальний","Менше 10","Акваріуми, акваріумні набори, комплектуючі",737.8,959,{"$f":"'ProVET аква'!I$64","v":0},{"$f":"'ProVET аква'!J$64","v":0}]
[null,1111113627,"PR740615","Піддон під акваріум 100х40 см прямий","Менше 10","Акваріуми, акваріумні набори, комплектуючі",737.8,959,{"$f":"'ProVET аква'!I$65","v":0},{"$f":"'ProVET аква'!J$65","v":0}]
[null,1111113630,"PR740620","Піддон під акваріум 120х40 см овальний","Менше 10","Акваріуми, акваріумні набори, комплектуючі",848.64,1103,{"$f":"'ProVET аква'!I$66","v":0},{"$f":"'ProVET аква'!J$66","v":0}]
[null,1111113629,"PR740623","Піддон під акваріум 120х40 см прямий","Менше 10","Акваріуми, акваріумні набори, комплектуючі",848.64,1103,{"$f":"'ProVET аква'!I$67","v":0},{"$f":"'ProVET аква'!J$67","v":0}]
[null,1111113632,"PR740626","Піддон під акваріум 150х50 см овальний","Менше 10","Акваріуми, акваріумні набори, комплектуючі",1250.56,1626,{"$f":"'ProVET аква'!I$68","v":0},{"$f":"'ProVET аква'!J$68","v":0}]
[null,1111113631,"PR740629","Піддон під акваріум 150х50 см прямий","Менше 10","Акваріуми, акваріумні набори, комплектуючі",1250.56,1626,{"$f":"'ProVET аква'!I$69","v":0},{"$f":"'ProVET аква'!J$69","v":0}]
[null,1111163640,"PR242070","Піддон під акваріум 50х30 ОВ НОВИЙ","Менше 10","Акваріуми, акваріумні набори, комплектуючі",193.5,252,{"$f":"'ProVET аква'!I$70","v":0},{"$f":"'ProVET аква'!J$70","v":0}]
[null,1111163639,"PR242071","Піддон під акваріум 50х30 ПР НОВИЙ","Менше 10","Акваріуми, акваріумні набори, комплектуючі",193.5,252,{"$f":"'ProVET аква'!I$71","v":0},{"$f":"'ProVET аква'!J$71","v":0}]
[null,1111114513,"PR740632","Піддон під акваріум 57 кутовий","Менше 10","Акваріуми, акваріумні набори, комплектуючі",532,691.6,{"$f":"'ProVET аква'!I$72","v":0},{"$f":"'ProVET аква'!J$72","v":0}]
[null,1111114514,"PR740635","Піддон під акваріум 70 кутовий","Менше 10","Акваріуми, акваріумні набори, комплектуючі",612,795.6,{"$f":"'ProVET аква'!I$73","v":0},{"$f":"'ProVET аква'!J$73","v":0}]
[null,1111113626,"PR740529","Піддон під акваріум 80х35 см овальний","Менше 10","Акваріуми, акваріумні набори, комплектуючі",363,471.9,{"$f":"'ProVET аква'!I$74","v":0},{"$f":"'ProVET аква'!J$74","v":0}]
[null,1111113625,"PR740535","Піддон під акваріум 80х35 см прямий","Менше 10","Акваріуми, акваріумні набори, комплектуючі",363,471.9,{"$f":"'ProVET аква'!I$75","v":0},{"$f":"'ProVET аква'!J$75","v":0}]
[null,1111162620,"PR241959","Піддон під акваріум, 60х30 см, овальний НОВИЙ","Менше 10","Акваріуми, акваріумні набори, комплектуючі",204,265,{"$f":"'ProVET аква'!I$76","v":0},{"$f":"'ProVET аква'!J$76","v":0}]
[null,1111162619,"PR241960","Піддон під акваріум, 60х30 см, прямокутний НОВИЙ","Менше 10","Акваріуми, акваріумні набори, комплектуючі",204,265,{"$f":"'ProVET аква'!I$77","v":0},{"$f":"'ProVET аква'!J$77","v":0}]
[null,1111162202,"PR241941","Піддон Природа під акваріум овальний 40х25см новий арт.PR241941","Менше 10","Акваріуми, акваріумні набори, комплектуючі",145,188.5,{"$f":"'ProVET аква'!I$78","v":0},{"$f":"'ProVET аква'!J$78","v":0}]
[null,1111162201,"PR241942","Піддон Природа під акваріум прямий 40х25см новий арт.PR241942","Менше 10","Акваріуми, акваріумні набори, комплектуючі",145,188.5,{"$f":"'ProVET аква'!I$79","v":0},{"$f":"'ProVET аква'!J$79","v":0}]
[null,1111126466,"PR740445","Туалет для собак великий 55х57 см","Менше 10","Туалети",623.4,810,{"$f":"'ProVET аква'!I$80","v":0},{"$f":"'ProVET аква'!J$80","v":0}]
[null,1111125064,"PR740446","Туалет для собак малий 40х55 см","Менше 10","Туалети",516.30999999999995,671,{"$f":"'ProVET аква'!I$81","v":0},{"$f":"'ProVET аква'!J$81","v":0}]
[null,6627,"PR740200","Шампунь ProVET Барсік репелентний для котів 15 мл","Більше 100","Косметика, засоби догляду для грумінгу",6.89,14,{"$f":"'ProVET економ'!I$8","v":0},{"$f":"'ProVET економ'!J$8","v":0}]
[null,7757,"PR740199","Шампунь ProVET Барсік репелентний для котів 250 мл","Більше 100","Косметика, засоби догляду для грумінгу",38.29,58,{"$f":"'ProVET економ'!I$9","v":0},{"$f":"'ProVET економ'!J$9","v":0}]
[null,4849,"PR740206","Шампунь ProVET Джессі репелентний для довгошерстих собак 15 мл","Більше 10","Косметика, засоби догляду для грумінгу",6.89,14,{"$f":"'ProVET економ'!I$10","v":0},{"$f":"'ProVET економ'!J$10","v":0}]
[null,7751,"PR740205","Шампунь ProVET Джессі репелентний для довгошерстих собак 250 мл","Більше 100","Косметика, засоби догляду для грумінгу",38.29,58,{"$f":"'ProVET економ'!I$11","v":0},{"$f":"'ProVET економ'!J$11","v":0}]
[null,7752,"PR740208","Шампунь ProVET Лорд репелентний для собак 250 мл","Більше 100","Косметика, засоби догляду для грумінгу",38.29,58,{"$f":"'ProVET економ'!I$12","v":0},{"$f":"'ProVET економ'!J$12","v":0}]
[null,6539,"PR740213","Шампунь ProVET Люкс гігієн. репелент. дії для котів та собак 15 мл","Більше 100","Косметика, засоби догляду для грумінгу",7.28,12,{"$f":"'ProVET економ'!I$13","v":0},{"$f":"'ProVET економ'!J$13","v":0}]
[null,6537,"PR740215","Шампунь ProVET Люкс гігієн. репелент. дії для кошенят та цуценят 15 мл","Більше 100","Косметика, засоби догляду для грумінгу",7.28,12,{"$f":"'ProVET економ'!I$14","v":0},{"$f":"'ProVET економ'!J$14","v":0}]
[null,1111157177,"PR241272","Шампунь ProVET Люкс гігієн. репелент.для короткош.котів та собак 240мл","Більше 10","Косметика, засоби догляду для грумінгу",50.96,71,{"$f":"'ProVET економ'!I$15","v":0},{"$f":"'ProVET економ'!J$15","v":0}]
[null,1111157176,"PR241271","Шампунь ProVET Люкс гігієн. репелент.ї дії для котів та собак 240 мл","Більше 100","Косметика, засоби догляду для грумінгу",50.96,71,{"$f":"'ProVET економ'!I$16","v":0},{"$f":"'ProVET економ'!J$16","v":0}]
[null,1111157179,"PR241274","Шампунь ProVET Люкс гігієн.репелент. для кошенят та цуценят 240 мл","Більше 100","Косметика, засоби догляду для грумінгу",50.96,71,{"$f":"'ProVET економ'!I$17","v":0},{"$f":"'ProVET економ'!J$17","v":0}]
[null,1111157178,"PR241273","Шампунь ProVET Люкс з дерматологіч. ефект. для котів та собак 240 мл","Більше 10","Косметика, засоби догляду для грумінгу",52.33,73,{"$f":"'ProVET економ'!I$18","v":0},{"$f":"'ProVET економ'!J$18","v":0}]
[null,4851,"PR740203","Шампунь ProVET Мурзик репелентний для короткошерстих котів 15 мл","Більше 10","Косметика, засоби догляду для грумінгу",6.89,14,{"$f":"'ProVET економ'!I$19","v":0},{"$f":"'ProVET економ'!J$19","v":0}]
[null,7756,"PR740202","Шампунь ProVET Мурзик репелентний для короткошерстих котів 250 мл","Більше 10","Косметика, засоби догляду для грумінгу",38.29,58,{"$f":"'ProVET економ'!I$20","v":0},{"$f":"'ProVET економ'!J$20","v":0}]
[null,7753,"PR740193","Шампунь ProVET Принц репелентний для короткошерстих собак 250 мл","Більше 100","Косметика, засоби догляду для грумінгу",38.29,58,{"$f":"'ProVET економ'!I$21","v":0},{"$f":"'ProVET економ'!J$21","v":0}]
[null,7754,"PR740190","Шампунь ProVET Пупсі репелентний для котят та цуценят 250 мл","Більше 100","Косметика, засоби догляду для грумінгу",38.29,58,{"$f":"'ProVET економ'!I$22","v":0},{"$f":"'ProVET економ'!J$22","v":0}]
[null,4853,"PR740191","Шампунь ProVET Пупсі репелентний для кошенят 15 мл","Більше 10","Косметика, засоби догляду для грумінгу",6.89,14,{"$f":"'ProVET економ'!I$23","v":0},{"$f":"'ProVET економ'!J$23","v":0}]
[null,4861,"PR740188","Шампунь ProVET Пупсі репелентний для цуценят 15 мл","Більше 10","Косметика, засоби догляду для грумінгу",6.89,14,{"$f":"'ProVET економ'!I$24","v":0},{"$f":"'ProVET економ'!J$24","v":0}]
[null,4850,"PR740197","Шампунь ProVET Пушок репелентний для довгошерстих котів 15 мл","Більше 10","Косметика, засоби догляду для грумінгу",6.89,14,{"$f":"'ProVET економ'!I$25","v":0},{"$f":"'ProVET економ'!J$25","v":0}]
[null,7755,"PR740196","Шампунь ProVET Пушок репелентний для довгошерстих котів 250 мл","Більше 10","Косметика, засоби догляду для грумінгу",38.29,58,{"$f":"'ProVET економ'!I$26","v":0},{"$f":"'ProVET економ'!J$26","v":0}]
[null,1111157181,"PR241276","Шампунь-кондиціонер ProVET Люкс для довгошерстих котів 240 мл","Більше 10","Косметика, засоби догляду для грумінгу",50.83,71,{"$f":"'ProVET економ'!I$27","v":0},{"$f":"'ProVET економ'!J$27","v":0}]
[null,1111157180,"PR241275","Шампунь-кондиціонер ProVET Люкс для довгошерстих собак 240 мл","Більше 10","Косметика, засоби догляду для грумінгу",50.83,71,{"$f":"'ProVET економ'!I$28","v":0},{"$f":"'ProVET економ'!J$28","v":0}]
[null,1111140374,"PR020062","Гель ProVET SaniPet для догляд. за рот. порожнин. котів та собак 15 мл","Більше 10","Засоби для догляду за зубами та ротовою порожниною",37,54,{"$f":"SaniPet!I$8","v":0},{"$f":"SaniPet!J$8","v":0}]
[null,1111140371,"PR020058","Лосьйон ProVET SaniPet для догляду за вухами котів та собак 15 мл","Більше 10","Засоби для догляду за очима та вухами",44,63,{"$f":"SaniPet!I$9","v":0},{"$f":"SaniPet!J$9","v":0}]
[null,1111140373,"PR020059","Лосьйон ProVET SaniPet для догляду за вухами котів та собак 30 мл","Більше 10","Засоби для догляду за очима та вухами",64,93,{"$f":"SaniPet!I$10","v":0},{"$f":"SaniPet!J$10","v":0}]
[null,1111172229,"PR242911","Лосьйон ProVET SaniPet для догляду за вухами котів та собак 300 мл","Більше 10","Засоби для догляду за очима та вухами",140,204,{"$f":"SaniPet!I$11","v":0},{"$f":"SaniPet!J$11","v":0}]
[null,1111140370,"PR020060","Лосьйон ProVET SaniPet для догляду за очима котів та собак 15 мл","Більше 10","Засоби для догляду за очима та вухами",44,63,{"$f":"SaniPet!I$12","v":0},{"$f":"SaniPet!J$12","v":0}]
[null,1111140372,"PR020061","Лосьйон ProVET SaniPet для догляду за очима котів та собак 30 мл","Більше 100","Засоби для догляду за очима та вухами",64,93,{"$f":"SaniPet!I$13","v":0},{"$f":"SaniPet!J$13","v":0}]
[null,1111172228,"PR242910","Лосьйон ProVET SaniPet для догляду за очима котів та собак 300 мл","Більше 10","Засоби для догляду за очима та вухами",140,204,{"$f":"SaniPet!I$14","v":0},{"$f":"SaniPet!J$14","v":0}]
[null,1111148420,"PR240565","Спрей ProVET SaniPet відляк. від місць, не признач. для туалету, котам","Більше 100","Засоби для заборони",116,168,{"$f":"SaniPet!I$15","v":0},{"$f":"SaniPet!J$15","v":0}]
[null,1111148421,"PR240566","Спрей ProVET SaniPet відляк. від місць, не признач. для туалету,собак.","Більше 100","Засоби для заборони",116,168,{"$f":"SaniPet!I$16","v":0},{"$f":"SaniPet!J$16","v":0}]
[null,1111140430,"PR240564","Спрей ProVET SaniPet для захисту від дряпання для котів 250 мл","Більше 10","Засоби для заборони",116,168,{"$f":"SaniPet!I$17","v":0},{"$f":"SaniPet!J$17","v":0}]
[null,1111140431,"PR240561","Спрей ProVET SaniPet для захисту від погризення для собак 250 мл","Більше 100","Засоби для заборони",116,168,{"$f":"SaniPet!I$18","v":0},{"$f":"SaniPet!J$18","v":0}]
[null,1111140433,"PR240562","Спрей ProVET SaniPet для привчання до туалету котів 250 мл","Більше 10","Засоби для привчання",116,168,{"$f":"SaniPet!I$19","v":0},{"$f":"SaniPet!J$19","v":0}]
[null,1111140432,"PR240563","Спрей ProVET SaniPet для привчання до туалету собак 250 мл","Більше 100","Засоби для привчання",116,168,{"$f":"SaniPet!I$20","v":0},{"$f":"SaniPet!J$20","v":0}]
[null,1111162986,30167,"Savory Adult All Breeds rich in Fresh Duck and Rabbit для собак, 1 кг","Більше 10","Корм сухий для собак",373.94,486,{"$f":"Savory!I$8","v":0},{"$f":"Savory!J$8","v":0}]
[null,1111162988,30181,"Savory Adult All Breeds rich in Fresh Duck and Rabbit для собак, 12 кг","Більше 10","Корм сухий для собак",2949.06,3834,{"$f":"Savory!I$9","v":0},{"$f":"Savory!J$9","v":0}]
[null,1111162987,30174,"Savory Adult All Breeds rich in Fresh Duck and Rabbit для собак, 3 кг","Більше 10","Корм сухий для собак",923.76,1201,{"$f":"Savory!I$10","v":0},{"$f":"Savory!J$10","v":0}]
[null,1111162995,30020,"Savory Adult Cat Gourmand Fresh Salmon для довгошерстих котів, 2 кг","Більше 100","Корм сухий для котів",760.99,989,{"$f":"Savory!I$11","v":0},{"$f":"Savory!J$11","v":0}]
[null,1111162994,30013,"Savory Adult Cat Gourmand Fresh Salmon для довгошерстих котів, 400 г","Більше 100","Корм сухий для котів",195.87,255,{"$f":"Savory!I$12","v":0},{"$f":"Savory!J$12","v":0}]
[null,1111162996,30037,"Savory Adult Cat Gourmand Fresh Salmon для довгошерстих котів, 8 кг","Більше 100","Корм сухий для котів",2779.18,3613,{"$f":"Savory!I$13","v":0},{"$f":"Savory!J$13","v":0}]
[null,1111162998,30051,"Savory Adult Cat Gourmand Fresh Turkey and Duck д/котів-гурманів, 2 кг","Більше 100","Корм сухий для котів",776.95,1010,{"$f":"Savory!I$14","v":0},{"$f":"Savory!J$14","v":0}]
[null,1111162997,30044,"Savory Adult Cat Gourmand Fresh Turkey and Duck д/котів-гурманів, 400г","Більше 100","Корм сухий для котів",205.66,267,{"$f":"Savory!I$15","v":0},{"$f":"Savory!J$15","v":0}]
[null,1111162999,30068,"Savory Adult Cat Gourmand Fresh Turkey and Duck д/котів-гурманів, 8 кг","Більше 10","Корм сухий для котів",2803.05,3644,{"$f":"Savory!I$16","v":0},{"$f":"Savory!J$16","v":0}]
[null,1111163001,30082,"Savory Adult Cat Sensitive Digestion д/котів з чутл. травленням, 2 кг","Більше 100","Корм сухий для котів",743.26,966,{"$f":"Savory!I$17","v":0},{"$f":"Savory!J$17","v":0}]
[null,1111163000,30075,"Savory Adult Cat Sensitive Digestion д/котів з чутл. травленням, 400 г","Більше 100","Корм сухий для котів",193.07,251,{"$f":"Savory!I$18","v":0},{"$f":"Savory!J$18","v":0}]
[null,1111163002,30099,"Savory Adult Cat Sensitive Digestion д/котів з чутл. травленням, 8 кг","Більше 100","Корм сухий для котів",2713.32,3527,{"$f":"Savory!I$19","v":0},{"$f":"Savory!J$19","v":0}]
[null,1111163004,30112,"Savory Adult Cat Steril Fresh Lamb and Chicken д/стериліз. котів, 2 кг","Більше 100","Корм сухий для котів",739.33,961,{"$f":"Savory!I$20","v":0},{"$f":"Savory!J$20","v":0}]
[null,1111163003,30105,"Savory Adult Cat Steril Fresh Lamb and Chicken д/стериліз. котів, 400г","Більше 100","Корм сухий для котів",194.91,253,{"$f":"Savory!I$21","v":0},{"$f":"Savory!J$21","v":0}]
[null,1111163005,30129,"Savory Adult Cat Steril Fresh Lamb and Chicken д/стериліз. котів, 8 кг","Більше 100","Корм сухий для котів",2641.03,3433,{"$f":"Savory!I$22","v":0},{"$f":"Savory!J$22","v":0}]
[null,1111171566,31492,"Savory All Breed Sterilised rich in FreshTurkey д/стерил. собак, 1 кг","Більше 10","Корм сухий для собак",304.08999999999997,395,{"$f":"Savory!I$23","v":0},{"$f":"Savory!J$23","v":0}]
[null,1111171568,31515,"Savory All Breed Sterilised rich in FreshTurkey д/стерил. собак, 12 кг","Більше 10","Корм сухий для собак",2409.4,3132,{"$f":"Savory!I$24","v":0},{"$f":"Savory!J$24","v":0}]
[null,1111171567,31508,"Savory All Breed Sterilised rich in FreshTurkey д/стерил. собак, 3 кг","Немає в наявності","Корм сухий для собак",771,999,{"$f":"Savory!I$25","v":0},{"$f":"Savory!J$25","v":0}]
[null,1111165064,30747,"Savory Cat Can Adult Sterilised консерви курка д/стериліз. котів, 100г","Більше 10","Корм вологий для котів",38.840000000000003,50,{"$f":"Savory!I$26","v":0},{"$f":"Savory!J$26","v":0}]
[null,1111165065,30754,"Savory Cat Can Adult Sterilised консерви курка д/стериліз. котів, 200г","Більше 100","Корм вологий для котів",68.739999999999995,89,{"$f":"Savory!I$27","v":0},{"$f":"Savory!J$27","v":0}]
[null,1111165066,30761,"Savory Cat Can Adult Sterilised консерви курка д/стериліз. котів, 400г","Більше 100","Корм вологий для котів",107.32,140,{"$f":"Savory!I$28","v":0},{"$f":"Savory!J$28","v":0}]
[null,1111165061,30716,"Savory Cat Can Adult Sterilised консерви ягня д/стериліз. котів, 100 г","Більше 100","Корм вологий для котів",38.840000000000003,50,{"$f":"Savory!I$29","v":0},{"$f":"Savory!J$29","v":0}]
[null,1111165062,30723,"Savory Cat Can Adult Sterilised консерви ягня д/стериліз. котів, 200 г","Більше 100","Корм вологий для котів",68.739999999999995,89,{"$f":"Savory!I$30","v":0},{"$f":"Savory!J$30","v":0}]
[null,1111165063,30730,"Savory Cat Can Adult Sterilised консерви ягня д/стериліз. котів, 400 г","Більше 100","Корм вологий для котів",107.32,140,{"$f":"Savory!I$31","v":0},{"$f":"Savory!J$31","v":0}]
[null,1111165070,30600,"Savory Cat Can Adult консерви качка для вибагливих котів, 100 г","Більше 100","Корм вологий для котів",38.840000000000003,50,{"$f":"Savory!I$32","v":0},{"$f":"Savory!J$32","v":0}]
[null,1111165071,30617,"Savory Cat Can Adult консерви качка для вибагливих котів, 200 г","Більше 100","Корм вологий для котів",68.739999999999995,89,{"$f":"Savory!I$33","v":0},{"$f":"Savory!J$33","v":0}]
[null,1111165072,30624,"Savory Cat Can Adult консерви качка для вибагливих котів, 400 г","Більше 100","Корм вологий для котів",107.32,140,{"$f":"Savory!I$34","v":0},{"$f":"Savory!J$34","v":0}]
[null,1111165067,30631,"Savory Cat Can Adult консерви риба для вибагливих котів, 100 г","Більше 100","Корм вологий для котів",38.840000000000003,50,{"$f":"Savory!I$35","v":0},{"$f":"Savory!J$35","v":0}]
[null,1111165068,30648,"Savory Cat Can Adult консерви риба для вибагливих котів, 200 г","Більше 100","Корм вологий для котів",68.739999999999995,89,{"$f":"Savory!I$36","v":0},{"$f":"Savory!J$36","v":0}]
[null,1111165069,30655,"Savory Cat Can Adult консерви риба для вибагливих котів, 400 г","Більше 10","Корм вологий для котів",107.32,140,{"$f":"Savory!I$37","v":0},{"$f":"Savory!J$37","v":0}]
[null,1111165059,30679,"Savory Cat Can Kitten консерви індичка для кошенят, 100 г","Більше 100","Корм вологий для котів",38.840000000000003,50,{"$f":"Savory!I$38","v":0},{"$f":"Savory!J$38","v":0}]
[null,1111165060,30686,"Savory Cat Can Kitten консерви індичка для кошенят, 200 г","Більше 100","Корм вологий для котів",68.739999999999995,89,{"$f":"Savory!I$39","v":0},{"$f":"Savory!J$39","v":0}]
[null,1111171667,20123,"Savory Cat Pouch for Adult, with Lamb and beetroot in Gravy д/кот. 85г","Більше 100","Корм вологий для котів",30.91,42,{"$f":"Savory!I$40","v":0},{"$f":"Savory!J$40","v":0}]
[null,1111171666,20116,"Savory Cat Pouch for Adult, with Salmon and Peas in Gravy д/котів, 85г","Більше 100","Корм вологий для котів",30.91,42,{"$f":"Savory!I$41","v":0},{"$f":"Savory!J$41","v":0}]
[null,1111171662,20079,"Savory Cat Pouch for Kitten with Salmon and Carrot д/кошенят, 85 г","Більше 100","Корм вологий для котів",30.91,42,{"$f":"Savory!I$42","v":0},{"$f":"Savory!J$42","v":0}]
[null,1111171663,20086,"Savory Cat Pouch for Kitten, with Lamb and Pumpkin д/кошенят, 85 г","Більше 100","Корм вологий для котів",30.91,42,{"$f":"Savory!I$43","v":0},{"$f":"Savory!J$43","v":0}]
[null,1111171664,20093,"Savory Cat Pouch for Sterilised with Lamb and Cranberry д/стер.кот 85г","Більше 100","Корм вологий для котів",30.91,42,{"$f":"Savory!I$44","v":0},{"$f":"Savory!J$44","v":0}]
[null,1111171665,20109,"Savory Cat Pouch for Sterilised, with Turkey and Carrot д/стер.кот 85г","Більше 100","Корм вологий для котів",30.91,42,{"$f":"Savory!I$45","v":0},{"$f":"Savory!J$45","v":0}]
[null,1111165033,30563,"Savory Dog All breeds Puppy консерви з кроликом для цуценят, 100 г","Більше 100","Корм вологий для собак",38.840000000000003,50,{"$f":"Savory!I$46","v":0},{"$f":"Savory!J$46","v":0}]
[null,1111165034,30570,"Savory Dog All breeds Puppy консерви з кроликом для цуценят, 200 г","Більше 100","Корм вологий для собак",68.739999999999995,89,{"$f":"Savory!I$47","v":0},{"$f":"Savory!J$47","v":0}]
[null,1111165035,30587,"Savory Dog All breeds Puppy консерви з кроликом для цуценят, 400 г","Більше 100","Корм вологий для собак",107.32,140,{"$f":"Savory!I$48","v":0},{"$f":"Savory!J$48","v":0}]
[null,1111165036,30532,"Savory Dog All breeds Puppy консерви з куркою для цуценят, 100 г","Більше 100","Корм вологий для собак",38.840000000000003,50,{"$f":"Savory!I$49","v":0},{"$f":"Savory!J$49","v":0}]
[null,1111165037,30549,"Savory Dog All breeds Puppy консерви з куркою для цуценят, 200 г","Більше 100","Корм вологий для собак",68.739999999999995,89,{"$f":"Savory!I$50","v":0},{"$f":"Savory!J$50","v":0}]
[null,1111165038,30556,"Savory Dog All breeds Puppy консерви з куркою для цуценят, 400 г","Більше 100","Корм вологий для собак",107.32,140,{"$f":"Savory!I$51","v":0},{"$f":"Savory!J$51","v":0}]
[null,1111165043,30372,"Savory Dog Gourmand консерви 4 види м_яса для собак, 100 г","Більше 100","Корм вологий для собак",38.840000000000003,50,{"$f":"Savory!I$52","v":0},{"$f":"Savory!J$52","v":0}]
[null,1111165044,30389,"Savory Dog Gourmand консерви 4 види м_яса для собак, 200 г","Більше 100","Корм вологий для собак",68.739999999999995,89,{"$f":"Savory!I$53","v":0},{"$f":"Savory!J$53","v":0}]
[null,1111165045,30396,"Savory Dog Gourmand консерви 4 види м_яса для собак, 400 г","Більше 100","Корм вологий для собак",107.32,140,{"$f":"Savory!I$54","v":0},{"$f":"Savory!J$54","v":0}]
[null,1111165051,30495,"Savory Dog Gourmand консерви індичка для собак, 100 г","Більше 100","Корм вологий для собак",38.840000000000003,50,{"$f":"Savory!I$55","v":0},{"$f":"Savory!J$55","v":0}]
[null,1111165052,30501,"Savory Dog Gourmand консерви індичка для собак, 200 г","Немає в наявності","Корм вологий для собак",68.739999999999995,89,{"$f":"Savory!I$56","v":0},{"$f":"Savory!J$56","v":0}]
[null,1111165053,30518,"Savory Dog Gourmand консерви індичка для собак, 400 г","Більше 100","Корм вологий для собак",107.32,140,{"$f":"Savory!I$57","v":0},{"$f":"Savory!J$57","v":0}]
[null,1111165039,30457,"Savory Dog Gourmand консерви качка для собак, 100 г","Більше 100","Корм вологий для собак",38.840000000000003,50,{"$f":"Savory!I$58","v":0},{"$f":"Savory!J$58","v":0}]
[null,1111165040,30464,"Savory Dog Gourmand консерви качка для собак, 200 г","Більше 100","Корм вологий для собак",68.739999999999995,89,{"$f":"Savory!I$59","v":0},{"$f":"Savory!J$59","v":0}]
[null,1111165041,30471,"Savory Dog Gourmand консерви качка для собак, 400 г","Більше 100","Корм вологий для собак",107.32,140,{"$f":"Savory!I$60","v":0},{"$f":"Savory!J$60","v":0}]
[null,1111165047,30419,"Savory Dog Gourmand консерви яловичина для собак, 100 г","Більше 100","Корм вологий для собак",38.840000000000003,50,{"$f":"Savory!I$61","v":0},{"$f":"Savory!J$61","v":0}]
[null,1111165048,30426,"Savory Dog Gourmand консерви яловичина для собак, 200 г","Більше 100","Корм вологий для собак",68.739999999999995,89,{"$f":"Savory!I$62","v":0},{"$f":"Savory!J$62","v":0}]
[null,1111165049,30433,"Savory Dog Gourmand консерви яловичина для собак, 400 г","Більше 100","Корм вологий для собак",107.32,140,{"$f":"Savory!I$63","v":0},{"$f":"Savory!J$63","v":0}]
[null,1111162974,30211,"Savory Junior Large rich in Fresh Turkey and Chicken для юніорів, 12кг","Більше 10","Корм сухий для собак",2532.9,3293,{"$f":"Savory!I$64","v":0},{"$f":"Savory!J$64","v":0}]
[null,1111162973,30204,"Savory Junior Large rich in Fresh Turkey and Chicken для юніорів, 3 кг","Більше 10","Корм сухий для собак",809.62,1053,{"$f":"Savory!I$65","v":0},{"$f":"Savory!J$65","v":0}]
[null,1111163007,30143,"Savory Kitten Chicken with Fresh Turkey свіжа індичка д/кошенят, 2 кг","Більше 100","Корм сухий для котів",706.49,918,{"$f":"Savory!I$66","v":0},{"$f":"Savory!J$66","v":0}]
[null,1111163006,30136,"Savory Kitten Chicken with Fresh Turkey свіжа індичка д/кошенят, 400 г","Більше 100","Корм сухий для котів",179.04,233,{"$f":"Savory!I$67","v":0},{"$f":"Savory!J$67","v":0}]
[null,1111163008,30150,"Savory Kitten Chicken with Fresh Turkey свіжа індичка д/кошенят, 8 кг","Більше 10","Корм сухий для котів",2486.0300000000002,3232,{"$f":"Savory!I$68","v":0},{"$f":"Savory!J$68","v":0}]
[null,1111162982,30242,"Savory Large Breeds rich in Fresh Turkey and Lamb д/вел. пор.соб. 12кг","Більше 10","Корм сухий для собак",2639.04,3430,{"$f":"Savory!I$69","v":0},{"$f":"Savory!J$69","v":0}]
[null,1111162981,30235,"Savory Large Breeds rich in Fresh Turkey and Lamb д/вел. пор.соб. 3кг","Більше 10","Корм сухий для собак",819.71,1066,{"$f":"Savory!I$70","v":0},{"$f":"Savory!J$70","v":0}]
[null,1111162980,30273,"Savory Medium Breed rich in Fresh Turkey and Lamb д/сер. пор. соб 12кг","Більше 10","Корм сухий для собак",2543.69,3306,{"$f":"Savory!I$71","v":0},{"$f":"Savory!J$71","v":0}]
[null,1111162978,30259,"Savory Medium Breed rich in Fresh Turkey and Lamb д/сер. пор. соб. 1кг","Більше 10","Корм сухий для собак",305.76,397,{"$f":"Savory!I$72","v":0},{"$f":"Savory!J$72","v":0}]
[null,1111162979,30266,"Savory Medium Breed rich in Fresh Turkey and Lamb д/сер. пор. соб. 3кг","Більше 100","Корм сухий для собак",805.05,1047,{"$f":"Savory!I$73","v":0},{"$f":"Savory!J$73","v":0}]
[null,1111162972,30303,"Savory Puppy rich in Fresh Turkey and Chicken інд/курка д/цуценят 12кг","Більше 10","Корм сухий для собак",2574.6999999999998,3347,{"$f":"Savory!I$74","v":0},{"$f":"Savory!J$74","v":0}]
[null,1111162970,30280,"Savory Puppy rich in Fresh Turkey and Chicken інд/курка д/цуценят, 1кг","Більше 100","Корм сухий для собак",301.60000000000002,392,{"$f":"Savory!I$75","v":0},{"$f":"Savory!J$75","v":0}]
[null,1111162971,30297,"Savory Puppy rich in Fresh Turkey and Chicken інд/курка д/цуценят, 3кг","Більше 10","Корм сухий для собак",808.58,1051,{"$f":"Savory!I$76","v":0},{"$f":"Savory!J$76","v":0}]
[null,1111162975,30341,"Savory Small Breed rich in Fresh Turkey and Lamb д/мал. порід соб. 1кг","Більше 100","Корм сухий для собак",319.56,415,{"$f":"Savory!I$77","v":0},{"$f":"Savory!J$77","v":0}]
[null,1111162976,30358,"Savory Small Breed rich in Fresh Turkey and Lamb д/мал. порід соб. 3кг","Більше 100","Корм сухий для собак",825.57,1073,{"$f":"Savory!I$78","v":0},{"$f":"Savory!J$78","v":0}]
[null,1111162977,30365,"Savory Small Breed rich in Fresh Turkey and Lamb д/мал. порід соб. 8кг","Більше 100","Корм сухий для собак",2030.73,2640,{"$f":"Savory!I$79","v":0},{"$f":"Savory!J$79","v":0}]
[null,1111162983,30310,"Savory Small Breeds rich in Fresh Lamb ягня д/мал. порід собак, 1 кг","Більше 10","Корм сухий для собак",358.09,466,{"$f":"Savory!I$80","v":0},{"$f":"Savory!J$80","v":0}]
[null,1111162984,30327,"Savory Small Breeds rich in Fresh Lamb ягня д/мал. порід собак, 3 кг","Більше 10","Корм сухий для собак",930.93,1210,{"$f":"Savory!I$81","v":0},{"$f":"Savory!J$81","v":0}]
[null,1111162985,30334,"Savory Small Breeds rich in Fresh Lamb ягня д/мал. порід собак, 8 кг","Більше 10","Корм сухий для собак",2156.0700000000002,2803,{"$f":"Savory!I$82","v":0},{"$f":"Savory!J$82","v":0}]
[null,1111171669,31461,"Ласощі SAVORY Гурман із Куркою та Сиром для котів, 60г","Більше 100","Ласощі для котів",68.349999999999994,96,{"$f":"Savory!I$83","v":0},{"$f":"Savory!J$83","v":0}]
[null,1111171668,31454,"Ласощі SAVORY Гурман із лососем  для котів, 60г","Більше 100","Ласощі для котів",68.349999999999994,96,{"$f":"Savory!I$84","v":0},{"$f":"Savory!J$84","v":0}]
[null,1111171671,31485,"Ласощі SAVORY подушечки для виведення шерсті зі шлунку котів, 60 г","Більше 100","Ласощі для котів",68.349999999999994,96,{"$f":"Savory!I$85","v":0},{"$f":"Savory!J$85","v":0}]
[null,1111171670,31478,"Ласощі SAVORY подушечки для здоров я зубів для котів, 60 г","Більше 100","Ласощі для котів",68.349999999999994,96,{"$f":"Savory!I$86","v":0},{"$f":"Savory!J$86","v":0}]
[null,1111168073,31324,"М_які ласощі Savory антипаразит. для собак, тунець і дикий часник 200г","Більше 100","Ласощі для собак",132.12,178,{"$f":"Savory!I$87","v":0},{"$f":"Savory!J$87","v":0}]
[null,1111168080,31416,"М_які ласощі Savory для здоров я стерилізованих котів, ягня та чорниці","Більше 10","Ласощі для котів",77.14,108,{"$f":"Savory!I$88","v":0},{"$f":"Savory!J$88","v":0}]
[null,1111168074,"31331 Savory","М_які ласощі Savory для зміцн імунітету собак, качка та шипшина, 200 г","Більше 100","Ласощі для собак",132.12,178,{"$f":"Savory!I$89","v":0},{"$f":"Savory!J$89","v":0}]
[null,1111168075,31348,"М_які ласощі Savory для покращ. травлення собак, ягня та ромашка, 200г","Більше 100","Ласощі для собак",132.12,178,{"$f":"Savory!I$90","v":0},{"$f":"Savory!J$90","v":0}]
[null,1111168079,31409,"М_які ласощі Savory для покращення травлення котів, качка та чебрець","Більше 100","Ласощі для котів",77.14,108,{"$f":"Savory!I$91","v":0},{"$f":"Savory!J$91","v":0}]
[null,1111168078,31379,"Хрусткі ласощі Savory для здор. росту цуценят, ягня та обліпихи, 200 г","Більше 100","Ласощі для собак",132.12,178,{"$f":"Savory!I$92","v":0},{"$f":"Savory!J$92","v":0}]
[null,1111168077,31362,"Хрусткі ласощі Savory для суглобів собак, кролик і горобина, 200 г","Більше 100","Ласощі для собак",132.12,178,{"$f":"Savory!I$93","v":0},{"$f":"Savory!J$93","v":0}]
[null,1111168076,31355,"Хрусткі ласощі Savory для шкіри та шерсті собак, лосось і чорнобр.200г","Більше 100","Ласощі для собак",132.12,178,{"$f":"Savory!I$94","v":0},{"$f":"Savory!J$94","v":0}]
[null,1111168082,31393,"Хрусткі ласощі Savory індичка і журавлина для здорового росту кошенят","Більше 100","Ласощі для котів",77.14,108,{"$f":"Savory!I$95","v":0},{"$f":"Savory!J$95","v":0}]
[null,1111168081,31386,"Хрусткі ласощі Savory лосось і малина для здоров_я шкіри/шерсті котів","Більше 100","Ласощі для котів",77.14,108,{"$f":"Savory!I$96","v":0},{"$f":"Savory!J$96","v":0}]
[null,1111169978,920031,"Наповнювач тофу Essence для котячого туалету, 2 мм, натуральний, 6л","Більше 100","Наповнювачі на рослинній основі (в т.ч. паперові)",258.5,349,{"$f":"'SD Essence'!I$8","v":0},{"$f":"'SD Essence'!J$8","v":0}]
[null,1111169976,920017,"Наповнювач тофу Essence для котячого туалету, 3 мм, зелений чай, 6л","Більше 100","Наповнювачі на рослинній основі (в т.ч. паперові)",258.5,349,{"$f":"'SD Essence'!I$9","v":0},{"$f":"'SD Essence'!J$9","v":0}]
[null,1111179409,"PR243420_Спеццена","Наповнювач Sani Pet д/котячих туалетів силікагелевий 10 л","Більше 100","Наповнювачі силікагелеві",400.95,578,{"$f":"'SD SaniPet'!I$8","v":0},{"$f":"'SD SaniPet'!J$8","v":0}]
[null,1111179408,"PR243421_Спеццена","Наповнювач Sani Pet д/котячих туалетів силікагелевий 7,6 л","Більше 100","Наповнювачі силікагелеві",285.60000000000002,412,{"$f":"'SD SaniPet'!I$9","v":0},{"$f":"'SD SaniPet'!J$9","v":0}]
[null,1111151640,"PR240780 кр.лавандаСПЦЕНА","Наповнювач бентоніт SANI PET вел.гран. лаванда 5кг NEW","Більше 100","Наповнювачі бентонітові",77,127,{"$f":"'SD SaniPet'!I$10","v":0},{"$f":"'SD SaniPet'!J$10","v":0}]
[null,1111151641,"PR240781 средний_СПЕЦЦЕНА","Наповнювач бентоніт SANI PET середня гранула 5кг NEW","Більше 100","Наповнювачі бентонітові",77,127,{"$f":"'SD SaniPet'!I$11","v":0},{"$f":"'SD SaniPet'!J$11","v":0}]
[null,1111143123,"PR240434 ср.лавандаСПЦЕНА","Наповнювач бентоніт. SANI PET середній з лавандою 5 кг","Більше 100","Наповнювачі бентонітові",77,127,{"$f":"'SD SaniPet'!I$12","v":0},{"$f":"'SD SaniPet'!J$12","v":0}]
[null,1111151639,"PR240779 крупный_СПЕЦЦЕНА","Наповнювач бентонітовий SANI PET велика гранула 5кг NEW","Більше 100","Наповнювачі бентонітові",77,127,{"$f":"'SD SaniPet'!I$13","v":0},{"$f":"'SD SaniPet'!J$13","v":0}]
[null,1111151642,"PR240784 мелкий_СПЕЦЦЕНА","Наповнювач бентонітовий SANI PET дрібна гранула 5кг NEW","Більше 100","Наповнювачі бентонітові",77,127,{"$f":"'SD SaniPet'!I$14","v":0},{"$f":"'SD SaniPet'!J$14","v":0}]
[null,1111140515,"PR240266  3,8L_СПЕЦЦЕНА","Наповнювач силікогелевий SANI PET 3,8 л","Більше 100","Наповнювачі силікагелеві",161.46,247,{"$f":"'SD SaniPet'!I$15","v":0},{"$f":"'SD SaniPet'!J$15","v":0}]
[null,1111140514,"PR240267  5L_СПЕЦЦЕНА","Наповнювач силікогелевий SANI PET 5 л","Більше 100","Наповнювачі силікагелеві",214.81,329,{"$f":"'SD SaniPet'!I$16","v":0},{"$f":"'SD SaniPet'!J$16","v":0}]
[null,8688,"PR240120","Пелюшки для собак 60?45 см (15 шт.) ПРИРОДА™","Більше 100","Пелюшки для собак",135,188.7,{"$f":"'SD SaniPet'!I$17","v":0},{"$f":"'SD SaniPet'!J$17","v":0}]
[null,1111135511,"PR240121","Пелюшки для собак 60?60 см (15 шт.) ПРИРОДА™","Більше 10","Пелюшки для собак",119.88,168,{"$f":"'SD SaniPet'!I$18","v":0},{"$f":"'SD SaniPet'!J$18","v":0}]
[null,1111166072,"SG16061","Переноска для собак та котів до 12 кг 39*55*36,5 см чорний/мікс","Більше 10","Переноски пластикові",756.14,1092,{"$f":"SGbox!I$8","v":0},{"$f":"SGbox!J$8","v":0}]
[null,1111164362,"SG16053","Переноска для собак та котів до 6 кг 35*49*32,5 см чорний/мікс","Більше 10","Переноски пластикові",394.87,539,{"$f":"SGbox!I$9","v":0},{"$f":"SGbox!J$9","v":0}]
[null,1111168505,101103,"SKIPPER корм сухий з куркою та яловичиною для собак, 10 кг","Більше 10","Корм сухий для собак",621.5,809,{"$f":"Skipper!I$8","v":0},{"$f":"Skipper!J$8","v":0}]
[null,1111168503,101100,"SKIPPER корм сухий з яловичиною та овочами для собак, 10 кг","Більше 10","Корм сухий для собак",621.5,809,{"$f":"Skipper!I$9","v":0},{"$f":"Skipper!J$9","v":0}]
[null,1111168504,101102,"SKIPPER корм сухий з яловичиною та овочами для собак, 3 кг","Менше 10","Корм сухий для собак",277.52999999999997,359,{"$f":"Skipper!I$10","v":0},{"$f":"Skipper!J$10","v":0}]
[null,1111164474,"PR242125","Корм SPECIAL ONE для великих папуг, 500 г","Більше 10","Корм для птахів",135.53,190,{"$f":"'Special One'!I$8","v":0},{"$f":"'Special One'!J$8","v":0}]
[null,1111164484,"PR242115","Корм SPECIAL ONE для дегу, 500 г","Більше 100","Корм для гризунів",113.39,160,{"$f":"'Special One'!I$9","v":0},{"$f":"'Special One'!J$9","v":0}]
[null,1111164479,"PR242120","Корм SPECIAL ONE для декоративних кроликів, 500 г","Більше 100","Корм для гризунів",115.83,162,{"$f":"'Special One'!I$10","v":0},{"$f":"'Special One'!J$10","v":0}]
[null,1111164480,"PR242119","Корм SPECIAL ONE для декоративних пацюків, 500 г","Більше 100","Корм для гризунів",97.34,137,{"$f":"'Special One'!I$11","v":0},{"$f":"'Special One'!J$11","v":0}]
[null,1111164478,"PR242121","Корм SPECIAL ONE для канарок, 500 г","Більше 100","Корм для птахів",98.58,138,{"$f":"'Special One'!I$12","v":0},{"$f":"'Special One'!J$12","v":0}]
[null,1111164481,"PR242118","Корм SPECIAL ONE для морських свинок, 500 г","Немає в наявності","Корм для гризунів",109.69,154,{"$f":"'Special One'!I$13","v":0},{"$f":"'Special One'!J$13","v":0}]
[null,1111164476,"PR242123","Корм SPECIAL ONE для середніх папуг, 500 г","Більше 100","Корм для птахів",98.58,138,{"$f":"'Special One'!I$14","v":0},{"$f":"'Special One'!J$14","v":0}]
[null,1111164475,"PR242124","Корм SPECIAL ONE для хвилястих папуг, 500 г","Більше 100","Корм для птахів",92.44,130,{"$f":"'Special One'!I$15","v":0},{"$f":"'Special One'!J$15","v":0}]
[null,1111164483,"PR242116","Корм SPECIAL ONE для хом яків, 500 г","Більше 100","Корм для гризунів",97.34,137,{"$f":"'Special One'!I$16","v":0},{"$f":"'Special One'!J$16","v":0}]
[null,1111164482,"PR242117","Корм SPECIAL ONE для шиншил, 500 г","Більше 100","Корм для гризунів",109.69,154,{"$f":"'Special One'!I$17","v":0},{"$f":"'Special One'!J$17","v":0}]
[null,1111165524,"PR242345","Палички SPECIAL ONE Горіхові для середніх папуг, 90 г","Більше 100","Ласощі для птахів",55.22,91,{"$f":"'Special One'!I$18","v":0},{"$f":"'Special One'!J$18","v":0}]
[null,1111165522,"PR242347","Палички SPECIAL ONE Квіткові для хвилястих папуг, 90 г","Більше 10","Ласощі для птахів",55.22,91,{"$f":"'Special One'!I$19","v":0},{"$f":"'Special One'!J$19","v":0}]
[null,1111165520,"PR242348","Палички SPECIAL ONE Мюслі для гризунів, 90 г","Більше 10","Ласощі для гризунів",55.22,91,{"$f":"'Special One'!I$20","v":0},{"$f":"'Special One'!J$20","v":0}]
[null,1111165521,"PR242350","Палички SPECIAL ONE Овочевий мікс для гризунів, 90 г","Більше 100","Ласощі для гризунів",55.22,91,{"$f":"'Special One'!I$21","v":0},{"$f":"'Special One'!J$21","v":0}]
[null,1111165523,"PR242346","Палички SPECIAL ONE Фруктові для хвилястих папуг, 90 г","Більше 10","Ласощі для птахів",55.22,91,{"$f":"'Special One'!I$22","v":0},{"$f":"'Special One'!J$22","v":0}]
[null,1111165519,"PR242349","Палички SPECIAL ONE Ягідні для гризунів, 90 г","Більше 100","Ласощі для гризунів",55.22,91,{"$f":"'Special One'!I$23","v":0},{"$f":"'Special One'!J$23","v":0}]
[null,1111166925,"PR242516","Пончики SPECIAL ONE Барбарис, волошка, кокос д/декорат. птахів, 60 г","Більше 100","Ласощі для птахів",58,95.42,{"$f":"'Special One'!I$24","v":0},{"$f":"'Special One'!J$24","v":0}]
[null,1111166928,"PR242519","Пончики SPECIAL ONE Волошка, календула, ромашка для гризунів, 50 г","Більше 100","Ласощі для гризунів",52.57,86,{"$f":"'Special One'!I$25","v":0},{"$f":"'Special One'!J$25","v":0}]
[null,1111166929,"PR242520","Пончики SPECIAL ONE Паприка, гарбуз, морква для гризунів, 60 г","Більше 100","Ласощі для гризунів",52.57,86,{"$f":"'Special One'!I$26","v":0},{"$f":"'Special One'!J$26","v":0}]
[null,1111166926,"PR242517","Пончики SPECIAL ONE Паприка, морква, кунжут д/декорат. птахів, 60 г","Більше 10","Ласощі для птахів",58,95.42,{"$f":"'Special One'!I$27","v":0},{"$f":"'Special One'!J$27","v":0}]
[null,1111166930,"PR242521","Пончики SPECIAL ONE Петрушка, чумиза, календула для гризунів, 50 г","Більше 100","Ласощі для гризунів",52.57,86,{"$f":"'Special One'!I$28","v":0},{"$f":"'Special One'!J$28","v":0}]
[null,1111166927,"PR242518","Пончики SPECIAL ONE Смородина, ехінацея, виноград для птахів, 60 г","Більше 100","Ласощі для птахів",58,95.42,{"$f":"'Special One'!I$29","v":0},{"$f":"'Special One'!J$29","v":0}]
[null,1111166931,"PR242522","Пончики SPECIAL ONE Цикорій, арахіс, барбарис для гризунів, 60 г","Більше 100","Ласощі для гризунів",52.57,86,{"$f":"'Special One'!I$30","v":0},{"$f":"'Special One'!J$30","v":0}]
[null,1111145637,"246898 Tetra","Active Substr. 3 л основний грунт д/аквар. з рослинами","Більше 10","Ґрунти, субстрати для акваріуму",266.54000000000002,347,{"$f":"Tetra!I$8","v":0},{"$f":"Tetra!J$8","v":0}]
[null,1700,770386,"ALGIZIT 10 таблеток проти водоростей на 200 л","Більше 10","Засоби для догляду за акваріумом, живими рослинами, його мешканцями",204.35,266,{"$f":"Tetra!I$9","v":0},{"$f":"Tetra!J$9","v":0}]
[null,1699,770416,"AlguMin 100 мл проти водоростей на 200 л","Більше 100","Засоби для догляду за акваріумом, живими рослинами, його мешканцями",123.57,161,{"$f":"Tetra!I$10","v":0},{"$f":"Tetra!J$10","v":0}]
[null,8194,198753,"AlguMin 250 мл проти водоростей на 500 л","Більше 100","Засоби для догляду за акваріумом, живими рослинами, його мешканцями",252,328,{"$f":"Tetra!I$11","v":0},{"$f":"Tetra!J$11","v":0}]
[null,1111115656,"298989/711827/157743","Aqua ALGOSTOP depot 12 таблеток проти водоростей","Менше 10","Засоби для догляду за акваріумом, живими рослинами, його мешканцями",325.5,423,{"$f":"Tetra!I$12","v":0},{"$f":"Tetra!J$12","v":0}]
[null,1111111141,144040,"Aqua Crystal Water 100 мл засіб від помутніння води","Більше 100","Засоби для догляду за акваріумом, живими рослинами, його мешканцями",163.96,213,{"$f":"Tetra!I$13","v":0},{"$f":"Tetra!J$13","v":0}]
[null,1111111140,198739,"Aqua Crystal Water 250 мл засіб від помутніння води","Немає в наявності","Засоби для догляду за акваріумом, живими рослинами, його мешканцями",378.81,492,{"$f":"Tetra!I$14","v":0},{"$f":"Tetra!J$14","v":0}]
[null,8454,770492,"Aqua Easy Balance 100мл стабілізація води на 400л","Більше 100","Засоби для догляду за акваріумом, живими рослинами, його мешканцями",134.88,175,{"$f":"Tetra!I$15","v":0},{"$f":"Tetra!J$15","v":0}]
[null,8818,139176,"Aqua Easy Balance 250мл стабілізація води на 1000л","Більше 10","Засоби для догляду за акваріумом, живими рослинами, його мешканцями",252.81,329,{"$f":"Tetra!I$16","v":0},{"$f":"Tetra!J$16","v":0}]
[null,8453,198814,"Aqua Easy Balance 500 мл стабілізація води на 2000 л","Менше 10","Засоби для догляду за акваріумом, живими рослинами, його мешканцями",407.88,530,{"$f":"Tetra!I$17","v":0},{"$f":"Tetra!J$17","v":0}]
[null,1111114163,"148642 /148628","Aqua Nitrat Min 100 мл рідина д/зменшення нітратів","Більше 10","Засоби для догляду за акваріумом, живими рослинами, його мешканцями",113.88,148,{"$f":"Tetra!I$18","v":0},{"$f":"Tetra!J$18","v":0}]
[null,1111112965,148659,"Aqua Nitrat Min 250 мл рідина д/зменшення нітратів","Більше 10","Засоби для догляду за акваріумом, живими рослинами, його мешканцями",242.05,314.66000000000003,{"$f":"Tetra!I$19","v":0},{"$f":"Tetra!J$19","v":0}]
[null,5046,762732,"AQUA SAFE 100 мл підготовка води на 200 л","Більше 100","Засоби для догляду за акваріумом, живими рослинами, його мешканцями",134.07,174,{"$f":"Tetra!I$20","v":0},{"$f":"Tetra!J$20","v":0}]
[null,4135,762749,"AQUA SAFE 250 мл підготовка води на 500 л","Немає в наявності","Засоби для догляду за акваріумом, живими рослинами, його мешканцями",252.81,329,{"$f":"Tetra!I$21","v":0},{"$f":"Tetra!J$21","v":0}]
[null,8824,704183,"AQUA SAFE 5 л підготовка води на 10000 л","Більше 10","Засоби для догляду за акваріумом, живими рослинами, його мешканцями",1987.73,2584,{"$f":"Tetra!I$22","v":0},{"$f":"Tetra!J$22","v":0}]
[null,1111123360,198852,"AQUA SAFE 50 мл підготовка води на 100 л","Більше 100","Засоби для догляду за акваріумом, живими рослинами, його мешканцями",88.04,114,{"$f":"Tetra!I$23","v":0},{"$f":"Tetra!J$23","v":0}]
[null,8189,198876,"AQUA SAFE 500 мл підготовка води на 1000 л","Більше 10","Засоби для догляду за акваріумом, живими рослинами, його мешканцями",409.5,532,{"$f":"Tetra!I$24","v":0},{"$f":"Tetra!J$24","v":0}]
[null,12470,161313,"AQUA SAFE START 100 мл швидкий запуск акваріуму","Більше 10","Засоби для догляду за акваріумом, живими рослинами, його мешканцями",323.07,420,{"$f":"Tetra!I$25","v":0},{"$f":"Tetra!J$25","v":0}]
[null,1111133142,"175655 /178694","AQUA SAFE START 250 мл швидкий запуск акваріуму","Менше 10","Засоби для догляду за акваріумом, живими рослинами, його мешканцями",693.81,902,{"$f":"Tetra!I$26","v":0},{"$f":"Tetra!J$26","v":0}]
[null,12440,161184,"AQUA SAFE START 50 мл швидкий запуск акваріуму","Більше 10","Засоби для догляду за акваріумом, живими рослинами, його мешканцями",184.96,240,{"$f":"Tetra!I$27","v":0},{"$f":"Tetra!J$27","v":0}]
[null,8819,"745209*****","Aqua Toru Min 250 мл екстракт гумінових кислот на 500 л","Менше 10","Засоби для догляду за акваріумом, живими рослинами, його мешканцями",385.07,500.59,{"$f":"Tetra!I$28","v":0},{"$f":"Tetra!J$28","v":0}]
[null,8190,139237,"Aqua Vital 100 мл вітамінізований кондиціонер 200 л","Більше 10","Засоби для догляду за акваріумом, живими рослинами, його мешканцями",180.12,234,{"$f":"Tetra!I$29","v":0},{"$f":"Tetra!J$29","v":0}]
[null,12585,198913,"BETTA 100 мл пластівці для півників","Більше 10","Корм сухий для риб",158.31,206,{"$f":"Tetra!I$30","v":0},{"$f":"Tetra!J$30","v":0}]
[null,1111133781,193031,"Betta AquaSafe 100 мл підготовка води для півників","Більше 10","Засоби для догляду за акваріумом, живими рослинами, його мешканцями",117.93,153,{"$f":"Tetra!I$31","v":0},{"$f":"Tetra!J$31","v":0}]
[null,1111126316,193680,"BETTA Gran. 5 г гранули для півників","Більше 100","Корм сухий для риб",37.96,49,{"$f":"Tetra!I$32","v":0},{"$f":"Tetra!J$32","v":0}]
[null,1111144100,259317,"BETTA Larva ST 5 г палички д/півник., лабіринт. риб","Більше 100","Корм сухий для риб",67.040000000000006,87,{"$f":"Tetra!I$33","v":0},{"$f":"Tetra!J$33","v":0}]
[null,1111133776,201408,"CICHLID Algae MINI 10л/3,9кг кульки для цихлід","Більше 10","Корм сухий для риб",3841.61,5186,{"$f":"Tetra!I$34","v":0},{"$f":"Tetra!J$34","v":0}]
[null,5464,201392,"CICHLID Colour 10л/3,6кг підсилювач кольору д/цихлід","Більше 10","Корм сухий для риб",3841.61,5186,{"$f":"Tetra!I$35","v":0},{"$f":"Tetra!J$35","v":0}]
[null,1111132078,197343,"CICHLID Colour 500 мл підсилювач кольору д/цихлід","Більше 10","Корм сухий для риб",540.35,702,{"$f":"Tetra!I$36","v":0},{"$f":"Tetra!J$36","v":0}]
[null,1111134741,201385,"CICHLID Colour MINI 10 л підсилювач кольору д/цихлід","Менше 10","Корм сухий для риб",3841.61,5186,{"$f":"Tetra!I$37","v":0},{"$f":"Tetra!J$37","v":0}]
[null,1111112723,146594,"CICHLID Gran. 500 мл гранули для цихлід","Менше 10","Корм сухий для риб",556.5,723,{"$f":"Tetra!I$38","v":0},{"$f":"Tetra!J$38","v":0}]
[null,8313,198975,"CICHLID ST. 1 л палички для цихлід","Менше 10","Корм сухий для риб",726.12,944,{"$f":"Tetra!I$39","v":0},{"$f":"Tetra!J$39","v":0}]
[null,8446,157170,"CICHLID ST. 250 мл палички для цихлід","Менше 10","Корм сухий для риб",225.35,293,{"$f":"Tetra!I$40","v":0},{"$f":"Tetra!J$40","v":0}]
[null,5973,767409,"CICHLID ST. 500 мл палички для цихлід","Менше 10","Корм сухий для риб",414.35,539,{"$f":"Tetra!I$41","v":0},{"$f":"Tetra!J$41","v":0}]
[null,1111115270,153691,"CICHLID ST.10л/2,9кг палички для цихлід","Більше 10","Корм сухий для риб",2512.5300000000002,3392,{"$f":"Tetra!I$42","v":0},{"$f":"Tetra!J$42","v":0}]
[null,1111112215,201415,"CICHLID XL 10л/1,9кг великі пластівці для цихлід","Менше 10","Корм сухий для риб",3066.32,4140,{"$f":"Tetra!I$43","v":0},{"$f":"Tetra!J$43","v":0}]
[null,11718,126176,"DISСUS 10л/3кг гранули для дискусів","Більше 10","Корм сухий для риб",3236.55,4369,{"$f":"Tetra!I$44","v":0},{"$f":"Tetra!J$44","v":0}]
[null,9620,"750050*****","Gammarus 1 л для черепах","Менше 10","Корм сухий для черепах і рептилій",464.09,603.30999999999995,{"$f":"Tetra!I$45","v":0},{"$f":"Tetra!J$45","v":0}]
[null,10734,"740365/280267*****","Gammarus 250 мл для черепах","Менше 10","Корм сухий для черепах і рептилій",100.52,130.66999999999999,{"$f":"Tetra!I$46","v":0},{"$f":"Tetra!J$46","v":0}]
[null,1111128642,189966,"Gammarus MIX 250 мл для черепах","Менше 10","Корм сухий для черепах і рептилій",165.57,215,{"$f":"Tetra!I$47","v":0},{"$f":"Tetra!J$47","v":0}]
[null,9622,766389,"GOLD FISH 10/12гр пластівці для золотих риб","Більше 100","Корм сухий для риб",33.119999999999997,43,{"$f":"Tetra!I$48","v":0},{"$f":"Tetra!J$48","v":0}]
[null,8956,140127,"GOLD FISH 250 мл пластівці для золотих риб","Більше 10","Корм сухий для риб",169.62,221,{"$f":"Tetra!I$49","v":0},{"$f":"Tetra!J$49","v":0}]
[null,1111126506,"167612*****","Gold fish Granules 100 мл гранули для золотих риб","Більше 10","Корм сухий для риб",90.02,117.02,{"$f":"Tetra!I$50","v":0},{"$f":"Tetra!J$50","v":0}]
[null,1111126507,739901,"Gold fish Granules 250 мл гранули для золотих риб","Більше 10","Корм сухий для риб",201.12,261,{"$f":"Tetra!I$51","v":0},{"$f":"Tetra!J$51","v":0}]
[null,1111129886,193741,"Guppy 12 г для гупі","Більше 100","Корм сухий для риб",42,55,{"$f":"Tetra!I$52","v":0},{"$f":"Tetra!J$52","v":0}]
[null,1111143091,246201,"Initial Sticks 250 мл добриво в гранулах","Менше 10","Засоби для догляду за акваріумом, живими рослинами, його мешканцями",228.42,297,{"$f":"Tetra!I$53","v":0},{"$f":"Tetra!J$53","v":0}]
[null,4899,762725,"MIN 1 л пластівці основний корм","Менше 10","Корм сухий для риб",654.23,851,{"$f":"Tetra!I$54","v":0},{"$f":"Tetra!J$54","v":0}]
[null,8319,"769939СПЕЦЦЕНА","MIN 10 л/2,1 кг пластівці основний корм","Більше 10","Корм сухий для риб",1920.32,2592,{"$f":"Tetra!I$55","v":0},{"$f":"Tetra!J$55","v":0}]
[null,4134,762701,"MIN 100 мл пластівці основний корм","Більше 10","Корм сухий для риб",96.93,126,{"$f":"Tetra!I$56","v":0},{"$f":"Tetra!J$56","v":0}]
[null,12147,766402,"MIN 12 г пластівці основний корм","Більше 100","Корм сухий для риб",37.96,49,{"$f":"Tetra!I$57","v":0},{"$f":"Tetra!J$57","v":0}]
[null,5102,762718,"MIN 250 мл пластівці основний корм","Більше 10","Корм сухий для риб",214.04,278,{"$f":"Tetra!I$58","v":0},{"$f":"Tetra!J$58","v":0}]
[null,5744,199156,"MIN BABY 66 мл корм для молодих риб до 1 см в довжину","Менше 10","Корм сухий для риб",155.03,201.54,{"$f":"Tetra!I$59","v":0},{"$f":"Tetra!J$59","v":0}]
[null,312015,139497,"MIN Crisps 10 л/2 кг чіпси основний корм","Більше 100","Корм сухий для риб",2895.05,3908,{"$f":"Tetra!I$60","v":0},{"$f":"Tetra!J$60","v":0}]
[null,1111114138,149304,"MIN Crisps 12 г чіпси основний корм","Більше 100","Корм сухий для риб",50.07,65,{"$f":"Tetra!I$61","v":0},{"$f":"Tetra!J$61","v":0}]
[null,13545,139657,"MIN Crisps 250 мл чіпси основний корм","Більше 10","Корм сухий для риб",247.96,322,{"$f":"Tetra!I$62","v":0},{"$f":"Tetra!J$62","v":0}]
[null,1111116457,201361,"MIN Gran. 10 л/ 4,2 кг гранули основний корм","Більше 10","Корм сухий для риб",3414.99,4610,{"$f":"Tetra!I$63","v":0},{"$f":"Tetra!J$63","v":0}]
[null,11812,134492,"MIN Gran. 15 г гранули основний корм","Більше 100","Корм сухий для риб",46.04,60,{"$f":"Tetra!I$64","v":0},{"$f":"Tetra!J$64","v":0}]
[null,11121,139749,"MIN Gran. 250 мл гранули основний корм","Більше 10","Корм сухий для риб",249.57,324,{"$f":"Tetra!I$65","v":0},{"$f":"Tetra!J$65","v":0}]
[null,1111118870,198999,"MIN Holiday 30 г гелевий блок для 14 днів харчування","Більше 10","Корм сухий для риб",167.19,217,{"$f":"Tetra!I$66","v":0},{"$f":"Tetra!J$66","v":0}]
[null,311890,199057,"MIN Mini Gran. 100 мл гранули для дрібних риб","Більше 10","Корм сухий для риб",126.81,165,{"$f":"Tetra!I$67","v":0},{"$f":"Tetra!J$67","v":0}]
[null,8963,767423,"MIN WEEKEND ST харчовий блок на 12 днів","Більше 10","Корм сухий для риб",193.85,252,{"$f":"Tetra!I$68","v":0},{"$f":"Tetra!J$68","v":0}]
[null,8331,"769946СПЕЦЦЕНА","MIN XL FLAKES 10 л/ 2,1 кг великі пластівці","Більше 10","Корм сухий для риб",1920.32,2592,{"$f":"Tetra!I$69","v":0},{"$f":"Tetra!J$69","v":0}]
[null,11906,134430,"PHYLL 12 г пластівці рослинні","Більше 10","Корм сухий для риб",42.81,56,{"$f":"Tetra!I$70","v":0},{"$f":"Tetra!J$70","v":0}]
[null,1111113052,"297494/146839","Plant PlantaStar 12 таблеток добриво для рослин","Менше 10","Засоби для догляду за акваріумом, живими рослинами, його мешканцями",299.64999999999998,390,{"$f":"Tetra!I$71","v":0},{"$f":"Tetra!J$71","v":0}]
[null,12845,"297524/245297","Plant Substr. 2,5кг концентрат грунту з ефектом добрива","Менше 10","Ґрунти, субстрати для акваріуму",407.88,530,{"$f":"Tetra!I$72","v":0},{"$f":"Tetra!J$72","v":0}]
[null,12846,"136397/245303*****","Plant Substr. 5 кг концентрат грунту з ефектом добрива","Менше 10","Ґрунти, субстрати для акваріуму",704.13,915.37,{"$f":"Tetra!I$73","v":0},{"$f":"Tetra!J$73","v":0}]
[null,4465,139268,"PLANTAMIN 100 мл добрива з залізом на 200 л","Більше 10","Засоби для догляду за акваріумом, живими рослинами, його мешканцями",124.38,162,{"$f":"Tetra!I$74","v":0},{"$f":"Tetra!J$74","v":0}]
[null,7400,"297371/139299","PLANTAMIN 250 мл добрива з залізом на 500 л","Більше 10","Засоби для догляду за акваріумом, живими рослинами, його мешканцями",267.35000000000002,348,{"$f":"Tetra!I$75","v":0},{"$f":"Tetra!J$75","v":0}]
[null,1111137353,"297401/240544","PlantaPro Micro 250 мл добриво для рослин","Менше 10","Засоби для догляду за акваріумом, живими рослинами, його мешканцями",266.54000000000002,347,{"$f":"Tetra!I$76","v":0},{"$f":"Tetra!J$76","v":0}]
[null,1111131087,193840,"PLECO Spirulina Wafers 3,6L/1,75kg д/донних риб","Менше 10","Корм сухий для риб",2624.19,3411,{"$f":"Tetra!I$77","v":0},{"$f":"Tetra!J$77","v":0}]
[null,1111123361,199118,"PLECO Wafer 250 мл основний корм для донних риб","Менше 10","Корм сухий для риб",319.04000000000002,415,{"$f":"Tetra!I$78","v":0},{"$f":"Tetra!J$78","v":0}]
[null,1111115268,"154469 СПЕЦЦЕНА","POND AlgoFin 1л боротьба з ниткоподібн. водорост.","Менше 10","Засоби для догляду за ставком, рослинами та його мешканцями",902.46,1173,{"$f":"Tetra!I$79","v":0},{"$f":"Tetra!J$79","v":0}]
[null,8813,"143784 СПЕЦЦЕНА","POND AlgoFin 500мл боротьба з ниткоподібн. водорост.","Більше 10","Засоби для догляду за ставком, рослинами та його мешканцями",513.92999999999995,668,{"$f":"Tetra!I$80","v":0},{"$f":"Tetra!J$80","v":0}]
[null,13249,"100039 СПЕЦЦЕНА","POND AlgoRem 250мл боротьба з каламутною зеленню","Більше 10","Засоби для догляду за ставком, рослинами та його мешканцями",303.04000000000002,394,{"$f":"Tetra!I$81","v":0},{"$f":"Tetra!J$81","v":0}]
[null,8816,"753334 СПЕЦЦЕНА","POND AlgoRem 3л боротьба з каламутною зеленню на 60000л","Немає в наявності","Засоби для догляду за ставком, рослинами та його мешканцями",1991.12,2588,{"$f":"Tetra!I$82","v":0},{"$f":"Tetra!J$82","v":0}]
[null,8821,"143715 СПЕЦЦЕНА","POND AlgoRem 500мл боротьба з каламутною зеленню","Більше 10","Засоби для догляду за ставком, рослинами та його мешканцями",559.53,727,{"$f":"Tetra!I$83","v":0},{"$f":"Tetra!J$83","v":0}]
[null,1111112939,"760851 /737716СПЕЦЦЕ_ord","POND AquaSafe 250мл підготовка води","Більше 10","Засоби для догляду за ставком, рослинами та його мешканцями",237.49,309,{"$f":"Tetra!I$84","v":0},{"$f":"Tetra!J$84","v":0}]
[null,8822,"735460 СПЕЦЦЕНА","POND AquaSafe 500мл підготовка води на 10000л","Більше 10","Засоби для догляду за ставком, рослинами та його мешканцями",416.08,541,{"$f":"Tetra!I$85","v":0},{"$f":"Tetra!J$85","v":0}]
[null,1111128570,"187528 СПЕЦЦЕНА","POND COLOUR ST. 10л/1,9кг гран. д/покращен. забарвлен.","Немає в наявності","Корм сухий для ставкових риб",738.62,1071,{"$f":"Tetra!I$86","v":0},{"$f":"Tetra!J$86","v":0}]
[null,8323,"124394 СПЕЦЦЕНА","POND COLOUR ST. 1л плав. гранули д/покращен. забарвлен.","Менше 10","Корм сухий для ставкових риб",123.83,180,{"$f":"Tetra!I$87","v":0},{"$f":"Tetra!J$87","v":0}]
[null,1111123417,"180697 СПЕЦЦЕНА","POND Filter Zym 10 капсул фільтруючі бактерії","Менше 10","Засоби для догляду за ставком, рослинами та його мешканцями",240.34,312,{"$f":"Tetra!I$88","v":0},{"$f":"Tetra!J$88","v":0}]
[null,8330,"758629  СПЕЦЦЕНА","POND KOI ST. 10л/1,5кг плаваючі гранули для коропів Коі","Більше 10","Корм сухий для ставкових риб",590.33000000000004,797,{"$f":"Tetra!I$89","v":0},{"$f":"Tetra!J$89","v":0}]
[null,12837,"737730 СПЕЦЦЕНА","POND MediFin 250мл універсал. лікар. препарат на 5000л","Немає в наявності","Засоби для догляду за ставком, рослинами та його мешканцями",301.14,391,{"$f":"Tetra!I$90","v":0},{"$f":"Tetra!J$90","v":0}]
[null,1111127177,"187825СПЕЦЦЕНА","POND SeasonStart 250мл оптимал. початок нового сезону","Більше 10","Засоби для догляду за ставком, рослинами та його мешканцями",268.83999999999997,349,{"$f":"Tetra!I$91","v":0},{"$f":"Tetra!J$91","v":0}]
[null,1111146240,"256705СПЕЦЦЕНА","POND Sediment Minus 250мл розкладання біозабруднень","Менше 10","Засоби для догляду за ставком, рослинами та його мешканцями",269.79000000000002,351,{"$f":"Tetra!I$92","v":0},{"$f":"Tetra!J$92","v":0}]
[null,8324,"140189 СПЕЦЦЕНА","POND ST. 1 л плаваючі гранули основний корм","Менше 10","Корм сухий для ставкових риб",86.17,125,{"$f":"Tetra!I$93","v":0},{"$f":"Tetra!J$93","v":0}]
[null,1111123413,"180437СПЕЦЦЕНА","POND Water Balance 250мл баланс і оздоровлення води","Менше 10","Засоби для догляду за ставком, рослинами та його мешканцями",238.44,311,{"$f":"Tetra!I$94","v":0},{"$f":"Tetra!J$94","v":0}]
[null,13560,138827,"PRO Algae (Vegetable) 10л/1,9кг преміум-корм з овочами","Більше 10","Корм сухий для риб",3276.44,4423,{"$f":"Tetra!I$95","v":0},{"$f":"Tetra!J$95","v":0}]
[null,1111114141,149397,"PRO Algae (Vegetable) 12 г преміум-корм з овочами","Більше 10","Корм сухий для риб",52.5,68,{"$f":"Tetra!I$96","v":0},{"$f":"Tetra!J$96","v":0}]
[null,13564,140516,"PRO Colour 10л/2,1кг преміум-корм д/покращен. забарвлен","Більше 10","Корм сухий для риб",3275.52,4422,{"$f":"Tetra!I$97","v":0},{"$f":"Tetra!J$97","v":0}]
[null,1111114140,149366,"PRO Colour 12 г преміум-корм д/покращен. забарвлення","Більше 100","Корм сухий для риб",52.5,68,{"$f":"Tetra!I$98","v":0},{"$f":"Tetra!J$98","v":0}]
[null,311889,140677,"PRO Colour 250 мл преміум-корм д/покращен. забарвлення","Менше 10","Корм сухий для риб",265.73,345,{"$f":"Tetra!I$99","v":0},{"$f":"Tetra!J$99","v":0}]
[null,13559,141582,"PRO Energy Crisps 10л/2,1кг енергетичний преміум-корм","Більше 10","Корм сухий для риб",3275.52,4422,{"$f":"Tetra!I$100","v":0},{"$f":"Tetra!J$100","v":0}]
[null,13541,141742,"PRO Energy Crisps 250 мл енергетичний преміум-корм","Більше 10","Корм сухий для риб",265.73,345,{"$f":"Tetra!I$101","v":0},{"$f":"Tetra!J$101","v":0}]
[null,12571,199033,"Red Parrot 1 л корм для червоних папуг","Менше 10","Корм сухий для риб",690.57,898,{"$f":"Tetra!I$102","v":0},{"$f":"Tetra!J$102","v":0}]
[null,12565,780255,"ReptoCal 100 мл порошок-корм для рептилій","Більше 10","Корм сухий для черепах і рептилій",250.38,326,{"$f":"Tetra!I$103","v":0},{"$f":"Tetra!J$103","v":0}]
[null,1111131127,194816,"ReptoFrog 100 мл корм для жаб, тритонів","Менше 10","Корм сухий для черепах і рептилій",185.03,240.55,{"$f":"Tetra!I$104","v":0},{"$f":"Tetra!J$104","v":0}]
[null,8894,204270,"ReptoMin 1 л гранули для черепах","Менше 10","Корм сухий для черепах і рептилій",549.23,714,{"$f":"Tetra!I$105","v":0},{"$f":"Tetra!J$105","v":0}]
[null,8314,139862,"ReptoMin 100 мл корм для черепах","Більше 10","Корм сухий для черепах і рептилій",86.43,112,{"$f":"Tetra!I$106","v":0},{"$f":"Tetra!J$106","v":0}]
[null,1111133734,201354,"ReptoMin 10л/2,5кг гранули для черепах","Менше 10","Корм сухий для черепах і рептилій",2850.35,3705,{"$f":"Tetra!I$107","v":0},{"$f":"Tetra!J$107","v":0}]
[null,4056,761346,"ReptoMin 250 мл гранули для черепах","Менше 10","Корм сухий для черепах і рептилій",176.88,230,{"$f":"Tetra!I$108","v":0},{"$f":"Tetra!J$108","v":0}]
[null,1111131088,753518,"ReptoMin 500 мл гранули для черепах","Менше 10","Корм сухий для черепах і рептилій",319.04000000000002,415,{"$f":"Tetra!I$109","v":0},{"$f":"Tetra!J$109","v":0}]
[null,7786,140158,"ReptoMin Baby 100 мл корм для маленьких черепах","Менше 10","Корм сухий для черепах і рептилій",86.43,112,{"$f":"Tetra!I$110","v":0},{"$f":"Tetra!J$110","v":0}]
[null,1111111563,133068,"ReptoMin Energy 100 мл корм для черепах","Більше 10","Корм сухий для черепах і рептилій",109.04,142,{"$f":"Tetra!I$111","v":0},{"$f":"Tetra!J$111","v":0}]
[null,1111129885,178649,"ReptoMin Energy 250 мл корм для черепах","Більше 10","Корм сухий для черепах і рептилій",242.31,315,{"$f":"Tetra!I$112","v":0},{"$f":"Tetra!J$112","v":0}]
[null,1111145678,258853,"ReptoMin Junior 100 мл корм для молодих черепах","Більше 10","Корм сухий для черепах і рептилій",86.43,112,{"$f":"Tetra!I$113","v":0},{"$f":"Tetra!J$113","v":0}]
[null,1111123466,177727,"ReptoSafe 100 мл підготовка води для черепах","Більше 10","Засоби для догляду за тераріумом і його мешканцями",146.19,190,{"$f":"Tetra!I$114","v":0},{"$f":"Tetra!J$114","v":0}]
[null,8332,769922,"RUBIN 10л/2,05кг пластівці для покращення забарвлення","Більше 100","Корм сухий для риб",2727.89,3683,{"$f":"Tetra!I$115","v":0},{"$f":"Tetra!J$115","v":0}]
[null,12146,766396,"RUBIN 12 г пластівці для покращення забарвлення","Більше 100","Корм сухий для риб",42.81,56,{"$f":"Tetra!I$116","v":0},{"$f":"Tetra!J$116","v":0}]
[null,1695,767362,"RUBIN 250 мл пластівці для покращення забарвлення","Більше 10","Корм сухий для риб",254.43,331,{"$f":"Tetra!I$117","v":0},{"$f":"Tetra!J$117","v":0}]
[null,1111131114,193765,"RUBIN Gran. 15 г гранули для покращення забарвлення","Більше 100","Корм сухий для риб",52.5,68,{"$f":"Tetra!I$118","v":0},{"$f":"Tetra!J$118","v":0}]
[null,11119,139800,"RUBIN Gran. 250 мл гранули для покращення забарвлення","Більше 10","Корм сухий для риб",304.5,396,{"$f":"Tetra!I$119","v":0},{"$f":"Tetra!J$119","v":0}]
[null,1111122049,175488,"Test 6в1 (pH, GH, KH, нітрити, нітрати, хлор)","Більше 10","Засоби для догляду за акваріумом, живими рослинами, його мешканцями",549.22,714,{"$f":"Tetra!I$120","v":0},{"$f":"Tetra!J$120","v":0}]
[null,1111137789,240100,"Tetra CO2 Plus 250 мл","Менше 10","Засоби для догляду за акваріумом, живими рослинами, його мешканцями",235.85,307,{"$f":"Tetra!I$121","v":0},{"$f":"Tetra!J$121","v":0}]
[null,1111122048,173798,"Tetra Marine Sea Salt 20 кг морська сіль","Менше 10","Засоби для догляду за акваріумом, живими рослинами, його мешканцями",2390.61,3705,{"$f":"Tetra!I$122","v":0},{"$f":"Tetra!J$122","v":0}]
[null,1111152078,279230,"Tetra Medica ContraIck 20 мл боротьба з хворобами шкіри","Більше 10","Засоби для догляду за акваріумом, живими рослинами, його мешканцями",306.12,398,{"$f":"Tetra!I$123","v":0},{"$f":"Tetra!J$123","v":0}]
[null,1111152079,"279292/279200","Tetra Medica GeneralTonic 20мл від бактерій і паразитів","Менше 10","Засоби для догляду за акваріумом, живими рослинами, його мешканцями",258.45999999999998,336,{"$f":"Tetra!I$124","v":0},{"$f":"Tetra!J$124","v":0}]
[null,1111157245,277557,"Tetra Micro Crisps, основн. корм мікрочіпси 100мл","Більше 10","Корм сухий для риб",165.03,214.54,{"$f":"Tetra!I$125","v":0},{"$f":"Tetra!J$125","v":0}]
[null,1111157244,756861,"Tetra Micro Granules, основн. корм мікрогранули 100мл","Більше 10","Корм сухий для риб",165.57,215,{"$f":"Tetra!I$126","v":0},{"$f":"Tetra!J$126","v":0}]
[null,1111157246,277496,"Tetra Micro Pellets, основн. корм мікропелети 100мл","Більше 10","Корм сухий для риб",165.57,215,{"$f":"Tetra!I$127","v":0},{"$f":"Tetra!J$127","v":0}]
[null,1111157247,277526,"Tetra Micro Sticks, основн. корм мікропалички 100мл","Більше 10","Корм сухий для риб",165.03,214.54,{"$f":"Tetra!I$128","v":0},{"$f":"Tetra!J$128","v":0}]
[null,1111149033,273269,"Tetra PhosphateMinus 100 мл","Менше 10","Засоби для догляду за акваріумом, живими рослинами, його мешканцями",117.12,152,{"$f":"Tetra!I$129","v":0},{"$f":"Tetra!J$129","v":0}]
[null,1111126353,187351,"Tetra POND APК 400 комплект для аерації","Менше 10","Устаткування для ставка, комплектуючі",2663.69,3597,{"$f":"Tetra!I$130","v":0},{"$f":"Tetra!J$130","v":0}]
[null,13571,724457,"Tetra Сачок для риб 10 см","Більше 10","Аксесуари для догляду за акваріумом",39.01,64.36,{"$f":"Tetra!I$131","v":0},{"$f":"Tetra!J$131","v":0}]
[null,13572,724464,"Tetra Сачок для риб 12 см","Більше 10","Аксесуари для догляду за акваріумом",49.38,84,{"$f":"Tetra!I$132","v":0},{"$f":"Tetra!J$132","v":0}]
[null,13573,724471,"Tetra Сачок для риб 15 см","Менше 10","Аксесуари для догляду за акваріумом",54.01,89.12,{"$f":"Tetra!I$133","v":0},{"$f":"Tetra!J$133","v":0}]
[null,13570,724440,"Tetra Сачок для риб 8 см","Більше 10","Аксесуари для догляду за акваріумом",37.200000000000003,63,{"$f":"Tetra!I$134","v":0},{"$f":"Tetra!J$134","v":0}]
[null,1111128326,189911,"Wafer Mini Mix 100 мл для донних риб","Менше 10","Корм сухий для риб",227.77,296,{"$f":"Tetra!I$135","v":0},{"$f":"Tetra!J$135","v":0}]
[null,11435,140066,"Wafer Mix 100 мл для донних риб","Менше 10","Корм сухий для риб",191.43,249,{"$f":"Tetra!I$136","v":0},{"$f":"Tetra!J$136","v":0}]
[null,11813,134461,"Wafer Mix 12/15 г для донних риб","Більше 100","Корм сухий для риб",54.93,71,{"$f":"Tetra!I$137","v":0},{"$f":"Tetra!J$137","v":0}]
[null,12586,198890,"Wafer Mix 250 мл для донних риб","Більше 10","Корм сухий для риб",388.5,505,{"$f":"Tetra!I$138","v":0},{"$f":"Tetra!J$138","v":0}]
[null,1111131091,193826,"Wafer Mix 3,6л/1,85кг для донних риб","Більше 100","Корм сухий для риб",2268.7800000000002,3063,{"$f":"Tetra!I$139","v":0},{"$f":"Tetra!J$139","v":0}]
[null,1111172931,304796,"Адаптер для шланга Tetra EX 1500","Менше 10","Запчастини для акваріумного обладнання",760.84,1141,{"$f":"Tetra!I$140","v":0},{"$f":"Tetra!J$140","v":0}]
[null,1111113821,146051,"Біогубка у фільтр Tetra EX 1200/1500","Менше 10","Обладнання для акваріума, комплектуючі",276.11,373,{"$f":"Tetra!I$141","v":0},{"$f":"Tetra!J$141","v":0}]
[null,1111117018,151598,"Вклад. д/філ. Easy Crystal 250/300 з активов. вугілля","Більше 10","Обладнання для акваріума, комплектуючі",318.11,429,{"$f":"Tetra!I$142","v":0},{"$f":"Tetra!J$142","v":0}]
[null,1111114648,"211841*****","Вклад. д/філ. з активов. вугіл. д/аквар. Cascade Globe","Більше 10","Обладнання для акваріума, комплектуючі",243.2,331,{"$f":"Tetra!I$143","v":0},{"$f":"Tetra!J$143","v":0}]
[null,1111113054,"134669*****","Вклад. у фільтр Tetratec Aktivkohle CF800/1000 plus","Більше 10","Обладнання для акваріума, комплектуючі",554.55999999999995,749,{"$f":"Tetra!I$144","v":0},{"$f":"Tetra!J$144","v":0}]
[null,7781,"607682*****","Вкладиш в фільтр Tetratec 400/600 губка","Менше 10","Обладнання для акваріума, комплектуючі",294.77999999999997,398,{"$f":"Tetra!I$145","v":0},{"$f":"Tetra!J$145","v":0}]
[null,7782,"607699*****","Вкладиш в фільтр Tetratec 800/1000 губка","Менше 10","Обладнання для акваріума, комплектуючі",336.78,455,{"$f":"Tetra!I$146","v":0},{"$f":"Tetra!J$146","v":0}]
[null,1111113822,146068,"Волокнистий вкладиш FF у фільтр Tetra EX 1200/1500","Менше 10","Обладнання для акваріума, комплектуючі",191.51,259,{"$f":"Tetra!I$147","v":0},{"$f":"Tetra!J$147","v":0}]
[null,1111113820,145597,"Волокнистий вкладиш FF у фільтр Tetra EX 600-1000","Менше 10","Обладнання для акваріума, комплектуючі",123.64,168,{"$f":"Tetra!I$148","v":0},{"$f":"Tetra!J$148","v":0}]
[null,1111113823,145603,"Вугільний наповнювач у фільтр Tetra EX 600-1500","Менше 10","Обладнання для акваріума, комплектуючі",291.67,394,{"$f":"Tetra!I$149","v":0},{"$f":"Tetra!J$149","v":0}]
[null,1111138159,"240711*****","Головка для фільтра Tetra ЕX 1200 plus","Менше 10","Запчастини для акваріумного обладнання",4048.34,6073,{"$f":"Tetra!I$150","v":0},{"$f":"Tetra!J$150","v":0}]
[null,1111138157,"240650_ord","Головка для фільтра Tetra ЕX 600 plus","Менше 10","Запчастини для акваріумного обладнання",994.74,1918.43,{"$f":"Tetra!I$151","v":0},{"$f":"Tetra!J$151","v":0}]
[null,1111180013,"313811/313842","Засіб Tetra Aqua Biocoryn для розкладання органіки 100 мл.","Більше 10","Засоби для догляду за акваріумом, живими рослинами, його мешканцями",180.42,235,{"$f":"Tetra!I$152","v":0},{"$f":"Tetra!J$152","v":0}]
[null,1111161902,247031,"Засіб Tetra для підтримки біологічного середовища FilterActive 100мл н","Менше 10","Засоби для догляду за акваріумом, живими рослинами, його мешканцями",222.12,289,{"$f":"Tetra!I$153","v":0},{"$f":"Tetra!J$153","v":0}]
[null,8921,608085,"Зворотній клапан Tetratec CV4","Більше 10","Аксесуари для догляду за акваріумом",106.2,181,{"$f":"Tetra!I$154","v":0},{"$f":"Tetra!J$154","v":0}]
[null,1111130297,179172,"Картридж з губками для фільтра Tetra IN 300","Менше 10","Обладнання для акваріума, комплектуючі",260,299,{"$f":"Tetra!I$155","v":0},{"$f":"Tetra!J$155","v":0}]
[null,1111113807,145573,"Керамічні кільця у фільтр Tetra EX","Менше 10","Обладнання для акваріума, комплектуючі",232.55,314,{"$f":"Tetra!I$156","v":0},{"$f":"Tetra!J$156","v":0}]
[null,1111138163,"707980 /240735СПЕЦЦ*****","Кільце ущільнююче для фільтра Tetra ЕX 1200 plus","Більше 10","Запчастини для акваріумного обладнання",189.34,258,{"$f":"Tetra!I$157","v":0},{"$f":"Tetra!J$157","v":0}]
[null,1111130298,"179189*****","Комплект запчастин (кришка+регулятор) для фільтра Tetratec IN 300 plus","Менше 10","Запчастини для акваріумного обладнання",482.3,723,{"$f":"Tetra!I$158","v":0},{"$f":"Tetra!J$158","v":0}]
[null,1111112413,143203,"Компресор Tetratec APS 400","Немає в наявності","Обладнання для акваріума, комплектуючі",1679.28,2435,{"$f":"Tetra!I$159","v":0},{"$f":"Tetra!J$159","v":0}]
[null,1111172056,"242494СПЕЦЦЕНА","Корм Tetra  для ставкових риб Pond Sticks  10л+20%","Більше 10","Корм сухий для ставкових риб",495.56,669,{"$f":"Tetra!I$160","v":0},{"$f":"Tetra!J$160","v":0}]
[null,1111182160,"267763СПЕЦЦЕНА","Корм Tetra  для ставкових риб Pond Sticks  4л+25%","Більше 100","Корм сухий для ставкових риб",252,340,{"$f":"Tetra!I$161","v":0},{"$f":"Tetra!J$161","v":0}]
[null,1111131126,"705993 /193901***","Корм Tetra для рептилій РептоДеліка сушені коники 250мл","Менше 10","Корм сухий для черепах і рептилій",296.52999999999997,415,{"$f":"Tetra!I$162","v":0},{"$f":"Tetra!J$162","v":0}]
[null,1111162336,"284746*****","Корм Tetra пластівці для всіх видів травоїдних декоративних риб Тетра","Менше 10","Корм сухий для риб",2601.15,3512,{"$f":"Tetra!I$163","v":0},{"$f":"Tetra!J$163","v":0}]
[null,1111182161,"277618_ord","Корм для риб Tetra Micro Menu 100мл","Більше 10","Корм сухий для риб",208.48,271,{"$f":"Tetra!I$164","v":0},{"$f":"Tetra!J$164","v":0}]
[null,1111121686,"167278*****","Краник для фільтра Tetratec ЕX 1200","Менше 10","Запчастини для акваріумного обладнання",641.80999999999995,866,{"$f":"Tetra!I$165","v":0},{"$f":"Tetra!J$165","v":0}]
[null,1111121685,"167261*****","Краник для фільтра Tetratec ЕX 600/700","Менше 10","Запчастини для акваріумного обладнання",556.24,751,{"$f":"Tetra!I$166","v":0},{"$f":"Tetra!J$166","v":0}]
[null,1111130295,"179158*****","Кріплення для фільтра Tetratec Easy Crystal 250","Менше 10","Запчастини для акваріумного обладнання",90.23,122,{"$f":"Tetra!I$167","v":0},{"$f":"Tetra!J$167","v":0}]
[null,1111130296,"179165  Tetra*****","Кріплення для фільтра Tetratec Easy Crystal 300","Менше 10","Запчастини для акваріумного обладнання",139.22,188,{"$f":"Tetra!I$168","v":0},{"$f":"Tetra!J$168","v":0}]
[null,1111162343,"286962*****","Набір запчастин Tetra FilterJet","Більше 10","Обладнання для акваріума, комплектуючі",200,270,{"$f":"Tetra!I$169","v":0},{"$f":"Tetra!J$169","v":0}]
[null,1111124928,"181205*****","Набір запчастин для компресора Tetratec APS 100/150","Менше 10","Запчастини для акваріумного обладнання",244.99,331,{"$f":"Tetra!I$170","v":0},{"$f":"Tetra!J$170","v":0}]
[null,1111113829,"143326 /179400***СПЕЦЦЕНА","Набір запчастин для компресора Tetratec APS 50","Менше 10","Аксесуари для догляду за акваріумом",157.66,213,{"$f":"Tetra!I$171","v":0},{"$f":"Tetra!J$171","v":0}]
[null,1111111565,762312,"Очищувач грунту Tetratec GC30","Менше 10","Аксесуари для догляду за акваріумом",411.22,679,{"$f":"Tetra!I$172","v":0},{"$f":"Tetra!J$172","v":0}]
[null,11737,"762329*****","Очищувач грунту Tetratec GC40","Менше 10","Аксесуари для догляду за акваріумом",517.1,853.21,{"$f":"Tetra!I$173","v":0},{"$f":"Tetra!J$173","v":0}]
[null,8788,762336,"Очищувач грунту Tetratec GC50","Більше 10","Аксесуари для догляду за акваріумом",637.73,1052,{"$f":"Tetra!I$174","v":0},{"$f":"Tetra!J$174","v":0}]
[null,1111154450,557635,"Пакети д/транспорт. риб Tetra великі (50шт.-упак.)","Менше 10","Аксесуари для догляду за акваріумом",526.32000000000005,868,{"$f":"Tetra!I$175","v":0},{"$f":"Tetra!J$175","v":0}]
[null,1111154452,543829,"Пакети д/транспорт. риб Tetra маленькі (50шт.-упак)","Більше 10","Аксесуари для догляду за акваріумом",315.79000000000002,521,{"$f":"Tetra!I$176","v":0},{"$f":"Tetra!J$176","v":0}]
[null,9225,603493,"Розпилювач Tetratec AS25 циліндр","Більше 10","Аксесуари для догляду за акваріумом",31.77,52,{"$f":"Tetra!I$177","v":0},{"$f":"Tetra!J$177","v":0}]
[null,9874,603523,"Розпилювач Tetratec AS30 циліндр","Більше 10","Аксесуари для догляду за акваріумом",34.04,56,{"$f":"Tetra!I$178","v":0},{"$f":"Tetra!J$178","v":0}]
[null,9617,603554,"Розпилювач Tetratec AS35 циліндр","Більше 10","Аксесуари для догляду за акваріумом",37.450000000000003,62,{"$f":"Tetra!I$179","v":0},{"$f":"Tetra!J$179","v":0}]
[null,1111132864,603561,"Розпилювач Tetratec AS40 циліндр","Більше 10","Аксесуари для догляду за акваріумом",45.39,75,{"$f":"Tetra!I$180","v":0},{"$f":"Tetra!J$180","v":0}]
[null,9226,603578,"Розпилювач Tetratec AS45 циліндр","Менше 10","Аксесуари для догляду за акваріумом",51.06,84,{"$f":"Tetra!I$181","v":0},{"$f":"Tetra!J$181","v":0}]
[null,10518,607590,"Розпилювач Tetratec AS50 круглий","Менше 10","Аксесуари для догляду за акваріумом",113.34,189,{"$f":"Tetra!I$182","v":0},{"$f":"Tetra!J$182","v":0}]
[null,1111146730,"260160*****","Ротор Tetra EX 400 Plus","Менше 10","Запчастини для акваріумного обладнання",714.81,965,{"$f":"Tetra!I$183","v":0},{"$f":"Tetra!J$183","v":0}]
[null,1111162337,"286979*****","Ротор Tetra FilterJet 400","Менше 10","Запчастини для акваріумного обладнання",145.38,196,{"$f":"Tetra!I$184","v":0},{"$f":"Tetra!J$184","v":0}]
[null,1111162338,"286986*****","Ротор Tetra FilterJet 600","Менше 10","Запчастини для акваріумного обладнання",145.38,196,{"$f":"Tetra!I$185","v":0},{"$f":"Tetra!J$185","v":0}]
[null,1111162339,"286993*****","Ротор Tetra FilterJet 900","Більше 10","Запчастини для акваріумного обладнання",145.38,196,{"$f":"Tetra!I$186","v":0},{"$f":"Tetra!J$186","v":0}]
[null,1111138155,"707185 /213647*****","Ротор для Cascade Globe","Менше 10","Запчастини для акваріумного обладнання",150.93,204,{"$f":"Tetra!I$187","v":0},{"$f":"Tetra!J$187","v":0}]
[null,1111122807,"174481*****","Ротор для фільтра Tetratec EX 400","Менше 10","Запчастини для акваріумного обладнання",354.1,516,{"$f":"Tetra!I$188","v":0},{"$f":"Tetra!J$188","v":0}]
[null,1111113824,"145610*****","Ротор для фільтра Tetratec EX 600","Менше 10","Запчастини для акваріумного обладнання",641.80999999999995,866,{"$f":"Tetra!I$189","v":0},{"$f":"Tetra!J$189","v":0}]
[null,1111128391,"134706*****","Ротор для фільтра Tetratec IN 600 plus","Менше 10","Запчастини для акваріумного обладнання",297.5,446,{"$f":"Tetra!I$190","v":0},{"$f":"Tetra!J$190","v":0}]
[null,1111127949,"134713*****","Ротор для фільтра Tetratec IN 800 plus","Менше 10","Запчастини для акваріумного обладнання",371.77,502,{"$f":"Tetra!I$191","v":0},{"$f":"Tetra!J$191","v":0}]
[null,1111138156,"707974 /240698*****","Ротор для фільтра Tetratec ЕX 1200 plus","Менше 10","Запчастини для акваріумного обладнання",953.7,1288,{"$f":"Tetra!I$192","v":0},{"$f":"Tetra!J$192","v":0}]
[null,1111113828,"145702*****","Трубка для фільтра Tetratec EX 1200","Менше 10","Запчастини для акваріумного обладнання",762.96,1030,{"$f":"Tetra!I$193","v":0},{"$f":"Tetra!J$193","v":0}]
[null,1111122812,"174313*****","Трубка для фільтра Tetratec EX 2400","Менше 10","Запчастини для акваріумного обладнання",350,525,{"$f":"Tetra!I$194","v":0},{"$f":"Tetra!J$194","v":0}]
[null,1111113827,"145924*****","Трубка для фільтра Tetratec EX 600/700","Менше 10","Запчастини для акваріумного обладнання",426.8,576,{"$f":"Tetra!I$195","v":0},{"$f":"Tetra!J$195","v":0}]
[null,1111158747,"287143*****","Фільтр Tetra FilterJet 600","Менше 10","Обладнання для акваріума, комплектуючі",777.61,1050,{"$f":"Tetra!I$196","v":0},{"$f":"Tetra!J$196","v":0}]
[null,1111170986,302761,"Фільтр Tetra для акваріумів External EX 1000 Plus","Менше 10","Обладнання для акваріума, комплектуючі",5451,7359,{"$f":"Tetra!I$197","v":0},{"$f":"Tetra!J$197","v":0}]
[null,1111170985,302747,"Фільтр Tetra для акваріумів External EX 700 Plus","Менше 10","Обладнання для акваріума, комплектуючі",4684.34,6324,{"$f":"Tetra!I$198","v":0},{"$f":"Tetra!J$198","v":0}]
[null,1111182159,"288317_ord","Фільтр для акваріума Tetra EasyCrystal Filter 100","Менше 10","Обладнання для акваріума, комплектуючі",726.06,980,{"$f":"Tetra!I$199","v":0},{"$f":"Tetra!J$199","v":0}]
[null,1111122804,157026,"Шланг силіконовий Tetratec 2,5 м","Більше 10","Аксесуари для догляду за акваріумом",82.94,137,{"$f":"Tetra!I$200","v":0},{"$f":"Tetra!J$200","v":0}]
[null,1111137252,"43119*****","Trixie'!I8","Менше 10","Дряпки-комплекси",1595,2073,{"$f":"Trixie!I$8","v":0},{"$f":"Trixie!J$8","v":0}]
[null,1111183907,"31281_5шт","Denta Fun Veggie Медова гребінець з морськ. водоростями д/соб 8,5 см","Більше 10","Ласощі для собак",162.85,210,{"$f":"Trixie!I$9","v":0},{"$f":"Trixie!J$9","v":0}]
[null,1111183911,"31282_10шт","Denta Fun Veggie Медова гребінець з морськ. водоростями д/собак 12 см","Менше 10","Ласощі для собак",563.70000000000005,730,{"$f":"Trixie!I$10","v":0},{"$f":"Trixie!J$10","v":0}]
[null,1111183909,"31283_10шт","Denta Fun Veggie Щелепна кістка для собак велика 12 см 35 г","Менше 10","Ласощі для собак",351,456,{"$f":"Trixie!I$11","v":0},{"$f":"Trixie!J$11","v":0}]
[null,1111183905,"31284_5шт","Denta Fun Veggie Щелепна кістка для собак велика 22 см 85 г","Більше 10","Ласощі для собак",370,480,{"$f":"Trixie!I$12","v":0},{"$f":"Trixie!J$12","v":0}]
[null,3280,"3443_1шт","Iграшка Trixie для собак М_яч Неон поролон ассорті 6см","Більше 10","Іграшки для собак",62.64,77,{"$f":"Trixie!I$13","v":0},{"$f":"Trixie!J$13","v":0}]
[null,1111183266,42755,"PREMIO Freeze Dried крветки 25 г","Більше 100","Ласощі для котів",117.75,153,{"$f":"Trixie!I$14","v":0},{"$f":"Trixie!J$14","v":0}]
[null,6719,31491,"Trixie Bonies ласощі яловичина, індичка для собак, 75 г","Більше 100","Вітаміни та мінерали",61.38,75,{"$f":"Trixie!I$15","v":0},{"$f":"Trixie!J$15","v":0}]
[null,1111129070,31496,"Trixie Bony Mix ласощі для собак, 500 г","Немає в наявності","Вітаміни та мінерали",220.48,272,{"$f":"Trixie!I$16","v":0},{"$f":"Trixie!J$16","v":0}]
[null,1111115114,4225,"Trixie Cat Nip котяча м_ята, 20 г","Більше 10","Вітаміни та мінерали",45.1,56,{"$f":"Trixie!I$17","v":0},{"$f":"Trixie!J$17","v":0}]
[null,1111170282,31651,"Trixie Chicken Chip Cookies печиво з куркою для собак, 100 г","Менше 10","Ласощі для собак",122.47,159.21,{"$f":"Trixie!I$18","v":0},{"$f":"Trixie!J$18","v":0}]
[null,1111163200,31665,"Trixie Chicken Rings кільце жувальне з куркою для собак, 100 г","Більше 10","Ласощі для собак",108.61,141,{"$f":"Trixie!I$19","v":0},{"$f":"Trixie!J$19","v":0}]
[null,1111170305,31505,"Trixie Chucekn Burger Бургер з куркою, сиром. шкірою д/соб. 9см, 140г","Менше 10","Ласощі для собак",181.64,236,{"$f":"Trixie!I$20","v":0},{"$f":"Trixie!J$20","v":0}]
[null,1111115310,"31101_1шт","Trixie Denta Fun кісточка для чищення зубів у собак, 11см/50г","Більше 10","Ласощі для собак",65.86,85.6,{"$f":"Trixie!I$21","v":0},{"$f":"Trixie!J$21","v":0}]
[null,1111115309,"31121_1шт","Trixie Denta Fun кісточка для чищення зубів у собак, 16см/110г","Більше 10","Ласощі для собак",141.56,184,{"$f":"Trixie!I$22","v":0},{"$f":"Trixie!J$22","v":0}]
[null,12226,"31141_1шт","Trixie Denta Fun кісточка для чищення зубів у собак, 24см/240г","Більше 10","Ласощі для собак",286.87,372,{"$f":"Trixie!I$23","v":0},{"$f":"Trixie!J$23","v":0}]
[null,1111134917,31340,"Trixie Denta Fun Кісточка пресована жувальна для собак, 5см, 120г, 8шт","Менше 10","Ласощі для собак",164.1,214,{"$f":"Trixie!I$24","v":0},{"$f":"Trixie!J$24","v":0}]
[null,1111170296,313261,"Trixie Denta Fun паличка д/чищен. зубів з курк. д/соб 28см 80г, 100шт","Менше 10","Ласощі для собак",9270,12051,{"$f":"Trixie!I$25","v":0},{"$f":"Trixie!J$25","v":0}]
[null,13429,31501,"Trixie DentaFun Chew Bites з петрушкою і м ятою д/собак, 150 г","Більше 100","Ласощі для собак",90.19,118,{"$f":"Trixie!I$26","v":0},{"$f":"Trixie!J$26","v":0}]
[null,1111148380,31347,"Trixie DENTAfun MINI палички з качкою для собак, 6см/120г","Більше 100","Ласощі для собак",149.07,193,{"$f":"Trixie!I$27","v":0},{"$f":"Trixie!J$27","v":0}]
[null,1111148379,31346,"Trixie DENTAfun MINI палички з куркою для собак, 6см/120г","Менше 10","Ласощі для собак",149.07,194,{"$f":"Trixie!I$28","v":0},{"$f":"Trixie!J$28","v":0}]
[null,1111143414,31342,"Trixie DENTAfun гантель жувальна з куркою і рисом д/соб. 100г (6 шт.)","Більше 10","Ласощі для собак",101.47,131,{"$f":"Trixie!I$29","v":0},{"$f":"Trixie!J$29","v":0}]
[null,1111163209,31473,"Trixie DentaFun жувальні спіральки для собак, 3х15см, 110 г","Більше 10","Ласощі для собак",202.94,262,{"$f":"Trixie!I$30","v":0},{"$f":"Trixie!J$30","v":0}]
[null,1111170285,31186,"Trixie DentaFun з куркою, печінкою та сиром_ятн шкірою д/соб 50г 13см","Менше 10","Ласощі для собак",2881.22,3746,{"$f":"Trixie!I$31","v":0},{"$f":"Trixie!J$31","v":0}]
[null,1111170286,31196,"Trixie DentaFun з куркою, сиром_ятн шкірою д/соб. 46 г, 12 см, 50 шт","Менше 10","Ласощі для собак",2505.41,3257,{"$f":"Trixie!I$32","v":0},{"$f":"Trixie!J$32","v":0}]
[null,1111170301,313331,"Trixie DentaFun кільце д/чищен зубів з качкою д/соб d=10см 110г 100шт","Менше 10","Ласощі для собак",14907.16,19379,{"$f":"Trixie!I$33","v":0},{"$f":"Trixie!J$33","v":0}]
[null,1111170293,311841,"Trixie DentaFun кільце д/чищен зубів з куркою д/соб ,d=5см, 27г, 150шт","Менше 10","Ласощі для собак",6952.5,8622,{"$f":"Trixie!I$34","v":0},{"$f":"Trixie!J$34","v":0}]
[null,1111170298,313281,"Trixie DentaFun кільце д/чищен зубів з куркою д/соб d=10см, 110г 100шт","Менше 10","Ласощі для собак",14907.16,19379,{"$f":"Trixie!I$35","v":0},{"$f":"Trixie!J$35","v":0}]
[null,1111170299,31331,"Trixie DentaFun кільце д/чищен зубів з куркою д/соб d=20см, 225г","Більше 10","Ласощі для собак",323.2,420,{"$f":"Trixie!I$36","v":0},{"$f":"Trixie!J$36","v":0}]
[null,1111170300,31332,"Trixie DentaFun кільце д/чищен зубів з куркою д/соб d=6см, 110г, 2шт","Більше 100","Ласощі для собак",185.4,241,{"$f":"Trixie!I$37","v":0},{"$f":"Trixie!J$37","v":0}]
[null,1111170295,31316,"Trixie DentaFun кільце д/чищен зубів з куркою д/соб, 11см, 65 г","Більше 10","Ласощі для собак",113.23,152.86000000000001,{"$f":"Trixie!I$38","v":0},{"$f":"Trixie!J$38","v":0}]
[null,1111170294,312281,"Trixie DentaFun кільце д/чищен зубів з ялович. д/соб d=10см 110г 100шт","Менше 10","Ласощі для собак",14907.16,19379,{"$f":"Trixie!I$39","v":0},{"$f":"Trixie!J$39","v":0}]
[null,1111139989,31322,"Trixie DENTAfun кісточка для чищення зубів з куркою, 11см/70г (2шт)","Більше 10","Ласощі для собак",92.7,120,{"$f":"Trixie!I$40","v":0},{"$f":"Trixie!J$40","v":0}]
[null,1111139988,31321,"Trixie DENTAfun кісточка для чищення зубів з куркою, 5см/70г (5 шт.)","Більше 100","Ласощі для собак",92.7,120,{"$f":"Trixie!I$41","v":0},{"$f":"Trixie!J$41","v":0}]
[null,1111141111,31391,"Trixie DENTAfun кісточка пресована з качкою д/собак, 10см/70г (2 шт.)","Немає в наявності","Ласощі для собак",112.74,145,{"$f":"Trixie!I$42","v":0},{"$f":"Trixie!J$42","v":0}]
[null,1111141112,31392,"Trixie DENTAfun кісточка пресована з качкою д/собак, 12см/120г (2шт.)","Більше 10","Ласощі для собак",166.61,216,{"$f":"Trixie!I$43","v":0},{"$f":"Trixie!J$43","v":0}]
[null,1111141771,31388,"Trixie DENTAfun ласощі паличка жувальна з буйволом 12см/70г (5шт.)","Більше 10","Ласощі для собак",130.28,169,{"$f":"Trixie!I$44","v":0},{"$f":"Trixie!J$44","v":0}]
[null,1111137237,31325,"Trixie DENTAfun ласощі палички з куркою для собак, 12см/70г/6шт","Більше 100","Ласощі для собак",91.45,119,{"$f":"Trixie!I$45","v":0},{"$f":"Trixie!J$45","v":0}]
[null,1111137239,31327,"Trixie DENTAfun ласощі палички з куркою для собак, 17см/140г/3шт","Більше 10","Ласощі для собак",166.61,216,{"$f":"Trixie!I$46","v":0},{"$f":"Trixie!J$46","v":0}]
[null,1111137238,31326,"Trixie DENTAfun ласощі палички з куркою для собак, 28см/250г/3шт","Більше 10","Ласощі для собак",289.37,375,{"$f":"Trixie!I$47","v":0},{"$f":"Trixie!J$47","v":0}]
[null,1111156267,31372,"Trixie DENTAfun мікс паличка-рол для собак, 110см/250г","Більше 100","Ласощі для собак",338.23,437,{"$f":"Trixie!I$48","v":0},{"$f":"Trixie!J$48","v":0}]
[null,1111156268,31395,"Trixie DENTAfun паличик з качкою для собак, 12см/240г/30шт","Більше 10","Ласощі для собак",338.23,437,{"$f":"Trixie!I$49","v":0},{"$f":"Trixie!J$49","v":0}]
[null,1111134918,31371,"Trixie DentaFun паличка для чищення зубів для собак, 12 см, 80 г, 10шт","Немає в наявності","Ласощі для собак",112.74,145,{"$f":"Trixie!I$50","v":0},{"$f":"Trixie!J$50","v":0}]
[null,1111134919,31373,"Trixie DentaFun паличка для чищення зубів для собак, 17 см, 140 г, 3шт","Більше 100","Ласощі для собак",166.61,216,{"$f":"Trixie!I$51","v":0},{"$f":"Trixie!J$51","v":0}]
[null,1111134920,31374,"Trixie DentaFun паличка для чищення зубів для собак, 28 см, 250 г, 3шт","Більше 100","Ласощі для собак",289.37,376,{"$f":"Trixie!I$52","v":0},{"$f":"Trixie!J$52","v":0}]
[null,1111170297,313271,"Trixie DentaFun паличка для чищення зубів собак, 17см 45г 100шт/уп","Менше 10","Ласощі для собак",5511.89,7165,{"$f":"Trixie!I$53","v":0},{"$f":"Trixie!J$53","v":0}]
[null,1111140897,31377,"Trixie DENTAfun палички барбекю курка для собак, 12см/105г/3шт","Більше 10","Ласощі для собак",166.61,217,{"$f":"Trixie!I$54","v":0},{"$f":"Trixie!J$54","v":0}]
[null,1111140896,31376,"Trixie DENTAfun палички барбекю, курка для собак, 12см/80г/10шт","Більше 10","Ласощі для собак",149.07,193,{"$f":"Trixie!I$55","v":0},{"$f":"Trixie!J$55","v":0}]
[null,1111156276,31338,"Trixie DENTAfun палички з кроликом д/чищ. зуб собак, 12см/70г (6 шт.)","Більше 100","Ласощі для собак",101.47,131,{"$f":"Trixie!I$56","v":0},{"$f":"Trixie!J$56","v":0}]
[null,1111140898,31378,"Trixie DENTAfun палички з куркою для собак, 12см/240г/30шт","Більше 100","Ласощі для собак",301.89999999999998,390,{"$f":"Trixie!I$57","v":0},{"$f":"Trixie!J$57","v":0}]
[null,1111161304,31225,"Trixie DENTAfun палички з мармуровою яловичиною д/собак, 12см/70г/6шт","Більше 10","Ласощі для собак",91.45,119,{"$f":"Trixie!I$58","v":0},{"$f":"Trixie!J$58","v":0}]
[null,1111161305,"9931227/31227","Trixie DENTAfun палички з мармуровою яловичиною д/собак, 17см/140г/3шт","Більше 100","Ласощі для собак",166.61,216,{"$f":"Trixie!I$59","v":0},{"$f":"Trixie!J$59","v":0}]
[null,1111146289,31387,"Trixie DENTAfun палички з рибою для собак, 12см/75г/10шт","Більше 100","Ласощі для собак",122.76,158,{"$f":"Trixie!I$60","v":0},{"$f":"Trixie!J$60","v":0}]
[null,1111170303,31466,"Trixie DentaFun реберця д/чищен. зубів з качкою д/соб, 17см 110г 2шт","Більше 100","Ласощі для собак",185.4,267,{"$f":"Trixie!I$61","v":0},{"$f":"Trixie!J$61","v":0}]
[null,1111170304,31467,"Trixie DentaFun реберця д/чищення зубів з куркою д/соб 12см 90г 3шт","Більше 100","Ласощі для собак",149.07,194,{"$f":"Trixie!I$62","v":0},{"$f":"Trixie!J$62","v":0}]
[null,1111143411,31341,"Trixie DENTAfun чіпси жувальні з куркою сиром_ятна шкіра 100 г (8 шт.)","Більше 10","Ласощі для собак",120.16,155,{"$f":"Trixie!I$63","v":0},{"$f":"Trixie!J$63","v":0}]
[null,1111120314,4266,"Trixie Dentinos вітаміни для котів, 50 г","Більше 100","Вітаміни та мінерали",55.12,67,{"$f":"Trixie!I$64","v":0},{"$f":"Trixie!J$64","v":0}]
[null,1111134757,31773,"Trixie Dentros Mini жувальні шматочки для собак 60 г","Більше 10","Ласощі для собак",77.67,101,{"$f":"Trixie!I$65","v":0},{"$f":"Trixie!J$65","v":0}]
[null,1111134756,3173,"Trixie Dentros жувальні шматочки з м ясом птахів для собак, 180 г 7 шт","Більше 100","Ласощі для собак",80.17,104,{"$f":"Trixie!I$66","v":0},{"$f":"Trixie!J$66","v":0}]
[null,1111121023,"31492  Trixie","Trixie Flowers ласощі ягня, курка для собак, 75 г","Більше 100","Вітаміни та мінерали",61.38,80,{"$f":"Trixie!I$67","v":0},{"$f":"Trixie!J$67","v":0}]
[null,1111132992,31497,"Trixie Happy Hearts ласощі для собак, 500 г","Більше 100","Вітаміни та мінерали",220.48,272,{"$f":"Trixie!I$68","v":0},{"$f":"Trixie!J$68","v":0}]
[null,1111129069,31495,"Trixie Happy Mix ласощі для собак, 500 г","Більше 10","Вітаміни та мінерали",220.48,272,{"$f":"Trixie!I$69","v":0},{"$f":"Trixie!J$69","v":0}]
[null,1111162485,31518,"Trixie Junior Soft Snack Bones вітаміни з кальцієм для цуценят, 140 г","Більше 10","Вітаміни та мінерали",110.24,136,{"$f":"Trixie!I$70","v":0},{"$f":"Trixie!J$70","v":0}]
[null,1111162486,31519,"Trixie Junior Soft Snack Dots вітаміни з Омега-3 для цуценят, 140 г","Більше 10","Вітаміни та мінерали",110.24,136,{"$f":"Trixie!I$71","v":0},{"$f":"Trixie!J$71","v":0}]
[null,1111116717,2674,"Trixie KauChips Light зі спіруліною для малих собак, 50 г","Більше 100","Ласощі для собак",73.91,95,{"$f":"Trixie!I$72","v":0},{"$f":"Trixie!J$72","v":0}]
[null,1111139733,31524,"Trixie Mini Hearts ласощі для собак, 200 г","Більше 100","Вітаміни та мінерали",110.24,136,{"$f":"Trixie!I$73","v":0},{"$f":"Trixie!J$73","v":0}]
[null,1111170289,31656,"Trixie Mini Pretzels крендель з куркою для собак, 100 г","Більше 10","Ласощі для собак",149.07,194,{"$f":"Trixie!I$74","v":0},{"$f":"Trixie!J$74","v":0}]
[null,1111156271,31853,"Trixie PREMIO 4 Meat Minis курка/качка/лосось/баран. д/соб. 4x100 г","Більше 10","Ласощі для собак",414.64,538,{"$f":"Trixie!I$75","v":0},{"$f":"Trixie!J$75","v":0}]
[null,1111156270,31852,"Trixie PREMIO 4 Meat Minis курка/качка/яловичина/баран. д/соб. 4x100 г","Більше 10","Ласощі для собак",414.64,540,{"$f":"Trixie!I$76","v":0},{"$f":"Trixie!J$76","v":0}]
[null,1111156272,31854,"Trixie PREMIO 4 Meat Minis курка/качка/яловичина/баран. д/соб. 4x100 г","Менше 10","Ласощі для собак",414.64,538,{"$f":"Trixie!I$77","v":0},{"$f":"Trixie!J$77","v":0}]
[null,1111138613,31593,"Trixie PREMIO Apple Chicken з яблуком для собак, 100 г","Більше 10","Ласощі для собак",122.76,159,{"$f":"Trixie!I$78","v":0},{"$f":"Trixie!J$78","v":0}]
[null,1111140891,31706,"Trixie PREMIO Beef Coins ласощі з яловичиною для собак, 100 г","Більше 100","Ласощі для собак",122.76,158,{"$f":"Trixie!I$79","v":0},{"$f":"Trixie!J$79","v":0}]
[null,1111170278,31602,"Trixie PREMIO Bullduck з качкою для собак, 9 см, 11 г, 88 шт","Менше 10","Ласощі для собак",1171.28,1523,{"$f":"Trixie!I$80","v":0},{"$f":"Trixie!J$80","v":0}]
[null,1111133312,42707,"Trixie PREMIO Carpaccio для котів качка/риба, 20 г","Більше 100","Ласощі для котів",35.08,45,{"$f":"Trixie!I$81","v":0},{"$f":"Trixie!J$81","v":0}]
[null,1111148409,31804,"Trixie PREMIO Carpaccio качка/риба для собак, 80 г","Більше 100","Ласощі для собак",112.74,145,{"$f":"Trixie!I$82","v":0},{"$f":"Trixie!J$82","v":0}]
[null,1111136713,42717,"Trixie PREMIO Cheese Chicken Cubes сир+курка кубики для котів, 50 г","Більше 100","Ласощі для котів",65.14,85,{"$f":"Trixie!I$83","v":0},{"$f":"Trixie!J$83","v":0}]
[null,1111124227,31535,"Trixie PREMIO Chicken and Pollock Rolls роли курка/лосось д/соб, 75 г","Більше 100","Ласощі для собак",86.44,112,{"$f":"Trixie!I$84","v":0},{"$f":"Trixie!J$84","v":0}]
[null,1111124226,31534,"Trixie PREMIO Chicken and Pollock Stripes палички кур/лосось д/соб 75г","Більше 100","Ласощі для собак",86.44,111,{"$f":"Trixie!I$85","v":0},{"$f":"Trixie!J$85","v":0}]
[null,1111163206,31857,"Trixie PREMIO Chicken Bars м_ясні батончики для собак, 2х30 г","Більше 10","Ласощі для собак",46.22,60,{"$f":"Trixie!I$86","v":0},{"$f":"Trixie!J$86","v":0}]
[null,1111140893,31802,"Trixie PREMIO Chicken Bites XXL Packкурячі гантельки д/соб. 300 г","Більше 10","Ласощі для собак",261.81,340,{"$f":"Trixie!I$87","v":0},{"$f":"Trixie!J$87","v":0}]
[null,1111122468,31533,"Trixie PREMIO Chicken Bites курячі гантельки для собак, 100 г","Більше 100","Ласощі для собак",92.7,120,{"$f":"Trixie!I$88","v":0},{"$f":"Trixie!J$88","v":0}]
[null,1111163202,31589,"Trixie PREMIO Chicken Cheese Rolls з куркою та сиром для собак, 100 г","Більше 10","Ласощі для собак",122.76,159,{"$f":"Trixie!I$89","v":0},{"$f":"Trixie!J$89","v":0}]
[null,1111134760,31586,"Trixie PREMIO Chicken Cheese Stripes сир/курка для собак, 100 г","Більше 100","Ласощі для собак",112.74,145,{"$f":"Trixie!I$90","v":0},{"$f":"Trixie!J$90","v":0}]
[null,1111124225,31531,"Trixie PREMIO Chicken Coins курячі монетки для собак, 100 г","Більше 100","Ласощі для собак",112.74,146,{"$f":"Trixie!I$91","v":0},{"$f":"Trixie!J$91","v":0}]
[null,1111133311,42706,"Trixie PREMIO Chicken Cubes курячі кубики для котів, 50 г","Більше 100","Ласощі для котів",65.14,85,{"$f":"Trixie!I$92","v":0},{"$f":"Trixie!J$92","v":0}]
[null,1111134761,31585,"Trixie PREMIO Chicken Drumsticks курка для собак, 95 г, 5 шт","Більше 10","Ласощі для собак",101.47,132,{"$f":"Trixie!I$93","v":0},{"$f":"Trixie!J$93","v":0}]
[null,1111124006,42701,"Trixie PREMIO Chicken Filet Bites філе куряче сушене для котів, 50 г","Більше 10","Ласощі для котів",73.91,96,{"$f":"Trixie!I$94","v":0},{"$f":"Trixie!J$94","v":0}]
[null,1111140892,31801,"Trixie PREMIO Chicken Filets XXL Pack ласощі куряче філе д/собак, 300г","Менше 10","Ласощі для собак",338.23,439,{"$f":"Trixie!I$95","v":0},{"$f":"Trixie!J$95","v":0}]
[null,1111124223,31532,"Trixie PREMIO Chicken Filets куряче філе для собак, 100 г","Більше 100","Ласощі для собак",122.76,158,{"$f":"Trixie!I$96","v":0},{"$f":"Trixie!J$96","v":0}]
[null,1111146930,31539,"Trixie PREMIO Chicken Flags куряча грудинка для собак, 100 г","Більше 10","Ласощі для собак",112.74,145,{"$f":"Trixie!I$97","v":0},{"$f":"Trixie!J$97","v":0}]
[null,1111146931,31588,"Trixie PREMIO Chicken Flags куряча грудинка для собак, 400 г","Більше 10","Ласощі для собак",529.89,686,{"$f":"Trixie!I$98","v":0},{"$f":"Trixie!J$98","v":0}]
[null,1111139264,31703,"Trixie PREMIO Chicken Pasta ласощі паста з куркою для собак, 100 г","Більше 10","Ласощі для собак",112.74,146,{"$f":"Trixie!I$99","v":0},{"$f":"Trixie!J$99","v":0}]
[null,1111139043,31702,"Trixie PREMIO Chicken Pizza  піца з куркою для собак, 100 г","Більше 10","Ласощі для собак",112.74,146,{"$f":"Trixie!I$100","v":0},{"$f":"Trixie!J$100","v":0}]
[null,1111134916,31591,"Trixie PREMIO Chickies з кальцієм для собак, 100 г","Більше 10","Ласощі для собак",112.74,145,{"$f":"Trixie!I$101","v":0},{"$f":"Trixie!J$101","v":0}]
[null,1111170306,315911,"Trixie PREMIO Chiсkies кісточка з куркою д/собак 7,5 см, 9 г, 400 шт","Менше 10","Ласощі для собак",4008.65,5211,{"$f":"Trixie!I$102","v":0},{"$f":"Trixie!J$102","v":0}]
[null,1111151354,42743,"Trixie PREMIO Cookies з лососем і котячою м_ятою для котів, 50 г","Більше 100","Ласощі для котів",50.11,66,{"$f":"Trixie!I$103","v":0},{"$f":"Trixie!J$103","v":0}]
[null,1111148905,31749,"Trixie PREMIO Corn Dogs качка для собак, 100гр/4шт","Більше 10","Ласощі для собак",122.76,159,{"$f":"Trixie!I$104","v":0},{"$f":"Trixie!J$104","v":0}]
[null,1111139266,31705,"Trixie PREMIO Crispy Duck ласощі качка для собак, 100 г","Більше 10","Ласощі для собак",122.76,158,{"$f":"Trixie!I$105","v":0},{"$f":"Trixie!J$105","v":0}]
[null,1111163208,31868,"Trixie PREMIO Deer Fish Sandwiches з олениною та рибою д/собак, 100 г","Більше 10","Ласощі для собак",149.05000000000001,193,{"$f":"Trixie!I$106","v":0},{"$f":"Trixie!J$106","v":0}]
[null,1111135175,31592,"Trixie PREMIO Duck Bites з качкою для собак, 80 г","Більше 100","Ласощі для собак",92.7,120,{"$f":"Trixie!I$107","v":0},{"$f":"Trixie!J$107","v":0}]
[null,1111134915,31587,"Trixie PREMIO Duck Coins з качкою для собак, 80 г","Більше 100","Ласощі для собак",101.47,132,{"$f":"Trixie!I$108","v":0},{"$f":"Trixie!J$108","v":0}]
[null,1111136712,42716,"Trixie PREMIO Duck Filet Bites філе качки сушене д котів, 50 г","Більше 100","Ласощі для котів",65.14,85,{"$f":"Trixie!I$109","v":0},{"$f":"Trixie!J$109","v":0}]
[null,1111163203,31869,"Trixie PREMIO Duck Softies ласощі з качкою для собак, 100 г","Більше 100","Ласощі для собак",107.73,139,{"$f":"Trixie!I$110","v":0},{"$f":"Trixie!J$110","v":0}]
[null,1111129084,31538,"Trixie PREMIO Duckies кальцієві кісточки з качкою для собак, 100 г","Більше 100","Ласощі для собак",101.47,132,{"$f":"Trixie!I$111","v":0},{"$f":"Trixie!J$111","v":0}]
[null,1111135174,31594,"Trixie PREMIO Duckinos з качкою для собак, 80 г","Більше 10","Ласощі для собак",91.45,118,{"$f":"Trixie!I$112","v":0},{"$f":"Trixie!J$112","v":0}]
[null,1111134594,31537,"Trixie PREMIO Ducky Stripes качка для собак, 100 г","Більше 10","Ласощі для собак",112.74,145,{"$f":"Trixie!I$113","v":0},{"$f":"Trixie!J$113","v":0}]
[null,1111143413,31747,"Trixie PREMIO Fish Chicken Sticks курка/риба для собак, 80 г","Більше 10","Ласощі для собак",83.93,109,{"$f":"Trixie!I$114","v":0},{"$f":"Trixie!J$114","v":0}]
[null,1111143412,31748,"Trixie PREMIO Fish Chicken Wheels курка/риба для собак, 75 г","Більше 10","Ласощі для собак",101.47,132,{"$f":"Trixie!I$115","v":0},{"$f":"Trixie!J$115","v":0}]
[null,1111148412,31547,"Trixie PREMIO Fish Rabbit Stripes кріль/риба для собак, 100 г","Більше 100","Ласощі для собак",112.74,145,{"$f":"Trixie!I$116","v":0},{"$f":"Trixie!J$116","v":0}]
[null,1111139047,31599,"Trixie PREMIO Fishies кісточка з рибою для собак, 100 г","Більше 10","Ласощі для собак",112.74,145,{"$f":"Trixie!I$117","v":0},{"$f":"Trixie!J$117","v":0}]
[null,1111170307,31606,"Trixie PREMIO Freeze Dried куряча грудка д/собак, 50 г","Більше 10","Ласощі для собак",185.4,241,{"$f":"Trixie!I$118","v":0},{"$f":"Trixie!J$118","v":0}]
[null,1111156269,31809,"Trixie PREMIO Goose Filets філе гуски для собак, 65 г","Немає в наявності","Ласощі для собак",92.7,119,{"$f":"Trixie!I$119","v":0},{"$f":"Trixie!J$119","v":0}]
[null,1111128593,42705,"Trixie PREMIO Hearts качка/минтай для котів, 50 г","Більше 100","Ласощі для котів",65.14,85,{"$f":"Trixie!I$120","v":0},{"$f":"Trixie!J$120","v":0}]
[null,1111116716,2682,"Trixie PREMIO KauChips Light зі спіруліною для собак, 100 г","Більше 10","Ласощі для собак",141.56,184,{"$f":"Trixie!I$121","v":0},{"$f":"Trixie!J$121","v":0}]
[null,1111146933,31544,"Trixie PREMIO Lamb Bites ягня для собак, 100 г","Більше 100","Ласощі для собак",112.74,145,{"$f":"Trixie!I$122","v":0},{"$f":"Trixie!J$122","v":0}]
[null,1111170311,317071,"Trixie PREMIO Lamb Chicken Bagel кільце з ягням/курк d=4см 170г 300шт","Менше 10","Ласощі для собак",6012.97,7817,{"$f":"Trixie!I$123","v":0},{"$f":"Trixie!J$123","v":0}]
[null,1111140899,31707,"Trixie PREMIO Lamb Chicken Bagles кільця ягня/курка для собак, 100 г","Більше 100","Ласощі для собак",130.28,169,{"$f":"Trixie!I$124","v":0},{"$f":"Trixie!J$124","v":0}]
[null,1111141773,31741,"Trixie PREMIO Lamb Stripes ласощі ягня для собак, 100 г","Більше 10","Ласощі для собак",112.74,145,{"$f":"Trixie!I$125","v":0},{"$f":"Trixie!J$125","v":0}]
[null,1111133313,42708,"Trixie PREMIO Mini Sticks курка/рис для котів, 50 г","Більше 100","Ласощі для котів",55.12,72,{"$f":"Trixie!I$126","v":0},{"$f":"Trixie!J$126","v":0}]
[null,1111133128,31536,"Trixie PREMIO Omega Stripes курка для собак, 100 г","Більше 100","Ласощі для собак",112.74,145,{"$f":"Trixie!I$127","v":0},{"$f":"Trixie!J$127","v":0}]
[null,1111116707,2755,"Trixie PREMIO Picknicks сосиски з ягням для собак, (200 шт)","Менше 10","Ласощі для собак",3006.49,3893,{"$f":"Trixie!I$128","v":0},{"$f":"Trixie!J$128","v":0}]
[null,1111135172,42724,"Trixie PREMIO Quadro-Sticks домашня птиця/печінка для котів, 4 шт.* 5г","Більше 100","Ласощі для котів",53.87,69,{"$f":"Trixie!I$129","v":0},{"$f":"Trixie!J$129","v":0}]
[null,1111135173,42725,"Trixie PREMIO Quadro-Sticks лосось/форель для котів, 4 шт.*5г","Більше 100","Ласощі для котів",53.87,69,{"$f":"Trixie!I$130","v":0},{"$f":"Trixie!J$130","v":0}]
[null,1111135171,42723,"Trixie PREMIO Quadro-Sticks ягня/індичка для котів, 4 шт* 5г","Більше 100","Ласощі для котів",53.87,69,{"$f":"Trixie!I$131","v":0},{"$f":"Trixie!J$131","v":0}]
[null,1111148410,31545,"Trixie PREMIO Rabbit Cubes кролик для собак, 100 г","Більше 100","Ласощі для собак",122.76,158,{"$f":"Trixie!I$132","v":0},{"$f":"Trixie!J$132","v":0}]
[null,1111148411,31546,"Trixie PREMIO Rabbit Drumsticks кріль для собак, 100 г, 8 шт.","Більше 100","Ласощі для собак",112.74,146,{"$f":"Trixie!I$133","v":0},{"$f":"Trixie!J$133","v":0}]
[null,1111141772,31709,"Trixie PREMIO Rabbit Sticks ласощі кролик для собак, 100 г","Більше 10","Ласощі для собак",112.74,145,{"$f":"Trixie!I$134","v":0},{"$f":"Trixie!J$134","v":0}]
[null,1111170308,31607,"Trixie PREMIO Reeze Dried качина грудка д/собак, 50 г","Більше 10","Ласощі для собак",185.4,241,{"$f":"Trixie!I$135","v":0},{"$f":"Trixie!J$135","v":0}]
[null,1111139042,31701,"Trixie PREMIO Rice Chicken Balls рис/курка для собак, 80 г","Більше 10","Ласощі для собак",73.91,96,{"$f":"Trixie!I$136","v":0},{"$f":"Trixie!J$136","v":0}]
[null,1111139265,31704,"Trixie PREMIO Rice Duck Balls кульки з качкою і рисом для собак, 80 г","Більше 100","Ласощі для собак",73.91,96,{"$f":"Trixie!I$137","v":0},{"$f":"Trixie!J$137","v":0}]
[null,1111141774,31742,"Trixie PREMIO Rice Duck Bones ласощі качка/рис для собак, 80 г","Більше 100","Ласощі для собак",83.93,109,{"$f":"Trixie!I$138","v":0},{"$f":"Trixie!J$138","v":0}]
[null,1111124007,42702,"Trixie PREMIO Rolls курка/минтай для котів, 50 г","Більше 100","Ласощі для котів",65.14,85,{"$f":"Trixie!I$139","v":0},{"$f":"Trixie!J$139","v":0}]
[null,1111121803,3171,"Trixie PREMIO Rotolinis з м_ясом домашніх птахів д/собак, 120г (12шт.)","Більше 100","Ласощі для собак",53.87,70,{"$f":"Trixie!I$140","v":0},{"$f":"Trixie!J$140","v":0}]
[null,1111119296,3155,"Trixie PREMIO Rotolinis із шлунком для собак, 120 г (12 шт.)","Більше 100","Ласощі для собак",50.11,65,{"$f":"Trixie!I$141","v":0},{"$f":"Trixie!J$141","v":0}]
[null,1111120007,3156,"Trixie PREMIO Stripes Light з м_ясом дом. птахів д/собак, 100 г (10шт)","Більше 100","Ласощі для собак",46.35,61,{"$f":"Trixie!I$142","v":0},{"$f":"Trixie!J$142","v":0}]
[null,1111121135,3172,"Trixie PREMIO Stripes Light з яловичиною для собак, 100 г (10 шт.)","Більше 100","Ласощі для собак",46.35,61,{"$f":"Trixie!I$143","v":0},{"$f":"Trixie!J$143","v":0}]
[null,1111134914,31573,"Trixie PREMIO Sushi Rolls з рибою для собак, 100 г","Більше 10","Ласощі для собак",122.76,158,{"$f":"Trixie!I$144","v":0},{"$f":"Trixie!J$144","v":0}]
[null,1111140895,42734,"Trixie PREMIO Tuna Bites ласощі тунець, для котів, 50 г","Більше 100","Ласощі для котів",83.93,108,{"$f":"Trixie!I$145","v":0},{"$f":"Trixie!J$145","v":0}]
[null,1111139045,42732,"Trixie PREMIO Tuna Rolls тунець для котів, 50 г","Більше 10","Ласощі для котів",83.93,108,{"$f":"Trixie!I$146","v":0},{"$f":"Trixie!J$146","v":0}]
[null,1111139044,42731,"Trixie PREMIO Tuna Sandwiches тунець для котів, 50 г","Більше 100","Ласощі для котів",83.93,108,{"$f":"Trixie!I$147","v":0},{"$f":"Trixie!J$147","v":0}]
[null,1111137849,"2708_1шт","Trixie PREMIO Паличка пресована з рубцем для собак, 20 см, 80 г","Більше 10","Ласощі для собак",73.91,96,{"$f":"Trixie!I$148","v":0},{"$f":"Trixie!J$148","v":0}]
[null,1111115101,2748,"Trixie PREMIO сосиски з яловичиною для собак, (200 шт.)","Менше 10","Ласощі для собак",3006.49,3893,{"$f":"Trixie!I$149","v":0},{"$f":"Trixie!J$149","v":0}]
[null,1111183910,"312851_10шт","Trixie Safari овочеве насип для собак 28 г","Менше 10","Ласощі для собак",325.7,420,{"$f":"Trixie!I$150","v":0},{"$f":"Trixie!J$150","v":0}]
[null,1111148376,31526,"Trixie Soft Snack Bony Mix, XXL Pack мікс м_яса для собак, 1,8 кг","Більше 10","Ласощі для собак",769.16,996,{"$f":"Trixie!I$151","v":0},{"$f":"Trixie!J$151","v":0}]
[null,1111170288,31506,"Trixie Sweet Potato Crossies ласощі з куркою та картоплею д/соб. 100г","Більше 10","Ласощі для собак",99.36,129.16999999999999,{"$f":"Trixie!I$152","v":0},{"$f":"Trixie!J$152","v":0}]
[null,1111139972,31523,"Trixie Trainer Snack Mini Boness ласощі для собак, 500 г","Більше 10","Вітаміни та мінерали",220.48,285,{"$f":"Trixie!I$153","v":0},{"$f":"Trixie!J$153","v":0}]
[null,1111141775,42741,"Trixie Trainer Snack Mini Nuggets ласощі для тренування кота, 50 г","Більше 10","Ласощі для котів",83.93,108,{"$f":"Trixie!I$154","v":0},{"$f":"Trixie!J$154","v":0}]
[null,1111170310,31628,"Trixie Вафлі з куркою для собак d=7см, 3шт, 100г","Більше 10","Ласощі для собак",101.68,132.18,{"$f":"Trixie!I$155","v":0},{"$f":"Trixie!J$155","v":0}]
[null,1111153601,"2640_25шт","Trixie Кісточка пресована для собак, 13см/60г, 25 шт.","Більше 10","Ласощі для собак",1252.7,1622,{"$f":"Trixie!I$156","v":0},{"$f":"Trixie!J$156","v":0}]
[null,1111139987,27612,"Trixie кісточка пресована з м_ясом пеніса для собак, 12см/60г (2 шт.)","Більше 100","Ласощі для собак",101.47,131,{"$f":"Trixie!I$157","v":0},{"$f":"Trixie!J$157","v":0}]
[null,1111118270,27621,"Trixie кісточка пресована з рубцем для собак, 10см/35г (2 шт.)","Більше 100","Ласощі для собак",65.14,84,{"$f":"Trixie!I$158","v":0},{"$f":"Trixie!J$158","v":0}]
[null,1111118269,27622,"Trixie кісточка пресована з рубцем для собак, 12см/60г (2 шт.)","Більше 100","Ласощі для собак",101.47,131,{"$f":"Trixie!I$159","v":0},{"$f":"Trixie!J$159","v":0}]
[null,8057,6001,"Trixie мінерал-сіль в упаковці для великих гризунів, 84 г","Менше 10","Вітаміни та мінерали",42.59,55,{"$f":"Trixie!I$160","v":0},{"$f":"Trixie!J$160","v":0}]
[null,5165,6000,"Trixie мінерал-сіль в упаковці для гризунів, 54 г (2 шт.)","Більше 100","Вітаміни та мінерали",48.86,60,{"$f":"Trixie!I$161","v":0},{"$f":"Trixie!J$161","v":0}]
[null,1111132112,6004,"Trixie мінерал-сіль гімалайська для гризунів, 60 г","Більше 10","Вітаміни та мінерали",62.64,81,{"$f":"Trixie!I$162","v":0},{"$f":"Trixie!J$162","v":0}]
[null,1111141768,31745,"Trixie паличка жувальна з куркою д/собак 65г/шт. (50 шт.)","Більше 10","Ласощі для собак",1252.7,1460,{"$f":"Trixie!I$163","v":0},{"$f":"Trixie!J$163","v":0}]
[null,1111141769,31746,"Trixie паличка жувальна з яловичиною д/собак 65г/шт. (50 шт.)","Більше 10","Ласощі для собак",1252.7,1621,{"$f":"Trixie!I$164","v":0},{"$f":"Trixie!J$164","v":0}]
[null,1111170291,27646,"Trixie паличка пресована жувальна з качкою д/собак, 10 см, 17 г, 100шт","Менше 10","Ласощі для собак",1753.78,2280,{"$f":"Trixie!I$165","v":0},{"$f":"Trixie!J$165","v":0}]
[null,1111170292,27647,"Trixie паличка пресована жувальна з куркою д/собак, 10 см, 17 г, 100шт","Менше 10","Ласощі для собак",1753.78,2280,{"$f":"Trixie!I$166","v":0},{"$f":"Trixie!J$166","v":0}]
[null,10243,2610,"Trixie палички жувальні мікс для собак 10 см (100 шт.)","Більше 100","Ласощі для собак",298.14,386,{"$f":"Trixie!I$167","v":0},{"$f":"Trixie!J$167","v":0}]
[null,1111122931,2609,"Trixie палички жувальні мікс для собак 10 см (50 шт.)","Більше 100","Ласощі для собак",149.07,193,{"$f":"Trixie!I$168","v":0},{"$f":"Trixie!J$168","v":0}]
[null,1111134913,2607,"Trixie палички пресовані жувальні для собак, 12 см, 100 шт","Більше 10","Ласощі для собак",298.14,386,{"$f":"Trixie!I$169","v":0},{"$f":"Trixie!J$169","v":0}]
[null,1111134911,2600,"Trixie палички пресовані жувальні, червоні для собак, 12 см, 100 шт","Менше 10","Ласощі для собак",298.14,386,{"$f":"Trixie!I$170","v":0},{"$f":"Trixie!J$170","v":0}]
[null,1111114888,2805,"Trixie Рибка сушена для котів, 50 г","Більше 100","Ласощі для котів",57.62,74,{"$f":"Trixie!I$171","v":0},{"$f":"Trixie!J$171","v":0}]
[null,1111156266,27127,"Trixie Хвіст буйвола для собак, 28-30 см","Більше 10","Ласощі для собак",149.07,194,{"$f":"Trixie!I$172","v":0},{"$f":"Trixie!J$172","v":0}]
[null,1111119924,4151,"Адресник Trixie для собак металевий хромований Арт4151","Більше 10","Аксесуари для амуніції (адресовки, брелоки, медальйони, підвіски)",35.08,46,{"$f":"Trixie!I$173","v":0},{"$f":"Trixie!J$173","v":0}]
[null,9743,2278,"Адресниця золото для собак","Більше 10","Аксесуари для амуніції (адресовки, брелоки, медальйони, підвіски)",37.58,47,{"$f":"Trixie!I$174","v":0},{"$f":"Trixie!J$174","v":0}]
[null,1111115368,2279,"Адресниця синя/червона для собак","Менше 10","Аксесуари для амуніції (адресовки, брелоки, медальйони, підвіски)",37.58,47,{"$f":"Trixie!I$175","v":0},{"$f":"Trixie!J$175","v":0}]
[null,1111119354,2280,"Адресниця-капсула хромована для собак","Менше 10","Аксесуари для амуніції (адресовки, брелоки, медальйони, підвіски)",52.61,65,{"$f":"Trixie!I$176","v":0},{"$f":"Trixie!J$176","v":0}]
[null,1111127815,2277,"Адресниця-лапка флуоресцентна 3,5 см","Менше 10","Аксесуари для амуніції (адресовки, брелоки, медальйони, підвіски)",31.32,39,{"$f":"Trixie!I$177","v":0},{"$f":"Trixie!J$177","v":0}]
[null,1111163130,35677,"Альпака, 22 см, плюш","Більше 10","Іграшки для собак",298.14,369,{"$f":"Trixie!I$178","v":0},{"$f":"Trixie!J$178","v":0}]
[null,1111183727,23421,"Багаторазова пелюшки Trixie 60 х 60 см сіра Арт23421","Менше 10","Пелюшки для собак",571.23,743,{"$f":"Trixie!I$179","v":0},{"$f":"Trixie!J$179","v":0}]
[null,12266,4083,"Байбак 8,5 см в упаковці","Більше 100","Іграшки для котів",102.72,127,{"$f":"Trixie!I$180","v":0},{"$f":"Trixie!J$180","v":0}]
[null,1111148917,24664,"Банка для корму, пластик, прозора","Більше 10","Ємності для зберігання їжі",238.01,299,{"$f":"Trixie!I$181","v":0},{"$f":"Trixie!J$181","v":0}]
[null,1111135464,39451,"Бар єр міжкімнатний 75-85?76 см метал","Менше 10","Будинки, будки, двері",2869.94,3610,{"$f":"Trixie!I$182","v":0},{"$f":"Trixie!J$182","v":0}]
[null,1111114669,5401,"Басейн для птахів 13,5?15?13,5 см","Більше 10","Обладнання для кліток",117.75,146,{"$f":"Trixie!I$183","v":0},{"$f":"Trixie!J$183","v":0}]
[null,1111112415,5402,"Басейн для птахів 14?15?15 см","Немає в наявності","Обладнання для кліток",147.82,183,{"$f":"Trixie!I$184","v":0},{"$f":"Trixie!J$184","v":0}]
[null,1111138464,63002,"Басейн для шиншили 27?18?16 см","Більше 10","Обладнання для кліток",334.47,414,{"$f":"Trixie!I$185","v":0},{"$f":"Trixie!J$185","v":0}]
[null,1111183906,"2707_5шт","Бичка сушена для собак 70–80 см","Більше 10","Ласощі для собак",2343,3045,{"$f":"Trixie!I$186","v":0},{"$f":"Trixie!J$186","v":0}]
[null,1111134458,60812,"Біговий диск Trixie для дегу і великих хом'яків пластик 30см Арт60812","Більше 10","Обладнання для кліток",448,583,{"$f":"Trixie!I$187","v":0},{"$f":"Trixie!J$187","v":0}]
[null,1111134787,45768,"Білочка плюшева 9 см","Більше 10","Іграшки для котів",117.75,146,{"$f":"Trixie!I$188","v":0},{"$f":"Trixie!J$188","v":0}]
[null,1111134859,35910,"Бобер плюшевий 27 см","Більше 100","Іграшки для собак",298.14,368,{"$f":"Trixie!I$189","v":0},{"$f":"Trixie!J$189","v":0}]
[null,1111128547,35918,"Бобер плюшевий 40 см","Більше 10","Іграшки для собак",402.12,497,{"$f":"Trixie!I$190","v":0},{"$f":"Trixie!J$190","v":0}]
[null,1111124230,2287,"Брелок  Clicker  з кнопкою","Менше 10","Обладнання для аджиліті, дресирування",115.25,144,{"$f":"Trixie!I$191","v":0},{"$f":"Trixie!J$191","v":0}]
[null,1111120016,2289,"Брелок  Clicker Basic","Менше 10","Обладнання для аджиліті, дресирування",76.41,96,{"$f":"Trixie!I$192","v":0},{"$f":"Trixie!J$192","v":0}]
[null,1111124231,2298,"Брелок  Soft Clicker  з кнопкою","Менше 10","Обладнання для аджиліті, дресирування",102.72,130,{"$f":"Trixie!I$193","v":0},{"$f":"Trixie!J$193","v":0}]
[null,1111117203,2288,"Брелок з металевими дисками для тренувань 4,5 см","Менше 10","Обладнання для аджиліті, дресирування",110.24,139,{"$f":"Trixie!I$194","v":0},{"$f":"Trixie!J$194","v":0}]
[null,1111130650,22762,"Брелок-адресниця Кісточка 35?20 мм","Менше 10","Аксесуари для амуніції (адресовки, брелоки, медальйони, підвіски)",129.03,159,{"$f":"Trixie!I$195","v":0},{"$f":"Trixie!J$195","v":0}]
[null,1111165306,13449,"Брелок-ліхтарик Trixie USB для собак 3,5х4,3 см Арт13449","Більше 10","Аксесуари для амуніції (адресовки, брелоки, медальйони, підвіски)",238.01,309,{"$f":"Trixie!I$196","v":0},{"$f":"Trixie!J$196","v":0}]
[null,1111134523,13443,"Брелок-ліхтарик з карабіном металевий 1 см","Менше 10","Аксесуари для амуніції (адресовки, брелоки, медальйони, підвіски)",147.82,207,{"$f":"Trixie!I$197","v":0},{"$f":"Trixie!J$197","v":0}]
[null,1111146895,13448,"Брелок-ліхтарик силіконовий 3,5см/11см","Більше 10","Аксесуари для амуніції (адресовки, брелоки, медальйони, підвіски)",181.64,224,{"$f":"Trixie!I$198","v":0},{"$f":"Trixie!J$198","v":0}]
[null,1111141005,13447,"Брелок-ліхтарик силіконовий 8 см","Більше 10","Аксесуари для амуніції (адресовки, брелоки, медальйони, підвіски)",155.34,192,{"$f":"Trixie!I$199","v":0},{"$f":"Trixie!J$199","v":0}]
[null,1111115990,1342,"Брелок-ліхтарик-адресниця кісточка для собак 4,5х3 см","Більше 10","Аксесуари для амуніції (адресовки, брелоки, медальйони, підвіски)",117.75,145,{"$f":"Trixie!I$200","v":0},{"$f":"Trixie!J$200","v":0}]
[null,1111161174,61364,"Будинок для гризунів керамічний d16 * 12 см сірий","Немає в наявності","Обладнання для кліток",274.99,340,{"$f":"Trixie!I$201","v":0},{"$f":"Trixie!J$201","v":0}]
[null,1111139703,36842,"Будиночок  Jimmy  40?35?35 см сірий в лапку","Менше 10","Будиночки-лежаки",1267.74,1501,{"$f":"Trixie!I$202","v":0},{"$f":"Trixie!J$202","v":0}]
[null,1111139036,36341,"Будиночок  Kaline  35?26?41 см сірий/кремовий","Менше 10","Будиночки-лежаки",1086.0899999999999,1286,{"$f":"Trixie!I$203","v":0},{"$f":"Trixie!J$203","v":0}]
[null,1111133003,36290,"Будиночок  Lukas  хутряний сірий 35?33?65 см з дряпкою","Менше 10","Будиночки-лежаки",2869.94,3399,{"$f":"Trixie!I$204","v":0},{"$f":"Trixie!J$204","v":0}]
[null,1111145204,36356,"Будиночок  Malu  коричневий/світло-коричневий 47x27x41 см","Більше 10","Будиночки-лежаки",1267.74,1501,{"$f":"Trixie!I$205","v":0},{"$f":"Trixie!J$205","v":0}]
[null,1111146878,36352,"Будиночок Silas 40?45?40 см сірий/крем","Більше 10","Будиночки-лежаки",1489.46,1764,{"$f":"Trixie!I$206","v":0},{"$f":"Trixie!J$206","v":0}]
[null,1111183753,38211,"Будиночок Trixie Бохо 55 х 65 х 55 см бежевий Арт38211","Більше 10","Будиночки-лежаки",1595,2073,{"$f":"Trixie!I$207","v":0},{"$f":"Trixie!J$207","v":0}]
[null,1111183797,62684,"Будиночок Trixie вігвам Санні для гризунів 37х35х37см Арт62684","Більше 10","Обладнання для кліток",334,435,{"$f":"Trixie!I$208","v":0},{"$f":"Trixie!J$208","v":0}]
[null,1111183795,62102,"Будиночок Trixie кокосовий з драбиною для гризунів 13х56см Арт62102","Більше 10","Обладнання для кліток",328,427,{"$f":"Trixie!I$209","v":0},{"$f":"Trixie!J$209","v":0}]
[null,1111183796,62103,"Будиночок Trixie набір з 2 будин з мостом для гризун 13х100см Арт62103","Менше 10","Обладнання для кліток",479,622,{"$f":"Trixie!I$210","v":0},{"$f":"Trixie!J$210","v":0}]
[null,1111121369,6176,"Будиночок для гризуна  Bjork  15?15?16 см","Менше 10","Обладнання для кліток",298.14,368,{"$f":"Trixie!I$211","v":0},{"$f":"Trixie!J$211","v":0}]
[null,1111121355,"62042*****СПЕЦЦЕНА","Будиночок для гризуна  Jesper  32?21,5?13 см","Більше 10","Обладнання для кліток",334,435,{"$f":"Trixie!I$212","v":0},{"$f":"Trixie!J$212","v":0}]
[null,1111115851,6118,"Будиночок для гризуна плетений 28?18?13,5 см","Менше 10","Обладнання для кліток",238.01,294,{"$f":"Trixie!I$213","v":0},{"$f":"Trixie!J$213","v":0}]
[null,1111120127,6171,"Будиночок для хом яків  Hendrik  15?12?11 см","Немає в наявності","Обладнання для кліток",177.88,220,{"$f":"Trixie!I$214","v":0},{"$f":"Trixie!J$214","v":0}]
[null,1111180290,36316,"Будиночок-лежак Trixie для котів фетровий світло-сірий 40 × 24 × 46см","Менше 10","Будиночки-лежаки",904.45,1176,{"$f":"Trixie!I$215","v":0},{"$f":"Trixie!J$215","v":0}]
[null,1111150923,36319,"Будиночок-лежак брудовідштовхувальний Liva 40?24?47см","Менше 10","Будиночки-лежаки",904.45,1071,{"$f":"Trixie!I$216","v":0},{"$f":"Trixie!J$216","v":0}]
[null,1111140974,36847,"Будиночок-тунель  Mimi  42?35?35 см сірий","Менше 10","Будиночки-лежаки",1267.74,1501,{"$f":"Trixie!I$217","v":0},{"$f":"Trixie!J$217","v":0}]
[null,1111125094,35986,"Бурундучок плюшевий з хвостом 30 см","Більше 10","Іграшки для собак",207.95,256,{"$f":"Trixie!I$218","v":0},{"$f":"Trixie!J$218","v":0}]
[null,1111115171,6184,"Валик дерев яний для хом яків 5?7 см","Більше 10","Обладнання для кліток",71.400000000000006,88,{"$f":"Trixie!I$219","v":0},{"$f":"Trixie!J$219","v":0}]
[null,1111163131,35678,"Ведмідь, 27см, плюш","Менше 10","Іграшки для собак",402.08,497,{"$f":"Trixie!I$220","v":0},{"$f":"Trixie!J$220","v":0}]
[null,1111161307,60867,"Вежа зі сходами для хом./мишей 10*14*9 см дерев яна","Менше 10","Обладнання для кліток",176.78,219,{"$f":"Trixie!I$221","v":0},{"$f":"Trixie!J$221","v":0}]
[null,10995,19485,"Ветеринарний комірець L 44-50см/25см","Менше 10","Ветеринарні комірці",177.88,219,{"$f":"Trixie!I$222","v":0},{"$f":"Trixie!J$222","v":0}]
[null,10991,19486,"Ветеринарний комірець L-XL 47-57см/30см","Менше 10","Ветеринарні комірці",286.87,355,{"$f":"Trixie!I$223","v":0},{"$f":"Trixie!J$223","v":0}]
[null,10993,19484,"Ветеринарний комірець M 38-44см/20см","Менше 10","Ветеринарні комірці",155.34,192,{"$f":"Trixie!I$224","v":0},{"$f":"Trixie!J$224","v":0}]
[null,10992,19482,"Ветеринарний комірець S 28-33см/12см","Більше 10","Ветеринарні комірці",87.69,108,{"$f":"Trixie!I$225","v":0},{"$f":"Trixie!J$225","v":0}]
[null,1111134443,19515,"Ветеринарний комірець на липучці L 44-53см/22см","Більше 10","Ветеринарні комірці",290.63,359,{"$f":"Trixie!I$226","v":0},{"$f":"Trixie!J$226","v":0}]
[null,1111134442,19514,"Ветеринарний комірець на липучці M 36-43см/18см","Більше 10","Ветеринарні комірці",222.98,289,{"$f":"Trixie!I$227","v":0},{"$f":"Trixie!J$227","v":0}]
[null,1111134440,19512,"Ветеринарний комірець на липучці S 25-32см/12см","Більше 10","Ветеринарні комірці",155.34,201,{"$f":"Trixie!I$228","v":0},{"$f":"Trixie!J$228","v":0}]
[null,1111134441,19513,"Ветеринарний комірець на липучці S-M 30-37см/14см","Більше 10","Ветеринарні комірці",177.88,230,{"$f":"Trixie!I$229","v":0},{"$f":"Trixie!J$229","v":0}]
[null,1111134438,19510,"Ветеринарний комірець на липучці XS 18-23см/8см","Більше 10","Ветеринарні комірці",110.24,136,{"$f":"Trixie!I$230","v":0},{"$f":"Trixie!J$230","v":0}]
[null,1111134439,19511,"Ветеринарний комірець на липучці XS-S 20-26см/11см","Більше 10","Ветеринарні комірці",132.79,164,{"$f":"Trixie!I$231","v":0},{"$f":"Trixie!J$231","v":0}]
[null,9925,2928,"Відлякувач для собак і котів 175 г","Більше 100","Засоби для заборони",233,287,{"$f":"Trixie!I$232","v":0},{"$f":"Trixie!J$232","v":0}]
[null,1111145331,25445,"Вода для зубів зі смаком яблука д/собак і котів 300 мл","Більше 10","Засоби для догляду за зубами та ротовою порожниною",165.36,205,{"$f":"Trixie!I$233","v":0},{"$f":"Trixie!J$233","v":0}]
[null,1111122601,64054,"Вольєр нейлоновий 130?55 см","Менше 10","Клітки, вольєри для котів і собак",1890.33,2336,{"$f":"Trixie!I$234","v":0},{"$f":"Trixie!J$234","v":0}]
[null,1111116588,62691,"Гамак для хом яків 18?18 см","Більше 10","Обладнання для кліток",88.94,109,{"$f":"Trixie!I$235","v":0},{"$f":"Trixie!J$235","v":0}]
[null,1111116589,62692,"Гамак для хом яків 30?30 см","Більше 10","Обладнання для кліток",177.88,219,{"$f":"Trixie!I$236","v":0},{"$f":"Trixie!J$236","v":0}]
[null,1111115364,6276,"Гамак для хом яків хутряний 9?16?12 см","Менше 10","Обладнання для кліток",147.82,182,{"$f":"Trixie!I$237","v":0},{"$f":"Trixie!J$237","v":0}]
[null,1111133853,62696,"Гамак для хорька 2 поверхи 22?15?30 см","Менше 10","Обладнання для кліток",207.95,257,{"$f":"Trixie!I$238","v":0},{"$f":"Trixie!J$238","v":0}]
[null,1111127081,6913,"Гамак для хорька 45?45 см","Більше 10","Обладнання для кліток",177.88,219,{"$f":"Trixie!I$239","v":0},{"$f":"Trixie!J$239","v":0}]
[null,1111147056,32811,"Гантель з канату яскрава 15 см","Більше 10","Іграшки для собак",87.69,108,{"$f":"Trixie!I$240","v":0},{"$f":"Trixie!J$240","v":0}]
[null,1111142219,33343,"Гантеля  Denta Fun  натуральний каучук 9 см","Більше 10","Іграшки для собак",161.6,199,{"$f":"Trixie!I$241","v":0},{"$f":"Trixie!J$241","v":0}]
[null,11907,3361,"Гантеля вінілова 15 см лапка","Більше 10","Іграшки для собак",71.400000000000006,88,{"$f":"Trixie!I$242","v":0},{"$f":"Trixie!J$242","v":0}]
[null,9734,3362,"Гантеля вінілова 19 см лапка","Більше 10","Іграшки для собак",117.75,145,{"$f":"Trixie!I$243","v":0},{"$f":"Trixie!J$243","v":0}]
[null,11908,3363,"Гантеля вінілова 25 см лапка","Менше 10","Іграшки для собак",164.07,203,{"$f":"Trixie!I$244","v":0},{"$f":"Trixie!J$244","v":0}]
[null,1111116013,3220,"Гантеля дерев яна 125 г","Менше 10","Іграшки для собак",147.82,182,{"$f":"Trixie!I$245","v":0},{"$f":"Trixie!J$245","v":0}]
[null,1111116014,3221,"Гантеля дерев яна 250 г","Менше 10","Іграшки для собак",233,287,{"$f":"Trixie!I$246","v":0},{"$f":"Trixie!J$246","v":0}]
[null,1111115844,35611,"Гантеля латексна для цуценят 10 см","Більше 10","Іграшки для собак",101.47,125,{"$f":"Trixie!I$247","v":0},{"$f":"Trixie!J$247","v":0}]
[null,1111141794,34930,"Гантеля-годівниця термопластичний каучук 12 см","Більше 10","Іграшки для собак",71.400000000000006,88,{"$f":"Trixie!I$248","v":0},{"$f":"Trixie!J$248","v":0}]
[null,1111134497,32656,"Гантеля-канат 20см/220гр","Менше 10","Іграшки для собак",149.05000000000001,184,{"$f":"Trixie!I$249","v":0},{"$f":"Trixie!J$249","v":0}]
[null,1111127895,23498,"Гігієнічні прокладки для собак (10 шт.) розмір L, XL","Менше 10","Памперси, прокладки для собак",62.64,79,{"$f":"Trixie!I$250","v":0},{"$f":"Trixie!J$250","v":0}]
[null,1111127894,23497,"Гігієнічні прокладки для собак (10 шт.) розмір M","Більше 10","Памперси, прокладки для собак",52.61,66,{"$f":"Trixie!I$251","v":0},{"$f":"Trixie!J$251","v":0}]
[null,1111127893,23496,"Гігієнічні прокладки для собак (10 шт.) розмір XS,S,S-M","Більше 10","Памперси, прокладки для собак",36.33,46,{"$f":"Trixie!I$252","v":0},{"$f":"Trixie!J$252","v":0}]
[null,1111183704,5630,"Гніздо Trixie дерев_яна коробка 21х13х12 см діаметр 4 см Арт5630","Менше 10","Обладнання для кліток",268.08,349,{"$f":"Trixie!I$253","v":0},{"$f":"Trixie!J$253","v":0}]
[null,8062,6108,"Гніздо для гризуна кругле 10 см","Менше 10","Обладнання для кліток",87.69,108,{"$f":"Trixie!I$254","v":0},{"$f":"Trixie!J$254","v":0}]
[null,5930,6110,"Гніздо для гризуна кругле 16 см","Менше 10","Обладнання для кліток",207.95,257,{"$f":"Trixie!I$255","v":0},{"$f":"Trixie!J$255","v":0}]
[null,5929,6109,"Гніздо для гризуна подвійне","Менше 10","Обладнання для кліток",131.53,162,{"$f":"Trixie!I$256","v":0},{"$f":"Trixie!J$256","v":0}]
[null,7839,5600,"Гніздо для птахів плетене 10?9 см","Менше 10","Обладнання для кліток",76.41,95,{"$f":"Trixie!I$257","v":0},{"$f":"Trixie!J$257","v":0}]
[null,6931,5602,"Гніздо для птахів плетене 12?11 см","Менше 10","Обладнання для кліток",102.72,127,{"$f":"Trixie!I$258","v":0},{"$f":"Trixie!J$258","v":0}]
[null,6930,5605,"Гніздо для птахів плетене 15?12 см","Менше 10","Обладнання для кліток",129.03,160,{"$f":"Trixie!I$259","v":0},{"$f":"Trixie!J$259","v":0}]
[null,1111182444,60713,"Гніздовий матеріал Trixie капок 40 г кремовий Арт60713","Більше 10","Обладнання для котів і собак",66.39,87,{"$f":"Trixie!I$260","v":0},{"$f":"Trixie!J$260","v":0}]
[null,1111165896,55630,"Годівниця Trixie садова підвісна металева червона 1000мл 20см","Немає в наявності","Пристосування для вуличних птахів",448.47,554,{"$f":"Trixie!I$261","v":0},{"$f":"Trixie!J$261","v":0}]
[null,1111119516,24371,"Годівниця автоматична  TX 1  одинарна 15?7?24 см","Менше 10","Автогодівниці, автопоїлки",740.35,931,{"$f":"Trixie!I$262","v":0},{"$f":"Trixie!J$262","v":0}]
[null,1111118536,24372,"Годівниця автоматична  TX 2  подвійна 30?7?24 см","Менше 10","Автогодівниці, автопоїлки",1180.05,1484,{"$f":"Trixie!I$263","v":0},{"$f":"Trixie!J$263","v":0}]
[null,1111141120,24383,"Годівниця автоматична  TX 6  кругла 32?10 см","Менше 10","Автогодівниці, автопоїлки",3079.16,3874,{"$f":"Trixie!I$264","v":0},{"$f":"Trixie!J$264","v":0}]
[null,1111113723,4137,"Годівниця-м яч  Snacky  для котів 7,5 см","Більше 10","Іграшки для котів",117.75,145,{"$f":"Trixie!I$265","v":0},{"$f":"Trixie!J$265","v":0}]
[null,13732,6105,"Годівниця-шар для гризунів 12 см","Більше 10","Обладнання для кліток",147.82,183,{"$f":"Trixie!I$266","v":0},{"$f":"Trixie!J$266","v":0}]
[null,13733,6104,"Годівниця-шар для гризунів 8 см","Менше 10","Обладнання для кліток",102.72,126,{"$f":"Trixie!I$267","v":0},{"$f":"Trixie!J$267","v":0}]
[null,1111114578,5418,"Годівничка воронка 150мл/12,5см","Більше 10","Обладнання для кліток",76.41,94,{"$f":"Trixie!I$268","v":0},{"$f":"Trixie!J$268","v":0}]
[null,1111121455,5461,"Годівничка для птахів керамічна 25мл/5см","Більше 10","Обладнання для кліток",42.59,53,{"$f":"Trixie!I$269","v":0},{"$f":"Trixie!J$269","v":0}]
[null,8059,"5472_1шт","Годівничка підвісна 130 мл","Менше 10","Обладнання для кліток",31.32,39,{"$f":"Trixie!I$270","v":0},{"$f":"Trixie!J$270","v":0}]
[null,8060,"5473_1шт","Годівничка підвісна 200 мл","Більше 10","Обладнання для кліток",36.33,44,{"$f":"Trixie!I$271","v":0},{"$f":"Trixie!J$271","v":0}]
[null,8058,"5471_1шт","Годівничка підвісна 65 мл","Більше 10","Обладнання для кліток",25.05,30,{"$f":"Trixie!I$272","v":0},{"$f":"Trixie!J$272","v":0}]
[null,1111114679,5415,"Годівничка-поїлка 65мл/14,5см","Менше 10","Обладнання для кліток",52.61,65,{"$f":"Trixie!I$273","v":0},{"$f":"Trixie!J$273","v":0}]
[null,1111114682,5425,"Годівничка-поїлка 90мл/12см","Більше 10","Обладнання для кліток",52.61,65,{"$f":"Trixie!I$274","v":0},{"$f":"Trixie!J$274","v":0}]
[null,1111113746,5830,"Гойдалка дерев яна з дзвіночком 12?13 см","Більше 10","Обладнання для кліток",52.61,65,{"$f":"Trixie!I$275","v":0},{"$f":"Trixie!J$275","v":0}]
[null,1111113745,5822,"Гойдалка дерев яна подвійна з дзвіночком 12?20 см","Менше 10","Обладнання для кліток",76.41,94,{"$f":"Trixie!I$276","v":0},{"$f":"Trixie!J$276","v":0}]
[null,1111113751,5821,"Гойдалка для птахів дерев яна 12х13,5 см","Менше 10","Обладнання для кліток",39.28,49,{"$f":"Trixie!I$277","v":0},{"$f":"Trixie!J$277","v":0}]
[null,1111116041,5829,"Гойдалка для птахів дерев яна кольорова 20х29 см","Менше 10","Обладнання для кліток",298.14,369,{"$f":"Trixie!I$278","v":0},{"$f":"Trixie!J$278","v":0}]
[null,7841,5826,"Гойдалка для птахів дуга 10,5х22,5 см","Менше 10","Обладнання для кліток",76.41,94,{"$f":"Trixie!I$279","v":0},{"$f":"Trixie!J$279","v":0}]
[null,7842,5825,"Гойдалка для птахів дуга 8х15 см","Менше 10","Обладнання для кліток",62.64,77,{"$f":"Trixie!I$280","v":0},{"$f":"Trixie!J$280","v":0}]
[null,1111120889,5160,"Гойдалка для птахів канат 37см?16мм","Менше 10","Обладнання для кліток",147.82,182,{"$f":"Trixie!I$281","v":0},{"$f":"Trixie!J$281","v":0}]
[null,1111119528,5161,"Гойдалка для птахів канат 66см?18мм","Менше 10","Обладнання для кліток",177.88,220,{"$f":"Trixie!I$282","v":0},{"$f":"Trixie!J$282","v":0}]
[null,1111118523,5162,"Гойдалка для птахів канат 75см?30мм","Менше 10","Обладнання для кліток",268.08,330,{"$f":"Trixie!I$283","v":0},{"$f":"Trixie!J$283","v":0}]
[null,1111165622,24051,"Граблі Trixie д/вид.підш Groomer дворяд з рідк.зубом пласт/мет 11*16см","Менше 10","Аксесуари для грумінгу",164.07,203,{"$f":"Trixie!I$284","v":0},{"$f":"Trixie!J$284","v":0}]
[null,1111145750,23123,"Граблі д/видалення підшерстку супер гострі д/котів 7?15 см","Більше 10","Аксесуари для грумінгу",538.66,666,{"$f":"Trixie!I$285","v":0},{"$f":"Trixie!J$285","v":0}]
[null,1111126099,24175,"Граблі для видалення підшерстка 11?15 см","Менше 10","Аксесуари для грумінгу",749.12,926,{"$f":"Trixie!I$286","v":0},{"$f":"Trixie!J$286","v":0}]
[null,1111125858,24173,"Граблі для видалення підшерстка 8?14 см","Менше 10","Аксесуари для грумінгу",598.79,741,{"$f":"Trixie!I$287","v":0},{"$f":"Trixie!J$287","v":0}]
[null,1111142383,24183,"Граблі для видалення підшерстка супергострі 6?15 см","Більше 10","Аксесуари для грумінгу",538.66,666,{"$f":"Trixie!I$288","v":0},{"$f":"Trixie!J$288","v":0}]
[null,1111142384,24185,"Граблі для видалення підшерстка супергострі 8?14 см","Менше 10","Аксесуари для грумінгу",598.79,741,{"$f":"Trixie!I$289","v":0},{"$f":"Trixie!J$289","v":0}]
[null,1111125857,23792,"Граблі для собак з обертовим 1,5 см зубом","Більше 10","Аксесуари для грумінгу",298.14,369,{"$f":"Trixie!I$290","v":0},{"$f":"Trixie!J$290","v":0}]
[null,1111125851,23793,"Граблі для собак з обертовим 2 см зубом 10х15 см","Менше 10","Аксесуари для грумінгу",298.14,369,{"$f":"Trixie!I$291","v":0},{"$f":"Trixie!J$291","v":0}]
[null,1111150257,23393,"Гребінець-рукавичка д/вичісування шерсті, гума, 16?24см","Більше 10","Аксесуари для грумінгу",129.03,159,{"$f":"Trixie!I$292","v":0},{"$f":"Trixie!J$292","v":0}]
[null,1111118328,2410,"Гребінь антиблошиний металічний з пластиковою ручкою для котів 15 см","Більше 100","Аксесуари для грумінгу",115.25,142,{"$f":"Trixie!I$293","v":0},{"$f":"Trixie!J$293","v":0}]
[null,1111125838,23762,"Гребінь антиблошиний металічний з пластиковою ручкою для собак 21 см","Менше 10","Аксесуари для грумінгу",238.01,294,{"$f":"Trixie!I$294","v":0},{"$f":"Trixie!J$294","v":0}]
[null,1111118325,2400,"Гребінь двосторонній пластиковий з ручкою густий/середній зуб 14 см","Більше 10","Аксесуари для грумінгу",35.08,43,{"$f":"Trixie!I$295","v":0},{"$f":"Trixie!J$295","v":0}]
[null,2170,2395,"Гребінь для собак металічний густий/рідкий зуб","Більше 10","Аксесуари для грумінгу",129.03,159,{"$f":"Trixie!I$296","v":0},{"$f":"Trixie!J$296","v":0}]
[null,1111117694,2390,"Гребінь для собак металічний з дерев яною ручкою густий зуб 17 см","Більше 10","Аксесуари для грумінгу",119.01,147,{"$f":"Trixie!I$297","v":0},{"$f":"Trixie!J$297","v":0}]
[null,1111114771,2391,"Гребінь для собак металічний з дерев яною ручкою середній зуб 18 см","Більше 10","Аксесуари для грумінгу",94.74,118,{"$f":"Trixie!I$298","v":0},{"$f":"Trixie!J$298","v":0}]
[null,6912,2411,"Гребінь для собак металічний з обертовим зубом 18 см","Немає в наявності","Аксесуари для грумінгу",94.74,117,{"$f":"Trixie!I$299","v":0},{"$f":"Trixie!J$299","v":0}]
[null,1111125840,23764,"Гребінь металічний з пластиковою ручкою густий зуб","Більше 10","Аксесуари для грумінгу",238.01,294,{"$f":"Trixie!I$300","v":0},{"$f":"Trixie!J$300","v":0}]
[null,1111125843,23767,"Гребінь металічний з пластиковою ручкою довгий/короткий зуб","Менше 10","Аксесуари для грумінгу",207.95,256,{"$f":"Trixie!I$301","v":0},{"$f":"Trixie!J$301","v":0}]
[null,1111125844,23771,"Гребінь металічний з пластиковою ручкою обертовий короткий зуб","Більше 10","Аксесуари для грумінгу",268.08,331,{"$f":"Trixie!I$302","v":0},{"$f":"Trixie!J$302","v":0}]
[null,1111125846,23773,"Гребінь металічний з пластиковою ручкою обертовий різнозубий","Менше 10","Аксесуари для грумінгу",268.08,331,{"$f":"Trixie!I$303","v":0},{"$f":"Trixie!J$303","v":0}]
[null,1111125845,23772,"Гребінь металічний з пластиковою ручкою обертовий середній зуб","Більше 10","Аксесуари для грумінгу",268.08,331,{"$f":"Trixie!I$304","v":0},{"$f":"Trixie!J$304","v":0}]
[null,1111113775,2326,"Гребінь-щітка для котів дерев яна з натуральною щетиною 5?18 см","Більше 10","Аксесуари для грумінгу",102.72,127,{"$f":"Trixie!I$305","v":0},{"$f":"Trixie!J$305","v":0}]
[null,1111115380,2315,"Гребінь-щітка для собак дерев яна двостороння овальна 5?22 см","Більше 10","Аксесуари для грумінгу",129.03,159,{"$f":"Trixie!I$306","v":0},{"$f":"Trixie!J$306","v":0}]
[null,1111118330,24243,"Грумінг для собак 10?19 см","Менше 10","Аксесуари для грумінгу",418.4,517,{"$f":"Trixie!I$307","v":0},{"$f":"Trixie!J$307","v":0}]
[null,1111137872,24244,"Грумінг для собак 7?18 см","Менше 10","Аксесуари для грумінгу",478.53,591,{"$f":"Trixie!I$308","v":0},{"$f":"Trixie!J$308","v":0}]
[null,1111119120,24242,"Грумінг для собак 7?19 см","Менше 10","Аксесуари для грумінгу",418.4,517,{"$f":"Trixie!I$309","v":0},{"$f":"Trixie!J$309","v":0}]
[null,1111114590,35093,"Гуска латексна 14,5 см","Немає в наявності","Іграшки для собак",71.400000000000006,88,{"$f":"Trixie!I$310","v":0},{"$f":"Trixie!J$310","v":0}]
[null,1111115360,4077,"Два сизалевих м ячика з м ятою 4,5 см","Більше 100","Іграшки для котів",62.64,77,{"$f":"Trixie!I$311","v":0},{"$f":"Trixie!J$311","v":0}]
[null,1111131657,3879,"Двері  FreeDog  M/XL для собак 39?45см/33-40см","Менше 10","Будинки, будки, двері",2194.7399999999998,2762,{"$f":"Trixie!I$312","v":0},{"$f":"Trixie!J$312","v":0}]
[null,1111131656,3878,"Двері  FreeDog  S/M для собак 30?36см/24,8-30,8см","Менше 10","Будинки, будки, двері",1681.13,2115,{"$f":"Trixie!I$313","v":0},{"$f":"Trixie!J$313","v":0}]
[null,1111139052,3877,"Двері  FreeDog  XS/S для собак 25?29см/21,8-22,7см","Менше 10","Будинки, будки, двері",1232.6600000000001,1552,{"$f":"Trixie!I$314","v":0},{"$f":"Trixie!J$314","v":0}]
[null,1111156353,44231,"Двері д/котів чотиристоронні з тунелем 20 ? 22 cм, білі","Менше 10","Будинки, будки, двері",598.79,753,{"$f":"Trixie!I$315","v":0},{"$f":"Trixie!J$315","v":0}]
[null,1111156350,44202,"Двері для котів двосторонні, 20 ? 22 cм, сірі, пластик","Менше 10","Будинки, будки, двері",448.47,564,{"$f":"Trixie!I$316","v":0},{"$f":"Trixie!J$316","v":0}]
[null,1111156349,44201,"Двері для котів двосторонні, 20 ? 22cм, білі, пластик","Менше 10","Будинки, будки, двері",448.47,564,{"$f":"Trixie!I$317","v":0},{"$f":"Trixie!J$317","v":0}]
[null,1111126050,76194,"Декорація Грот зі східцями 16?12?15 см","Менше 10","Декорації для тераріуму",538.66,666,{"$f":"Trixie!I$318","v":0},{"$f":"Trixie!J$318","v":0}]
[null,1111126051,76195,"Декорація Грот зі східцями 19?17?17 см","Менше 10","Декорації для тераріуму",899.44,1111,{"$f":"Trixie!I$319","v":0},{"$f":"Trixie!J$319","v":0}]
[null,1111127811,76210,"Декорація Печера 16?7?11 см","Менше 10","Декорації для тераріуму",368.29,455,{"$f":"Trixie!I$320","v":0},{"$f":"Trixie!J$320","v":0}]
[null,1111127812,76211,"Декорація Печера 24?8?17 см","Менше 10","Декорації для тераріуму",672.7,832,{"$f":"Trixie!I$321","v":0},{"$f":"Trixie!J$321","v":0}]
[null,1111125305,32945,"Джампер Denta Fun на канаті 28 см","Менше 10","Іграшки для собак",247.26,306,{"$f":"Trixie!I$322","v":0},{"$f":"Trixie!J$322","v":0}]
[null,1111122205,35497,"Дикий кабан латексний з оригінальним звуком 18 см","Менше 10","Іграшки для собак",268.08,331,{"$f":"Trixie!I$323","v":0},{"$f":"Trixie!J$323","v":0}]
[null,1111134457,60811,"Диск біговий для дрібних гризунів 17 см","Менше 10","Обладнання для кліток",147.82,182,{"$f":"Trixie!I$324","v":0},{"$f":"Trixie!J$324","v":0}]
[null,1111120101,6106,"Драбинка дерев яна для гризунів 27,5?7 см","Більше 10","Обладнання для кліток",88.94,111,{"$f":"Trixie!I$325","v":0},{"$f":"Trixie!J$325","v":0}]
[null,1111113747,5811,"Драбинка дерев яна для птахів 20 см","Більше 10","Обладнання для кліток",48.53,60,{"$f":"Trixie!I$326","v":0},{"$f":"Trixie!J$326","v":0}]
[null,1111113749,5813,"Драбинка дерев яна для птахів 28 см","Більше 10","Обладнання для кліток",62.64,77,{"$f":"Trixie!I$327","v":0},{"$f":"Trixie!J$327","v":0}]
[null,1111113748,5815,"Драбинка дерев яна для птахів 36 см","Більше 10","Обладнання для кліток",76.41,94,{"$f":"Trixie!I$328","v":0},{"$f":"Trixie!J$328","v":0}]
[null,1111119269,5886,"Драбинка дерев яна на канаті для птахів 34 см","Менше 10","Обладнання для кліток",207.95,256,{"$f":"Trixie!I$329","v":0},{"$f":"Trixie!J$329","v":0}]
[null,1111126363,5880,"Драбинка натуральне дерево для птахів 30 см","Більше 10","Обладнання для кліток",76.41,94,{"$f":"Trixie!I$330","v":0},{"$f":"Trixie!J$330","v":0}]
[null,10361,5186,"Драбинка сизалева з дерев яними сходами для птахів 40 см","Менше 10","Обладнання для кліток",155.34,192,{"$f":"Trixie!I$331","v":0},{"$f":"Trixie!J$331","v":0}]
[null,1111121545,44071,"Дряпка  Allora  176 см бежева","Менше 10","Дряпки-комплекси",11660.35,13806,{"$f":"Trixie!I$332","v":0},{"$f":"Trixie!J$332","v":0}]
[null,1111114905,43882,"Дряпка  Altea  117 см","Менше 10","Дряпки-комплекси",2434,2881,{"$f":"Trixie!I$333","v":0},{"$f":"Trixie!J$333","v":0}]
[null,1111129721,44541,"Дряпка  Baza  50 см кремова","Менше 10","Дряпки-стовпчики",1362.94,1614,{"$f":"Trixie!I$334","v":0},{"$f":"Trixie!J$334","v":0}]
[null,1111130095,4331,"Дряпка  Edoardo  ( Cat Tower ) 50 см коричнева/кремова","Менше 10","Дряпки-комплекси",2869.94,3397,{"$f":"Trixie!I$335","v":0},{"$f":"Trixie!J$335","v":0}]
[null,1111116611,4341,"Дряпка  Inca  (Хвиля) 44х25х39 см світло-коричнева","Менше 10","Дряпки-комплекси",1181.3,1398,{"$f":"Trixie!I$336","v":0},{"$f":"Trixie!J$336","v":0}]
[null,1111146293,44810,"Дряпка  Marlena , 151 см, світло-сіра","Менше 10","Дряпки-комплекси",8355.5300000000007,9893,{"$f":"Trixie!I$337","v":0},{"$f":"Trixie!J$337","v":0}]
[null,1111141815,48001,"Дряпка  Mimi Wave  50х9х23 см бірюзова","Більше 100","Дряпки картонні",334.47,420,{"$f":"Trixie!I$338","v":0},{"$f":"Trixie!J$338","v":0}]
[null,1111117666,43787,"Дряпка  Palamos  109 см антрацитова","Менше 10","Дряпки-комплекси",3338.45,3953,{"$f":"Trixie!I$339","v":0},{"$f":"Trixie!J$339","v":0}]
[null,1111117413,4330,"Дряпка  Samuel  ( Cat Tower ) сизаль 36х70 см бежева","Менше 10","Дряпки-стовпчики",4210.33,4985,{"$f":"Trixie!I$340","v":0},{"$f":"Trixie!J$340","v":0}]
[null,1111126438,43551,"Дряпка  Soria  80 см бежева","Менше 10","Дряпки-стовпчики",1872.91,2218,{"$f":"Trixie!I$341","v":0},{"$f":"Trixie!J$341","v":0}]
[null,1111114597,43712,"Дряпка  Tarifa  52 см чорна/сіра","Менше 10","Дряпки-стовпчики",977.11,1157,{"$f":"Trixie!I$342","v":0},{"$f":"Trixie!J$342","v":0}]
[null,1111115161,43771,"Дряпка  Valencia  71 см бежева","Менше 10","Дряпки-стовпчики",1852.75,2194,{"$f":"Trixie!I$343","v":0},{"$f":"Trixie!J$343","v":0}]
[null,1111114599,43751,"Дряпка  Vitoria  43 см бежева","Менше 10","Дряпки-стовпчики",1489.46,1763,{"$f":"Trixie!I$344","v":0},{"$f":"Trixie!J$344","v":0}]
[null,1111146291,44644,"Дряпка Nita 147 см світло-сіра","Менше 10","Дряпки-комплекси",5808.78,6878,{"$f":"Trixie!I$345","v":0},{"$f":"Trixie!J$345","v":0}]
[null,1111172130,44720,"Дряпка Trixie д/кот Livia сизаль/плюш античний рожев.38*64см арт.44720","Менше 10","Дряпки-стовпчики",1086.0899999999999,1466,{"$f":"Trixie!I$346","v":0},{"$f":"Trixie!J$346","v":0}]
[null,1111172138,47062,"Дряпка Trixie д/кот Marcela сизаль/плюш сірий 53*43*60см арт.47062","Менше 10","Дряпки-комплекси",4255.3599999999997,5745,{"$f":"Trixie!I$347","v":0},{"$f":"Trixie!J$347","v":0}]
[null,1111172129,43721,"Дряпка Trixie д/кот М яч МДФ/джут бежевий 29*31см","Менше 10","Дряпки-стовпчики",1707.43,2305,{"$f":"Trixie!I$348","v":0},{"$f":"Trixie!J$348","v":0}]
[null,1111171711,48032,"Дряпка Trixie д/кот.XXL з 2ма кульк.картон пісочн.70*6*38cм арт.48032","Менше 10","Дряпки картонні",1014.45,1319,{"$f":"Trixie!I$349","v":0},{"$f":"Trixie!J$349","v":0}]
[null,1111171718,48000,"Дряпка Trixie д/котів з котяч.м ятою картон голуб. 41*7*24cм арт.48000","Більше 10","Дряпки картонні",266.83,346,{"$f":"Trixie!I$350","v":0},{"$f":"Trixie!J$350","v":0}]
[null,1111120129,4327,"Дряпка Trixie д/котів з котяч.м ятою картон голубий 48*5*13cм арт.4327","Менше 10","Дряпки картонні",147.82,192,{"$f":"Trixie!I$351","v":0},{"$f":"Trixie!J$351","v":0}]
[null,1111171708,48012,"Дряпка Trixie д/котівJunior картон св.-бузков/м ят.38*7*18cм арт.48012","Немає в наявності","Дряпки картонні",165.36,215,{"$f":"Trixie!I$352","v":0},{"$f":"Trixie!J$352","v":0}]
[null,1111172128,42932,"Дряпка Trixie д/кошен.Стовпчик джут/плюш м ятн/натур.30*42см","Більше 10","Дряпки-стовпчики",468.51,633,{"$f":"Trixie!I$353","v":0},{"$f":"Trixie!J$353","v":0}]
[null,1111171709,48011,"Дряпка Trixie для котів Junior картон світло-сірий 38*6*18cм арт.48011","Більше 10","Дряпки картонні",165.36,215,{"$f":"Trixie!I$354","v":0},{"$f":"Trixie!J$354","v":0}]
[null,1111117415,4324,"Дряпка Trixie для котів кругла з іграшкою 23х20см синьо-бежева Арт4324","Більше 10","Дряпки-комплекси",613.82000000000005,798,{"$f":"Trixie!I$355","v":0},{"$f":"Trixie!J$355","v":0}]
[null,1111171710,48031,"Дряпка Trixie для котів Хвиля XXL картон сірий 64*14*37cм арт.48031","Менше 10","Дряпки картонні",1010.93,1314,{"$f":"Trixie!I$356","v":0},{"$f":"Trixie!J$356","v":0}]
[null,1111183772,42930,"Дряпка Trixie для кошенят фліс 47 см світло-бузкова Арт42930","Більше 10","Дряпки-стовпчики",723,940,{"$f":"Trixie!I$357","v":0},{"$f":"Trixie!J$357","v":0}]
[null,1111171717,48006,"Дряпка д/кот з 2 кульк.та котяч.м ят.карт.різнокол.38*5*30cм арт.48006","Більше 10","Дряпки картонні",266.83,347,{"$f":"Trixie!I$358","v":0},{"$f":"Trixie!J$358","v":0}]
[null,1111171716,48005,"Дряпка д/кот.з 2кульк.та котяч.м ятою картон рожев.48*5*25cм арт.48005","Більше 10","Дряпки картонні",402.12,523,{"$f":"Trixie!I$359","v":0},{"$f":"Trixie!J$359","v":0}]
[null,12280,4303,"Дряпка з валиком 15?35 см чорна","Менше 10","Дряпки-комплекси",402.12,506,{"$f":"Trixie!I$360","v":0},{"$f":"Trixie!J$360","v":0}]
[null,1111127887,43115,"Дряпка з дощечкою 30?42?40 см чорна/кремова","Менше 10","Дряпки-комплекси",904.45,1138,{"$f":"Trixie!I$361","v":0},{"$f":"Trixie!J$361","v":0}]
[null,1111117670,4350,"Дряпка кутова  Lorca  37?27?75 см бежева","Менше 10","Дряпки настінні, килимки",2030.63,2404,{"$f":"Trixie!I$362","v":0},{"$f":"Trixie!J$362","v":0}]
[null,1111115157,43191,"Дряпка кутова 23?49 см","Менше 10","Дряпки настінні, килимки",469.76,591,{"$f":"Trixie!I$363","v":0},{"$f":"Trixie!J$363","v":0}]
[null,1111117414,43431,"Дряпка кутова 32?60 см коричнева","Менше 10","Дряпки настінні, килимки",613.82000000000005,773,{"$f":"Trixie!I$364","v":0},{"$f":"Trixie!J$364","v":0}]
[null,1111149238,43435,"Дряпка кутова 32?60 см сіра","Менше 10","Дряпки настінні, килимки",613.82000000000005,773,{"$f":"Trixie!I$365","v":0},{"$f":"Trixie!J$365","v":0}]
[null,1111126436,43112,"Дряпка плоска  Cat  35?69 см бежева","Менше 10","Дряпки настінні, килимки",722.81,910,{"$f":"Trixie!I$366","v":0},{"$f":"Trixie!J$366","v":0}]
[null,1111118187,43171,"Дряпка плоска  Jumbo  17?70 см","Більше 10","Дряпки настінні, килимки",395.85,498,{"$f":"Trixie!I$367","v":0},{"$f":"Trixie!J$367","v":0}]
[null,1111115167,43181,"Дряпка плоска 11*56 см","Менше 10","Дряпки настінні, килимки",266.83,335,{"$f":"Trixie!I$368","v":0},{"$f":"Trixie!J$368","v":0}]
[null,1111119914,43071,"Дряпка плоска 15?62 см бежева","Менше 10","Дряпки настінні, килимки",300.64999999999998,378,{"$f":"Trixie!I$369","v":0},{"$f":"Trixie!J$369","v":0}]
[null,1111120015,4342,"Дряпка плоска 18?78 см бежева","Менше 10","Дряпки настінні, килимки",503.59,633,{"$f":"Trixie!I$370","v":0},{"$f":"Trixie!J$370","v":0}]
[null,1111148452,43262,"Дряпка Хвиля, 39?28?50 см, сірий/беж, плюш, сизаль","Менше 10","Дряпки-комплекси",722.81,909,{"$f":"Trixie!I$371","v":0},{"$f":"Trixie!J$371","v":0}]
[null,1111172124,43160,"ДряпкаTrixie XXL д/кот настін/кутов.сизаль/плюш сір. 38*75см арт.43160","Менше 10","Дряпки-комплекси",1181.3,1595,{"$f":"Trixie!I$372","v":0},{"$f":"Trixie!J$372","v":0}]
[null,1111172120,48022,"ДряпкаTrixie д/котСтовпчик з іграшк.карт/МДФ/джут 30*30*62см арт.48022","Менше 10","Дряпки-стовпчики",1373.78,1855,{"$f":"Trixie!I$373","v":0},{"$f":"Trixie!J$373","v":0}]
[null,1111172131,"44708*****","ДряпкаTrixieД/кот Harvey сизаль/плюш/замша/фліс сір.50*118см арт.44708","Менше 10","Дряпки-комплекси",12665.55,17098,{"$f":"Trixie!I$374","v":0},{"$f":"Trixie!J$374","v":0}]
[null,1111172126,49971,"ДряпкаTrixieД/кот Дошка настін.сизаль/дерев.біл./сір.38*58см арт.49971","Менше 10","Дряпки-комплекси",1257.08,1697,{"$f":"Trixie!I$375","v":0},{"$f":"Trixie!J$375","v":0}]
[null,1111172135,44539,"ДряпкаTrixieД/котHarvey джут/плюш/фліс біло-рожев.54*40*73см арт.44539","Менше 10","Дряпки-комплекси",3883.32,5243,{"$f":"Trixie!I$376","v":0},{"$f":"Trixie!J$376","v":0}]
[null,1111172136,44537,"ДряпкаTrixieД/котHarveyДжут/плюш/фліс біло-коричн.54*40*73см арт.44537","Менше 10","Дряпки-комплекси",4255.3599999999997,5745,{"$f":"Trixie!I$377","v":0},{"$f":"Trixie!J$377","v":0}]
[null,1111172139,44548,"ДряпкаTrixieД/котДеревоBazaЗпензл.сизаль/плюш сір.41*41*50см арт.44548","Менше 10","Дряпки-комплекси",1707.43,2305,{"$f":"Trixie!I$378","v":0},{"$f":"Trixie!J$378","v":0}]
[null,1111172140,44413,"ДряпкаTrixieД/котПечераЗкул.МДФ/джут/плюшСіро-коричн.36*50см арт.44413","Менше 10","Дряпки-комплекси",2647.03,3574,{"$f":"Trixie!I$379","v":0},{"$f":"Trixie!J$379","v":0}]
[null,1111172125,43166,"ДряпкаXXLд/кот настін.Зм ятою сизаль/фліс сіро-корич.50*70см","Менше 10","Дряпки-комплекси",1267.74,1712,{"$f":"Trixie!I$380","v":0},{"$f":"Trixie!J$380","v":0}]
[null,1111172132,44988,"ДряпкаД/кот Вежа Gabriel сизаль/фетр/фліс св.сір.38*38*78см арт.44988","Менше 10","Дряпки-комплекси",5357.61,7233,{"$f":"Trixie!I$381","v":0},{"$f":"Trixie!J$381","v":0}]
[null,1111172133,44706,"ДряпкаД/кот Вежа Ria сизаль/плюш/фліс св.-сір./натур.37*37см арт.44706","Менше 10","Дряпки-комплекси",3087.91,4169,{"$f":"Trixie!I$382","v":0},{"$f":"Trixie!J$382","v":0}]
[null,1111172122,49960,"ДряпкаД/кот з настін.кріпл.дерев/сизаль біл/сір. 35*25*130см арт.49960","Менше 10","Дряпки настінні, килимки",2434,3286,{"$f":"Trixie!I$383","v":0},{"$f":"Trixie!J$383","v":0}]
[null,1111172123,44073,"ДряпкаД/кот з настін.кріпл.сизаль/плюш біл./сір. 46*37*160см арт.44073","Менше 10","Дряпки-комплекси",5808.78,7842,{"$f":"Trixie!I$384","v":0},{"$f":"Trixie!J$384","v":0}]
[null,1111171715,48004,"ДряпкаД/кот.Барабан з 2кульк.Котяч.м ят.карт.голуб.ø33*5,5cм арт.48004","Більше 10","Дряпки картонні",469.76,611,{"$f":"Trixie!I$385","v":0},{"$f":"Trixie!J$385","v":0}]
[null,1111172134,44433,"ДряпкаД/котВежаSaul сизаль/ткан/плюш/фліс сір/біл.39*39*64см арт.44433","Менше 10","Дряпки-комплекси",2216.0300000000002,2992,{"$f":"Trixie!I$386","v":0},{"$f":"Trixie!J$386","v":0}]
[null,1111172127,42931,"ДряпкаД/кош.Стовпчик з іграш.сиз./плюш св.буз/нат.40*38*50см арт.42931","Менше 10","Дряпки-стовпчики",795.47,1073,{"$f":"Trixie!I$387","v":0},{"$f":"Trixie!J$387","v":0}]
[null,312023,4325,"Дряпка-килимок 55?35 cм коричнева","Більше 10","Дряпки настінні, килимки",432.18,543,{"$f":"Trixie!I$388","v":0},{"$f":"Trixie!J$388","v":0}]
[null,1111133308,4323,"Дряпка-килимок з м ячиком на пружині 70х45 см темно-коричнева","Менше 10","Дряпки настінні, килимки",795.47,1001,{"$f":"Trixie!I$389","v":0},{"$f":"Trixie!J$389","v":0}]
[null,1111171712,48014,"Дряпка-лежак д/кот.Lilly з котяч.м ят.карт.св.-бузк.ø45*10cм арт.48014","Менше 10","Дряпки картонні",841.82,1094,{"$f":"Trixie!I$390","v":0},{"$f":"Trixie!J$390","v":0}]
[null,1111171713,48013,"Дряпка-ліжко д/кот з котяч.м ят.карт.вигляд дерева45*12*33cм арт.48013","Менше 10","Дряпки картонні",402.12,522,{"$f":"Trixie!I$391","v":0},{"$f":"Trixie!J$391","v":0}]
[null,1111113978,4309,"Дряпка-стовпчик 50 см","Менше 10","Дряпки-стовпчики",613.82000000000005,773,{"$f":"Trixie!I$392","v":0},{"$f":"Trixie!J$392","v":0}]
[null,1111114480,4310,"Дряпка-стовпчик 62 см","Менше 10","Дряпки-стовпчики",795.47,1001,{"$f":"Trixie!I$393","v":0},{"$f":"Trixie!J$393","v":0}]
[null,1111114370,4306,"Дряпка-стовпчик з мишкою 50 см","Більше 10","Дряпки-стовпчики",795.47,1001,{"$f":"Trixie!I$394","v":0},{"$f":"Trixie!J$394","v":0}]
[null,1111126414,35989,"Єнот плюшевий 46 см","Менше 10","Іграшки для собак",298.14,368,{"$f":"Trixie!I$395","v":0},{"$f":"Trixie!J$395","v":0}]
[null,1111126360,5876,"Жердинка Y-образна натуральне дерево 20см/15мм","Більше 10","Обладнання для кліток",76.41,95,{"$f":"Trixie!I$396","v":0},{"$f":"Trixie!J$396","v":0}]
[null,1111126361,5877,"Жердинка Y-образна натуральне дерево 35см/18мм","Більше 10","Обладнання для кліток",102.72,127,{"$f":"Trixie!I$397","v":0},{"$f":"Trixie!J$397","v":0}]
[null,1111126359,5875,"Жердинка натуральне дерево 2 шт. 35см/10-12мм","Менше 10","Обладнання для кліток",76.41,94,{"$f":"Trixie!I$398","v":0},{"$f":"Trixie!J$398","v":0}]
[null,1111126366,5889,"Жердинка натуральне дерево з канатами 25см/25мм","Менше 10","Обладнання для кліток",102.72,127,{"$f":"Trixie!I$399","v":0},{"$f":"Trixie!J$399","v":0}]
[null,1111165511,30135,"Жилет Trixie для собак охолоджуючий  ПВА, XL: 40см блактиний","Менше 10","Стильні аксесуари (шпильки, бантики, краватки, метелики, окуляри, обручі)",470.24,581,{"$f":"Trixie!I$400","v":0},{"$f":"Trixie!J$400","v":0}]
[null,1111165538,60891,"Забірник для сіна Trixie для гриз.з кришкою чорн.мет/пласт 20*18*12см","Менше 10","Обладнання для кліток",129.03,159,{"$f":"Trixie!I$401","v":0},{"$f":"Trixie!J$401","v":0}]
[null,1111118163,2559,"Засіб від плям навколо очей собак і котів 50 мл","Більше 10","Засоби для догляду за очима та вухами",125.27,155,{"$f":"Trixie!I$402","v":0},{"$f":"Trixie!J$402","v":0}]
[null,1111145329,"3982-60","Застібка Trixie д/переносок Capri арт3981-83/3986 пластик світло-сірий","Менше 10","Комплектуючі до пластикових переносок",31.7,40,{"$f":"Trixie!I$403","v":0},{"$f":"Trixie!J$403","v":0}]
[null,1111147848,"3987-60","Застібка Trixie д/переносок Gulliver арт39871-39874 пластик св-сірий","Менше 10","Комплектуючі до пластикових переносок",37.72,47.5,{"$f":"Trixie!I$404","v":0},{"$f":"Trixie!J$404","v":0}]
[null,1111155699,"3974-60","Застібка Trixie для переносок Skudo для арт39742-39745 пластик","Менше 10","Комплектуючі до пластикових переносок",74.099999999999994,93.5,{"$f":"Trixie!I$405","v":0},{"$f":"Trixie!J$405","v":0}]
[null,1111183775,44183,"Захисна решітка для вікна Trixie бокова панель 62х16х7см біла Арт44183","Більше 10","Будинки, будки, двері",182,236,{"$f":"Trixie!I$406","v":0},{"$f":"Trixie!J$406","v":0}]
[null,1111140857,"4417 Trixie","Захисна решітка для вікна Trixie верх-низ 65 на 16 см біла Арт4417","Більше 10","Будинки, будки, двері",234.26,305,{"$f":"Trixie!I$407","v":0},{"$f":"Trixie!J$407","v":0}]
[null,1111183774,44182,"Захисна решітка для вікна Trixie верх-низ 75-125х16см біла Арт44182","Більше 10","Будинки, будки, двері",479,622,{"$f":"Trixie!I$408","v":0},{"$f":"Trixie!J$408","v":0}]
[null,1111119095,3516,"Зірка латексна 23 см","Більше 10","Іграшки для собак",207.95,256,{"$f":"Trixie!I$409","v":0},{"$f":"Trixie!J$409","v":0}]
[null,1111150315,41413,"Змійка-вісімка д/кот. BallRace + м яч-підсвітка 65?31см","Менше 10","Іграшки для котів",508.6,628,{"$f":"Trixie!I$410","v":0},{"$f":"Trixie!J$410","v":0}]
[null,1111136977,22843,"Змінні пакети до сумки для фекалій 1 рулон=20 шт. M","Більше 100","Пакети, диспенсери",16.29,21,{"$f":"Trixie!I$411","v":0},{"$f":"Trixie!J$411","v":0}]
[null,1111128778,22840,"Змінні пакети до сумки для фекалій розмір М (4*20 шт.)","Більше 10","Пакети, диспенсери",62.64,78,{"$f":"Trixie!I$412","v":0},{"$f":"Trixie!J$412","v":0}]
[null,1111144809,23473,"Змінні пакети до сумки для фекалій розмір М (4*20 шт.) жовті","Більше 100","Пакети, диспенсери",62.64,79,{"$f":"Trixie!I$413","v":0},{"$f":"Trixie!J$413","v":0}]
[null,1111137245,22844,"Змінні пакети до сумки для фекалій розмір М (8*20 шт.)","Більше 100","Пакети, диспенсери",129.03,162,{"$f":"Trixie!I$414","v":0},{"$f":"Trixie!J$414","v":0}]
[null,6923,2550,"Зубна + масажна щітки","Більше 100","Засоби для догляду за зубами та ротовою порожниною",45.1,56,{"$f":"Trixie!I$415","v":0},{"$f":"Trixie!J$415","v":0}]
[null,1111117647,2557,"Зубна паста для собак 100 г","Більше 10","Засоби для догляду за зубами та ротовою порожниною",87.69,108,{"$f":"Trixie!I$416","v":0},{"$f":"Trixie!J$416","v":0}]
[null,9730,2549,"Зубна паста з олією чайного дерева 100 г","Більше 100","Засоби для догляду за зубами та ротовою порожниною",88.94,111,{"$f":"Trixie!I$417","v":0},{"$f":"Trixie!J$417","v":0}]
[null,1111131655,2545,"Зубна паста зі смаком м яса 100 г","Більше 100","Засоби для догляду за зубами та ротовою порожниною",87.69,108,{"$f":"Trixie!I$418","v":0},{"$f":"Trixie!J$418","v":0}]
[null,1111145340,25620,"Зубна паста зі щіткою для котів","Більше 100","Засоби для догляду за зубами та ротовою порожниною",155.34,192,{"$f":"Trixie!I$419","v":0},{"$f":"Trixie!J$419","v":0}]
[null,1111116721,2561,"Зубна паста зі щіткою для собак","Більше 100","Засоби для догляду за зубами та ротовою порожниною",167.86,207,{"$f":"Trixie!I$420","v":0},{"$f":"Trixie!J$420","v":0}]
[null,1111119314,2558,"Зубна щітка (набір 4 шт.)","Більше 10","Засоби для догляду за зубами та ротовою порожниною",76.41,95,{"$f":"Trixie!I$421","v":0},{"$f":"Trixie!J$421","v":0}]
[null,1111145207,25621,"Зубна щітка для котів і малих собак 15 см (набір 4 шт.)","Більше 10","Засоби для догляду за зубами та ротовою порожниною",76.41,94,{"$f":"Trixie!I$422","v":0},{"$f":"Trixie!J$422","v":0}]
[null,1111145200,25446,"Зубний гель зі смаком м яса 100 г","Більше 10","Засоби для догляду за зубами та ротовою порожниною",117.75,145,{"$f":"Trixie!I$423","v":0},{"$f":"Trixie!J$423","v":0}]
[null,1111126357,4135,"Іграшка  Crazy Circle  з мишкою 24?29 см","Більше 100","Іграшки для котів",238.01,295,{"$f":"Trixie!I$424","v":0},{"$f":"Trixie!J$424","v":0}]
[null,1111117732,"3504_1шт","Іграшка  Faces  латексна кругла 6 см","Менше 10","Іграшки для собак",76.41,94,{"$f":"Trixie!I$425","v":0},{"$f":"Trixie!J$425","v":0}]
[null,1111163125,36178,"Іграшка  Junior  Snuggler для цуценят, 20 * 20 см, плюш","Менше 10","Іграшки для собак",207.95,256,{"$f":"Trixie!I$426","v":0},{"$f":"Trixie!J$426","v":0}]
[null,1111123863,"3506_1шт","Іграшка  Longies  Сафарі латексна 30-32 см","Більше 10","Іграшки для собак",238.01,294,{"$f":"Trixie!I$427","v":0},{"$f":"Trixie!J$427","v":0}]
[null,1111132132,"35261_1шт","Іграшка  Пончик  латексний 6 см","Більше 10","Іграшки для собак",60.13,74,{"$f":"Trixie!I$428","v":0},{"$f":"Trixie!J$428","v":0}]
[null,1111116600,41411,"Іграшка  Спіймай мишку  25 см","Більше 10","Іграшки для котів",298.14,369,{"$f":"Trixie!I$429","v":0},{"$f":"Trixie!J$429","v":0}]
[null,1111163122,32867,"Іграшка Bungee Fun для тренування, 20 см / 47 см, поліестер","Менше 10","Іграшки для собак",207.95,256,{"$f":"Trixie!I$430","v":0},{"$f":"Trixie!J$430","v":0}]
[null,1111163121,32866,"Іграшка Bungee для тренування, 20 см / 47 см, поліестер","Більше 10","Іграшки для собак",207.95,256,{"$f":"Trixie!I$431","v":0},{"$f":"Trixie!J$431","v":0}]
[null,1111118321,3327,"Іграшка Trixie Jumper для собак натуральна гума 10см блакитний Арт3327","Більше 10","Іграшки для собак",177.88,231,{"$f":"Trixie!I$432","v":0},{"$f":"Trixie!J$432","v":0}]
[null,1111118320,3326,"Іграшка Trixie Jumper для собак натуральна гума 8 см лайм Арт3326","Більше 10","Іграшки для собак",117.75,153,{"$f":"Trixie!I$433","v":0},{"$f":"Trixie!J$433","v":0}]
[null,1111114479,3224,"Іграшка Trixie гантель дерев'яна для собак 25см близько 650г Арт3224","Більше 10","Іграшки для собак",537.41,699,{"$f":"Trixie!I$434","v":0},{"$f":"Trixie!J$434","v":0}]
[null,1111178638,41132,"Іграшка Trixie д/кот Гантель на струні CityStyle фетр/дер сір/чор 13см","Більше 10","Іграшки для котів",60.13,78,{"$f":"Trixie!I$435","v":0},{"$f":"Trixie!J$435","v":0}]
[null,1111178641,41136,"Іграшка Trixie д/кот Диски наШнур CityStyle проб/дер беж/чорн d=4*14см","Більше 10","Іграшки для котів",101.47,132,{"$f":"Trixie!I$436","v":0},{"$f":"Trixie!J$436","v":0}]
[null,1111119262,4133,"Іграшка Trixie д/кот М_ячи дзвіночки 3шт з пером на гумці d=3,5см*80см","Більше 10","Іграшки для котів",65.14,81,{"$f":"Trixie!I$437","v":0},{"$f":"Trixie!J$437","v":0}]
[null,1111178639,41133,"Іграшка Trixie д/котів Гантель CityStyle фетр/дерево сірий/чорний 10см","Більше 10","Іграшки для котів",71.400000000000006,93,{"$f":"Trixie!I$438","v":0},{"$f":"Trixie!J$438","v":0}]
[null,1111178637,41118,"Іграшка Trixie д/котів Риба з котячою м_ятою поліестер кольорова 20см","Більше 10","Іграшки для котів",87.69,114,{"$f":"Trixie!I$439","v":0},{"$f":"Trixie!J$439","v":0}]
[null,1111178636,41117,"Іграшка Trixie д/котів Риба з котячою м_ятою поліестер кольорова 8см","Більше 10","Іграшки для котів",62.64,81,{"$f":"Trixie!I$440","v":0},{"$f":"Trixie!J$440","v":0}]
[null,1111178640,41135,"Іграшка Trixie д/котМ_ячРегбіНаШнурCityStyle проб/дер беж/чор d=4*17см","Більше 10","Іграшки для котів",117.75,153,{"$f":"Trixie!I$441","v":0},{"$f":"Trixie!J$441","v":0}]
[null,1111178634,36061,"Іграшка Trixie д/соб BE NORDIC Камбала Хаджо звук поліест/бав сір 35см","Більше 10","Іграшки для собак",334.47,435,{"$f":"Trixie!I$442","v":0},{"$f":"Trixie!J$442","v":0}]
[null,1111178633,36060,"Іграшка Trixie д/соб BE NORDIC Морськ коник Іда поліест/бавов сір 32см","Більше 10","Іграшки для собак",334.47,435,{"$f":"Trixie!I$443","v":0},{"$f":"Trixie!J$443","v":0}]
[null,1111144824,32016,"Іграшка Trixie д/соб Dog Activity Gambling Tower  пластик 25см/33см","Менше 10","Іграшки для собак",598.79,754,{"$f":"Trixie!I$444","v":0},{"$f":"Trixie!J$444","v":0}]
[null,1111178476,34823,"Іграшка Trixie д/соб Лисиця звук і шелест фольги поліест помаранч 50см","Більше 10","Іграшки для собак",402.12,523,{"$f":"Trixie!I$445","v":0},{"$f":"Trixie!J$445","v":0}]
[null,1111178635,36062,"Іграшка Trixie д/собак BE NORDIC Черепаха Хауке поліест/бавов сір 34см","Більше 10","Іграшки для собак",435.94,567,{"$f":"Trixie!I$446","v":0},{"$f":"Trixie!J$446","v":0}]
[null,1111178478,36020,"Іграшка Trixie д/собак Білка з ефектом пам_яті поліест помаранч 13см","Менше 10","Іграшки для собак",268.08,348,{"$f":"Trixie!I$447","v":0},{"$f":"Trixie!J$447","v":0}]
[null,1111178473,34721,"Іграшка Trixie д/собак Корова зі звуком поліестер/бавовна бежева 50см","Більше 10","Іграшки для собак",402.12,523,{"$f":"Trixie!I$448","v":0},{"$f":"Trixie!J$448","v":0}]
[null,1111178479,36021,"Іграшка Trixie д/собак Лисиця з ефектом пам_яті поліест помаранч 11см","Більше 10","Іграшки для собак",268.08,348,{"$f":"Trixie!I$449","v":0},{"$f":"Trixie!J$449","v":0}]
[null,11912,"3471_1шт","Іграшка Trixie д/собак М_яч футбольн. полотно різнокол. 11см","Менше 10","Іграшки для собак",147.82,182,{"$f":"Trixie!I$450","v":0},{"$f":"Trixie!J$450","v":0}]
[null,1111178480,36022,"Іграшка Trixie д/собак Мавпа з ефектом пам_яті поліестер кричнева 11см","Більше 10","Іграшки для собак",268.08,348,{"$f":"Trixie!I$451","v":0},{"$f":"Trixie!J$451","v":0}]
[null,1111178630,34720,"Іграшка Trixie д/собак Мавпа зі звуком поліестер/бавовна коричнев 40см","Більше 10","Іграшки для собак",435.94,567,{"$f":"Trixie!I$452","v":0},{"$f":"Trixie!J$452","v":0}]
[null,1111170876,"92572_Christmas*****","Іграшка Trixie д/собак Різдвяний Сніговик зі звуком плюш/бавовна 41см","Більше 10","Іграшки для собак",232.65,302.45,{"$f":"Trixie!I$453","v":0},{"$f":"Trixie!J$453","v":0}]
[null,1111178477,34824,"Іграшка Trixie д/собак Сурікат із шелестом фольги поліестер бежев 48см","Більше 10","Іграшки для собак",402.12,523,{"$f":"Trixie!I$454","v":0},{"$f":"Trixie!J$454","v":0}]
[null,1111183791,61654,"Іграшка Trixie дерев_яний ролик з дзвіночком 5 х 7 см Арт61654","Більше 10","Обладнання для кліток",88,114,{"$f":"Trixie!I$455","v":0},{"$f":"Trixie!J$455","v":0}]
[null,1111134530,33561,"Іграшка Trixie диск для собак 19 см Арт33561","Більше 10","Іграшки для собак",178,231,{"$f":"Trixie!I$456","v":0},{"$f":"Trixie!J$456","v":0}]
[null,1111134869,33500,"Іграшка Trixie диск для собак натуральна гума 15 см лайм Арт33500","Більше 10","Іграшки для собак",148,192,{"$f":"Trixie!I$457","v":0},{"$f":"Trixie!J$457","v":0}]
[null,1111136672,33506,"Іграшка Trixie диск для собак термопластична гума 22 см Арт33506","Більше 10","Іграшки для собак",298,388,{"$f":"Trixie!I$458","v":0},{"$f":"Trixie!J$458","v":0}]
[null,1111120636,6185,"Іграшка Trixie для гризунів куля дерев'яна для ласощів 8 см Арт6185","Більше 10","Обладнання для кліток",147.82,192,{"$f":"Trixie!I$459","v":0},{"$f":"Trixie!J$459","v":0}]
[null,1111183705,6195,"Іграшка Trixie для гризунів набір дерев_ян гантель 4,5х9см 2шт Арт6195","Більше 10","Обладнання для кліток",62.64,81,{"$f":"Trixie!I$460","v":0},{"$f":"Trixie!J$460","v":0}]
[null,1111121546,6188,"Іграшка Trixie для гризунів цукерка з паперової пряжі 18см Арт6188","Більше 10","Обладнання для кліток",87.69,114,{"$f":"Trixie!I$461","v":0},{"$f":"Trixie!J$461","v":0}]
[null,1111145332,"41101_1шт","Іграшка Trixie для котів М_ячик поролоновий 4см арт.41101","Більше 10","Іграшки для котів",35.08,43,{"$f":"Trixie!I$462","v":0},{"$f":"Trixie!J$462","v":0}]
[null,1111180625,9935262,"Іграшка Trixie для котів Серце з пір_ям плюш 7см/25см","Менше 10","Іграшки для собак",108.61,141,{"$f":"Trixie!I$463","v":0},{"$f":"Trixie!J$463","v":0}]
[null,1111113772,3440,"Іграшка Trixie для собак  М_яч поролон ассорті 5,5см","Більше 10","Іграшки для собак",42.59,53,{"$f":"Trixie!I$464","v":0},{"$f":"Trixie!J$464","v":0}]
[null,1111113771,3441,"Іграшка Trixie для собак  М_яч поролон ассорті 6см арт3441","Більше 10","Іграшки для собак",52.61,65,{"$f":"Trixie!I$465","v":0},{"$f":"Trixie!J$465","v":0}]
[null,1111113769,3442,"Іграшка Trixie для собак  М_яч поролон ассорті 7см","Більше 10","Іграшки для собак",76.41,94,{"$f":"Trixie!I$466","v":0},{"$f":"Trixie!J$466","v":0}]
[null,1111162628,35899,"Іграшка Trixie для собак Альпака зі звуком плюш 31см","Менше 10","Іграшки для собак",268.08,375,{"$f":"Trixie!I$467","v":0},{"$f":"Trixie!J$467","v":0}]
[null,1111134860,35988,"Іграшка Trixie для собак Бурундук зі звуком плюш 24см","Більше 10","Іграшки для собак",238.01,300,{"$f":"Trixie!I$468","v":0},{"$f":"Trixie!J$468","v":0}]
[null,1111122212,35763,"Іграшка Trixie для собак Вівця зі звуком текстиль/плюш 30см","Менше 10","Іграшки для собак",298.14,375,{"$f":"Trixie!I$469","v":0},{"$f":"Trixie!J$469","v":0}]
[null,1111112216,3250,"Іграшка Trixie для собак Катапульта з мячем пластик/гума 70см/6см","Менше 10","Іграшки для собак",177.88,224,{"$f":"Trixie!I$470","v":0},{"$f":"Trixie!J$470","v":0}]
[null,1111180306,7724220,"Іграшка Trixie для собак М_яч натуральний каучук червоний 4 шт упак","Більше 10","Іграшки для собак",157.32,204,{"$f":"Trixie!I$471","v":0},{"$f":"Trixie!J$471","v":0}]
[null,1111129415,"3458_1шт","Іграшка Trixie для собак М_яч Неон поролон ассорті 7см 1шт","Більше 10","Іграшки для собак",102.72,127,{"$f":"Trixie!I$472","v":0},{"$f":"Trixie!J$472","v":0}]
[null,12133,"3453_1шт","Іграшка Trixie для собак М_яч поролон ассорті 6см 1шт","Більше 10","Іграшки для собак",50.11,62,{"$f":"Trixie!I$473","v":0},{"$f":"Trixie!J$473","v":0}]
[null,1111178475,34821,"Іграшка Trixie для собак Мавпа зі звуком поліестер біла 40см","Більше 10","Іграшки для собак",334.47,435,{"$f":"Trixie!I$474","v":0},{"$f":"Trixie!J$474","v":0}]
[null,1111134527,35940,"Іграшка Trixie для собак Півегь зі звуком плюш 22см","Більше 10","Іграшки для собак",207.95,262,{"$f":"Trixie!I$475","v":0},{"$f":"Trixie!J$475","v":0}]
[null,1111178474,34820,"Іграшка Trixie для собак Пінгвін поліестер білий 24см","Більше 10","Іграшки для собак",298.14,388,{"$f":"Trixie!I$476","v":0},{"$f":"Trixie!J$476","v":0}]
[null,1111163133,35680,"Іграшка Trixie для собак Пташка плюш 44см","Менше 10","Іграшки для собак",274.99,340,{"$f":"Trixie!I$477","v":0},{"$f":"Trixie!J$477","v":0}]
[null,1111180624,9935260,"Іграшка Trixie для собак Страус Св Валентин плюш 80см","Менше 10","Іграшки для собак",464.67,604,{"$f":"Trixie!I$478","v":0},{"$f":"Trixie!J$478","v":0}]
[null,1111183784,58961,"Іграшка Trixie з дерев_яними намистинами і корою дерева 20 см Арт58961","Більше 10","Обладнання для кліток",89,116,{"$f":"Trixie!I$479","v":0},{"$f":"Trixie!J$479","v":0}]
[null,1111165399,36179,"Іграшка Trixie звисаюча для цуценят плюш 33 см Арт36179","Більше 10","Іграшки для собак",238,309,{"$f":"Trixie!I$480","v":0},{"$f":"Trixie!J$480","v":0}]
[null,1111183749,34950,"Іграшка Trixie змія для ласощів 18см зелена Арт34950","Більше 10","Іграшки для собак",238,309,{"$f":"Trixie!I$481","v":0},{"$f":"Trixie!J$481","v":0}]
[null,1111183702,3246,"Іграшка Trixie катапульта для соб 5,5см і 50см блак-оранж Арт3246","Більше 10","Іграшки для собак",147.82,192,{"$f":"Trixie!I$482","v":0},{"$f":"Trixie!J$482","v":0}]
[null,1111183765,41363,"Іграшка Trixie кормушка в формі миші для ласощів для кот 9см Арт41363","Більше 10","Іграшки для котів",118,153,{"$f":"Trixie!I$483","v":0},{"$f":"Trixie!J$483","v":0}]
[null,1111119534,6275,"Іграшка Trixie куля для ласощів для гризунів пластик 7 см Арт6275","Більше 10","Обладнання для кліток",117.75,153,{"$f":"Trixie!I$484","v":0},{"$f":"Trixie!J$484","v":0}]
[null,1111183764,41362,"Іграшка Trixie куля для ласощів для котів 6 см Арт41362","Більше 10","Іграшки для котів",148,192,{"$f":"Trixie!I$485","v":0},{"$f":"Trixie!J$485","v":0}]
[null,1111183703,3492,"Іграшка Trixie куля для ласощів для собак пластик 7 см зелена Арт3492","Більше 100","Іграшки для собак",117.75,153,{"$f":"Trixie!I$486","v":0},{"$f":"Trixie!J$486","v":0}]
[null,1111140047,61825,"Іграшка Trixie куля з дзвіночком з трави для гризунів 10 см Арт61825","Більше 10","Обладнання для кліток",88,114,{"$f":"Trixie!I$487","v":0},{"$f":"Trixie!J$487","v":0}]
[null,1111165692,42432,"Іграшка Trixie куля з мататабі для котів 4 см Арт42432","Більше 10","Іграшки для котів",71,93,{"$f":"Trixie!I$488","v":0},{"$f":"Trixie!J$488","v":0}]
[null,1111142243,"3459_1шт","Іграшка Trixie куля з мотузкою для собак плаваюча 30 см Арт3459","Більше 100","Іграшки для собак",76.41,99,{"$f":"Trixie!I$489","v":0},{"$f":"Trixie!J$489","v":0}]
[null,1111183771,42443,"Іграшка Trixie ланцюг з мататабі для котів 38 см Арт42443","Менше 10","Іграшки для котів",118,153,{"$f":"Trixie!I$490","v":0},{"$f":"Trixie!J$490","v":0}]
[null,1111183770,42441,"Іграшка Trixie льодяник з мататабі і сердечком для котів 23см Арт42441","Більше 10","Іграшки для котів",132,171,{"$f":"Trixie!I$491","v":0},{"$f":"Trixie!J$491","v":0}]
[null,1111183760,41112,"Іграшка Trixie миша плюшева з котячою м_ятою 7 см Арт41112","Більше 100","Іграшки для котів",63,81,{"$f":"Trixie!I$492","v":0},{"$f":"Trixie!J$492","v":0}]
[null,1111183761,41115,"Іграшка Trixie миша плюшева з котячою м_ятою 9 см Арт41115","Більше 100","Іграшки для котів",88,114,{"$f":"Trixie!I$493","v":0},{"$f":"Trixie!J$493","v":0}]
[null,1111126572,34940,"Іграшка Trixie м'яч для ласощів натуральна гума 6 см зелений Арт34940","Більше 10","Іграшки для собак",165,215,{"$f":"Trixie!I$494","v":0},{"$f":"Trixie!J$494","v":0}]
[null,1111121582,4564,"Іграшка Trixie м'яч з моторчиком і мишею 9 см Арт4564","Більше 10","Іграшки для котів",435.94,567,{"$f":"Trixie!I$495","v":0},{"$f":"Trixie!J$495","v":0}]
[null,1111116728,33481,"Іграшка Trixie м'яч на мотузці плавучий 35см оранжевий Арт33481","Більше 10","Іграшки для собак",118,153,{"$f":"Trixie!I$496","v":0},{"$f":"Trixie!J$496","v":0}]
[null,1111165401,61949,"Іграшка Trixie набір іграшок в формі овочів для гризун 6х9см Арт61949","Більше 10","Обладнання для кліток",132,171,{"$f":"Trixie!I$497","v":0},{"$f":"Trixie!J$497","v":0}]
[null,1111183769,42435,"Іграшка Trixie палиця з мататабі з китицями для котів 24 см Арт42435","Більше 10","Іграшки для котів",71,93,{"$f":"Trixie!I$498","v":0},{"$f":"Trixie!J$498","v":0}]
[null,1111183794,61942,"Іграшка Trixie плетена куля для гризунів 10 см Арт61942","Більше 10","Обладнання для кліток",76,99,{"$f":"Trixie!I$499","v":0},{"$f":"Trixie!J$499","v":0}]
[null,1111183793,61941,"Іграшка Trixie плетена куля для гризунів 6 см Арт61941","Більше 10","Обладнання для кліток",53,68,{"$f":"Trixie!I$500","v":0},{"$f":"Trixie!J$500","v":0}]
[null,1111183778,45795,"Іграшка Trixie риба що рухається тканина котяча м_ята 30 см Арт45795","Менше 10","Іграшки для котів",334,435,{"$f":"Trixie!I$501","v":0},{"$f":"Trixie!J$501","v":0}]
[null,1111114906,3295,"Іграшка Trixie Рол джутовий для тренування собак 53см Арт3295","Більше 10","Іграшки для собак",191.66,249,{"$f":"Trixie!I$502","v":0},{"$f":"Trixie!J$502","v":0}]
[null,1111114743,3296,"Іграшка Trixie Рол джутовий для тренування собак 56 см Арт3296","Більше 10","Іграшки для собак",358.27,466,{"$f":"Trixie!I$503","v":0},{"$f":"Trixie!J$503","v":0}]
[null,1111114745,3298,"Іграшка Trixie Рол джутовий для тренування собак 88 см Арт3298","Більше 10","Іграшки для собак",448.47,583,{"$f":"Trixie!I$504","v":0},{"$f":"Trixie!J$504","v":0}]
[null,1111183768,42433,"Іграшка Trixie рол з мататабі для котів 4 х 5 см Арт42433","Більше 10","Іграшки для котів",88,114,{"$f":"Trixie!I$505","v":0},{"$f":"Trixie!J$505","v":0}]
[null,1111183792,61823,"Іграшка Trixie яблуко з кукурудзяного лушпиння для гриз 7см Арт61823","Більше 10","Обладнання для кліток",132,171,{"$f":"Trixie!I$506","v":0},{"$f":"Trixie!J$506","v":0}]
[null,1111170314,32912,"Іграшка д/соб. Bungee Лапка термопласна гума 12см арт.32912","Менше 10","Іграшки для собак",219.53,276.60000000000002,{"$f":"Trixie!I$507","v":0},{"$f":"Trixie!J$507","v":0}]
[null,1111170330,32827,"Іграшка д/соб. Jumper на канаті натуральна гума 7см/25см арт.32827","Більше 10","Іграшки для собак",238.01,300,{"$f":"Trixie!I$508","v":0},{"$f":"Trixie!J$508","v":0}]
[null,1111170331,32828,"Іграшка д/соб. Jumper на канаті натуральна гума 9см/30см арт.32828","Більше 10","Іграшки для собак",334.47,421,{"$f":"Trixie!I$509","v":0},{"$f":"Trixie!J$509","v":0}]
[null,1111170316,33342,"Іграшка д/соб. Junior pacifier Пустишка натуральна гума 9см арт.33342","Більше 10","Іграшки для собак",131.53,166,{"$f":"Trixie!I$510","v":0},{"$f":"Trixie!J$510","v":0}]
[null,1111170349,35951,"Іграшка д/соб. Бургер плюш 13см арт.35951","Менше 10","Іграшки для собак",219.53,276.60000000000002,{"$f":"Trixie!I$511","v":0},{"$f":"Trixie!J$511","v":0}]
[null,1111170321,34484,"Іграшка д/соб. Гантель- Лягушка латекс 18см арт.34484","Більше 10","Іграшки для собак",147.82,186,{"$f":"Trixie!I$512","v":0},{"$f":"Trixie!J$512","v":0}]
[null,1111170332,32860,"Іграшка д/соб. для дресирування поліестер d=6*14см арт.32860","Більше 10","Іграшки для собак",207.95,262,{"$f":"Trixie!I$513","v":0},{"$f":"Trixie!J$513","v":0}]
[null,1111170327,32533,"Іграшка д/соб. для дресирування поліестер d=6*18см арт.32533","Більше 10","Іграшки для собак",117.75,148,{"$f":"Trixie!I$514","v":0},{"$f":"Trixie!J$514","v":0}]
[null,1111170333,32861,"Іграшка д/соб. для дресирування поліестер d=6*24см арт.32861","Менше 10","Іграшки для собак",238.01,300,{"$f":"Trixie!I$515","v":0},{"$f":"Trixie!J$515","v":0}]
[null,1111170342,34879,"Іграшка д/соб. ДраконBeEcoПерероб.плюш/поліестер зіЗвук.28см арт.34879","Менше 10","Іграшки для собак",402.12,507,{"$f":"Trixie!I$516","v":0},{"$f":"Trixie!J$516","v":0}]
[null,1111170359,34886,"Іграшка д/соб. Канат з кільцем котон 32см арт.34886","Більше 10","Іграшки для собак",136.34,171.79,{"$f":"Trixie!I$517","v":0},{"$f":"Trixie!J$517","v":0}]
[null,1111170360,34864,"Іграшка д/соб. Канат з м ячем котон d=5см/33см арт.34864","Менше 10","Іграшки для собак",80.88,101.91,{"$f":"Trixie!I$518","v":0},{"$f":"Trixie!J$518","v":0}]
[null,1111170361,34889,"Іграшка д/соб. Канат котон 48см арт.34889","Менше 10","Іграшки для собак",80.88,101.91,{"$f":"Trixie!I$519","v":0},{"$f":"Trixie!J$519","v":0}]
[null,1111170326,32441,"Іграшка д/соб. Катапульта з м ячем пластик/гума 40см/4,5см арт.32441","Більше 10","Іграшки для собак",177.88,224,{"$f":"Trixie!I$520","v":0},{"$f":"Trixie!J$520","v":0}]
[null,1111170328,32630,"Іграшка д/соб. М яч BE NORDIC канат d=13см арт.32630","Менше 10","Іграшки для собак",238.01,321,{"$f":"Trixie!I$521","v":0},{"$f":"Trixie!J$521","v":0}]
[null,1111170329,32631,"Іграшка д/соб. М яч BE NORDIC канат d=18см арт.32631","Більше 10","Іграшки для собак",413.64,586.57000000000005,{"$f":"Trixie!I$522","v":0},{"$f":"Trixie!J$522","v":0}]
[null,1111170338,34812,"Іграшка д/соб. М яч для ласощів натуральна гума d=9см арт.34812","Більше 10","Іграшки для собак",334.47,457,{"$f":"Trixie!I$523","v":0},{"$f":"Trixie!J$523","v":0}]
[null,1111170344,35511,"Іграшка д/соб. Мавпа латекс 25см арт.35511","Більше 10","Іграшки для собак",298.14,407,{"$f":"Trixie!I$524","v":0},{"$f":"Trixie!J$524","v":0}]
[null,1111170340,34877,"Іграшка д/соб. ОсликBeEcoПерероб.плюш/поліестер зіЗвук.40см арт.34877","Менше 10","Іграшки для собак",334.47,421,{"$f":"Trixie!I$525","v":0},{"$f":"Trixie!J$525","v":0}]
[null,1111170335,33653,"Іграшка д/соб. Палочка термопласна гума 18см арт.33653","Більше 10","Іграшки для собак",177.88,224,{"$f":"Trixie!I$526","v":0},{"$f":"Trixie!J$526","v":0}]
[null,1111170336,33654,"Іграшка д/соб. Палочка термопласна гума 28см арт.33654","Менше 10","Іграшки для собак",298.14,376,{"$f":"Trixie!I$527","v":0},{"$f":"Trixie!J$527","v":0}]
[null,1111170348,35865,"Іграшка д/соб. Півень зіЗвук. плюш 60см арт.35865","Більше 10","Іграшки для собак",435.94,549,{"$f":"Trixie!I$528","v":0},{"$f":"Trixie!J$528","v":0}]
[null,1111170365,32009,"Іграшка д/соб.DogActivBallTreat інтерак.розв.пласт.d=17*18см арт.32009","Більше 10","Іграшки для собак",749.12,944,{"$f":"Trixie!I$529","v":0},{"$f":"Trixie!J$529","v":0}]
[null,1111170324,32022,"Іграшка д/соб.DogActivChessШахиІнтеракт.розв.пласт40*10*24см арт.32022","Менше 10","Іграшки для собак",658.92,830,{"$f":"Trixie!I$530","v":0},{"$f":"Trixie!J$530","v":0}]
[null,1111170322,32001,"Іграшка д/соб.DogActivFlip and FunСтрат.Інтеракт.розв.пласт23см","Більше 10","Іграшки для собак",298.14,376,{"$f":"Trixie!I$531","v":0},{"$f":"Trixie!J$531","v":0}]
[null,1111170325,32023,"Іграшка д/соб.DogActivityMiniSolitaireІнтер.розв.пластd=20см арт.32023","Менше 10","Іграшки для собак",298.14,376,{"$f":"Trixie!I$532","v":0},{"$f":"Trixie!J$532","v":0}]
[null,1111170323,32017,"Іграшка д/соб.DogActivitySolitaireІнтеракт.розв.пласт d=29см арт.32017","Менше 10","Іграшки для собак",464.47,664,{"$f":"Trixie!I$533","v":0},{"$f":"Trixie!J$533","v":0}]
[null,1111170366,32036,"Іграшка д/соб.DogActivSlide and Feed інтеракт.розв.пласт.30*27см","Менше 10","Іграшки для собак",478.53,682,{"$f":"Trixie!I$534","v":0},{"$f":"Trixie!J$534","v":0}]
[null,1111170356,32050,"Іграшка д/соб.DogActivSlide and FunB інтеракт.розв.пласт.d=23см арт.32","Більше 10","Іграшки для собак",402.08,506.62,{"$f":"Trixie!I$535","v":0},{"$f":"Trixie!J$535","v":0}]
[null,1111170315,33341,"Іграшка д/соб.JuniorRuslting Гілка зіЗвук. натур.гума 10см арт.33341","Більше 10","Іграшки для собак",177.88,224,{"$f":"Trixie!I$536","v":0},{"$f":"Trixie!J$536","v":0}]
[null,1111170352,36177,"Іграшка д/соб.JuniorВедмідь з кільцемЗіЗвук.текстил/плюш23см арт.36177","Більше 10","Іграшки для собак",238.01,300,{"$f":"Trixie!I$537","v":0},{"$f":"Trixie!J$537","v":0}]
[null,1111170318,34953,"Іграшка д/соб.Lick n Snack М яч розвив.термопл.гума d=8/12см арт.34953","Більше 10","Іграшки для собак",538.66,679,{"$f":"Trixie!I$538","v":0},{"$f":"Trixie!J$538","v":0}]
[null,1111170317,34951,"Іграшка д/соб.RolyРolySnackЕgg інтеракт.розвив.пластик 13см арт.34951","Менше 10","Іграшки для собак",334.47,421,{"$f":"Trixie!I$539","v":0},{"$f":"Trixie!J$539","v":0}]
[null,1111170339,34875,"Іграшка д/соб.АльпакаBeEcoПерероб.плюш/поліестер зіЗвук.26см арт.34875","Більше 10","Іграшки для собак",334.47,421,{"$f":"Trixie!I$540","v":0},{"$f":"Trixie!J$540","v":0}]
[null,1111170341,34878,"Іграшка д/соб.ВедмідьBeEcoПерероб.плюш/поліестер зіЗвук.42см арт.34878","Менше 10","Іграшки для собак",402.12,564,{"$f":"Trixie!I$541","v":0},{"$f":"Trixie!J$541","v":0}]
[null,1111170354,33412,"Іграшка д/соб.ДзвонД/ласощ.зіСтрічк.терм.гума/поліест11*22см арт.33412","Більше 10","Іграшки для собак",247.26,311.54000000000002,{"$f":"Trixie!I$542","v":0},{"$f":"Trixie!J$542","v":0}]
[null,1111170337,33704,"Іграшка д/соб.Кільце-канатЗм ячД/чищ.зуб.нат.гумаЗм ят 20см арт.33704","Менше 10","Іграшки для собак",334.47,421,{"$f":"Trixie!I$543","v":0},{"$f":"Trixie!J$543","v":0}]
[null,1111170353,33413,"Іграшка д/соб.Паличка д/ласощ.термопс.гума/поліест.20см/31см арт.33413","Менше 10","Іграшки для собак",298.14,376,{"$f":"Trixie!I$544","v":0},{"$f":"Trixie!J$544","v":0}]
[null,1111170362,34884,"Іграшка д/соб.ПінгвинBeEco переробл.плюш/поліест.зі звук28см арт.34884","Менше 10","Іграшки для собак",435.94,549,{"$f":"Trixie!I$545","v":0},{"$f":"Trixie!J$545","v":0}]
[null,1111170357,32008,"Іграшка д/собDog ActivTwister інтеракт.розв.пласт.d=28см арт.32008","Більше 10","Іграшки для собак",620.45000000000005,781.77,{"$f":"Trixie!I$546","v":0},{"$f":"Trixie!J$546","v":0}]
[null,1111170346,35513,"Іграшка д/цуценят Junior Канат зіЗвук. латекс 15см арт.35513","Більше 10","Іграшки для собак",147.82,186,{"$f":"Trixie!I$547","v":0},{"$f":"Trixie!J$547","v":0}]
[null,1111170350,36171,"Іграшка д/цуценят Junior Кролик текстиль/плюш 28см арт.36171","Більше 10","Іграшки для собак",268.08,338,{"$f":"Trixie!I$548","v":0},{"$f":"Trixie!J$548","v":0}]
[null,1111170355,32816,"Іграшка д/цуценят Канат з вузлами d=9/25см арт.32816","Більше 10","Іграшки для собак",108.61,136.85,{"$f":"Trixie!I$549","v":0},{"$f":"Trixie!J$549","v":0}]
[null,1111170358,32814,"Іграшка д/цуценят М яч-канат d=9см арт.32814","Більше 10","Іграшки для собак",87.69,110,{"$f":"Trixie!I$550","v":0},{"$f":"Trixie!J$550","v":0}]
[null,1111117857,5870,"Іграшка дерев яна для папуг 40 см","Менше 10","Обладнання для кліток",115.25,142,{"$f":"Trixie!I$551","v":0},{"$f":"Trixie!J$551","v":0}]
[null,1111114722,5195,"Іграшка дерев яна мультиколор для папуг 30 см","Більше 10","Обладнання для кліток",102.72,128,{"$f":"Trixie!I$552","v":0},{"$f":"Trixie!J$552","v":0}]
[null,1111121810,6192,"Іграшка для гризунів Морквинка + кукурудза сизаль 15 см","Більше 10","Обладнання для кліток",71.400000000000006,88,{"$f":"Trixie!I$553","v":0},{"$f":"Trixie!J$553","v":0}]
[null,1111150539,"40763_1шт","Іграшка для кота Миша/Рибка 9-12см","Більше 10","Іграшки для котів",52.61,65,{"$f":"Trixie!I$554","v":0},{"$f":"Trixie!J$554","v":0}]
[null,1111156346,41416,"Іграшка для котів Fix  and  Catch , 45 см, пластик","Більше 10","Іграшки для котів",147.82,183,{"$f":"Trixie!I$555","v":0},{"$f":"Trixie!J$555","v":0}]
[null,1111117729,"3612_1шт","Іграшка із каната з тенісним м ячем 16 см","Більше 10","Іграшки для собак",177.88,213,{"$f":"Trixie!I$556","v":0},{"$f":"Trixie!J$556","v":0}]
[null,1111114891,"3578_1шт","Іграшка із каната зебра, жираф 28 см (1 шт.)","Більше 10","Іграшки для собак",298.14,369,{"$f":"Trixie!I$557","v":0},{"$f":"Trixie!J$557","v":0}]
[null,1111129727,"35894_1шт","Іграшка із каната собака, бегемот 32 см (1 шт.)","Більше 10","Іграшки для собак",238.01,294,{"$f":"Trixie!I$558","v":0},{"$f":"Trixie!J$558","v":0}]
[null,1111119907,5164,"Іграшка канат з дзвіночком для папуг 50 см","Менше 10","Обладнання для кліток",358.27,443,{"$f":"Trixie!I$559","v":0},{"$f":"Trixie!J$559","v":0}]
[null,1111134658,"35283_1шт","Іграшка кругла Звірятко латекс 6 см","Більше 10","Іграшки для собак",87.69,108,{"$f":"Trixie!I$560","v":0},{"$f":"Trixie!J$560","v":0}]
[null,9605,"3510_1шт","Іграшка латексна (1 шт.)","Більше 10","Іграшки для собак",101.47,125,{"$f":"Trixie!I$561","v":0},{"$f":"Trixie!J$561","v":0}]
[null,1111114588,"3462_1шт","Іграшка латексна кругла з хвостом 6 см","Більше 10","Іграшки для собак",131.53,162,{"$f":"Trixie!I$562","v":0},{"$f":"Trixie!J$562","v":0}]
[null,1111120694,"3582_1шт","Іграшка плюшева із каната 17 см","Менше 10","Іграшки для собак",207.95,256,{"$f":"Trixie!I$563","v":0},{"$f":"Trixie!J$563","v":0}]
[null,1111121132,6183,"Іграшка-валик дерев яна для гризунів із дзвіночком 3,5?5 см","Більше 10","Обладнання для кліток",60.13,74,{"$f":"Trixie!I$564","v":0},{"$f":"Trixie!J$564","v":0}]
[null,1111170334,33648,"ІграшкаД/соб.КатапультЗм ячЗіСвітлПласт/терм.гума d=6cм/50cм арт.33648","Менше 10","Іграшки для собак",274.99,346.48,{"$f":"Trixie!I$565","v":0},{"$f":"Trixie!J$565","v":0}]
[null,1111126202,"3618_1шт","Іграшка-сквікер плюшева на мотузці 13 см","Більше 10","Іграшки для собак",177.88,219,{"$f":"Trixie!I$566","v":0},{"$f":"Trixie!J$566","v":0}]
[null,1111111511,3270,"Ігровий канат 15см/25гр","Більше 100","Іграшки для собак",25.05,30,{"$f":"Trixie!I$567","v":0},{"$f":"Trixie!J$567","v":0}]
[null,1111111512,3271,"Ігровий канат 20см/50гр","Більше 10","Іграшки для собак",36.33,44,{"$f":"Trixie!I$568","v":0},{"$f":"Trixie!J$568","v":0}]
[null,12255,3272,"Ігровий канат 26см/125гр","Більше 100","Іграшки для собак",52.61,65,{"$f":"Trixie!I$569","v":0},{"$f":"Trixie!J$569","v":0}]
[null,11000,3273,"Ігровий канат 37см/300гр","Більше 10","Іграшки для собак",129.03,159,{"$f":"Trixie!I$570","v":0},{"$f":"Trixie!J$570","v":0}]
[null,1111115362,3276,"Ігровий канат 40см/470гр","Більше 10","Іграшки для собак",177.88,219,{"$f":"Trixie!I$571","v":0},{"$f":"Trixie!J$571","v":0}]
[null,1111121139,3279,"Ігровий канат з 1-м вузлом 70см/270гр","Менше 10","Іграшки для собак",106.3,131,{"$f":"Trixie!I$572","v":0},{"$f":"Trixie!J$572","v":0}]
[null,11002,3275,"Ігровий канат з 1-м вузлом і петлею 60см/500гр","Більше 10","Іграшки для собак",181.64,224,{"$f":"Trixie!I$573","v":0},{"$f":"Trixie!J$573","v":0}]
[null,11001,3274,"Ігровий канат з 2-ма вузлами 54см/360гр","Більше 10","Іграшки для собак",129.03,159,{"$f":"Trixie!I$574","v":0},{"$f":"Trixie!J$574","v":0}]
[null,1111151099,35718,"Ігровий канат з 2-ма петлями, 38см, поліестер","Більше 10","Іграшки для собак",117.75,145,{"$f":"Trixie!I$575","v":0},{"$f":"Trixie!J$575","v":0}]
[null,1111151118,35717,"Ігровий канат з вузликами, 31см, текстиль","Більше 10","Іграшки для собак",71.400000000000006,88,{"$f":"Trixie!I$576","v":0},{"$f":"Trixie!J$576","v":0}]
[null,1111115359,3280,"Ігровий канат з м ячем і пластиковою ручкою 50 см","Більше 10","Іграшки для собак",179.14,221,{"$f":"Trixie!I$577","v":0},{"$f":"Trixie!J$577","v":0}]
[null,1111114742,3266,"Ігровий канат з тенісним м ячем 18 см","Більше 10","Іграшки для собак",88.94,111,{"$f":"Trixie!I$578","v":0},{"$f":"Trixie!J$578","v":0}]
[null,1111114737,3278,"Ігровий канат-вісімка 35см/280гр","Більше 10","Іграшки для собак",129.03,159,{"$f":"Trixie!I$579","v":0},{"$f":"Trixie!J$579","v":0}]
[null,1111114736,"3277 Trixie","Ігровий канат-кільце 30см/350гр","Більше 10","Іграшки для собак",155.34,192,{"$f":"Trixie!I$580","v":0},{"$f":"Trixie!J$580","v":0}]
[null,1111116255,4534,"Їжачок гумовий 3,3 см (4 шт.)","Немає в наявності","Іграшки для котів",76.41,94,{"$f":"Trixie!I$581","v":0},{"$f":"Trixie!J$581","v":0}]
[null,8463,"4125_1шт","Їжачок морський латексний 3 см","Більше 100","Іграшки для котів",13.78,17,{"$f":"Trixie!I$582","v":0},{"$f":"Trixie!J$582","v":0}]
[null,1111141016,34748,"Їжачок плюшевий 12 см","Більше 10","Іграшки для собак",131.53,163,{"$f":"Trixie!I$583","v":0},{"$f":"Trixie!J$583","v":0}]
[null,1111141018,34832,"Їжачок плюшевий 17 см","Немає в наявності","Іграшки для собак",247.26,305,{"$f":"Trixie!I$584","v":0},{"$f":"Trixie!J$584","v":0}]
[null,1111134790,45781,"Їжачок плюшевий 8 см","Більше 10","Іграшки для котів",129.03,159,{"$f":"Trixie!I$585","v":0},{"$f":"Trixie!J$585","v":0}]
[null,1111141019,34833,"Їжачок плюшевий довгий 37 см","Більше 10","Іграшки для собак",238.01,294,{"$f":"Trixie!I$586","v":0},{"$f":"Trixie!J$586","v":0}]
[null,1111126408,35934,"Їжачок плюшевий кудлатий 12 см","Більше 10","Іграшки для собак",147.82,182,{"$f":"Trixie!I$587","v":0},{"$f":"Trixie!J$587","v":0}]
[null,1111126409,35935,"Їжачок плюшевий кудлатий 17 см","Більше 10","Іграшки для собак",177.88,220,{"$f":"Trixie!I$588","v":0},{"$f":"Trixie!J$588","v":0}]
[null,1111134791,45782,"Їжачок плюшевий кудлатий 8 см","Більше 10","Іграшки для котів",129.03,159,{"$f":"Trixie!I$589","v":0},{"$f":"Trixie!J$589","v":0}]
[null,1111183781,50541,"Кальцієвий камінь Trixie з сепією для птахів 11 см 40 г Арт50541","Більше 100","Вітаміни та мінерали",54,70,{"$f":"Trixie!I$590","v":0},{"$f":"Trixie!J$590","v":0}]
[null,1111166037,"50540 /5404","Кальцієвий камінь Trixie з сепією для птахів 11см 40г Арт50540","Більше 100","Вітаміни та мінерали",68.900000000000006,86,{"$f":"Trixie!I$591","v":0},{"$f":"Trixie!J$591","v":0}]
[null,1111114699,3317,"Капкан литий 14 см","Менше 10","Іграшки для собак",402.12,497,{"$f":"Trixie!I$592","v":0},{"$f":"Trixie!J$592","v":0}]
[null,1111114700,3316,"Капкан литий 7 см","Менше 10","Іграшки для собак",108.61,134,{"$f":"Trixie!I$593","v":0},{"$f":"Trixie!J$593","v":0}]
[null,8235,2273,"Карабін 3 хромовананий 19 мм","Менше 10","Карабіни",76.41,96,{"$f":"Trixie!I$594","v":0},{"$f":"Trixie!J$594","v":0}]
[null,1111116188,2274,"Карабін 4 хромовананий 25 мм","Більше 10","Карабіни",88.94,110,{"$f":"Trixie!I$595","v":0},{"$f":"Trixie!J$595","v":0}]
[null,1111172121,"48022-10","Картон Trixie замінний для дряпки артикул 48022 15*58м арт.48022-10","Менше 10","Комплектуючі для дряпок",432.12,583,{"$f":"Trixie!I$596","v":0},{"$f":"Trixie!J$596","v":0}]
[null,1111129417,35474,"Каченятко латексне з оригінальним звуком 20 см","Більше 10","Іграшки для собак",177.88,220,{"$f":"Trixie!I$597","v":0},{"$f":"Trixie!J$597","v":0}]
[null,1111116918,35492,"Качка латексна з оригінальним звуком 30 см","Більше 10","Іграшки для собак",298.14,368,{"$f":"Trixie!I$598","v":0},{"$f":"Trixie!J$598","v":0}]
[null,1111126402,35812,"Качка плюшева 15 см","Більше 10","Іграшки для собак",177.88,219,{"$f":"Trixie!I$599","v":0},{"$f":"Trixie!J$599","v":0}]
[null,1111159714,40364,"Килим Trixie під туалет двошаровий 40 х 55 сірий Арт40364","Більше 10","Килимки під туалети",509,661,{"$f":"Trixie!I$600","v":0},{"$f":"Trixie!J$600","v":0}]
[null,1111183758,40365,"Килим Trixie під туалет двошаровий 40 х 70 сірий Арт40365","Більше 10","Килимки під туалети",599,778,{"$f":"Trixie!I$601","v":0},{"$f":"Trixie!J$601","v":0}]
[null,1111139765,37164,"Килимок  Cosy  100?70 см бежевий","Менше 10","Килимки, пледи",672.7,847,{"$f":"Trixie!I$602","v":0},{"$f":"Trixie!J$602","v":0}]
[null,1111144816,37124,"Килимок  FunDogs  90?68 см коричневий з собачками","Менше 10","Килимки, пледи",499.14,628,{"$f":"Trixie!I$603","v":0},{"$f":"Trixie!J$603","v":0}]
[null,1111140972,37167,"Килимок  Kenny  100?150 см бежевий лапка/кісточка","Менше 10","Килимки, пледи",503.59,634,{"$f":"Trixie!I$604","v":0},{"$f":"Trixie!J$604","v":0}]
[null,1111140971,37166,"Килимок  Kenny  75?100 см бежевий лапка/кісточка","Більше 10","Килимки, пледи",334.47,421,{"$f":"Trixie!I$605","v":0},{"$f":"Trixie!J$605","v":0}]
[null,1111140973,37168,"Килимок  Mimi  70?50 см сірий з мордочками для котів","Більше 10","Килимки, пледи",300.64999999999998,378,{"$f":"Trixie!I$606","v":0},{"$f":"Trixie!J$606","v":0}]
[null,1111118894,37191,"Килимок Beany 100?70 см беж","Більше 10","Килимки, пледи",199.18,250,{"$f":"Trixie!I$607","v":0},{"$f":"Trixie!J$607","v":0}]
[null,1111150300,37150,"Килимок Tammy з лапками, 100?70 см, блакитний/беж, плюш","Більше 10","Килимки, пледи",435.94,549,{"$f":"Trixie!I$608","v":0},{"$f":"Trixie!J$608","v":0}]
[null,1111150294,37117,"Килимок Tammy, 70?50 см, синій, текстиль","Менше 10","Килимки, пледи",334.47,421,{"$f":"Trixie!I$609","v":0},{"$f":"Trixie!J$609","v":0}]
[null,1111150295,37118,"Килимок Tammy, 90?68 см, синій, текстиль","Менше 10","Килимки, пледи",571.23,718,{"$f":"Trixie!I$610","v":0},{"$f":"Trixie!J$610","v":0}]
[null,1111170369,13204,"Килимок д/багажнику авто захисний чорний текстиль 2,10*1,75м арт.13204","Більше 10","Пристосування для перевезення (авто/велосипед)",3513.83,4427,{"$f":"Trixie!I$611","v":0},{"$f":"Trixie!J$611","v":0}]
[null,1111150316,43114,"Килимок д/котів з дряпкою, 60?33?42см, графіт/-сірий","Більше 10","Іграшки для котів",904.45,1118,{"$f":"Trixie!I$612","v":0},{"$f":"Trixie!J$612","v":0}]
[null,1111170368,13203,"Килимок д/сидіння авто захисний чорний текстиль 1,55*1,30м арт.13203","Більше 10","Пристосування для перевезення (авто/велосипед)",3107.96,3916,{"$f":"Trixie!I$613","v":0},{"$f":"Trixie!J$613","v":0}]
[null,1111170409,25036,"Килимок д/соб. Повільне годув.сіра термопл.гума d=24см арт.25036","Більше 10","Миски",388.34,489,{"$f":"Trixie!I$614","v":0},{"$f":"Trixie!J$614","v":0}]
[null,1111170400,25035,"Килимок д/соб. Повільне годування термопласна гума d=24см арт.25035","Більше 10","Миски",358.27,451,{"$f":"Trixie!I$615","v":0},{"$f":"Trixie!J$615","v":0}]
[null,1111170408,25037,"Килимок д/соб.Повільн.годув.блакитн.термопл.гума d=28см арт.25037","Більше 10","Миски",388.34,489,{"$f":"Trixie!I$616","v":0},{"$f":"Trixie!J$616","v":0}]
[null,1111143926,13472,"Килимок захисний в авто нейлон чорний 1,45?1,60 м","Менше 10","Пристосування для перевезення (авто/велосипед)",1010.93,1273,{"$f":"Trixie!I$617","v":0},{"$f":"Trixie!J$617","v":0}]
[null,1111114890,1324,"Килимок захисний в авто нейлоновий чорний 1,45?1,60 м","Менше 10","Пристосування для перевезення (авто/велосипед)",1724.97,2171,{"$f":"Trixie!I$618","v":0},{"$f":"Trixie!J$618","v":0}]
[null,1111135598,1348,"Килимок захисний в авто нейлоновий чорний 1,50?1,35 м","Менше 10","Пристосування для перевезення (авто/велосипед)",1386.74,1744,{"$f":"Trixie!I$619","v":0},{"$f":"Trixie!J$619","v":0}]
[null,1111134501,13237,"Килимок захисний в авто поліестер бежевий 1,40?1,20 м","Менше 10","Пристосування для перевезення (авто/велосипед)",672.7,845,{"$f":"Trixie!I$620","v":0},{"$f":"Trixie!J$620","v":0}]
[null,1111119294,1314,"Килимок захисний в багажник нейлоновий чорний 1,64?1,25 м","Менше 10","Пристосування для перевезення (авто/велосипед)",1890.33,2379,{"$f":"Trixie!I$621","v":0},{"$f":"Trixie!J$621","v":0}]
[null,1111118314,1318,"Килимок захисний в багажник нейлоновий чорний 2,30?1,7 м","Менше 10","Пристосування для перевезення (авто/велосипед)",1010.93,1272,{"$f":"Trixie!I$622","v":0},{"$f":"Trixie!J$622","v":0}]
[null,1111146662,28683,"Килимок охолоджуючий 40х30см блакитний","Більше 10","Килимки, пледи",233,294,{"$f":"Trixie!I$623","v":0},{"$f":"Trixie!J$623","v":0}]
[null,1111143192,28685,"Килимок охолоджуючий 50?40 см блакитний","Менше 10","Килимки, пледи",334.47,421,{"$f":"Trixie!I$624","v":0},{"$f":"Trixie!J$624","v":0}]
[null,1111143193,28686,"Килимок охолоджуючий 90?50 см","Більше 10","Килимки, пледи",672.7,847,{"$f":"Trixie!I$625","v":0},{"$f":"Trixie!J$625","v":0}]
[null,1111146663,28684,"Килимок охолоджуючий, 65 * 50 см, блакитний","Більше 10","Килимки, пледи",503.59,633,{"$f":"Trixie!I$626","v":0},{"$f":"Trixie!J$626","v":0}]
[null,1111146806,24579,"Килимок під миски Patchwork для котів 44?28 см сірий","Більше 100","Килимки під миски",101.47,127,{"$f":"Trixie!I$627","v":0},{"$f":"Trixie!J$627","v":0}]
[null,1299,24544,"Килимок під миски для котів  Comic Cat  44?28 см","Більше 10","Килимки під миски",101.47,127,{"$f":"Trixie!I$628","v":0},{"$f":"Trixie!J$628","v":0}]
[null,1111127576,24540,"Килимок під миски для котів  Pussy Cat  40?30 см","Більше 100","Килимки під миски",101.47,127,{"$f":"Trixie!I$629","v":0},{"$f":"Trixie!J$629","v":0}]
[null,1111135461,40381,"Килимок під туалет 37?45 см ПВХ антрацит","Менше 10","Килимки під туалети",177.88,223,{"$f":"Trixie!I$630","v":0},{"$f":"Trixie!J$630","v":0}]
[null,1111135460,40382,"Килимок під туалет 40?60 см ПВХ антрацит","Більше 10","Килимки під туалети",238.01,299,{"$f":"Trixie!I$631","v":0},{"$f":"Trixie!J$631","v":0}]
[null,1111146630,40385,"Килимок під туалет 41 * 25 см, ПВХ, півколо, антрацит","Більше 10","Килимки під туалети",117.75,149,{"$f":"Trixie!I$632","v":0},{"$f":"Trixie!J$632","v":0}]
[null,1111122466,38872,"Килимок термо в переноску  Capri II  26*46 см","Більше 10","Комплектуючі до пластикових переносок",199.18,249,{"$f":"Trixie!I$633","v":0},{"$f":"Trixie!J$633","v":0}]
[null,1111122467,38873,"Килимок термо в переноску  Capri III  29*51 см","Більше 10","Комплектуючі до пластикових переносок",233,293,{"$f":"Trixie!I$634","v":0},{"$f":"Trixie!J$634","v":0}]
[null,1111170407,25038,"КилимокД/котівPillarsПовільн.годув.блакит.термопл.гумаd=35см арт.25038","Менше 10","Миски",598.79,755,{"$f":"Trixie!I$635","v":0},{"$f":"Trixie!J$635","v":0}]
[null,2102,2368,"Кігтеріз  Luxe  великий","Більше 10","Аксесуари для грумінгу",313.18,387,{"$f":"Trixie!I$636","v":0},{"$f":"Trixie!J$636","v":0}]
[null,1111115197,2423,"Кігтеріз  Luxe  гільйотина","Більше 10","Аксесуари для грумінгу",207.95,257,{"$f":"Trixie!I$637","v":0},{"$f":"Trixie!J$637","v":0}]
[null,5679,2367,"Кігтеріз  Luxe  маленький","Більше 100","Аксесуари для грумінгу",234.26,291,{"$f":"Trixie!I$638","v":0},{"$f":"Trixie!J$638","v":0}]
[null,4773,2373,"Кігтеріз (ножиці) маленький","Більше 100","Аксесуари для грумінгу",110.24,136,{"$f":"Trixie!I$639","v":0},{"$f":"Trixie!J$639","v":0}]
[null,5009,2371,"Кігтеріз великий","Більше 10","Аксесуари для грумінгу",298.14,369,{"$f":"Trixie!I$640","v":0},{"$f":"Trixie!J$640","v":0}]
[null,1111116590,6285,"Кігтеріз для гризунів","Більше 10","Аксесуари для грумінгу",110.24,137,{"$f":"Trixie!I$641","v":0},{"$f":"Trixie!J$641","v":0}]
[null,1111150323,62860,"Кігтеріз для гризунів 13 см, для великих пальців","Більше 10","Аксесуари для грумінгу",155.34,192,{"$f":"Trixie!I$642","v":0},{"$f":"Trixie!J$642","v":0}]
[null,4902,2370,"Кігтеріз поперечний","Більше 10","Аксесуари для грумінгу",155.34,192,{"$f":"Trixie!I$643","v":0},{"$f":"Trixie!J$643","v":0}]
[null,1111171714,48002,"Кігтеточка д/кот Trixie Mimi Хвиля з кот м_ят карт сір 48*16*22 cм","Менше 10","Дряпки картонні",605.05999999999995,786,{"$f":"Trixie!I$644","v":0},{"$f":"Trixie!J$644","v":0}]
[null,1111118531,2259,"Кілочок для прив язі собак 40см/9мм","Менше 10","Ланцюги, троси для прив'язування",181.64,226,{"$f":"Trixie!I$645","v":0},{"$f":"Trixie!J$645","v":0}]
[null,1111121032,33181,"Кільце Denta Fun Mintfresh 12,5 см","Більше 10","Іграшки для собак",238.01,294,{"$f":"Trixie!I$646","v":0},{"$f":"Trixie!J$646","v":0}]
[null,1111137989,33191,"Кільце Denta Fun на канаті 12см/41см","Менше 10","Іграшки для собак",469.76,581,{"$f":"Trixie!I$647","v":0},{"$f":"Trixie!J$647","v":0}]
[null,1111115376,3330,"Кільце з натурального каучука 15 см","Більше 10","Іграшки для собак",238.01,294,{"$f":"Trixie!I$648","v":0},{"$f":"Trixie!J$648","v":0}]
[null,1111115845,35612,"Кільце латексне для цуценят 8 см","Більше 10","Іграшки для собак",101.47,125,{"$f":"Trixie!I$649","v":0},{"$f":"Trixie!J$649","v":0}]
[null,1111114766,3321,"Кільце лите 15 см","Більше 10","Іграшки для собак",177.88,219,{"$f":"Trixie!I$650","v":0},{"$f":"Trixie!J$650","v":0}]
[null,1111114765,3320,"Кільце лите 9 см","Більше 10","Іграшки для собак",60.13,74,{"$f":"Trixie!I$651","v":0},{"$f":"Trixie!J$651","v":0}]
[null,1111113754,5158,"Кільце-канат для птахів 19 см","Менше 10","Обладнання для кліток",234.26,291,{"$f":"Trixie!I$652","v":0},{"$f":"Trixie!J$652","v":0}]
[null,1111114740,5166,"Кільце-канат для птахів 25 см","Менше 10","Обладнання для кліток",298.14,369,{"$f":"Trixie!I$653","v":0},{"$f":"Trixie!J$653","v":0}]
[null,1111120662,3360,"Кільце-хвиля лите 15 см","Менше 10","Іграшки для собак",207.95,256,{"$f":"Trixie!I$654","v":0},{"$f":"Trixie!J$654","v":0}]
[null,1111140924,34847,"Кісточка Denta Fun натуральний каучук з зубною ниткою для собак 14 см","Більше 10","Іграшки для собак",268.08,332,{"$f":"Trixie!I$655","v":0},{"$f":"Trixie!J$655","v":0}]
[null,1111144018,"31343_1шт","Кісточка Trixie Denta Fun для чищення зубів натуральна шкіра 11см 60г","Більше 10","Ласощі для собак",130.28,170,{"$f":"Trixie!I$656","v":0},{"$f":"Trixie!J$656","v":0}]
[null,1111144019,"31344_1шт","Кісточка Trixie Denta Fun для чищення зубів натуральна шкіра 17см 140г","Більше 10","Ласощі для собак",149.07,194,{"$f":"Trixie!I$657","v":0},{"$f":"Trixie!J$657","v":0}]
[null,1111144020,"31345_1шт","Кісточка Trixie Denta Fun для чищення зубів натуральна шкіра 20см 200г","Більше 10","Ласощі для собак",202.94,263,{"$f":"Trixie!I$658","v":0},{"$f":"Trixie!J$658","v":0}]
[null,1111153370,"2653_5шт","Кісточка Trixie д/соб жув пресов з вузл натур шкіра 16см 65г 5шт/упак","Більше 10","Ласощі для собак",344.49,448,{"$f":"Trixie!I$659","v":0},{"$f":"Trixie!J$659","v":0}]
[null,1111153371,"2654_5шт","Кісточка Trixie д/соб жув пресов з вузл натур шкіра 18см 80г 5 шт/упак","Менше 10","Ласощі для собак",419.66,546,{"$f":"Trixie!I$660","v":0},{"$f":"Trixie!J$660","v":0}]
[null,1111153372,"2660_3шт","Кісточка Trixie д/соб жув пресов з вузл натур шкіра 25см 180г 3шт/упак","Менше 10","Ласощі для собак",422.88,549.74,{"$f":"Trixie!I$661","v":0},{"$f":"Trixie!J$661","v":0}]
[null,1111122921,2788,"Кісточка Trixie д/соб прес жув в індив уп натур шкіра 10см 33г*3шт/уп","Більше 10","Ласощі для собак",105.23,136,{"$f":"Trixie!I$662","v":0},{"$f":"Trixie!J$662","v":0}]
[null,1111122923,2790,"Кісточка Trixie д/соб прес жув в індив уп натур шкіра 15см 75г*2шт/уп","Більше 100","Ласощі для собак",122.76,160,{"$f":"Trixie!I$663","v":0},{"$f":"Trixie!J$663","v":0}]
[null,1111122924,2791,"Кісточка Trixie д/соб пресов жув в індивід упак натур шкіра 17см 90г","Менше 10","Ласощі для собак",71.400000000000006,93,{"$f":"Trixie!I$664","v":0},{"$f":"Trixie!J$664","v":0}]
[null,1111122925,2792,"Кісточка Trixie д/соб пресов жув в індивід упак натур шкіра 21см 170г","Більше 100","Ласощі для собак",141.56,184,{"$f":"Trixie!I$665","v":0},{"$f":"Trixie!J$665","v":0}]
[null,1111122926,2793,"Кісточка Trixie д/соб пресов жув в індивід упак натур шкіра 22см 230г","Більше 10","Ласощі для собак",177.88,230,{"$f":"Trixie!I$666","v":0},{"$f":"Trixie!J$666","v":0}]
[null,1111122927,2794,"Кісточка Trixie д/соб пресов жув в індивід упак натур шкіра 32см 420г","Більше 10","Ласощі для собак",323.2,419,{"$f":"Trixie!I$667","v":0},{"$f":"Trixie!J$667","v":0}]
[null,1111153369,"2652_5шт","Кісточка Trixie д/соб пресов жув з вузл натур шкіра 11см 30г 5 шт/упак","Більше 10","Ласощі для собак",169.11,220,{"$f":"Trixie!I$668","v":0},{"$f":"Trixie!J$668","v":0}]
[null,1111153602,"2644_25шт","Кісточка Trixie д/соб пресов жув натур шкіра 15см 75г 25шт/упак","Більше 10","Ласощі для собак",1503.24,1947,{"$f":"Trixie!I$669","v":0},{"$f":"Trixie!J$669","v":0}]
[null,1111153603,"2645_25 шт","Кісточка Trixie д/соб пресов жув натур шкіра 17см 90г 25шт/упак","Менше 10","Ласощі для собак",1683.63,2180,{"$f":"Trixie!I$670","v":0},{"$f":"Trixie!J$670","v":0}]
[null,1111115355,2634,"Кісточка Trixie д/соб пресов жув натур шкіра 5см 8г 50шт/упак","Більше 10","Ласощі для собак",438.45,568,{"$f":"Trixie!I$671","v":0},{"$f":"Trixie!J$671","v":0}]
[null,1111114901,2636,"Кісточка Trixie д/соб пресована жувальна натур шкіра 8см 15г 50шт/упак","Менше 10","Ласощі для собак",751.62,974,{"$f":"Trixie!I$672","v":0},{"$f":"Trixie!J$672","v":0}]
[null,1111122920,2787,"Кісточка Trixie д/соб пресована жувальна натур шкіра 8см 15г*5шт/упак","Більше 100","Ласощі для собак",83.93,110,{"$f":"Trixie!I$673","v":0},{"$f":"Trixie!J$673","v":0}]
[null,1111153360,"2649_3шт","Кісточка Trixie д/собак пресов жув натур шкіра 21см 170г 3шт/упак","Більше 10","Ласощі для собак",413.39,537,{"$f":"Trixie!I$674","v":0},{"$f":"Trixie!J$674","v":0}]
[null,1111153361,"2650_3шт","Кісточка Trixie д/собак пресов жув натур шкіра 22см 230г 3шт/упак","Більше 10","Ласощі для собак",522.38,679,{"$f":"Trixie!I$675","v":0},{"$f":"Trixie!J$675","v":0}]
[null,1111153362,"2651_3шт","Кісточка Trixie д/собак пресов жув натур шкіра 32см 420г 3шт/упак","Більше 10","Ласощі для собак",947.04,1231,{"$f":"Trixie!I$676","v":0},{"$f":"Trixie!J$676","v":0}]
[null,1111146646,"31324_1шт","Кісточка Trixie для чищення зубів Denta Fun натуральна шкіра 18см 120г","Більше 10","Ласощі для собак",130.28,170,{"$f":"Trixie!I$677","v":0},{"$f":"Trixie!J$677","v":0}]
[null,1111146645,"31320_1шт","Кісточка Trixie для чищення зубів Denta Fun натуральна шкіра 25см 220г","Більше 10","Ласощі для собак",214.21,279,{"$f":"Trixie!I$678","v":0},{"$f":"Trixie!J$678","v":0}]
[null,9737,3374,"Кісточка вінілова 15 см","Більше 10","Іграшки для собак",87.69,108,{"$f":"Trixie!I$679","v":0},{"$f":"Trixie!J$679","v":0}]
[null,1111140903,33671,"Кісточка з квіточками термопластичний каучук для собак 17 см","Менше 10","Іграшки для собак",238.01,294,{"$f":"Trixie!I$680","v":0},{"$f":"Trixie!J$680","v":0}]
[null,1111143307,33690,"Кісточка охолоджуюча натуральний каучук 11 см","Менше 10","Іграшки для собак",207.95,257,{"$f":"Trixie!I$681","v":0},{"$f":"Trixie!J$681","v":0}]
[null,1111146287,"27616_1шт","Кісточка прес. з трахеї 15см/90г","Більше 10","Ласощі для собак",92.7,121,{"$f":"Trixie!I$682","v":0},{"$f":"Trixie!J$682","v":0}]
[null,1111118315,3342,"Кісточка хутряна з пищавкою 20 см","Менше 10","Іграшки для собак",101.47,125,{"$f":"Trixie!I$683","v":0},{"$f":"Trixie!J$683","v":0}]
[null,1111140925,34848,"Кісточка шелестка натуральний каучук для собак 11 см","Більше 10","Іграшки для собак",191.66,236,{"$f":"Trixie!I$684","v":0},{"$f":"Trixie!J$684","v":0}]
[null,1111140926,34849,"Кісточка шелестка натуральний каучук для собак 18 см","Більше 10","Іграшки для собак",334.47,413,{"$f":"Trixie!I$685","v":0},{"$f":"Trixie!J$685","v":0}]
[null,1111139737,"31328_1шт","Кісточка-кільце Trixie для собак пресоване жувальне натуральна шкіра 1","Більше 10","Ласощі для собак",149.07,194,{"$f":"Trixie!I$686","v":0},{"$f":"Trixie!J$686","v":0}]
[null,1111140866,22860,"Клікер Trixie для собак 6,5 см Арт22860","Більше 10","Обладнання для аджиліті, дресирування",102.72,134,{"$f":"Trixie!I$687","v":0},{"$f":"Trixie!J$687","v":0}]
[null,1111183722,22863,"Клікер Trixie з карабіном і спіральним тросом для собак Арт22863","Більше 10","Обладнання для аджиліті, дресирування",129.03,168,{"$f":"Trixie!I$688","v":0},{"$f":"Trixie!J$688","v":0}]
[null,1111162630,22862,"Клікер-свисток Trixie для собак 8 см Арт22862","Більше 10","Аксесуари для амуніції (адресовки, брелоки, медальйони, підвіски)",102.72,134,{"$f":"Trixie!I$689","v":0},{"$f":"Trixie!J$689","v":0}]
[null,5134,3925,"Клітка металева 109?79?71 см","Менше 10","Клітки, вольєри для котів і собак",4613.7,5702,{"$f":"Trixie!I$690","v":0},{"$f":"Trixie!J$690","v":0}]
[null,1111117424,3922,"Клітка металева 64?54?48 см","Менше 10","Клітки, вольєри для котів і собак",2216.0300000000002,2738,{"$f":"Trixie!I$691","v":0},{"$f":"Trixie!J$691","v":0}]
[null,5061,3923,"Клітка металева 78?62?55 см","Менше 10","Клітки, вольєри для котів і собак",2869.94,3546,{"$f":"Trixie!I$692","v":0},{"$f":"Trixie!J$692","v":0}]
[null,5775,3924,"Клітка металева 93?62?69 см","Менше 10","Клітки, вольєри для котів і собак",3556.42,4395,{"$f":"Trixie!I$693","v":0},{"$f":"Trixie!J$693","v":0}]
[null,1111163128,35673,"Коала, 33 см, плюш","Менше 10","Іграшки для собак",334.47,413,{"$f":"Trixie!I$694","v":0},{"$f":"Trixie!J$694","v":0}]
[null,1111183712,13233,"Ковдра Trixie для заднього сидіння авто 1,4х1,45 м сіра Арт13233","Більше 10","Килимки, пледи",1010.93,1314,{"$f":"Trixie!I$695","v":0},{"$f":"Trixie!J$695","v":0}]
[null,1111183713,13234,"Ковдра Trixie для заднього сидіння авто 1,4х1,45м чорно-беж Арт13234","Більше 10","Килимки, пледи",1180.05,1534,{"$f":"Trixie!I$696","v":0},{"$f":"Trixie!J$696","v":0}]
[null,1111183736,24568,"Коврик Trixie під миски силіконовий блакитний 48 х 27 см Арт24568","Більше 10","Килимки під миски",503.59,655,{"$f":"Trixie!I$697","v":0},{"$f":"Trixie!J$697","v":0}]
[null,1111165635,24052,"Ковтуноріз Trixie для собак зубчасті леза пластик/метал 16см","Більше 10","Аксесуари для грумінгу",247.26,305,{"$f":"Trixie!I$698","v":0},{"$f":"Trixie!J$698","v":0}]
[null,1111125852,24161,"Ковтуноріз для котів закруглений","Більше 10","Аксесуари для грумінгу",268.08,331,{"$f":"Trixie!I$699","v":0},{"$f":"Trixie!J$699","v":0}]
[null,1111118160,"3988 /3283","Колеса (4 шт.)  Gulliver","Менше 10","Комплектуючі до пластикових переносок",1636.34,2486,{"$f":"Trixie!I$700","v":0},{"$f":"Trixie!J$700","v":0}]
[null,1111139758,"39740 /36313","Колеса (4 шт.)  Skudo","Менше 10","Комплектуючі до пластикових переносок",1689.17,2125,{"$f":"Trixie!I$701","v":0},{"$f":"Trixie!J$701","v":0}]
[null,1111169736,61010,"Колесо Trixie тренаж.д/мал.гризунів на підставці пласт.ø20см арт.61010","Немає в наявності","Обладнання для кліток",298.14,403,{"$f":"Trixie!I$702","v":0},{"$f":"Trixie!J$702","v":0}]
[null,1111127833,61011,"Колесо Trixie тренаж.д/мал.гризунів на підставці пласт.ø28см арт.61011","Більше 10","Обладнання для кліток",448.47,605,{"$f":"Trixie!I$703","v":0},{"$f":"Trixie!J$703","v":0}]
[null,1111172934,61012,"Колесо Trixie тренаж.д/мал.гризунів на підставці пласт.ø33см арт.61012","Менше 10","Обладнання для кліток",538.66,728,{"$f":"Trixie!I$704","v":0},{"$f":"Trixie!J$704","v":0}]
[null,1111172935,61035,"Колесо Trixie тренажерне для маленьких гризунів дерево ø23см арт.61035","Менше 10","Обладнання для кліток",598.79,809,{"$f":"Trixie!I$705","v":0},{"$f":"Trixie!J$705","v":0}]
[null,1111116724,33702,"Колесо на канаті 15 см","Менше 10","Іграшки для собак",368.29,454,{"$f":"Trixie!I$706","v":0},{"$f":"Trixie!J$706","v":0}]
[null,1111132056,29193,"Кондиціонер для собак 250 мл з олією жожоба","Більше 10","Косметика, засоби догляду для грумінгу",131.53,163,{"$f":"Trixie!I$707","v":0},{"$f":"Trixie!J$707","v":0}]
[null,1111137775,29196,"Кондиціонер для собак 250 мл з олією макадамії й обліпихи","Більше 10","Косметика, засоби догляду для грумінгу",147.82,183,{"$f":"Trixie!I$708","v":0},{"$f":"Trixie!J$708","v":0}]
[null,1111140868,32040,"Кормушка Trixie д/соб Dog Activity Memory Trainer 3.0 20*24см пластик","Менше 10","Іграшки для собак",3310.89,4172,{"$f":"Trixie!I$709","v":0},{"$f":"Trixie!J$709","v":0}]
[null,1111170313,32004,"Кормушка д/соб. Snack Popper біла пластикова 21*10*12см арт.32004","Менше 10","Іграшки для собак",598.79,752,{"$f":"Trixie!I$710","v":0},{"$f":"Trixie!J$710","v":0}]
[null,1111176960,909145,"Коробка Trixie Хеллов д/вітрини д/ласощ арт91997 карт 24,5*10,4*34,5см","Більше 10","Реклама",135.11000000000001,182.4,{"$f":"Trixie!I$711","v":0},{"$f":"Trixie!J$711","v":0}]
[null,1111119105,32943,"Котушка Denta Fun Mintfresh 11,5 см","Менше 10","Іграшки для собак",191.66,236,{"$f":"Trixie!I$712","v":0},{"$f":"Trixie!J$712","v":0}]
[null,1111119104,32944,"Котушка Denta Fun Mintfresh 15 см","Більше 10","Іграшки для собак",268.08,331,{"$f":"Trixie!I$713","v":0},{"$f":"Trixie!J$713","v":0}]
[null,1111130091,58951,"Крейда з дерев яною іграшкою і дзвіночком для птахів 16 см","Більше 100","Обладнання для кліток",76.41,94,{"$f":"Trixie!I$714","v":0},{"$f":"Trixie!J$714","v":0}]
[null,1111119909,2571,"Крем для подушечок лап 50 мл","Більше 10","Засоби для догляду за лапами",102.72,127,{"$f":"Trixie!I$715","v":0},{"$f":"Trixie!J$715","v":0}]
[null,1111135943,45786,"Кріт плюшевий 5 см","Більше 10","Іграшки для котів",131.53,163,{"$f":"Trixie!I$716","v":0},{"$f":"Trixie!J$716","v":0}]
[null,13728,3529,"Крокодил латексний 35 см","Менше 10","Іграшки для собак",298.14,368,{"$f":"Trixie!I$717","v":0},{"$f":"Trixie!J$717","v":0}]
[null,1111150286,35886,"Кролик Bunny з пищавкою, 38 см, плюш","Більше 10","Іграшки для собак",358.27,443,{"$f":"Trixie!I$718","v":0},{"$f":"Trixie!J$718","v":0}]
[null,1111150283,35869,"Кролик з пищавкою, 29 см, текстиль","Більше 10","Іграшки для собак",268.08,331,{"$f":"Trixie!I$719","v":0},{"$f":"Trixie!J$719","v":0}]
[null,1111125097,"3590_1шт","Кролик плюшевий 15 см","Немає в наявності","Іграшки для собак",189.16,234,{"$f":"Trixie!I$720","v":0},{"$f":"Trixie!J$720","v":0}]
[null,1111163132,35679,"Кролик, 47 см, плюш","Більше 10","Іграшки для собак",571.23,706,{"$f":"Trixie!I$721","v":0},{"$f":"Trixie!J$721","v":0}]
[null,1111117668,6187,"Кулька дерев яна зі дзвіночком 6 см","Більше 10","Обладнання для кліток",117.75,145,{"$f":"Trixie!I$722","v":0},{"$f":"Trixie!J$722","v":0}]
[null,1111126943,61821,"Кулька трав яна із дзвіночком 6 см","Більше 100","Обладнання для кліток",52.61,65,{"$f":"Trixie!I$723","v":0},{"$f":"Trixie!J$723","v":0}]
[null,793,"4099_1шт","Кулька, валик для котів 4,5 см","Більше 100","Іграшки для котів",18.79,23,{"$f":"Trixie!I$724","v":0},{"$f":"Trixie!J$724","v":0}]
[null,1111119258,4166,"Кульки пластмасові 4,5 см (4 шт.)","Більше 10","Іграшки для котів",60.13,74,{"$f":"Trixie!I$725","v":0},{"$f":"Trixie!J$725","v":0}]
[null,12238,3536,"Курка латексна 25 см","Немає в наявності","Іграшки для собак",117.75,145,{"$f":"Trixie!I$726","v":0},{"$f":"Trixie!J$726","v":0}]
[null,1111115537,3539,"Курка латексна 51 см","Менше 10","Іграшки для собак",268.08,332,{"$f":"Trixie!I$727","v":0},{"$f":"Trixie!J$727","v":0}]
[null,1111119094,35495,"Курка латексна з оригінальним звуком 48 см","Більше 10","Іграшки для собак",469.76,581,{"$f":"Trixie!I$728","v":0},{"$f":"Trixie!J$728","v":0}]
[null,1111115131,35091,"Курчатко латексне 15 см","Більше 100","Іграшки для собак",71.400000000000006,88,{"$f":"Trixie!I$729","v":0},{"$f":"Trixie!J$729","v":0}]
[null,1111136766,45561,"Курчатко плюшеве на резинці 20 см","Більше 10","Іграшки для котів",129.03,159,{"$f":"Trixie!I$730","v":0},{"$f":"Trixie!J$730","v":0}]
[null,9731,6254,"Кутовий туалет для гризунів","Більше 10","Обладнання для кліток",26.31,33,{"$f":"Trixie!I$731","v":0},{"$f":"Trixie!J$731","v":0}]
[null,1111113000,62551,"Кутовий туалет для гризунів 36х21х30 см","Більше 10","Обладнання для кліток",102.72,127,{"$f":"Trixie!I$732","v":0},{"$f":"Trixie!J$732","v":0}]
[null,12866,6256,"Кутовий туалет з лопаткою для гризунів","Менше 10","Обладнання для кліток",102.72,127,{"$f":"Trixie!I$733","v":0},{"$f":"Trixie!J$733","v":0}]
[null,1111150284,35884,"Лама з фольгою, 40 см, плюш","Більше 10","Іграшки для собак",268.08,331,{"$f":"Trixie!I$734","v":0},{"$f":"Trixie!J$734","v":0}]
[null,1111137981,55001,"Лампа для птахів 23 Вт","Менше 10","Обладнання для тераріуму, комплектуючі",672.7,832,{"$f":"Trixie!I$735","v":0},{"$f":"Trixie!J$735","v":0}]
[null,1111126089,76097,"Лампа інфрачервона 100 Вт","Менше 10","Обладнання для тераріуму, комплектуючі",435.94,540,{"$f":"Trixie!I$736","v":0},{"$f":"Trixie!J$736","v":0}]
[null,1111126087,76095,"Лампа інфрачервона 50 Вт","Більше 10","Обладнання для тераріуму, комплектуючі",334.47,413,{"$f":"Trixie!I$737","v":0},{"$f":"Trixie!J$737","v":0}]
[null,1111126088,76096,"Лампа інфрачервона 75 Вт","Менше 10","Обладнання для тераріуму, комплектуючі",334.47,413,{"$f":"Trixie!I$738","v":0},{"$f":"Trixie!J$738","v":0}]
[null,1111126936,76035,"Лампа компактна 8.0 23 Вт","Менше 10","Обладнання для тераріуму, комплектуючі",740.35,915,{"$f":"Trixie!I$739","v":0},{"$f":"Trixie!J$739","v":0}]
[null,1111176961,"91997_уп","Ласощі Trixie Halloween Selection для собак Хелловін 84 шт арт91997","Більше 10","Ласощі для собак",2513.6999999999998,3267.81,{"$f":"Trixie!I$740","v":0},{"$f":"Trixie!J$740","v":0}]
[null,1111134758,31771,"Ласощі Trixie Rotolinis з яловичиною для собак, 120 г","Більше 100","Ласощі для собак",50.11,65,{"$f":"Trixie!I$741","v":0},{"$f":"Trixie!J$741","v":0}]
[null,1111134759,31772,"Ласощі Trixie Stripes з ягням для собак, 100 г, 15 шт","Більше 100","Ласощі для собак",46.35,61,{"$f":"Trixie!I$742","v":0},{"$f":"Trixie!J$742","v":0}]
[null,1111121027,31447,"Ласощі Trixie д/соб Doggy Bits жувальні лапті 7см 100г 10шт/упак","Більше 10","Ласощі для собак",197.57,256,{"$f":"Trixie!I$743","v":0},{"$f":"Trixie!J$743","v":0}]
[null,1111119108,31445,"Ласощі Trixie д/соб Doggy Bits кісточ жув з вітамін 8см 230г 10шт/упак","Більше 10","Ласощі для собак",264.60000000000002,344,{"$f":"Trixie!I$744","v":0},{"$f":"Trixie!J$744","v":0}]
[null,1111170284,31867,"Ласощі Trixie д/собак Преміо Guse Liver Cubes з гусячою печінкою, 100г","Менше 10","Ласощі для собак",122.76,174,{"$f":"Trixie!I$745","v":0},{"$f":"Trixie!J$745","v":0}]
[null,1111176338,42682,"Ласощі Trixie для котів Тріксі Creamy Snacks Креветки 14г 5шт/упак","Більше 100","Ласощі для котів",73.91,96,{"$f":"Trixie!I$746","v":0},{"$f":"Trixie!J$746","v":0}]
[null,1111176337,42681,"Ласощі Trixie для котів Тріксі Creamy Snacks Курка 14г 5шт/упак","Більше 10","Ласощі для котів",73.91,96,{"$f":"Trixie!I$747","v":0},{"$f":"Trixie!J$747","v":0}]
[null,1111176339,42683,"Ласощі Trixie для котів Тріксі Creamy Snacks Риба 14г 5шт/упак","Більше 100","Ласощі для котів",73.91,96,{"$f":"Trixie!I$748","v":0},{"$f":"Trixie!J$748","v":0}]
[null,1111144196,27743,"Ласощі Trixie для собак Ріг буйвола жувальний L великий 182г","Більше 10","Ласощі для собак",199.18,258,{"$f":"Trixie!I$749","v":0},{"$f":"Trixie!J$749","v":0}]
[null,1111144195,27742,"Ласощі Trixie для собак Ріг буйвола жувальний M середній 109г","Більше 10","Ласощі для собак",165.36,215,{"$f":"Trixie!I$750","v":0},{"$f":"Trixie!J$750","v":0}]
[null,1111137243,2623,"Ласощі Trixie пластини для собак, 100 шт., 12 см","Більше 10","Ласощі для собак",334.47,434,{"$f":"Trixie!I$751","v":0},{"$f":"Trixie!J$751","v":0}]
[null,1111129071,76392,"Ласощі Trixie цвіркуни сушені для рептилій 25 г Арт76392","Більше 10","Корм сухий для черепах і рептилій",147.82,192,{"$f":"Trixie!I$752","v":0},{"$f":"Trixie!J$752","v":0}]
[null,1111183787,60792,"Ласощі Trixie черв_яки сушені для гризунів 70 г Арт60792","Більше 10","Ласощі для гризунів",98,127,{"$f":"Trixie!I$753","v":0},{"$f":"Trixie!J$753","v":0}]
[null,1111140900,42735,"Ласощі для котів  PREMIO Chicken Tenders  курячі крильця 70 г (4 шт.)","Більше 100","Ласощі для котів",92.7,424,{"$f":"Trixie!I$754","v":0},{"$f":"Trixie!J$754","v":0}]
[null,1111124005,42703,"Ласощі для котів Trixie PREMIO Barbecue Hearts курка 50 г","Більше 100","Ласощі для котів",73.91,96,{"$f":"Trixie!I$755","v":0},{"$f":"Trixie!J$755","v":0}]
[null,1111139778,38974,"Лежак  Davin  50?40 см сірий в смужку/кремовий","Менше 10","Лежаки",904.45,1138,{"$f":"Trixie!I$756","v":0},{"$f":"Trixie!J$756","v":0}]
[null,1111139779,38975,"Лежак  Davin  60?45 см сірий в смужку/кремовий","Менше 10","Лежаки",1267.74,1500,{"$f":"Trixie!I$757","v":0},{"$f":"Trixie!J$757","v":0}]
[null,1111156933,37457,"Лежак  F?hr  BE NORDIC, 60 x 50 cм, темно-синій","Немає в наявності","Лежаки",3094.18,3663,{"$f":"Trixie!I$758","v":0},{"$f":"Trixie!J$758","v":0}]
[null,1111156934,37448,"Лежак  F?hr  BE NORDIC, 80 x 60 cм, темно-сірий","Менше 10","Лежаки",4573.62,5415,{"$f":"Trixie!I$759","v":0},{"$f":"Trixie!J$759","v":0}]
[null,1111139773,"37037*****","Лежак  Jimmy  110?95 см сірий з лапками","Менше 10","Лежаки",3883.32,4598,{"$f":"Trixie!I$760","v":0},{"$f":"Trixie!J$760","v":0}]
[null,1111139767,37031,"Лежак  Jimmy  45?35 см сірий з лапками","Менше 10","Лежаки",722.81,910,{"$f":"Trixie!I$761","v":0},{"$f":"Trixie!J$761","v":0}]
[null,1111139768,37032,"Лежак  Jimmy  55?45 см сірий з лапками","Менше 10","Лежаки",904.45,1137,{"$f":"Trixie!I$762","v":0},{"$f":"Trixie!J$762","v":0}]
[null,1111139769,37033,"Лежак  Jimmy  65?55 см сірий з лапками","Менше 10","Лежаки",1267.74,1502,{"$f":"Trixie!I$763","v":0},{"$f":"Trixie!J$763","v":0}]
[null,1111139770,37034,"Лежак  Jimmy  75?65 см сірий з лапками","Менше 10","Лежаки",1594.69,1889,{"$f":"Trixie!I$764","v":0},{"$f":"Trixie!J$764","v":0}]
[null,1111139771,37035,"Лежак  Jimmy  85?75 см сірий з лапками","Менше 10","Лежаки",2030.63,2404,{"$f":"Trixie!I$765","v":0},{"$f":"Trixie!J$765","v":0}]
[null,1111139772,37036,"Лежак  Jimmy  95?85 см сірий з лапками","Менше 10","Лежаки",2651.97,3140,{"$f":"Trixie!I$766","v":0},{"$f":"Trixie!J$766","v":0}]
[null,1111144831,37685,"Лежак  Lingo  50?40 см білий/бежевий лапка/кісточка","Менше 10","Лежаки",672.7,847,{"$f":"Trixie!I$767","v":0},{"$f":"Trixie!J$767","v":0}]
[null,1111144830,37686,"Лежак  Lingo  60?55 см білий/бежевий лапка/кісточка","Менше 10","Лежаки",904.45,1137,{"$f":"Trixie!I$768","v":0},{"$f":"Trixie!J$768","v":0}]
[null,1111115896,37021,"Лежак  Lucky  в клітинку 45?35 см","Менше 10","Лежаки",722.81,910,{"$f":"Trixie!I$769","v":0},{"$f":"Trixie!J$769","v":0}]
[null,1111115897,37022,"Лежак  Lucky  в клітинку 55?45 см","Менше 10","Лежаки",904.45,1138,{"$f":"Trixie!I$770","v":0},{"$f":"Trixie!J$770","v":0}]
[null,1111140978,37487,"Лежак  Mimi  d50 см сірий з мордочками","Менше 10","Лежаки",1267.74,1502,{"$f":"Trixie!I$771","v":0},{"$f":"Trixie!J$771","v":0}]
[null,1111140976,37377,"Лежак  Tammy  d50 см синій/бежевий в лапку","Більше 10","Лежаки",672.7,846,{"$f":"Trixie!I$772","v":0},{"$f":"Trixie!J$772","v":0}]
[null,1111140977,37378,"Лежак  Tammy  d70 см синій/бежевий в лапку","Більше 10","Лежаки",1086.0899999999999,1286,{"$f":"Trixie!I$773","v":0},{"$f":"Trixie!J$773","v":0}]
[null,1111123245,37041,"Лежак  Yuma  з хутром d45 см","Менше 10","Лежаки",1267.74,1502,{"$f":"Trixie!I$774","v":0},{"$f":"Trixie!J$774","v":0}]
[null,1111146853,37706,"Лежак Elsie беж 45 см","Менше 10","Лежаки",1001.74,1186,{"$f":"Trixie!I$775","v":0},{"$f":"Trixie!J$775","v":0}]
[null,1111148404,38395,"Лежак Lian фетр з ручками сірий 37 см","Менше 10","Лежаки",503.59,633,{"$f":"Trixie!I$776","v":0},{"$f":"Trixie!J$776","v":0}]
[null,1111148406,38396,"Лежак Lian фетр з ручками сірий 45 см","Менше 10","Лежаки",672.7,797,{"$f":"Trixie!I$777","v":0},{"$f":"Trixie!J$777","v":0}]
[null,1111115190,62703,"Лежак Trixie для карликових кроликів 35 х 28 см Арт62703","Більше 10","Обладнання для кліток",402,523,{"$f":"Trixie!I$778","v":0},{"$f":"Trixie!J$778","v":0}]
[null,1111137864,37841,"Лежак Trixie для собак Cosma Bed плюшевий коричневий/бежевий 50см","Більше 10","Лежаки",977.11,1157,{"$f":"Trixie!I$779","v":0},{"$f":"Trixie!J$779","v":0}]
[null,1111137778,37842,"Лежак Trixie для собак Cosma Bed плюшевий коричневий/бежевий 60см","Більше 10","Лежаки",1267.74,1502,{"$f":"Trixie!I$780","v":0},{"$f":"Trixie!J$780","v":0}]
[null,1111118665,"4328 Trixie","Лежак для котів  CosyPlace  на підвіконня 51?36 см світло-сірий","Менше 10","Лежаки",722.81,909,{"$f":"Trixie!I$781","v":0},{"$f":"Trixie!J$781","v":0}]
[null,1111116793,28631,"Лежак для котів 47?38 см","Менше 10","Лежаки",266.83,336,{"$f":"Trixie!I$782","v":0},{"$f":"Trixie!J$782","v":0}]
[null,1111115188,"62701 Trixie","Лежак для хом яків 16,5?15,5 см","Більше 100","Обладнання для кліток",88.94,109,{"$f":"Trixie!I$783","v":0},{"$f":"Trixie!J$783","v":0}]
[null,1111115189,62702,"Лежак для хом яків 32?26 см","Менше 10","Обладнання для кліток",147.82,182,{"$f":"Trixie!I$784","v":0},{"$f":"Trixie!J$784","v":0}]
[null,1111139328,43141,"Лежак на батарею д/котів з довгим ворсом 45?26?31 см коричнев/бежевий","Менше 10","Лежаки",977.11,1229,{"$f":"Trixie!I$785","v":0},{"$f":"Trixie!J$785","v":0}]
[null,1111129426,35919,"Лисиця плюшева з канатами 34 см","Більше 10","Іграшки для собак",334.47,413,{"$f":"Trixie!I$786","v":0},{"$f":"Trixie!J$786","v":0}]
[null,1111163126,35671,"Лінивець, 56 см, плюш","Менше 10","Іграшки для собак",402.12,497,{"$f":"Trixie!I$787","v":0},{"$f":"Trixie!J$787","v":0}]
[null,1111134529,33562,"Літаюча тарілка  Dog Activity  23 см м який пластик","Більше 10","Іграшки для собак",238.01,294,{"$f":"Trixie!I$788","v":0},{"$f":"Trixie!J$788","v":0}]
[null,1111116820,33501,"Літаюча тарілка для собак гумова 18 см","Менше 10","Іграшки для собак",177.88,219,{"$f":"Trixie!I$789","v":0},{"$f":"Trixie!J$789","v":0}]
[null,1111115379,33502,"Літаюча тарілка для собак гумова 22 см","Більше 10","Іграшки для собак",238.01,294,{"$f":"Trixie!I$790","v":0},{"$f":"Trixie!J$790","v":0}]
[null,1111127925,33503,"Літаюча тарілка для собак гумова 24,5 см","Менше 10","Іграшки для собак",298.14,369,{"$f":"Trixie!I$791","v":0},{"$f":"Trixie!J$791","v":0}]
[null,8008,4050,"Лопатка Trixie","Більше 10","Лопатки",42.59,54,{"$f":"Trixie!I$792","v":0},{"$f":"Trixie!J$792","v":0}]
[null,12219,4049,"Лопатка Trixie велика","Більше 100","Лопатки",31.32,39,{"$f":"Trixie!I$793","v":0},{"$f":"Trixie!J$793","v":0}]
[null,1111137641,40475,"Лопатка Trixie з підставкою для  Fresh n Easy  гранульованого","Більше 10","Лопатки",181.64,228,{"$f":"Trixie!I$794","v":0},{"$f":"Trixie!J$794","v":0}]
[null,9299,4045,"Лопатка-совок Trixie маленька","Більше 100","Лопатки",37.58,48,{"$f":"Trixie!I$795","v":0},{"$f":"Trixie!J$795","v":0}]
[null,1111119757,35751,"Лось плюшевий 15 см","Більше 10","Іграшки для собак",191.66,236,{"$f":"Trixie!I$796","v":0},{"$f":"Trixie!J$796","v":0}]
[null,1111119103,32941,"М яч Denta Fun Mintfresh 6 см","Більше 10","Іграшки для собак",147.82,182,{"$f":"Trixie!I$797","v":0},{"$f":"Trixie!J$797","v":0}]
[null,1111119102,32942,"М яч Denta Fun Mintfresh 7,5 см","Більше 10","Іграшки для собак",207.95,256,{"$f":"Trixie!I$798","v":0},{"$f":"Trixie!J$798","v":0}]
[null,1111153606,"2673_10шт","М яч Trixie для собак пресований жувальний з начинкою натуральна шкіра","Менше 10","Ласощі для собак",1014.69,1319,{"$f":"Trixie!I$799","v":0},{"$f":"Trixie!J$799","v":0}]
[null,1111115126,3307,"М яч апортировочний плаваючий 6см/1м","Менше 10","Іграшки для собак",87.69,108,{"$f":"Trixie!I$800","v":0},{"$f":"Trixie!J$800","v":0}]
[null,1111116727,33482,"М яч апортировочний плаваючий 7см/35см","Менше 10","Іграшки для собак",177.88,220,{"$f":"Trixie!I$801","v":0},{"$f":"Trixie!J$801","v":0}]
[null,10366,3414,"М яч вініловий малий 7,5 см","Більше 10","Іграшки для собак",76.41,94,{"$f":"Trixie!I$802","v":0},{"$f":"Trixie!J$802","v":0}]
[null,9735,3412,"М яч вініловий середній 10 см","Більше 10","Іграшки для собак",102.72,127,{"$f":"Trixie!I$803","v":0},{"$f":"Trixie!J$803","v":0}]
[null,1111141781,34390,"М яч гумовий 4,5 см","Більше 10","Іграшки для собак",36.33,44,{"$f":"Trixie!I$804","v":0},{"$f":"Trixie!J$804","v":0}]
[null,1111122409,34841,"М яч гумовий з пищавкою 6 см","Більше 10","Іграшки для собак",87.69,108,{"$f":"Trixie!I$805","v":0},{"$f":"Trixie!J$805","v":0}]
[null,1111134846,34843,"М яч гумовий спортивний 5,5 см","Більше 10","Іграшки для собак",87.69,108,{"$f":"Trixie!I$806","v":0},{"$f":"Trixie!J$806","v":0}]
[null,1111134847,34845,"М яч гумовий спортивний 7 см","Більше 10","Іграшки для собак",117.75,145,{"$f":"Trixie!I$807","v":0},{"$f":"Trixie!J$807","v":0}]
[null,1111126349,3299,"М яч для зубів Denta Fun на мотузці 7 см","Більше 10","Іграшки для собак",191.66,236,{"$f":"Trixie!I$808","v":0},{"$f":"Trixie!J$808","v":0}]
[null,1111140913,33680,"М яч для зубів Denta Fun термопластичний каучук для собак 6 см","Більше 10","Іграшки для собак",117.75,145,{"$f":"Trixie!I$809","v":0},{"$f":"Trixie!J$809","v":0}]
[null,1111122406,"3259    мята","М яч для зубів Mintfresh бейсбольний 5 см","Більше 100","Іграшки для собак",76.41,94,{"$f":"Trixie!I$810","v":0},{"$f":"Trixie!J$810","v":0}]
[null,1111143305,"32880    мята","М яч для зубів Mintfresh бейсбольний 6 см","Більше 10","Іграшки для собак",117.75,145,{"$f":"Trixie!I$811","v":0},{"$f":"Trixie!J$811","v":0}]
[null,13602,"3289    мята","М яч для зубів Mintfresh бейсбольний 6,5 см","Більше 10","Іграшки для собак",131.53,163,{"$f":"Trixie!I$812","v":0},{"$f":"Trixie!J$812","v":0}]
[null,13603,"3290    мята","М яч для зубів Mintfresh гумовий регбі овальний 11,5 см","Більше 10","Іграшки для собак",177.88,220,{"$f":"Trixie!I$813","v":0},{"$f":"Trixie!J$813","v":0}]
[null,13604,"33132     мята","М яч для зубів регбі 15 см","Більше 10","Іграшки для собак",402.12,495,{"$f":"Trixie!I$814","v":0},{"$f":"Trixie!J$814","v":0}]
[null,1111122446,3527,"М яч з мордочкою латексний 7 см","Більше 10","Іграшки для собак",147.82,182,{"$f":"Trixie!I$815","v":0},{"$f":"Trixie!J$815","v":0}]
[null,8044,"3429 /12080","М яч з шипами 10 см","Більше 10","Іграшки для собак",102.72,127,{"$f":"Trixie!I$816","v":0},{"$f":"Trixie!J$816","v":0}]
[null,9241,3421,"М яч з шипами 12-13 см","Більше 10","Іграшки для собак",149.05000000000001,184,{"$f":"Trixie!I$817","v":0},{"$f":"Trixie!J$817","v":0}]
[null,2430,"3428 /8029-32","М яч з шипами 6,5 см","Більше 10","Іграшки для собак",50.11,62,{"$f":"Trixie!I$818","v":0},{"$f":"Trixie!J$818","v":0}]
[null,1111141791,33677,"М яч з шипами термопластичний каучук 7 см","Більше 10","Іграшки для собак",101.47,125,{"$f":"Trixie!I$819","v":0},{"$f":"Trixie!J$819","v":0}]
[null,1111141792,33678,"М яч з шипами термопластичний каучук 8 см","Більше 100","Іграшки для собак",117.75,145,{"$f":"Trixie!I$820","v":0},{"$f":"Trixie!J$820","v":0}]
[null,1111116686,3268,"М яч із каната на мотузці 5,5см/30см","Більше 10","Іграшки для собак",62.64,78,{"$f":"Trixie!I$821","v":0},{"$f":"Trixie!J$821","v":0}]
[null,1111116687,3269,"М яч із каната на мотузці 7см/50см","Більше 10","Іграшки для собак",76.41,94,{"$f":"Trixie!I$822","v":0},{"$f":"Trixie!J$822","v":0}]
[null,1111147055,32810,"М яч із каната яскравий 6 см","Більше 10","Іграшки для собак",60.13,74,{"$f":"Trixie!I$823","v":0},{"$f":"Trixie!J$823","v":0}]
[null,1111115201,3300,"М яч литий 5 см","Більше 10","Іграшки для собак",57.62,72,{"$f":"Trixie!I$824","v":0},{"$f":"Trixie!J$824","v":0}]
[null,1111115203,3301,"М яч литий 6,5 см","Більше 10","Іграшки для собак",117.75,145,{"$f":"Trixie!I$825","v":0},{"$f":"Trixie!J$825","v":0}]
[null,1111115202,3302,"М яч литий 7,5 см","Більше 10","Іграшки для собак",177.88,220,{"$f":"Trixie!I$826","v":0},{"$f":"Trixie!J$826","v":0}]
[null,1111120297,34861,"М яч литий з лапкою і пищавкою 6 см","Менше 10","Іграшки для собак",147.82,182,{"$f":"Trixie!I$827","v":0},{"$f":"Trixie!J$827","v":0}]
[null,1111120298,34863,"М яч литий з лапкою і пищавкою 9,5 см","Менше 10","Іграшки для собак",298.14,369,{"$f":"Trixie!I$828","v":0},{"$f":"Trixie!J$828","v":0}]
[null,9601,"3461_1шт","М яч неон з шипами 7 см","Більше 10","Іграшки для собак",117.75,146,{"$f":"Trixie!I$829","v":0},{"$f":"Trixie!J$829","v":0}]
[null,1111161175,61943,"М яч плетений натуральний d13 см","Більше 10","Обладнання для кліток",102.72,127,{"$f":"Trixie!I$830","v":0},{"$f":"Trixie!J$830","v":0}]
[null,6486,"3475_1шт","М яч тенісний 6,4 см","Більше 10","Іграшки для собак",41.34,51,{"$f":"Trixie!I$831","v":0},{"$f":"Trixie!J$831","v":0}]
[null,1111115127,3479,"М яч тенісний на мотузці 6,5см/50см","Менше 10","Іграшки для собак",87.69,109,{"$f":"Trixie!I$832","v":0},{"$f":"Trixie!J$832","v":0}]
[null,1111115370,3436,"М яч футбольний вініловий 10 см","Немає в наявності","Іграшки для собак",87.69,108,{"$f":"Trixie!I$833","v":0},{"$f":"Trixie!J$833","v":0}]
[null,7836,3435,"М яч футбольний вініловий 6,5 см","Більше 10","Іграшки для собак",60.13,74,{"$f":"Trixie!I$834","v":0},{"$f":"Trixie!J$834","v":0}]
[null,1111120303,34941,"М яч-годівниця литий 7,5 см","Більше 10","Іграшки для собак",233,288,{"$f":"Trixie!I$835","v":0},{"$f":"Trixie!J$835","v":0}]
[null,1111119468,4165,"М ячик пластмасовий для котів 4,5 см (2 шт.)","Більше 100","Іграшки для котів",62.64,77,{"$f":"Trixie!I$836","v":0},{"$f":"Trixie!J$836","v":0}]
[null,1111124961,4097,"М ячик поліколор 3,5 см (4 шт.)","Більше 100","Іграшки для котів",101.47,126,{"$f":"Trixie!I$837","v":0},{"$f":"Trixie!J$837","v":0}]
[null,1111130855,"45805_1шт","М ячик сизаль смугастий 4,5см","Більше 100","Іграшки для котів",33.82,41,{"$f":"Trixie!I$838","v":0},{"$f":"Trixie!J$838","v":0}]
[null,1111120282,4501,"М ячики джутові з м ятою 4,5 см (2 шт.)","Більше 100","Іграшки для котів",62.64,78,{"$f":"Trixie!I$839","v":0},{"$f":"Trixie!J$839","v":0}]
[null,1111123315,"4570_1шт","М ячик-спіраль яскравий 4,5 см","Більше 10","Іграшки для котів",41.34,51,{"$f":"Trixie!I$840","v":0},{"$f":"Trixie!J$840","v":0}]
[null,12237,3419,"М яч-їжак вініловий великий 16 см","Більше 10","Іграшки для собак",260.56,322,{"$f":"Trixie!I$841","v":0},{"$f":"Trixie!J$841","v":0}]
[null,1111115594,34091,"М яч-їжак вініловий флуоресцентний 10 см","Більше 10","Іграшки для собак",131.53,163,{"$f":"Trixie!I$842","v":0},{"$f":"Trixie!J$842","v":0}]
[null,1111122450,35431,"М яч-їжак латексний 6 см","Більше 100","Іграшки для собак",76.41,94,{"$f":"Trixie!I$843","v":0},{"$f":"Trixie!J$843","v":0}]
[null,1111122449,35432,"М яч-їжак латексний 7 см","Більше 10","Іграшки для собак",102.72,127,{"$f":"Trixie!I$844","v":0},{"$f":"Trixie!J$844","v":0}]
[null,1111134454,33651,"М яч-їжак термопластичний каучук без звуку 8 см","Більше 10","Іграшки для собак",87.69,108,{"$f":"Trixie!I$845","v":0},{"$f":"Trixie!J$845","v":0}]
[null,1111136652,33640,"М яч-їжак термопластичний каучук з підсвічуванням без звуку 5 см","Більше 10","Іграшки для собак",87.69,109,{"$f":"Trixie!I$846","v":0},{"$f":"Trixie!J$846","v":0}]
[null,1111137482,32650,"М яч-канат з мотузками 7см/44см","Більше 10","Іграшки для собак",147.82,182,{"$f":"Trixie!I$847","v":0},{"$f":"Trixie!J$847","v":0}]
[null,1111114061,32622,"М яч-клубок великий натуральний каучук","Менше 10","Іграшки для собак",298.14,369,{"$f":"Trixie!I$848","v":0},{"$f":"Trixie!J$848","v":0}]
[null,1111114062,32621,"М яч-клубок малий натуральний каучук","Більше 10","Іграшки для собак",161.6,199,{"$f":"Trixie!I$849","v":0},{"$f":"Trixie!J$849","v":0}]
[null,1111115580,4075,"М яч-сизаль 6,5 см","Більше 10","Іграшки для котів",76.41,94,{"$f":"Trixie!I$850","v":0},{"$f":"Trixie!J$850","v":0}]
[null,1111136654,33643,"М_яч з підсвічуванням термопластичний каучук 7,5 см","Більше 10","Іграшки для собак",207.95,257,{"$f":"Trixie!I$851","v":0},{"$f":"Trixie!J$851","v":0}]
[null,1111139711,35851,"Мавпочка плюшева 24 см","Менше 10","Іграшки для собак",238.01,294,{"$f":"Trixie!I$852","v":0},{"$f":"Trixie!J$852","v":0}]
[null,1111139793,37622,"Матрац  Jimmy  100?70 см сірий з лапками","Менше 10","Матраци",2445.9899999999998,2896,{"$f":"Trixie!I$853","v":0},{"$f":"Trixie!J$853","v":0}]
[null,1111141362,37069,"Матрац  Patchwork  80?55 см блакитний/зелений із собачками","Менше 10","Матраци",722.81,909,{"$f":"Trixie!I$854","v":0},{"$f":"Trixie!J$854","v":0}]
[null,1111167887,29200,"Мило для собак з екстрактом алое 100г","Менше 10","Косметика, засоби догляду для грумінгу",117.75,146,{"$f":"Trixie!I$855","v":0},{"$f":"Trixie!J$855","v":0}]
[null,1111162678,42425,"Мильні бульбашки Trixie з котячою м'ятою для котів 120 мл Арт42425","Більше 10","Засоби для привчання",148,192,{"$f":"Trixie!I$856","v":0},{"$f":"Trixie!J$856","v":0}]
[null,1111170382,24985,"Миска Trixie д/котів і собак подвійна пластик 2*0,2л d=11cм 26*4*14см","Більше 10","Миски",76.41,96,{"$f":"Trixie!I$857","v":0},{"$f":"Trixie!J$857","v":0}]
[null,1111140995,24778,"Миска Trixie д/соб Jimmy з лапками Гум. основа керам. 0,75л d=16см","Більше 10","Миски",358.27,451,{"$f":"Trixie!I$858","v":0},{"$f":"Trixie!J$858","v":0}]
[null,1111117189,2470,"Миска Trixie для котів пластик 0,2л d=12см","Більше 10","Миски",31.32,39,{"$f":"Trixie!I$859","v":0},{"$f":"Trixie!J$859","v":0}]
[null,1111143277,25017,"Миска Trixie для подорожей термопластична гума 0,5л 14см Арт25017","Більше 10","Миски, поїлки для подорожей",177.88,231,{"$f":"Trixie!I$860","v":0},{"$f":"Trixie!J$860","v":0}]
[null,1111127526,25012,"Миска Trixie для подорожей термопластичний еластомер 1л 18см Арт25012","Більше 10","Миски, поїлки для подорожей",161.6,210,{"$f":"Trixie!I$861","v":0},{"$f":"Trixie!J$861","v":0}]
[null,1111134861,25247,"Миска Trixie для порід з довгими вухами 0,9 л 19 см Арт25247","Більше 10","Миски",358.27,466,{"$f":"Trixie!I$862","v":0},{"$f":"Trixie!J$862","v":0}]
[null,1111116004,2463,"Миска Trixie для собак Swobby пластик 1,7л d=24см","Більше 10","Миски",207.95,262,{"$f":"Trixie!I$863","v":0},{"$f":"Trixie!J$863","v":0}]
[null,1111127527,25013,"Миска Trixie для собак дорожня термопласна гума 2л d=22см","Більше 10","Миски, поїлки для подорожей",268.08,338,{"$f":"Trixie!I$864","v":0},{"$f":"Trixie!J$864","v":0}]
[null,1111122542,24533,"Миска Trixie для собак коричнева з лапками керамычна 1,4л d=20см","Менше 10","Миски",388.34,548,{"$f":"Trixie!I$865","v":0},{"$f":"Trixie!J$865","v":0}]
[null,1111169735,25033,"Миска Trixie для собак Повільне годування термопласна гума 1,5л d=27см","Більше 10","Миски",234.26,295,{"$f":"Trixie!I$866","v":0},{"$f":"Trixie!J$866","v":0}]
[null,1111119260,2473,"Миска Trixie для собак полегшена версія пластик 0,5л d=14см","Більше 10","Миски",62.64,79,{"$f":"Trixie!I$867","v":0},{"$f":"Trixie!J$867","v":0}]
[null,1111134432,25243,"Миска Trixie з нержавіючої сталі і пластику 0,8 л 17 см Арт25243","Більше 10","Миски",238.01,309,{"$f":"Trixie!I$868","v":0},{"$f":"Trixie!J$868","v":0}]
[null,1111134434,25245,"Миска Trixie з нержавіючої сталі і пластику 2,2 л 23 см Арт25245","Більше 10","Миски",448.47,583,{"$f":"Trixie!I$869","v":0},{"$f":"Trixie!J$869","v":0}]
[null,1111140992,24775,"Миска Trixie керамічна 0,75 л 15 см Арт24775","Менше 10","Миски",238.01,309,{"$f":"Trixie!I$870","v":0},{"$f":"Trixie!J$870","v":0}]
[null,1111150263,24497,"Миска Trixie керамічна в формі котячої голови 0,25л 12х12 см Арт24497","Більше 10","Миски",147.82,192,{"$f":"Trixie!I$871","v":0},{"$f":"Trixie!J$871","v":0}]
[null,1111164060,25128,"Миска Trixie керамічна для кошенят і цуценят 0,2 л 14 см Арт25128","Більше 10","Миски",147.82,192,{"$f":"Trixie!I$872","v":0},{"$f":"Trixie!J$872","v":0}]
[null,1111183737,25052,"Миска Trixie керамічна з принтом 1,4л 20см кремово-блакитний Арт25052","Більше 10","Миски",358.27,466,{"$f":"Trixie!I$873","v":0},{"$f":"Trixie!J$873","v":0}]
[null,1111183738,25055,"Миска Trixie керамічна з принтом 1,4л 20см кремово-коричневий Арт25055","Більше 10","Миски",358.27,466,{"$f":"Trixie!I$874","v":0},{"$f":"Trixie!J$874","v":0}]
[null,1111122541,24532,"Миска Trixie керамічна з принтом лапи 0,8л 16см коричн-сіра Арт24532","Більше 10","Миски",238.01,309,{"$f":"Trixie!I$875","v":0},{"$f":"Trixie!J$875","v":0}]
[null,1111183733,24360,"Миска Trixie керамічна з резиновою основою 0,4 л 12 см сіра Арт24360","Більше 10","Миски",177.88,231,{"$f":"Trixie!I$876","v":0},{"$f":"Trixie!J$876","v":0}]
[null,1111150266,24651,"Миска Trixie керамічна пласка з принтом 0,2 л 15 см біла Арт24651","Більше 10","Миски",177.88,231,{"$f":"Trixie!I$877","v":0},{"$f":"Trixie!J$877","v":0}]
[null,1111112059,60808,"Миска Trixie Хані і Хупер керамічна для гризунів 250 мл 11 см Арт60808","Більше 10","Обладнання для кліток",148,192,{"$f":"Trixie!I$878","v":0},{"$f":"Trixie!J$878","v":0}]
[null,1111170376,24807,"Миска д/котів Котик ергономічна керамічна 0,15л d=14см арт.24807","Більше 100","Миски",238.01,300,{"$f":"Trixie!I$879","v":0},{"$f":"Trixie!J$879","v":0}]
[null,1111170375,24802,"Миска д/котів пласка та широка керамічна 0,6л d=23см арт.24802","Менше 10","Миски",358.27,499,{"$f":"Trixie!I$880","v":0},{"$f":"Trixie!J$880","v":0}]
[null,1111170398,25187,"Миска д/котів подвійн.біла мелам/метал 2*0,2лd=13см27*3*14см арт.25187","Більше 10","Миски",334.47,421,{"$f":"Trixie!I$881","v":0},{"$f":"Trixie!J$881","v":0}]
[null,1111170401,24981,"Миска д/котів подвійн.сіра метал/силік.2*0,3лd=16см47*3*26см арт.24981","Більше 10","Миски",682.84,860,{"$f":"Trixie!I$882","v":0},{"$f":"Trixie!J$882","v":0}]
[null,1111170373,24430,"Миска д/котів прозора пластик гумова основа 0,25л d=12см","Менше 10","Миски",60.13,76,{"$f":"Trixie!I$883","v":0},{"$f":"Trixie!J$883","v":0}]
[null,1111170418,25214,"Миска д/котыв пласка зелена емаль/метал 0,2л d=12см аот.25214","Більше 10","Миски",131.53,166,{"$f":"Trixie!I$884","v":0},{"$f":"Trixie!J$884","v":0}]
[null,1111170372,24355,"Миска д/соб. BE NORDIC Moin сіра кермічна 1,4л d=20см арт.24355","Менше 10","Миски",385.91,544.41999999999996,{"$f":"Trixie!I$885","v":0},{"$f":"Trixie!J$885","v":0}]
[null,1111170390,25063,"Миска д/соб. BE NORDIC біла меламін/метал 0,2л d=14см арт.25063","Більше 10","Миски",247.26,311.54000000000002,{"$f":"Trixie!I$886","v":0},{"$f":"Trixie!J$886","v":0}]
[null,1111170367,24300,"Миска д/соб. BE NORDIC блакитна керамічна 0,2л d=16см арт.24300","Менше 10","Миски",339.69,428.01,{"$f":"Trixie!I$887","v":0},{"$f":"Trixie!J$887","v":0}]
[null,1111170370,24301,"Миска д/соб. BE NORDIC синя/бежева керамічна 0,5л d=20см арт.24301","Більше 10","Миски",526.86,663.85,{"$f":"Trixie!I$888","v":0},{"$f":"Trixie!J$888","v":0}]
[null,1111170371,24302,"Миска д/соб. BE NORDIC синя/бежева керамічна 0,8л d=25см арт.24302","Більше 10","Миски",776.43,978.3,{"$f":"Trixie!I$889","v":0},{"$f":"Trixie!J$889","v":0}]
[null,1111170419,25200,"Миска д/соб. Брахіцефалів метал 0,25л d=19см арт.25200","Менше 10","Миски",238.01,300,{"$f":"Trixie!I$890","v":0},{"$f":"Trixie!J$890","v":0}]
[null,1111170420,25201,"Миска д/соб. Брахіцефалів метал 0,7л d=27см арт.25201","Більше 10","Миски",418.4,527,{"$f":"Trixie!I$891","v":0},{"$f":"Trixie!J$891","v":0}]
[null,1111170415,25211,"Миска д/соб. зелена емаль/метал 0,3л d=12см арт.25211","Більше 10","Миски",147.82,186,{"$f":"Trixie!I$892","v":0},{"$f":"Trixie!J$892","v":0}]
[null,1111170416,25212,"Миска д/соб. зелена емаль/метал 0,9л d=17см арт.25212","Більше 10","Миски",238.01,300,{"$f":"Trixie!I$893","v":0},{"$f":"Trixie!J$893","v":0}]
[null,1111170417,25213,"Миска д/соб. зелена емаль/метал 1,9л d=21см арт.25213","Більше 10","Миски",328.21,414,{"$f":"Trixie!I$894","v":0},{"$f":"Trixie!J$894","v":0}]
[null,1111170386,25023,"Миска д/соб. керамічна біла 0,4л d=13см арт.25023","Більше 10","Миски",147.82,186,{"$f":"Trixie!I$895","v":0},{"$f":"Trixie!J$895","v":0}]
[null,1111170387,25024,"Миска д/соб. керамічна біла 0,9л d=16см арт.25024","Більше 10","Миски",207.95,262,{"$f":"Trixie!I$896","v":0},{"$f":"Trixie!J$896","v":0}]
[null,1111170388,25025,"Миска д/соб. керамічна біла 1,6л d=20см арт.25025","Більше 10","Миски",358.27,451,{"$f":"Trixie!I$897","v":0},{"$f":"Trixie!J$897","v":0}]
[null,1111170384,25021,"Миска д/соб. керамічна чорна 0,9л d=16см арт.25021","Менше 10","Миски",207.95,262,{"$f":"Trixie!I$898","v":0},{"$f":"Trixie!J$898","v":0}]
[null,1111170385,25022,"Миска д/соб. керамічна чорна 1,6л d=20см арт.25022","Більше 10","Миски",358.27,451,{"$f":"Trixie!I$899","v":0},{"$f":"Trixie!J$899","v":0}]
[null,1111170374,24755,"Миска д/соб. металева 2,4л d=25см арт.24755","Більше 10","Миски",308.49,388.7,{"$f":"Trixie!I$900","v":0},{"$f":"Trixie!J$900","v":0}]
[null,1111170399,25273,"Миска д/соб. на гумовій основі з малюнком метал 2л d=20см арт.25273","Більше 10","Миски",238.01,299,{"$f":"Trixie!I$901","v":0},{"$f":"Trixie!J$901","v":0}]
[null,1111170391,25108,"Миска д/соб. на гумовій основі керамічна 1л d=17см арт.25108","Більше 10","Миски",508.6,730,{"$f":"Trixie!I$902","v":0},{"$f":"Trixie!J$902","v":0}]
[null,1111170378,24951,"Миска д/соб. на гумовій основі пластикова 0,5л d=16см арт.24951","Менше 10","Миски",102.72,129,{"$f":"Trixie!I$903","v":0},{"$f":"Trixie!J$903","v":0}]
[null,1111170379,24952,"Миска д/соб. на гумовій основі пластикова 0,75л d=16см арт.24952","Більше 10","Миски",147.82,186,{"$f":"Trixie!I$904","v":0},{"$f":"Trixie!J$904","v":0}]
[null,1111170380,24953,"Миска д/соб. на гумовій основі пластикова 1,5л d=20см арт.24953","Більше 10","Миски",238.01,300,{"$f":"Trixie!I$905","v":0},{"$f":"Trixie!J$905","v":0}]
[null,1111170395,25144,"Миска д/соб. на гумовій основі сіра металева 0,9л d=23см арт.25144","Більше 10","Миски",247.26,311.54000000000002,{"$f":"Trixie!I$906","v":0},{"$f":"Trixie!J$906","v":0}]
[null,1111170389,25031,"Миска д/соб. Повільне годування термопл. гума 0,45л d=20см арт.25031","Менше 10","Миски",102.72,129,{"$f":"Trixie!I$907","v":0},{"$f":"Trixie!J$907","v":0}]
[null,1111170381,24967,"Миска д/соб. подвійна пластик 2*0.2л d=10cм 25*4*13см арт.24967","Більше 10","Миски",121.32,152.86000000000001,{"$f":"Trixie!I$908","v":0},{"$f":"Trixie!J$908","v":0}]
[null,1111170343,34952,"Миска д/соб.Lick n SnackПовільнеГодуван.термопл.гума20*20см арт. 34952","Менше 10","Миски",268.08,338,{"$f":"Trixie!I$909","v":0},{"$f":"Trixie!J$909","v":0}]
[null,1111170403,25006,"Миска д/соб.наРегул.підставці біла мелам/метал2шт*1,6лd=21см арт.25006","Більше 10","Миски",2277.3000000000002,3199,{"$f":"Trixie!I$910","v":0},{"$f":"Trixie!J$910","v":0}]
[null,1111170404,25007,"Миска д/соб.наРегул.підставці біла мелам/метал2шт*2,4лd=25см арт.25007","Менше 10","Миски",2651.66,3728,{"$f":"Trixie!I$911","v":0},{"$f":"Trixie!J$911","v":0}]
[null,1111170414,25192,"Миска д/соб.Повіл.годув.сіра пласт./термопл.гума0,25л21*14см арт.25192","Більше 10","Миски",238.01,300,{"$f":"Trixie!I$912","v":0},{"$f":"Trixie!J$912","v":0}]
[null,1111170405,25285,"Миска д/соб.Повіл.годув.сіра/блакит.пласт/терм.гум0,5лd=23см арт.25285","Більше 10","Миски",388.34,489,{"$f":"Trixie!I$913","v":0},{"$f":"Trixie!J$913","v":0}]
[null,1111170413,25191,"Миска д/соб.Повіл.годув.сіраПластик/термопл.гума0,35л15*15см арт.25191","Більше 10","Миски",177.88,224,{"$f":"Trixie!I$914","v":0},{"$f":"Trixie!J$914","v":0}]
[null,1111170411,25029,"Миска д/соб.Повільне годув.сіра пластик/терм.гума0,45лd=23см арт.25029","Більше 10","Миски",298.14,376,{"$f":"Trixie!I$915","v":0},{"$f":"Trixie!J$915","v":0}]
[null,1111170410,24520,"Миска д/соб.Повільне годув.сіра/блакит.керамік 0,45л d=14см арт.24520","Менше 10","Миски",388.34,489,{"$f":"Trixie!I$916","v":0},{"$f":"Trixie!J$916","v":0}]
[null,1111170412,24521,"Миска д/соб.Повільне годув.сіра/блакит.кераміка 0,9л d=17см арт.24521","Більше 10","Миски",538.66,679,{"$f":"Trixie!I$917","v":0},{"$f":"Trixie!J$917","v":0}]
[null,1111170397,25184,"Миска д/соб.подвійн.біла мелам/метал 2*0,4л d=14см 32*6*17см арт.25184","Більше 10","Миски",413.64,586.57000000000005,{"$f":"Trixie!I$918","v":0},{"$f":"Trixie!J$918","v":0}]
[null,1111150269,25053,"Миска д/собак Pet s Home 0,3л/12см кераміка, крем./беж","Більше 10","Миски",147.82,186,{"$f":"Trixie!I$919","v":0},{"$f":"Trixie!J$919","v":0}]
[null,1111150270,25054,"Миска д/собак Pet s Home 0,8л/16см кераміка крем./беж","Менше 10","Миски",207.95,261,{"$f":"Trixie!I$920","v":0},{"$f":"Trixie!J$920","v":0}]
[null,1111150267,25050,"Миска д/собак Pet sHome 0,3л/12см кераміка крем./блакит","Більше 10","Миски",147.82,186,{"$f":"Trixie!I$921","v":0},{"$f":"Trixie!J$921","v":0}]
[null,1111150268,25051,"Миска д/собак Pet sHome 0,8л/16см кераміка крем./блакит","Більше 10","Миски",207.95,261,{"$f":"Trixie!I$922","v":0},{"$f":"Trixie!J$922","v":0}]
[null,1111170363,34954,"Миска д/цуц.Junior для повільн.годув.блакитна пласт.d=15см арт.34954","Більше 100","Миски",102.72,129,{"$f":"Trixie!I$923","v":0},{"$f":"Trixie!J$923","v":0}]
[null,1111170364,34958,"Миска д/цуц.Junior для повільн.годув.блакитна пласт.d=21см арт.34958","Більше 10","Миски",207.95,262,{"$f":"Trixie!I$924","v":0},{"$f":"Trixie!J$924","v":0}]
[null,1111170392,25127,"Миска д/цуценят Junior керамічна 0,8л d=16см арт.25127","Більше 10","Миски",238.01,321,{"$f":"Trixie!I$925","v":0},{"$f":"Trixie!J$925","v":0}]
[null,1111163176,25126,"Миска для цуценят 0,3 л / 12 см керамічна","Більше 10","Миски",147.82,186,{"$f":"Trixie!I$926","v":0},{"$f":"Trixie!J$926","v":0}]
[null,1111156287,24770,"Миска керам. д/коротконос. котів, 0,3л/?15см, синя/біла","Більше 10","Миски",177.88,224,{"$f":"Trixie!I$927","v":0},{"$f":"Trixie!J$927","v":0}]
[null,12320,"24652*****","Миска кераміка з таксою 0,8л/16см","Більше 10","Миски",131.53,171,{"$f":"Trixie!I$928","v":0},{"$f":"Trixie!J$928","v":0}]
[null,1111156893,24353,"Миска керамічна BE NORDIC, 0,3л/12см, сіра","Більше 10","Миски",149.05000000000001,188,{"$f":"Trixie!I$929","v":0},{"$f":"Trixie!J$929","v":0}]
[null,1111146884,25120,"Миска керамічна Zentangle для котів 0,3л/12см біла/чорна","Більше 10","Миски",147.82,185,{"$f":"Trixie!I$930","v":0},{"$f":"Trixie!J$930","v":0}]
[null,1111127547,24498,"Миска керамічна для котів  Cat  0,2л/13см","Більше 10","Миски",147.82,186,{"$f":"Trixie!I$931","v":0},{"$f":"Trixie!J$931","v":0}]
[null,1111140988,24650,"Миска керамічна для котів  Mimi  0,3л/12см","Більше 10","Миски",147.82,185,{"$f":"Trixie!I$932","v":0},{"$f":"Trixie!J$932","v":0}]
[null,1111134118,24793,"Миска керамічна для котів  Thanks for Service  0,3л/11см","Більше 10","Миски",147.82,185,{"$f":"Trixie!I$933","v":0},{"$f":"Trixie!J$933","v":0}]
[null,1111115192,2467,"Миска керамічна для котів 0,25л/12,5см","Більше 10","Миски",117.75,149,{"$f":"Trixie!I$934","v":0},{"$f":"Trixie!J$934","v":0}]
[null,1111138498,24494,"Миска керамічна для котів 0,25л/12см у формі котячої мордочки","Більше 10","Миски",147.82,186,{"$f":"Trixie!I$935","v":0},{"$f":"Trixie!J$935","v":0}]
[null,1111127552,24499,"Миска керамічна для котів 0,25л/13см з чорним котиком","Більше 10","Миски",117.75,149,{"$f":"Trixie!I$936","v":0},{"$f":"Trixie!J$936","v":0}]
[null,1111116026,4007,"Миска керамічна для котів 0,2л/11,5см","Більше 10","Миски",147.82,185,{"$f":"Trixie!I$937","v":0},{"$f":"Trixie!J$937","v":0}]
[null,312022,"4008_1шт","Миска керамічна для котів 0,2л/11,5см","Більше 10","Миски",131.53,166,{"$f":"Trixie!I$938","v":0},{"$f":"Trixie!J$938","v":0}]
[null,1111122227,24492,"Миска керамічна для котів 0,2л/13см з рибкою","Більше 100","Миски",102.72,129,{"$f":"Trixie!I$939","v":0},{"$f":"Trixie!J$939","v":0}]
[null,1111138499,24495,"Миска керамічна для котів 0,2л/15см овальна","Більше 10","Миски",147.82,185,{"$f":"Trixie!I$940","v":0},{"$f":"Trixie!J$940","v":0}]
[null,1111140989,24658,"Миска керамічна для котів 0,35л/12,5см з котиком і рибкою","Більше 10","Миски",149.05000000000001,188,{"$f":"Trixie!I$941","v":0},{"$f":"Trixie!J$941","v":0}]
[null,11409,4009,"Миска керамічна для котів 0,3л/11см","Більше 10","Миски",131.53,165,{"$f":"Trixie!I$942","v":0},{"$f":"Trixie!J$942","v":0}]
[null,1111138491,24799,"Миска керамічна для котів 0,3л/11см срібна/біла","Більше 10","Миски",207.95,261,{"$f":"Trixie!I$943","v":0},{"$f":"Trixie!J$943","v":0}]
[null,1111122597,60733,"Миска керамічна для кроликів 250мл/11см","Більше 10","Обладнання для кліток",147.82,182,{"$f":"Trixie!I$944","v":0},{"$f":"Trixie!J$944","v":0}]
[null,1111122600,60743,"Миска керамічна для кроликів 400мл/13см яскрава","Менше 10","Обладнання для кліток",147.82,183,{"$f":"Trixie!I$945","v":0},{"$f":"Trixie!J$945","v":0}]
[null,1111122599,60742,"Миска керамічна для морських свинок 200мл/10см яскрава","Більше 10","Обладнання для кліток",101.47,125,{"$f":"Trixie!I$946","v":0},{"$f":"Trixie!J$946","v":0}]
[null,1111136963,"25027*****СПЕЦЦЕНА","Миска керамічна для собак  King of Dogs  1л/18см з нерівним бортом","Більше 10","Миски",155.34,202,{"$f":"Trixie!I$947","v":0},{"$f":"Trixie!J$947","v":0}]
[null,1111122540,24531,"Миска керамічна для собак 0,3л/12см з лапками коричнева","Більше 10","Миски",147.82,186,{"$f":"Trixie!I$948","v":0},{"$f":"Trixie!J$948","v":0}]
[null,1111138494,"25083 Trixie","Миска керамічна для собак 0,3л/12см срібна/біла","Більше 10","Миски",191.8,241,{"$f":"Trixie!I$949","v":0},{"$f":"Trixie!J$949","v":0}]
[null,1111140994,24777,"Миска керамічна для собак 0,4л/12см на гумовій основі чорна з лапкою","Більше 10","Миски",268.08,337,{"$f":"Trixie!I$950","v":0},{"$f":"Trixie!J$950","v":0}]
[null,1111122598,60741,"Миска керамічна для хом яків 100мл/9см яскрава","Більше 10","Обладнання для кліток",87.69,108,{"$f":"Trixie!I$951","v":0},{"$f":"Trixie!J$951","v":0}]
[null,1111122595,60731,"Миска керамічна для хом яків 80мл/8см","Більше 10","Обладнання для кліток",88.94,111,{"$f":"Trixie!I$952","v":0},{"$f":"Trixie!J$952","v":0}]
[null,1111146893,25123,"Миска керамічна з гілочками біла/ягідка 0,3л/12см","Більше 10","Миски",136.34,172,{"$f":"Trixie!I$953","v":0},{"$f":"Trixie!J$953","v":0}]
[null,7467,4014,"Миска керамічна подвійна 0,15л/11см","Більше 10","Миски",298.14,375,{"$f":"Trixie!I$954","v":0},{"$f":"Trixie!J$954","v":0}]
[null,8045,24840,"Миска металева 0,2л/10см","Більше 10","Миски",33.82,41,{"$f":"Trixie!I$955","v":0},{"$f":"Trixie!J$955","v":0}]
[null,10354,24841,"Миска металева 0,45л/12см","Більше 10","Миски",46.35,59,{"$f":"Trixie!I$956","v":0},{"$f":"Trixie!J$956","v":0}]
[null,8111,24842,"Миска металева 0,75л/15см","Більше 10","Миски",57.62,73,{"$f":"Trixie!I$957","v":0},{"$f":"Trixie!J$957","v":0}]
[null,8112,24843,"Миска металева 1,8л/20см","Більше 10","Миски",101.47,127,{"$f":"Trixie!I$958","v":0},{"$f":"Trixie!J$958","v":0}]
[null,8231,24844,"Миска металева 2,8л/24см","Менше 10","Миски",131.53,165,{"$f":"Trixie!I$959","v":0},{"$f":"Trixie!J$959","v":0}]
[null,8876,24845,"Миска металева 4,7л/28см","Більше 10","Миски",177.88,223,{"$f":"Trixie!I$960","v":0},{"$f":"Trixie!J$960","v":0}]
[null,11815,24870,"Миска металева для котів 0,2л/11см на гумовій основі з рибками","Менше 10","Миски",67.650000000000006,86,{"$f":"Trixie!I$961","v":0},{"$f":"Trixie!J$961","v":0}]
[null,1111119252,2468,"Миска металева для котів 0,2л/13см","Менше 10","Миски",40.090000000000003,51,{"$f":"Trixie!I$962","v":0},{"$f":"Trixie!J$962","v":0}]
[null,9590,5497,"Миска металева для птахів 0,3 л з гвинтовим кріпленням","Більше 10","Обладнання для кліток",102.72,127,{"$f":"Trixie!I$963","v":0},{"$f":"Trixie!J$963","v":0}]
[null,8123,5494,"Миска металева для птахів 0,3 л підвісна","Більше 10","Обладнання для кліток",102.72,127,{"$f":"Trixie!I$964","v":0},{"$f":"Trixie!J$964","v":0}]
[null,5124,24851,"Миска металева для собак 0,45л/14см на гумовій основі","Більше 10","Миски",101.47,127,{"$f":"Trixie!I$965","v":0},{"$f":"Trixie!J$965","v":0}]
[null,5123,24852,"Миска металева для собак 0,7л/16см на гумовій основі","Більше 10","Миски",117.75,149,{"$f":"Trixie!I$966","v":0},{"$f":"Trixie!J$966","v":0}]
[null,8469,24853,"Миска металева для собак 0,9л/17см на гумовій основі","Більше 10","Миски",147.82,186,{"$f":"Trixie!I$967","v":0},{"$f":"Trixie!J$967","v":0}]
[null,1111136648,25073,"Миска металева для собак 1,7л/21см на гумовій основі","Менше 10","Миски",238.01,299,{"$f":"Trixie!I$968","v":0},{"$f":"Trixie!J$968","v":0}]
[null,4636,24854,"Миска металева для собак 1,8л/20см на гумовій основі","Менше 10","Миски",207.95,261,{"$f":"Trixie!I$969","v":0},{"$f":"Trixie!J$969","v":0}]
[null,1111136647,25072,"Миска металева для собак 1л/17см на гумовій основі","Більше 10","Миски",147.82,185,{"$f":"Trixie!I$970","v":0},{"$f":"Trixie!J$970","v":0}]
[null,1111136649,25074,"Миска металева для собак 2,5л/24см на гумовій основі","Менше 10","Миски",358.27,450,{"$f":"Trixie!I$971","v":0},{"$f":"Trixie!J$971","v":0}]
[null,4637,24855,"Миска металева для собак 2,8л/24см на гумовій основі","Менше 10","Миски",268.08,337,{"$f":"Trixie!I$972","v":0},{"$f":"Trixie!J$972","v":0}]
[null,8120,2488,"Миска металева для спанієля 0,9л/15см на гумовій основі","Більше 10","Миски",147.82,186,{"$f":"Trixie!I$973","v":0},{"$f":"Trixie!J$973","v":0}]
[null,11478,25282,"Миска металева для цуценят 4,0л/38см","Менше 10","Миски",388.34,488,{"$f":"Trixie!I$974","v":0},{"$f":"Trixie!J$974","v":0}]
[null,1111134433,"25244*****СПЕЦЦЕНА","Миска металева з пласт. покриттям д/собак 1,4л/21см на гумовій основі","Більше 10","Миски",358.27,466,{"$f":"Trixie!I$975","v":0},{"$f":"Trixie!J$975","v":0}]
[null,1111135222,25270,"Миска металева з пластиковим покриттям для котів 0,3л/12см на гумовій","Більше 10","Миски",147.82,186,{"$f":"Trixie!I$976","v":0},{"$f":"Trixie!J$976","v":0}]
[null,1111134430,25241,"Миска металева з пластиковим покриттям для собак 0,25л/12см на гумовій","Більше 10","Миски",147.82,186,{"$f":"Trixie!I$977","v":0},{"$f":"Trixie!J$977","v":0}]
[null,1111134431,25242,"Миска металева з пластиковим покриттям для собак 0,4л/14см на гумовій","Більше 10","Миски",147.82,186,{"$f":"Trixie!I$978","v":0},{"$f":"Trixie!J$978","v":0}]
[null,1111146803,25255,"Миска металева з силіконовим покриттям 0,4л/14см біла/сіра","Менше 10","Миски",207.95,261,{"$f":"Trixie!I$979","v":0},{"$f":"Trixie!J$979","v":0}]
[null,1111115227,24761,"Миска пластикова для води та корму 0,6 л автоматична","Більше 10","Автогодівниці, автопоїлки",117.75,149,{"$f":"Trixie!I$980","v":0},{"$f":"Trixie!J$980","v":0}]
[null,1111115118,24762,"Миска пластикова для води та корму 1,5 л автоматична","Більше 10","Автогодівниці, автопоїлки",207.95,261,{"$f":"Trixie!I$981","v":0},{"$f":"Trixie!J$981","v":0}]
[null,1111134435,25010,"Миска силіконова для подорожей 0,25л/11см","Більше 100","Миски, поїлки для подорожей",87.69,111,{"$f":"Trixie!I$982","v":0},{"$f":"Trixie!J$982","v":0}]
[null,1111126348,25011,"Миска силіконова для подорожей 0,5л/14см","Більше 10","Миски, поїлки для подорожей",117.75,149,{"$f":"Trixie!I$983","v":0},{"$f":"Trixie!J$983","v":0}]
[null,1111170406,25039,"МискаД/соб.ВуликД/повіл.годув.сір/блак.пласт/терм.гумаd=30см арт.25039","Більше 10","Миски",672.7,848,{"$f":"Trixie!I$984","v":0},{"$f":"Trixie!J$984","v":0}]
[null,1111114207,24721,"Миски пластикові для собак 0,25л/9см+0,3л/11см з піддоном","Більше 10","Миски",298.14,375,{"$f":"Trixie!I$985","v":0},{"$f":"Trixie!J$985","v":0}]
[null,1111134797,45798,"Мишка бігаюча 5,5 см","Більше 10","Іграшки для котів",207.95,256,{"$f":"Trixie!I$986","v":0},{"$f":"Trixie!J$986","v":0}]
[null,769,"4115_1шт","Мишка в шарі 6 см","Більше 100","Іграшки для котів",60.13,74,{"$f":"Trixie!I$987","v":0},{"$f":"Trixie!J$987","v":0}]
[null,1111117382,"4089_1шт","Мишка вібруюча хутряна 7-10 см","Більше 100","Іграшки для котів",88.94,111,{"$f":"Trixie!I$988","v":0},{"$f":"Trixie!J$988","v":0}]
[null,1111117426,4128,"Мишка з лазарем на батарейці 7 см","Менше 10","Іграшки для котів",238.01,294,{"$f":"Trixie!I$989","v":0},{"$f":"Trixie!J$989","v":0}]
[null,1111141783,45579,"Мишка з серцем плюшева 11 см бежева","Менше 10","Іграшки для котів",117.75,145,{"$f":"Trixie!I$990","v":0},{"$f":"Trixie!J$990","v":0}]
[null,3376,4092,"Мишка заводна 7 см","Більше 100","Іграшки для котів",87.69,108,{"$f":"Trixie!I$991","v":0},{"$f":"Trixie!J$991","v":0}]
[null,1111136655,35170,"Мишка латексна яскрава в горошок 8 см","Менше 10","Іграшки для собак",87.69,110,{"$f":"Trixie!I$992","v":0},{"$f":"Trixie!J$992","v":0}]
[null,1111114595,4103,"Мишка на вудочці 100 см","Більше 100","Іграшки для котів",101.47,126,{"$f":"Trixie!I$993","v":0},{"$f":"Trixie!J$993","v":0}]
[null,1111119769,4547,"Мишка на вудочці 47 см  Squieky","Більше 10","Іграшки для котів",177.88,220,{"$f":"Trixie!I$994","v":0},{"$f":"Trixie!J$994","v":0}]
[null,1111114596,4105,"Мишка на вудочці 50 см","Більше 100","Іграшки для котів",76.41,94,{"$f":"Trixie!I$995","v":0},{"$f":"Trixie!J$995","v":0}]
[null,1111119993,4065,"Мишка на вудочці 8см/190 см","Більше 100","Іграшки для котів",65.14,81,{"$f":"Trixie!I$996","v":0},{"$f":"Trixie!J$996","v":0}]
[null,1111117855,"4516_1шт","Мишка на паличці 50 см","Більше 100","Іграшки для котів",45.1,55,{"$f":"Trixie!I$997","v":0},{"$f":"Trixie!J$997","v":0}]
[null,1111143746,45758,"Мишка паперова пряжа з брязкальцем 5 см","Більше 10","Іграшки для котів",101.47,125,{"$f":"Trixie!I$998","v":0},{"$f":"Trixie!J$998","v":0}]
[null,1111134792,45785,"Мишка плюшева коричнева з пищавкою 8 см","Більше 10","Іграшки для котів",129.03,159,{"$f":"Trixie!I$999","v":0},{"$f":"Trixie!J$999","v":0}]
[null,1111125296,45735,"Мишка плюшева сіра з котячою м ятою 7 см","Більше 100","Іграшки для котів",60.13,74,{"$f":"Trixie!I$1000","v":0},{"$f":"Trixie!J$1000","v":0}]
[null,1111134793,45788,"Мишка плюшева сіра з пищавкою 15 см","Більше 10","Іграшки для котів",238.01,294,{"$f":"Trixie!I$1001","v":0},{"$f":"Trixie!J$1001","v":0}]
[null,1111131806,"45808_1шт","Мишка сизаль 5 см","Більше 100","Іграшки для котів",23.8,29,{"$f":"Trixie!I$1002","v":0},{"$f":"Trixie!J$1002","v":0}]
[null,1111126987,36030,"Мишка текстильна з латочками 19 см","Більше 10","Іграшки для собак",207.95,256,{"$f":"Trixie!I$1003","v":0},{"$f":"Trixie!J$1003","v":0}]
[null,1111135277,"4139_1шт","Мишка хутряна з дзвіночком 4 см","Більше 10","Іграшки для котів",30.06,37,{"$f":"Trixie!I$1004","v":0},{"$f":"Trixie!J$1004","v":0}]
[null,1111113519,"4116_1шт","Мишка хутряна з пищавкою 9 см","Більше 100","Іграшки для котів",42.59,53,{"$f":"Trixie!I$1005","v":0},{"$f":"Trixie!J$1005","v":0}]
[null,12249,4052,"Мишка хутряна сіра 5 см","Більше 100","Іграшки для котів",25.05,30,{"$f":"Trixie!I$1006","v":0},{"$f":"Trixie!J$1006","v":0}]
[null,8089,"4085_1шт","Мишка хутряна сіра/біла 5 см","Більше 10","Іграшки для котів",30.06,37,{"$f":"Trixie!I$1007","v":0},{"$f":"Trixie!J$1007","v":0}]
[null,1111122323,"4554_1шт","Мишка-м ячик хутряна 4,5 см","Більше 10","Іграшки для котів",62.64,77,{"$f":"Trixie!I$1008","v":0},{"$f":"Trixie!J$1008","v":0}]
[null,1111115696,"4199_1шт","Мишка-пищавка з чіпом 6 см","Більше 10","Іграшки для котів",155.34,192,{"$f":"Trixie!I$1009","v":0},{"$f":"Trixie!J$1009","v":0}]
[null,9742,4074,"Мишка-сизаль 10 см","Більше 100","Іграшки для котів",76.41,94,{"$f":"Trixie!I$1010","v":0},{"$f":"Trixie!J$1010","v":0}]
[null,1111143638,45749,"Мишки з котячої м яти (2 шт.) 5 см","Більше 100","Іграшки для котів",76.41,94,{"$f":"Trixie!I$1011","v":0},{"$f":"Trixie!J$1011","v":0}]
[null,1111133708,62151,"Міст дерев яний для гризунів 22?10 см","Більше 10","Обладнання для кліток",101.47,125,{"$f":"Trixie!I$1012","v":0},{"$f":"Trixie!J$1012","v":0}]
[null,1111121349,62152,"Міст дерев яний для гризунів 28?17 см","Більше 10","Обладнання для кліток",147.82,182,{"$f":"Trixie!I$1013","v":0},{"$f":"Trixie!J$1013","v":0}]
[null,1111121350,6221,"Міст дерев яний підвісний для гризунів 55,5?7 см","Більше 10","Обладнання для кліток",147.82,183,{"$f":"Trixie!I$1014","v":0},{"$f":"Trixie!J$1014","v":0}]
[null,1111117663,6274,"Міст дерев яний підвісний з канатами для гризунів 29?25?9 см","Менше 10","Обладнання для кліток",268.08,331,{"$f":"Trixie!I$1015","v":0},{"$f":"Trixie!J$1015","v":0}]
[null,1111163142,36044,"Морж BE NORDIC, 28 см, поліестер","Менше 10","Іграшки для собак",268.08,331,{"$f":"Trixie!I$1016","v":0},{"$f":"Trixie!J$1016","v":0}]
[null,1111114763,3398,"Морквинка вінілова 20 см","Більше 10","Іграшки для собак",131.53,163,{"$f":"Trixie!I$1017","v":0},{"$f":"Trixie!J$1017","v":0}]
[null,1111118202,4055,"Набір  Парад мишей із дзвіночком  5 см (24 шт.)","Більше 10","Іграшки для котів",751.62,929,{"$f":"Trixie!I$1018","v":0},{"$f":"Trixie!J$1018","v":0}]
[null,1111125073,35267,"Набір Веселі кури латексні 14 см (3 шт.)","Більше 10","Іграшки для собак",394.6,488,{"$f":"Trixie!I$1019","v":0},{"$f":"Trixie!J$1019","v":0}]
[null,11274,3503,"Набір іграшок  Longies  латексних 18 см (3 шт.)","Більше 10","Іграшки для собак",353.26,437,{"$f":"Trixie!I$1020","v":0},{"$f":"Trixie!J$1020","v":0}]
[null,1111119408,3513,"Набір іграшок-міні латексних (4 шт.)","Більше 10","Іграшки для собак",405.88,501,{"$f":"Trixie!I$1021","v":0},{"$f":"Trixie!J$1021","v":0}]
[null,13001,4523,"Набір м ячиків (6 шт.)","Більше 10","Іграшки для котів",115.25,150,{"$f":"Trixie!I$1022","v":0},{"$f":"Trixie!J$1022","v":0}]
[null,1111118319,4132,"Набір м ячиків 4 см (3 шт.)","Більше 100","Іграшки для котів",62.64,78,{"$f":"Trixie!I$1023","v":0},{"$f":"Trixie!J$1023","v":0}]
[null,1111122308,4521,"Набір м ячиків пластикових із дзвіночком (4 шт.)","Більше 10","Іграшки для котів",62.64,78,{"$f":"Trixie!I$1024","v":0},{"$f":"Trixie!J$1024","v":0}]
[null,1111118323,4109,"Набір м ячиків хутряних леопард 3,5 см (4 шт.)","Більше 10","Іграшки для котів",76.41,94,{"$f":"Trixie!I$1025","v":0},{"$f":"Trixie!J$1025","v":0}]
[null,1111156357,24536,"Набір мисок керамічних Eat on Feet 2 шт. ? 0.6 л/d15 cм","Менше 10","Миски",598.79,753,{"$f":"Trixie!I$1026","v":0},{"$f":"Trixie!J$1026","v":0}]
[null,1111156356,24535,"Набір мисок керамічних Eat on Feet, 2шт. 0.25л/13см","Менше 10","Миски",448.47,565,{"$f":"Trixie!I$1027","v":0},{"$f":"Trixie!J$1027","v":0}]
[null,1111120480,4503,"Набір мишей хутряних з м ятою 5 см (6 шт.)","Більше 10","Іграшки для котів",191.66,236,{"$f":"Trixie!I$1028","v":0},{"$f":"Trixie!J$1028","v":0}]
[null,1111140932,15555,"Набір нашийн д/цуц M-L 22-35см/10мм (6шт:черв,зел,жовт,фіол,блак,чорн)","Менше 10","Нашийники, нашийники-зашморги",207.95,256,{"$f":"Trixie!I$1029","v":0},{"$f":"Trixie!J$1029","v":0}]
[null,1111140931,15552,"Набір нашийн д/цуц S-M 17-25см/10мм (6шт:кор,беж,срібн,рож,блак,оранж)","Менше 10","Нашийники, нашийники-зашморги",207.95,256,{"$f":"Trixie!I$1030","v":0},{"$f":"Trixie!J$1030","v":0}]
[null,1111115341,15551,"Набір нашийн д/цуц S-M 17-25см/10мм (6шт:черв,зел,жовт,фіол,блак,чорн)","Більше 10","Нашийники, нашийники-зашморги",207.95,256,{"$f":"Trixie!I$1031","v":0},{"$f":"Trixie!J$1031","v":0}]
[null,1111140933,15556,"Набір нашийн. д/цуценят M-L 22-35см/10 мм (6 шт, кольори в ассортим)","Менше 10","Нашийники, нашийники-зашморги",207.95,256,{"$f":"Trixie!I$1032","v":0},{"$f":"Trixie!J$1032","v":0}]
[null,1111125076,35266,"Набір Смайлики латексні 6 см (4 шт.)","Більше 10","Іграшки для собак",305.66000000000003,378,{"$f":"Trixie!I$1033","v":0},{"$f":"Trixie!J$1033","v":0}]
[null,1111170320,15581,"НабірД/цуц.КовдраТаДвіІграш.полі/котон/терм.гума22см/13см3шт арт.15581","Більше 10","Іграшки для собак",370.89,467.32,{"$f":"Trixie!I$1034","v":0},{"$f":"Trixie!J$1034","v":0}]
[null,1111150255,17627,"Намордник Trixie для собак брахіцефальних порід M 40см арт.17627","Більше 10","Намордники",207.95,257,{"$f":"Trixie!I$1035","v":0},{"$f":"Trixie!J$1035","v":0}]
[null,1111150254,17626,"Намордник Trixie для собак короткомордих пород S–M сірий Арт17626","Більше 10","Намордники",167.86,218,{"$f":"Trixie!I$1036","v":0},{"$f":"Trixie!J$1036","v":0}]
[null,1111148058,17593,"Намордник для захисту від отрути S-M 22 см / 18-40 см, нейлон","Менше 10","Намордники",222.98,275,{"$f":"Trixie!I$1037","v":0},{"$f":"Trixie!J$1037","v":0}]
[null,1111148056,17591,"Намордник для захисту від отрути XS 14 см / 18-26 см нейлон","Менше 10","Намордники",200.43,247,{"$f":"Trixie!I$1038","v":0},{"$f":"Trixie!J$1038","v":0}]
[null,1111148057,17592,"Намордник для захисту від отрути XS-S 15 см / 18-32 см, нейлон","Менше 10","Намордники",200.43,247,{"$f":"Trixie!I$1039","v":0},{"$f":"Trixie!J$1039","v":0}]
[null,1111148059,17594,"Намордник для захисту від отрути, M-L 27 см / 22-46 см, нейлон","Менше 10","Намордники",245.53,304,{"$f":"Trixie!I$1040","v":0},{"$f":"Trixie!J$1040","v":0}]
[null,1111115539,19264,"Намордник закритий нейлоновий L 22-32см/26-42см","Менше 10","Намордники",110.24,136,{"$f":"Trixie!I$1041","v":0},{"$f":"Trixie!J$1041","v":0}]
[null,23466,19265,"Намордник закритий нейлоновий L-XL 22-34см/28-46см","Менше 10","Намордники",110.24,136,{"$f":"Trixie!I$1042","v":0},{"$f":"Trixie!J$1042","v":0}]
[null,6258,19262,"Намордник закритий нейлоновий M 14-22см/18-44см","Менше 10","Намордники",98.96,123,{"$f":"Trixie!I$1043","v":0},{"$f":"Trixie!J$1043","v":0}]
[null,1111115540,19263,"Намордник закритий нейлоновий M 20-28см/22-38см","Більше 10","Намордники",110.24,136,{"$f":"Trixie!I$1044","v":0},{"$f":"Trixie!J$1044","v":0}]
[null,7258,19261,"Намордник закритий нейлоновий S 14-17см/21-31см","Менше 10","Намордники",87.69,108,{"$f":"Trixie!I$1045","v":0},{"$f":"Trixie!J$1045","v":0}]
[null,1111111668,1922,"Намордник нейлоновий S-M 20см/15-36см","Більше 10","Намордники",87.69,108,{"$f":"Trixie!I$1046","v":0},{"$f":"Trixie!J$1046","v":0}]
[null,1111111407,1921,"Намордник нейлоновий XS-S 16см/14-28см","Більше 10","Намордники",76.41,94,{"$f":"Trixie!I$1047","v":0},{"$f":"Trixie!J$1047","v":0}]
[null,1111166681,1920,"Намордник нейлоновий XXS 12см/12-28см","Менше 10","Намордники",65.14,81,{"$f":"Trixie!I$1048","v":0},{"$f":"Trixie!J$1048","v":0}]
[null,1111113029,1923,"Намордник нейлоновий М 24см/16-40см","Менше 10","Намордники",98.96,123,{"$f":"Trixie!I$1049","v":0},{"$f":"Trixie!J$1049","v":0}]
[null,1111115146,17605,"Намордник пластиковий L 26 см","Більше 10","Намордники",155.34,192,{"$f":"Trixie!I$1050","v":0},{"$f":"Trixie!J$1050","v":0}]
[null,1111115141,17603,"Намордник пластиковий M 20 см","Більше 10","Намордники",132.79,164,{"$f":"Trixie!I$1051","v":0},{"$f":"Trixie!J$1051","v":0}]
[null,1111115144,17604,"Намордник пластиковий M 22 см","Більше 10","Намордники",144.06,178,{"$f":"Trixie!I$1052","v":0},{"$f":"Trixie!J$1052","v":0}]
[null,1111115140,17602,"Намордник пластиковий S 17 см","Більше 10","Намордники",121.51,151,{"$f":"Trixie!I$1053","v":0},{"$f":"Trixie!J$1053","v":0}]
[null,1111115145,17606,"Намордник пластиковий XL 31 см","Більше 10","Намордники",177.88,219,{"$f":"Trixie!I$1054","v":0},{"$f":"Trixie!J$1054","v":0}]
[null,1111115142,17607,"Намордник пластиковий XL 35 см","Менше 10","Намордники",200.43,249,{"$f":"Trixie!I$1055","v":0},{"$f":"Trixie!J$1055","v":0}]
[null,1111115143,17601,"Намордник пластиковий XS 14 см","Більше 10","Намордники",110.24,136,{"$f":"Trixie!I$1056","v":0},{"$f":"Trixie!J$1056","v":0}]
[null,1111146831,17613,"Намордник силікон чорний M-L 22 см","Менше 10","Намордники",538.66,666,{"$f":"Trixie!I$1057","v":0},{"$f":"Trixie!J$1057","v":0}]
[null,1111114702,19281,"Намордник-петля нейлоновий L 18-30см/16-28см","Більше 10","Намордники",181.64,224,{"$f":"Trixie!I$1058","v":0},{"$f":"Trixie!J$1058","v":0}]
[null,1111114701,19282,"Намордник-петля нейлоновий XL 23-34см/20-30см","Менше 10","Намордники",207.95,256,{"$f":"Trixie!I$1059","v":0},{"$f":"Trixie!J$1059","v":0}]
[null,1111114703,19283,"Намордник-петля нейлоновий XXL 28-38см/22-35см","Менше 10","Намордники",207.95,256,{"$f":"Trixie!I$1060","v":0},{"$f":"Trixie!J$1060","v":0}]
[null,10966,4026,"Наповнювач для котів Fresh n Easy  гранульований 5 л.","Більше 10","Наповнювачі силікагелеві",319.58,355,{"$f":"Trixie!I$1061","v":0},{"$f":"Trixie!J$1061","v":0}]
[null,10221,4020,"Наповнювач для котів Fresh n Easy  гранульований 8 л.","Більше 10","Наповнювачі силікагелеві",513.33000000000004,570,{"$f":"Trixie!I$1062","v":0},{"$f":"Trixie!J$1062","v":0}]
[null,1111163569,1988523,"Нашийник  Premium  L: 49-55 см/25 мм з неопреновою підкладкою, камуфля","Менше 10","Нашийники, нашийники-зашморги",410.17,507,{"$f":"Trixie!I$1063","v":0},{"$f":"Trixie!J$1063","v":0}]
[null,1111163568,1988423,"Нашийник  Premium  M-L: 42-48 см/20 мм з неопреновою підкладкою, камуф","Менше 10","Нашийники, нашийники-зашморги",337.38,417,{"$f":"Trixie!I$1064","v":0},{"$f":"Trixie!J$1064","v":0}]
[null,1111132100,"12224  Тrixie","Нашийник  Safer Life Silver  з лапками світловідбиваючий L-XL 40-65см/","Більше 10","Нашийники, нашийники-зашморги",207.95,256,{"$f":"Trixie!I$1065","v":0},{"$f":"Trixie!J$1065","v":0}]
[null,1111132099,"12223  Тrixie","Нашийник  Safer Life Silver  з лапками світловідбиваючий M-L 35-55см/2","Більше 10","Нашийники, нашийники-зашморги",167.86,207,{"$f":"Trixie!I$1066","v":0},{"$f":"Trixie!J$1066","v":0}]
[null,1111132098,12222,"Нашийник  Safer Life Silver  з лапками світловідбиваючий S-M 30-45см/1","Менше 10","Нашийники, нашийники-зашморги",141.56,175,{"$f":"Trixie!I$1067","v":0},{"$f":"Trixie!J$1067","v":0}]
[null,1111132097,12221,"Нашийник  Safer Life Silver  з лапками світловідбиваючий XS-S 22-35см/","Більше 10","Нашийники, нашийники-зашморги",129.03,159,{"$f":"Trixie!I$1068","v":0},{"$f":"Trixie!J$1068","v":0}]
[null,1111150519,202901,"Нашийник Premium з метал.ланцюг L–XL:45–70см/25мм чорн.","Менше 10","Нашийники, нашийники-зашморги",234.26,288,{"$f":"Trixie!I$1069","v":0},{"$f":"Trixie!J$1069","v":0}]
[null,1111150688,201716,"Нашийник Premium нейлон L–XL:40–65см/25мм графіт","Менше 10","Нашийники, нашийники-зашморги",181.64,224,{"$f":"Trixie!I$1070","v":0},{"$f":"Trixie!J$1070","v":0}]
[null,1111150689,201717,"Нашийник Premium нейлон L–XL:40–65см/25мм зелений","Менше 10","Нашийники, нашийники-зашморги",167.53,207,{"$f":"Trixie!I$1071","v":0},{"$f":"Trixie!J$1071","v":0}]
[null,1111150685,201713,"Нашийник Premium нейлон L–XL:40–65см/25мм індиго","Менше 10","Нашийники, нашийники-зашморги",167.53,207,{"$f":"Trixie!I$1072","v":0},{"$f":"Trixie!J$1072","v":0}]
[null,1111150686,201714,"Нашийник Premium нейлон L–XL:40–65см/25мм карамель","Більше 10","Нашийники, нашийники-зашморги",167.53,207,{"$f":"Trixie!I$1073","v":0},{"$f":"Trixie!J$1073","v":0}]
[null,1111150691,201719,"Нашийник Premium нейлон L–XL:40–65см/25мм оливковий","Менше 10","Нашийники, нашийники-зашморги",167.53,207,{"$f":"Trixie!I$1074","v":0},{"$f":"Trixie!J$1074","v":0}]
[null,1111150684,201711,"Нашийник Premium нейлон L–XL:40–65см/25мм фуксія","Менше 10","Нашийники, нашийники-зашморги",181.64,224,{"$f":"Trixie!I$1075","v":0},{"$f":"Trixie!J$1075","v":0}]
[null,1111151049,201703,"Нашийник Premium нейлон L–XL:40–65см/25мм червоний","Менше 10","Нашийники, нашийники-зашморги",181.64,224,{"$f":"Trixie!I$1076","v":0},{"$f":"Trixie!J$1076","v":0}]
[null,1111150678,201616,"Нашийник Premium нейлон M–L:35–55см/20мм графіт","Менше 10","Нашийники, нашийники-зашморги",129.03,159,{"$f":"Trixie!I$1077","v":0},{"$f":"Trixie!J$1077","v":0}]
[null,1111150675,201613,"Нашийник Premium нейлон M–L:35–55см/20мм індиго","Менше 10","Нашийники, нашийники-зашморги",119.01,147,{"$f":"Trixie!I$1078","v":0},{"$f":"Trixie!J$1078","v":0}]
[null,1111150681,201619,"Нашийник Premium нейлон M–L:35–55см/20мм оливковий","Менше 10","Нашийники, нашийники-зашморги",119.01,147,{"$f":"Trixie!I$1079","v":0},{"$f":"Trixie!J$1079","v":0}]
[null,1111150680,201618,"Нашийник Premium нейлон M–L:35–55см/20мм папайя","Менше 10","Нашийники, нашийники-зашморги",119.01,147,{"$f":"Trixie!I$1080","v":0},{"$f":"Trixie!J$1080","v":0}]
[null,1111150673,201611,"Нашийник Premium нейлон M–L:35–55см/20мм фуксія","Менше 10","Нашийники, нашийники-зашморги",129.03,159,{"$f":"Trixie!I$1081","v":0},{"$f":"Trixie!J$1081","v":0}]
[null,1111151046,201603,"Нашийник Premium нейлон M–L:35–55см/20мм червоний","Менше 10","Нашийники, нашийники-зашморги",129.03,159,{"$f":"Trixie!I$1082","v":0},{"$f":"Trixie!J$1082","v":0}]
[null,1111151045,201601,"Нашийник Premium нейлон M–L:35–55см/20мм чорний","Більше 10","Нашийники, нашийники-зашморги",129.03,159,{"$f":"Trixie!I$1083","v":0},{"$f":"Trixie!J$1083","v":0}]
[null,1111151051,202201,"Нашийник Premium нейлон S:25–40см/15мм чорний","Більше 10","Нашийники, нашийники-зашморги",102.72,127,{"$f":"Trixie!I$1084","v":0},{"$f":"Trixie!J$1084","v":0}]
[null,1111150717,202220,"Нашийник Premium нейлон S:25–40см/15мм яскраво-рожевий","Менше 10","Нашийники, нашийники-зашморги",90.12,111,{"$f":"Trixie!I$1085","v":0},{"$f":"Trixie!J$1085","v":0}]
[null,1111151083,201503,"Нашийник Premium нейлон S-M 30-45см/15мм червоний","Більше 10","Нашийники, нашийники-зашморги",102.72,127,{"$f":"Trixie!I$1086","v":0},{"$f":"Trixie!J$1086","v":0}]
[null,1111150669,201516,"Нашийник Premium нейлон S–M:30–45см/15мм графіт","Менше 10","Нашийники, нашийники-зашморги",102.72,127,{"$f":"Trixie!I$1087","v":0},{"$f":"Trixie!J$1087","v":0}]
[null,1111151136,201517,"Нашийник Premium нейлон S–M:30–45см/15мм зелений","Менше 10","Нашийники, нашийники-зашморги",94.74,117,{"$f":"Trixie!I$1088","v":0},{"$f":"Trixie!J$1088","v":0}]
[null,1111150666,201513,"Нашийник Premium нейлон S–M:30–45см/15мм індиго","Більше 10","Нашийники, нашийники-зашморги",94.74,117,{"$f":"Trixie!I$1089","v":0},{"$f":"Trixie!J$1089","v":0}]
[null,1111150671,201519,"Нашийник Premium нейлон S–M:30–45см/15мм оливковий","Менше 10","Нашийники, нашийники-зашморги",94.74,117,{"$f":"Trixie!I$1090","v":0},{"$f":"Trixie!J$1090","v":0}]
[null,1111150670,201518,"Нашийник Premium нейлон S–M:30–45см/15мм папайя","Менше 10","Нашийники, нашийники-зашморги",94.74,117,{"$f":"Trixie!I$1091","v":0},{"$f":"Trixie!J$1091","v":0}]
[null,1111150664,201511,"Нашийник Premium нейлон S–M:30–45см/15мм фуксія","Менше 10","Нашийники, нашийники-зашморги",102.72,127,{"$f":"Trixie!I$1092","v":0},{"$f":"Trixie!J$1092","v":0}]
[null,1111150659,201416,"Нашийник Premium нейлон XS–S:22–35см/10мм графіт","Менше 10","Нашийники, нашийники-зашморги",88.94,110,{"$f":"Trixie!I$1093","v":0},{"$f":"Trixie!J$1093","v":0}]
[null,1111150656,201413,"Нашийник Premium нейлон XS–S:22–35см/10мм індиго","Менше 10","Нашийники, нашийники-зашморги",82.03,101,{"$f":"Trixie!I$1094","v":0},{"$f":"Trixie!J$1094","v":0}]
[null,1111150657,201414,"Нашийник Premium нейлон XS–S:22–35см/10мм карамель","Менше 10","Нашийники, нашийники-зашморги",82.03,101,{"$f":"Trixie!I$1095","v":0},{"$f":"Trixie!J$1095","v":0}]
[null,1111150661,201418,"Нашийник Premium нейлон XS–S:22–35см/10мм папайа","Менше 10","Нашийники, нашийники-зашморги",82.03,101,{"$f":"Trixie!I$1096","v":0},{"$f":"Trixie!J$1096","v":0}]
[null,1111150478,201402,"Нашийник Premium нейлон XS–S:22–35см/10мм синій","Менше 10","Нашийники, нашийники-зашморги",88.94,110,{"$f":"Trixie!I$1097","v":0},{"$f":"Trixie!J$1097","v":0}]
[null,1111150654,201411,"Нашийник Premium нейлон XS–S:22–35см/10мм фуксія","Менше 10","Нашийники, нашийники-зашморги",88.94,110,{"$f":"Trixie!I$1098","v":0},{"$f":"Trixie!J$1098","v":0}]
[null,1111150660,201417,"Нашийник Premium нейлон XS–S:22–35см/10мм яскравозелен.","Менше 10","Нашийники, нашийники-зашморги",82.03,101,{"$f":"Trixie!I$1099","v":0},{"$f":"Trixie!J$1099","v":0}]
[null,1111150706,202117,"Нашийник Premium нейлон XXS–XS:15–25см/10мм зелений","Більше 10","Нашийники, нашийники-зашморги",70.48,87,{"$f":"Trixie!I$1100","v":0},{"$f":"Trixie!J$1100","v":0}]
[null,1111150703,202113,"Нашийник Premium нейлон XXS–XS:15–25см/10мм індиго","Менше 10","Нашийники, нашийники-зашморги",70.48,87,{"$f":"Trixie!I$1101","v":0},{"$f":"Trixie!J$1101","v":0}]
[null,1111150704,202114,"Нашийник Premium нейлон XXS–XS:15–25см/10мм карамель","Менше 10","Нашийники, нашийники-зашморги",70.48,87,{"$f":"Trixie!I$1102","v":0},{"$f":"Trixie!J$1102","v":0}]
[null,1111150707,202119,"Нашийник Premium нейлон XXS–XS:15–25см/10мм оливковий","Менше 10","Нашийники, нашийники-зашморги",70.48,87,{"$f":"Trixie!I$1103","v":0},{"$f":"Trixie!J$1103","v":0}]
[null,1111150935,202118,"Нашийник Premium нейлон XXS–XS:15–25см/10мм папайя","Менше 10","Нашийники, нашийники-зашморги",70.48,87,{"$f":"Trixie!I$1104","v":0},{"$f":"Trixie!J$1104","v":0}]
[null,1111150701,202111,"Нашийник Premium нейлон XXS–XS:15–25см/10мм фуксія","Більше 10","Нашийники, нашийники-зашморги",76.41,94,{"$f":"Trixie!I$1105","v":0},{"$f":"Trixie!J$1105","v":0}]
[null,1111151050,202103,"Нашийник Premium нейлон XXS–XS:15–25см/10мм червоний","Більше 10","Нашийники, нашийники-зашморги",76.41,94,{"$f":"Trixie!I$1106","v":0},{"$f":"Trixie!J$1106","v":0}]
[null,1111150662,201419,"Нашийник Premium нейлон, XS–S: 22–35 см/15мм оливковий","Менше 10","Нашийники, нашийники-зашморги",82.03,101,{"$f":"Trixie!I$1107","v":0},{"$f":"Trixie!J$1107","v":0}]
[null,8897,4006,"Нашийник антиблошиний біо TRIXIE для котів","Більше 10","Протипаразитні препарати: антигельмінтні, інсектицидні, інсектоакарицидні, репелентні",112.46,146,{"$f":"Trixie!I$1108","v":0},{"$f":"Trixie!J$1108","v":0}]
[null,8898,3906,"Нашийник антиблошиний біо TRIXIE для собак","Більше 10","Протипаразитні препарати: антигельмінтні, інсектицидні, інсектоакарицидні, репелентні",128.05000000000001,166,{"$f":"Trixie!I$1109","v":0},{"$f":"Trixie!J$1109","v":0}]
[null,1111119921,2240,"Нашийник дворядний хромовананий 30см/2мм","Менше 10","Нашийники, нашийники-зашморги",167.53,206,{"$f":"Trixie!I$1110","v":0},{"$f":"Trixie!J$1110","v":0}]
[null,1111119919,2242,"Нашийник дворядний хромовананий 40см/2мм","Менше 10","Нашийники, нашийники-зашморги",207.95,257,{"$f":"Trixie!I$1111","v":0},{"$f":"Trixie!J$1111","v":0}]
[null,1111119918,2243,"Нашийник дворядний хромовананий 45см/2,5мм","Менше 10","Нашийники, нашийники-зашморги",260.56,323,{"$f":"Trixie!I$1112","v":0},{"$f":"Trixie!J$1112","v":0}]
[null,1111119917,2244,"Нашийник дворядний хромовананий 50см/2,5мм","Менше 10","Нашийники, нашийники-зашморги",260.56,323,{"$f":"Trixie!I$1113","v":0},{"$f":"Trixie!J$1113","v":0}]
[null,1111119916,2245,"Нашийник дворядний хромовананий 55см/2,5мм","Менше 10","Нашийники, нашийники-зашморги",286.87,355,{"$f":"Trixie!I$1114","v":0},{"$f":"Trixie!J$1114","v":0}]
[null,8229,2246,"Нашийник дворядний хромовананий 60см/2,5мм","Менше 10","Нашийники, нашийники-зашморги",286.87,355,{"$f":"Trixie!I$1115","v":0},{"$f":"Trixie!J$1115","v":0}]
[null,1111122419,4207,"Нашийник для котів  Glitter","Менше 10","Нашийники, нашийники-зашморги",102.72,127,{"$f":"Trixie!I$1116","v":0},{"$f":"Trixie!J$1116","v":0}]
[null,1111115139,4179,"Нашийник для котів  Kitty  нейлоновий","Більше 10","Нашийники, нашийники-зашморги",65.14,81,{"$f":"Trixie!I$1117","v":0},{"$f":"Trixie!J$1117","v":0}]
[null,1111119923,4180,"Нашийник для котів  My Home","Більше 10","Нашийники, нашийники-зашморги",87.69,108,{"$f":"Trixie!I$1118","v":0},{"$f":"Trixie!J$1118","v":0}]
[null,1111115342,4148,"Нашийник для котів вельветовий з заклепками та дзвіночком","Більше 10","Нашийники, нашийники-зашморги",110.24,136,{"$f":"Trixie!I$1119","v":0},{"$f":"Trixie!J$1119","v":0}]
[null,9607,4154,"Нашийник для котів еластичний з дзвіночком","Більше 10","Нашийники, нашийники-зашморги",45.1,56,{"$f":"Trixie!I$1120","v":0},{"$f":"Trixie!J$1120","v":0}]
[null,1111115555,4173,"Нашийник для котів нейлоновий прикрашений","Більше 10","Нашийники, нашийники-зашморги",87.69,108,{"$f":"Trixie!I$1121","v":0},{"$f":"Trixie!J$1121","v":0}]
[null,1111119523,4145,"Нашийник для котів світловідбиваючий","Більше 10","Нашийники, нашийники-зашморги",53.87,67,{"$f":"Trixie!I$1122","v":0},{"$f":"Trixie!J$1122","v":0}]
[null,1111127876,41686,"Нашийник для кошенят зі світловідбиваючою смугою","Менше 10","Нашийники, нашийники-зашморги",53.87,67,{"$f":"Trixie!I$1123","v":0},{"$f":"Trixie!J$1123","v":0}]
[null,1111115774,4178,"Нашийник для кошенят нейлоновий з кішечками та дзвіночком","Менше 10","Нашийники, нашийники-зашморги",65.14,81,{"$f":"Trixie!I$1124","v":0},{"$f":"Trixie!J$1124","v":0}]
[null,1111139995,12702,"Нашийник з підсвічуванням з USB зелений L-XL 65см/7мм","Більше 100","Нашийники, нашийники-зашморги",435.94,539,{"$f":"Trixie!I$1125","v":0},{"$f":"Trixie!J$1125","v":0}]
[null,1111139994,12701,"Нашийник з підсвічуванням з USB зелений M-L 45см/7мм","Більше 10","Нашийники, нашийники-зашморги",402.12,497,{"$f":"Trixie!I$1126","v":0},{"$f":"Trixie!J$1126","v":0}]
[null,1111139945,12700,"Нашийник з підсвічуванням з USB зелений XS-S 35см/7мм","Більше 10","Нашийники, нашийники-зашморги",368.29,455,{"$f":"Trixie!I$1127","v":0},{"$f":"Trixie!J$1127","v":0}]
[null,1111141001,12705,"Нашийник з підсвічуванням з USB оранжевий L-XL 65см/7мм","Більше 100","Нашийники, нашийники-зашморги",435.94,539,{"$f":"Trixie!I$1128","v":0},{"$f":"Trixie!J$1128","v":0}]
[null,1111141000,12704,"Нашийник з підсвічуванням з USB оранжевий M-L 45см/7мм","Більше 10","Нашийники, нашийники-зашморги",402.12,497,{"$f":"Trixie!I$1129","v":0},{"$f":"Trixie!J$1129","v":0}]
[null,1111140999,12703,"Нашийник з підсвічуванням з USB оранжевий XS-S 35см/7мм","Більше 10","Нашийники, нашийники-зашморги",368.29,455,{"$f":"Trixie!I$1130","v":0},{"$f":"Trixie!J$1130","v":0}]
[null,1111141004,12708,"Нашийник з підсвічуванням з USB рожевий L-XL 65см/7мм","Більше 10","Нашийники, нашийники-зашморги",435.94,539,{"$f":"Trixie!I$1131","v":0},{"$f":"Trixie!J$1131","v":0}]
[null,1111141003,12707,"Нашийник з підсвічуванням з USB рожевий M-L 45см/7мм","Більше 100","Нашийники, нашийники-зашморги",402.12,497,{"$f":"Trixie!I$1132","v":0},{"$f":"Trixie!J$1132","v":0}]
[null,1111141002,12706,"Нашийник з підсвічуванням з USB рожевий XS-S 35см/7мм","Більше 10","Нашийники, нашийники-зашморги",368.29,455,{"$f":"Trixie!I$1133","v":0},{"$f":"Trixie!J$1133","v":0}]
[null,1111142214,12685,"Нашийник з підсвічуванням з USB силікон зелений L-XL 70cм/18мм","Менше 10","Нашийники, нашийники-зашморги",503.59,622,{"$f":"Trixie!I$1134","v":0},{"$f":"Trixie!J$1134","v":0}]
[null,1111142213,12684,"Нашийник з підсвічуванням з USB силікон зелений M-L 50cм/18мм","Більше 10","Нашийники, нашийники-зашморги",435.94,539,{"$f":"Trixie!I$1135","v":0},{"$f":"Trixie!J$1135","v":0}]
[null,1111142207,12671,"Нашийник з підсвічуванням з USB силікон широкий синій M-L 50cм/30мм","Менше 10","Нашийники, нашийники-зашморги",503.59,622,{"$f":"Trixie!I$1136","v":0},{"$f":"Trixie!J$1136","v":0}]
[null,1111116669,2265,"Нашийник трирядний хромовананий 45см/2,5мм","Менше 10","Нашийники, нашийники-зашморги",286.87,355,{"$f":"Trixie!I$1137","v":0},{"$f":"Trixie!J$1137","v":0}]
[null,1111116670,2266,"Нашийник трирядний хромовананий 50см/2,5мм","Менше 10","Нашийники, нашийники-зашморги",313.18,388,{"$f":"Trixie!I$1138","v":0},{"$f":"Trixie!J$1138","v":0}]
[null,1111116672,2267,"Нашийник трирядний хромовананий 55см/2,5мм","Менше 10","Нашийники, нашийники-зашморги",339.48,419,{"$f":"Trixie!I$1139","v":0},{"$f":"Trixie!J$1139","v":0}]
[null,1111116673,2268,"Нашийник трирядний хромовананий 60см/2,5мм","Менше 10","Нашийники, нашийники-зашморги",365.79,452,{"$f":"Trixie!I$1140","v":0},{"$f":"Trixie!J$1140","v":0}]
[null,8228,2269,"Нашийник трирядний хромовананий 65см/2,5мм","Менше 10","Нашийники, нашийники-зашморги",365.79,452,{"$f":"Trixie!I$1141","v":0},{"$f":"Trixie!J$1141","v":0}]
[null,1111150547,144101,"Нашийник-зашморг Cavo нейлон L–XL:52–60см/18мм чорний","Менше 10","Нашийники, нашийники-зашморги",207.95,257,{"$f":"Trixie!I$1142","v":0},{"$f":"Trixie!J$1142","v":0}]
[null,1111150225,143701,"Нашийник-зашморг Cavo нейлон S-M 35-41см/12мм чорний","Менше 10","Нашийники, нашийники-зашморги",115.25,143,{"$f":"Trixie!I$1143","v":0},{"$f":"Trixie!J$1143","v":0}]
[null,1111141797,"1360/1,2 *****","Нашийник-удавка  Cavo Reflect  світловідбиваючий S-M 35-41см/12мм","Менше 10","Нашийники, нашийники-зашморги",50,0,{"$f":"Trixie!I$1144","v":0},{"$f":"Trixie!J$1144","v":0}]
[null,9613,2351,"Ножиці 18 см","Більше 10","Аксесуари для грумінгу",155.34,192,{"$f":"Trixie!I$1145","v":0},{"$f":"Trixie!J$1145","v":0}]
[null,1111150258,23690,"Ножиці для стрижки Professional сталь, 20 см","Менше 10","Аксесуари для грумінгу",672.7,832,{"$f":"Trixie!I$1146","v":0},{"$f":"Trixie!J$1146","v":0}]
[null,9614,2360,"Ножиці маленькі для лап 9,5 см","Більше 10","Аксесуари для грумінгу",102.72,127,{"$f":"Trixie!I$1147","v":0},{"$f":"Trixie!J$1147","v":0}]
[null,9615,2352,"Ножиці філіровочні 18 см","Більше 10","Аксесуари для грумінгу",177.88,220,{"$f":"Trixie!I$1148","v":0},{"$f":"Trixie!J$1148","v":0}]
[null,1111183745,32039,"Нюхальний килим Trixie 38 см Арт32039","Більше 10","Іграшки для собак",599,778,{"$f":"Trixie!I$1149","v":0},{"$f":"Trixie!J$1149","v":0}]
[null,1111126952,76081,"Обігрівач Гарячий шнур 25Вт/4,5м","Менше 10","Обладнання для тераріуму, комплектуючі",841.82,1042,{"$f":"Trixie!I$1150","v":0},{"$f":"Trixie!J$1150","v":0}]
[null,1111126953,76082,"Обігрівач Гарячий шнур 50Вт/7м","Менше 10","Обладнання для тераріуму, комплектуючі",1099.8699999999999,1359,{"$f":"Trixie!I$1151","v":0},{"$f":"Trixie!J$1151","v":0}]
[null,1111134786,45767,"Овечка плюшева 10 см","Немає в наявності","Іграшки для котів",87.69,110,{"$f":"Trixie!I$1152","v":0},{"$f":"Trixie!J$1152","v":0}]
[null,1111126407,35933,"Овечка плюшева кудлата 21 см","Більше 10","Іграшки для собак",268.08,331,{"$f":"Trixie!I$1153","v":0},{"$f":"Trixie!J$1153","v":0}]
[null,1111136765,45560,"Овечка плюшева на резинці 20 см","Менше 10","Іграшки для котів",129.03,159,{"$f":"Trixie!I$1154","v":0},{"$f":"Trixie!J$1154","v":0}]
[null,1111163136,35796,"Овечка, 14 см, плюш","Більше 10","Іграшки для собак",207.95,256,{"$f":"Trixie!I$1155","v":0},{"$f":"Trixie!J$1155","v":0}]
[null,1111151109,"30131*****","Охолоджуючий жилет, PVA, XS:20см","Більше 10","Одяг",287.81,402.93,{"$f":"Trixie!I$1156","v":0},{"$f":"Trixie!J$1156","v":0}]
[null,1111183741,28688,"Охолоджуючий килимок Trixie XL–XXL 100 х 60 см синій Арт28688","Більше 10","Килимки, пледи",841.82,1094,{"$f":"Trixie!I$1157","v":0},{"$f":"Trixie!J$1157","v":0}]
[null,1111118162,2547,"Очищувач для вух 50 мл","Більше 10","Засоби для догляду за очима та вухами",131.53,163,{"$f":"Trixie!I$1158","v":0},{"$f":"Trixie!J$1158","v":0}]
[null,1111118161,2546,"Очищувач для очей 50 мл","Більше 10","Засоби для догляду за очима та вухами",131.53,163,{"$f":"Trixie!I$1159","v":0},{"$f":"Trixie!J$1159","v":0}]
[null,1111147510,"14405*****","Ошейник-удавка  Cavo  нейлон L 47-55см/18мм коричневый/бежевый","Менше 10","Нашийники, нашийники-зашморги",65,0,{"$f":"Trixie!I$1160","v":0},{"$f":"Trixie!J$1160","v":0}]
[null,1111147516,"14415*****","Ошейник-удавка  Cavo  нейлон L-XL 52-60см/18мм коричневый/бежевый","Менше 10","Нашийники, нашийники-зашморги",75,0,{"$f":"Trixie!I$1161","v":0},{"$f":"Trixie!J$1161","v":0}]
[null,1111147517,"14416*****","Ошейник-удавка  Cavo  нейлон L-XL 52-60см/18мм неон голубой/неон розов","Менше 10","Нашийники, нашийники-зашморги",65,0,{"$f":"Trixie!I$1162","v":0},{"$f":"Trixie!J$1162","v":0}]
[null,1111147472,"13642*****","Ошейник-удавка  Cavo Reflect  светоотраж. L-XL 52-60см/18мм сине-красн","Менше 10","Нашийники, нашийники-зашморги",85,0,{"$f":"Trixie!I$1163","v":0},{"$f":"Trixie!J$1163","v":0}]
[null,1111115532,4043,"Пакет для котячого туалету 48х37 см (1уп-10 шт.)","Більше 10","Пакети, диспенсери",71.400000000000006,90,{"$f":"Trixie!I$1164","v":0},{"$f":"Trixie!J$1164","v":0}]
[null,1111116030,4044,"Пакет для котячого туалету 59х46 см (1уп-10 шт.)","Більше 10","Пакети, диспенсери",87.69,110,{"$f":"Trixie!I$1165","v":0},{"$f":"Trixie!J$1165","v":0}]
[null,1111137776,4051,"Пакети Trixie для котячого туалету XL 10 шт в упаковці Арт4051","Більше 10","Пакети, диспенсери",147.82,192,{"$f":"Trixie!I$1166","v":0},{"$f":"Trixie!J$1166","v":0}]
[null,1111162593,22839,"Пакети для фекалій Trixie з лаванд для соб 4х20 пак фіолетові Арт22839","Більше 100","Пакети, диспенсери",62.64,88,{"$f":"Trixie!I$1167","v":0},{"$f":"Trixie!J$1167","v":0}]
[null,1111183720,22845,"Пакети для фекалій Trixie з ручками для соб 3х15 пак Арт22845","Більше 100","Пакети, диспенсери",62.64,81,{"$f":"Trixie!I$1168","v":0},{"$f":"Trixie!J$1168","v":0}]
[null,1111137240,"31329_1шт","Паличка Trixie для чищення зубів Denta Fun з куркою натуральна шкіра 4","Більше 100","Ласощі для собак",202.94,262,{"$f":"Trixie!I$1169","v":0},{"$f":"Trixie!J$1169","v":0}]
[null,1111126433,45741,"Паличка з метеликом и м ячиком 54 см","Більше 100","Іграшки для котів",76.41,94,{"$f":"Trixie!I$1170","v":0},{"$f":"Trixie!J$1170","v":0}]
[null,1111126443,45733,"Паличка з метеликом і пером 45 см","Більше 10","Іграшки для котів",88.94,110,{"$f":"Trixie!I$1171","v":0},{"$f":"Trixie!J$1171","v":0}]
[null,1111129736,45804,"Паличка з мишкою із тканини та пір ям 50 см","Більше 10","Іграшки для котів",102.72,127,{"$f":"Trixie!I$1172","v":0},{"$f":"Trixie!J$1172","v":0}]
[null,8038,4106,"Паличка з пір ям 50 см","Більше 100","Іграшки для котів",45.1,56,{"$f":"Trixie!I$1173","v":0},{"$f":"Trixie!J$1173","v":0}]
[null,1111116627,4550,"Паличка з пір ям 50 см","Більше 100","Іграшки для котів",62.64,78,{"$f":"Trixie!I$1174","v":0},{"$f":"Trixie!J$1174","v":0}]
[null,1111141839,45742,"Паличка з плюшевою рибкою 42 см","Більше 100","Іграшки для котів",102.72,127,{"$f":"Trixie!I$1175","v":0},{"$f":"Trixie!J$1175","v":0}]
[null,1111122660,45724,"Паличка з плюшевою стрічкою і пером 48 см","Більше 10","Іграшки для котів",52.61,65,{"$f":"Trixie!I$1176","v":0},{"$f":"Trixie!J$1176","v":0}]
[null,1111139788,45289,"Паличка з пташкою та пір ям 50 см","Більше 10","Іграшки для котів",238.01,294,{"$f":"Trixie!I$1177","v":0},{"$f":"Trixie!J$1177","v":0}]
[null,1111141838,45739,"Паличка з трьома плюшевими м ячиками 35 см","Більше 10","Іграшки для котів",88.94,111,{"$f":"Trixie!I$1178","v":0},{"$f":"Trixie!J$1178","v":0}]
[null,1111134509,45797,"Паличка зі смайликом і пером 50 см","Більше 10","Іграшки для котів",76.41,94,{"$f":"Trixie!I$1179","v":0},{"$f":"Trixie!J$1179","v":0}]
[null,1111119737,4091,"Паличка зі стрічками 65 см","Більше 100","Іграшки для котів",42.59,53,{"$f":"Trixie!I$1180","v":0},{"$f":"Trixie!J$1180","v":0}]
[null,1111141811,45746,"Паличка подвійна з мишкою і стрічками 40 см","Менше 10","Іграшки для котів",129.03,159,{"$f":"Trixie!I$1181","v":0},{"$f":"Trixie!J$1181","v":0}]
[null,1111118652,2615,"Палички Trixie д/соб жув натур шкіра 12см/d=5-6мм 333г 100шт/упак","Більше 10","Ласощі для собак",432.18,559,{"$f":"Trixie!I$1182","v":0},{"$f":"Trixie!J$1182","v":0}]
[null,1111118654,2616,"Палички Trixie д/соб жув натур шкіра 12см/d=7-8мм 505г 100шт/упак","Більше 10","Ласощі для собак",504.84,654,{"$f":"Trixie!I$1183","v":0},{"$f":"Trixie!J$1183","v":0}]
[null,1111115848,2617,"Палички Trixie д/соб жув натур шкіра 12см/d=9-10мм 850г 100шт/упак","Більше 10","Ласощі для собак",795.47,1030,{"$f":"Trixie!I$1184","v":0},{"$f":"Trixie!J$1184","v":0}]
[null,1111183767,42427,"Палички Trixie мататабі жувальні для котів 10 г Арт42427","Більше 10","Іграшки для котів",76,99,{"$f":"Trixie!I$1185","v":0},{"$f":"Trixie!J$1185","v":0}]
[null,1111163129,35674,"Панда, 26 см, плюш","Менше 10","Іграшки для собак",268.08,332,{"$f":"Trixie!I$1186","v":0},{"$f":"Trixie!J$1186","v":0}]
[null,1111124104,35232,"Пацючок, мишка латексні 22 см","Більше 10","Іграшки для собак",177.88,219,{"$f":"Trixie!I$1187","v":0},{"$f":"Trixie!J$1187","v":0}]
[null,1111183724,23370,"Пелюшки Trixie з активованим вугіллям для собак 40х60см 7шт Арт23370","Більше 10","Пелюшки для собак",88.94,116,{"$f":"Trixie!I$1188","v":0},{"$f":"Trixie!J$1188","v":0}]
[null,1111183725,23372,"Пелюшки Trixie з активованим вугіллям для собак 60х60см 10шт Арт23372","Більше 10","Пелюшки для собак",181.64,236,{"$f":"Trixie!I$1189","v":0},{"$f":"Trixie!J$1189","v":0}]
[null,1111143317,23410,"Пелюшки для собак 30х50 см (7 шт.)","Більше 10","Пелюшки для собак",62.64,79,{"$f":"Trixie!I$1190","v":0},{"$f":"Trixie!J$1190","v":0}]
[null,1111139268,23417,"Пелюшки для собак 40х60 см (50 шт.)","Більше 10","Пелюшки для собак",523.63,658,{"$f":"Trixie!I$1191","v":0},{"$f":"Trixie!J$1191","v":0}]
[null,13601,23411,"Пелюшки для собак 40х60 см (7 шт.)","Більше 100","Пелюшки для собак",88.94,112,{"$f":"Trixie!I$1192","v":0},{"$f":"Trixie!J$1192","v":0}]
[null,1111122415,23412,"Пелюшки для собак 60х60 см (10 шт.)","Більше 100","Пелюшки для собак",181.64,228,{"$f":"Trixie!I$1193","v":0},{"$f":"Trixie!J$1193","v":0}]
[null,1111134496,23413,"Пелюшки для собак 60х90 см (8 шт.)","Більше 100","Пелюшки для собак",207.95,261,{"$f":"Trixie!I$1194","v":0},{"$f":"Trixie!J$1194","v":0}]
[null,1111143316,23371,"Пелюшки для собак з ароматом лаванди 40х60 см (7 шт.)","Більше 100","Пелюшки для собак",88.94,112,{"$f":"Trixie!I$1195","v":0},{"$f":"Trixie!J$1195","v":0}]
[null,1111143270,39824,"Переноска  Capri  37х34х55 см зелена до 8 кг","Немає в наявності","Переноски пластикові",897.08,1128,{"$f":"Trixie!I$1196","v":0},{"$f":"Trixie!J$1196","v":0}]
[null,1111113714,39822,"Переноска  Capri  37х34х55 см синя до 8 кг","Менше 10","Переноски пластикові",972.62,1223,{"$f":"Trixie!I$1197","v":0},{"$f":"Trixie!J$1197","v":0}]
[null,1111113712,39821,"Переноска  Capri  37х34х55 см сіра до 8 кг","Немає в наявності","Переноски пластикові",972.62,1223,{"$f":"Trixie!I$1198","v":0},{"$f":"Trixie!J$1198","v":0}]
[null,1111113717,39832,"Переноска  Capri  40х38х61 см синя до 12 кг","Менше 10","Переноски пластикові",1175.8699999999999,1479,{"$f":"Trixie!I$1199","v":0},{"$f":"Trixie!J$1199","v":0}]
[null,1111121807,39861,"Переноска  Capri III Open Top  40*38*61 см до 12 кг","Менше 10","Переноски пластикові",1588.11,1998,{"$f":"Trixie!I$1200","v":0},{"$f":"Trixie!J$1200","v":0}]
[null,1111117848,39871,"Переноска  Gulliver IV  52х51х72 см до 18 кг","Менше 10","Переноски пластикові",3766.46,4738,{"$f":"Trixie!I$1201","v":0},{"$f":"Trixie!J$1201","v":0}]
[null,1111117850,39872,"Переноска  Gulliver V  58х60х79 см до 25 кг","Менше 10","Переноски пластикові",4886.0600000000004,6146,{"$f":"Trixie!I$1202","v":0},{"$f":"Trixie!J$1202","v":0}]
[null,1111117849,39873,"Переноска  Gulliver VI  64х64х92 см до 38 кг","Менше 10","Переноски пластикові",6151.5,7738,{"$f":"Trixie!I$1203","v":0},{"$f":"Trixie!J$1203","v":0}]
[null,1111117847,39874,"Переноска  Gulliver VII  73х75х104 см до 50 кг","Менше 10","Переноски пластикові",7078.19,8905,{"$f":"Trixie!I$1204","v":0},{"$f":"Trixie!J$1204","v":0}]
[null,1111119250,39792,"Переноска  Midi-Capri  пластикова з ременем 44х33х32 см до 5 кг","Менше 10","Переноски пластикові",719.99,906,{"$f":"Trixie!I$1205","v":0},{"$f":"Trixie!J$1205","v":0}]
[null,1111137372,5900,"Переноска  Pico  для гризунів 18х12х13 см","Менше 10","Переноски пластикові",177.88,225,{"$f":"Trixie!I$1206","v":0},{"$f":"Trixie!J$1206","v":0}]
[null,1111116042,5903,"Переноска  Pico  для гризунів 23х17,5х16 см","Більше 10","Переноски пластикові",207.95,262,{"$f":"Trixie!I$1207","v":0},{"$f":"Trixie!J$1207","v":0}]
[null,1111139278,39741,"Переноска  Skudo 3  40х39х60 см коричнева/пісочна до 24 кг","Менше 10","Переноски пластикові",1342.38,1688,{"$f":"Trixie!I$1208","v":0},{"$f":"Trixie!J$1208","v":0}]
[null,1111139279,39742,"Переноска  Skudo 4  48х51х68 см коричнева/пісочна до 30 кг","Менше 10","Переноски пластикові",3039.58,3824,{"$f":"Trixie!I$1209","v":0},{"$f":"Trixie!J$1209","v":0}]
[null,1111139280,39743,"Переноска  Skudo 5  59х65х79 см коричнева/пісочна до 35 кг","Менше 10","Переноски пластикові",3997.27,5029,{"$f":"Trixie!I$1210","v":0},{"$f":"Trixie!J$1210","v":0}]
[null,1111139281,39744,"Переноска  Skudo 6  63х70х92 см коричнева/пісочна до 40 кг","Менше 10","Переноски пластикові",5536.01,6964,{"$f":"Trixie!I$1211","v":0},{"$f":"Trixie!J$1211","v":0}]
[null,1111140885,39745,"Переноска  Skudo 7  73х76х105 см коричнева/пісочна до 45 кг","Менше 10","Переноски пластикові",6613.12,8319,{"$f":"Trixie!I$1212","v":0},{"$f":"Trixie!J$1212","v":0}]
[null,1111161045,39823,"Переноска Capri 2 XS-S: 37*34*55 см, сіра/лілова","Менше 10","Переноски пластикові",972.62,1223,{"$f":"Trixie!I$1213","v":0},{"$f":"Trixie!J$1213","v":0}]
[null,1111115833,39802,"Переноска Mini-Capri 40х30х22 см","Менше 10","Переноски пластикові",538.55999999999995,678,{"$f":"Trixie!I$1214","v":0},{"$f":"Trixie!J$1214","v":0}]
[null,1111146794,39735,"Переноска Skudo 1 30*32*49 см коричнева/пісочна","Менше 10","Переноски пластикові",995.59,1252,{"$f":"Trixie!I$1215","v":0},{"$f":"Trixie!J$1215","v":0}]
[null,1111165785,"207518*****","Перестіжка  Fusion  нейлон, L–XL: 2.00 м/25 мм, графіт/синій","Менше 10","Повідки: для прогулянок, тренувальні, з регульованою довжиною",523.63,647,{"$f":"Trixie!I$1216","v":0},{"$f":"Trixie!J$1216","v":0}]
[null,1111132096,12216,"Перестьожка  Safer Life Silver  з лапками світловідбиваюча L-XL 2м/25м","Менше 10","Повідки: для прогулянок, тренувальні, з регульованою довжиною",523.63,647,{"$f":"Trixie!I$1217","v":0},{"$f":"Trixie!J$1217","v":0}]
[null,1111132095,12215,"Перестьожка  Safer Life Silver  з лапками світловідбиваюча M-L 2м/20мм","Менше 10","Повідки: для прогулянок, тренувальні, з регульованою довжиною",392.1,485,{"$f":"Trixie!I$1218","v":0},{"$f":"Trixie!J$1218","v":0}]
[null,1111150220,143601,"Перестьожка Cavo нейлон L–XL:2м/18мм, чорна","Менше 10","Повідки: для прогулянок, тренувальні, з регульованою довжиною",576.24,712,{"$f":"Trixie!I$1219","v":0},{"$f":"Trixie!J$1219","v":0}]
[null,1111150212,143501,"Перестьожка Cavo нейлон S–M:2м/12мм, чорна","Менше 10","Повідки: для прогулянок, тренувальні, з регульованою довжиною",339.48,421,{"$f":"Trixie!I$1220","v":0},{"$f":"Trixie!J$1220","v":0}]
[null,1111150650,200516,"Перестьожка Premium нейлон M–L:2.00м/20мм графітова","Менше 10","Повідки: для прогулянок, тренувальні, з регульованою довжиною",392.1,485,{"$f":"Trixie!I$1221","v":0},{"$f":"Trixie!J$1221","v":0}]
[null,1111150647,200513,"Перестьожка Premium нейлон M–L:2.00м/20мм індиго","Менше 10","Повідки: для прогулянок, тренувальні, з регульованою довжиною",361.64,447,{"$f":"Trixie!I$1222","v":0},{"$f":"Trixie!J$1222","v":0}]
[null,1111150648,200514,"Перестьожка Premium нейлон M–L:2.00м/20мм карамель","Менше 10","Повідки: для прогулянок, тренувальні, з регульованою довжиною",361.64,447,{"$f":"Trixie!I$1223","v":0},{"$f":"Trixie!J$1223","v":0}]
[null,1111150652,200518,"Перестьожка Premium нейлон M–L:2.00м/20мм папайя","Менше 10","Повідки: для прогулянок, тренувальні, з регульованою довжиною",361.64,447,{"$f":"Trixie!I$1224","v":0},{"$f":"Trixie!J$1224","v":0}]
[null,1111150645,200511,"Перестьожка Premium нейлон M–L:2.00м/20мм фуксія","Менше 10","Повідки: для прогулянок, тренувальні, з регульованою довжиною",392.1,485,{"$f":"Trixie!I$1225","v":0},{"$f":"Trixie!J$1225","v":0}]
[null,1111150639,200416,"Перестьожка Premium нейлон XS–S:2.00м/15мм графітова","Менше 10","Повідки: для прогулянок, тренувальні, з регульованою довжиною",313.18,388,{"$f":"Trixie!I$1226","v":0},{"$f":"Trixie!J$1226","v":0}]
[null,1111150640,200417,"Перестьожка Premium нейлон XS–S:2.00м/15мм зелена","Менше 10","Повідки: для прогулянок, тренувальні, з регульованою довжиною",288.85000000000002,358,{"$f":"Trixie!I$1227","v":0},{"$f":"Trixie!J$1227","v":0}]
[null,1111150642,200419,"Перестьожка Premium нейлон XS–S:2.00м/15мм оливкова","Менше 10","Повідки: для прогулянок, тренувальні, з регульованою довжиною",288.85000000000002,358,{"$f":"Trixie!I$1228","v":0},{"$f":"Trixie!J$1228","v":0}]
[null,1111150641,200418,"Перестьожка Premium нейлон XS–S:2.00м/15мм папайя","Менше 10","Повідки: для прогулянок, тренувальні, з регульованою довжиною",288.85000000000002,358,{"$f":"Trixie!I$1229","v":0},{"$f":"Trixie!J$1229","v":0}]
[null,1111150643,200420,"Перестьожка Premium нейлон XS–S:2.00м/15мм рожева","Менше 10","Повідки: для прогулянок, тренувальні, з регульованою довжиною",288.85000000000002,358,{"$f":"Trixie!I$1230","v":0},{"$f":"Trixie!J$1230","v":0}]
[null,1111183782,51700,"Підвісний міст Trixie для птахів вербовий 61 х 8 см Арт51700","Більше 10","Обладнання для кліток",268,349,{"$f":"Trixie!I$1231","v":0},{"$f":"Trixie!J$1231","v":0}]
[null,1111183783,58842,"Підвісний міст Trixie на сизалі для птахів 45 см Арт58842","Більше 10","Обладнання для кліток",298,388,{"$f":"Trixie!I$1232","v":0},{"$f":"Trixie!J$1232","v":0}]
[null,1111139272,23643,"Підгузки для кобелів L-XL: 60-80 см (12 шт.)","Більше 10","Памперси, прокладки для собак",358.27,451,{"$f":"Trixie!I$1233","v":0},{"$f":"Trixie!J$1233","v":0}]
[null,1111132140,23633,"Підгузки для собак M (12 шт.)","Більше 10","Памперси, прокладки для собак",268.08,337,{"$f":"Trixie!I$1234","v":0},{"$f":"Trixie!J$1234","v":0}]
[null,1111132141,23634,"Підгузки для собак M-L (12 шт.)","Немає в наявності","Памперси, прокладки для собак",298.14,375,{"$f":"Trixie!I$1235","v":0},{"$f":"Trixie!J$1235","v":0}]
[null,1111132139,23632,"Підгузки для собак S-M (12 шт.)","Більше 10","Памперси, прокладки для собак",238.01,299,{"$f":"Trixie!I$1236","v":0},{"$f":"Trixie!J$1236","v":0}]
[null,1111132143,23636,"Підгузки для собак XL (12 шт.)","Менше 10","Памперси, прокладки для собак",418.4,526,{"$f":"Trixie!I$1237","v":0},{"$f":"Trixie!J$1237","v":0}]
[null,1111132138,23631,"Підгузки для собак XS-S (12 шт.)","Більше 10","Памперси, прокладки для собак",207.95,261,{"$f":"Trixie!I$1238","v":0},{"$f":"Trixie!J$1238","v":0}]
[null,1111127915,24790,"Підставка  Eat on Feet  + миски керамічні для котів 2?0,25л/12,5см","Більше 10","Миски",418.4,526,{"$f":"Trixie!I$1239","v":0},{"$f":"Trixie!J$1239","v":0}]
[null,1111136681,24791,"Підставка  Eat on Feet  + миски керамічні для котів 2?0,3л/12см яскрав","Більше 10","Миски",478.53,601,{"$f":"Trixie!I$1240","v":0},{"$f":"Trixie!J$1240","v":0}]
[null,1111136775,24640,"Підставка  Eat on Feet  + миски керамічні для собак 2?0,25л/13см","Більше 10","Миски",448.47,564,{"$f":"Trixie!I$1241","v":0},{"$f":"Trixie!J$1241","v":0}]
[null,1111124112,24641,"Підставка  Eat on Feet  + миски керамічні для собак 2?0,6л/15см","Менше 10","Миски",598.79,753,{"$f":"Trixie!I$1242","v":0},{"$f":"Trixie!J$1242","v":0}]
[null,1111124113,24642,"Підставка  Eat on Feet  + миски керамічні для собак 2?1,6л/20см","Менше 10","Миски",899.44,1132,{"$f":"Trixie!I$1243","v":0},{"$f":"Trixie!J$1243","v":0}]
[null,1111141857,24820,"Підставка дерев яна + миски керамічні для собак 2?0,2л/28?5?15см чорні","Більше 10","Миски",841.82,1059,{"$f":"Trixie!I$1244","v":0},{"$f":"Trixie!J$1244","v":0}]
[null,11905,24830,"Підставка під миски + миски металеві 2?0,2 л","Більше 100","Миски",131.53,166,{"$f":"Trixie!I$1245","v":0},{"$f":"Trixie!J$1245","v":0}]
[null,11904,24831,"Підставка під миски + миски металеві 2?0,45 л","Більше 100","Миски",177.88,223,{"$f":"Trixie!I$1246","v":0},{"$f":"Trixie!J$1246","v":0}]
[null,12130,24832,"Підставка під миски + миски металеві 2?0,75 л","Більше 10","Миски",238.01,299,{"$f":"Trixie!I$1247","v":0},{"$f":"Trixie!J$1247","v":0}]
[null,1111119276,24920,"Підставка під миски + миски металеві 2?0,75 л","Більше 10","Миски",672.7,845,{"$f":"Trixie!I$1248","v":0},{"$f":"Trixie!J$1248","v":0}]
[null,10355,24921,"Підставка під миски + миски металеві 2?1,8 л","Більше 10","Миски",1010.93,1272,{"$f":"Trixie!I$1249","v":0},{"$f":"Trixie!J$1249","v":0}]
[null,1111111510,24833,"Підставка під миски + миски металеві 2?1,8 л","Менше 10","Миски",358.27,450,{"$f":"Trixie!I$1250","v":0},{"$f":"Trixie!J$1250","v":0}]
[null,10352,24922,"Підставка під миски + миски металеві 2?2,8 л","Більше 10","Миски",1180.05,1484,{"$f":"Trixie!I$1251","v":0},{"$f":"Trixie!J$1251","v":0}]
[null,1111119275,2497,"Підставка під миски + миски металеві 2?2,8 л","Менше 10","Миски",1589.68,1999,{"$f":"Trixie!I$1252","v":0},{"$f":"Trixie!J$1252","v":0}]
[null,10356,24923,"Підставка під миски + миски металеві 2?4,7 л","Менше 10","Миски",1589.68,1999,{"$f":"Trixie!I$1253","v":0},{"$f":"Trixie!J$1253","v":0}]
[null,1111139948,25230,"Підставка під миски нековзаюча + миски металеві 2?0,2 л","Більше 10","Миски",238.01,300,{"$f":"Trixie!I$1254","v":0},{"$f":"Trixie!J$1254","v":0}]
[null,1111139949,25231,"Підставка під миски нековзаюча + миски металеві 2?0,45 л","Більше 10","Миски",298.14,375,{"$f":"Trixie!I$1255","v":0},{"$f":"Trixie!J$1255","v":0}]
[null,1111163636,19406,"Підтримуюча шлейка для собак M: 55-65 см, чорна","Менше 10","Шлеї",260.56,322,{"$f":"Trixie!I$1256","v":0},{"$f":"Trixie!J$1256","v":0}]
[null,1111127477,76070,"Плафон із захистом 14?17 см","Менше 10","Обладнання для тераріуму, комплектуючі",1386.74,1713,{"$f":"Trixie!I$1257","v":0},{"$f":"Trixie!J$1257","v":0}]
[null,1111126978,76071,"Плафон із захистом 21?19 см","Менше 10","Обладнання для тераріуму, комплектуючі",1724.97,2344,{"$f":"Trixie!I$1258","v":0},{"$f":"Trixie!J$1258","v":0}]
[null,1111147482,14133,"Повідець  Classic  нейлон L-XL 1,2-1,8 м / 25 мм, червоний","Менше 10","Повідки: для прогулянок, тренувальні, з регульованою довжиною",164.07,202,{"$f":"Trixie!I$1259","v":0},{"$f":"Trixie!J$1259","v":0}]
[null,1111147481,14113,"Повідець  Classic  нейлон XS-S 1,2-1,8 м / 15 мм, червоний","Менше 10","Повідки: для прогулянок, тренувальні, з регульованою довжиною",80.88,100,{"$f":"Trixie!I$1260","v":0},{"$f":"Trixie!J$1260","v":0}]
[null,1111163578,196703,"Повідець  Premium  XS-S 3.00 м/15 мм, нейлон,червоний","Менше 10","Повідки: для прогулянок, тренувальні, з регульованою довжиною",410.17,506,{"$f":"Trixie!I$1261","v":0},{"$f":"Trixie!J$1261","v":0}]
[null,1111163577,196702,"Повідець  Premium  XS-S: 3.00 м/15 мм нейлон, синій","Менше 10","Повідки: для прогулянок, тренувальні, з регульованою довжиною",410.17,506,{"$f":"Trixie!I$1262","v":0},{"$f":"Trixie!J$1262","v":0}]
[null,1111165398,203012,"Повідець Trixie для собак Premium з неопреновою підкладкою для руки","Більше 10","Повідки: для прогулянок, тренувальні, з регульованою довжиною",385.91,476.59,{"$f":"Trixie!I$1263","v":0},{"$f":"Trixie!J$1263","v":0}]
[null,1111141356,14131,"Поводок  Classic  нейлоновий L-XL 1,2-1,8м/25мм","Менше 10","Повідки: для прогулянок, тренувальні, з регульованою довжиною",164.07,202,{"$f":"Trixie!I$1264","v":0},{"$f":"Trixie!J$1264","v":0}]
[null,1111116504,14111,"Поводок  Classic  нейлоновий XS-S 1,2-1,8м/15мм","Менше 10","Повідки: для прогулянок, тренувальні, з регульованою довжиною",80.88,100,{"$f":"Trixie!I$1265","v":0},{"$f":"Trixie!J$1265","v":0}]
[null,1111119751,1275,"Поводок  Hands Free  ремінь 60-120см/40мм, поводок 1-1,35м/25мм","Менше 10","Повідки: для прогулянок, тренувальні, з регульованою довжиною",786.7,973,{"$f":"Trixie!I$1266","v":0},{"$f":"Trixie!J$1266","v":0}]
[null,1111156037,201101,"Поводок  Premium  нейлон д/двох соб. XS-M 40-70см/15мм","Менше 10","Повідки: для прогулянок, тренувальні, з регульованою довжиною",260.56,321,{"$f":"Trixie!I$1267","v":0},{"$f":"Trixie!J$1267","v":0}]
[null,1111115153,41960,"Поводок + шлея для великого кота 34-57см/13мм","Менше 10","Амуніція комплекти",207.95,256,{"$f":"Trixie!I$1268","v":0},{"$f":"Trixie!J$1268","v":0}]
[null,1111127528,41893,"Поводок + шлея для великого кота коричнева","Менше 10","Амуніція комплекти",392.1,485,{"$f":"Trixie!I$1269","v":0},{"$f":"Trixie!J$1269","v":0}]
[null,1111122462,41891,"Поводок + шлея для котів  Premium","Менше 10","Амуніція комплекти",286.87,355,{"$f":"Trixie!I$1270","v":0},{"$f":"Trixie!J$1270","v":0}]
[null,1111124107,41894,"Поводок + шлея для котів  Skull","Більше 10","Амуніція комплекти",216.06,268,{"$f":"Trixie!I$1271","v":0},{"$f":"Trixie!J$1271","v":0}]
[null,1111126941,41896,"Поводок + шлея для котів  XCat","Менше 10","Амуніція комплекти",418.4,517,{"$f":"Trixie!I$1272","v":0},{"$f":"Trixie!J$1272","v":0}]
[null,11471,4142,"Поводок + шлея для котів з кішечками","Менше 10","Амуніція комплекти",234.26,288,{"$f":"Trixie!I$1273","v":0},{"$f":"Trixie!J$1273","v":0}]
[null,1111121036,4209,"Поводок + шлея для котів з рибками","Більше 10","Амуніція комплекти",155.34,192,{"$f":"Trixie!I$1274","v":0},{"$f":"Trixie!J$1274","v":0}]
[null,9610,4185,"Поводок + шлея для котів нейлон","Немає в наявності","Амуніція комплекти",129.03,159,{"$f":"Trixie!I$1275","v":0},{"$f":"Trixie!J$1275","v":0}]
[null,1111119416,4183,"Поводок + шлея для котів світловідбиваючий","Більше 10","Амуніція комплекти",132.79,164,{"$f":"Trixie!I$1276","v":0},{"$f":"Trixie!J$1276","v":0}]
[null,1111119265,4181,"Поводок + шлея для кошенят  Kitty Cat","Менше 10","Амуніція комплекти",234.26,288,{"$f":"Trixie!I$1277","v":0},{"$f":"Trixie!J$1277","v":0}]
[null,1111115132,4182,"Поводок + шлея для кошенят кольоровий","Менше 10","Амуніція комплекти",155.34,192,{"$f":"Trixie!I$1278","v":0},{"$f":"Trixie!J$1278","v":0}]
[null,1111119437,6265,"Поводок + шлея для кроленят","Менше 10","Амуніція комплекти",207.95,256,{"$f":"Trixie!I$1279","v":0},{"$f":"Trixie!J$1279","v":0}]
[null,1111115560,6263,"Поводок + шлея для кроликів","Менше 10","Амуніція комплекти",234.26,289,{"$f":"Trixie!I$1280","v":0},{"$f":"Trixie!J$1280","v":0}]
[null,1111122236,61513,"Поводок + шлея м яка для кроликів","Менше 10","Амуніція комплекти",222.98,275,{"$f":"Trixie!I$1281","v":0},{"$f":"Trixie!J$1281","v":0}]
[null,1111122235,61512,"Поводок + шлея м яка для морських свинок","Немає в наявності","Амуніція комплекти",200.43,247,{"$f":"Trixie!I$1282","v":0},{"$f":"Trixie!J$1282","v":0}]
[null,1111122234,61511,"Поводок + шлея м яка для пацючків","Більше 10","Амуніція комплекти",177.88,219,{"$f":"Trixie!I$1283","v":0},{"$f":"Trixie!J$1283","v":0}]
[null,1111150204,143401,"Поводок Cavo нейлон S-M 1м/12мм чорний","Менше 10","Повідки: для прогулянок, тренувальні, з регульованою довжиною",207.95,256,{"$f":"Trixie!I$1284","v":0},{"$f":"Trixie!J$1284","v":0}]
[null,1111149806,14123,"Поводок Classic нейлон M-L 1,2-1,8м/20мм червоний","Менше 10","Повідки: для прогулянок, тренувальні, з регульованою довжиною",112.07,139,{"$f":"Trixie!I$1285","v":0},{"$f":"Trixie!J$1285","v":0}]
[null,1111116505,14121,"Поводок Classic нейлон M-L 1,2-1,8м/20мм чорний","Менше 10","Повідки: для прогулянок, тренувальні, з регульованою довжиною",112.07,139,{"$f":"Trixie!I$1286","v":0},{"$f":"Trixie!J$1286","v":0}]
[null,1111150599,200019,"Поводок Premium підкл. неопрен XS:1,20м/10мм оливковий","Менше 10","Повідки: для прогулянок, тренувальні, з регульованою довжиною",191.8,236,{"$f":"Trixie!I$1287","v":0},{"$f":"Trixie!J$1287","v":0}]
[null,1111150609,200117,"Поводок Premium підкл. неопрен XS–S:1,20м/15мм зелений","Менше 10","Повідки: для прогулянок, тренувальні, з регульованою довжиною",288.85000000000002,358,{"$f":"Trixie!I$1288","v":0},{"$f":"Trixie!J$1288","v":0}]
[null,1111150605,200113,"Поводок Premium підкл. неопрен XS–S:1,20м/15мм індиго","Більше 10","Повідки: для прогулянок, тренувальні, з регульованою довжиною",288.85000000000002,358,{"$f":"Trixie!I$1289","v":0},{"$f":"Trixie!J$1289","v":0}]
[null,1111150606,200114,"Поводок Premium підкл. неопрен XS–S:1,20м/15мм карамель","Менше 10","Повідки: для прогулянок, тренувальні, з регульованою довжиною",288.85000000000002,358,{"$f":"Trixie!I$1290","v":0},{"$f":"Trixie!J$1290","v":0}]
[null,1111150603,200111,"Поводок Premium підкл. неопрен XS–S:1,20м/15мм фуксія","Менше 10","Повідки: для прогулянок, тренувальні, з регульованою довжиною",286.87,356,{"$f":"Trixie!I$1291","v":0},{"$f":"Trixie!J$1291","v":0}]
[null,1111150628,200316,"Поводок Premium підкладка неопрен L–XL:1м/25мм графіт","Більше 10","Повідки: для прогулянок, тренувальні, з регульованою довжиною",392.1,484,{"$f":"Trixie!I$1292","v":0},{"$f":"Trixie!J$1292","v":0}]
[null,1111150625,200313,"Поводок Premium підкладка неопрен L–XL:1м/25мм індиго","Менше 10","Повідки: для прогулянок, тренувальні, з регульованою довжиною",410.17,506,{"$f":"Trixie!I$1293","v":0},{"$f":"Trixie!J$1293","v":0}]
[null,1111150631,200319,"Поводок Premium підкладка неопрен L–XL:1м/25мм оливков.","Менше 10","Повідки: для прогулянок, тренувальні, з регульованою довжиною",410.17,506,{"$f":"Trixie!I$1294","v":0},{"$f":"Trixie!J$1294","v":0}]
[null,1111150618,200216,"Поводок Premium підкладка неопрен M–L:1м/20мм графіт","Більше 10","Повідки: для прогулянок, тренувальні, з регульованою довжиною",313.18,387,{"$f":"Trixie!I$1295","v":0},{"$f":"Trixie!J$1295","v":0}]
[null,1111150615,200213,"Поводок Premium підкладка неопрен M–L:1м/20мм індиго","Менше 10","Повідки: для прогулянок, тренувальні, з регульованою довжиною",313.11,387,{"$f":"Trixie!I$1296","v":0},{"$f":"Trixie!J$1296","v":0}]
[null,1111150616,200214,"Поводок Premium підкладка неопрен M–L:1м/20мм карамель","Менше 10","Повідки: для прогулянок, тренувальні, з регульованою довжиною",313.11,387,{"$f":"Trixie!I$1297","v":0},{"$f":"Trixie!J$1297","v":0}]
[null,1111150621,200219,"Поводок Premium підкладка неопрен M–L:1м/20мм оливковий","Менше 10","Повідки: для прогулянок, тренувальні, з регульованою довжиною",313.11,387,{"$f":"Trixie!I$1298","v":0},{"$f":"Trixie!J$1298","v":0}]
[null,1111150613,200211,"Поводок Premium підкладка неопрен M–L:1м/20мм фуксія","Менше 10","Повідки: для прогулянок, тренувальні, з регульованою довжиною",313.18,387,{"$f":"Trixie!I$1299","v":0},{"$f":"Trixie!J$1299","v":0}]
[null,1111150596,200016,"Поводок Premium підкладка неопрен XS:1,20м/10мм графіт","Менше 10","Повідки: для прогулянок, тренувальні, з регульованою довжиною",207.95,257,{"$f":"Trixie!I$1300","v":0},{"$f":"Trixie!J$1300","v":0}]
[null,1111115591,"14031 Trixie","Поводок-ланцюг з нейлоновою ручкою 1м/4мм чорний","Менше 10","Повідки: для прогулянок, тренувальні, з регульованою довжиною",334.47,413,{"$f":"Trixie!I$1301","v":0},{"$f":"Trixie!J$1301","v":0}]
[null,1111116594,1983,"Поводок-сворка для двох собак шкіра M-L 35см/18мм","Менше 10","Повідки: для прогулянок, тренувальні, з регульованою довжиною",499.14,617,{"$f":"Trixie!I$1302","v":0},{"$f":"Trixie!J$1302","v":0}]
[null,1111132113,1982,"Поводок-сворка для двох собак шкіра S-M 30см/13мм","Менше 10","Повідки: для прогулянок, тренувальні, з регульованою довжиною",398.61,493,{"$f":"Trixie!I$1303","v":0},{"$f":"Trixie!J$1303","v":0}]
[null,1111116593,1981,"Поводок-сворка для двох собак шкіра XS-S 30см/10мм","Менше 10","Повідки: для прогулянок, тренувальні, з регульованою довжиною",331.6,410,{"$f":"Trixie!I$1304","v":0},{"$f":"Trixie!J$1304","v":0}]
[null,1111168084,38951,"Подушка Kaline овальна 44*31см сіра/кремова","Менше 10","Подушки",435.94,610,{"$f":"Trixie!I$1305","v":0},{"$f":"Trixie!J$1305","v":0}]
[null,1111112060,60445,"Поїлка автоматична для гризунів  Honey and Hopper  125 мл скло","Менше 10","Обладнання для кліток",191.66,236,{"$f":"Trixie!I$1306","v":0},{"$f":"Trixie!J$1306","v":0}]
[null,311982,60447,"Поїлка автоматична для гризунів  Honey and Hopper  500 мл скло","Менше 10","Обладнання для кліток",268.08,331,{"$f":"Trixie!I$1307","v":0},{"$f":"Trixie!J$1307","v":0}]
[null,6934,"6052_1шт","Поїлка автоматична для гризунів 100 мл","Більше 100","Обладнання для кліток",51.36,64,{"$f":"Trixie!I$1308","v":0},{"$f":"Trixie!J$1308","v":0}]
[null,546,"60571_1шт","Поїлка автоматична для гризунів 125 мл","Більше 10","Обладнання для кліток",76.41,94,{"$f":"Trixie!I$1309","v":0},{"$f":"Trixie!J$1309","v":0}]
[null,547,"60572_1шт","Поїлка автоматична для гризунів 250 мл","Більше 100","Обладнання для кліток",102.72,127,{"$f":"Trixie!I$1310","v":0},{"$f":"Trixie!J$1310","v":0}]
[null,5976,"6053_1шт","Поїлка автоматична для гризунів 250 мл","Більше 100","Обладнання для кліток",65.14,81,{"$f":"Trixie!I$1311","v":0},{"$f":"Trixie!J$1311","v":0}]
[null,5975,"6054_1шт","Поїлка автоматична для гризунів 450 мл","Більше 100","Обладнання для кліток",72.66,90,{"$f":"Trixie!I$1312","v":0},{"$f":"Trixie!J$1312","v":0}]
[null,1111116147,6065,"Поїлка автоматична для гризунів 450 мл","Більше 10","Обладнання для кліток",76.41,95,{"$f":"Trixie!I$1313","v":0},{"$f":"Trixie!J$1313","v":0}]
[null,6928,"6051_1шт","Поїлка автоматична для гризунів 50 мл","Більше 100","Обладнання для кліток",51.36,64,{"$f":"Trixie!I$1314","v":0},{"$f":"Trixie!J$1314","v":0}]
[null,1111122421,"60573_1шт Trixie","Поїлка автоматична для гризунів 500 мл","Більше 10","Обладнання для кліток",129.03,159,{"$f":"Trixie!I$1315","v":0},{"$f":"Trixie!J$1315","v":0}]
[null,12131,"6050_1шт","Поїлка автоматична для гризунів 600 мл","Більше 10","Обладнання для кліток",87.69,108,{"$f":"Trixie!I$1316","v":0},{"$f":"Trixie!J$1316","v":0}]
[null,1111137672,60441,"Поїлка для гризунів скло 125 мл","Менше 10","Обладнання для кліток",191.66,236,{"$f":"Trixie!I$1317","v":0},{"$f":"Trixie!J$1317","v":0}]
[null,1111137673,60442,"Поїлка для гризунів скло 250 мл","Більше 10","Обладнання для кліток",207.95,257,{"$f":"Trixie!I$1318","v":0},{"$f":"Trixie!J$1318","v":0}]
[null,1111118317,6070,"Поїлка для гризунів скло 50 мл","Більше 10","Обладнання для кліток",115.25,142,{"$f":"Trixie!I$1319","v":0},{"$f":"Trixie!J$1319","v":0}]
[null,1111118498,5420,"Поїлка для папуг 130мл/16см","Більше 10","Обладнання для кліток",62.64,77,{"$f":"Trixie!I$1320","v":0},{"$f":"Trixie!J$1320","v":0}]
[null,6926,5410,"Поїлка для папуг 35 мл","Більше 10","Обладнання для кліток",42.59,53,{"$f":"Trixie!I$1321","v":0},{"$f":"Trixie!J$1321","v":0}]
[null,1111140887,24605,"Поїлка металева 300 мл дорожня","Менше 10","Миски, поїлки для подорожей",368.29,463,{"$f":"Trixie!I$1322","v":0},{"$f":"Trixie!J$1322","v":0}]
[null,1111121138,2462,"Поїлка пластикова 0,25 л дорожня","Більше 10","Миски, поїлки для подорожей",102.72,130,{"$f":"Trixie!I$1323","v":0},{"$f":"Trixie!J$1323","v":0}]
[null,13727,2461,"Поїлка пластикова 0,5 л дорожня","Більше 100","Миски, поїлки для подорожей",129.03,163,{"$f":"Trixie!I$1324","v":0},{"$f":"Trixie!J$1324","v":0}]
[null,1111124228,2459,"Поїлка пластикова 0,7 л дорожня","Більше 100","Миски, поїлки для подорожей",155.34,196,{"$f":"Trixie!I$1325","v":0},{"$f":"Trixie!J$1325","v":0}]
[null,1111170423,24446,"Поїлка-фонтан д/котівFlower біл/сір.Пласт.2л 18,5*13*18,5 см арт.24446","Менше 10","Автогодівниці, автопоїлки",1010.93,1274,{"$f":"Trixie!I$1326","v":0},{"$f":"Trixie!J$1326","v":0}]
[null,1111170421,24444,"Поїлка-фонтан д/соб.CurvedStream біла пласт.2,5л25*24,5*35см арт.24444","Менше 10","Автогодівниці, автопоїлки",1484.45,1870,{"$f":"Trixie!I$1327","v":0},{"$f":"Trixie!J$1327","v":0}]
[null,1111132122,35185,"Поросятко з квітами хрюкаюче 20 см","Менше 10","Іграшки для собак",368.29,454,{"$f":"Trixie!I$1328","v":0},{"$f":"Trixie!J$1328","v":0}]
[null,1111132125,35190,"Поросятко зі щетиною латексне хрюкаюче 10 см","Більше 10","Іграшки для собак",117.75,145,{"$f":"Trixie!I$1329","v":0},{"$f":"Trixie!J$1329","v":0}]
[null,1111123631,35499,"Поросятко зі щетиною латексне хрюкаюче 21 см","Більше 10","Іграшки для собак",238.01,294,{"$f":"Trixie!I$1330","v":0},{"$f":"Trixie!J$1330","v":0}]
[null,1111114475,35092,"Поросятко латексне 13,5 см","Більше 100","Іграшки для собак",71.400000000000006,88,{"$f":"Trixie!I$1331","v":0},{"$f":"Trixie!J$1331","v":0}]
[null,1111114474,3537,"Поросятко латексне 25 см","Менше 10","Іграшки для собак",147.82,182,{"$f":"Trixie!I$1332","v":0},{"$f":"Trixie!J$1332","v":0}]
[null,1111119263,35490,"Поросятко латексне хрюкаюче 17 см","Більше 10","Іграшки для собак",238.01,295,{"$f":"Trixie!I$1333","v":0},{"$f":"Trixie!J$1333","v":0}]
[null,1111116917,35491,"Поросятко латексне хрюкаюче 23 см","Більше 10","Іграшки для собак",238.01,294,{"$f":"Trixie!I$1334","v":0},{"$f":"Trixie!J$1334","v":0}]
[null,1111136658,35173,"Поросятко латексне яскраве 11 см","Більше 10","Іграшки для собак",219.53,271,{"$f":"Trixie!I$1335","v":0},{"$f":"Trixie!J$1335","v":0}]
[null,1111157199,19407,"Пояс Trixie для собак підтримуючий неопрен чорний L: 65–75см","Менше 10","Шлеї",286.87,354,{"$f":"Trixie!I$1336","v":0},{"$f":"Trixie!J$1336","v":0}]
[null,11120,4238,"Притягувач Кошача м ята спрей 150 мл","Більше 10","Засоби для привчання",115.25,142,{"$f":"Trixie!I$1337","v":0},{"$f":"Trixie!J$1337","v":0}]
[null,1111129085,4241,"Притягувач Кошача м ята спрей 50 мл","Менше 10","Засоби для привчання",87.69,108,{"$f":"Trixie!I$1338","v":0},{"$f":"Trixie!J$1338","v":0}]
[null,1111118477,2934,"Притягувач-олія до туалету 50 мл","Більше 10","Засоби для привчання",165.36,205,{"$f":"Trixie!I$1339","v":0},{"$f":"Trixie!J$1339","v":0}]
[null,1111133315,35182,"Пташка латексна 20 см","Більше 10","Іграшки для собак",177.88,219,{"$f":"Trixie!I$1340","v":0},{"$f":"Trixie!J$1340","v":0}]
[null,1111134632,35968,"Пташка плюшева 30 см","Більше 10","Іграшки для собак",298.14,369,{"$f":"Trixie!I$1341","v":0},{"$f":"Trixie!J$1341","v":0}]
[null,1111117633,"6288  Trixie","Пуходерка + гребінь для гризуна пластикова ручка 7?13 см","Більше 10","Аксесуари для грумінгу",102.72,127,{"$f":"Trixie!I$1342","v":0},{"$f":"Trixie!J$1342","v":0}]
[null,4223,2353,"Пуходерка + гребінь для котів дерев яна ручка 6?13 см","Більше 10","Аксесуари для грумінгу",102.72,128,{"$f":"Trixie!I$1343","v":0},{"$f":"Trixie!J$1343","v":0}]
[null,6194,2356,"Пуходерка + гребінь для собак дерев яна ручка 11?14 см","Більше 10","Аксесуари для грумінгу",155.34,192,{"$f":"Trixie!I$1344","v":0},{"$f":"Trixie!J$1344","v":0}]
[null,2182,2354,"Пуходерка + гребінь для собак дерев яна ручка 9?13 см","Більше 10","Аксесуари для грумінгу",115.25,142,{"$f":"Trixie!I$1345","v":0},{"$f":"Trixie!J$1345","v":0}]
[null,1111165536,24057,"Пуходерка Trixie для собак м яка пластик/метал 12*16см","Більше 10","Аксесуари для грумінгу",238.01,294,{"$f":"Trixie!I$1346","v":0},{"$f":"Trixie!J$1346","v":0}]
[null,1111165535,24055,"Пуходерка Trixie для собак м яка пластик/метал 7*16см","Більше 10","Аксесуари для грумінгу",177.88,219,{"$f":"Trixie!I$1347","v":0},{"$f":"Trixie!J$1347","v":0}]
[null,1111165623,24056,"Пуходерка Trixie для собак м яка пластик/метал 9*16см","Більше 10","Аксесуари для грумінгу",207.95,257,{"$f":"Trixie!I$1348","v":0},{"$f":"Trixie!J$1348","v":0}]
[null,1111150261,24155,"Пуходерка д/собак Tangle Teezer пластик, 19см, бірюзова","Більше 100","Аксесуари для грумінгу",102.72,127,{"$f":"Trixie!I$1349","v":0},{"$f":"Trixie!J$1349","v":0}]
[null,1111113776,2359,"Пуходерка для котів двостороння дерев яна ручка 6?13 см","Більше 10","Аксесуари для грумінгу",106.3,131,{"$f":"Trixie!I$1350","v":0},{"$f":"Trixie!J$1350","v":0}]
[null,2118,2358,"Пуходерка для котів одинарна дерев яна ручка 6?13 см","Більше 10","Аксесуари для грумінгу",94.74,117,{"$f":"Trixie!I$1351","v":0},{"$f":"Trixie!J$1351","v":0}]
[null,1111145745,23125,"Пуходерка для котів пластик. ручка з кульками 7?16 см","Більше 10","Аксесуари для грумінгу",298.14,369,{"$f":"Trixie!I$1352","v":0},{"$f":"Trixie!J$1352","v":0}]
[null,1111113773,2301,"Пуходерка для собак із кульками гумова ручка 10?17 см","Більше 100","Аксесуари для грумінгу",102.72,127,{"$f":"Trixie!I$1353","v":0},{"$f":"Trixie!J$1353","v":0}]
[null,12276,2306,"Пуходерка для собак із кульками гумова ручка двостороння 10?17 см","Більше 10","Аксесуари для грумінгу",129.03,159,{"$f":"Trixie!I$1354","v":0},{"$f":"Trixie!J$1354","v":0}]
[null,9745,2305,"Пуходерка для собак із кульками двостороння дерев яна ручка 10?18 см","Більше 10","Аксесуари для грумінгу",129.03,159,{"$f":"Trixie!I$1355","v":0},{"$f":"Trixie!J$1355","v":0}]
[null,5083,2300,"Пуходерка для собак із кульками дерев яна ручка 10?18 см","Більше 100","Аксесуари для грумінгу",115.25,142,{"$f":"Trixie!I$1356","v":0},{"$f":"Trixie!J$1356","v":0}]
[null,1111125835,24141,"Пуходерка для собак із кульками пластикова ручка 7?16 см","Менше 10","Аксесуари для грумінгу",298.14,369,{"$f":"Trixie!I$1357","v":0},{"$f":"Trixie!J$1357","v":0}]
[null,1111125833,24132,"Пуходерка для собак пластикова ручка м яка 10?17 см","Менше 10","Аксесуари для грумінгу",268.08,331,{"$f":"Trixie!I$1358","v":0},{"$f":"Trixie!J$1358","v":0}]
[null,1111125834,24133,"Пуходерка для собак пластикова ручка м яка 12?20 см","Менше 10","Аксесуари для грумінгу",328.21,405,{"$f":"Trixie!I$1359","v":0},{"$f":"Trixie!J$1359","v":0}]
[null,1111152084,"92501_1шт","Різдвяна іграшка Олень плюшевий 42 см 1 шт.","Більше 100","Іграшки для собак",294.51,411,{"$f":"Trixie!I$1360","v":0},{"$f":"Trixie!J$1360","v":0}]
[null,1111183908,"31510_5шт","Рулька з куркою для собак 150 гр","Більше 100","Ласощі для собак",752,977,{"$f":"Trixie!I$1361","v":0},{"$f":"Trixie!J$1361","v":0}]
[null,1111114716,2882,"Рюкзак-переноска  Tbag  для собаки нейлоновий 30х21х44 см","Більше 10","Сумки-переноски, рюкзаки",904.45,1138,{"$f":"Trixie!I$1362","v":0},{"$f":"Trixie!J$1362","v":0}]
[null,1111125950,28941,"Рюкзак-переноска  кенгурятник  для собаки нейлоновий 30х26х33 см","Менше 10","Сумки-переноски, рюкзаки",1707.43,2148,{"$f":"Trixie!I$1363","v":0},{"$f":"Trixie!J$1363","v":0}]
[null,1111183743,28840,"Рюкзак-переноска Trixie Ава 32 х 42 х 20 см сірий Арт28840","Менше 10","Сумки-переноски, рюкзаки",1268,1648,{"$f":"Trixie!I$1364","v":0},{"$f":"Trixie!J$1364","v":0}]
[null,1111122532,28871,"Рюкзак-переноска для собаки  deLuxe  нейлоновий 41х30х21 см","Менше 10","Сумки-переноски, рюкзаки",1489.46,1874,{"$f":"Trixie!I$1365","v":0},{"$f":"Trixie!J$1365","v":0}]
[null,12132,3252,"Сарделі на мотузці 75 см","Більше 10","Іграшки для собак",177.88,219,{"$f":"Trixie!I$1366","v":0},{"$f":"Trixie!J$1366","v":0}]
[null,1111119352,2254,"Свисток Buffalo 6,5 см","Менше 10","Обладнання для аджиліті, дресирування",234.26,294,{"$f":"Trixie!I$1367","v":0},{"$f":"Trixie!J$1367","v":0}]
[null,1111119353,2255,"Свисток Buffalo 9 см","Менше 10","Обладнання для аджиліті, дресирування",260.56,327,{"$f":"Trixie!I$1368","v":0},{"$f":"Trixie!J$1368","v":0}]
[null,5569,2258,"Свисток ультразвуковий для собаки 5 см металевий","Більше 10","Обладнання для аджиліті, дресирування",102.72,129,{"$f":"Trixie!I$1369","v":0},{"$f":"Trixie!J$1369","v":0}]
[null,1111114755,2257,"Свисток ультразвуковий для собаки 8 см метал/пластик","Менше 10","Обладнання для аджиліті, дресирування",115.25,145,{"$f":"Trixie!I$1370","v":0},{"$f":"Trixie!J$1370","v":0}]
[null,1111146936,29415,"Серветки для очей пластикова банка (30 шт.)","Більше 10","Засоби для догляду за очима та вухами",177.88,219,{"$f":"Trixie!I$1371","v":0},{"$f":"Trixie!J$1371","v":0}]
[null,1111121025,2940,"Серветки з алое вера універсальні 30 шт.","Більше 10","Вологі серветки універсальні",177.88,219,{"$f":"Trixie!I$1372","v":0},{"$f":"Trixie!J$1372","v":0}]
[null,1111115170,4505,"Сир хутряний з іграшками 36?8?26 см","Більше 10","Іграшки для котів",334.47,413,{"$f":"Trixie!I$1373","v":0},{"$f":"Trixie!J$1373","v":0}]
[null,1111136657,35172,"Собака латексна яскрава 8 см","Менше 10","Іграшки для собак",117.75,146,{"$f":"Trixie!I$1374","v":0},{"$f":"Trixie!J$1374","v":0}]
[null,1111124008,35930,"Собака плюшева кудлата 30 см","Більше 10","Іграшки для собак",238.01,294,{"$f":"Trixie!I$1375","v":0},{"$f":"Trixie!J$1375","v":0}]
[null,1111163140,35977,"Собака, 26 см, плюш / тканина, в клітинку","Більше 10","Іграшки для собак",177.88,219,{"$f":"Trixie!I$1376","v":0},{"$f":"Trixie!J$1376","v":0}]
[null,1111163137,35864,"Собака, 28 см, плюш","Більше 10","Іграшки для собак",238.01,294,{"$f":"Trixie!I$1377","v":0},{"$f":"Trixie!J$1377","v":0}]
[null,1111114677,3242,"Сосиска на мотузці 11 см","Більше 100","Іграшки для собак",60.13,74,{"$f":"Trixie!I$1378","v":0},{"$f":"Trixie!J$1378","v":0}]
[null,9236,6030,"Спрей антиблошиний біо BioLiberat 100 мл","Більше 10","Протипаразитні препарати: антигельмінтні, інсектицидні, інсектоакарицидні, репелентні",271.83999999999997,351,{"$f":"Trixie!I$1379","v":0},{"$f":"Trixie!J$1379","v":0}]
[null,12201,2930,"Спрей від ковтунів 150 мл","Більше 10","Косметика, засоби догляду для грумінгу",117.75,146,{"$f":"Trixie!I$1380","v":0},{"$f":"Trixie!J$1380","v":0}]
[null,8164,2548,"Спрей для зубів з фтором для собак 50 мл","Більше 10","Засоби для догляду за зубами та ротовою порожниною",117.75,145,{"$f":"Trixie!I$1381","v":0},{"$f":"Trixie!J$1381","v":0}]
[null,1111132059,2572,"Спрей для подушечок лап 50 мл","Більше 10","Засоби для догляду за лапами",102.72,127,{"$f":"Trixie!I$1382","v":0},{"$f":"Trixie!J$1382","v":0}]
[null,1111137874,44000,"Стовпчик для дряпки 12?30 см","Менше 10","Комплектуючі для дряпок",432.18,544,{"$f":"Trixie!I$1383","v":0},{"$f":"Trixie!J$1383","v":0}]
[null,1111119421,44002,"Стовпчик для дряпки 12?50 см","Менше 10","Комплектуючі для дряпок",650.15,819,{"$f":"Trixie!I$1384","v":0},{"$f":"Trixie!J$1384","v":0}]
[null,1111119422,44003,"Стовпчик для дряпки 12?60 см","Менше 10","Комплектуючі для дряпок",795.47,1001,{"$f":"Trixie!I$1385","v":0},{"$f":"Trixie!J$1385","v":0}]
[null,1111120481,43993,"Стовпчик для дряпки 9?*60 см","Більше 10","Комплектуючі для дряпок",504.84,635,{"$f":"Trixie!I$1386","v":0},{"$f":"Trixie!J$1386","v":0}]
[null,1111120814,43991,"Стовпчик для дряпки 9?40 см","Більше 10","Комплектуючі для дряпок",359.53,452,{"$f":"Trixie!I$1387","v":0},{"$f":"Trixie!J$1387","v":0}]
[null,1111120269,43992,"Стовпчик для дряпки 9?50 см","Більше 10","Комплектуючі для дряпок",432.18,544,{"$f":"Trixie!I$1388","v":0},{"$f":"Trixie!J$1388","v":0}]
[null,1111120631,43994,"Стовпчик для дряпки 9?70 см","Менше 10","Комплектуючі для дряпок",613.82000000000005,773,{"$f":"Trixie!I$1389","v":0},{"$f":"Trixie!J$1389","v":0}]
[null,1111120126,3238,"Сумка  Baggy  для дресирування 10?15 см","Менше 10","Сумки для їжі, прогулянок і дресирування",119.01,150,{"$f":"Trixie!I$1390","v":0},{"$f":"Trixie!J$1390","v":0}]
[null,1111122838,3227,"Сумка  Baggy deluxe  для дресирування 10*14 см","Більше 10","Сумки для їжі, прогулянок і дресирування",129.03,163,{"$f":"Trixie!I$1391","v":0},{"$f":"Trixie!J$1391","v":0}]
[null,1111139966,32283,"Сумка  Dog Activity Baggi  2 в 1  для дресирування 10*13 см","Більше 10","Сумки для їжі, прогулянок і дресирування",219.53,276,{"$f":"Trixie!I$1392","v":0},{"$f":"Trixie!J$1392","v":0}]
[null,1111134488,"32282_1шт","Сумка  Dog Activity Mini  для дресирування 7*9 см","Більше 10","Сумки для їжі, прогулянок і дресирування",87.69,110,{"$f":"Trixie!I$1393","v":0},{"$f":"Trixie!J$1393","v":0}]
[null,1111183721,22852,"Сумка для пакетів Trixie для собак неопрен 1 шт на 20 пакетів Арт22852","Більше 10","Пакети, диспенсери",129.03,168,{"$f":"Trixie!I$1394","v":0},{"$f":"Trixie!J$1394","v":0}]
[null,1111128783,22841,"Сумка нейлонова + пакети для фекалій 2*15 шт. M","Менше 10","Пакети, диспенсери",102.72,130,{"$f":"Trixie!I$1395","v":0},{"$f":"Trixie!J$1395","v":0}]
[null,1111136845,2331,"Сумка пластикова + пакети для фекалій 2*20 шт. M","Більше 10","Пакети, диспенсери",88.94,111,{"$f":"Trixie!I$1396","v":0},{"$f":"Trixie!J$1396","v":0}]
[null,1111143757,22846,"Сумка-кісточка пластикова + пакети для фекалій М (15 шт.)","Більше 10","Пакети, диспенсери",88.94,112,{"$f":"Trixie!I$1397","v":0},{"$f":"Trixie!J$1397","v":0}]
[null,1111143314,36253,"Сумка-переноска  Helen  19х28х40 см сіра","Менше 10","Сумки-переноски, рюкзаки",2434,3063,{"$f":"Trixie!I$1398","v":0},{"$f":"Trixie!J$1398","v":0}]
[null,1111140967,28952,"Сумка-переноска  Kilian  31х32х48 см блакитна/чорна","Немає в наявності","Сумки-переноски, рюкзаки",1574.82,1980,{"$f":"Trixie!I$1399","v":0},{"$f":"Trixie!J$1399","v":0}]
[null,1111143310,28954,"Сумка-переноска  Libby  25х27х42 см коричнева/сіра","Менше 10","Сумки-переноски, рюкзаки",1086.0899999999999,1366,{"$f":"Trixie!I$1400","v":0},{"$f":"Trixie!J$1400","v":0}]
[null,1111116805,36211,"Сумка-переноска  RIVA  26х30х45 см чорна","Більше 10","Сумки-переноски, рюкзаки",1086.0899999999999,1366,{"$f":"Trixie!I$1401","v":0},{"$f":"Trixie!J$1401","v":0}]
[null,1111118183,39703,"Сумка-переноска  Tcamp  60х50х50 см","Менше 10","Сумки-переноски, рюкзаки",1489.46,1875,{"$f":"Trixie!I$1402","v":0},{"$f":"Trixie!J$1402","v":0}]
[null,1111150271,28956,"Сумка-переноска Sling Front Bag 50*25*18см рожева/чорна","Менше 10","Сумки-переноски, рюкзаки",722.81,909,{"$f":"Trixie!I$1403","v":0},{"$f":"Trixie!J$1403","v":0}]
[null,1111119364,28851,"Сумка-переноска Trixie Раян 30 х 30 х 54 см чорна Арт28851","Більше 10","Сумки-переноски, рюкзаки",904,1176,{"$f":"Trixie!I$1404","v":0},{"$f":"Trixie!J$1404","v":0}]
[null,1111122195,2889,"Сумка-переноска з кісточками  Adrina  42х27х26 см","Менше 10","Сумки-переноски, рюкзаки",904.45,1139,{"$f":"Trixie!I$1405","v":0},{"$f":"Trixie!J$1405","v":0}]
[null,1111115569,"28841 Trixie","Сумка-переноска з сіткою нейлонова  Ryan  47х27х26 см","Менше 10","Сумки-переноски, рюкзаки",904.45,1138,{"$f":"Trixie!I$1406","v":0},{"$f":"Trixie!J$1406","v":0}]
[null,1111134485,28903,"Сумка-переноска-будиночок  Maxima  33х32х54 см","Менше 10","Сумки-переноски, рюкзаки",3556.42,4475,{"$f":"Trixie!I$1407","v":0},{"$f":"Trixie!J$1407","v":0}]
[null,1111123137,2880,"Сумка-рюкзак  Tbag Trolley на колесах 36х50х27 см","Менше 10","Сумки-переноски, рюкзаки",2216.0300000000002,2789,{"$f":"Trixie!I$1408","v":0},{"$f":"Trixie!J$1408","v":0}]
[null,1111163127,35672,"Сурикат, 40 см, плюш","Менше 10","Іграшки для собак",435.94,538,{"$f":"Trixie!I$1409","v":0},{"$f":"Trixie!J$1409","v":0}]
[null,1111161177,31855,"Тrixie PREMIO Horse Stripes з кінським м_ясом для собак, 11 см, 100 г","Менше 10","Ласощі для собак",224.23,290,{"$f":"Trixie!I$1410","v":0},{"$f":"Trixie!J$1410","v":0}]
[null,1111157556,31808,"Тrixie PREMIO з кролячими вухами і куркою для собак, 80 г","Більше 100","Ласощі для собак",92.7,120,{"$f":"Trixie!I$1411","v":0},{"$f":"Trixie!J$1411","v":0}]
[null,1111126014,76147,"Тераріумний субстрат Trixie букова тирса 10 л Арт76147","Більше 10","Ґрунти, наповнювачі для тераріуму",430,559,{"$f":"Trixie!I$1412","v":0},{"$f":"Trixie!J$1412","v":0}]
[null,1111126025,76132,"Тераріумний субстрат Trixie пустельний пісок 5кг червоний Арт76132","Більше 10","Ґрунти, наповнювачі для тераріуму",505,656,{"$f":"Trixie!I$1413","v":0},{"$f":"Trixie!J$1413","v":0}]
[null,1111127603,76115,"Термометр-гігрометр електронний із присоскою для тераріума","Менше 10","Обладнання для тераріуму, комплектуючі",503.59,742,{"$f":"Trixie!I$1414","v":0},{"$f":"Trixie!J$1414","v":0}]
[null,1111126096,76113,"Термометр-гігрометр механічний для тераріума","Менше 10","Обладнання для тераріуму, комплектуючі",298.14,332,{"$f":"Trixie!I$1415","v":0},{"$f":"Trixie!J$1415","v":0}]
[null,1111117393,4232,"Трава Trixie Soft Grass для котів і кошенят 100 г (пакет)","Більше 10","Ласощі для котів",92.7,120,{"$f":"Trixie!I$1416","v":0},{"$f":"Trixie!J$1416","v":0}]
[null,1111115510,4235,"Трава Trixie для котів, 100 г (контейнер)","Більше 100","Ласощі для котів",71.400000000000006,92,{"$f":"Trixie!I$1417","v":0},{"$f":"Trixie!J$1417","v":0}]
[null,12194,4236,"Трава Trixie для котів, 100 г (пакет)","Більше 10","Ласощі для котів",50.11,65,{"$f":"Trixie!I$1418","v":0},{"$f":"Trixie!J$1418","v":0}]
[null,1111120133,6035,"Трава Trixie для маленьких тварин 100 г Арт6035","Більше 10","Ласощі для гризунів",73.91,96,{"$f":"Trixie!I$1419","v":0},{"$f":"Trixie!J$1419","v":0}]
[null,1111115322,6091,"Тримач універсальний (2 шт.)","Більше 10","Обладнання для кліток",35.08,43,{"$f":"Trixie!I$1420","v":0},{"$f":"Trixie!J$1420","v":0}]
[null,1111121075,23490,"Труси для собак чорні 20-25 см","Більше 10","Гігієнічний одяг",87.69,108,{"$f":"Trixie!I$1421","v":0},{"$f":"Trixie!J$1421","v":0}]
[null,1111121076,23491,"Труси для собак чорні 24-31 см","Більше 10","Гігієнічний одяг",98.96,123,{"$f":"Trixie!I$1422","v":0},{"$f":"Trixie!J$1422","v":0}]
[null,1111121077,23492,"Труси для собак чорні 32-39 см","Більше 10","Гігієнічний одяг",110.24,136,{"$f":"Trixie!I$1423","v":0},{"$f":"Trixie!J$1423","v":0}]
[null,1111121078,23493,"Труси для собак чорні 40-49 см","Більше 10","Гігієнічний одяг",121.51,151,{"$f":"Trixie!I$1424","v":0},{"$f":"Trixie!J$1424","v":0}]
[null,1111121079,23494,"Труси для собак чорні 50-59 см","Більше 10","Гігієнічний одяг",132.79,164,{"$f":"Trixie!I$1425","v":0},{"$f":"Trixie!J$1425","v":0}]
[null,1111121080,23495,"Труси для собак чорні 60-70 см","Менше 10","Гігієнічний одяг",155.34,192,{"$f":"Trixie!I$1426","v":0},{"$f":"Trixie!J$1426","v":0}]
[null,1111165690,40212,"Туал.Trixie д/котів Be Eco Carlo з рамкою перер.пласт сірий 38*17*58см","Менше 10","Туалети",358.27,450,{"$f":"Trixie!I$1427","v":0},{"$f":"Trixie!J$1427","v":0}]
[null,1111147533,40275,"Туалет  Vico  закр. д/котів з дверима 40 * 40 * 56 см, бірюз. / білий","Менше 10","Туалети",610.9,768,{"$f":"Trixie!I$1428","v":0},{"$f":"Trixie!J$1428","v":0}]
[null,1111149306,40345,"Туалет  Vico Easy Clean  закритий для котів з дверима 40 * 40 * 56 см,","Менше 10","Туалети",954.27,1200,{"$f":"Trixie!I$1429","v":0},{"$f":"Trixie!J$1429","v":0}]
[null,1111165633,40184,"Туалет Trixie для котів Classic з рамкою срий/білий пластик 37*15*47см","Менше 10","Туалети",323.2,407,{"$f":"Trixie!I$1430","v":0},{"$f":"Trixie!J$1430","v":0}]
[null,1111165777,40278,"Туалет Trixie для котів Vico закритий пластик фіол/білий 40*40*56см","Менше 10","Туалети",610.9,768,{"$f":"Trixie!I$1431","v":0},{"$f":"Trixie!J$1431","v":0}]
[null,1111149279,40154,"Туалет д/котів Berto рамка + сітка 59?39?22 см сірий","Більше 10","Туалети",792.33,996,{"$f":"Trixie!I$1432","v":0},{"$f":"Trixie!J$1432","v":0}]
[null,1111150307,40271,"Туалет д/котів Vico закритий, 40?40?56см графіт/сірий","Більше 10","Туалети",610.9,768,{"$f":"Trixie!I$1433","v":0},{"$f":"Trixie!J$1433","v":0}]
[null,1111165723,40279,"Туалет для котів  Carlo  43х31х14 см","Більше 10","Туалети",883.31,1111,{"$f":"Trixie!I$1434","v":0},{"$f":"Trixie!J$1434","v":0}]
[null,8162,40111,"Туалет для котів  Carlo  43х31х14 см","Більше 10","Туалети",249.18,314,{"$f":"Trixie!I$1435","v":0},{"$f":"Trixie!J$1435","v":0}]
[null,8150,40121,"Туалет для котів  Carlo  58х38х17 см","Більше 10","Туалети",358.27,451,{"$f":"Trixie!I$1436","v":0},{"$f":"Trixie!J$1436","v":0}]
[null,1111143300,40394,"Туалет для котів  Cisco з рамкою напівпрозорий 38х11х50 см","Більше 10","Туалети",334.47,422,{"$f":"Trixie!I$1437","v":0},{"$f":"Trixie!J$1437","v":0}]
[null,1111137777,4040,"Туалет для котів  Mio з рамкою 43х32х12 см","Більше 10","Туалети",233,294,{"$f":"Trixie!I$1438","v":0},{"$f":"Trixie!J$1438","v":0}]
[null,1111119259,4042,"Туалет для котів 37х27х9 см","Більше 10","Туалети",141.56,178,{"$f":"Trixie!I$1439","v":0},{"$f":"Trixie!J$1439","v":0}]
[null,1111166535,40397,"Туалет для котов Delio с рамкой 38*20*50см серый пластик","Менше 10","Туалети",577.5,727,{"$f":"Trixie!I$1440","v":0},{"$f":"Trixie!J$1440","v":0}]
[null,1111127519,23415,"Туалет для цуценят під пелюшку 49х41 см","Більше 10","Туалети",435.94,549,{"$f":"Trixie!I$1441","v":0},{"$f":"Trixie!J$1441","v":0}]
[null,1111127520,23416,"Туалет для цуценят під пелюшку 65х55 см","Більше 10","Туалети",1010.93,1273,{"$f":"Trixie!I$1442","v":0},{"$f":"Trixie!J$1442","v":0}]
[null,1111183757,40210,"Туалет-будиночок Trixie Віко 40х40х56см антрацит сіро-зелений Арт40210","Більше 10","Туалети",611,794,{"$f":"Trixie!I$1443","v":0},{"$f":"Trixie!J$1443","v":0}]
[null,1111150588,40341,"Туалет-будиночок Trixie Віко 40х40х56см сіро-білий Арт40341","Більше 10","Туалети",973,1264,{"$f":"Trixie!I$1444","v":0},{"$f":"Trixie!J$1444","v":0}]
[null,1111130641,62796,"Тунель Trixie для гри пластиковий для гризунів бірюзовий Арт62796","Більше 10","Обладнання для кліток",148,192,{"$f":"Trixie!I$1445","v":0},{"$f":"Trixie!J$1445","v":0}]
[null,1111183786,60770,"Тунель Trixie з сіном і корою для гризунів 6,5 х 20 см 25 г Арт60770","Більше 10","Обладнання для кліток",351,456,{"$f":"Trixie!I$1446","v":0},{"$f":"Trixie!J$1446","v":0}]
[null,1111134905,6130,"Тунель дерев яний для гризунів 20 см","Більше 10","Обладнання для кліток",147.82,183,{"$f":"Trixie!I$1447","v":0},{"$f":"Trixie!J$1447","v":0}]
[null,1111117659,6131,"Тунель дерев яний для гризунів 30 см","Менше 10","Обладнання для кліток",238.01,294,{"$f":"Trixie!I$1448","v":0},{"$f":"Trixie!J$1448","v":0}]
[null,1111137485,4305,"Тунель нейлоновий для котів 3?22?50 см","Менше 10","Гамаки, мішки, тенти, тунелі",571.23,720,{"$f":"Trixie!I$1449","v":0},{"$f":"Trixie!J$1449","v":0}]
[null,1111114747,4302,"Тунель тканинний для котів 115см?d30см","Більше 10","Гамаки, мішки, тенти, тунелі",435.94,549,{"$f":"Trixie!I$1450","v":0},{"$f":"Trixie!J$1450","v":0}]
[null,1111115586,4301,"Тунель тканинний для котів 50см?d25см","Менше 10","Гамаки, мішки, тенти, тунелі",334.47,421,{"$f":"Trixie!I$1451","v":0},{"$f":"Trixie!J$1451","v":0}]
[null,1111127080,6910,"Тунель тканинний для хорька 20?45 см","Більше 10","Обладнання для кліток",177.88,220,{"$f":"Trixie!I$1452","v":0},{"$f":"Trixie!J$1452","v":0}]
[null,1111163143,36045,"Тюлень BE NORDIC, 30 см, поліестер","Менше 10","Іграшки для собак",268.08,332,{"$f":"Trixie!I$1453","v":0},{"$f":"Trixie!J$1453","v":0}]
[null,1111119346,2148,"Удавка велика ланка хромована 46см/3мм","Менше 10","Нашийники, нашийники-зашморги",102.72,127,{"$f":"Trixie!I$1454","v":0},{"$f":"Trixie!J$1454","v":0}]
[null,1111119349,2151,"Удавка велика ланка хромована 59см/4мм","Менше 10","Нашийники, нашийники-зашморги",181.64,226,{"$f":"Trixie!I$1455","v":0},{"$f":"Trixie!J$1455","v":0}]
[null,1111143068,2167,"Удавка нержавіюча сталь 52см/3мм","Менше 10","Нашийники, нашийники-зашморги",191.8,238,{"$f":"Trixie!I$1456","v":0},{"$f":"Trixie!J$1456","v":0}]
[null,1111143069,2168,"Удавка нержавіюча сталь 57см/3мм","Менше 10","Нашийники, нашийники-зашморги",216.06,267,{"$f":"Trixie!I$1457","v":0},{"$f":"Trixie!J$1457","v":0}]
[null,1111183762,41310,"Указка Trixie світлодіодна з малюнком миші 11 см Арт41310","Більше 10","Іграшки для котів",238,309,{"$f":"Trixie!I$1458","v":0},{"$f":"Trixie!J$1458","v":0}]
[null,1111128767,4130,"Указка лазерна  Catch the light  для котів","Більше 100","Іграшки для котів",129.03,159,{"$f":"Trixie!I$1459","v":0},{"$f":"Trixie!J$1459","v":0}]
[null,1111141009,41311,"Указка лазерна  Moving Light  для котів 11 см на стіну","Менше 10","Іграшки для котів",899.44,1111,{"$f":"Trixie!I$1460","v":0},{"$f":"Trixie!J$1460","v":0}]
[null,1111114744,3297,"Ухватка джутова 25 см","Менше 10","Іграшки для собак",207.95,257,{"$f":"Trixie!I$1461","v":0},{"$f":"Trixie!J$1461","v":0}]
[null,1111170422,24445,"Фільтр Trixie змінний для фонтану 24444 6шт арт.24445","Більше 10","Комплектуючі до мисок, автогодівниць, автопоїлок, туалетів",41.34,52,{"$f":"Trixie!I$1462","v":0},{"$f":"Trixie!J$1462","v":0}]
[null,1111170424,24447,"Фільтр Trixie змінний для фонтану 24446 2шт арт.24447","Менше 10","Комплектуючі до мисок, автогодівниць, автопоїлок, туалетів",48.86,62,{"$f":"Trixie!I$1463","v":0},{"$f":"Trixie!J$1463","v":0}]
[null,1111126382,40350,"Фільтр для туалету 40284/40286/40342/40345","Менше 10","Комплектуючі до мисок, автогодівниць, автопоїлок, туалетів",71.2,89,{"$f":"Trixie!I$1464","v":0},{"$f":"Trixie!J$1464","v":0}]
[null,1111183735,24464,"Фонтан Trixie автомат з бульбашками 3л 25х16см блакитно-білий Арт24464","Більше 10","Автогодівниці, автопоїлки",1268.99,1650,{"$f":"Trixie!I$1465","v":0},{"$f":"Trixie!J$1465","v":0}]
[null,1111183734,24462,"Фонтан Trixie автоматичний 2 реж 1л 20х12х23см біло-блакитний Арт24462","Більше 10","Автогодівниці, автопоїлки",1180.05,1534,{"$f":"Trixie!I$1466","v":0},{"$f":"Trixie!J$1466","v":0}]
[null,1111147060,35854,"Черепаха з оригінальним звуком плюш 40 см","Менше 10","Іграшки для собак",435.94,539,{"$f":"Trixie!I$1467","v":0},{"$f":"Trixie!J$1467","v":0}]
[null,12228,1958,"Чобітки Walker 2 шт. L чорні","Більше 10","Шкарпетки, панчохи",177.88,219,{"$f":"Trixie!I$1468","v":0},{"$f":"Trixie!J$1468","v":0}]
[null,1111114368,1956,"Чобітки Walker 2 шт. S чорні","Менше 10","Шкарпетки, панчохи",132.79,164,{"$f":"Trixie!I$1469","v":0},{"$f":"Trixie!J$1469","v":0}]
[null,12227,1955,"Чобітки Walker 2 шт. XXL чорні","Більше 10","Шкарпетки, панчохи",222.98,275,{"$f":"Trixie!I$1470","v":0},{"$f":"Trixie!J$1470","v":0}]
[null,12229,1957,"Чобітки Walker 2 шт. М чорні","Більше 10","Шкарпетки, панчохи",155.34,192,{"$f":"Trixie!I$1471","v":0},{"$f":"Trixie!J$1471","v":0}]
[null,7287,1959,"Чобітки Walker 2 шт. ХL чорні","Менше 10","Шкарпетки, панчохи",200.43,248,{"$f":"Trixie!I$1472","v":0},{"$f":"Trixie!J$1472","v":0}]
[null,1111114704,1949,"Чобітки Walker для собак ХХХL чорні","Менше 10","Шкарпетки, панчохи",222.98,275,{"$f":"Trixie!I$1473","v":0},{"$f":"Trixie!J$1473","v":0}]
[null,13423,2908,"Шампунь для котів 250 мл","Більше 10","Косметика, засоби догляду для грумінгу",131.53,163,{"$f":"Trixie!I$1474","v":0},{"$f":"Trixie!J$1474","v":0}]
[null,1111132995,29191,"Шампунь для котів 250 мл довгошерстих порід","Більше 100","Косметика, засоби догляду для грумінгу",131.53,163,{"$f":"Trixie!I$1475","v":0},{"$f":"Trixie!J$1475","v":0}]
[null,1111119475,2917,"Шампунь для котів і собак 1 л нейтральний","Більше 10","Косметика, засоби догляду для грумінгу",298.14,368,{"$f":"Trixie!I$1476","v":0},{"$f":"Trixie!J$1476","v":0}]
[null,12380,2907,"Шампунь для котів і собак 250 мл нейтральний","Більше 100","Косметика, засоби догляду для грумінгу",131.53,163,{"$f":"Trixie!I$1477","v":0},{"$f":"Trixie!J$1477","v":0}]
[null,1111119470,2910,"Шампунь для собак 1 л з олією макадамії й обліпихи","Більше 10","Косметика, засоби догляду для грумінгу",298.14,368,{"$f":"Trixie!I$1478","v":0},{"$f":"Trixie!J$1478","v":0}]
[null,1111138459,29198,"Шампунь для собак 250 мл  Skin Care","Менше 10","Косметика, засоби догляду для грумінгу",131.53,163,{"$f":"Trixie!I$1479","v":0},{"$f":"Trixie!J$1479","v":0}]
[null,1111138458,29197,"Шампунь для собак 250 мл  Two in one","Більше 10","Косметика, засоби догляду для грумінгу",131.53,163,{"$f":"Trixie!I$1480","v":0},{"$f":"Trixie!J$1480","v":0}]
[null,9728,2914,"Шампунь для собак 250 мл білого окрасу","Більше 100","Косметика, засоби догляду для грумінгу",131.53,163,{"$f":"Trixie!I$1481","v":0},{"$f":"Trixie!J$1481","v":0}]
[null,1111132057,2921,"Шампунь для собак 250 мл від ковтунів","Більше 10","Косметика, засоби догляду для грумінгу",131.53,163,{"$f":"Trixie!I$1482","v":0},{"$f":"Trixie!J$1482","v":0}]
[null,9922,2901,"Шампунь для собак 250 мл довгошерстих порід","Більше 10","Косметика, засоби догляду для грумінгу",131.53,163,{"$f":"Trixie!I$1483","v":0},{"$f":"Trixie!J$1483","v":0}]
[null,1111115314,2905,"Шампунь для собак 250 мл довгошерстих порід з кокосовою олією","Більше 10","Косметика, засоби догляду для грумінгу",131.53,163,{"$f":"Trixie!I$1484","v":0},{"$f":"Trixie!J$1484","v":0}]
[null,12663,2898,"Шампунь для собак 250 мл з алое вера","Більше 100","Косметика, засоби догляду для грумінгу",131.53,163,{"$f":"Trixie!I$1485","v":0},{"$f":"Trixie!J$1485","v":0}]
[null,1111137774,29195,"Шампунь для собак 250 мл з олією макадамії й обліпихи","Більше 10","Косметика, засоби догляду для грумінгу",131.53,163,{"$f":"Trixie!I$1486","v":0},{"$f":"Trixie!J$1486","v":0}]
[null,11731,2945,"Шампунь для собак 250 мл з олією чайного дерева","Більше 10","Косметика, засоби догляду для грумінгу",131.53,163,{"$f":"Trixie!I$1487","v":0},{"$f":"Trixie!J$1487","v":0}]
[null,11941,2942,"Шампунь для собак 250 мл зволожуючий з олією мелії","Більше 10","Косметика, засоби догляду для грумінгу",131.53,163,{"$f":"Trixie!I$1488","v":0},{"$f":"Trixie!J$1488","v":0}]
[null,1291,2899,"Шампунь для собак 250 мл медовий","Менше 10","Косметика, засоби догляду для грумінгу",131.53,163,{"$f":"Trixie!I$1489","v":0},{"$f":"Trixie!J$1489","v":0}]
[null,1111114673,2904,"Шампунь для собак 250 мл проти лупи","Більше 10","Косметика, засоби догляду для грумінгу",131.53,163,{"$f":"Trixie!I$1490","v":0},{"$f":"Trixie!J$1490","v":0}]
[null,9727,2915,"Шампунь для собак 250 мл чорного окрасу","Більше 10","Косметика, засоби догляду для грумінгу",131.53,163,{"$f":"Trixie!I$1491","v":0},{"$f":"Trixie!J$1491","v":0}]
[null,1111167885,29199,"Шампунь для собак з олією коноплі 250мл","Менше 10","Косметика, засоби догляду для грумінгу",136.34,169,{"$f":"Trixie!I$1492","v":0},{"$f":"Trixie!J$1492","v":0}]
[null,5681,29181,"Шампунь для собак і котів 100 гр сухий","Більше 10","Косметика, засоби догляду для грумінгу",102.72,127,{"$f":"Trixie!I$1493","v":0},{"$f":"Trixie!J$1493","v":0}]
[null,1111128596,29182,"Шампунь для собак і котів 200 гр сухий","Більше 10","Косметика, засоби догляду для грумінгу",155.34,192,{"$f":"Trixie!I$1494","v":0},{"$f":"Trixie!J$1494","v":0}]
[null,1111167886,25393,"Шампунь для собак проти бліх та кліщів 250мл","Більше 10","Косметика, засоби догляду для грумінгу",311.92,386,{"$f":"Trixie!I$1495","v":0},{"$f":"Trixie!J$1495","v":0}]
[null,1111119474,2916,"Шампунь для цуценят 1 л","Більше 10","Косметика, засоби догляду для грумінгу",298.14,368,{"$f":"Trixie!I$1496","v":0},{"$f":"Trixie!J$1496","v":0}]
[null,1111114574,2906,"Шампунь для цуценят 250 мл","Більше 100","Косметика, засоби догляду для грумінгу",131.53,163,{"$f":"Trixie!I$1497","v":0},{"$f":"Trixie!J$1497","v":0}]
[null,1111146935,29194,"Шампунь з апельсином 250 мл","Більше 10","Косметика, засоби догляду для грумінгу",131.53,163,{"$f":"Trixie!I$1498","v":0},{"$f":"Trixie!J$1498","v":0}]
[null,1111114675,2903,"Шампунь-кондиціонер для собак 250 мл","Немає в наявності","Косметика, засоби догляду для грумінгу",131.53,163,{"$f":"Trixie!I$1499","v":0},{"$f":"Trixie!J$1499","v":0}]
[null,1111115547,14321,"Шлея  Classic  M-L 50-75см/20мм нейлон чорна","Менше 10","Шлеї",184.86,228,{"$f":"Trixie!I$1500","v":0},{"$f":"Trixie!J$1500","v":0}]
[null,1111147400,14313,"Шлея  Classic , S-M 40-65см/15мм нейлон червона","Менше 10","Шлеї",132.87,164,{"$f":"Trixie!I$1501","v":0},{"$f":"Trixie!J$1501","v":0}]
[null,1111147378,14303,"Шлея  Classic , XS-S, 30-40 см / 10 мм, нейлон, червона","Більше 10","Шлеї",112.07,139,{"$f":"Trixie!I$1502","v":0},{"$f":"Trixie!J$1502","v":0}]
[null,1111134298,12233,"Шлея  Safer Life Silver  з лапками світловідбиваюча M-L 50-75см/25мм","Менше 10","Шлеї",523.63,647,{"$f":"Trixie!I$1503","v":0},{"$f":"Trixie!J$1503","v":0}]
[null,1111134297,12232,"Шлея  Safer Life Silver  з лапками світловідбиваюча S-M 40-65см/20мм","Більше 10","Шлеї",392.1,485,{"$f":"Trixie!I$1504","v":0},{"$f":"Trixie!J$1504","v":0}]
[null,1111134296,12231,"Шлея  Safer Life Silver  з лапками світловідбиваюча XS-S 30-40см/15мм","Більше 10","Шлеї",313.18,387,{"$f":"Trixie!I$1505","v":0},{"$f":"Trixie!J$1505","v":0}]
[null,1111148846,"203502 /20352","Шлея Premium нейлонова L-XL 75-100см/25мм синя","Менше 10","Шлеї",471.02,582,{"$f":"Trixie!I$1506","v":0},{"$f":"Trixie!J$1506","v":0}]
[null,1111150798,203917,"Шлея Premium туристична M:45–70см/25мм яскраво-зелена","Менше 10","Шлеї",458.7,567,{"$f":"Trixie!I$1507","v":0},{"$f":"Trixie!J$1507","v":0}]
[null,1111150807,204016,"Шлея Premium туристична M–L:50–80см/25мм графітова","Менше 10","Шлеї",497.32,614,{"$f":"Trixie!I$1508","v":0},{"$f":"Trixie!J$1508","v":0}]
[null,1111150802,204011,"Шлея Premium туристична M–L:50–80см/25мм фуксія","Менше 10","Шлеї",497.32,614,{"$f":"Trixie!I$1509","v":0},{"$f":"Trixie!J$1509","v":0}]
[null,1111150777,203716,"Шлея Premium туристична S:35–50см/20мм графітова","Менше 10","Шлеї",365.79,452,{"$f":"Trixie!I$1510","v":0},{"$f":"Trixie!J$1510","v":0}]
[null,1111150788,203817,"Шлея Premium туристична S–M:40–60см/20мм яскраво-зелена","Менше 10","Шлеї",361.64,447,{"$f":"Trixie!I$1511","v":0},{"$f":"Trixie!J$1511","v":0}]
[null,1111150767,203616,"Шлея Premium туристична XS–S:30–40см/15мм графітова","Менше 10","Шлеї",313.18,388,{"$f":"Trixie!I$1512","v":0},{"$f":"Trixie!J$1512","v":0}]
[null,1111150762,203611,"Шлея Premium туристична XS–S:30–40см/15мм фуксія","Менше 10","Шлеї",313.18,388,{"$f":"Trixie!I$1513","v":0},{"$f":"Trixie!J$1513","v":0}]
[null,1111147048,16278,"Шлея Soft м яка S 33-50см/20мм фуксія","Менше 10","Шлеї",576.24,712,{"$f":"Trixie!I$1514","v":0},{"$f":"Trixie!J$1514","v":0}]
[null,1111143743,16271,"Шлея Soft м яка S 33-50см/20мм чорна","Менше 10","Шлеї",576.24,712,{"$f":"Trixie!I$1515","v":0},{"$f":"Trixie!J$1515","v":0}]
[null,1111147052,16288,"Шлея Soft м яка S-M 35-60см/20мм фуксія","Менше 10","Шлеї",655.16,809,{"$f":"Trixie!I$1516","v":0},{"$f":"Trixie!J$1516","v":0}]
[null,1111147049,16283,"Шлея Soft м яка S-M 35-60см/20мм червона","Менше 10","Шлеї",655.16,809,{"$f":"Trixie!I$1517","v":0},{"$f":"Trixie!J$1517","v":0}]
[null,1111143744,16281,"Шлея Soft м яка S-M 35-60см/20мм чорна","Менше 10","Шлеї",655.16,809,{"$f":"Trixie!I$1518","v":0},{"$f":"Trixie!J$1518","v":0}]
[null,1111147044,16268,"Шлея Soft м яка XS-S 30-45см/15мм фуксія","Менше 10","Шлеї",497.32,614,{"$f":"Trixie!I$1519","v":0},{"$f":"Trixie!J$1519","v":0}]
[null,1111143742,16261,"Шлея Soft м яка XS-S 30-45см/15мм чорна","Менше 10","Шлеї",497.32,614,{"$f":"Trixie!I$1520","v":0},{"$f":"Trixie!J$1520","v":0}]
[null,1111147036,16248,"Шлея Soft м яка XXS-XS 25-35см/15мм фуксія","Менше 10","Шлеї",392.1,485,{"$f":"Trixie!I$1521","v":0},{"$f":"Trixie!J$1521","v":0}]
[null,1111147033,16243,"Шлея Soft м яка XXS-XS 25-35см/15мм червона","Менше 10","Шлеї",392.1,485,{"$f":"Trixie!I$1522","v":0},{"$f":"Trixie!J$1522","v":0}]
[null,1111143741,16251,"Шлея Soft м яка XXS-XS 28-40см/15мм чорна","Менше 10","Шлеї",444.71,549,{"$f":"Trixie!I$1523","v":0},{"$f":"Trixie!J$1523","v":0}]
[null,1111150873,204820,"Шлея-вісімка Premium XXS–XS:20–32см/10мм рожева","Менше 10","Шлеї",143.27000000000001,177,{"$f":"Trixie!I$1524","v":0},{"$f":"Trixie!J$1524","v":0}]
[null,1111147185,"204203 /20423","Шлея-вісімка Premium нейлон L-XL 70-100см/25мм червона","Менше 10","Шлеї",523.63,647,{"$f":"Trixie!I$1525","v":0},{"$f":"Trixie!J$1525","v":0}]
[null,1111148869,"203902 /20392","Шлея-вісімка Premium нейлонова M 45-70см/25мм синя","Менше 10","Шлеї",497.32,614,{"$f":"Trixie!I$1526","v":0},{"$f":"Trixie!J$1526","v":0}]
[null,1111148868,"203901 /20391","Шлея-вісімка Premium нейлонова M 45-70см/25мм чорна","Менше 10","Шлеї",497.32,614,{"$f":"Trixie!I$1527","v":0},{"$f":"Trixie!J$1527","v":0}]
[null,1111148876,"203702 /20372","Шлея-вісімка Premium нейлонова S 35-50см/20мм синя","Менше 10","Шлеї",365.79,452,{"$f":"Trixie!I$1528","v":0},{"$f":"Trixie!J$1528","v":0}]
[null,1111148877,"203703 /20373","Шлея-вісімка Premium нейлонова S 35-50см/20мм червона","Менше 10","Шлеї",365.79,452,{"$f":"Trixie!I$1529","v":0},{"$f":"Trixie!J$1529","v":0}]
[null,1111148884,"203803 /20383","Шлея-вісімка Premium нейлонова S-M 40-70см/20мм червона","Менше 10","Шлеї",392.1,485,{"$f":"Trixie!I$1530","v":0},{"$f":"Trixie!J$1530","v":0}]
[null,1111150757,203516,"Шлея-вісімка Premium, L–XL:75–120см/25мм графітова","Менше 10","Шлеї",471.02,581,{"$f":"Trixie!I$1531","v":0},{"$f":"Trixie!J$1531","v":0}]
[null,1111150755,203513,"Шлея-вісімка Premium, L–XL:75–120см/25мм індиго","Менше 10","Шлеї",434.43,536,{"$f":"Trixie!I$1532","v":0},{"$f":"Trixie!J$1532","v":0}]
[null,1111150759,203519,"Шлея-вісімка Premium, L–XL:75–120см/25мм оливкова","Менше 10","Шлеї",434.43,536,{"$f":"Trixie!I$1533","v":0},{"$f":"Trixie!J$1533","v":0}]
[null,1111150520,203403,"Шлея-вісімка Premium, M–L:50–75см/20мм червона","Менше 10","Шлеї",339.48,421,{"$f":"Trixie!I$1534","v":0},{"$f":"Trixie!J$1534","v":0}]
[null,1111150750,203416,"Шлея-вісімка Premium, M–L:52–75см/20мм графітова","Більше 10","Шлеї",339.48,421,{"$f":"Trixie!I$1535","v":0},{"$f":"Trixie!J$1535","v":0}]
[null,1111151096,203413,"Шлея-вісімка Premium, M–L:52–75см/20мм індиго","Більше 10","Шлеї",313.11,388,{"$f":"Trixie!I$1536","v":0},{"$f":"Trixie!J$1536","v":0}]
[null,1111150751,203418,"Шлея-вісімка Premium, M–L:52–75см/20мм папайя","Менше 10","Шлеї",313.11,388,{"$f":"Trixie!I$1537","v":0},{"$f":"Trixie!J$1537","v":0}]
[null,1111150747,203316,"Шлея-вісімка Premium, S–M:42–60см/15мм графітова","Більше 10","Шлеї",260.56,321,{"$f":"Trixie!I$1538","v":0},{"$f":"Trixie!J$1538","v":0}]
[null,1111151092,203313,"Шлея-вісімка Premium, S–M:42–60см/15мм індиго","Менше 10","Шлеї",216.06,266,{"$f":"Trixie!I$1539","v":0},{"$f":"Trixie!J$1539","v":0}]
[null,1111151141,203320,"Шлея-вісімка Premium, S–M:42–60см/15мм нейлон рожева","Менше 10","Шлеї",216.06,266,{"$f":"Trixie!I$1540","v":0},{"$f":"Trixie!J$1540","v":0}]
[null,1111151093,203318,"Шлея-вісімка Premium, S–M:42–60см/15мм папайя","Менше 10","Шлеї",216.06,266,{"$f":"Trixie!I$1541","v":0},{"$f":"Trixie!J$1541","v":0}]
[null,1111150739,203216,"Шлея-вісімка Premium, XS–S:30–44см/10мм графітова","Менше 10","Шлеї",207.95,257,{"$f":"Trixie!I$1542","v":0},{"$f":"Trixie!J$1542","v":0}]
[null,1111150742,203219,"Шлея-вісімка Premium, XS–S:30–44см/10мм оливкова","Менше 10","Шлеї",167.53,207,{"$f":"Trixie!I$1543","v":0},{"$f":"Trixie!J$1543","v":0}]
[null,1111150740,203218,"Шлея-вісімка Premium, XS–S:30–44см/10мм папайя","Менше 10","Шлеї",167.53,207,{"$f":"Trixie!I$1544","v":0},{"$f":"Trixie!J$1544","v":0}]
[null,1111150743,203220,"Шлея-вісімка Premium, XS–S:30–44см/10мм яскраво-рожева","Менше 10","Шлеї",167.53,207,{"$f":"Trixie!I$1545","v":0},{"$f":"Trixie!J$1545","v":0}]
[null,1111150870,204816,"Шлея-вісімка Premium, XXS–XS:20–32см/10мм графітова","Менше 10","Шлеї",181.64,224,{"$f":"Trixie!I$1546","v":0},{"$f":"Trixie!J$1546","v":0}]
[null,1111150868,204813,"Шлея-вісімка Premium, XXS–XS:20–32см/10мм індиго","Менше 10","Шлеї",143.27000000000001,177,{"$f":"Trixie!I$1547","v":0},{"$f":"Trixie!J$1547","v":0}]
[null,1111150872,204819,"Шлея-вісімка Premium, XXS–XS:20–32см/10мм оливкова","Менше 10","Шлеї",143.27000000000001,177,{"$f":"Trixie!I$1548","v":0},{"$f":"Trixie!J$1548","v":0}]
[null,1111163598,203724,"Шлея-вісімка Premium,S,35-65 см/20 мм, нейлон, м ятна","Менше 10","Шлеї",337.38,417,{"$f":"Trixie!I$1549","v":0},{"$f":"Trixie!J$1549","v":0}]
[null,1111148889,204601,"Шлея-зашморг Premium нейлонова L 65-80см/25мм чорна","Менше 10","Шлеї",442.2,546,{"$f":"Trixie!I$1550","v":0},{"$f":"Trixie!J$1550","v":0}]
[null,1111148897,204701,"Шлея-зашморг Premium нейлонова XL 80-100см/25мм чорна","Менше 10","Шлеї",513.61,634,{"$f":"Trixie!I$1551","v":0},{"$f":"Trixie!J$1551","v":0}]
[null,1111150528,204301,"Шлея-петля  Premium , XS-S, 30-40 см / 10 мм, чорна","Більше 10","Шлеї",207.95,257,{"$f":"Trixie!I$1552","v":0},{"$f":"Trixie!J$1552","v":0}]
[null,1111150856,204616,"Шлея-петля Premium, L:65–80см/25мм графітова","Менше 10","Шлеї",442.2,546,{"$f":"Trixie!I$1553","v":0},{"$f":"Trixie!J$1553","v":0}]
[null,1111150854,204613,"Шлея-петля Premium, L:65–80см/25мм індиго","Менше 10","Шлеї",407.86,504,{"$f":"Trixie!I$1554","v":0},{"$f":"Trixie!J$1554","v":0}]
[null,1111150855,204614,"Шлея-петля Premium, L:65–80см/25мм карамель","Менше 10","Шлеї",407.86,504,{"$f":"Trixie!I$1555","v":0},{"$f":"Trixie!J$1555","v":0}]
[null,1111150858,204619,"Шлея-петля Premium, L:65–80см/25мм оливкова","Менше 10","Шлеї",407.86,504,{"$f":"Trixie!I$1556","v":0},{"$f":"Trixie!J$1556","v":0}]
[null,1111150853,204611,"Шлея-петля Premium, L:65–80см/25мм фуксія","Менше 10","Шлеї",442.2,546,{"$f":"Trixie!I$1557","v":0},{"$f":"Trixie!J$1557","v":0}]
[null,1111150849,204516,"Шлея-петля Premium, M:50–65см/20мм графітова","Менше 10","Шлеї",305.66000000000003,377,{"$f":"Trixie!I$1558","v":0},{"$f":"Trixie!J$1558","v":0}]
[null,1111150847,204513,"Шлея-петля Premium, M:50–65см/20мм індиго","Менше 10","Шлеї",281.92,348,{"$f":"Trixie!I$1559","v":0},{"$f":"Trixie!J$1559","v":0}]
[null,1111150848,204514,"Шлея-петля Premium, M:50–65см/20мм карамель","Менше 10","Шлеї",281.92,348,{"$f":"Trixie!I$1560","v":0},{"$f":"Trixie!J$1560","v":0}]
[null,1111150851,204519,"Шлея-петля Premium, M:50–65см/20мм оливкова","Менше 10","Шлеї",281.92,348,{"$f":"Trixie!I$1561","v":0},{"$f":"Trixie!J$1561","v":0}]
[null,1111150535,204502,"Шлея-петля Premium, M:50–65см/20мм синя","Менше 10","Шлеї",305.66000000000003,377,{"$f":"Trixie!I$1562","v":0},{"$f":"Trixie!J$1562","v":0}]
[null,1111150846,204511,"Шлея-петля Premium, M:50–65см/20мм фуксія","Менше 10","Шлеї",305.66000000000003,377,{"$f":"Trixie!I$1563","v":0},{"$f":"Trixie!J$1563","v":0}]
[null,1111150536,204503,"Шлея-петля Premium, M:50–65см/20мм червона","Менше 10","Шлеї",305.66000000000003,377,{"$f":"Trixie!I$1564","v":0},{"$f":"Trixie!J$1564","v":0}]
[null,1111150534,204501,"Шлея-петля Premium, M:50–65см/20мм чорна","Менше 10","Шлеї",305.66000000000003,377,{"$f":"Trixie!I$1565","v":0},{"$f":"Trixie!J$1565","v":0}]
[null,1111150850,204517,"Шлея-петля Premium, M:50–65см/20мм яскраво-зелена","Менше 10","Шлеї",281.92,348,{"$f":"Trixie!I$1566","v":0},{"$f":"Trixie!J$1566","v":0}]
[null,1111150842,204416,"Шлея-петля Premium, S:40–50см/15мм графітова","Більше 10","Шлеї",253.05,311,{"$f":"Trixie!I$1567","v":0},{"$f":"Trixie!J$1567","v":0}]
[null,1111150841,204414,"Шлея-петля Premium, S:40–50см/15мм карамель","Менше 10","Шлеї",199.89,246,{"$f":"Trixie!I$1568","v":0},{"$f":"Trixie!J$1568","v":0}]
[null,1111150844,204419,"Шлея-петля Premium, S:40–50см/15мм оливкова","Менше 10","Шлеї",199.89,246,{"$f":"Trixie!I$1569","v":0},{"$f":"Trixie!J$1569","v":0}]
[null,1111150532,204402,"Шлея-петля Premium, S:40–50см/15мм синя","Менше 10","Шлеї",253.05,311,{"$f":"Trixie!I$1570","v":0},{"$f":"Trixie!J$1570","v":0}]
[null,1111150839,204411,"Шлея-петля Premium, S:40–50см/15мм фуксія","Менше 10","Шлеї",253.05,311,{"$f":"Trixie!I$1571","v":0},{"$f":"Trixie!J$1571","v":0}]
[null,1111150533,204403,"Шлея-петля Premium, S:40–50см/15мм червона","Більше 10","Шлеї",253.05,311,{"$f":"Trixie!I$1572","v":0},{"$f":"Trixie!J$1572","v":0}]
[null,1111150531,204401,"Шлея-петля Premium, S:40–50см/15мм чорна","Більше 10","Шлеї",253.05,311,{"$f":"Trixie!I$1573","v":0},{"$f":"Trixie!J$1573","v":0}]
[null,1111150843,204417,"Шлея-петля Premium, S:40–50см/15мм яскраво-зелена","Менше 10","Шлеї",199.89,246,{"$f":"Trixie!I$1574","v":0},{"$f":"Trixie!J$1574","v":0}]
[null,1111150836,204316,"Шлея-петля Premium, XS–S:30–40см/10мм графітова","Більше 10","Шлеї",207.95,257,{"$f":"Trixie!I$1575","v":0},{"$f":"Trixie!J$1575","v":0}]
[null,1111150834,204313,"Шлея-петля Premium, XS–S:30–40см/10мм індиго","Менше 10","Шлеї",181.4,224,{"$f":"Trixie!I$1576","v":0},{"$f":"Trixie!J$1576","v":0}]
[null,1111150835,204314,"Шлея-петля Premium, XS–S:30–40см/10мм карамель","Більше 10","Шлеї",181.4,224,{"$f":"Trixie!I$1577","v":0},{"$f":"Trixie!J$1577","v":0}]
[null,1111150838,204319,"Шлея-петля Premium, XS–S:30–40см/10мм оливкова","Менше 10","Шлеї",181.4,224,{"$f":"Trixie!I$1578","v":0},{"$f":"Trixie!J$1578","v":0}]
[null,1111150529,204302,"Шлея-петля Premium, XS–S:30–40см/10мм синя","Менше 10","Шлеї",207.95,257,{"$f":"Trixie!I$1579","v":0},{"$f":"Trixie!J$1579","v":0}]
[null,1111150833,204311,"Шлея-петля Premium, XS–S:30–40см/10мм фуксія","Менше 10","Шлеї",207.95,257,{"$f":"Trixie!I$1580","v":0},{"$f":"Trixie!J$1580","v":0}]
[null,1111150530,204303,"Шлея-петля Premium, XS–S:30–40см/10мм червона","Менше 10","Шлеї",207.95,257,{"$f":"Trixie!I$1581","v":0},{"$f":"Trixie!J$1581","v":0}]
[null,1111150837,204317,"Шлея-петля Premium, XS–S:30–40см/10мм яскраво-зелена","Менше 10","Шлеї",181.4,224,{"$f":"Trixie!I$1582","v":0},{"$f":"Trixie!J$1582","v":0}]
[null,1111134466,2297,"Щипці-крючок для витягання кліщів пластикові 6,5 см","Більше 10","Інструменти для видалення кліщів",65.14,80,{"$f":"Trixie!I$1583","v":0},{"$f":"Trixie!J$1583","v":0}]
[null,1111165534,24053,"Щітка Trixie для шерсті двостороння нейлон/метал/пластик 5*12см","Менше 10","Аксесуари для грумінгу",191.8,237,{"$f":"Trixie!I$1584","v":0},{"$f":"Trixie!J$1584","v":0}]
[null,1111113774,2322,"Щітка д/Соб.таКот.двост.кругл.зНейл./метал.щетин.дерев.5*17см арт.2322","Більше 10","Аксесуари для грумінгу",129.03,159,{"$f":"Trixie!I$1585","v":0},{"$f":"Trixie!J$1585","v":0}]
[null,9746,2333,"Щітка для собак гумова м яка 9?13 см","Більше 10","Аксесуари для грумінгу",207.95,257,{"$f":"Trixie!I$1586","v":0},{"$f":"Trixie!J$1586","v":0}]
[null,12274,2336,"Щітка для собак гумова меланж 9?13 см","Немає в наявності","Аксесуари для грумінгу",191.66,236,{"$f":"Trixie!I$1587","v":0},{"$f":"Trixie!J$1587","v":0}]
[null,12129,2330,"Щітка для тер єра з кульками 7?12 см","Більше 10","Аксесуари для грумінгу",129.03,159,{"$f":"Trixie!I$1588","v":0},{"$f":"Trixie!J$1588","v":0}]
[null,4701,2335,"Щітка-рукавиця  Handy Pet","Більше 10","Аксесуари для грумінгу",115.25,142,{"$f":"Trixie!I$1589","v":0},{"$f":"Trixie!J$1589","v":0}]
[null,1111134531,23391,"Щітка-рукавиця 18?24 см","Більше 10","Аксесуари для грумінгу",115.25,143,{"$f":"Trixie!I$1590","v":0},{"$f":"Trixie!J$1590","v":0}]
[null,12275,2334,"Щітка-рукавиця для собак гумова масажна 12?20 см","Більше 10","Аксесуари для грумінгу",219.53,271,{"$f":"Trixie!I$1591","v":0},{"$f":"Trixie!J$1591","v":0}]
[null,1111135345,23392,"Щітка-рукавиця із кульками 18?24 см","Більше 10","Аксесуари для грумінгу",207.95,257,{"$f":"Trixie!I$1592","v":0},{"$f":"Trixie!J$1592","v":0}]
[null,1111183267,42754,"Юніор Лосось Хмари 40 г","Більше 100","Ласощі для котів",65.14,85,{"$f":"Trixie!I$1593","v":0},{"$f":"Trixie!J$1593","v":0}]
[null,1111137330,33032,"Algin 50 мл боротьба з зеленими водорост.","Менше 10","Засоби для догляду за акваріумом, живими рослинами, його мешканцями",121.5,164,{"$f":"Tropical!I$8","v":0},{"$f":"Tropical!J$8","v":0}]
[null,13109,34301,"Bactro Аctive 30 мл живі культури бактерій","Більше 10","Засоби для догляду за акваріумом, живими рослинами, його мешканцями",99.41,134,{"$f":"Tropical!I$9","v":0},{"$f":"Tropical!J$9","v":0}]
[null,1111130542,61441,"Betta granulat 10 г гранули основний корм для півників","Більше 10","Корм сухий для риб",72.290000000000006,98,{"$f":"Tropical!I$10","v":0},{"$f":"Tropical!J$10","v":0}]
[null,1111130534,11366,"Biorept W 1 л /300g","Менше 10","Корм сухий для черепах і рептилій",406.68,549,{"$f":"Tropical!I$11","v":0},{"$f":"Tropical!J$11","v":0}]
[null,1111129777,11363,"Biorept W 100 мл /30g","Більше 10","Корм сухий для черепах і рептилій",86.35,117,{"$f":"Tropical!I$12","v":0},{"$f":"Tropical!J$12","v":0}]
[null,1111113184,11341,"Biorept W 20g","Більше 10","Корм сухий для черепах і рептилій",53.22,72,{"$f":"Tropical!I$13","v":0},{"$f":"Tropical!J$13","v":0}]
[null,1111130533,11364,"Biorept W 250 мл /75 г","Більше 10","Корм сухий для черепах і рептилій",173.71,235,{"$f":"Tropical!I$14","v":0},{"$f":"Tropical!J$14","v":0}]
[null,23111,11368,"Biorept W 5 л /1,5 кг","Менше 10","Корм сухий для черепах і рептилій",1555.41,2100,{"$f":"Tropical!I$15","v":0},{"$f":"Tropical!J$15","v":0}]
[null,1111129378,11365,"Biorept W 500 мл /150g","Менше 10","Корм сухий для черепах і рептилій",294.22000000000003,397,{"$f":"Tropical!I$16","v":0},{"$f":"Tropical!J$16","v":0}]
[null,1111116001,74411,"Bio-vit 12 г пластівці рослинний корм","Більше 10","Корм сухий для риб",44.18,60,{"$f":"Tropical!I$17","v":0},{"$f":"Tropical!J$17","v":0}]
[null,1111111133,74419,"Bio-vit 21л/4кг пластівці рослинний корм","Менше 10","Корм сухий для риб",3856.89,5207,{"$f":"Tropical!I$18","v":0},{"$f":"Tropical!J$18","v":0}]
[null,1111131045,"63536_ord","Cichlid  and Arowana Large Sticks 1л/300г з астаксантином","Менше 10","Корм сухий для риб",528.17999999999995,713,{"$f":"Tropical!I$19","v":0},{"$f":"Tropical!J$19","v":0}]
[null,1111132893,63529,"Cichlid  and Arowana Medium Sticks 10 л з астаксантином","Менше 10","Корм сухий для риб",4167.17,5626,{"$f":"Tropical!I$20","v":0},{"$f":"Tropical!J$20","v":0}]
[null,1111132683,63526,"Cichlid  and Arowana Medium Sticks 1л/360г з астаксантином","Менше 10","Корм сухий для риб",605.49,817,{"$f":"Tropical!I$21","v":0},{"$f":"Tropical!J$21","v":0}]
[null,1111131043,"63736_ord","Cichlid Red and Green Large ST. 1л/300г для цихлід","Менше 10","Корм сухий для риб",541.23,731,{"$f":"Tropical!I$22","v":0},{"$f":"Tropical!J$22","v":0}]
[null,1111131044,63726,"Cichlid Red and Green Medium ST. 1л/360г для цихлід","Менше 10","Корм сухий для риб",621.57000000000005,839,{"$f":"Tropical!I$23","v":0},{"$f":"Tropical!J$23","v":0}]
[null,1111137678,32182,"CMF 50 мл протигрибковий і антибактиріальний препарат","Більше 10","Засоби для догляду за акваріумом, живими рослинами, його мешканцями",121.5,164,{"$f":"Tropical!I$24","v":0},{"$f":"Tropical!J$24","v":0}]
[null,1111131054,60474,"Goldfish colour pellet 250мл/90г д/золотих риб і Коі","Менше 10","Корм сухий для риб",188.78,255,{"$f":"Tropical!I$25","v":0},{"$f":"Tropical!J$25","v":0}]
[null,1111129380,66428,"Green algae wafers 5л/2,25кг д/анциструс. птеригопліхт.","Менше 10","Корм сухий для риб",3313.65,4473,{"$f":"Tropical!I$26","v":0},{"$f":"Tropical!J$26","v":0}]
[null,1111138229,77003,"Ichtio-vit 100мл/20г пластівці д/усіх видів риб","Більше 10","Корм сухий для риб",78.319999999999993,106,{"$f":"Tropical!I$27","v":0},{"$f":"Tropical!J$27","v":0}]
[null,1111117072,74401,"Ichtio-vit 12 г пластівці д/усіх видів риб","Більше 10","Корм сухий для риб",44.18,60,{"$f":"Tropical!I$28","v":0},{"$f":"Tropical!J$28","v":0}]
[null,1111138230,77004,"Ichtio-vit 250мл/50г пластівці д/усіх видів риб","Менше 10","Корм сухий для риб",135.56,183,{"$f":"Tropical!I$29","v":0},{"$f":"Tropical!J$29","v":0}]
[null,1111138231,77005,"Ichtio-vit 500мл/100г пластівці д/усіх видів риб","Менше 10","Корм сухий для риб",218.9,296,{"$f":"Tropical!I$30","v":0},{"$f":"Tropical!J$30","v":0}]
[null,1111143140,40656,"KOI  and  Gold COLOR ST. 10 л/800g","Немає в наявності","Корм сухий для ставкових риб",470.94,636,{"$f":"Tropical!I$31","v":0},{"$f":"Tropical!J$31","v":0}]
[null,1111143005,40352,"KOI  and  Gold COLOR ST. 50 л/4 кг","Немає в наявності","Корм сухий для ставкових риб",1791.38,2418,{"$f":"Tropical!I$32","v":0},{"$f":"Tropical!J$32","v":0}]
[null,1111113194,74431,"Ovo-vit 12 г пластівці з яєчним жовтком","Більше 10","Корм сухий для риб",44.18,60,{"$f":"Tropical!I$33","v":0},{"$f":"Tropical!J$33","v":0}]
[null,1111138358,77036,"Ovo-vit 1л/200г пластівці з яєчним жовтком","Менше 10","Корм сухий для риб",388.6,525,{"$f":"Tropical!I$34","v":0},{"$f":"Tropical!J$34","v":0}]
[null,1111111135,74439,"Ovo-vit 21л/4кг пластівці з яєчним жовтком","Менше 10","Корм сухий для риб",3856.89,5207,{"$f":"Tropical!I$35","v":0},{"$f":"Tropical!J$35","v":0}]
[null,1111143139,40311,"Pond ST. MIXED 50 л/4 кг","Більше 10","Корм сухий для ставкових риб",1791.38,2418,{"$f":"Tropical!I$36","v":0},{"$f":"Tropical!J$36","v":0}]
[null,1111131064,63363,"SHRIMP ST. 100мл/55г палички для ракоподібних","Більше 10","Корм сухий для риб",175.73,237,{"$f":"Tropical!I$37","v":0},{"$f":"Tropical!J$37","v":0}]
[null,1111130540,61401,"SuperVit Granulat 10 г гранули д/імунітету","Менше 10","Корм сухий для риб",35.15,47,{"$f":"Tropical!I$38","v":0},{"$f":"Tropical!J$38","v":0}]
[null,1111130541,61421,"SuperVit MINI Granulat 10 г гранули д/імунітету","Більше 10","Корм сухий для риб",36.15,49,{"$f":"Tropical!I$39","v":0},{"$f":"Tropical!J$39","v":0}]
[null,1111111134,74429,"Tropical 21л/4кг пластівці з висок. вмістом білка","Менше 10","Корм сухий для риб",3856.89,5207,{"$f":"Tropical!I$40","v":0},{"$f":"Tropical!J$40","v":0}]
[null,1111130537,60463,"Welsi Gran 100мл/55г тонучі гранули для донних риб","Менше 10","Корм сухий для риб",138.57,187,{"$f":"Tropical!I$41","v":0},{"$f":"Tropical!J$41","v":0}]
[null,1111174059,"13011_ord","БальзамД/догл.заШкір.таОчимаРептил.Ophtalvit-A Chelonia 15мл арт.13011","Більше 10","Засоби для догляду за тераріумом і його мешканцями",338.39,457,{"$f":"Tropical!I$42","v":0},{"$f":"Tropical!J$42","v":0}]
[null,1111182158,"34305_ord","Засіб для акваріума  Bacto-Active 250мл","Менше 10","Засоби для догляду за акваріумом, живими рослинами, його мешканцями",406.68,549,{"$f":"Tropical!I$43","v":0},{"$f":"Tropical!J$43","v":0}]
[null,1111182156,"34065_ord","Засіб для акваріума Antychlor 250мл","Менше 10","Засоби для догляду за акваріумом, живими рослинами, його мешканцями",352.45,476,{"$f":"Tropical!I$44","v":0},{"$f":"Tropical!J$44","v":0}]
[null,1111182157,"34015_ord","Засіб для акваріума Esklarin 250мл","Менше 10","Засоби для догляду за акваріумом, живими рослинами, його мешканцями",352.45,476,{"$f":"Tropical!I$45","v":0},{"$f":"Tropical!J$45","v":0}]
[null,1111182154,"34115_ord","Засіб для ставка Antychlor Pond 250мл","Менше 10","Засоби для догляду за ставком, рослинами та його мешканцями",317.3,428,{"$f":"Tropical!I$46","v":0},{"$f":"Tropical!J$46","v":0}]
[null,1111182155,"33148_ord","Засіб для ставка Blue Guard Pond 2л","Менше 10","Засоби для догляду за ставком, рослинами та його мешканцями",3021.45,4079,{"$f":"Tropical!I$47","v":0},{"$f":"Tropical!J$47","v":0}]
[null,1111144272,"60716_ord","Корм Tropical д/Цихлід-папугRedParrot гранулят пос.забарвл.1000мл/400г","Менше 10","Корм сухий для риб",643.66,869,{"$f":"Tropical!I$48","v":0},{"$f":"Tropical!J$48","v":0}]
[null,1111131063,"11353_ord","Корм Tropical для рептилій Біорепт Л у вигляді гранул 100мл/28г","Менше 10","Корм сухий для черепах і рептилій",86.35,117,{"$f":"Tropical!I$49","v":0},{"$f":"Tropical!J$49","v":0}]
[null,1111131057,"11354_ord","Корм Tropical для рептилій Біорепт Л у вигляді гранул 250мл/70г","Менше 10","Корм сухий для черепах і рептилій",173.71,235,{"$f":"Tropical!I$50","v":0},{"$f":"Tropical!J$50","v":0}]
[null,1111171131,"61618_ord","Корм для дискусів D-50 Plus у вигляді грануляту 2,2кг/5л арт.61618","Менше 10","Корм сухий для риб",2279.39,2279.39,{"$f":"Tropical!I$51","v":0},{"$f":"Tropical!J$51","v":0}]
[null,1111182152,"63558_ord","Корм для риб Tropical  Red Mico Colour Sticks 1,7кг","Менше 10","Корм сухий для риб",3593.81,3593.81,{"$f":"Tropical!I$52","v":0},{"$f":"Tropical!J$52","v":0}]
[null,1111181358,"34335_ord","Препарат Tropical Supreme д/підгот.водопровід.води алоє концент.250мл","Менше 10","Засоби для догляду за акваріумом, живими рослинами, його мешканцями",352.45,476,{"$f":"Tropical!I$53","v":0},{"$f":"Tropical!J$53","v":0}]
[null,1111166053,171548,"Carnilove True Fresh BEEF з яловичиною для собак, 1.4 кг","Більше 10","Корм сухий для собак",726.72,1126,{"$f":"'True Fresh'!I$8","v":0},{"$f":"'True Fresh'!J$8","v":0}]
[null,1111167496,171549,"Carnilove True Fresh BEEF яловичина для дорослих собак, 4 кг","Менше 10","Корм сухий для собак",1807.61,2802,{"$f":"'True Fresh'!I$9","v":0},{"$f":"'True Fresh'!J$9","v":0}]
[null,1111174829,172163,"Carnilove True Fresh Cat Fresh Chicken д/дорослих котів курка 1,8 кг","Менше 10","Корм сухий для котів",683.19,1059,{"$f":"'True Fresh'!I$10","v":0},{"$f":"'True Fresh'!J$10","v":0}]
[null,1111174828,172162,"Carnilove True Fresh Cat Fresh Chicken д/дорослих котів курка 340 г","Більше 10","Корм сухий для котів",199.35,309,{"$f":"'True Fresh'!I$11","v":0},{"$f":"'True Fresh'!J$11","v":0}]
[null,1111174830,172164,"Carnilove True Fresh Cat Fresh Chicken д/дорослих котів курка 4,8 кг","Менше 10","Корм сухий для котів",1612.26,2499,{"$f":"'True Fresh'!I$12","v":0},{"$f":"'True Fresh'!J$12","v":0}]
[null,1111174824,172157,"Carnilove True Fresh Cat Fresh Fish д/дорослих котів риба 1,8 кг","Більше 10","Корм сухий для котів",772.09,1197,{"$f":"'True Fresh'!I$13","v":0},{"$f":"'True Fresh'!J$13","v":0}]
[null,1111174823,172156,"Carnilove True Fresh Cat Fresh Fish д/дорослих котів риба 340 г","Більше 10","Корм сухий для котів",218.71,339,{"$f":"'True Fresh'!I$14","v":0},{"$f":"'True Fresh'!J$14","v":0}]
[null,1111174825,172158,"Carnilove True Fresh Cat Fresh Fish д/дорослих котів риба 4,8 кг","Менше 10","Корм сухий для котів",1825.16,2829,{"$f":"'True Fresh'!I$15","v":0},{"$f":"'True Fresh'!J$15","v":0}]
[null,1111174827,172160,"Carnilove True Fresh Cat Fresh Turkey д/дорослих котів індичка 1,8 кг","Менше 10","Корм сухий для котів",683.19,1059,{"$f":"'True Fresh'!I$16","v":0},{"$f":"'True Fresh'!J$16","v":0}]
[null,1111174826,172159,"Carnilove True Fresh Cat Fresh Turkey д/дорослих котів індичка 340 г","Менше 10","Корм сухий для котів",199.35,309,{"$f":"'True Fresh'!I$17","v":0},{"$f":"'True Fresh'!J$17","v":0}]
[null,1111182589,172138,"Carnilove True Fresh Fish Adult Small Breed д/малих порід риба 11,4кг","Менше 10","Корм сухий для собак",3354.11,5199,{"$f":"'True Fresh'!I$18","v":0},{"$f":"'True Fresh'!J$18","v":0}]
[null,1111182588,172137,"Carnilove True Fresh Fish Adult Small Breed д/малих порід риба 4кг","Більше 10","Корм сухий для собак",1547.72,2399,{"$f":"'True Fresh'!I$19","v":0},{"$f":"'True Fresh'!J$19","v":0}]
[null,1111182587,172136,"Carnilove True Fresh Fish Small Breed д/малих порід риба 1,4кг","Більше 100","Корм сухий для собак",580,899,{"$f":"'True Fresh'!I$20","v":0},{"$f":"'True Fresh'!J$20","v":0}]
[null,1111166052,171545,"Carnilove True Fresh FISH з рибою для собак, 1,4 кг","Більше 10","Корм сухий для собак",686.48,1064,{"$f":"'True Fresh'!I$21","v":0},{"$f":"'True Fresh'!J$21","v":0}]
[null,1111167495,171547,"Carnilove True Fresh FISH риба для дорослих собак, 11,4 кг","Менше 10","Корм сухий для собак",3804.94,5898,{"$f":"'True Fresh'!I$22","v":0},{"$f":"'True Fresh'!J$22","v":0}]
[null,1111167494,171546,"Carnilove True Fresh FISH риба для дорослих собак, 4 кг","Більше 10","Корм сухий для собак",1716.77,2661,{"$f":"'True Fresh'!I$23","v":0},{"$f":"'True Fresh'!J$23","v":0}]
[null,1111182584,172074,"Carnilove True Fresh Turkey Puppy д/цуценят індичка 1,4кг","Більше 100","Корм сухий для собак",580.01,899,{"$f":"'True Fresh'!I$24","v":0},{"$f":"'True Fresh'!J$24","v":0}]
[null,1111182586,172076,"Carnilove True Fresh Turkey Puppy д/цуценят індичка 11,4кг","Більше 10","Корм сухий для собак",3225.16,4999,{"$f":"'True Fresh'!I$25","v":0},{"$f":"'True Fresh'!J$25","v":0}]
[null,1111166051,171542,"Carnilove True Fresh TURKEY з індичкою для собак, 1,4 кг","Немає в наявності","Корм сухий для собак",686.48,1064,{"$f":"'True Fresh'!I$26","v":0},{"$f":"'True Fresh'!J$26","v":0}]
[null,1111167493,171544,"Carnilove True Fresh TURKEY індичка для дорослих собак, 11,4 кг","Немає в наявності","Корм сухий для собак",3804.94,5898,{"$f":"'True Fresh'!I$27","v":0},{"$f":"'True Fresh'!J$27","v":0}]
[null,1111182595,172161,"Корм сухий Carnilove True Fresh Turkey д/котів індичка 4,8кг","Менше 10","Корм сухий для котів",1612.21,2499,{"$f":"'True Fresh'!I$28","v":0},{"$f":"'True Fresh'!J$28","v":0}]
[null,1111166864,35291,"Корм Vitakraft для котів Poésie Délice pouch індичка в соусі 85г","Більше 10","Корм вологий для котів",40.24,52,{"$f":"Vitakraft!I$8","v":0},{"$f":"Vitakraft!J$8","v":0}]
[null,1111166866,35284,"Корм Vitakraft для котів Poésie Délice pouch курка в соусі 85г","Більше 10","Корм вологий для котів",40.24,52,{"$f":"Vitakraft!I$9","v":0},{"$f":"Vitakraft!J$9","v":0}]
[null,1111166865,35289,"Корм Vitakraft для котів Poésie Délice pouch сердечки у соусі  85г","Більше 10","Корм вологий для котів",40.24,52,{"$f":"Vitakraft!I$10","v":0},{"$f":"Vitakraft!J$10","v":0}]
[null,1111142798,"31455/33745","Корм д/кроликів Emotion Beauty 600 г","Більше 10","Корм для гризунів",272.83,382,{"$f":"Vitakraft!I$11","v":0},{"$f":"Vitakraft!J$11","v":0}]
[null,7397,21643,"Корм для американських папуг Amazonia 750 г","Менше 10","Корм для птахів",284.22000000000003,398,{"$f":"Vitakraft!I$12","v":0},{"$f":"Vitakraft!J$12","v":0}]
[null,7398,21640,"Корм для жако і африканських папуг 750 г","Більше 10","Корм для птахів",262.93,367,{"$f":"Vitakraft!I$13","v":0},{"$f":"Vitakraft!J$13","v":0}]
[null,13263,"21446 /21447","Корм для канарок Menu 500 г","Більше 10","Корм для птахів",133.83000000000001,188,{"$f":"Vitakraft!I$14","v":0},{"$f":"Vitakraft!J$14","v":0}]
[null,1111111810,29219,"Корм для кроликів Menu 1 кг","Більше 10","Корм для гризунів",226.9,317,{"$f":"Vitakraft!I$15","v":0},{"$f":"Vitakraft!J$15","v":0}]
[null,1111117983,25542,"Корм для кроликів Menu 3 кг","Менше 10","Корм для гризунів",550.11,771,{"$f":"Vitakraft!I$16","v":0},{"$f":"Vitakraft!J$16","v":0}]
[null,1111119041,25246,"Корм для кроликів Pellets 1 кг","Більше 100","Корм для гризунів",202.1,283,{"$f":"Vitakraft!I$17","v":0},{"$f":"Vitakraft!J$17","v":0}]
[null,1111119052,25314,"Корм для кроликів Vita Special 600 г","Більше 100","Корм для гризунів",210.66,295,{"$f":"Vitakraft!I$18","v":0},{"$f":"Vitakraft!J$18","v":0}]
[null,1111111809,"29220/25582","Корм для морських свинок Menu 1 кг","Більше 10","Корм для гризунів",230.78,323,{"$f":"Vitakraft!I$19","v":0},{"$f":"Vitakraft!J$19","v":0}]
[null,1111111808,"10646/25583","Корм для морських свинок Menu 400 г","Немає в наявності","Корм для гризунів",98.57,139,{"$f":"Vitakraft!I$20","v":0},{"$f":"Vitakraft!J$20","v":0}]
[null,1111121971,25311,"Корм для морських свинок Vita Special 600 г","Більше 10","Корм для гризунів",206.67,290,{"$f":"Vitakraft!I$21","v":0},{"$f":"Vitakraft!J$21","v":0}]
[null,10054,21641,"Корм для нерозлучників і дрібних африканських папуг 750 г","Більше 10","Корм для птахів",276.94,388,{"$f":"Vitakraft!I$22","v":0},{"$f":"Vitakraft!J$22","v":0}]
[null,6081,21003,"Корм для німф Menu 1 кг","Немає в наявності","Корм для птахів",212.09,297,{"$f":"Vitakraft!I$23","v":0},{"$f":"Vitakraft!J$23","v":0}]
[null,1111143687,"31462/33758","Корм для шиншил Emotion Beauty 600 г","Немає в наявності","Корм для гризунів",274.12,384,{"$f":"Vitakraft!I$24","v":0},{"$f":"Vitakraft!J$24","v":0}]
[null,311999,25076,"Корм для шиншил Pellets 1 кг","Більше 10","Корм для гризунів",115.08,162,{"$f":"Vitakraft!I$25","v":0},{"$f":"Vitakraft!J$25","v":0}]
[null,11740,"25326 /25847","Корм для шиншил Vita Reg 600 г","Більше 10","Корм для гризунів",212.55,298,{"$f":"Vitakraft!I$26","v":0},{"$f":"Vitakraft!J$26","v":0}]
[null,6276,"21294 Vitakraft","Крекер Vitakraft в період линьки для ари, (2 шт.)","Більше 10","Ласощі для птахів",151.12,212,{"$f":"Vitakraft!I$27","v":0},{"$f":"Vitakraft!J$27","v":0}]
[null,1111111806,21221,"Крекер Vitakraft в період линьки для канарок, (2 шт.)","Більше 10","Ласощі для птахів",55.36,77,{"$f":"Vitakraft!I$28","v":0},{"$f":"Vitakraft!J$28","v":0}]
[null,12148,21237,"Крекер Vitakraft з інжиром, бананом і ківі для папуг, (3 шт.)","Більше 10","Ласощі для птахів",97.11,138,{"$f":"Vitakraft!I$29","v":0},{"$f":"Vitakraft!J$29","v":0}]
[null,1111112226,25062,"Крекер Vitakraft з кальцієм для шиншил, (2 шт.)","Менше 10","Ласощі для гризунів",106.47,151,{"$f":"Vitakraft!I$30","v":0},{"$f":"Vitakraft!J$30","v":0}]
[null,1111121124,"25227 Vitakraft","Крекер Vitakraft з овоч, горіх, лісов. ягодами для кроликів, (3 шт)","Більше 10","Ласощі для гризунів",136.49,193,{"$f":"Vitakraft!I$31","v":0},{"$f":"Vitakraft!J$31","v":0}]
[null,6280,"21264 /26231","Крекер Vitakraft з фруктами для папуг, (2 шт.)","Більше 10","Ласощі для птахів",62.54,87,{"$f":"Vitakraft!I$32","v":0},{"$f":"Vitakraft!J$32","v":0}]
[null,1111117991,25140,"Крекер Vitakraft зерно+фрукти для пацючків, (2 шт.)","Більше 10","Ласощі для гризунів",105.49,147,{"$f":"Vitakraft!I$33","v":0},{"$f":"Vitakraft!J$33","v":0}]
[null,6562,21289,"Крекер Vitakraft фруктовий для великих австралійських папуг, (2 шт.)","Більше 10","Ласощі для птахів",175.25,246,{"$f":"Vitakraft!I$34","v":0},{"$f":"Vitakraft!J$34","v":0}]
[null,7409,21265,"Крекер Vitakraft яєчний для канарок, (2 шт.)","Більше 10","Ласощі для птахів",63.65,90,{"$f":"Vitakraft!I$35","v":0},{"$f":"Vitakraft!J$35","v":0}]
[null,1111166870,28823,"Ласощі Vitakraft для котів Yums лосось та Омега 3 40г","Більше 10","Ласощі для котів",93.05,131,{"$f":"Vitakraft!I$36","v":0},{"$f":"Vitakraft!J$36","v":0}]
[null,1111128662,24192,"Палички м ясні Vitakraft для котів індичка та ягня 3шт х 6г","Більше 100","Ласощі для котів",68.22,96,{"$f":"Vitakraft!I$37","v":0},{"$f":"Vitakraft!J$37","v":0}]
[null,1111166867,31218,"Палички м ясні Vitakraft для котів камбала та Омега 3шт х 6г","Більше 10","Ласощі для котів",68.22,96,{"$f":"Vitakraft!I$38","v":0},{"$f":"Vitakraft!J$38","v":0}]
[null,1111121398,24190,"Палички м ясні Vitakraft для котів качка та кролик 3шт х 6г","Більше 100","Ласощі для котів",68.22,96,{"$f":"Vitakraft!I$39","v":0},{"$f":"Vitakraft!J$39","v":0}]
[null,9819,15010,"Пісок для шиншил Sandy 1 кг","Менше 10","Пісок для птахів і гризунів",198.22,278,{"$f":"Vitakraft!I$40","v":0},{"$f":"Vitakraft!J$40","v":0}]
[null,1111166859,28813,"Подушечки Vitakraft для котів Crispy Crunch м ята для зубів 60г","Більше 100","Ласощі для котів",80.599999999999994,112,{"$f":"Vitakraft!I$41","v":0},{"$f":"Vitakraft!J$41","v":0}]
[null,1111119069,25692,"Суміш Vitakraft трав_яна з подорожником і конюшиною для гризунів, 70 г","Більше 10","Ласощі для гризунів",144.75,204,{"$f":"Vitakraft!I$42","v":0},{"$f":"Vitakraft!J$42","v":0}]
[null,1111169755,"WA00002","Килимок-годівниця WahoPet для собак сова силіконова жовта арт.WA00002","Менше 10","Миски",270.51,378,{"$f":"WahoPet!I$8","v":0},{"$f":"WahoPet!J$8","v":0}]
[null,1111169754,"WA00001","Килимок-годівниця WahoPet для собак сова силіконова м’ятна арт.WA00001","Менше 10","Миски",270.51,311,{"$f":"WahoPet!I$9","v":0},{"$f":"WahoPet!J$9","v":0}]
[null,1111172305,"WA00019","Миска WahoPet для котів з рибками пластикова помаранчова арт.WA00019","Менше 10","Миски",164.16,213,{"$f":"WahoPet!I$10","v":0},{"$f":"WahoPet!J$10","v":0}]
[null,1111172304,"WA00018","Миска WahoPet для котів з рибками пластиковаблакитна арт.WA00018","Менше 10","Миски",180.58,234,{"$f":"WahoPet!I$11","v":0},{"$f":"WahoPet!J$11","v":0}]
[null,1111172303,"WA00017","Миска WahoPet для собак пластикова блакитна арт.WA00017","Менше 10","Миски",197.3,256,{"$f":"WahoPet!I$12","v":0},{"$f":"WahoPet!J$12","v":0}]
[null,1111169759,"WA00006","Миска-лабіринт WahoPet для собак зірка пластиков коричнева арт.WA00006","Менше 10","Миски",201.96,283,{"$f":"WahoPet!I$13","v":0},{"$f":"WahoPet!J$13","v":0}]
[null,1111169758,"WA00005","Миска-лабіринт WahoPet для собак зірка пластикова жовта арт.WA00005","Менше 10","Миски",201.96,283,{"$f":"WahoPet!I$14","v":0},{"$f":"WahoPet!J$14","v":0}]
[null,1111169761,"WA00008","Миска-лабіринт WahoPet для собак пластикова зелена арт.WA00008","Менше 10","Миски",200.64,261,{"$f":"WahoPet!I$15","v":0},{"$f":"WahoPet!J$15","v":0}]
[null,1111169762,"WA00009","Миска-лабіринт WahoPet для собак пластикова коричнева арт.WA00009","Менше 10","Миски",200.64,261,{"$f":"WahoPet!I$16","v":0},{"$f":"WahoPet!J$16","v":0}]
[null,1111170829,"DU-05B","Yalute Baked duck strip запечені качині смужки для собак, 100 г","Більше 10","Ласощі для собак",80.290000000000006,113,{"$f":"Yalute!I$8","v":0},{"$f":"Yalute!J$8","v":0}]
[null,1111170831,"DU-44","Yalute Bone Shape of Duck and Apple качка і яблуко для собак, 100 г","Більше 10","Ласощі для собак",80.290000000000006,113,{"$f":"Yalute!I$9","v":0},{"$f":"Yalute!J$9","v":0}]
[null,1111170840,"CH-130","Yalute Chicken and Codfish Dices кубики з курки і тріски д/котів, 50г","Менше 10","Ласощі для котів",42.42,60,{"$f":"Yalute!I$10","v":0},{"$f":"Yalute!J$10","v":0}]
[null,1111170828,"CH-072","Yalute Chicken and Duck Fillets філе курки та качки для собак, 100 г","Більше 10","Ласощі для собак",80.290000000000006,113,{"$f":"Yalute!I$11","v":0},{"$f":"Yalute!J$11","v":0}]
[null,1111170836,"RA-31","Yalute Rabbit and Banana Chips кролик і банан для собак, 100 г","Більше 10","Ласощі для собак",75.75,106,{"$f":"Yalute!I$12","v":0},{"$f":"Yalute!J$12","v":0}]
[null,1111170834,"YLT-042","Yalute Salmon and Oats in Heart Shape лосось і овес для собак, 100 г","Менше 10","Ласощі для собак",80.290000000000006,113,{"$f":"Yalute!I$13","v":0},{"$f":"Yalute!J$13","v":0}]
[null,1111170833,"FI-40","Yalute Salmon Fillets філе лосося для собак, 100 г","Менше 10","Ласощі для собак",75.75,106,{"$f":"Yalute!I$14","v":0},{"$f":"Yalute!J$14","v":0}]
[null,1111170838,"CH-113","Yalute Short Chicken Slices шматочки курки для котів, 50 г","Більше 10","Ласощі для котів",49.23,69,{"$f":"Yalute!I$15","v":0},{"$f":"Yalute!J$15","v":0}]
[null,1111176700,"YEE-994","Адаптер Yee із вилкою європейського стандарту","Більше 10","Обладнання для акваріума, комплектуючі",20.36,29,{"$f":"Yee!I$8","v":0},{"$f":"Yee!J$8","v":0}]
[null,1111176675,"YES-100B","Компресор Yee д/акваріума акумуляторний з USB кабелем 1,5 Вт","Менше 10","Обладнання для акваріума, комплектуючі",550.51,771,{"$f":"Yee!I$9","v":0},{"$f":"Yee!J$9","v":0}]
[null,1111176676,"YES-200A","Компресор Yee д/акваріума акумуляторний з USB кабелем 3 Вт","Менше 10","Обладнання для акваріума, комплектуючі",648.49,908,{"$f":"Yee!I$10","v":0},{"$f":"Yee!J$10","v":0}]
[null,1111176677,"YTZ-300","Компресор Yee д/акваріума безшумний 3 Вт","Більше 10","Обладнання для акваріума, комплектуючі",152.13,213,{"$f":"Yee!I$11","v":0},{"$f":"Yee!J$11","v":0}]
[null,1111176680,"YKK-201","Компресор Yee д/акваріума з USB кабелем 1,5 Вт","Більше 10","Обладнання для акваріума, комплектуючі",244.95,343,{"$f":"Yee!I$12","v":0},{"$f":"Yee!J$12","v":0}]
[null,1111176678,"YTZ-212","Компресор Yee д/акваріума з двома виходами 3,5 Вт","Більше 10","Обладнання для акваріума, комплектуючі",400.96,561,{"$f":"Yee!I$13","v":0},{"$f":"Yee!J$13","v":0}]
[null,1111176679,"YEE-2034","Компресор Yee д/акваріума з двома виходами 6 Вт","Більше 10","Обладнання для акваріума, комплектуючі",469.28,657,{"$f":"Yee!I$14","v":0},{"$f":"Yee!J$14","v":0}]
[null,1111176687,"YEE-3002","Обігрівач Yee д/акваріума YGH-100 скляний 24,5см 100 Вт","Більше 10","Обладнання для акваріума, комплектуючі",243.66,341,{"$f":"Yee!I$15","v":0},{"$f":"Yee!J$15","v":0}]
[null,1111176688,"YEE-3003","Обігрівач Yee д/акваріума YGH-200 скляний 28,5см 200 Вт","Більше 10","Обладнання для акваріума, комплектуючі",244.95,343,{"$f":"Yee!I$16","v":0},{"$f":"Yee!J$16","v":0}]
[null,1111176689,"YEE-3000","Обігрівач Yee д/акваріума YGH-25 скляний 20см 25 Вт","Більше 10","Обладнання для акваріума, комплектуючі",220.46,309,{"$f":"Yee!I$17","v":0},{"$f":"Yee!J$17","v":0}]
[null,1111176690,"YEE-3001","Обігрівач Yee д/акваріума YGH-50 скляний 20см 50 Вт","Більше 10","Обладнання для акваріума, комплектуючі",237.22,332,{"$f":"Yee!I$18","v":0},{"$f":"Yee!J$18","v":0}]
[null,1111176681,"YEE-3007","Обігрівач Yee д/акваріума YSH-100 металевий 30см 100 Вт","Більше 10","Обладнання для акваріума, комплектуючі",310.3,434,{"$f":"Yee!I$19","v":0},{"$f":"Yee!J$19","v":0}]
[null,1111176682,"YEE-3008","Обігрівач Yee д/акваріума YSH-200 металевий 30см 200 Вт","Більше 10","Обладнання для акваріума, комплектуючі",318.38,446,{"$f":"Yee!I$20","v":0},{"$f":"Yee!J$20","v":0}]
[null,1111176683,"YEE-3005","Обігрівач Yee д/акваріума YSH-25 металевий 19см 25 Вт","Більше 10","Обладнання для акваріума, комплектуючі",294.14999999999998,412,{"$f":"Yee!I$21","v":0},{"$f":"Yee!J$21","v":0}]
[null,1111176684,"YEE-3009","Обігрівач Yee д/акваріума YSH-300 металевий 38см 300 Вт","Більше 10","Обладнання для акваріума, комплектуючі",319.52999999999997,447,{"$f":"Yee!I$22","v":0},{"$f":"Yee!J$22","v":0}]
[null,1111176686,"YEE-3006","Обігрівач Yee д/акваріума YSH-50 металевий 19см 50 Вт","Більше 10","Обладнання для акваріума, комплектуючі",294.14999999999998,412,{"$f":"Yee!I$23","v":0},{"$f":"Yee!J$23","v":0}]
[null,1111176685,"YEE-3010","Обігрівач Yee д/акваріума YSH-500 металевий 38см 500 Вт","Більше 10","Обладнання для акваріума, комплектуючі",320.67,449,{"$f":"Yee!I$24","v":0},{"$f":"Yee!J$24","v":0}]
[null,1111176669,"TN-K200","Світильник Yee д/акваріума світлодіодний 18см 5 Вт","Менше 10","Обладнання для акваріума, комплектуючі",216.58,303,{"$f":"Yee!I$25","v":0},{"$f":"Yee!J$25","v":0}]
[null,1111176671,"YGX-578","Світильник Yee д/акваріума світлодіодний 57,8см 24 Вт","Менше 10","Обладнання для акваріума, комплектуючі",559.53,783,{"$f":"Yee!I$26","v":0},{"$f":"Yee!J$26","v":0}]
[null,1111176672,"NKD-010","Світильник Yee д/акваріума світлодіодний з USB кабелем білий 5 Вт","Більше 10","Обладнання для акваріума, комплектуючі",376.45,527,{"$f":"Yee!I$27","v":0},{"$f":"Yee!J$27","v":0}]
[null,1111176691,"YEE-3631","Фільтр Yee аерліфтний синій","Більше 10","Обладнання для акваріума, комплектуючі",105.72,148,{"$f":"Yee!I$28","v":0},{"$f":"Yee!J$28","v":0}]
[null,1111176696,"YJY-900","Фільтр Yee д/акваріума внутрішній 1200 л/год 25 Вт","Менше 10","Обладнання для акваріума, комплектуючі",357.26,500,{"$f":"Yee!I$29","v":0},{"$f":"Yee!J$29","v":0}]
[null,1111176692,"YJY-400","Фільтр Yee д/акваріума внутрішній 400 л/год 4 Вт","Більше 10","Обладнання для акваріума, комплектуючі",213.4,299,{"$f":"Yee!I$30","v":0},{"$f":"Yee!J$30","v":0}]
[null,1111176693,"YJY-500","Фільтр Yee д/акваріума внутрішній 500 л/год 6 Вт","Більше 10","Обладнання для акваріума, комплектуючі",256.08999999999997,359,{"$f":"Yee!I$31","v":0},{"$f":"Yee!J$31","v":0}]
[null,1111176695,"YJY-9100F","Фільтр Yee д/акваріума внутрішній 500 л/год 8 Вт","Менше 10","Обладнання для акваріума, комплектуючі",321.83,451,{"$f":"Yee!I$32","v":0},{"$f":"Yee!J$32","v":0}]
[null,1111176694,"YJY-600","Фільтр Yee д/акваріума внутрішній 600 л/год 15 Вт","Більше 10","Обладнання для акваріума, комплектуючі",284.92,399,{"$f":"Yee!I$33","v":0},{"$f":"Yee!J$33","v":0}]
[null,1111176697,"NkKD-003","Фільтр Yee д/акваріума навісний 250 л/год 2,5 Вт","Більше 10","Обладнання для акваріума, комплектуючі",215.71,302,{"$f":"Yee!I$34","v":0},{"$f":"Yee!J$34","v":0}]
[null,1111168431,"T000001*****","Наповнювач  Білі лапки  мінеральний, 3-6 мм, T000001","Більше 100","Наповнювачі бентонітові",96,130,{"$f":"'Білі лапки'!I$8","v":0},{"$f":"'Білі лапки'!J$8","v":0}]
[null,1111160838,"PR241752","ProVET ВЕСЕЛИЙ КІТ для покращ. функ. сечовивід.системи для котів 20 мл","Більше 10","Засоби для корекції поведінки",67,97,{"$f":"'ЕкоВет, фітокомплекси'!I$8","v":0},{"$f":"'ЕкоВет, фітокомплекси'!J$8","v":0}]
[null,1111160839,"PR241753","ProVET КІТ ВОРКІТ для корекції поруш. повед. у котів та собак 20 мл","Більше 100","Засоби для корекції поведінки",68,98,{"$f":"'ЕкоВет, фітокомплекси'!I$9","v":0},{"$f":"'ЕкоВет, фітокомплекси'!J$9","v":0}]
[null,1111159466,"PR241369","ProVET Фітовіт для вивед. шерсті + покращ. сечовид. сис. для котів","Більше 10","Вітаміни та мінерали",79,114,{"$f":"'ЕкоВет, фітокомплекси'!I$10","v":0},{"$f":"'ЕкоВет, фітокомплекси'!J$10","v":0}]
[null,1111159471,"PR241373","ProVET Фітовіт для зміц. та віднов. суглоб. і зв_яз. для собак","Більше 10","Вітаміни та мінерали",196,284,{"$f":"'ЕкоВет, фітокомплекси'!I$11","v":0},{"$f":"'ЕкоВет, фітокомплекси'!J$11","v":0}]
[null,1111159470,"PR241374","ProVET Фітовіт для зміцнення зубів та кісток для собак 100 таб.","Більше 10","Вітаміни та мінерали",85,123,{"$f":"'ЕкоВет, фітокомплекси'!I$12","v":0},{"$f":"'ЕкоВет, фітокомплекси'!J$12","v":0}]
[null,1111159468,"PR241376","ProVET Фітовіт для покращ. функ. сечовид. сис. для котів 100 таб.","Більше 10","Вітаміни та мінерали",76,110,{"$f":"'ЕкоВет, фітокомплекси'!I$13","v":0},{"$f":"'ЕкоВет, фітокомплекси'!J$13","v":0}]
[null,1111159473,"PR241371","ProVET Фітовіт для покращ. функ. шлунк.-кишк. тракту собак 100 таб.","Більше 100","Вітаміни та мінерали",83,120,{"$f":"'ЕкоВет, фітокомплекси'!I$14","v":0},{"$f":"'ЕкоВет, фітокомплекси'!J$14","v":0}]
[null,1111159469,"PR241375","ProVET Фітовіт для шерсті + покращ. функції сечовид. сис. для котів","Більше 10","Вітаміни та мінерали",76,110,{"$f":"'ЕкоВет, фітокомплекси'!I$15","v":0},{"$f":"'ЕкоВет, фітокомплекси'!J$15","v":0}]
[null,1111159472,"PR241372","ProVET Фітовіт для шерсті собак 100 таб.","Більше 10","Вітаміни та мінерали",83,120,{"$f":"'ЕкоВет, фітокомплекси'!I$16","v":0},{"$f":"'ЕкоВет, фітокомплекси'!J$16","v":0}]
[null,1111159467,"PR241368","ProVET Фітовіт при поруш. функ. нерв. та імун. сис. + сечовид. сис. дл","Більше 10","Вітаміни та мінерали",77,112,{"$f":"'ЕкоВет, фітокомплекси'!I$17","v":0},{"$f":"'ЕкоВет, фітокомплекси'!J$17","v":0}]
[null,1111159474,"PR241370","ProVET Фітовіт протиалергійний для собак 100 таб.","Більше 10","Вітаміни та мінерали",83,120,{"$f":"'ЕкоВет, фітокомплекси'!I$18","v":0},{"$f":"'ЕкоВет, фітокомплекси'!J$18","v":0}]
[null,1111155032,"PR241112_1уп.(4пип)","Краплі ProVET ЕкоВет для великих порід собак, 4 піпетки по 2,0 мл","Більше 10","Протипаразитні препарати: антигельмінтні, інсектицидні, інсектоакарицидні, репелентні",176,255,{"$f":"'ЕкоВет, фітокомплекси'!I$19","v":0},{"$f":"'ЕкоВет, фітокомплекси'!J$19","v":0}]
[null,1111155030,"PR241110_1уп (4пип)","Краплі ProVET ЕкоВет для котів та дрібних порід собак, 4х0,5","Більше 100","Протипаразитні препарати: антигельмінтні, інсектицидні, інсектоакарицидні, репелентні",131,190,{"$f":"'ЕкоВет, фітокомплекси'!I$20","v":0},{"$f":"'ЕкоВет, фітокомплекси'!J$20","v":0}]
[null,1111155031,"PR241111_1уп.(4пип)","Краплі ProVET ЕкоВет для середніх порід собак, 4 піпетки по 1,0 мл","Більше 10","Протипаразитні препарати: антигельмінтні, інсектицидні, інсектоакарицидні, репелентні",141,204,{"$f":"'ЕкоВет, фітокомплекси'!I$21","v":0},{"$f":"'ЕкоВет, фітокомплекси'!J$21","v":0}]
[null,1111155035,"PR241115","Нашийник ProVET ЕкоВет для котів та дрібних порід собак 35 см","Більше 10","Протипаразитні препарати: антигельмінтні, інсектицидні, інсектоакарицидні, репелентні",81,117,{"$f":"'ЕкоВет, фітокомплекси'!I$22","v":0},{"$f":"'ЕкоВет, фітокомплекси'!J$22","v":0}]
[null,1111155036,"PR241116","Нашийник ProVET ЕкоВет для собак 70 см","Більше 10","Протипаразитні препарати: антигельмінтні, інсектицидні, інсектоакарицидні, репелентні",104,151,{"$f":"'ЕкоВет, фітокомплекси'!I$23","v":0},{"$f":"'ЕкоВет, фітокомплекси'!J$23","v":0}]
[null,1111155033,"PR241113","Спрей ProVET ЕкоВет для котів та собак 100 мл","Більше 10","Протипаразитні препарати: антигельмінтні, інсектицидні, інсектоакарицидні, репелентні",127,184,{"$f":"'ЕкоВет, фітокомплекси'!I$24","v":0},{"$f":"'ЕкоВет, фітокомплекси'!J$24","v":0}]
[null,1111155034,"PR241114","Спрей ProVET ЕкоВет для котів та собак 250 мл","Більше 10","Протипаразитні препарати: антигельмінтні, інсектицидні, інсектоакарицидні, репелентні",246,357,{"$f":"'ЕкоВет, фітокомплекси'!I$25","v":0},{"$f":"'ЕкоВет, фітокомплекси'!J$25","v":0}]
[null,1111154287,"PR241107","Автомобіль 11х4х6 см","Менше 10","Декорації для акваріуму",215.5,280.18,{"$f":"Природа!I$8","v":0},{"$f":"Природа!J$8","v":0}]
[null,1111137367,"PR740148","Асорті-печиво Природа Палички для гризунів, 100 г","Більше 100","Ласощі для гризунів",25.56,37,{"$f":"Природа!I$9","v":0},{"$f":"Природа!J$9","v":0}]
[null,1111137368,"PR740149","Асорті-печиво Природа Сердечка для гризунів, 100 г","Більше 100","Ласощі для гризунів",25.42,37,{"$f":"Природа!I$10","v":0},{"$f":"Природа!J$10","v":0}]
[null,1111162301,"PR241956","Будинок з повсті для гризунів","Більше 10","Обладнання для кліток",73,99,{"$f":"Природа!I$11","v":0},{"$f":"Природа!J$11","v":0}]
[null,1111162523,"PR241990","Будинок-лежак  CAPRICE  (38 * 38 * 36)","Менше 10","Лежаки",598.75,808.31,{"$f":"Природа!I$12","v":0},{"$f":"Природа!J$12","v":0}]
[null,1111161525,"PR241892","Будинок-лежак  COMFORT  1 (32*31*28), PR241892","Менше 10","Будиночки-лежаки",445.03,600.79,{"$f":"Природа!I$13","v":0},{"$f":"Природа!J$13","v":0}]
[null,1111161526,"PR241891","Будинок-лежак  COMFORT  2 (35*34*31),PR241891","Більше 10","Будиночки-лежаки",521.19000000000005,703.61,{"$f":"Природа!I$14","v":0},{"$f":"Природа!J$14","v":0}]
[null,1111161527,"PR241890","Будинок-лежак  COMFORT  3 (39*38*35),PR241890","Менше 10","Будиночки-лежаки",589.25,795.49,{"$f":"Природа!I$15","v":0},{"$f":"Природа!J$15","v":0}]
[null,1111161528,"PR241889","Будинок-лежак  COMFORT  4 (44*43*40), PR241889","Більше 10","Будиночки-лежаки",710.95,959.78,{"$f":"Природа!I$16","v":0},{"$f":"Природа!J$16","v":0}]
[null,1111161523,"PR241888","Будинок-лежак  CUBE  (40*40*37), PR241888","Більше 10","Будиночки-лежаки",679.68,917.56,{"$f":"Природа!I$17","v":0},{"$f":"Природа!J$17","v":0}]
[null,1111161524,"PR241899","Будинок-лежак  LORD  (36*36*32), арт.PR241899","Більше 10","Будиночки-лежаки",510.5,689.17,{"$f":"Природа!I$18","v":0},{"$f":"Природа!J$18","v":0}]
[null,1111161521,"PR241898","Будинок-лежак  YURT  орнамент (38*38*36), PR241898","Більше 10","Будиночки-лежаки",536.54999999999995,724.35,{"$f":"Природа!I$19","v":0},{"$f":"Природа!J$19","v":0}]
[null,1111144192,"PR001198","Будиночок д/кролика Мрія","Більше 10","Обладнання для кліток",377.45,509.1,{"$f":"Природа!I$20","v":0},{"$f":"Природа!J$20","v":0}]
[null,1111143417,"PR001193","Будиночок д/морської свинки Мрія","Більше 10","Обладнання для кліток",227.28,306.2,{"$f":"Природа!I$21","v":0},{"$f":"Природа!J$21","v":0}]
[null,1111143416,"PR001192","Будиночок д/хом яків Мрія","Більше 10","Обладнання для кліток",129.47,174.9,{"$f":"Природа!I$22","v":0},{"$f":"Природа!J$22","v":0}]
[null,8932,"PR740804","Будиночок для птахів великий дерев яний","Більше 10","Обладнання для кліток",268.72000000000003,362.1,{"$f":"Природа!I$23","v":0},{"$f":"Природа!J$23","v":0}]
[null,10399,"PR740805","Будиночок для птахів малий дерев яний","Більше 10","Обладнання для кліток",85.62,115,{"$f":"Природа!I$24","v":0},{"$f":"Природа!J$24","v":0}]
[null,11005,"PR740806","Будиночок для птахів середній дерев яний","Менше 10","Обладнання для кліток",154.11000000000001,208.5,{"$f":"Природа!I$25","v":0},{"$f":"Природа!J$25","v":0}]
[null,1111140383,"PR240277","Будиночок для хом яків пластиковий","Більше 100","Обладнання для кліток",42.96,58.62,{"$f":"Природа!I$26","v":0},{"$f":"Природа!J$26","v":0}]
[null,1111133768,"PR740811","Будиночок-переноска для тваринок МАКСІ картон","Більше 100","Будиночки-переноски картонні",12.98,17.52,{"$f":"Природа!I$27","v":0},{"$f":"Природа!J$27","v":0}]
[null,5155,"PR240124","Вітаміни Природа Медові для папуг, 20 г","Більше 100","Вітаміни та мінерали",8.76,13.2,{"$f":"Природа!I$28","v":0},{"$f":"Природа!J$28","v":0}]
[null,5154,"PR240125","Вітаміни Природа Пір_ячко для папуг, 20 г","Більше 100","Вітаміни та мінерали",8.76,13.2,{"$f":"Природа!I$29","v":0},{"$f":"Природа!J$29","v":0}]
[null,5153,"PR240126","Вітаміни Природа Юніор для папуг, 20 г","Більше 100","Вітаміни та мінерали",8.76,13.2,{"$f":"Природа!I$30","v":0},{"$f":"Природа!J$30","v":0}]
[null,1111154286,"PR241106","Вулкан 11х6х8 см","Більше 10","Декорації для акваріуму",235.5,306.41000000000003,{"$f":"Природа!I$31","v":0},{"$f":"Природа!J$31","v":0}]
[null,1111113084,"PR740824","Годівничка для Клітки Zoo","Більше 100","Обладнання для кліток",19.54,25.44,{"$f":"Природа!I$32","v":0},{"$f":"Природа!J$32","v":0}]
[null,7136,"PR740823","Годівничка для папуг","Більше 100","Обладнання для кліток",7.64,10.41,{"$f":"Природа!I$33","v":0},{"$f":"Природа!J$33","v":0}]
[null,1111112029,"PR740825","Годівничка-поїлка керамічна для гризунів велика","Більше 10","Обладнання для кліток",181,244.57,{"$f":"Природа!I$34","v":0},{"$f":"Природа!J$34","v":0}]
[null,1111112030,"PR740826","Годівничка-поїлка керамічна для гризунів мала","Більше 10","Обладнання для кліток",150.5,205.75,{"$f":"Природа!I$35","v":0},{"$f":"Природа!J$35","v":0}]
[null,1111125107,"PR740152","Гранулят для гризунів Фієста Овочевий, 100 г","Більше 100","Ласощі для гризунів",25.74,37,{"$f":"Природа!I$36","v":0},{"$f":"Природа!J$36","v":0}]
[null,1111125106,"PR740153","Гранулят для гризунів Фієста Трав_яний Лужок, 100 г","Більше 100","Ласощі для гризунів",25.74,37,{"$f":"Природа!I$37","v":0},{"$f":"Природа!J$37","v":0}]
[null,1111125105,"PR740154","Гранулят для гризунів Фієста Фруктово-трав яний, 100 г","Більше 100","Ласощі для гризунів",25.74,37,{"$f":"Природа!I$38","v":0},{"$f":"Природа!J$38","v":0}]
[null,7827,"PR740781/27К","Грот для черепах кутовий малий 14х16х13 см","Менше 10","Декорації для тераріуму",311.52999999999997,406,{"$f":"Природа!I$39","v":0},{"$f":"Природа!J$39","v":0}]
[null,22726,"PR740788/31К","Дві колоди з амфорою 23х23 см","Менше 10","Декорації для акваріуму",522.94000000000005,680,{"$f":"Природа!I$40","v":0},{"$f":"Природа!J$40","v":0}]
[null,8206,"PR740787/30К","Дві колоди маленькі 18х20 см","Менше 10","Декорації для акваріуму",321.62,418,{"$f":"Природа!I$41","v":0},{"$f":"Природа!J$41","v":0}]
[null,1111155968,"PR241233","Декорація Літак 12х9х4.5","Менше 10","Декорації для акваріуму",207,269.38,{"$f":"Природа!I$42","v":0},{"$f":"Природа!J$42","v":0}]
[null,1111155969,"PR241232","Декорація Піраміда Майя 11.5х11х8","Менше 10","Декорації для акваріуму",230,298.60000000000002,{"$f":"Природа!I$43","v":0},{"$f":"Природа!J$43","v":0}]
[null,1111129866,"PR740156","Десерт Мікс Фієста ГАРБУЗИК для гризунів, 50 г","Більше 100","Ласощі для гризунів",36.29,53,{"$f":"Природа!I$44","v":0},{"$f":"Природа!J$44","v":0}]
[null,1111129881,"PR740158","Десерт Мікс Фієста ЯБЛУЧКО для гризунів, 50 г","Більше 100","Ласощі для гризунів",33.6,49,{"$f":"Природа!I$45","v":0},{"$f":"Природа!J$45","v":0}]
[null,1111160923,"PR241775","Десерт Природа Качка для собак, 100 г","Більше 10","Ласощі для собак",25.93,35.200000000000003,{"$f":"Природа!I$46","v":0},{"$f":"Природа!J$46","v":0}]
[null,1111160924,"PR241774","Десерт Природа Качка для собак, 550 г","Більше 10","Ласощі для собак",102.32,139.19999999999999,{"$f":"Природа!I$47","v":0},{"$f":"Природа!J$47","v":0}]
[null,1111132673,"PR740173","Десерт Природа Мікс для собак 550 г","Більше 100","Ласощі для собак",102.32,139.19999999999999,{"$f":"Природа!I$48","v":0},{"$f":"Природа!J$48","v":0}]
[null,1111141181,"PR240343","Десерт Природа Мікс для собак, 100 г","Більше 100","Ласощі для собак",25.93,35.200000000000003,{"$f":"Природа!I$49","v":0},{"$f":"Природа!J$49","v":0}]
[null,1111141551,"PR240344","Десерт Природа Молочний для собак, 100 г","Більше 10","Ласощі для собак",25.93,36,{"$f":"Природа!I$50","v":0},{"$f":"Природа!J$50","v":0}]
[null,1111132674,"PR740175","Десерт Природа Молочний для собак, 550 г","Більше 10","Ласощі для собак",107.21,145,{"$f":"Природа!I$51","v":0},{"$f":"Природа!J$51","v":0}]
[null,1111142128,"PR240348","Десерт Природа Сирний коктейль для собак, 100 г","Більше 10","Ласощі для собак",25.93,35.200000000000003,{"$f":"Природа!I$52","v":0},{"$f":"Природа!J$52","v":0}]
[null,1111132676,"PR740185","Десерт Природа Сирний коктейль для собак, 550 г","Більше 10","Ласощі для собак",102.32,139.19999999999999,{"$f":"Природа!I$53","v":0},{"$f":"Природа!J$53","v":0}]
[null,1111137106,"PR740160","Десерт Природа Фієста Мікс Асорті для гризунів, 100 г","Більше 100","Ласощі для гризунів",29.28,44,{"$f":"Природа!I$54","v":0},{"$f":"Природа!J$54","v":0}]
[null,1111137112,"PR740161","Десерт Природа Фієста Мікс Асорті для папуг, 100 г","Більше 100","Ласощі для птахів",30.1,45,{"$f":"Природа!I$55","v":0},{"$f":"Природа!J$55","v":0}]
[null,1111142395,"PR240347","Десерт Природа Яєчний для собак, 100 г","Більше 10","Ласощі для собак",25.93,35.200000000000003,{"$f":"Природа!I$56","v":0},{"$f":"Природа!J$56","v":0}]
[null,1111132678,"PR740183","Десерт Природа Яєчний для собак, 550 г","Більше 10","Ласощі для собак",102.32,139.19999999999999,{"$f":"Природа!I$57","v":0},{"$f":"Природа!J$57","v":0}]
[null,1111141379,"PR240340","Десерт Природа Яловичина-бекон для собак, 100 г","Більше 100","Ласощі для собак",25.95,35.200000000000003,{"$f":"Природа!I$58","v":0},{"$f":"Природа!J$58","v":0}]
[null,1111132671,"PR740163","Десерт Природа Яловичина-бекон для собак, 550 г","Більше 10","Ласощі для собак",102.32,139.19999999999999,{"$f":"Природа!I$59","v":0},{"$f":"Природа!J$59","v":0}]
[null,1111137498,"PR740159","Десерт Фієста Мікс Асорті кулька, трубочка, тарталетка д/гризунів 70г","Більше 100","Ласощі для гризунів",27.56,40,{"$f":"Природа!I$60","v":0},{"$f":"Природа!J$60","v":0}]
[null,1111126567,"PR740251","Дряпка  Валентинка","Більше 10","Дряпки-стовпчики",493.73,641.54,{"$f":"Природа!I$61","v":0},{"$f":"Природа!J$61","v":0}]
[null,1111163192,"PR242069","Дряпка  Лофт  сіра","Менше 10","Дряпки-стовпчики",528.64,687.7,{"$f":"Природа!I$62","v":0},{"$f":"Природа!J$62","v":0}]
[null,1111141433,"PR240375","Дряпка  Миша-стовпчик  50 cм СІРА","Менше 10","Дряпки-стовпчики",615.67999999999995,799,{"$f":"Природа!I$63","v":0},{"$f":"Природа!J$63","v":0}]
[null,1111167044,"PR242523","Дряпка  Мімі  джут  штучне хутро беж, PR242523","Більше 10","Дряпки-стовпчики",378.17,491.79,{"$f":"Природа!I$64","v":0},{"$f":"Природа!J$64","v":0}]
[null,1111170981,"PR242958","Дряпка  Мімі  МІКС, PR242958","Більше 10","Дряпки-стовпчики",360.32,410.89,{"$f":"Природа!I$65","v":0},{"$f":"Природа!J$65","v":0}]
[null,1111170980,"PR242957","Дряпка  Фєлікс  МІКС,PR242957","Більше 10","Дряпки-стовпчики",443.68,577,{"$f":"Природа!I$66","v":0},{"$f":"Природа!J$66","v":0}]
[null,1111167042,"PR242525","Дряпка  Фєлікс джут світло-сіре штучне хутро, PR242525","Більше 10","Дряпки-стовпчики",473.14,638.45000000000005,{"$f":"Природа!I$67","v":0},{"$f":"Природа!J$67","v":0}]
[null,1111156592,"PR241234","Дряпка Вежа бежева","Менше 10","Дряпки-комплекси",1483.76,1929.27,{"$f":"Природа!I$68","v":0},{"$f":"Природа!J$68","v":0}]
[null,1111156591,"PR241235","Дряпка Вежа сіра","Менше 10","Дряпки-комплекси",1483.76,1929.27,{"$f":"Природа!I$69","v":0},{"$f":"Природа!J$69","v":0}]
[null,1111158646,"PR241411*****","Дряпка Гігант стовпчик сизаль бежева","Більше 10","Дряпки-стовпчики",809.6,1052,{"$f":"Природа!I$70","v":0},{"$f":"Природа!J$70","v":0}]
[null,1111170979,"PR242956","Дряпка Д00  ДЖУТ  МІКС,PR242956","Більше 10","Дряпки-стовпчики",301.76,392.18,{"$f":"Природа!I$71","v":0},{"$f":"Природа!J$71","v":0}]
[null,1111137278,"PR740276","Дряпка Д00 ЖАКАРД стовпчик 53 cм","Більше 10","Дряпки-стовпчики",420.18,546.69000000000005,{"$f":"Природа!I$72","v":0},{"$f":"Природа!J$72","v":0}]
[null,1111167040,"PR242527","Дряпка Д00 стовпчик 53 см  ДЖУТ  штучне хутро беж, PR242527","Більше 10","Дряпки-стовпчики",310.83999999999997,403.68,{"$f":"Природа!I$73","v":0},{"$f":"Природа!J$73","v":0}]
[null,1111114198,"PR740282","Дряпка Д01 СІРА стовпчик 67 см","Більше 10","Дряпки-стовпчики",472.44,614.61,{"$f":"Природа!I$74","v":0},{"$f":"Природа!J$74","v":0}]
[null,1111114028,"PR740287*****","Дряпка Д02  Клоун  БЕЖЕВА/КОРИЧНЕВА стовпчик 70 см","Менше 10","Дряпки-стовпчики",542.01,704.77,{"$f":"Природа!I$75","v":0},{"$f":"Природа!J$75","v":0}]
[null,1111114031,"PR740292","Дряпка Д04 з чотирма бубонами СІРА стовпчик 67 см","Більше 10","Дряпки-стовпчики",538.08000000000004,700,{"$f":"Природа!I$76","v":0},{"$f":"Природа!J$76","v":0}]
[null,1111118775,"PR740296","Дряпка Д04-ЛАПКА з чотирма бубонами стовпчик 67 см","Більше 10","Дряпки-стовпчики",590.17999999999995,767.53,{"$f":"Природа!I$77","v":0},{"$f":"Природа!J$77","v":0}]
[null,1111171263,"PR242960","Дряпка Д051 з аркою,PR242960","Менше 10","Дряпки-комплекси",1444,1877,{"$f":"Природа!I$78","v":0},{"$f":"Природа!J$78","v":0}]
[null,1111114066,"PR740306","Дряпка Д1 з будкою СІРА","Більше 10","Дряпки-комплекси",767.21,998,{"$f":"Природа!I$79","v":0},{"$f":"Природа!J$79","v":0}]
[null,1111114017,"PR740310","Дряпка Д11 з будкою велика СІРА","Менше 10","Дряпки-комплекси",870.11,1131,{"$f":"Природа!I$80","v":0},{"$f":"Природа!J$80","v":0}]
[null,5755,"PR740314","Дряпка Д11 кутова з будкою СІРА","Менше 10","Дряпки-комплекси",1002.88,1304,{"$f":"Природа!I$81","v":0},{"$f":"Природа!J$81","v":0}]
[null,1111114264,"PR740327*****","Дряпка Д22 з барабаном ЖАКАРД","Менше 10","Дряпки-комплекси",1536.99,1997.84,{"$f":"Природа!I$82","v":0},{"$f":"Природа!J$82","v":0}]
[null,1111114015,"PR740326","Дряпка Д22 з барабаном СІРА","Менше 10","Дряпки-комплекси",1395.52,1814,{"$f":"Природа!I$83","v":0},{"$f":"Природа!J$83","v":0}]
[null,1111171264,"PR242961","Дряпка Д23, PR242961","Менше 10","Дряпки-комплекси",1862,2421,{"$f":"Природа!I$84","v":0},{"$f":"Природа!J$84","v":0}]
[null,1111151660,"PR740277","Дряпка Природа Д00 стовпчик бежева 53см арт.PR740277","Більше 10","Дряпки-стовпчики",410.44,533,{"$f":"Природа!I$85","v":0},{"$f":"Природа!J$85","v":0}]
[null,1111151662,"PR740280","Дряпка Природа Д01 стовпчик беж 37х37х67см арт.PR740280","Більше 10","Дряпки-стовпчики",472.44,614.16999999999996,{"$f":"Природа!I$86","v":0},{"$f":"Природа!J$86","v":0}]
[null,1111151664,"PR740293","Дряпка Природа Д04 стовпчик з чотирма бубонами бежева 67см","Більше 10","Дряпки-стовпчики",548.91,714,{"$f":"Природа!I$87","v":0},{"$f":"Природа!J$87","v":0}]
[null,1111151669,"PR740305","Дряпка Природа Д1 з будкою бежева арт.PR740305","Менше 10","Дряпки-комплекси",820.6,1067,{"$f":"Природа!I$88","v":0},{"$f":"Природа!J$88","v":0}]
[null,1111151673,"PR740313","Дряпка Природа Д11у кутова з будкою бежева арт.PR740313","Більше 10","Дряпки-комплекси",1041.1300000000001,1353,{"$f":"Природа!I$89","v":0},{"$f":"Природа!J$89","v":0}]
[null,1111151678,"PR740325","Дряпка Природа Д22 з барабаном бежева арт.PR740325","Менше 10","Дряпки-комплекси",1453.72,1890,{"$f":"Природа!I$90","v":0},{"$f":"Природа!J$90","v":0}]
[null,1111151686,"PR740341","Дряпка Природа ДУ кутова бежева арт.PR740341","Більше 10","Дряпки настінні, килимки",513.08000000000004,667,{"$f":"Природа!I$91","v":0},{"$f":"Природа!J$91","v":0}]
[null,1111151654,"PR740260","Дряпка Природа Містечко 2 беж арт.PR740260","Менше 10","Дряпки-комплекси",2844.13,3697,{"$f":"Природа!I$92","v":0},{"$f":"Природа!J$92","v":0}]
[null,1111151680,"PR740328","Дряпка Природа Містечко велика беж арт.PR740328","Менше 10","Дряпки-комплекси",3694.53,4988,{"$f":"Природа!I$93","v":0},{"$f":"Природа!J$93","v":0}]
[null,1111151631,"PR740263","Дряпка Природа Містечко кутова бежева арт.PR740263","Більше 10","Дряпки-комплекси",2936.09,3817,{"$f":"Природа!I$94","v":0},{"$f":"Природа!J$94","v":0}]
[null,1111179154,"PR243474","Дряпка Шале сіро-бежева","Менше 10","Дряпки-стовпчики",1218.22,1582,{"$f":"Природа!I$95","v":0},{"$f":"Природа!J$95","v":0}]
[null,1111173414,"PR243079","Іграшка  Кісточка велика","Більше 10","Іграшки для котів",45,60,{"$f":"Природа!I$96","v":0},{"$f":"Природа!J$96","v":0}]
[null,1111173415,"PR243078","Іграшка  Кісточка маленька","Більше 10","Іграшки для котів",37,50,{"$f":"Природа!I$97","v":0},{"$f":"Природа!J$97","v":0}]
[null,1111173419,"PR243074","Іграшка  Курочка з повсті","Більше 10","Іграшки для котів",37,50,{"$f":"Природа!I$98","v":0},{"$f":"Природа!J$98","v":0}]
[null,1111173418,"PR243075","Іграшка  Мишка","Більше 10","Іграшки для котів",40,54,{"$f":"Природа!I$99","v":0},{"$f":"Природа!J$99","v":0}]
[null,1111173417,"PR243076","Іграшка  Пантофля","Більше 10","Іграшки для котів",51,68,{"$f":"Природа!I$100","v":0},{"$f":"Природа!J$100","v":0}]
[null,1111173416,"PR243077","Іграшка  Пантофля з канатом","Більше 10","Іграшки для котів",41,55,{"$f":"Природа!I$101","v":0},{"$f":"Природа!J$101","v":0}]
[null,1111173422,"PR243071","Іграшка  Полівка смугаста","Більше 10","Іграшки для котів",60,82,{"$f":"Природа!I$102","v":0},{"$f":"Природа!J$102","v":0}]
[null,1111173423,"PR243070","Іграшка  Хвіст","Більше 10","Іграшки для котів",153,207,{"$f":"Природа!I$103","v":0},{"$f":"Природа!J$103","v":0}]
[null,1111173421,"PR243072","Іграшка  Чупа","Більше 10","Іграшки для котів",119,160,{"$f":"Природа!I$104","v":0},{"$f":"Природа!J$104","v":0}]
[null,1111152782,"PR000888","Іграшка для кота  Шустрик (упак. 30 шт.)","Більше 10","Іграшки для котів",607.05999999999995,819.54,{"$f":"Природа!I$105","v":0},{"$f":"Природа!J$105","v":0}]
[null,6571,"PR240373","Іграшка для кота Восьминіг на резинці","Більше 100","Іграшки для котів",38.6,52.12,{"$f":"Природа!I$106","v":0},{"$f":"Природа!J$106","v":0}]
[null,7657,"PR240374","Іграшка для кота Каченя на резинці","Більше 10","Іграшки для котів",45.51,61.44,{"$f":"Природа!I$107","v":0},{"$f":"Природа!J$107","v":0}]
[null,6462,"PR240371","Іграшка для кота М ячик пухнастий з пір ячком","Більше 100","Іграшки для котів",36.24,48.93,{"$f":"Природа!I$108","v":0},{"$f":"Природа!J$108","v":0}]
[null,6509,"PR240372","Іграшка для кота М ячик пухнастий з пір ячком на резинці","Більше 100","Іграшки для котів",41.36,55.84,{"$f":"Природа!I$109","v":0},{"$f":"Природа!J$109","v":0}]
[null,6798,"PR240370","Іграшка для кота М ячик пухнастий на резинці","Більше 100","Іграшки для котів",35.229999999999997,47.56,{"$f":"Природа!I$110","v":0},{"$f":"Природа!J$110","v":0}]
[null,5195,"PR240369","Іграшка для кота Пацючок","Більше 10","Іграшки для котів",39.69,53.58,{"$f":"Природа!I$111","v":0},{"$f":"Природа!J$111","v":0}]
[null,1111135832,"PR240254","Іграшка для кота пластикова Шар-дзвоник 4,5 см","Більше 100","Іграшки для котів",7.03,10.199999999999999,{"$f":"Природа!I$112","v":0},{"$f":"Природа!J$112","v":0}]
[null,1111154383,"PR240960","Іграшка для кота Шустрик (1 шт.)","Більше 10","Іграшки для котів",19.329999999999998,29,{"$f":"Природа!I$113","v":0},{"$f":"Природа!J$113","v":0}]
[null,1111143831,"PR240442","Іграшка для котів Паличка з пір ям","Більше 10","Іграшки для котів",49.26,66.5,{"$f":"Природа!I$114","v":0},{"$f":"Природа!J$114","v":0}]
[null,1111143832,"PR240443","Іграшка для котів паличка з пір ям на резинці","Більше 100","Іграшки для котів",60.66,81.89,{"$f":"Природа!I$115","v":0},{"$f":"Природа!J$115","v":0}]
[null,1111138611,"PR240256","Іграшка для папуг  Гойдалка  (1 шт.)","Більше 100","Обладнання для кліток",14.57,18.510000000000002,{"$f":"Природа!I$116","v":0},{"$f":"Природа!J$116","v":0}]
[null,1111138570,"PR000990","Іграшка для папуг  Гойдалка  (упак. 5 шт.)","Більше 10","Обладнання для кліток",80.16,106.84,{"$f":"Природа!I$117","v":0},{"$f":"Природа!J$117","v":0}]
[null,1111137841,"PR240260","Іграшка для папуг  Драбинка  (1 шт.)","Більше 10","Обладнання для кліток",9.76,13.75,{"$f":"Природа!I$118","v":0},{"$f":"Природа!J$118","v":0}]
[null,1111135839,"PR000962","Іграшка для папуг  Драбинка  (упак. 5 шт.)","Більше 10","Обладнання для кліток",47.03,62.91,{"$f":"Природа!I$119","v":0},{"$f":"Природа!J$119","v":0}]
[null,1111137840,"PR240258","Іграшка для папуг  Драбинка з іграшкою  (1 шт.)","Більше 100","Обладнання для кліток",11,13.89,{"$f":"Природа!I$120","v":0},{"$f":"Природа!J$120","v":0}]
[null,1111137828,"PR000967","Іграшка для папуг  Драбинка з іграшкою  (упак. 5 шт.)","Менше 10","Обладнання для кліток",69.930000000000007,93.89,{"$f":"Природа!I$121","v":0},{"$f":"Природа!J$121","v":0}]
[null,1111135840,"PR240255","Іграшка для папуг Гірлянда зі дзвіночком","Більше 10","Обладнання для кліток",20.76,29.29,{"$f":"Природа!I$122","v":0},{"$f":"Природа!J$122","v":0}]
[null,1111135838,"PR240257","Іграшка для папуг Шар із дзвіночком","Більше 10","Обладнання для кліток",15.48,19.66,{"$f":"Природа!I$123","v":0},{"$f":"Природа!J$123","v":0}]
[null,1111173420,"PR243073","Іграшка-вудка  Рибка на магніті","Більше 10","Іграшки для котів",106.18,143.34,{"$f":"Природа!I$124","v":0},{"$f":"Природа!J$124","v":0}]
[null,1111154284,"PR241104","Камінь 10х5х7 см","Менше 10","Декорації для акваріуму",224,291.7,{"$f":"Природа!I$125","v":0},{"$f":"Природа!J$125","v":0}]
[null,1111135693,"PR240259","Кільця для папуг Олімпійка","Більше 100","Обладнання для кліток",17.05,22.84,{"$f":"Природа!I$126","v":0},{"$f":"Природа!J$126","v":0}]
[null,1111159086,"PR241495","Клітка Природа Арка Велика для птахів 44*27*75 хром/світло-блакитна","Менше 10","Клітки для дрібних і середніх птахів",1224.76,1592.6,{"$f":"Природа!I$127","v":0},{"$f":"Природа!J$127","v":0}]
[null,1111159087,"PR241494","Клітка Природа Арка для птахів 44*27*65 хром/бежева арт.PR241494","Менше 10","Клітки для дрібних і середніх птахів",989.99,1286.5999999999999,{"$f":"Природа!I$128","v":0},{"$f":"Природа!J$128","v":0}]
[null,1111159092,"PR241504","Клітка Природа Ауріка для птахів 44*27*64 біла/бежева арт.PR241504","Менше 10","Клітки для дрібних і середніх птахів",1038.26,1350,{"$f":"Природа!I$129","v":0},{"$f":"Природа!J$129","v":0}]
[null,1111159106,"PR241503","Клітка Природа Белла для птахів 37*25*37 біла/світло-блакитна","Менше 10","Клітки для дрібних і середніх птахів",848.32,1102,{"$f":"Природа!I$130","v":0},{"$f":"Природа!J$130","v":0}]
[null,1111159107,"PR241486","Клітка Природа Белла для птахів 37*25*37 хром/світло-блакитна","Менше 10","Клітки для дрібних і середніх птахів",781.11,1015.1,{"$f":"Природа!I$131","v":0},{"$f":"Природа!J$131","v":0}]
[null,1111159110,"PR241502","Клітка Природа Воля для птахів 44*27*63 біла/фіолетова арт.PR241502","Менше 10","Клітки для дрібних і середніх птахів",1134.01,1474,{"$f":"Природа!I$132","v":0},{"$f":"Природа!J$132","v":0}]
[null,1111159109,"PR241485","Клітка Природа Воля для птахів 44*27*63 хром/бежева арт.PR241485","Менше 10","Клітки для дрібних і середніх птахів",1061.58,1379.5,{"$f":"Природа!I$133","v":0},{"$f":"Природа!J$133","v":0}]
[null,1111159128,"PR241530","Клітка Природа Давид-1 для гризунів 30*20*24 синя/бежева арт.PR241530","Менше 10","Клітки для дрібних і середніх гризунів",550.01,714,{"$f":"Природа!I$134","v":0},{"$f":"Природа!J$134","v":0}]
[null,1111159131,"PR241520","Клітка Природа Джунгарик з будиночком для гризунів 30*20*24 хром/бежев","Менше 10","Клітки для дрібних і середніх гризунів",564.05999999999995,733,{"$f":"Природа!I$135","v":0},{"$f":"Природа!J$135","v":0}]
[null,1111159127,"PR241531","Клітка Природа для гризунів Гоша 44*27*43.5 біла/зелена арт.PR241531","Більше 10","Клітки для дрібних і середніх гризунів",893.55,1162,{"$f":"Природа!I$136","v":0},{"$f":"Природа!J$136","v":0}]
[null,1111159142,"PR241526","Клітка Природа для гризунів Міккі з колесом 37*25*30 синя/зелена","Менше 10","Клітки для дрібних і середніх гризунів",705.49,917,{"$f":"Природа!I$137","v":0},{"$f":"Природа!J$137","v":0}]
[null,1111159144,"PR241511","Клітка Природа для гризунів Міккі з колесом 37*25*30 хром/світло-блаки","Менше 10","Клітки для дрібних і середніх гризунів",698.28,908,{"$f":"Природа!I$138","v":0},{"$f":"Природа!J$138","v":0}]
[null,1111159145,"PR241512","Клітка Природа для гризунів Міккі з колесом 37*25*30 хром/фіолетова","Менше 10","Клітки для дрібних і середніх гризунів",698.28,908,{"$f":"Природа!I$139","v":0},{"$f":"Природа!J$139","v":0}]
[null,1111159113,"PR241501","Клітка Природа Ізабель-1 для птахів 44*27*61 біла/бежева арт.PR241501","Менше 10","Клітки для дрібних і середніх птахів",1118.29,1454,{"$f":"Природа!I$140","v":0},{"$f":"Природа!J$140","v":0}]
[null,1111159112,"PR241482","Клітка Природа Ізабель-1 для птахів 44*27*61 хром/бежева арт.PR241482","Менше 10","Клітки для дрібних і середніх птахів",1068.19,1388.6,{"$f":"Природа!I$141","v":0},{"$f":"Природа!J$141","v":0}]
[null,1111159135,"PR241517","Клітка Природа Кролик 50 для гризунів 50*27*30 хром/сіра арт.PR241517","Менше 10","Клітки, вольєри для кроликів",1302.58,1694,{"$f":"Природа!I$142","v":0},{"$f":"Природа!J$142","v":0}]
[null,1111159136,"PR241508","Клітка Природа Кролик 70 для гризунів 70*45*40 хром/синя арт.PR241508","Менше 10","Клітки, вольєри для кроликів",1921.26,2498,{"$f":"Природа!I$143","v":0},{"$f":"Природа!J$143","v":0}]
[null,1111159119,"PR241499","Клітка Природа Ліна для птахів 44*27*54 біла/бежева арт.PR241499","Немає в наявності","Клітки для дрібних і середніх птахів",1056.76,1374,{"$f":"Природа!I$144","v":0},{"$f":"Природа!J$144","v":0}]
[null,1111159121,"PR241475","Клітка Природа Ліна для птахів 44*27*54 хром/фіолетова арт.PR241475","Менше 10","Клітки для дрібних і середніх птахів",1022.49,1329.7,{"$f":"Природа!I$145","v":0},{"$f":"Природа!J$145","v":0}]
[null,1111159123,"PR241498","Клітка Природа Мері для птахів 44*27*54 біла/фіолетова арт.PR241498","Менше 10","Клітки для дрібних і середніх птахів",1111.8800000000001,1446,{"$f":"Природа!I$146","v":0},{"$f":"Природа!J$146","v":0}]
[null,1111159140,"PR241514","Клітка Природа Міккі з драбинкою для гризунів 37*25*30 хром/світло-бла","Менше 10","Клітки для дрібних і середніх гризунів",695.28,904,{"$f":"Природа!I$147","v":0},{"$f":"Природа!J$147","v":0}]
[null,1111159141,"PR241515","Клітка Природа Міккі з драбинкою для гризунів 37*25*30 хром/фіолетова","Менше 10","Клітки для дрібних і середніх гризунів",695.28,904,{"$f":"Природа!I$148","v":0},{"$f":"Природа!J$148","v":0}]
[null,1111159126,"PR241470","Клітка Природа Німфа для птахів 70*40*76 хром/сіра арт.PR241470","Менше 10","Клітки для дрібних і середніх птахів",3142.43,4085,{"$f":"Природа!I$149","v":0},{"$f":"Природа!J$149","v":0}]
[null,1111159146,"PR241524","Клітка Природа Нюра з будиночком для гризунів 44*27*59 біла/бежева","Менше 10","Клітки для дрібних і середніх гризунів",1101.6099999999999,1432,{"$f":"Природа!I$150","v":0},{"$f":"Природа!J$150","v":0}]
[null,1111159148,"PR241523","Клітка Природа Нюра з будиночком для гризунів 44*27*59 біла/фіолетова","Менше 10","Клітки для дрібних і середніх гризунів",1101.6099999999999,1432,{"$f":"Природа!I$151","v":0},{"$f":"Природа!J$151","v":0}]
[null,1111159149,"PR241521","Клітка Природа Фаворит з колесом для гризунів 30*20*24 біла/фіолетова","Більше 10","Клітки для дрібних і середніх гризунів",505.62,658,{"$f":"Природа!I$152","v":0},{"$f":"Природа!J$152","v":0}]
[null,1111159150,"PR241510","Клітка Природа Шиншила для гризунів 70*44*66 хром/синя арт.PR241510","Менше 10","Клітки для шиншил",2764.62,3594,{"$f":"Природа!I$153","v":0},{"$f":"Природа!J$153","v":0}]
[null,1111159151,"PR241509","Клітка Природа Шиншила для гризунів 70*44*66 чорна/синя арт.PR241509","Менше 10","Клітки для шиншил",2673.94,3476,{"$f":"Природа!I$154","v":0},{"$f":"Природа!J$154","v":0}]
[null,8777,"PR740817","Колесо для хом яків метал+пластик d14 см","Більше 100","Обладнання для кліток",29.66,39.51,{"$f":"Природа!I$155","v":0},{"$f":"Природа!J$155","v":0}]
[null,1111139129,"PR240264","Колесо-барабан для хом яків d14 см","Більше 100","Обладнання для кліток",22.95,32.1,{"$f":"Природа!I$156","v":0},{"$f":"Природа!J$156","v":0}]
[null,22714,"PR740019","Колосок Природа Бісквіт для гризунів, 140 г","Більше 100","Ласощі для гризунів",27.04,43,{"$f":"Природа!I$157","v":0},{"$f":"Природа!J$157","v":0}]
[null,22639,"PR740021","Колосок Природа Бісквіт для папуг, 140 г","Більше 100","Ласощі для птахів",27.04,43,{"$f":"Природа!I$158","v":0},{"$f":"Природа!J$158","v":0}]
[null,7527,"PR740052","Колосок Природа Горіховий для гризунів, 140 г","Більше 100","Ласощі для гризунів",27.04,43,{"$f":"Природа!I$159","v":0},{"$f":"Природа!J$159","v":0}]
[null,9776,"PR740025","Колосок Природа Горіховий для папуг, 140 г","Більше 100","Ласощі для птахів",27.04,43,{"$f":"Природа!I$160","v":0},{"$f":"Природа!J$160","v":0}]
[null,1111138531,"PR240095","Колосок Природа Коктейль гібіскус, чумиза, кокос д/хвиляст. папуг 90г","Більше 100","Ласощі для птахів",34.61,54,{"$f":"Природа!I$161","v":0},{"$f":"Природа!J$161","v":0}]
[null,1111138269,"PR240101","Колосок Природа Коктейль лугові трави, мінерали, горіх д/шиншил, 90 г","Більше 100","Ласощі для гризунів",34.5,54,{"$f":"Природа!I$162","v":0},{"$f":"Природа!J$162","v":0}]
[null,1111138268,"PR240100","Колосок Природа Коктейль мультивітамін, кокос, мед для гризунів, 90 г","Більше 100","Ласощі для гризунів",34.61,54,{"$f":"Природа!I$163","v":0},{"$f":"Природа!J$163","v":0}]
[null,1111138561,"PR240098","Колосок Природа Коктейль мультифр. горіх, цитрус д/середн папуг, 90 г","Більше 100","Ласощі для птахів",34.5,54,{"$f":"Природа!I$164","v":0},{"$f":"Природа!J$164","v":0}]
[null,1111138532,"PR240094","Колосок Природа Коктейль сафлор, ліс.ягода, кокос д/хвил. папуг, 90 г","Більше 100","Ласощі для птахів",34.61,54,{"$f":"Природа!I$165","v":0},{"$f":"Природа!J$165","v":0}]
[null,1111138267,"PR240099","Колосок Природа Коктейль фрукти, горіхи, кокос для гризунів, 90 г","Більше 100","Ласощі для гризунів",34.5,54,{"$f":"Природа!I$166","v":0},{"$f":"Природа!J$166","v":0}]
[null,1111113899,"PR740054","Колосок Природа Лугові трави для екзотичних птахів, 140 г","Більше 10","Ласощі для птахів",28.44,44,{"$f":"Природа!I$167","v":0},{"$f":"Природа!J$167","v":0}]
[null,1111113900,"PR740027","Колосок Природа Лугові трави для папуг, 140 г","Більше 100","Ласощі для птахів",27.04,43,{"$f":"Природа!I$168","v":0},{"$f":"Природа!J$168","v":0}]
[null,1111117448,"PR740005","Колосок Природа МАКСІ Фруктовий для шиншил, 210 г","Більше 100","Ласощі для гризунів",44.34,69,{"$f":"Природа!I$169","v":0},{"$f":"Природа!J$169","v":0}]
[null,7490,"PR740050","Колосок Природа Медовий для гризунів, 140 г","Більше 100","Ласощі для гризунів",27.04,43,{"$f":"Природа!I$170","v":0},{"$f":"Природа!J$170","v":0}]
[null,7428,"PR740022","Колосок Природа Медовий для папуг, 140 г","Більше 100","Ласощі для птахів",27.04,43,{"$f":"Природа!I$171","v":0},{"$f":"Природа!J$171","v":0}]
[null,7395,"PR740049","Колосок Природа Медовий для середніх папуг, 140 г","Більше 100","Ласощі для птахів",28.44,44,{"$f":"Природа!I$172","v":0},{"$f":"Природа!J$172","v":0}]
[null,22713,"PR740018","Колосок Природа Мультивітамін для гризунів, 140 г","Більше 100","Ласощі для гризунів",27.04,43,{"$f":"Природа!I$173","v":0},{"$f":"Природа!J$173","v":0}]
[null,22640,"PR740020","Колосок Природа Мультивітамін для папуг, 140 г","Більше 100","Ласощі для птахів",27.04,43,{"$f":"Природа!I$174","v":0},{"$f":"Природа!J$174","v":0}]
[null,1111156058,"PR241257","Колосок Природа Мультизлак для папуги , 140 г","Більше 100","Ласощі для птахів",27.04,43,{"$f":"Природа!I$175","v":0},{"$f":"Природа!J$175","v":0}]
[null,1111115869,"PR740001","Колосок Природа Мультифрукт для середніх папуг, 140 г","Більше 100","Ласощі для птахів",28.44,44,{"$f":"Природа!I$176","v":0},{"$f":"Природа!J$176","v":0}]
[null,7512,"PR740051","Колосок Природа Овочевий для гризунів, 140 г","Більше 100","Ласощі для гризунів",27.04,43,{"$f":"Природа!I$177","v":0},{"$f":"Природа!J$177","v":0}]
[null,9777,"PR740023","Колосок Природа Овочевий для папуг, 140 г","Більше 100","Ласощі для птахів",27.04,43,{"$f":"Природа!I$178","v":0},{"$f":"Природа!J$178","v":0}]
[null,9785,"PR740057","Колосок Природа Фруктовий для гризунів, 140 г","Більше 100","Ласощі для гризунів",27.04,43,{"$f":"Природа!I$179","v":0},{"$f":"Природа!J$179","v":0}]
[null,7414,"PR740026","Колосок Природа Фруктовий для папуг, 140 г","Більше 100","Ласощі для птахів",27.04,43,{"$f":"Природа!I$180","v":0},{"$f":"Природа!J$180","v":0}]
[null,1111130420,"PR740228","Колосок Фієста Горіховий для гризунів, 100 г","Більше 100","Ласощі для гризунів",28.67,45,{"$f":"Природа!I$181","v":0},{"$f":"Природа!J$181","v":0}]
[null,1111130425,"PR740231","Колосок Фієста Горіховий для хвилястих папуг, 100 г","Більше 100","Ласощі для птахів",26.59,41,{"$f":"Природа!I$182","v":0},{"$f":"Природа!J$182","v":0}]
[null,1111130421,"PR740226","Колосок Фієста Лугові трави для гризунів, 100 г","Більше 100","Ласощі для гризунів",26.59,41,{"$f":"Природа!I$183","v":0},{"$f":"Природа!J$183","v":0}]
[null,1111130417,"PR740227","Колосок Фієста Медовий для гризунів, 100 г","Більше 100","Ласощі для гризунів",26.59,41,{"$f":"Природа!I$184","v":0},{"$f":"Природа!J$184","v":0}]
[null,1111130419,"PR740229","Колосок Фієста Мультивітамін для гризунів, 100 г","Більше 100","Ласощі для гризунів",24.93,45,{"$f":"Природа!I$185","v":0},{"$f":"Природа!J$185","v":0}]
[null,1111130424,"PR740233","Колосок Фієста Мультивітамін для середніх папуг, 100 г","Більше 100","Ласощі для птахів",24.93,45,{"$f":"Природа!I$186","v":0},{"$f":"Природа!J$186","v":0}]
[null,1111130427,"PR740230","Колосок Фієста Мультивітамін для хвилястих папуг, 100 г","Більше 100","Ласощі для птахів",28.67,45,{"$f":"Природа!I$187","v":0},{"$f":"Природа!J$187","v":0}]
[null,1111130418,"PR740235","Колосок Фієста Мультифрукт для гризунів, 100 г","Більше 100","Ласощі для гризунів",26.58,41,{"$f":"Природа!I$188","v":0},{"$f":"Природа!J$188","v":0}]
[null,1111130416,"PR740225","Колосок Фієста Овочевий для гризунів, 100 г","Більше 100","Ласощі для гризунів",28.67,45,{"$f":"Природа!I$189","v":0},{"$f":"Природа!J$189","v":0}]
[null,1111130422,"PR740236","Колосок Фієста Трави та мінерали для шиншил, 100 г","Більше 100","Ласощі для гризунів",24.93,45,{"$f":"Природа!I$190","v":0},{"$f":"Природа!J$190","v":0}]
[null,1111130426,"PR740232","Колосок Фієста Фруктовий для хвилястих папуг, 100 г","Більше 100","Ласощі для птахів",23.12,41,{"$f":"Природа!I$191","v":0},{"$f":"Природа!J$191","v":0}]
[null,1111155093,"PR241079","Корм «Екзотик» NEW","Більше 100","Корм для птахів",44.43,63,{"$f":"Природа!I$192","v":0},{"$f":"Природа!J$192","v":0}]
[null,1111155094,"PR241078","Корм «Канарка» NEW","Більше 100","Корм для птахів",43.27,61,{"$f":"Природа!I$193","v":0},{"$f":"Природа!J$193","v":0}]
[null,1111155091,"PR241081","Корм «Корела «Йод» NEW","Більше 100","Корм для птахів",32.9,46,{"$f":"Природа!I$194","v":0},{"$f":"Природа!J$194","v":0}]
[null,1111155092,"PR241080","Корм «Німфа» NEW","Більше 100","Корм для птахів",34.06,47,{"$f":"Природа!I$195","v":0},{"$f":"Природа!J$195","v":0}]
[null,1111155089,"PR241083","Корм «Папужка «Енергія» NEW","Більше 100","Корм для птахів",35.86,50.5,{"$f":"Природа!I$196","v":0},{"$f":"Природа!J$196","v":0}]
[null,1111155088,"PR241084","Корм «Папужка «Йод+ехінацея» NEW","Більше 100","Корм для птахів",35.86,50.5,{"$f":"Природа!I$197","v":0},{"$f":"Природа!J$197","v":0}]
[null,1111155086,"PR241086","Корм «Папужка «Йод+кокос» NEW","Більше 100","Корм для птахів",35.86,50.5,{"$f":"Природа!I$198","v":0},{"$f":"Природа!J$198","v":0}]
[null,1111155087,"PR241085","Корм «Папужка «Йод+колор» NEW","Більше 100","Корм для птахів",35.86,50.5,{"$f":"Природа!I$199","v":0},{"$f":"Природа!J$199","v":0}]
[null,1111155085,"PR241087","Корм «Папужка «Йод» NEW","Більше 100","Корм для птахів",35.86,50.5,{"$f":"Природа!I$200","v":0},{"$f":"Природа!J$200","v":0}]
[null,1111155090,"PR241082","Корм «Папужка «Юніор» NEW","Більше 100","Корм для птахів",37.19,51.5,{"$f":"Природа!I$201","v":0},{"$f":"Природа!J$201","v":0}]
[null,1111155103,"PR241073","Корм «Пацючок» NEW","Більше 100","Корм для гризунів",27.39,39,{"$f":"Природа!I$202","v":0},{"$f":"Природа!J$202","v":0}]
[null,1111155095,"PR241077","Корм «Шиншилка +Ензим» NEW","Більше 100","Корм для гризунів",34.14,48,{"$f":"Природа!I$203","v":0},{"$f":"Природа!J$203","v":0}]
[null,1111155096,"PR241076","Корм «Шиншилка» NEW","Більше 100","Корм для гризунів",35.299999999999997,49,{"$f":"Природа!I$204","v":0},{"$f":"Природа!J$204","v":0}]
[null,1111145397,"PR240464","Корм Біовіт д/риб Актив (пластин.) 10 г","Більше 100","Корм сухий для риб",15.25,20,{"$f":"Природа!I$205","v":0},{"$f":"Природа!J$205","v":0}]
[null,1111145398,"PR240465","Корм Біовіт д/риб Базис (пластин.) 10 г","Більше 100","Корм сухий для риб",14.91,20,{"$f":"Природа!I$206","v":0},{"$f":"Природа!J$206","v":0}]
[null,1111145400,"PR240467","Корм Біовіт д/риб Золоті рибки (гранул.) 10 г","Більше 100","Корм сухий для риб",15.02,20,{"$f":"Природа!I$207","v":0},{"$f":"Природа!J$207","v":0}]
[null,1111145395,"PR240462","Корм Біовіт д/риб Колор (пластин.) 10 г","Більше 100","Корм сухий для риб",15.23,20,{"$f":"Природа!I$208","v":0},{"$f":"Природа!J$208","v":0}]
[null,1111145396,"PR240463","Корм Біовіт д/риб Плант (пластин.) 10 г","Більше 100","Корм сухий для риб",15.25,20,{"$f":"Природа!I$209","v":0},{"$f":"Природа!J$209","v":0}]
[null,1111145404,"PR240469","Корм Біовіт д/риб Сомики (гранул.) 25 г","Більше 100","Корм сухий для риб",30.07,39,{"$f":"Природа!I$210","v":0},{"$f":"Природа!J$210","v":0}]
[null,1111145402,"PR240471","Корм Біовіт д/риб Супербаланс (гранул.) 25 г","Більше 100","Корм сухий для риб",23.36,30.5,{"$f":"Природа!I$211","v":0},{"$f":"Природа!J$211","v":0}]
[null,1111145399,"PR240466","Корм Біовіт д/риб Універсал (пластин.) 10 г","Більше 100","Корм сухий для риб",15.15,20,{"$f":"Природа!I$212","v":0},{"$f":"Природа!J$212","v":0}]
[null,1111145401,"PR240468","Корм Біовіт д/риб Цихліди (гранул.) 25 г","Більше 100","Корм сухий для риб",28.68,37,{"$f":"Природа!I$213","v":0},{"$f":"Природа!J$213","v":0}]
[null,1111145403,"PR240470","Корм Біовіт д/риб Черепашки (гранул.) 25 г","Більше 100","Корм сухий для черепах і рептилій",25.75,33.35,{"$f":"Природа!I$214","v":0},{"$f":"Природа!J$214","v":0}]
[null,1111159559,"PR241565","Корм Гранулят для гризунів 500 г","Більше 100","Корм для гризунів",49.32,69,{"$f":"Природа!I$215","v":0},{"$f":"Природа!J$215","v":0}]
[null,1111159560,"PR241564","Корм Гранулят для шиншил 500 г","Більше 100","Корм для гризунів",60.46,84,{"$f":"Природа!I$216","v":0},{"$f":"Природа!J$216","v":0}]
[null,1111155098,"PR241074","Корм для кролика «Біотин» NEW","Більше 100","Корм для гризунів",28.05,40,{"$f":"Природа!I$217","v":0},{"$f":"Природа!J$217","v":0}]
[null,1111155097,"PR241075","Корм для кролика NEW","Більше 100","Корм для гризунів",28.05,40,{"$f":"Природа!I$218","v":0},{"$f":"Природа!J$218","v":0}]
[null,1111155100,"PR241069","Корм для морських свинок «Біотин» NEW","Більше 100","Корм для гризунів",28.05,40,{"$f":"Природа!I$219","v":0},{"$f":"Природа!J$219","v":0}]
[null,1111155099,"PR241071","Корм для морських свинок NEW","Більше 100","Корм для гризунів",28.05,40,{"$f":"Природа!I$220","v":0},{"$f":"Природа!J$220","v":0}]
[null,23648,"PR740117","Корм для риб  Аквабазис  10 г","Більше 100","Корм сухий для риб",9.7899999999999991,13,{"$f":"Природа!I$221","v":0},{"$f":"Природа!J$221","v":0}]
[null,1111126588,"PR740095","Корм для риб  Аквабаланс  10 г","Більше 100","Корм сухий для риб",9.7899999999999991,13,{"$f":"Природа!I$222","v":0},{"$f":"Природа!J$222","v":0}]
[null,23652,"PR740119","Корм для риб  Аквавіт  10 г","Більше 100","Корм сухий для риб",9.7899999999999991,13,{"$f":"Природа!I$223","v":0},{"$f":"Природа!J$223","v":0}]
[null,1111114418,"PR740121","Корм для риб  Акваінтенсив  10 г","Більше 100","Корм сухий для риб",9.7899999999999991,13,{"$f":"Природа!I$224","v":0},{"$f":"Природа!J$224","v":0}]
[null,1111114419,"PR740120","Корм для риб  Акваколор  10 г","Більше 100","Корм сухий для риб",9.7899999999999991,13,{"$f":"Природа!I$225","v":0},{"$f":"Природа!J$225","v":0}]
[null,5015,"PR740111","Корм для риб  Аквамікс  10 г","Більше 100","Корм сухий для риб",9.7899999999999991,13,{"$f":"Природа!I$226","v":0},{"$f":"Природа!J$226","v":0}]
[null,23651,"PR740118","Корм для риб  Аквамін  10 г","Більше 100","Корм сухий для риб",9.7899999999999991,13,{"$f":"Природа!I$227","v":0},{"$f":"Природа!J$227","v":0}]
[null,5027,"PR740112","Корм для риб  Акваплант  10 г","Більше 100","Корм сухий для риб",9.7899999999999991,13,{"$f":"Природа!I$228","v":0},{"$f":"Природа!J$228","v":0}]
[null,5028,"PR740113","Корм для риб  Акварубін  10 г","Більше 100","Корм сухий для риб",9.7899999999999991,13,{"$f":"Природа!I$229","v":0},{"$f":"Природа!J$229","v":0}]
[null,1111126590,"PR740093","Корм для риб  Акватропік  10 г","Більше 10","Корм сухий для риб",9.7899999999999991,13,{"$f":"Природа!I$230","v":0},{"$f":"Природа!J$230","v":0}]
[null,10775,"PR740115","Корм для риб  Гаммарус  10 г","Більше 100","Корм сухий для риб",10.63,13,{"$f":"Природа!I$231","v":0},{"$f":"Природа!J$231","v":0}]
[null,3933,"PR740114","Корм для риб  Дафнія  10 г","Більше 100","Корм сухий для риб",8.09,10.35,{"$f":"Природа!I$232","v":0},{"$f":"Природа!J$232","v":0}]
[null,5026,"PR740116","Корм для риб  Мальок  10 г","Більше 100","Корм сухий для риб",9.7899999999999991,13,{"$f":"Природа!I$233","v":0},{"$f":"Природа!J$233","v":0}]
[null,1111126589,"PR740094","Корм для риб  Супермікс  10 г","Більше 100","Корм сухий для риб",9.7899999999999991,13,{"$f":"Природа!I$234","v":0},{"$f":"Природа!J$234","v":0}]
[null,1111155102,"PR241072","Корм для хом’яків «Колор + Ензим» NEW","Більше 100","Корм для гризунів",28.16,40,{"$f":"Природа!I$235","v":0},{"$f":"Природа!J$235","v":0}]
[null,1111155101,"PR241070","Корм для хом’яків NEW","Більше 100","Корм для гризунів",27.39,39,{"$f":"Природа!I$236","v":0},{"$f":"Природа!J$236","v":0}]
[null,1111112826,"PR740147","Корм ЖАКО 1 кг (для великих папуг)","Більше 100","Корм для птахів",100.78,142.5,{"$f":"Природа!I$237","v":0},{"$f":"Природа!J$237","v":0}]
[null,1111146903,"PR740046","Корм Коктейль для гризуна Хом ячок 0,5 кг картон","Більше 100","Корм для гризунів",61.54,86,{"$f":"Природа!I$238","v":0},{"$f":"Природа!J$238","v":0}]
[null,1111145600,"PR740044 КАРТОН","Корм Коктейль для гризунів Кролик 0,5 кг","Більше 100","Корм для гризунів",59.92,83,{"$f":"Природа!I$239","v":0},{"$f":"Природа!J$239","v":0}]
[null,1111145604,"PR740045 КАРТОН","Корм Коктейль для гризунів Морська свинка 0,5 кг Картон","Більше 100","Корм для гризунів",65.2,91,{"$f":"Природа!I$240","v":0},{"$f":"Природа!J$240","v":0}]
[null,1111145601,"PR740043 КАРТОН","Корм Коктейль для гризунів Пацючок 0,5 кг Картон","Більше 100","Корм для гризунів",65.92,92,{"$f":"Природа!I$241","v":0},{"$f":"Природа!J$241","v":0}]
[null,1111145577,"PR740047 КАРТОН","Корм Коктейль для гризунів Шиншилка 0,5 кг Картон","Більше 100","Корм для гризунів",73.87,103,{"$f":"Природа!I$242","v":0},{"$f":"Природа!J$242","v":0}]
[null,1111158782,"PR241341 КАРТОН","Корм Коктейль для папуг Лугові трави 0,5 кг","Більше 100","Корм для птахів",53.57,75,{"$f":"Природа!I$243","v":0},{"$f":"Природа!J$243","v":0}]
[null,1111145599,"PR740030 Картон","Корм Коктейль для папуг Суперменю 0,5 кг","Більше 100","Корм для птахів",57.03,80,{"$f":"Природа!I$244","v":0},{"$f":"Природа!J$244","v":0}]
[null,1111153824,"PR241028","Корм Коктейль для папуги  Фруктовий  0,5кг Картон","Більше 100","Корм для птахів",60.14,85,{"$f":"Природа!I$245","v":0},{"$f":"Природа!J$245","v":0}]
[null,1111153846,"PR241029","Корм Коктейль для птахів  Екзотик  0,5кг Картон","Більше 10","Корм для птахів",61.35,86,{"$f":"Природа!I$246","v":0},{"$f":"Природа!J$246","v":0}]
[null,1111148081,"PR740032 Картон","Корм Коктейль для птахів  Канарка  0,5кг Картон","Більше 10","Корм для птахів",63.26,89,{"$f":"Природа!I$247","v":0},{"$f":"Природа!J$247","v":0}]
[null,1111148082,"PR740042 Картон","Корм Коктейль для середніх папуг Корела 0,5 кг (картон)","Більше 100","Корм для птахів",61.77,86,{"$f":"Природа!I$248","v":0},{"$f":"Природа!J$248","v":0}]
[null,1111167098,"PR242528","Корм Природа для вуличних птахів 500г арт.PR242528","Більше 100","Корм для птахів",32.14,45,{"$f":"Природа!I$249","v":0},{"$f":"Природа!J$249","v":0}]
[null,1111159306,"PR241389","Корм Природа Фієста Африка для великих папуг 0.6 кг арт.PR241389","Більше 100","Корм для птахів",65.09,92,{"$f":"Природа!I$250","v":0},{"$f":"Природа!J$250","v":0}]
[null,1111159312,"PR241378","Корм Природа Фієста Дегу для гризунів  0.6 кг арт.PR241378","Більше 100","Корм для гризунів",75.709999999999994,107,{"$f":"Природа!I$251","v":0},{"$f":"Природа!J$251","v":0}]
[null,1111159303,"PR241381","Корм Природа Фієста Енергія для хвилястих папуг 0.6 кг арт.PR241381","Більше 100","Корм для птахів",52.82,74,{"$f":"Природа!I$252","v":0},{"$f":"Природа!J$252","v":0}]
[null,1111159304,"PR241388","Корм Природа Фієста Йод для хвилястих папуг  0.6 кг арт.PR241388","Більше 100","Корм для птахів",51.63,72,{"$f":"Природа!I$253","v":0},{"$f":"Природа!J$253","v":0}]
[null,1111159311,"PR241387","Корм Природа Фієста Кролик для гризунів  0.6 кг арт.PR241387","Більше 100","Корм для гризунів",52.84,74,{"$f":"Природа!I$254","v":0},{"$f":"Природа!J$254","v":0}]
[null,1111159309,"PR241386","Корм Природа Фієста Морська свинка для гризунів 0.6 кг арт.PR241386","Більше 100","Корм для гризунів",51.89,73,{"$f":"Природа!I$255","v":0},{"$f":"Природа!J$255","v":0}]
[null,1111159305,"PR241385","Корм Природа Фієста Німфа для середніх папуг  0.6 кг арт.PR241385","Більше 100","Корм для птахів",54.09,76,{"$f":"Природа!I$256","v":0},{"$f":"Природа!J$256","v":0}]
[null,1111159310,"PR241384","Корм Природа Фієста Пацючок для гризунів  0.6 кг арт.PR241384","Більше 100","Корм для гризунів",51.52,72,{"$f":"Природа!I$257","v":0},{"$f":"Природа!J$257","v":0}]
[null,1111159302,"PR241383","Корм Природа Фієста Фруктовий для хвилястих папуг 0.6 кг арт.PR241383","Більше 100","Корм для птахів",53.18,74,{"$f":"Природа!I$258","v":0},{"$f":"Природа!J$258","v":0}]
[null,1111159307,"PR241382","Корм Природа Фієста Хом ячок для гризунів 600 г","Більше 100","Корм для гризунів",50.76,71,{"$f":"Природа!I$259","v":0},{"$f":"Природа!J$259","v":0}]
[null,1111159308,"PR241380","Корм Природа Фієста Шиншилка для гризунів 0.6 кг арт.PR241380","Більше 100","Корм для гризунів",55.89,79,{"$f":"Природа!I$260","v":0},{"$f":"Природа!J$260","v":0}]
[null,1111135843,"PR740083","Корм Раціон для дрібних гризунів 1,5 кг","Більше 100","Корм для гризунів",75.72,106,{"$f":"Природа!I$261","v":0},{"$f":"Природа!J$261","v":0}]
[null,1111135842,"PR740084","Корм Раціон для середніх гризунів 1,5 кг","Більше 100","Корм для гризунів",74.5,104,{"$f":"Природа!I$262","v":0},{"$f":"Природа!J$262","v":0}]
[null,1111135847,"PR740081","Корм Раціон для середніх папуг 1,5 кг","Більше 100","Корм для птахів",90.21,126.5,{"$f":"Природа!I$263","v":0},{"$f":"Природа!J$263","v":0}]
[null,1111135846,"PR740082","Корм Раціон для хвилястих папуг  Мультивітамін+йод  1,5 кг","Більше 100","Корм для птахів",87.62,123,{"$f":"Природа!I$264","v":0},{"$f":"Природа!J$264","v":0}]
[null,1111135844,"PR740085","Корм Раціон для шиншил 1,5 кг","Більше 100","Корм для гризунів",95.57,134,{"$f":"Природа!I$265","v":0},{"$f":"Природа!J$265","v":0}]
[null,7714,"PR740012","Крейда Природа для гризунів, 18 г","Більше 100","Вітаміни та мінерали",8.67,12.43,{"$f":"Природа!I$266","v":0},{"$f":"Природа!J$266","v":0}]
[null,7717,"PR740011","Крейда Природа для німфи, 18 г","Більше 100","Вітаміни та мінерали",8.67,12.43,{"$f":"Природа!I$267","v":0},{"$f":"Природа!J$267","v":0}]
[null,7712,"PR740010","Крейда Природа для хвилястих папуг, 18 г","Більше 100","Вітаміни та мінерали",8.67,12.43,{"$f":"Природа!I$268","v":0},{"$f":"Природа!J$268","v":0}]
[null,1111125111,"PR740759","Кульки-десерт Фієста для гризунів, 3 шт., 70г","Більше 10","Ласощі для гризунів",29.47,44,{"$f":"Природа!I$269","v":0},{"$f":"Природа!J$269","v":0}]
[null,1111162532,"PR241981","Лежак  KOKOS   №1 (48*38*18)","Більше 10","Лежаки",356.95,481.89,{"$f":"Природа!I$270","v":0},{"$f":"Природа!J$270","v":0}]
[null,1111162533,"PR241980","Лежак  KOKOS   №2 (54*44*20)","Більше 10","Лежаки",444.22,599.69000000000005,{"$f":"Природа!I$271","v":0},{"$f":"Природа!J$271","v":0}]
[null,1111162534,"PR241979","Лежак  KOKOS   №3 (64*50*22)","Більше 10","Лежаки",521.48,704,{"$f":"Природа!I$272","v":0},{"$f":"Природа!J$272","v":0}]
[null,1111160989,"PR241780","Лежак  LUX  5 (86*62*27), PR241780","Більше 10","Лежаки",859,1146,{"$f":"Природа!I$273","v":0},{"$f":"Природа!J$273","v":0}]
[null,1111160990,"PR241779","Лежак  Place  (58*48*16), PR241779","Менше 10","Лежаки",407.91,550.67999999999995,{"$f":"Природа!I$274","v":0},{"$f":"Природа!J$274","v":0}]
[null,1111162530,"PR241983","Лежак  TRANSFORMER  №1 (42*52*18)","Більше 10","Лежаки",491.5,663.53,{"$f":"Природа!I$275","v":0},{"$f":"Природа!J$275","v":0}]
[null,1111162531,"PR241982","Лежак  TRANSFORMER  №2 (54*66*20)","Більше 10","Лежаки",680.08,918.11,{"$f":"Природа!I$276","v":0},{"$f":"Природа!J$276","v":0}]
[null,1111168661,"PR242859","Лежак BERRY (60х50х18)","Більше 10","Лежаки",504.81,681.5,{"$f":"Природа!I$277","v":0},{"$f":"Природа!J$277","v":0}]
[null,1111173128,"PR243069","Лежак Buddy (50х40х12)","Більше 10","Лежаки",317,428,{"$f":"Природа!I$278","v":0},{"$f":"Природа!J$278","v":0}]
[null,1111170229,"PR242918","Лежак CORAL 1 смужка","Більше 10","Лежаки",332.77,449.24,{"$f":"Природа!I$279","v":0},{"$f":"Природа!J$279","v":0}]
[null,1111170230,"PR242919","Лежак CORAL 2 смужка","Більше 10","Лежаки",452.71,611.16,{"$f":"Природа!I$280","v":0},{"$f":"Природа!J$280","v":0}]
[null,1111170231,"PR242920","Лежак CORAL 3 смужка","Менше 10","Лежаки",587.86,793.61,{"$f":"Природа!I$281","v":0},{"$f":"Природа!J$281","v":0}]
[null,1111173943,"PR243089","Лежак Green (50х40х13)","Більше 10","Лежаки",348.71,470.76,{"$f":"Природа!I$282","v":0},{"$f":"Природа!J$282","v":0}]
[null,1111160929,"PR241776","Лежак LABYRINTH  1 (40*25*20)","Більше 10","Лежаки",293.68,396.47,{"$f":"Природа!I$283","v":0},{"$f":"Природа!J$283","v":0}]
[null,1111160930,"PR241777","Лежак LABYRINTH  2 (50*40*20)","Більше 10","Лежаки",434.15,586.11,{"$f":"Природа!I$284","v":0},{"$f":"Природа!J$284","v":0}]
[null,1111160931,"PR241778","Лежак LABYRINTH  3 (65*45*20)","Більше 10","Лежаки",631.05999999999995,851.93,{"$f":"Природа!I$285","v":0},{"$f":"Природа!J$285","v":0}]
[null,1111173941,"PR243091","Лежак Laki  (52х38х13)","Менше 10","Лежаки",346.74,468.1,{"$f":"Природа!I$286","v":0},{"$f":"Природа!J$286","v":0}]
[null,1111160985,"PR241784","Лежак LUX  1 (40*30*17)","Більше 10","Лежаки",261.3,352.75,{"$f":"Природа!I$287","v":0},{"$f":"Природа!J$287","v":0}]
[null,1111160986,"PR241783","Лежак LUX  2 (52*36*20)","Більше 10","Лежаки",370,494,{"$f":"Природа!I$288","v":0},{"$f":"Природа!J$288","v":0}]
[null,1111160987,"PR241782","Лежак LUX  3 (62*44*22)","Більше 10","Лежаки",569.1,768.28,{"$f":"Природа!I$289","v":0},{"$f":"Природа!J$289","v":0}]
[null,1111160988,"PR241781","Лежак LUX  4 (57*79*24)","Менше 10","Лежаки",732.27,988.56,{"$f":"Природа!I$290","v":0},{"$f":"Природа!J$290","v":0}]
[null,1111173944,"PR243088","Лежак Michael (52х40х12)","Більше 10","Лежаки",346.71,468.06,{"$f":"Природа!I$291","v":0},{"$f":"Природа!J$291","v":0}]
[null,1111172842,"PR243063","Лежак PRINT № 1 (50*40*12)","Більше 10","Лежаки",244.97,330.71,{"$f":"Природа!I$292","v":0},{"$f":"Природа!J$292","v":0}]
[null,1111172843,"PR243062","Лежак PRINT № 2 (60*52*14)","Менше 10","Лежаки",323.57,436.82,{"$f":"Природа!I$293","v":0},{"$f":"Природа!J$293","v":0}]
[null,1111172844,"PR243061","Лежак PRINT № 3 (82*64*16)","Менше 10","Лежаки",476.97,643.9,{"$f":"Природа!I$294","v":0},{"$f":"Природа!J$294","v":0}]
[null,1111168662,"PR242858","Лежак RICKY № 2 (50*40*16)","Більше 10","Лежаки",404,545.4,{"$f":"Природа!I$295","v":0},{"$f":"Природа!J$295","v":0}]
[null,1111168663,"PR242857","Лежак RICKY № 3 (62*48*18)","Більше 10","Лежаки",537.95000000000005,726.24,{"$f":"Природа!I$296","v":0},{"$f":"Природа!J$296","v":0}]
[null,1111173942,"PR243090","Лежак Robert (52х38х12)","Менше 10","Лежаки",311,420,{"$f":"Природа!I$297","v":0},{"$f":"Природа!J$297","v":0}]
[null,1111173132,"PR243065","Лежак Rocky  (60х60х10)","Менше 10","Лежаки",398,537,{"$f":"Природа!I$298","v":0},{"$f":"Природа!J$298","v":0}]
[null,1111173130,"PR243067","Лежак Skye (45х45х10)","Більше 10","Лежаки",221.34,298.81,{"$f":"Природа!I$299","v":0},{"$f":"Природа!J$299","v":0}]
[null,1111173131,"PR243066","Лежак Tommy (50х50х10)","Менше 10","Лежаки",316.38,427.12,{"$f":"Природа!I$300","v":0},{"$f":"Природа!J$300","v":0}]
[null,1111119222,"PR740437","Лопатка №3 для гранул і піску","Більше 100","Лопатки",13.73,17.46,{"$f":"Природа!I$301","v":0},{"$f":"Природа!J$301","v":0}]
[null,22758,"PR740440","Лопатка велика №2","Більше 100","Лопатки",13.26,18.559999999999999,{"$f":"Природа!I$302","v":0},{"$f":"Природа!J$302","v":0}]
[null,23208,"PR740438","Лопатка маленька №1","Більше 100","Лопатки",7.87,10.9,{"$f":"Природа!I$303","v":0},{"$f":"Природа!J$303","v":0}]
[null,4031,"PR740429СПЕЦЦЕНА","Матрац С16 36?56?2 см","Більше 10","Матраци",141.18,190.59,{"$f":"Природа!I$304","v":0},{"$f":"Природа!J$304","v":0}]
[null,4032,"PR740430СПЕЦЦЕНА","Матрац С17 44?66?2 см","Менше 10","Матраци",225.82,304.86,{"$f":"Природа!I$305","v":0},{"$f":"Природа!J$305","v":0}]
[null,10172,"PR740431СПЕЦЦЕНА","Матрац С17,5 52?77?2 см","Менше 10","Матраци",266.31,359.52,{"$f":"Природа!I$306","v":0},{"$f":"Природа!J$306","v":0}]
[null,4033,"PR740432СПЕЦЦЕНА","Матрац С18 57?84?2 см","Менше 10","Матраци",295.41000000000003,398.8,{"$f":"Природа!I$307","v":0},{"$f":"Природа!J$307","v":0}]
[null,5114,"PR740433СПЕЦЦЕНА","Матрац С19 84?112?2 см","Менше 10","Матраци",458.28,618.67999999999995,{"$f":"Природа!I$308","v":0},{"$f":"Природа!J$308","v":0}]
[null,1111115654,"PR740450","Миска  Модерн  №3 750 мл","Більше 10","Миски",32.76,44.2,{"$f":"Природа!I$309","v":0},{"$f":"Природа!J$309","v":0}]
[null,1111137281,"PR740451","Миска  Модерн  №4 1,25 л","Більше 10","Миски",42.28,56.38,{"$f":"Природа!I$310","v":0},{"$f":"Природа!J$310","v":0}]
[null,1111123540,"PR740452","Миска  Модерн  подвійна №1 для кота  Дует  400 мл","Більше 100","Миски",21.71,28.5,{"$f":"Природа!I$311","v":0},{"$f":"Природа!J$311","v":0}]
[null,1111161380,"PR241868","Миска «Етно», 200 мл, кераміка","Менше 10","Миски",309,402.12,{"$f":"Природа!I$312","v":0},{"$f":"Природа!J$312","v":0}]
[null,1111177032,"PR243390","Миска №0 0,12 л жовта","Більше 100","Миски",9.7100000000000009,11.94,{"$f":"Природа!I$313","v":0},{"$f":"Природа!J$313","v":0}]
[null,1111177033,"PR243389","Миска №0 0,12 л зелена","Більше 100","Миски",9.7100000000000009,11.94,{"$f":"Природа!I$314","v":0},{"$f":"Природа!J$314","v":0}]
[null,1111177031,"PR243391","Миска №0 0,12 л синя","Більше 100","Миски",9.7100000000000009,11.94,{"$f":"Природа!I$315","v":0},{"$f":"Природа!J$315","v":0}]
[null,1111177030,"PR243392","Миска №0 0,12 л червона","Більше 100","Миски",9.7100000000000009,11.94,{"$f":"Природа!I$316","v":0},{"$f":"Природа!J$316","v":0}]
[null,1111177036,"PR243386","Миска №1 0,3 л жовта","Більше 100","Миски",15.81,21.77,{"$f":"Природа!I$317","v":0},{"$f":"Природа!J$317","v":0}]
[null,1111177037,"PR243385","Миска №1 0,3 л зелена","Більше 10","Миски",15.81,21.77,{"$f":"Природа!I$318","v":0},{"$f":"Природа!J$318","v":0}]
[null,1111177035,"PR243387","Миска №1 0,3 л синя","Більше 10","Миски",15.81,21.77,{"$f":"Природа!I$319","v":0},{"$f":"Природа!J$319","v":0}]
[null,1111177034,"PR243388","Миска №1 0,3 л червона","Більше 10","Миски",15.81,21.77,{"$f":"Природа!I$320","v":0},{"$f":"Природа!J$320","v":0}]
[null,260,"PR740457","Миска №4 2,0 л","Більше 10","Миски",46.29,63,{"$f":"Природа!I$321","v":0},{"$f":"Природа!J$321","v":0}]
[null,1111117001,"PR740458*****","Миска №5 2,4 л","Більше 10","Миски",75.900000000000006,101.26,{"$f":"Природа!I$322","v":0},{"$f":"Природа!J$322","v":0}]
[null,1111118852,"PR740459*****","Миска №6 3,0 л","Немає в наявності","Миски",87.89,119.05,{"$f":"Природа!I$323","v":0},{"$f":"Природа!J$323","v":0}]
[null,1111125929,"PR740463","Миска для гризунів  Лариска  100 мл","Більше 100","Обладнання для кліток",9.5,12.33,{"$f":"Природа!I$324","v":0},{"$f":"Природа!J$324","v":0}]
[null,1111127212,"PR740464","Миска для кота плоска 200 мл","Більше 100","Миски",14.22,20.5,{"$f":"Природа!I$325","v":0},{"$f":"Природа!J$325","v":0}]
[null,1111124815,"PR740465","Миска для персидського кота 400 мл","Більше 100","Миски",17.739999999999998,24.59,{"$f":"Природа!I$326","v":0},{"$f":"Природа!J$326","v":0}]
[null,1111136799,"PR740466","Миска для спанієля 750 мл","Більше 10","Миски",29.89,39.36,{"$f":"Природа!I$327","v":0},{"$f":"Природа!J$327","v":0}]
[null,1111177008,"PR243414","Миска Модерн №0 0, 2л світло-блакитна","Більше 100","Миски",11.91,16.73,{"$f":"Природа!I$328","v":0},{"$f":"Природа!J$328","v":0}]
[null,1111177006,"PR243416","Миска Модерн №0 0,2 л рожево-бежева","Більше 100","Миски",11.91,16.73,{"$f":"Природа!I$329","v":0},{"$f":"Природа!J$329","v":0}]
[null,1111177007,"PR243415","Миска Модерн №0 0,2 л світло-бежева","Більше 100","Миски",11.91,16.73,{"$f":"Природа!I$330","v":0},{"$f":"Природа!J$330","v":0}]
[null,1111177009,"PR243413","Миска Модерн №0 0,2 л світло-фіолетова","Більше 100","Миски",11.91,16.73,{"$f":"Природа!I$331","v":0},{"$f":"Природа!J$331","v":0}]
[null,1111177010,"PR243412","Миска Модерн №1 0,3 л рожево-бежева","Більше 100","Миски",15.82,21.47,{"$f":"Природа!I$332","v":0},{"$f":"Природа!J$332","v":0}]
[null,1111177011,"PR243411","Миска Модерн №1 0,3 л світло-бежева","Більше 100","Миски",15.82,21.47,{"$f":"Природа!I$333","v":0},{"$f":"Природа!J$333","v":0}]
[null,1111177012,"PR243410","Миска Модерн №1 0,3 л світло-блакитна","Більше 100","Миски",15.82,21.47,{"$f":"Природа!I$334","v":0},{"$f":"Природа!J$334","v":0}]
[null,1111177013,"PR243409","Миска Модерн №1 0,3 л світло-фіолетова","Більше 100","Миски",15.82,21.47,{"$f":"Природа!I$335","v":0},{"$f":"Природа!J$335","v":0}]
[null,265,"PR740461","Миска подвійна №1 для кота 400 мл","Більше 100","Миски",20.239999999999998,27.92,{"$f":"Природа!I$336","v":0},{"$f":"Природа!J$336","v":0}]
[null,1111116369,"PR740015","Мінерал Природа Зелене яблуко для гризунів, 18 г","Більше 100","Вітаміни та мінерали",8.67,12.43,{"$f":"Природа!I$337","v":0},{"$f":"Природа!J$337","v":0}]
[null,1111116162,"PR740013","Мінерал Природа Зелене яблуко для попуг, 18 г","Більше 100","Вітаміни та мінерали",8.67,12.43,{"$f":"Природа!I$338","v":0},{"$f":"Природа!J$338","v":0}]
[null,1111116191,"PR740016","Мінерал Природа Каротин для гризунів, 18 г","Більше 100","Вітаміни та мінерали",8.67,12.43,{"$f":"Природа!I$339","v":0},{"$f":"Природа!J$339","v":0}]
[null,1111133896,"PR740061","Мінерал Природа Максі Бурячок для гризунів, 124 г","Більше 100","Вітаміни та мінерали",32.11,46,{"$f":"Природа!I$340","v":0},{"$f":"Природа!J$340","v":0}]
[null,1111133898,"PR740062","Мінерал Природа Максі Каротин-трави для гризунів, 124 г","Більше 100","Вітаміни та мінерали",32.11,46,{"$f":"Природа!I$341","v":0},{"$f":"Природа!J$341","v":0}]
[null,1111133895,"PR740060","Мінерал Природа Максі Мультифрукт для птахів, 124 г","Більше 100","Вітаміни та мінерали",28.75,41,{"$f":"Природа!I$342","v":0},{"$f":"Природа!J$342","v":0}]
[null,1111133897,"PR740063","Мінерал Природа Максі Мюслі для гризунів, 124 г","Більше 100","Вітаміни та мінерали",28.75,41,{"$f":"Природа!I$343","v":0},{"$f":"Природа!J$343","v":0}]
[null,1111116190,"PR740014","Мінерал Природа Цитрус для папуг, 18 г","Більше 100","Вітаміни та мінерали",8.67,12.43,{"$f":"Природа!I$344","v":0},{"$f":"Природа!J$344","v":0}]
[null,1111125916,"PR240119","Наповнювач SANI PET НАТУРАЛЬНИЙ 10 кг","Більше 100","Наповнювачі деревні",185,240.6,{"$f":"Природа!I$345","v":0},{"$f":"Природа!J$345","v":0}]
[null,1111149902,"PR240791 лимон 2,5кг","Наповнювач деревний SANI PET УНІВЕРСАЛЬНИЙ 2,5 кг лимон","Більше 100","Наповнювачі деревні",49,63.4,{"$f":"Природа!I$346","v":0},{"$f":"Природа!J$346","v":0}]
[null,1111137941,"PR740416 натур 2,5кг","Наповнювач деревний SANI PET УНІВЕРСАЛЬНИЙ 2,5кг натур.","Більше 100","Наповнювачі деревні",49,63.4,{"$f":"Природа!I$347","v":0},{"$f":"Природа!J$347","v":0}]
[null,1111149888,"PR240793 яблоко 2,5кг","Наповнювач деревний SANI PET УНІВЕРСАЛЬНИЙ 2,5кг ЯБЛУКО","Більше 100","Наповнювачі деревні",49,63.4,{"$f":"Природа!I$348","v":0},{"$f":"Природа!J$348","v":0}]
[null,1111149903,"PR240792 лимон 5кг","Наповнювач деревний SANI PET УНІВЕРСАЛЬНИЙ 5 кг лимон","Більше 100","Наповнювачі деревні",96,126.3,{"$f":"Природа!I$349","v":0},{"$f":"Природа!J$349","v":0}]
[null,1111137942,"PR740415 натур 5кг","Наповнювач деревний SANI PET УНІВЕРСАЛЬНИЙ 5 кг натур.","Більше 100","Наповнювачі деревні",96,126.3,{"$f":"Природа!I$350","v":0},{"$f":"Природа!J$350","v":0}]
[null,1111149901,"PR240794 яблоко 5кг","Наповнювач деревний SANI PET УНІВЕРСАЛЬНИЙ 5 кг ЯБЛУКО","Більше 100","Наповнювачі деревні",96,126.3,{"$f":"Природа!I$351","v":0},{"$f":"Природа!J$351","v":0}]
[null,1111180855,"PR243572","Натуральні сушені ласощі д/собак Вим’я яловиче сушене 1000г","Більше 10","Ласощі для собак",453.81,590,{"$f":"Природа!I$352","v":0},{"$f":"Природа!J$352","v":0}]
[null,1111180854,"PR243573","Натуральні сушені ласощі д/собак Вим’я яловиче сушене 100г","Більше 10","Ласощі для собак",47.59,62,{"$f":"Природа!I$353","v":0},{"$f":"Природа!J$353","v":0}]
[null,1111180865,"PR243562","Натуральні сушені ласощі д/собак Жила станова яловича сушена 1000г","Більше 10","Ласощі для собак",473.12,615,{"$f":"Природа!I$354","v":0},{"$f":"Природа!J$354","v":0}]
[null,1111180864,"PR243563","Натуральні сушені ласощі д/собак Жила станова яловича сушена 100г","Більше 10","Ласощі для собак",53.73,70,{"$f":"Природа!I$355","v":0},{"$f":"Природа!J$355","v":0}]
[null,1111180869,"PR243558","Натуральні сушені ласощі д/собак Лапи курячі сушені 1000г","Більше 10","Ласощі для собак",342.29,445,{"$f":"Природа!I$356","v":0},{"$f":"Природа!J$356","v":0}]
[null,1111180868,"PR243559","Натуральні сушені ласощі д/собак Лапи курячі сушені 100г","Більше 10","Ласощі для собак",38.909999999999997,51,{"$f":"Природа!I$357","v":0},{"$f":"Природа!J$357","v":0}]
[null,1111180861,"PR243566","Натуральні сушені ласощі д/собак Легені яловичі сушені 500г","Більше 10","Ласощі для собак",270.73,352,{"$f":"Природа!I$358","v":0},{"$f":"Природа!J$358","v":0}]
[null,1111180860,"PR243567","Натуральні сушені ласощі д/собак Легені яловичі сушені 50г","Більше 10","Ласощі для собак",39.76,52,{"$f":"Природа!I$359","v":0},{"$f":"Природа!J$359","v":0}]
[null,1111180877,"PR243550","Натуральні сушені ласощі д/собак Мікс яловичий сушений 1000г","Більше 10","Ласощі для собак",442.74,575,{"$f":"Природа!I$360","v":0},{"$f":"Природа!J$360","v":0}]
[null,1111180859,"PR243568","Натуральні сушені ласощі д/собак Нирки яловичі сушені 1000г","Менше 10","Ласощі для собак",581.28,755,{"$f":"Природа!I$361","v":0},{"$f":"Природа!J$361","v":0}]
[null,1111180858,"PR243569","Натуральні сушені ласощі д/собак Нирки яловичі сушені 100г","Більше 10","Ласощі для собак",68.91,89,{"$f":"Природа!I$362","v":0},{"$f":"Природа!J$362","v":0}]
[null,1111180845,"PR243582","Натуральні сушені ласощі д/собак Пеніс яловичий сушений 1000г","Більше 10","Ласощі для собак",1445.52,1880,{"$f":"Природа!I$363","v":0},{"$f":"Природа!J$363","v":0}]
[null,1111180844,"PR243583","Натуральні сушені ласощі д/собак Пеніс яловичий сушений 100г","Більше 10","Ласощі для собак",177.03,230,{"$f":"Природа!I$364","v":0},{"$f":"Природа!J$364","v":0}]
[null,1111180857,"PR243570","Натуральні сушені ласощі д/собак Печінка яловича сушена 1000г","Більше 10","Ласощі для собак",438.28,570,{"$f":"Природа!I$365","v":0},{"$f":"Природа!J$365","v":0}]
[null,1111180856,"PR243571","Натуральні сушені ласощі д/собак Печінка яловича сушена 100г","Більше 10","Ласощі для собак",49.71,64,{"$f":"Природа!I$366","v":0},{"$f":"Природа!J$366","v":0}]
[null,1111180849,"PR243578","Натуральні сушені ласощі д/собак Рубець яловичий сушений 500г","Більше 10","Ласощі для собак",250.2,325,{"$f":"Природа!I$367","v":0},{"$f":"Природа!J$367","v":0}]
[null,1111180848,"PR243579","Натуральні сушені ласощі д/собак Рубець яловичий сушений 50г","Більше 10","Ласощі для собак",36.75,48,{"$f":"Природа!I$368","v":0},{"$f":"Природа!J$368","v":0}]
[null,1111180851,"PR243576","Натуральні сушені ласощі д/собак Рубець яловичий сушений слайсами 500г","Менше 10","Ласощі для собак",269.31,370,{"$f":"Природа!I$369","v":0},{"$f":"Природа!J$369","v":0}]
[null,1111180850,"PR243577","Натуральні сушені ласощі д/собак Рубець яловичий сушений слайсами 50г","Більше 10","Ласощі для собак",31.93,41,{"$f":"Природа!I$370","v":0},{"$f":"Природа!J$370","v":0}]
[null,1111180853,"PR243574","Натуральні сушені ласощі д/собак Стравохід яловичий сушений 1000г","Менше 10","Ласощі для собак",661.84,860,{"$f":"Природа!I$371","v":0},{"$f":"Природа!J$371","v":0}]
[null,1111180852,"PR243575","Натуральні сушені ласощі д/собак Стравохід яловичий сушений 100г","Більше 10","Ласощі для собак",90.32,118,{"$f":"Природа!I$372","v":0},{"$f":"Природа!J$372","v":0}]
[null,1111180847,"PR243580","Натуральні сушені ласощі д/собак Трахея яловича сушена рублена 500г","Менше 10","Ласощі для собак",242.02,315,{"$f":"Природа!I$373","v":0},{"$f":"Природа!J$373","v":0}]
[null,1111180846,"PR243581","Натуральні сушені ласощі д/собак Трахея яловича сушена рублена 50г","Більше 10","Ласощі для собак",32.29,42,{"$f":"Природа!I$374","v":0},{"$f":"Природа!J$374","v":0}]
[null,1111180875,"PR243552","Натуральні сушені ласощі д/собак Шлунок качиний сушений слайсами 1000г","Більше 10","Ласощі для собак",589.08000000000004,765,{"$f":"Природа!I$375","v":0},{"$f":"Природа!J$375","v":0}]
[null,1111180873,"PR243554","Натуральні сушені ласощі д/собак Шлунок курячий сушений слайсами 1000г","Менше 10","Ласощі для собак",661.19,860,{"$f":"Природа!I$376","v":0},{"$f":"Природа!J$376","v":0}]
[null,1111180872,"PR243555","Натуральні сушені ласощі д/собак Шлунок курячий сушений слайсами 100г","Більше 10","Ласощі для собак",98.18,127,{"$f":"Природа!I$377","v":0},{"$f":"Природа!J$377","v":0}]
[null,7666,"PR240253","Перекладина для птахів","Більше 100","Обладнання для кліток",8.26,10.83,{"$f":"Природа!I$378","v":0},{"$f":"Природа!J$378","v":0}]
[null,1111160233,"PR001082","Піддон середній 37x25 зелений. арт. PR001082","Менше 10","Запчастини для кліток, вольєрів",66.78,87,{"$f":"Природа!I$379","v":0},{"$f":"Природа!J$379","v":0}]
[null,1111161381,"PR241867","Підставка + 2 миски «Етно», 200 мл, кераміка","Більше 10","Миски",728,981.97,{"$f":"Природа!I$380","v":0},{"$f":"Природа!J$380","v":0}]
[null,8699,"PR740413","Підставка під миски 1,8 л","Менше 10","Підставки під миски",1005.33,1357.19,{"$f":"Природа!I$381","v":0},{"$f":"Природа!J$381","v":0}]
[null,8665,"PR740414","Підставка під миски 2,8 л","Менше 10","Підставки під миски",1040.67,1404.9,{"$f":"Природа!I$382","v":0},{"$f":"Природа!J$382","v":0}]
[null,1111160179,"PR241686","Пісок для птахів з морськими мушлями 1кг","Більше 100","Пісок для птахів і гризунів",30.44,43,{"$f":"Природа!I$383","v":0},{"$f":"Природа!J$383","v":0}]
[null,1111160178,"PR241687","Пісок Природа для птахів 1000г арт.PR241687","Більше 100","Пісок для птахів і гризунів",28.1,45,{"$f":"Природа!I$384","v":0},{"$f":"Природа!J$384","v":0}]
[null,1111160180,"PR241685","Пісок Природа для шиншил 1000г арт.PR241685","Більше 100","Пісок для птахів і гризунів",31.67,44,{"$f":"Природа!I$385","v":0},{"$f":"Природа!J$385","v":0}]
[null,1111173133,"PR243064","Подушка-матрас Oliver  (80х60х10)","Більше 10","Лежаки",274.08,370,{"$f":"Природа!I$386","v":0},{"$f":"Природа!J$386","v":0}]
[null,1111173129,"PR243068","Подушка-матрас Ostin (80х60х10)","Більше 10","Лежаки",247,333,{"$f":"Природа!I$387","v":0},{"$f":"Природа!J$387","v":0}]
[null,1111136075,"PR740827","Поїлка автоматична для гризунів 150 мл","Більше 10","Обладнання для кліток",60.32,80.040000000000006,{"$f":"Природа!I$388","v":0},{"$f":"Природа!J$388","v":0}]
[null,1111139917,"PR240265","Поїлка автоматична для гризунів 300 мл","Більше 100","Обладнання для кліток",72.75,99.75,{"$f":"Природа!I$389","v":0},{"$f":"Природа!J$389","v":0}]
[null,1111133737,"PR740828","Поїлка автоматична для гризунів 60 мл","Більше 100","Обладнання для кліток",60.15,82.89,{"$f":"Природа!I$390","v":0},{"$f":"Природа!J$390","v":0}]
[null,8278,"PR740829","Поїлка для папуг 60 мл","Більше 100","Обладнання для кліток",11.41,16.489999999999998,{"$f":"Природа!I$391","v":0},{"$f":"Природа!J$391","v":0}]
[null,1111134306,"PR240222","Пояс гігієнічний для кобелів M","Більше 10","Гігієнічний одяг",235.09,317.38,{"$f":"Природа!I$392","v":0},{"$f":"Природа!J$392","v":0}]
[null,1111134305,"PR240223","Пояс гігієнічний для кобелів S","Більше 10","Гігієнічний одяг",195.66,264.13,{"$f":"Природа!I$393","v":0},{"$f":"Природа!J$393","v":0}]
[null,1111134217,"PR240224","Пояс гігієнічний для кобелів XS","Менше 10","Гігієнічний одяг",181.67,245.25,{"$f":"Природа!I$394","v":0},{"$f":"Природа!J$394","v":0}]
[null,1111145245,"PR240446","Природа Піца ласощі для гризунів, 40 г","Більше 10","Ласощі для гризунів",34.28,50,{"$f":"Природа!I$395","v":0},{"$f":"Природа!J$395","v":0}]
[null,1111141376,"PR240336","Сіно для гризунів  Люцерна  200 г","Більше 100","Корм для гризунів",40.4,57,{"$f":"Природа!I$396","v":0},{"$f":"Природа!J$396","v":0}]
[null,1111140748,"PR240339","Сіно для гризунів  М ята  200 г","Більше 100","Корм для гризунів",25.85,36,{"$f":"Природа!I$397","v":0},{"$f":"Природа!J$397","v":0}]
[null,1111140421,"PR240335","Сіно для гризунів  Фруктово-овочеве  200 г","Більше 100","Корм для гризунів",25.85,36,{"$f":"Природа!I$398","v":0},{"$f":"Природа!J$398","v":0}]
[null,4025,"PR740067","Сіно лугове для гризунів 300 г","Більше 100","Корм для гризунів",26.09,36,{"$f":"Природа!I$399","v":0},{"$f":"Природа!J$399","v":0}]
[null,1111132200,"PR740068","Сіно лугове для гризунів 600 г","Більше 100","Корм для гризунів",41.73,58,{"$f":"Природа!I$400","v":0},{"$f":"Природа!J$400","v":0}]
[null,7731,"PR740802/45К","Скриня 14х11 см","Менше 10","Декорації для акваріуму",314.5,408.68,{"$f":"Природа!I$401","v":0},{"$f":"Природа!J$401","v":0}]
[null,7747,"PR240108/46К","Скриня міні 13х8 см","Менше 10","Декорації для акваріуму",294,383.17,{"$f":"Природа!I$402","v":0},{"$f":"Природа!J$402","v":0}]
[null,1111162535,"PR241978","Сумка-переноска  BASIC  №1 (37*30*23)","Більше 10","Сумки-переноски, рюкзаки",701.2,946.62,{"$f":"Природа!I$403","v":0},{"$f":"Природа!J$403","v":0}]
[null,1111162536,"PR241977","Сумка-переноска  BASIC  №2 (41*30*26)","Більше 10","Сумки-переноски, рюкзаки",787.92,1063.69,{"$f":"Природа!I$404","v":0},{"$f":"Природа!J$404","v":0}]
[null,1111162537,"PR241976","Сумка-переноска  BASIC  №3 (42*32*24)","Менше 10","Сумки-переноски, рюкзаки",847.33,1143.9000000000001,{"$f":"Природа!I$405","v":0},{"$f":"Природа!J$405","v":0}]
[null,1111162538,"PR241975","Сумка-переноска  CONSTANTA  (40*28*28)","Більше 10","Сумки-переноски, рюкзаки",875.79,1182.32,{"$f":"Природа!I$406","v":0},{"$f":"Природа!J$406","v":0}]
[null,1111176060,"PR243275","Сумка-переноска BAG","Більше 10","Сумки-переноски, рюкзаки",574.41,775.46,{"$f":"Природа!I$407","v":0},{"$f":"Природа!J$407","v":0}]
[null,1111176059,"PR243276","Сумка-переноска CARRI","Більше 10","Сумки-переноски, рюкзаки",455.49,614.91,{"$f":"Природа!I$408","v":0},{"$f":"Природа!J$408","v":0}]
[null,1111176061,"PR243274","Сумка-переноска FABI","Менше 10","Сумки-переноски, рюкзаки",785.33,1060.2,{"$f":"Природа!I$409","v":0},{"$f":"Природа!J$409","v":0}]
[null,1854,"PR740064","Тирса для гризунів 900 г","Більше 100","Тирса",42.84,60.18,{"$f":"Природа!I$410","v":0},{"$f":"Природа!J$410","v":0}]
[null,1111158663,"PR241408","Трав_яні снеки Природа КАЛЕНДУЛА ТА МОРКВА для гризунів, 60 г","Більше 100","Ласощі для гризунів",33.72,52,{"$f":"Природа!I$411","v":0},{"$f":"Природа!J$411","v":0}]
[null,1111160922,"PR241768","Трав_яні снеки Природа КОКОС І ЯБЛУКО для гризунів, 60 г","Більше 10","Ласощі для гризунів",33.72,52,{"$f":"Природа!I$412","v":0},{"$f":"Природа!J$412","v":0}]
[null,1111160921,"PR241769","Трав_яні снеки Природа М ЯТА І ЯБЛУКО для гризунів, 60 г","Більше 100","Ласощі для гризунів",33.72,52,{"$f":"Природа!I$413","v":0},{"$f":"Природа!J$413","v":0}]
[null,1111158662,"PR241409","Трав_яні снеки Природа ЯБЛУКО ТА БУРЯК для гризунів, 60 г","Більше 100","Ласощі для гризунів",33.72,52,{"$f":"Природа!I$414","v":0},{"$f":"Природа!J$414","v":0}]
[null,1111158661,"PR241410","Трав_яні снеки Прирорда РОМАШКА ТА ГРУША для гризунів, 60 г","Більше 100","Ласощі для гризунів",33.72,52,{"$f":"Природа!I$415","v":0},{"$f":"Природа!J$415","v":0}]
[null,1111136584,"PR240122","Трава Природа Мікс швидкозростаюча для котів","Більше 100","Вітаміни та мінерали",20.329999999999998,26.26,{"$f":"Природа!I$416","v":0},{"$f":"Природа!J$416","v":0}]
[null,7096,"PR240123","Трава швидкозростаюча Природа для котів","Більше 100","Вітаміни та мінерали",20.329999999999998,26.26,{"$f":"Природа!I$417","v":0},{"$f":"Природа!J$417","v":0}]
[null,6315,"PR240225","Труси для собак 1 25-30 см","Менше 10","Гігієнічний одяг",86.2,118.1,{"$f":"Природа!I$418","v":0},{"$f":"Природа!J$418","v":0}]
[null,6316,"PR240226","Труси для собак 2 30-36 см","Менше 10","Гігієнічний одяг",88.12,118.97,{"$f":"Природа!I$419","v":0},{"$f":"Природа!J$419","v":0}]
[null,6317,"PR240227","Труси для собак 3 36-42 см","Менше 10","Гігієнічний одяг",90.11,121.64,{"$f":"Природа!I$420","v":0},{"$f":"Природа!J$420","v":0}]
[null,6318,"PR240228","Труси для собак 4 42-48 см","Менше 10","Гігієнічний одяг",99.35,134.12,{"$f":"Природа!I$421","v":0},{"$f":"Природа!J$421","v":0}]
[null,6319,"PR240229","Труси для собак 5 48-55 см","Менше 10","Гігієнічний одяг",100.82,138.12,{"$f":"Природа!I$422","v":0},{"$f":"Природа!J$422","v":0}]
[null,6320,"PR240230","Труси для собак 6 55-62 см","Менше 10","Гігієнічний одяг",105.82,142.86000000000001,{"$f":"Природа!I$423","v":0},{"$f":"Природа!J$423","v":0}]
[null,7660,"PR240232","Труси для собак ЛІТНІ 25-30 см Т1-Л","Більше 10","Гігієнічний одяг",84.85,114.55,{"$f":"Природа!I$424","v":0},{"$f":"Природа!J$424","v":0}]
[null,7659,"PR240233","Труси для собак ЛІТНІ 30-36 см Т2-Л","Менше 10","Гігієнічний одяг",86.22,118.12,{"$f":"Природа!I$425","v":0},{"$f":"Природа!J$425","v":0}]
[null,7661,"PR240234","Труси для собак ЛІТНІ 36-42 см Т3-Л","Більше 10","Гігієнічний одяг",88.05,118.86,{"$f":"Природа!I$426","v":0},{"$f":"Природа!J$426","v":0}]
[null,1111141708,"PR240380","Туалет глибокий із сіткою  Барсик 40?30?11 см","Більше 100","Туалети",135.27000000000001,182.69,{"$f":"Природа!I$427","v":0},{"$f":"Природа!J$427","v":0}]
[null,1111160622,"PR241739","Туалет для котів Comfort L 49х39х15, бордо","Більше 10","Туалети",216.5,291.07,{"$f":"Природа!I$428","v":0},{"$f":"Природа!J$428","v":0}]
[null,1111160623,"PR241740","Туалет для котів Comfort L 49х39х15, лайм","Більше 10","Туалети",216.5,291.07,{"$f":"Природа!I$429","v":0},{"$f":"Природа!J$429","v":0}]
[null,1111160621,"PR241698","Туалет для котів Comfort L 49х39х15, сірий","Більше 10","Туалети",216.5,291.07,{"$f":"Природа!I$430","v":0},{"$f":"Природа!J$430","v":0}]
[null,1111160624,"PR241741","Туалет для котів Comfort L 49х39х15, ультрамарин","Більше 10","Туалети",184.49,248,{"$f":"Природа!I$431","v":0},{"$f":"Природа!J$431","v":0}]
[null,1111160626,"PR241736","Туалет для котів Comfort M 41х30х13.5, бордо","Більше 10","Туалети",167.29,226.94,{"$f":"Природа!I$432","v":0},{"$f":"Природа!J$432","v":0}]
[null,1111160627,"PR241737","Туалет для котів Comfort M 41х30х13.5, лайм","Більше 10","Туалети",167.29,226.94,{"$f":"Природа!I$433","v":0},{"$f":"Природа!J$433","v":0}]
[null,1111160625,"PR241699","Туалет для котів Comfort M 41х30х13.5, сірий","Більше 100","Туалети",167.29,226.94,{"$f":"Природа!I$434","v":0},{"$f":"Природа!J$434","v":0}]
[null,1111160628,"PR241738","Туалет для котів Comfort M 41х30х13.5, ультрамарин","Більше 10","Туалети",167.29,226.94,{"$f":"Природа!I$435","v":0},{"$f":"Природа!J$435","v":0}]
[null,1111113280,"PR740434","Туалет для піску  Доллі  40?30?10 см","Більше 100","Туалети",80.349999999999994,109.32,{"$f":"Природа!I$436","v":0},{"$f":"Природа!J$436","v":0}]
[null,11360,"PR740436","Туалет для піску  Міні","Більше 100","Туалети",50.32,68.56,{"$f":"Природа!I$437","v":0},{"$f":"Природа!J$437","v":0}]
[null,1111115442,"PR740435","Туалет з рамкою  Маркіз","Більше 100","Туалети",108.69,147.43,{"$f":"Природа!I$438","v":0},{"$f":"Природа!J$438","v":0}]
[null,2096,"PR740443","Туалет з сіткою 36,5x27,5x5,5 см","Більше 100","Туалети",86.48,115.79,{"$f":"Природа!I$439","v":0},{"$f":"Природа!J$439","v":0}]
[null,1111111585,"PR740444","Туалет з сіткою N1 Light 34,5х26х5 см","Більше 100","Туалети",61.55,82.56,{"$f":"Природа!I$440","v":0},{"$f":"Природа!J$440","v":0}]
[null,1111162300,"PR241957","Тунель для гризунів, з повсті","Більше 10","Обладнання для кліток",58,78,{"$f":"Природа!I$441","v":0},{"$f":"Природа!J$441","v":0}]
[null,1111154285,"PR241105","Фігура з острова Пасхи 5,5х10х3 см","Менше 10","Декорації для акваріуму",210,272.83,{"$f":"Природа!I$442","v":0},{"$f":"Природа!J$442","v":0}]
[null,1111129743,"PR740757","Чумиза натуральна Фієста для гризунів, 25 г","Більше 100","Ласощі для гризунів",55.34,80,{"$f":"Природа!I$443","v":0},{"$f":"Природа!J$443","v":0}]
[null,1111129744,"PR740758","Чумиза натуральна Фієста для папуг, 25 г","Більше 100","Ласощі для птахів",55.34,80,{"$f":"Природа!I$444","v":0},{"$f":"Природа!J$444","v":0}]
[null,1111134706,"PR740830","Шар для гризунів d19 см","Більше 10","Обладнання для кліток",120.88,162.43,{"$f":"Природа!I$445","v":0},{"$f":"Природа!J$445","v":0}]
[null,1111140262,"PR240278","Шар-міні для гризунів d13 см","Більше 10","Обладнання для кліток",149.6,202.29,{"$f":"Природа!I$446","v":0},{"$f":"Природа!J$446","v":0}]
[null,1111166058,"PR242207","Шампунь ProVET ПрофіЛайн антибактеріальний для котів 300 мл","Більше 10","Косметика, засоби догляду для грумінгу",96.97,140,{"$f":"Профілайн!I$8","v":0},{"$f":"Профілайн!J$8","v":0}]
[null,1111166057,"PR242208","Шампунь ProVET ПрофіЛайн антибактеріальний для собак 300 мл","Більше 10","Косметика, засоби догляду для грумінгу",96.97,140,{"$f":"Профілайн!I$9","v":0},{"$f":"Профілайн!J$9","v":0}]
[null,1111172225,"PR242890","Шампунь ProVET ПрофіЛайн гіпоалергенний для собак 3 л","Менше 10","Косметика, засоби догляду для грумінгу",590,855,{"$f":"Профілайн!I$10","v":0},{"$f":"Профілайн!J$10","v":0}]
[null,1111166059,"PR242206","Шампунь ProVET ПрофіЛайн гіпоалергенний для собак 300 мл","Більше 100","Косметика, засоби догляду для грумінгу",96.97,140,{"$f":"Профілайн!I$11","v":0},{"$f":"Профілайн!J$11","v":0}]
[null,1111172226,"PR242889","Шампунь ProVET ПрофіЛайн глибоке очищ. з алое для котів та собак 3 л","Менше 10","Косметика, засоби догляду для грумінгу",590,855,{"$f":"Профілайн!I$12","v":0},{"$f":"Профілайн!J$12","v":0}]
[null,1111166060,"PR242205","Шампунь ProVET ПрофіЛайн глибоке очищення з алое для котів 300 мл","Більше 10","Косметика, засоби догляду для грумінгу",96.97,140,{"$f":"Профілайн!I$13","v":0},{"$f":"Профілайн!J$13","v":0}]
[null,1111166061,"PR242204","Шампунь ProVET ПрофіЛайн для собак з білою та світлою шерстю 300 мл","Більше 100","Косметика, засоби догляду для грумінгу",96.97,140,{"$f":"Профілайн!I$14","v":0},{"$f":"Профілайн!J$14","v":0}]
[null,1111166064,"PR242201","Шампунь ProVET ПрофіЛайн для тхорів та гризунів 300 мл","Більше 10","Косметика, засоби догляду для грумінгу",111.01,161,{"$f":"Профілайн!I$15","v":0},{"$f":"Профілайн!J$15","v":0}]
[null,1111166062,"PR242203","Шампунь ProVET ПрофіЛайн з кератином для довгошерстих котів 300 мл","Більше 10","Косметика, засоби догляду для грумінгу",96.97,140,{"$f":"Профілайн!I$16","v":0},{"$f":"Профілайн!J$16","v":0}]
[null,1111172227,"PR242888","Шампунь ProVET ПрофіЛайн з кератином для довгошерстих собак 3 л","Менше 10","Косметика, засоби догляду для грумінгу",590,855,{"$f":"Профілайн!I$17","v":0},{"$f":"Профілайн!J$17","v":0}]
[null,1111166063,"PR242202","Шампунь ProVET ПрофіЛайн з кератином для довгошерстих собак 300 мл","Більше 10","Косметика, засоби догляду для грумінгу",96.97,140,{"$f":"Профілайн!I$18","v":0},{"$f":"Профілайн!J$18","v":0}]
[null,1111166066,"PR242199","Шампунь ProVET Профілайн з ромашкою для кошенят 300 мл","Більше 10","Косметика, засоби догляду для грумінгу",110.42,160,{"$f":"Профілайн!I$19","v":0},{"$f":"Профілайн!J$19","v":0}]
[null,1111166065,"PR242200","Шампунь ProVET ПрофіЛайн з ромашкою для цуценят 300 мл","Більше 100","Косметика, засоби догляду для грумінгу",110.42,160,{"$f":"Профілайн!I$20","v":0},{"$f":"Профілайн!J$20","v":0}]
[null,1111141380,"PR020069","Краплі ProVET АКАРОСТОП для собак та котів 10 мл","Більше 100","Лікувальні препарати та засоби (соматичні препарати)",33,48,{"$f":"Стоп!I$8","v":0},{"$f":"Стоп!J$8","v":0}]
[null,1111151581,"PR020026 _1уп.(6пип.)","Краплі ProVET ІНСЕКТОСТОП для котів та собак, 6 піпеток по 0,8 мл","Більше 100","Протипаразитні препарати: антигельмінтні, інсектицидні, інсектоакарицидні, репелентні",60,87,{"$f":"Стоп!I$9","v":0},{"$f":"Стоп!J$9","v":0}]
[null,1111151582,"PR020027 _1 уп.(6пип.)","Краплі ProVET ІНСЕКТОСТОП для кошенят та цуценят, 6 піпеток по 0,5 мл","Більше 100","Протипаразитні препарати: антигельмінтні, інсектицидні, інсектоакарицидні, репелентні",56,82,{"$f":"Стоп!I$10","v":0},{"$f":"Стоп!J$10","v":0}]
[null,1111162044,"PR241746","Краплі ProVET МЕГАСТОП для котів 4-8 кг, 1п.х1,0 мл","Більше 100","Протипаразитні препарати: антигельмінтні, інсектицидні, інсектоакарицидні, репелентні",38,56,{"$f":"Стоп!I$11","v":0},{"$f":"Стоп!J$11","v":0}]
[null,1111151583,"PR020074_1уп.(4пип)","Краплі ProVET МЕГАСТОП для котів 4-8 кг, 4п.х1,0 мл","Більше 100","Протипаразитні препарати: антигельмінтні, інсектицидні, інсектоакарицидні, репелентні",131,190,{"$f":"Стоп!I$12","v":0},{"$f":"Стоп!J$12","v":0}]
[null,1111162043,"PR241747","Краплі ProVET МЕГАСТОП для котів до 4 кг, 1п.х0,5 мл","Більше 100","Протипаразитні препарати: антигельмінтні, інсектицидні, інсектоакарицидні, репелентні",35,51,{"$f":"Стоп!I$13","v":0},{"$f":"Стоп!J$13","v":0}]
[null,1111151584,"PR020073_1уп.(4пип)","Краплі ProVET МЕГАСТОП для котів до 4 кг, 4п.х0,5 мл","Більше 100","Протипаразитні препарати: антигельмінтні, інсектицидні, інсектоакарицидні, репелентні",120,175,{"$f":"Стоп!I$14","v":0},{"$f":"Стоп!J$14","v":0}]
[null,1111162047,"PR241743","Краплі ProVET МЕГАСТОП для собак 10-20 кг, 1п.х2,0 мл","Більше 100","Протипаразитні препарати: антигельмінтні, інсектицидні, інсектоакарицидні, репелентні",51,74,{"$f":"Стоп!I$15","v":0},{"$f":"Стоп!J$15","v":0}]
[null,1111151585,"PR020077_1уп.(4пип)","Краплі ProVET МЕГАСТОП для собак 10-20 кг, 4п.х2,0 мл","Більше 100","Протипаразитні препарати: антигельмінтні, інсектицидні, інсектоакарицидні, репелентні",174,253,{"$f":"Стоп!I$16","v":0},{"$f":"Стоп!J$16","v":0}]
[null,1111162048,"PR241742","Краплі ProVET МЕГАСТОП для собак 20-30 кг, 1п.х3,0 мл","Більше 100","Протипаразитні препарати: антигельмінтні, інсектицидні, інсектоакарицидні, репелентні",57,83,{"$f":"Стоп!I$17","v":0},{"$f":"Стоп!J$17","v":0}]
[null,1111151586,"PR020078_1уп.(4пип)","Краплі ProVET МЕГАСТОП для собак 20-30 кг, 4п.х3,0 мл","Більше 100","Протипаразитні препарати: антигельмінтні, інсектицидні, інсектоакарицидні, репелентні",198,286,{"$f":"Стоп!I$18","v":0},{"$f":"Стоп!J$18","v":0}]
[null,1111162046,"PR241744","Краплі ProVET МЕГАСТОП для собак 4-10 кг, 1п.х1,0 мл","Більше 10","Протипаразитні препарати: антигельмінтні, інсектицидні, інсектоакарицидні, репелентні",45,65,{"$f":"Стоп!I$19","v":0},{"$f":"Стоп!J$19","v":0}]
[null,1111151587,"PR020076_1уп(4пип)","Краплі ProVET МЕГАСТОП для собак 4-10 кг, 4п.х1,0 мл","Більше 100","Протипаразитні препарати: антигельмінтні, інсектицидні, інсектоакарицидні, репелентні",150,217,{"$f":"Стоп!I$20","v":0},{"$f":"Стоп!J$20","v":0}]
[null,1111162045,"PR241745","Краплі ProVET МЕГАСТОП для собак до 4 кг, 1п.х0,5 мл","Більше 100","Протипаразитні препарати: антигельмінтні, інсектицидні, інсектоакарицидні, репелентні",39,57,{"$f":"Стоп!I$21","v":0},{"$f":"Стоп!J$21","v":0}]
[null,1111151588,"PR020075_1уп (4пип)","Краплі ProVET МЕГАСТОП для собак до 4 кг, 4п.х0,5 мл","Більше 100","Протипаразитні препарати: антигельмінтні, інсектицидні, інсектоакарицидні, репелентні",128,185,{"$f":"Стоп!I$22","v":0},{"$f":"Стоп!J$22","v":0}]
[null,1111180396,"PR242512","Краплі PROVET МЕГАСТОП УЛЬТРА для котів 4-8 кг 4 п.х 0,8 мл","Більше 100","Протипаразитні препарати: антигельмінтні, інсектицидні, інсектоакарицидні, репелентні",191.98,278.39999999999998,{"$f":"Стоп!I$23","v":0},{"$f":"Стоп!J$23","v":0}]
[null,1111180399,"PR242505","Краплі PROVET МЕГАСТОП УЛЬТРА для собак 10-25 кг 4 п.х 2,5 мл","Більше 10","Протипаразитні препарати: антигельмінтні, інсектицидні, інсектоакарицидні, репелентні",273.7,396.9,{"$f":"Стоп!I$24","v":0},{"$f":"Стоп!J$24","v":0}]
[null,1111180400,"PR242504","Краплі PROVET МЕГАСТОП УЛЬТРА для собак 25-40 кг 4 п.х 4,0 мл","Більше 100","Протипаразитні препарати: антигельмінтні, інсектицидні, інсектоакарицидні, репелентні",421.26,610.79999999999995,{"$f":"Стоп!I$25","v":0},{"$f":"Стоп!J$25","v":0}]
[null,1111180398,"PR242506","Краплі PROVET МЕГАСТОП УЛЬТРА для собак 4-10 кг 4 п.х 1,0 мл","Більше 100","Протипаразитні препарати: антигельмінтні, інсектицидні, інсектоакарицидні, репелентні",210.96,305.89999999999998,{"$f":"Стоп!I$26","v":0},{"$f":"Стоп!J$26","v":0}]
[null,1111180397,"PR242507","Краплі PROVET МЕГАСТОП УЛЬТРА для собак до 4 кг 4 п.х 0,4 мл","Більше 10","Протипаразитні препарати: антигельмінтні, інсектицидні, інсектоакарицидні, репелентні",171.23,248.3,{"$f":"Стоп!I$27","v":0},{"$f":"Стоп!J$27","v":0}]
[null,1111138350,"PR020030","Краплі ProVET МІКОСТОП для котів та собак 10 мл","Більше 10","Лікувальні препарати та засоби (соматичні препарати)",32,46,{"$f":"Стоп!I$28","v":0},{"$f":"Стоп!J$28","v":0}]
[null,1111164730,"PR241915_1уп.(1пип)","Краплі ProVET МОКСІСТОП для котів 4-10 кг, 1 піпетка 1,0 мл","Більше 100","Протипаразитні препарати: антигельмінтні, інсектицидні, інсектоакарицидні, репелентні",82,119,{"$f":"Стоп!I$29","v":0},{"$f":"Стоп!J$29","v":0}]
[null,1111164729,"PR241916_1уп.(1пип)","Краплі ProVET МОКСІСТОП для котів до 4 кг, 1 піпетка 0,4 мл","Більше 10","Протипаразитні препарати: антигельмінтні, інсектицидні, інсектоакарицидні, репелентні",60,88,{"$f":"Стоп!I$30","v":0},{"$f":"Стоп!J$30","v":0}]
[null,1111164733,"PR241917_1уп.(1пип)*****","Краплі ProVET МОКСІСТОП для собак 10-25 кг, 1 піпетка 2,5 мл","Більше 10","Протипаразитні препарати: антигельмінтні, інсектицидні, інсектоакарицидні, репелентні",148,215,{"$f":"Стоп!I$31","v":0},{"$f":"Стоп!J$31","v":0}]
[null,1111164732,"PR241918_1уп.(1пип)","Краплі ProVET МОКСІСТОП для собак 4-10 кг, 1 піпетка 1,0 мл","Більше 10","Протипаразитні препарати: антигельмінтні, інсектицидні, інсектоакарицидні, репелентні",101,147,{"$f":"Стоп!I$32","v":0},{"$f":"Стоп!J$32","v":0}]
[null,1111164731,"PR241919_1уп.(1пип)","Краплі ProVET МОКСІСТОП для собак до 4 кг, 1 піпетка 0,4 мл","Більше 10","Протипаразитні препарати: антигельмінтні, інсектицидні, інсектоакарицидні, репелентні",83,120,{"$f":"Стоп!I$33","v":0},{"$f":"Стоп!J$33","v":0}]
[null,1111143954,"PR020120","Найшийник ProVET ІНСЕКТОСТОП для собак 70 см","Більше 100","Протипаразитні препарати: антигельмінтні, інсектицидні, інсектоакарицидні, репелентні",37,54,{"$f":"Стоп!I$34","v":0},{"$f":"Стоп!J$34","v":0}]
[null,1111143953,"PR020119","Нашийник ProVET ІНСЕКТОСТОП для котів та дрібних порід собак 35 см","Більше 100","Протипаразитні препарати: антигельмінтні, інсектицидні, інсектоакарицидні, репелентні",31,45,{"$f":"Стоп!I$35","v":0},{"$f":"Стоп!J$35","v":0}]
[null,1111143956,"PR020118","Нашийник ProVET СТОПБІО для котів та дрібних порід собак 35 см","Більше 100","Протипаразитні препарати: антигельмінтні, інсектицидні, інсектоакарицидні, репелентні",31,44,{"$f":"Стоп!I$36","v":0},{"$f":"Стоп!J$36","v":0}]
[null,1111143955,"PR020117","Нашийник ProVET СТОПБІО для собак 70 см","Більше 100","Протипаразитні препарати: антигельмінтні, інсектицидні, інсектоакарицидні, репелентні",38,55,{"$f":"Стоп!I$37","v":0},{"$f":"Стоп!J$37","v":0}]
[null,1111140834,"PR240978","Спрей ProVET ІНСЕКТОСТОП для котів та собак 100 мл","Більше 100","Протипаразитні препарати: антигельмінтні, інсектицидні, інсектоакарицидні, репелентні",101,146,{"$f":"Стоп!I$38","v":0},{"$f":"Стоп!J$38","v":0}]
[null,1111140835,"PR240979","Спрей ProVET ІНСЕКТОСТОП для котів та собак 250 мл","Більше 10","Протипаразитні препарати: антигельмінтні, інсектицидні, інсектоакарицидні, репелентні",176,256,{"$f":"Стоп!I$39","v":0},{"$f":"Стоп!J$39","v":0}]
[null,1111138351,"PR020031","Спрей ProVET МІКОСТОП для котів та собак 30 мл","Більше 10","Лікувальні препарати та засоби (соматичні препарати)",61,88,{"$f":"Стоп!I$40","v":0},{"$f":"Стоп!J$40","v":0}]
[null,1111138259,"PR020028","Суспензія ProVET ПРАЗІСТОП для котів та собак, 5 мл","Більше 100","Протипаразитні препарати: антигельмінтні, інсектицидні, інсектоакарицидні, репелентні",37,54,{"$f":"Стоп!I$41","v":0},{"$f":"Стоп!J$41","v":0}]
[null,1111138260,"PR020029","Суспензія ProVET СЕКССТОП для котів і собак 2.0 мл","Більше 100","Засоби для корекції поведінки",31,45,{"$f":"Стоп!I$42","v":0},{"$f":"Стоп!J$42","v":0}]
[null,1111164728,"PR241913_1уп.(2табл.)","Таблетки ProVET МОКСІСТОП макси для собак 10-20 кг, 2 шт по 500 мг","Більше 100","Протипаразитні препарати: антигельмінтні, інсектицидні, інсектоакарицидні, репелентні",135,196,{"$f":"Стоп!I$43","v":0},{"$f":"Стоп!J$43","v":0}]
[null,1111164727,"PR241914_1уп.(2табл.)","Таблетки ProVET МОКСІСТОП міді для собак 4-10 кг, 2 шт. по 120 мг","Більше 100","Протипаразитні препарати: антигельмінтні, інсектицидні, інсектоакарицидні, репелентні",107,156,{"$f":"Стоп!I$44","v":0},{"$f":"Стоп!J$44","v":0}]
[null,1111164726,"PR241920_1уп.(2табл.)","Таблетки ProVET МОКСІСТОП міні для котів та собак до 4 кг, 2х120","Більше 100","Протипаразитні препарати: антигельмінтні, інсектицидні, інсектоакарицидні, репелентні",82,118,{"$f":"Стоп!I$45","v":0},{"$f":"Стоп!J$45","v":0}]
[null,1111163329,"PR241756_1уп.(10таб)","Таблетки ProVET ПРАЗІСТОП для котів та собак 10 таб.","Більше 100","Протипаразитні препарати: антигельмінтні, інсектицидні, інсектоакарицидні, репелентні",68,99,{"$f":"Стоп!I$46","v":0},{"$f":"Стоп!J$46","v":0}]
[null,1111180402,"PR242503","Таблетки PROVET ПРАЗІСТОП УЛЬТРА для собак 2 табл","Більше 100","Протипаразитні препарати: антигельмінтні, інсектицидні, інсектоакарицидні, репелентні",56.96,82.6,{"$f":"Стоп!I$47","v":0},{"$f":"Стоп!J$47","v":0}]
[null,1111180403,"PR242959_1блист.(10таб)","Таблетки PROVET СЕКССТОП для котів та собак 10 табл","Більше 100","Засоби для корекції поведінки",27,39.1,{"$f":"Стоп!I$48","v":0},{"$f":"Стоп!J$48","v":0}]