{"text_format":"1","workbook":"xlsx","n_sheets":69,"sheets":["Новини","Змiст","8in1","Animonda","Aqua Medic","Aquael","Biokats","Brit Care","Brit Fresh","Brit Premium","Brit VetDiets","Brit Vitamins","Canina","Carnilove","Cats Best","Chipsi","Chris Christensen","Comfy","Cookie","Crown Royale","Deming","Dezynadog","Essence","ExoTerra","Filter sponge Ukr","Flexi","Fluval","Fop","FURminator","GimBi","GimCat","GimDog","Habitrail","Hagen","Half&Half","INTEGRA PROTECT","Jaba","Juwel","Kiwi Walker","KW-Zone","Laguna","Marina","Nechay ZOO","Pet Chef","Pet Fashion","PROFILINE","Profine","ProVET","ProVET аква","ProVET економ","SaniPet","Savory","SGbox","Special One","Tetra","Trixie","Tropical","True Fresh","Vitakraft","WahoPet","Yalute","Yee","Без бренда","ЕкоВет, фітокомплекси","Природа","Профілайн","Розница Бадди","Стоп","Загальне замовлення"],"not_rendered":{"charts":0,"images":2885,"macros":1,"external_links":0,"defined_names":0,"comments":0,"pivot_tables":0},"unopened":[],"bounds":{"document_bytes":16777216,"sheet_cells":100000,"rows_first":2000,"rows_last":500,"rows_between":2000,"halvings":0,"cell_chars":16384,"cell_head_chars":4096},"cells_cut":0,"cells_raw":0,"read":"whole","date_system":"1900"}

{"sheet":"Новини","index":0,"n_rows":4,"n_cols":7,"rows_kept":4,"cut":false,"hidden":false,"merged":[]}
[]
[null,null,null,null,null,null,"suziria.ua"]
[null,null,null,null,null,null,"0 800 21 82 99"]
[null,null,null,null,null,null,"feedback@suziria.ua"]

{"sheet":"Змiст","index":1,"n_rows":76,"n_cols":7,"rows_kept":76,"cut":false,"hidden":false,"merged":[]}
[]
[null,null,null,null,null,null,"suziria.ua"]
[null,null,null,null,null,null,"0 800 21 82 99"]
[null,null,null,null,null,null,"feedback@suziria.ua"]
[]
[]
[null,null,"ПРАЙС-ЛИСТ для формування замовлення"]
[null,"Зміст"]
["№","Назва сторінки","Посилання на сторінку","Примітки","Запитання"]
[1,"8in1","8in1"]
[2,"Animonda","Animonda"]
[3,"Aqua Medic","Aqua Medic"]
[4,"Aquael","Aquael"]
[5,"Biokats","Biokats"]
[6,"Brit Care","Brit Care"]
[7,"Brit Fresh","Brit Fresh"]
[8,"Brit Premium","Brit Premium"]
[9,"Brit VetDiets","Brit VetDiets"]
[10,"Brit Vitamins","Brit Vitamins"]
[11,"Canina","Canina"]
[12,"Carnilove","Carnilove"]
[13,"Cats Best","Cats Best"]
[14,"Chipsi","Chipsi"]
[15,"Chris Christensen","Chris Christensen"]
[16,"Comfy","Comfy"]
[17,"Cookie","Cookie"]
[18,"Crown Royale","Crown Royale"]
[19,"Deming","Deming"]
[20,"Dezynadog","Dezynadog"]
[21,"Essence","Essence"]
[22,"ExoTerra","ExoTerra"]
[23,"Filter sponge Ukr","Filter sponge Ukr"]
[24,"Flexi","Flexi"]
[25,"Fluval","Fluval"]
[26,"Fop","Fop"]
[27,"FURminator","FURminator"]
[28,"GimBi","GimBi"]
[29,"GimCat","GimCat"]
[30,"GimDog","GimDog"]
[31,"Habitrail","Habitrail"]
[32,"Hagen","Hagen"]
[33,"Half&Half","Half&Half"]
[34,"INTEGRA PROTECT","INTEGRA PROTECT"]
[35,"Jaba","Jaba"]
[36,"Juwel","Juwel"]
[37,"Kiwi Walker","Kiwi Walker"]
[38,"KW-Zone","KW-Zone"]
[39,"Laguna","Laguna"]
[40,"Marina","Marina"]
[41,"Nechay ZOO","Nechay ZOO"]
[42,"Pet Chef","Pet Chef"]
[43,"Pet Fashion","Pet Fashion"]
[44,"PROFILINE","PROFILINE"]
[45,"Profine","Profine"]
[46,"ProVET","ProVET"]
[47,"ProVET аква","ProVET аква"]
[48,"ProVET економ","ProVET економ"]
[49,"SaniPet","SaniPet"]
[50,"Savory","Savory"]
[51,"SGbox","SGbox"]
[52,"Special One","Special One"]
[53,"Tetra","Tetra"]
[54,"Trixie","Trixie"]
[55,"Tropical","Tropical"]
[56,"True Fresh","True Fresh"]
[57,"Vitakraft","Vitakraft"]
[58,"WahoPet","WahoPet"]
[59,"Yalute","Yalute"]
[60,"Yee","Yee"]
[61,"Без бренда","Без бренда"]
[62,"ЕкоВет, фітокомплекси","ЕкоВет, фітокомплекси"]
[63,"Природа","Природа"]
[64,"Профілайн","Профілайн"]
[65,"Розница Бадди","Розница Бадди"]
[66,"Стоп","Стоп"]
[67,"Загальне замовлення","Загальне замовлення"]

{"sheet":"8in1","index":2,"n_rows":48,"n_cols":10,"rows_kept":48,"cut":false,"hidden":false,"merged":[]}
[]
[null,null,null,null,null,null,"suziria.ua"]
[null,null,null,null,null,null,"0 800 21 82 99"]
[null,null,null,null,null,null,"feedback@suziria.ua"]
[]
["Зображення","Код","Артикул","Номенклатура","Наявність","Категорія","Ціна опт.","Ціна РРЦ","Замовлення, шт.","Сума, грн."]
[null,null,null,null,null,null,null,null,null,{"$f":"СУММ(J8:J48)","v":{"$error":"#NAME?"}}]
[null,1111135196,"660891 /115540*****","8in1 Excel Calcium для собак кормова добавка Кальцій 880 табл 400 г","Більше 10","Вітаміни для собак",1308.42,1766,0,{"$f":"G8*I8","v":0}]
[null,1111149426,"680234/6993 USA","8in1 NM ADV Cat SO Elimin Spray д/усунен плям/запахів кот лимон 946мл","Більше 100","Засоби для догляду за будинком з котами",720.06,1051,0,{"$f":"G9*I9","v":0}]
[null,1111149414,"680104/7016 USA","8in1 NM ADV Dog StainOdor Elimin Spray д/усун плям/зап собак 946 мл","Більше 100","Засоби для догляду за будинком з собаками",720.06,1040,0,{"$f":"G10*I10","v":0}]
[null,1111150121,"680443/680142/6947 USA","8in1 NM Advanced Cat SO Foam д/усунен плям/запах посил формула 518мл","Більше 10","Засоби для догляду за будинком з котами",516.12,762,0,{"$f":"G11*I11","v":0}]
[null,1111156830,"680398/1707 USA","8in1 NM Cat Orange Oxy Spray д/усунен плям і запахів від котів 709мл","Менше 10","Засоби для догляду за будинком з котами",552.17999999999995,819,0,{"$f":"G12*I12","v":0}]
[null,1111149419,"680476/680418/680067 USA","8in1 NM Cat Urine Destroyer Pour для усунення запахів сечі котів 946мл","Менше 10","Засоби для догляду за будинком з котами",657.66,861,0,{"$f":"G13*I13","v":0}]
[null,1111158238,"680397 USA","8in1 NM Dog Oxy Formula Spray д/усунення плям/запахів собак 946 мл","Більше 10","Засоби для догляду за будинком з собаками",630.6,941,0,{"$f":"G14*I14","v":0}]
[null,1111149411,"680005/6962 USA","8in1 NM Dog StainOdor Remover Spray д/усунення плям/запах собак 709мл","Більше 10","Засоби для догляду за будинком з собаками",531.24,762,0,{"$f":"G15*I15","v":0}]
[null,1111156829,"680520USA","8in1 NM Hard Floor Cleaner DASO Rem д/усунен плям/зап д/підлог 709мл","Більше 100","Засоби для догляду за будинком з собаками",575.82000000000005,842,0,{"$f":"G16*I16","v":0}]
[null,1111114528,"680514/680309","8in1 NM Housebreaking Spray д/цуценят привч до туалету спрей 236 мл","Більше 100","Корекція поведінки для собак",324.83999999999997,475,0,{"$f":"G17*I17","v":0}]
[null,1111131666,"680513/680287","8in1 NM JFC No More Spraying для котів від повторних міток спрей 709мл","Більше 10","Засоби для догляду за будинком з котами",633.05999999999995,932,0,{"$f":"G18*I18","v":0}]
[null,1111136392,"680205 /5552  USA","8in1 NM Litter Box Odor Destr д/усунення запаху котячого туалету 709мл","Більше 10","Засоби для догляду за будинком з котами",466.44,655,0,{"$f":"G19*I19","v":0}]
[null,1111137653,"680508/680219 /5558  USA","8in1 NM No More Marking Trig Sprау для собак від повторних міток 709мл","Більше 10","Корекція поведінки для котів",657.42,947,0,{"$f":"G20*I20","v":0}]
[null,1111201787,661823,"Вітаміни Excel Brewers Yeast д/соб і кот пивні дріжджі/часник 140шт","Більше 100","Вітаміни для собак",206.52,279,0,{"$f":"G21*I21","v":0}]
[null,1111201790,661833,"Вітаміни Excel Brewers Yeast д/соб і кот пивні дріжджі/часник 1430шт","Більше 100","Вітаміни для собак",1454.7,1964,0,{"$f":"G22*I22","v":0}]
[null,1111201788,661819,"Вітаміни Excel Brewers Yeast д/соб і кот пивні дріжджі/часник 260шт","Більше 100","Вітаміни для собак",337.2,457,0,{"$f":"G23*I23","v":0}]
[null,1111201789,661829,"Вітаміни Excel Brewers Yeast д/соб і кот пивні дріжджі/часник 780шт","Більше 10","Вітаміни для собак",872.64,1178,0,{"$f":"G24*I24","v":0}]
[null,1111201791,661824,"Вітаміни Excel Brewers Yeast д/собак вел/пор шкір/шерс дріжд/часн 80шт","Більше 100","Вітаміни для собак",349.68,471,0,{"$f":"G25*I25","v":0}]
[null,1111201811,661826,"Вітаміни Excel Calcium д/цуценят/дор/собак зуби/кістки кальцій 155шт","Більше 100","Вітаміни для собак",285.36,386,0,{"$f":"G26*I26","v":0}]
[null,1111131654,"660473 /109402*****","Вітаміни Excel Calcium д/цуценят/дор/собак зуби/кістки кальцій 155шт","Більше 100","Вітаміни для собак",285.36,386,0,{"$f":"G27*I27","v":0}]
[null,1111201795,661832,"Вітаміни Excel Calcium для собак кормова добавка Кальцій 1700шт","Менше 10","Вітаміни для собак",2338.56,3157,0,{"$f":"G28*I28","v":0}]
[null,1111201813,661831,"Вітаміни Excel Glucosamine MSM д/цуценят/дорос/собак для суглобів 55шт","Більше 10","Вітаміни для собак",677.58,916,0,{"$f":"G29*I29","v":0}]
[null,1111201812,661827,"Вітаміни Excel Glucosamine д/цуцен/доросл/собак для суглобів 55шт","Більше 10","Вітаміни для собак",605.94000000000005,817,0,{"$f":"G30*I30","v":0}]
[null,1111201796,661828,"Вітаміни Excel Glucosamine для собак Глюкозамін 110шт","Більше 10","Вітаміни для собак",1016.82,1372,0,{"$f":"G31*I31","v":0}]
[null,1111201810,661825,"Вітаміни Excel Multi Vit Small Breed д/собак дріб/пор мультивітам 70шт","Більше 100","Вітаміни для собак",393.3,531,0,{"$f":"G32*I32","v":0}]
[null,1111201793,661821,"Вітаміни Excel Multi Vit-Adult д/дор/собак здор/роз мультивітамін 70шт","Більше 100","Вітаміни для собак",393.3,531,0,{"$f":"G33*I33","v":0}]
[null,1111201794,661822,"Вітаміни Excel Multi Vitamin Senior д/літніх собак мультивітамін 70шт","Більше 100","Вітаміни для собак",392.28,530,0,{"$f":"G34*I34","v":0}]
[null,1111201792,661820,"Вітаміни Excel Multi Vit-Puppy д/цуценят здор/розв мультивітамін 100шт","Більше 100","Вітаміни для собак",345.54,466,0,{"$f":"G35*I35","v":0}]
[null,1111150461,"680321/7006 USA","Гігієнічний засіб 8in1 Pro-Sense д/соб і котів для вух лосьйон 118 мл","Менше 10","Догляд та гігієна для собак",403.26,573,0,{"$f":"G36*I36","v":0}]
[null,1111180894,680519,"Дезодоруючий спрей Natures miracle Aloe Rain 709мл","Більше 10","Засоби для догляду за будинком з собаками",421.56,620,0,{"$f":"G37*I37","v":0}]
[null,1111180893,680518,"Дезодоруючий спрей Natures miracle Lavender 709мл","Більше 10","Засоби для догляду за будинком з собаками",421.56,620,0,{"$f":"G38*I38","v":0}]
[null,1111161388,"661617/151821/661509СПЕЦ","Дешеддер 8in1 Perfect Coat для вичісування собак розмір L 10 см","Менше 10","Догляд та гігієна для собак",616.74,956,0,{"$f":"G39*I39","v":0}]
[null,1111161386,"661615/151753/661507СПЕЦ","Дешеддер 8in1 Perfect Coat для вичісування собак розмір S 4,5 см","Менше 10","Догляд та гігієна для собак",518.28,803,0,{"$f":"G40*I40","v":0}]
[null,1111161387,"661616/151791/661508СПЕЦ","Дешеддер 8in1 Perfect Coat для вичісування собак розмір М 6,5 см","Менше 10","Догляд та гігієна для собак",554.1,859,0,{"$f":"G41*I41","v":0}]
[null,1111161389,"661618/151869/661510СПЕЦ","Дешеддер 8in1 Perfect Coat для котів для вичісування 4,5см","Більше 10","Догляд та гігієна для котів",518.28,803,0,{"$f":"G42*I42","v":0}]
[null,1111149424,"680442/680135/6946 USA","Засіб 8in1 Nature_s Miracle для собак видалення плям та запахів 518мл","Більше 100","Засоби для догляду за будинком з собаками",516.12,762,0,{"$f":"G43*I43","v":0}]
[null,1111123510,"660293 /102250","Пелюшки 8in1 Training Pads для собак 56х56 см 14 шт","Більше 10","Пелюшки, підгузки для собак",388.92,545,0,{"$f":"G44*I44","v":0}]
[null,1111123511,"660296 /102281","Пелюшки 8in1 Training Pads для собак з целюлози 56x56см 30шт","Більше 10","Пелюшки, підгузки для собак",726.3,1016,0,{"$f":"G45*I45","v":0}]
[null,1111197314,"680539USA","Шампунь-кондиціонер 8in1 NM д/собак гіпоалергенний 473 мл","Більше 10","Догляд та гігієна для собак",459.9,676,0,{"$f":"G46*I46","v":0}]
[null,1111197313,"680538USA","Шампунь-кондиціонер 8in1 NM д/цуценят з аром бавовни 473 мл","Більше 10","Догляд та гігієна для собак",459.9,676,0,{"$f":"G47*I47","v":0}]
[null,1111197311,"680537USA","Шампунь-кондиціонер 8in1 NN д/собак з аром вівс мол та фіст 473 мл","Більше 10","Догляд та гігієна для собак",459.9,676,0,{"$f":"G48*I48","v":0}]

{"sheet":"Animonda","index":3,"n_rows":37,"n_cols":10,"rows_kept":37,"cut":false,"hidden":false,"merged":[]}
[]
[null,null,null,null,null,null,"suziria.ua"]
[null,null,null,null,null,null,"0 800 21 82 99"]
[null,null,null,null,null,null,"feedback@suziria.ua"]
[]
["Зображення","Код","Артикул","Номенклатура","Наявність","Категорія","Ціна опт.","Ціна РРЦ","Замовлення, шт.","Сума, грн."]
[null,null,null,null,null,null,null,null,null,{"$f":"СУММ(J8:J37)","v":{"$error":"#NAME?"}}]
[null,1111171484,"AM-83706","Carny Adult Beef Chicken Duck hearts д/кот ялович/курка/кач/серця 200г","Більше 100","Корм вологий для котів",85.68,120,0,{"$f":"G8*I8","v":0}]
[null,1111171489,"AM-83701","Carny Adult Beef Codfish with Parsley roots дор/коти ялов/тріска 200г","Більше 10","Корм вологий для котів",85.68,120,0,{"$f":"G9*I9","v":0}]
[null,1111171497,"AM-83717","Carny Adult Beef Codfish with Parsley roots дор/коти ялов/тріска 400г","Менше 10","Корм вологий для котів",125.46,176,0,{"$f":"G10*I10","v":0}]
[null,1111171485,"AM-83708","Carny Adult Beef Turkey Shrimps консерва д/кот ялов/індич/кревет 200г","Більше 100","Корм вологий для котів",85.68,120,0,{"$f":"G11*I11","v":0}]
[null,1111171488,"AM-83700","Carny Adult Beef Venison with Cowberries д/котів ялов/олен/брусн 200г","Більше 100","Корм вологий для котів",85.68,120,0,{"$f":"G12*I12","v":0}]
[null,1111171522,"AM-82732","GranCarno Adult Beef Chicken консерва д/доросл/собак ялович/курка 400г","Більше 10","Корм вологий для собак",127.92,179,0,{"$f":"G13*I13","v":0}]
[null,1111171531,"AM-82804","GranCarno Adult with Duck консерва для дорослих собак з качкою 800г","Більше 10","Корм вологий для собак",224.22,314,0,{"$f":"G14*I14","v":0}]
[null,1111171480,"AM-83051","Vom Feinsten Adult Turkey Trout консерва для котів індичка/форель 100г","Більше 100","Корм вологий для котів",53.4,74,0,{"$f":"G15*I15","v":0}]
[null,1111171475,"AM-83262","Vom Feinsten Adult with Chicken Beef Carrots кіт курка/ялов/морк 100г","Більше 100","Корм вологий для котів",45.96,65,0,{"$f":"G16*I16","v":0}]
[null,1111171469,"AM-83306","Vom Feinsten Adult with Chicken Seafood д/котів курка/морепродукт 100г","Більше 100","Корм вологий для котів",45.96,65,0,{"$f":"G17*I17","v":0}]
[null,1111171477,"AM-83113","Vom Feinsten Adult with Chicken Yoghurt centre кіт курка/йогурт 100г","Більше 10","Корм вологий для котів",47.64,67,0,{"$f":"G18*I18","v":0}]
[null,1111171478,"AM-83037","Vom Feinsten Adult with rabbit консерва д/котів крол/верш/соус 100г","Більше 100","Корм вологий для котів",48.06,67,0,{"$f":"G19*I19","v":0}]
[null,1111171479,"AM-83360","Vom Feinsten Adult with Turkey in Tomato sauce кіт инд/томат/соус 100г","Більше 100","Корм вологий для котів",45.96,65,0,{"$f":"G20*I20","v":0}]
[null,1111186681,82479,"Корм GranCarno Adult Beef/Deer+Apple конс д/соб ялов олен ябл 400 г","Більше 100","Корм вологий для собак",143.52000000000001,179,0,{"$f":"G21*I21","v":0}]
[null,1111183505,82484,"Корм GranCarno Adult Deer with Apple конс д/соб з олениною і ябл. 800г","Більше 10","Корм вологий для собак",211.5,296,0,{"$f":"G22*I22","v":0}]
[null,1111183503,82475,"Корм GranCarno Junior Turkey конс. д/цуцз інд 800г","Більше 10","Корм вологий для собак",211.5,296,0,{"$f":"G23*I23","v":0}]
[null,1111183502,82474,"Корм GranCarno JuniorTurkey конс. д/цуц з інд 400г","Більше 10","Корм вологий для собак",127.44,179,0,{"$f":"G24*I24","v":0}]
[null,1111189901,82483,"Корм GranCarno конс. д/соб з дичиною 800 г арт.82483","Більше 100","Корм вологий для собак",217.8,299,0,{"$f":"G25*I25","v":0}]
[null,1111171490,"AM-83707","Корм вологий Carny Adult Beef для котів з яловичиною 200г","Більше 10","Корм вологий для котів",85.68,120,0,{"$f":"G26*I26","v":0}]
[null,1111204253,"82436_К","Корм вологий GranCarno д/соб яловичина, буряк, ожина, кульбаба 400г","Більше 10","Корм вологий для собак",127.44,179,0,{"$f":"G27*I27","v":0}]
[null,1111204259,"83112_К","Корм вологий Vom Feinsten  д/котів індиче серце з молочним центром 150","Більше 10","Корм вологий для котів",59.82,84,0,{"$f":"G28*I28","v":0}]
[null,1111204262,"83448_К","Корм вологий Vom Feinsten  д/кошенят яловичина 100г","Більше 100","Корм вологий для котів",45.96,65,0,{"$f":"G29*I29","v":0}]
[null,1111207541,"AM-82310","ТЕРМ 07.25 ПОМ’ЯТ Vom Feinsten Adult with Turkey duck соб інд/кач 150г","Більше 10","Корм вологий для собак",29.94,0,0,{"$f":"G30*I30","v":0}]
[null,1111207540,"AM-82620","ТЕРМ 09.25 ПОМЯТ Vom Feinsten Junior with Beef Poultry конс ял/пт 150г","Більше 10","Корм вологий для собак",29.94,0,0,{"$f":"G31*I31","v":0}]
[null,1111207476,"AM-83037","ТЕРМ. 04.26, ПОМ’ЯТ. VomFeinsten Adult with rabbit конс/кот крол 100г","Менше 10","Корм вологий для котів",24.06,0,0,{"$f":"G32*I32","v":0}]
[null,1111206350,"UT82988","ТЕРМ. 04.26, ПОМ’ЯТ. Корм Vom Feinsten конс  д/соб індичка/сир 150г","Менше 10","Корм вологий для собак",30.06,0,0,{"$f":"G33*I33","v":0}]
[null,1111204108,"82310UT/82336","ТЕРМ. 09.25 Animonda Vom Feinsten sauce Adt Turkey інд/кач 150г","Більше 10","Корм вологий для собак",26.28,0,0,{"$f":"G34*I34","v":0}]
[null,1111206458,"82321_К","ТЕРМ. 11.25 Корм вологий Vom Feinsten Senior яловичина та курка 150г","Більше 10","Корм вологий для собак",29.94,0,0,{"$f":"G35*I35","v":0}]
[null,1111206716,"82967_К","ТЕРМ.11.25.Корм вологий Vom Feinsten  д/соб птиця та паста 150г","Більше 100","Корм вологий для собак",29.94,0,0,{"$f":"G36*I36","v":0}]
[null,1111207685,"AM-82610","ТЕРМ.11.25.ПОМ'ЯТ.Корм вологий Vom Feinsten Adult with Poultry Veal дл","Більше 10","Корм вологий для собак",29.94,0,0,{"$f":"G37*I37","v":0}]

{"sheet":"Aqua Medic","index":4,"n_rows":9,"n_cols":10,"rows_kept":9,"cut":false,"hidden":false,"merged":[]}
[]
[null,null,null,null,null,null,"suziria.ua"]
[null,null,null,null,null,null,"0 800 21 82 99"]
[null,null,null,null,null,null,"feedback@suziria.ua"]
[]
["Зображення","Код","Артикул","Номенклатура","Наявність","Категорія","Ціна опт.","Ціна РРЦ","Замовлення, шт.","Сума, грн."]
[null,null,null,null,null,null,null,null,null,{"$f":"СУММ(J8:J9)","v":{"$error":"#NAME?"}}]
[null,1111112730,"12516*****","Carbolit 62,5л / 25кг * 4mm pellets гранул. актив. вугілля","Менше 10","Аксесуари для обладнання",3100,4340,0,{"$f":"G8*I8","v":0}]
[null,10577,"415.00*****","Плитка-распределит.15х15","Менше 10","Аксесуари для обладнання",88.14,0,0,{"$f":"G9*I9","v":0}]

{"sheet":"Aquael","index":5,"n_rows":88,"n_cols":10,"rows_kept":88,"cut":false,"hidden":false,"merged":[]}
[]
[null,null,null,null,null,null,"suziria.ua"]
[null,null,null,null,null,null,"0 800 21 82 99"]
[null,null,null,null,null,null,"feedback@suziria.ua"]
[]
["Зображення","Код","Артикул","Номенклатура","Наявність","Категорія","Ціна опт.","Ціна РРЦ","Замовлення, шт.","Сума, грн."]
[null,null,null,null,null,null,null,null,null,{"$f":"СУММ(J8:J88)","v":{"$error":"#NAME?"}}]
[null,1111139146,"122979 / 114958 /113229","Акваріум Aquael Shrimp Set Smart для креветок прямий білий 19л","Менше 10","Акваріуми та акваріумні комплекти",4072.2,5700,0,{"$f":"G8*I8","v":0}]
[null,1111139141,"122977 /114956 /113228","Акваріум Aquael Smart Day Night для креветок білий прямий 10л","Менше 10","Акваріуми та акваріумні комплекти",3941.82,5519,0,{"$f":"G9*I9","v":0}]
[null,1111139147,"122980 / 114959 /113226","Акваріум Aquael Smart Day Night для креветок чорний прямий 30л","Менше 10","Акваріуми та акваріумні комплекти",4334.82,6068,0,{"$f":"G10*I10","v":0}]
[null,1111123670,"303091 /2369","Акваріум Aquael круглий d-23см 5л","Менше 10","Акваріуми та акваріумні комплекти",738.96,1035,0,{"$f":"G11*I11","v":0}]
[null,1111161652,"124533 /122730","Акваріумний комплект Aquael Leddy Day Night з балкою прямий білий 54л","Менше 10","Акваріуми та акваріумні комплекти",5051.88,7073,0,{"$f":"G12*I12","v":0}]
[null,1111161651,"124532 /122743","Акваріумний комплект Aquael Leddy Day Night з балкою прямий чорний 54л","Менше 10","Акваріуми та акваріумні комплекти",4860.66,6805,0,{"$f":"G13*I13","v":0}]
[null,1111145647,114549,"Вісь Aquael д/ротора нова/мод Turbo/Circulator/PFN кераміч 1500/2000л","Менше 10","Аксесуари для обладнання",135.18,189,0,{"$f":"G14*I14","v":0}]
[null,1111171626,122663,"Вісь Aquael для ротора ULTRAMAX/ULTRA/UNIPUMP керамічна 1000/1500л","Менше 10","Аксесуари для обладнання",205.38,288,0,{"$f":"G15*I15","v":0}]
[null,1111142248,"113903 /198226","Вкладиш Aquael для внутрішнього фільтра FAN-mikro Plus губка 2шт","Менше 10","Фільтри для акваріумів",123.96,173,0,{"$f":"G16*I16","v":0}]
[null,1111123699,"106612 /53969","Вкладиш Aquael для фільтра BioCeraMax Ultrapro 1200 керам/кільця 1л","Менше 10","Фільтри для акваріумів",488.94,685,0,{"$f":"G17*I17","v":0}]
[null,1111123568,"106615 /5399","Вкладиш Aquael для фільтра CarboMax Plus активоване вугілля 2шт 1л","Більше 10","Фільтри для акваріумів",393.66,551,0,{"$f":"G18*I18","v":0}]
[null,1111123662,106616,"Вкладиш Aquael для фільтра ZeoMax Plus цеоліт 1л","Менше 10","Фільтри для акваріумів",262.68,369,0,{"$f":"G19*I19","v":0}]
[null,1111142190,"113904 /198233 Standart","Вкладиш Aquael до внутрішнього фільтру Fan Mini Plus губка 2шт","Менше 10","Фільтри для акваріумів",141.66,198,0,{"$f":"G20*I20","v":0}]
[null,1111142189,"113905 /198240","Вкладиш Aquael до внутрішнього фільтру FAN-1 Plus губка 2шт","Більше 10","Фільтри для акваріумів",180,252,0,{"$f":"G21*I21","v":0}]
[null,1111142193,"113906 /198257","Вкладиш Aquael до внутрішнього фільтру FAN-2 Plus губка 2шт","Більше 10","Фільтри для акваріумів",243.18,340,0,{"$f":"G22*I22","v":0}]
[null,1111142249,"113907 /198264","Вкладиш Aquael до внутрішнього фільтру FAN-3 Plus губка 2шт","Менше 10","Фільтри для акваріумів",296.33999999999997,415,0,{"$f":"G23*I23","v":0}]
[null,1111123698,"106611 /53952","Вкладыш Aquael для фільтра BioCeraMax 600 керамічні кільця 1л","Більше 10","Фільтри для акваріумів",341.76,479,0,{"$f":"G24*I24","v":0}]
[null,1111147578,114043,"Ґрунт Aquael гравій натуральний 1,4-2мм 2кг","Більше 10","Грунти для акваріума",91.5,128,0,{"$f":"G25*I25","v":0}]
[null,1111147582,"115468 /246276","Ґрунт Aquael гравій натуральний 3-5мм 10кг","Менше 10","Грунти для акваріума",459.78,644,0,{"$f":"G26*I26","v":0}]
[null,1111147579,114044,"Ґрунт Aquael гравій натуральний 3-5мм 2кг","Більше 10","Грунти для акваріума",91.5,128,0,{"$f":"G27*I27","v":0}]
[null,1111147580,114045,"Ґрунт Aquael гравій натуральний 5-10мм 2кг","Більше 100","Грунти для акваріума",91.5,128,0,{"$f":"G28*I28","v":0}]
[null,1111147581,"131305/246271","Ґрунт Aquael для акваріума гравій базальтовий 2-4мм 10кг","Менше 10","Грунти для акваріума",459.6,644,0,{"$f":"G29*I29","v":0}]
[null,1111147576,114040,"Ґрунт Aquael для акваріума гравій базальтовий 2-4мм 2кг","Більше 10","Грунти для акваріума",91.5,128,0,{"$f":"G30*I30","v":0}]
[null,1111147585,"131304/246274","Ґрунт Aquael для акваріума гравій доломітовий 2-4мм 10кг","Більше 10","Грунти для акваріума",459.78,644,0,{"$f":"G31*I31","v":0}]
[null,1111147577,114042,"Ґрунт Aquael для акваріума гравій доломітовий 2-4мм 2кг","Більше 10","Грунти для акваріума",91.5,128,0,{"$f":"G32*I32","v":0}]
[null,1111147584,115113,"Ґрунт Aquael для акваріума кварцовий 1,5-5мм 2кг","Більше 10","Грунти для акваріума",91.5,128,0,{"$f":"G33*I33","v":0}]
[null,1111128588,"102068_ord","Двигун FZN- 2","Менше 10","Аксесуари для обладнання",884.4,1238,0,{"$f":"G34*I34","v":0}]
[null,1111148078,"249285 /246310_ord","Декорація Aquael Black quartz rock каміння кварц 20кг","Менше 10","Декорації для акваріума",2828.7,3961,0,{"$f":"G35*I35","v":0}]
[null,1111145933,"253065/246311_ord","Декорація Aquael для акваріума Коріння дерев натуральний 8-10кг","Менше 10","Декорації для акваріума",11879.58,16632,0,{"$f":"G36*I36","v":0}]
[null,4192,"100500 /0026","Комплект Aquael для розпилення води Sprinkler L 350/650","Менше 10","Аксесуари для обладнання",288.06,402,0,{"$f":"G37*I37","v":0}]
[null,1111138636,"113118_ord","Компресор АР-100 PLUS NEW","Менше 10","Компресори і помпи для акваріума",680.28,951,0,{"$f":"G38*I38","v":0}]
[null,1111138635,"113119_ord","Компресор АРR-150 PLUS NEW","Більше 10","Компресори і помпи для акваріума",792.96,1110,0,{"$f":"G39*I39","v":0}]
[null,22488,109733,"Контейнер Aquael для внутрішнього фільтра Turbo Filter 500","Менше 10","Аксесуари для обладнання",486.3,680,0,{"$f":"G40*I40","v":0}]
[null,13347,"100891 /0288","Корпус Aquael для внутрішнього фільтра FAN-1 Plus","Менше 10","Аксесуари для обладнання",233.1,327,0,{"$f":"G41*I41","v":0}]
[null,11040,"101174 /0290","Корпус Aquael для внутрішнього фільтра FAN-3 Plus","Менше 10","Аксесуари для обладнання",365.34,511,0,{"$f":"G42*I42","v":0}]
[null,6642,100413,"Корпус Aquael для внутрішнього фільтра FAN-mini Plus","Менше 10","Аксесуари для обладнання",188.28,264,0,{"$f":"G43*I43","v":0}]
[null,1111117445,"101648_ord","Корпус Aquael кварцовий для стерилізатора Sterilizer AS-5Вт","Менше 10","Аксесуари для обладнання",819.96,1149,0,{"$f":"G44*I44","v":0}]
[null,1111118778,"200171 /941240_ord","Лампа UV-C 11 Вт Philips/Osram","Менше 10","Освітлення для акваріумів",2009.7,2814,0,{"$f":"G45*I45","v":0}]
[null,1111163649,"123636*****","Модуль Aquael Retrofit LED Day Night Sunny J освітлювальн 17Вт 92,5см","Менше 10","Освітлення для акваріумів",1902.37,2759,0,{"$f":"G46*I46","v":0}]
[null,1111163180,"113536_ord","Набір кришок до акваріумного комплекту Glossy 100","Менше 10","Кришки для акваріума",1928.22,2699,0,{"$f":"G47*I47","v":0}]
[null,1111153509,121217,"Обігрівач Aquael Platinum Heater 100 д/акваріума 60-100л 100Вт 24,5см","Більше 10","Обігрівачі для акваріума",773.64,1463,0,{"$f":"G48*I48","v":0}]
[null,1111153502,121218,"Обігрівач Aquael Platinum Heater 150 д/акваріума 90-150л 150Вт 28,5см","Більше 10","Обігрівачі для акваріума",933.12,1306,0,{"$f":"G49*I49","v":0}]
[null,1111153508,121214,"Обігрівач Aquael Platinum Heater 25 для акваріума 10-25л 25Вт 20,5см","Менше 10","Обігрівачі для акваріума",818.04,1146,0,{"$f":"G50*I50","v":0}]
[null,1111153506,121221,"Обігрівач Aquael Platinum Heater 300 д/акваріума 250-300л 300Вт 36,0см","Більше 10","Обігрівачі для акваріума",1153.8,1616,0,{"$f":"G51*I51","v":0}]
[null,1111153808,121215,"Обігрівач Aquael Platinum Heater 50 для акваріума 15-50л 50Вт 36,0см","Більше 10","Обігрівачі для акваріума",716.28,1355,0,{"$f":"G52*I52","v":0}]
[null,1111153505,121216,"Обігрівач Aquael Platinum Heater 75 для акваріума 35-75л 75Вт 22,5см","Менше 10","Обігрівачі для акваріума",834.54,1168,0,{"$f":"G53*I53","v":0}]
[null,1111153507,"129614/115512_ord","Обігрівач Aquael Ultra Heater 50 для акваріума 15-50л 50Вт 16,3см","Менше 10","Обігрівачі для акваріума",1328.52,1861,0,{"$f":"G54*I54","v":0}]
[null,1111162574,"130412_ord","Обігрівач Aquael д/акваріуму Flow Heater проточний/сист/регулюв 500Вт","Менше 10","Обігрівачі для акваріума",3442.5,4820,0,{"$f":"G55*I55","v":0}]
[null,1111131840,222876,"Очищувач Aquael для ґрунту GV10 S 26см","Більше 10","Аксесуари для акваріума",390.78,547,0,{"$f":"G56*I56","v":0}]
[null,1111147575,"115466 /246273","Пісок Aquael для акваріума кварцевий 0,1-0,3мм 10кг","Менше 10","Грунти для акваріума",459.78,644,0,{"$f":"G57*I57","v":0}]
[null,1111147583,115112,"Пісок Aquael для акваріума кварцевий 0,4-1,2мм 2кг","Більше 10","Грунти для акваріума",91.5,128,0,{"$f":"G58*I58","v":0}]
[null,13100,"109436 /102809 /1100_ord","Помпа Aquael для фонтану AquaJet PFN 1500","Менше 10","Обладнання для ставка",3117.48,4365,0,{"$f":"G59*I59","v":0}]
[null,1111164836,"115028_ord","Помпа Aquael для фонтану PFN-6000 ECO 6000л/год","Менше 10","Обладнання для ставка",8134.32,11387,0,{"$f":"G60*I60","v":0}]
[null,1111117174,"100491 /1448","Присоски Aquael для кріплення акваріумного обладнання 24мм 4шт","Більше 10","Аксесуари для обладнання",180,252,0,{"$f":"G61*I61","v":0}]
[null,1111117172,"100492 /1449","Присоски Aquael для кріплення акваріумного обладнання 36мм 4 шт","Більше 10","Аксесуари для обладнання",213.66,298,0,{"$f":"G62*I62","v":0}]
[null,1111135239,109726,"Ротор Aquael до внутрішнього фільтру Circulator/Turbo Filter 1500","Менше 10","Аксесуари для обладнання",553.32000000000005,775,0,{"$f":"G63*I63","v":0}]
[null,1111118016,"101241 /3244","Ротор Aquael до внутрішнього фільтру FAN-mini Plus / FAN-1 Plus","Менше 10","Аксесуари для обладнання",164.7,231,0,{"$f":"G64*I64","v":0}]
[null,1111137478,109725,"Ротор д/внутрішнього фільтра Aquael Circulator 1000/Turbo Filter 1000","Менше 10","Аксесуари для обладнання",183,255,0,{"$f":"G65*I65","v":0}]
[null,1111171625,"121796_ord","Ротор для зовнішнього фільтра Aquael Ultramax 2000","Менше 10","Аксесуари для обладнання",632.1,885,0,{"$f":"G66*I66","v":0}]
[null,1111182162,"124227_ord","Світильник для акваріума LEDDY TUBE MINI 3 W","Менше 10","Освітлення для акваріумів",634.14,888,0,{"$f":"G67*I67","v":0}]
[null,1111145596,245268,"Термометр Aquael для акваріума з присоскою скляний 6см","Більше 10","Аксесуари для акваріума",115.14,161,0,{"$f":"G68*I68","v":0}]
[null,1111125378,"101103_ord","Трубка перфорована Aquael універсальна L=61 UNI","Менше 10","Аксесуари для обладнання",71.28,100,0,{"$f":"G69*I69","v":0}]
[null,1111131253,109182,"Фільтр Aquael внутрішн д/акваріума Circulator помпа 1000л/год/150-250л","Менше 10","Фільтри для акваріумів",1147.56,2172,0,{"$f":"G70*I70","v":0}]
[null,1111131254,109183,"Фільтр Aquael внутрішн д/акваріума Circulator помпа 1500л/год/250-350л","Менше 10","Фільтри для акваріумів",1839.54,2576,0,{"$f":"G71*I71","v":0}]
[null,1111131255,"109184_ord","Фільтр Aquael внутрішн д/акваріума Circulator помпа 2000л/год/350-500л","Менше 10","Фільтри для акваріумів",2233.2600000000002,3126,0,{"$f":"G72*I72","v":0}]
[null,1111131252,109181,"Фільтр Aquael внутрішній д/акваріума Circulator помпа 500л/год на 150л","Більше 10","Фільтри для акваріумів",799.8,1513,0,{"$f":"G73*I73","v":0}]
[null,1111114157,"101786 /3068","Фільтр Aquael внутрішній для акваріума Fan Mini Plus 260л/год 30-60л","Більше 10","Фільтри для акваріумів",743.64,1041,0,{"$f":"G74*I74","v":0}]
[null,1111114158,"102368 /3069","Фільтр Aquael внутрішній для акваріума Fan-1 Plus 320л/год на 60-100л","Більше 10","Фільтри для акваріумів",861.66,1206,0,{"$f":"G75*I75","v":0}]
[null,1111115429,"102369 /3070","Фільтр Aquael внутрішній для акваріума Fan-2 Plus 450л/год на 100-150л","Більше 10","Фільтри для акваріумів",1160.94,1625,0,{"$f":"G76*I76","v":0}]
[null,6870,"102370 /3071","Фільтр Aquael внутрішній для акваріума Fan-3 Plus 700л/год на 150-250л","Більше 10","Фільтри для акваріумів",1399.32,1959,0,{"$f":"G77*I77","v":0}]
[null,1111114823,"107621 /3067","Фільтр Aquael внутрішній для акваріума FAN-mikro Plus 250л/год на 30л","Більше 10","Фільтри для акваріумів",712.38,998,0,{"$f":"G78*I78","v":0}]
[null,1111130156,"107715 /111121","Фільтр Aquael внутрішній для акваріума Pat-Mini 400л/год на 120л","Більше 10","Фільтри для акваріумів",678.72,950,0,{"$f":"G79*I79","v":0}]
[null,1111159616,120665,"Фільтр Aquael д/аквариума префіл Ultramax 1500 15Вт 1500л/год 250-450л","Менше 10","Фільтри для акваріумів",10401.18,14561,0,{"$f":"G80*I80","v":0}]
[null,1111131636,109403,"Фільтр Aquael д/акваріума внутрішній Turbo Filter 1000л/год 150-250л","Менше 10","Фільтри для акваріумів",1719.78,2408,0,{"$f":"G81*I81","v":0}]
[null,1111131637,109404,"Фільтр Aquael д/акваріума внутрішній Turbo Filter 1500л/год 250-350л","Більше 10","Фільтри для акваріумів",2203.14,3084,0,{"$f":"G82*I82","v":0}]
[null,1111132013,109405,"Фільтр Aquael д/акваріума внутрішній Turbo Filter 2000л/год 350-500л","Менше 10","Фільтри для акваріумів",2586.7199999999998,3620,0,{"$f":"G83*I83","v":0}]
[null,1111131642,109401,"Фільтр Aquael для акваріума внутрішній Turbo Filter 500л/год до 150л","Більше 10","Фільтри для акваріумів",1198.68,1678,0,{"$f":"G84*I84","v":0}]
[null,1111138546,113175,"Фільтр Aquael для акваріума зовнішній Versamax-mini 230л/год на 10-40л","Менше 10","Фільтри для акваріумів",815.04,1140,0,{"$f":"G85*I85","v":0}]
[null,1111133345,109441,"Фільтр Aquael для акваріума зовнішнього Multikani 800л/год 20-320л","Менше 10","Фільтри для акваріумів",3267.18,4574,0,{"$f":"G86*I86","v":0}]
[null,9326,"102576 /0604_ord","Фільтр Aquael для ставка Klarjet 15000 Filter Set до 15000л","Менше 10","Обладнання для ставка",21741.599999999999,30438,0,{"$f":"G87*I87","v":0}]
[null,1111133271,"100241_ord","Штуцер Aquael для стерилизатора Sterilizer PS-15W/PS-30W/PS-55W","Менше 10","Аксесуари для обладнання",226.2,317,0,{"$f":"G88*I88","v":0}]

{"sheet":"Biokats","index":6,"n_rows":21,"n_cols":10,"rows_kept":21,"cut":false,"hidden":false,"merged":[]}
[]
[null,null,null,null,null,null,"suziria.ua"]
[null,null,null,null,null,null,"0 800 21 82 99"]
[null,null,null,null,null,null,"feedback@suziria.ua"]
[]
["Зображення","Код","Артикул","Номенклатура","Наявність","Категорія","Ціна опт.","Ціна РРЦ","Замовлення, шт.","Сума, грн."]
[null,null,null,null,null,null,null,null,null,{"$f":"СУММ(J8:J21)","v":{"$error":"#NAME?"}}]
[null,1111182071,"G-605180","Дезодорант Biokat_s Active Pearls для кот туал з актив вугіллям 700мл","Більше 10","Наповнювачі для котячих туалетів",244.2,330,0,{"$f":"G8*I8","v":0}]
[null,1111142261,"G-605159А","Дезодорант Biokat_s для кот туалету DEO Baby powder 700г арт 605159","Менше 10","Засоби для догляду за будинком з котами",334.32,452,0,{"$f":"G9*I9","v":0}]
[null,1111147228,"G-605173","Дезодорант Biokat_s для кот туалету DEO Cotton blossom 700г арт 605173","Менше 10","Засоби для догляду за будинком з котами",334.32,452,0,{"$f":"G10*I10","v":0}]
[null,1111142259,"G-605135","Дезодорант Biokat_s для кот. туалету DEO Spring 700г арт 605135","Менше 10","Засоби для догляду за будинком з котами",334.32,452,0,{"$f":"G11*I11","v":0}]
[null,1111138101,"G-75.64","Наповнювач Biokats д/кот/туалету Bianco Fresh бентоніт 0,25/5,0мм 10кг","Більше 10","Наповнювачі для котячих туалетів",756.84,984,0,{"$f":"G12*I12","v":0}]
[null,1111138102,"G-75.65","Наповнювач Biokats д/кот/туалету Bianco Fresh бентоніт 0,25/5,0мм 5кг","Більше 10","Наповнювачі для котячих туалетів",429.72,559,0,{"$f":"G13*I13","v":0}]
[null,1111134391,"G-613307/614458","Наповнювач Biokats д/кот/туалету Classic 3in1 бентонітовий 0,1/5мм 10л","Більше 100","Наповнювачі для котячих туалетів",412.92,537,0,{"$f":"G14*I14","v":0}]
[null,1111161000,"G-613789","Наповнювач Biokats д/кот/туалету Classic 3in1 бентонітовий 0,1/5мм 18л","Більше 10","Наповнювачі для котячих туалетів",772.5,1004,0,{"$f":"G15*I15","v":0}]
[null,1111161001,"G-613796","Наповнювач Biokats д/кот/туалету Classic Fresh 3in1 бентон 0,1/5мм 18л","Менше 10","Наповнювачі для котячих туалетів",911.7,1185,0,{"$f":"G16*I16","v":0}]
[null,1111147022,"G-617220/613413","Наповнювач Biokats д/котяч/туалету Classic Fresh 3in1 бентонітов 10кг","Більше 10","Наповнювачі для котячих туалетів",467.7,607,0,{"$f":"G17*I17","v":0}]
[null,1111145220,"G-613253","Наповнювач Biokats д/котячого туалету Diamond Classic бентонітовий 8л","Більше 10","Наповнювачі для котячих туалетів",718.92,935,0,{"$f":"G18*I18","v":0}]
[null,1111145221,"G-613260","Наповнювач Biokats д/котячого туалету Diamond Fresh бентонітовий 8л","Більше 10","Наповнювачі для котячих туалетів",739.74,963,0,{"$f":"G19*I19","v":0}]
[null,1111183200,"G-613925","Наповнювач Biokats для котяч туал Micro Fresh бентоніт 6л арт.613925","Більше 10","Наповнювачі для котячих туалетів",390.18,507,0,{"$f":"G20*I20","v":0}]
[null,1111206038,"G-613789","ПОРВ 16кг Наповнювач Biokats кот/туалет Classic 3in1 бент 0,1/5мм 18л","Менше 10","Наповнювачі для котячих туалетів",351.12,0,0,{"$f":"G21*I21","v":0}]

{"sheet":"Brit Care","index":7,"n_rows":218,"n_cols":10,"rows_kept":218,"cut":false,"hidden":false,"merged":[]}
[]
[null,null,null,null,null,null,"suziria.ua"]
[null,null,null,null,null,null,"0 800 21 82 99"]
[null,null,null,null,null,null,"feedback@suziria.ua"]
[]
["Зображення","Код","Артикул","Номенклатура","Наявність","Категорія","Ціна опт.","Ціна РРЦ","Замовлення, шт.","Сума, грн."]
[null,null,null,null,null,null,null,null,null,{"$f":"СУММ(J8:J218)","v":{"$error":"#NAME?"}}]
[null,1111162364,"171298/0822","Brit Care Cat Activity Support д/вуличних/котів індичка/курка 2кг","Більше 10","Корм сухий для котів",728.76,949,0,{"$f":"G8*I8","v":0}]
[null,1111162365,"171299/0839","Brit Care Cat Activity Support д/вуличних/котів індичка/курка 400г","Більше 100","Корм сухий для котів",181.62,236,0,{"$f":"G9*I9","v":0}]
[null,1111162363,"171297/0815","Brit Care Cat Adult Activity Support д/вуличн котів індичка/курка 7кг","Більше 10","Корм сухий для котів",2288.4,2976,0,{"$f":"G10*I10","v":0}]
[null,1111162367,"171302/0853","Brit Care Cat GF Indoor Anti-stress д/доросл/домашніх котів курка 2кг","Більше 10","Корм сухий для котів",728.76,949,0,{"$f":"G11*I11","v":0}]
[null,1111162368,"171303/0860","Brit Care Cat GF Indoor Anti-stress д/доросл/домашніх котів курка 400г","Більше 100","Корм сухий для котів",181.62,236,0,{"$f":"G12*I12","v":0}]
[null,1111175078,172542,"Brit Care Cat GF Kitten Digestion Immunity д/кошенят лосось 2кг","Більше 10","Корм сухий для котів",729.96,949,0,{"$f":"G13*I13","v":0}]
[null,1111175077,172541,"Brit Care Cat GF Kitten Digestion Immunity д/кошенят лосось 400г","Більше 100","Корм сухий для котів",196.92,256,0,{"$f":"G14*I14","v":0}]
[null,1111175079,172543,"Brit Care Cat GF Kitten Digestion Immunity д/кошенят лосось 7кг","Більше 10","Корм сухий для котів",2290.1999999999998,2976,0,{"$f":"G15*I15","v":0}]
[null,1111162349,"171278/0679","Brit Care Cat GF Kitten д/кошен д/здоров/розвитку курка/індичка 2кг","Більше 100","Корм сухий для котів",652.26,849,0,{"$f":"G16*I16","v":0}]
[null,1111162350,"171279/0686","Brit Care Cat GF Kitten д/кошен д/здоров/розвитку курка/індичка 400г","Більше 100","Корм сухий для котів",160.13999999999999,209,0,{"$f":"G17*I17","v":0}]
[null,1111162348,"171277/0662","Brit Care Cat GF Kitten д/кошенят д/здор/розвитку індичка/курка 7кг","Більше 10","Корм сухий для котів",2139.7800000000002,2784,0,{"$f":"G18*I18","v":0}]
[null,1111162366,"171301/0846","Brit Care Cat Grain Free Indoor Anti-stress д/дор/дом котів курка 7кг","Більше 10","Корм сухий для котів",2288.4,2976,0,{"$f":"G19*I19","v":0}]
[null,1111162370,"171306/0884","Brit Care Cat Haircare Healthy Shiny Coat д/дор/котів лосось/курка 2кг","Більше 10","Корм сухий для котів",728.76,949,0,{"$f":"G20*I20","v":0}]
[null,1111162369,"171305/0877","Brit Care Cat Haircare Healthy Shiny Coat д/дор/котів лосось/курка 7кг","Більше 100","Корм сухий для котів",2288.4,2976,0,{"$f":"G21*I21","v":0}]
[null,1111162371,"171307/0891","Brit Care Cat Haircare Healthy Shiny Coat д/котів лосось/курка 400г","Більше 100","Корм сухий для котів",181.62,236,0,{"$f":"G22*I22","v":0}]
[null,1111167491,171963,"Brit Care Cat Insect д/дорос/котів харчова/непернос комахи/риба 2кг","Більше 100","Корм сухий для котів",728.34,949,0,{"$f":"G23*I23","v":0}]
[null,1111167490,171962,"Brit Care Cat Insect д/дорос/котів харчова/непернос комахи/риба 400г","Більше 100","Корм сухий для котів",188.4,247,0,{"$f":"G24*I24","v":0}]
[null,1111180885,101052,"Brit Care Cat Kitten філе в соусі д/кошенят з індичкою пауч 85 г","Більше 100","Корм вологий для котів",43.26,57,0,{"$f":"G25*I25","v":0}]
[null,1111180882,101046,"Brit Care Cat Kitten філе в соусі д/кошенят з лососем пауч 85 г","Більше 100","Корм вологий для котів",42.48,56,0,{"$f":"G26*I26","v":0}]
[null,1111162373,"171310/0914","Brit Care Cat Large Power Vitality д/котів велик/порід качка/курка 2кг","Більше 10","Корм сухий для котів",728.76,949,0,{"$f":"G27*I27","v":0}]
[null,1111163841,"100532/0549","Brit Care Cat Pouch Sterilised шмат в желе д/дор/каст/кот утка/інд 85г","Більше 100","Корм вологий для котів",43.26,57,0,{"$f":"G28*I28","v":0}]
[null,1111163844,"100536/0587","Brit Care Cat Pouch філе в желе д/дорослих/котів тріска/форель 85г","Більше 10","Корм вологий для котів",43.26,57,0,{"$f":"G29*I29","v":0}]
[null,1111162663,"100530/0525","Brit Care Cat Pouch філе в соусі д/дорослих котів лосось 85г","Більше 100","Корм вологий для котів",43.26,57,0,{"$f":"G30*I30","v":0}]
[null,1111163843,"100535/0570","Brit Care Cat Pouch шматки в желе д/дор котів індичка/креветка 85г","Більше 100","Корм вологий для котів",43.26,57,0,{"$f":"G31*I31","v":0}]
[null,1111163842,"100533/0556","Brit Care Cat Pouch шматки в желе д/дорослих котів тунець 85г","Більше 100","Корм вологий для котів",43.26,57,0,{"$f":"G32*I32","v":0}]
[null,1111163845,"100537/0594","Brit Care Cat Pouch шматки в желе для кошенят лосось 85г","Більше 100","Корм вологий для котів",43.26,57,0,{"$f":"G33*I33","v":0}]
[null,1111162376,"171314/0945","Brit Care Cat Senior Weight Control д/котів/похилого/віку курка 2кг","Більше 10","Корм сухий для котів",728.76,949,0,{"$f":"G34*I34","v":0}]
[null,1111162351,"171281/0693","Brit Care Cat Sensitive д/котів чутливе/травлавлення індичка/лосос 7кг","Більше 100","Корм сухий для котів",2289.36,2976,0,{"$f":"G35*I35","v":0}]
[null,1111162352,"171282/0709","Brit Care Cat Sensitive д/котів чутливе/травлення індичка/лосось 2кг","Більше 100","Корм сухий для котів",729.42,949,0,{"$f":"G36*I36","v":0}]
[null,1111162353,"171283/0716","Brit Care Cat Sensitive д/котів чутливе/травлення індичка/лосось 400г","Більше 100","Корм сухий для котів",194.28,253,0,{"$f":"G37*I37","v":0}]
[null,1111176212,111901,"Brit Care Cat Snack Calming ласощі д/котів підтр/нерв/систем курка 50г","Більше 100","Ласощі для котів",84.24,109,0,{"$f":"G38*I38","v":0}]
[null,1111158248,"111263/1371","Brit Care Cat Snack Dental ласощі д/котів здор/зубів/ясен індичка 50г","Більше 100","Ласощі для котів",84.24,109,0,{"$f":"G39*I39","v":0}]
[null,1111176213,111902,"Brit Care Cat Snack Digestion ласощі д/котів підтр/травлен тунець 50г","Більше 100","Ласощі для котів",84.24,109,0,{"$f":"G40*I40","v":0}]
[null,1111158250,"111265/1395","Brit Care Cat Snack Hairball ласощі д/котів виведення шерсті качка 50г","Більше 100","Ласощі для котів",84.24,109,0,{"$f":"G41*I41","v":0}]
[null,1111158249,"111264/1388","Brit Care Cat Snack Shiny Hair ласощі д/котів шкіра/шерсть лосось 50г","Більше 100","Ласощі для котів",84.24,109,0,{"$f":"G42*I42","v":0}]
[null,1111176209,111269,"Brit Care Cat Snack Superfruits Chicken ласощі для котів курка 100г","Більше 100","Ласощі для котів",99.54,130,0,{"$f":"G43*I43","v":0}]
[null,1111180641,100653,"Brit Care Cat Snack Superfruits Herring д/котів оселедець 100 г","Більше 100","Ласощі для котів",99.96,130,0,{"$f":"G44*I44","v":0}]
[null,1111180640,100652,"Brit Care Cat Snack Superfruits Insect д/котів комахи 100 г","Більше 100","Ласощі для котів",99.96,130,0,{"$f":"G45*I45","v":0}]
[null,1111176208,111268,"Brit Care Cat Snack Superfruits Kitten ласощі для кошенят курка 100г","Більше 100","Ласощі для котів",99.54,130,0,{"$f":"G46*I46","v":0}]
[null,1111180639,100651,"Brit Care Cat Snack Superfruits Lamb д/котів ягня 100 г","Більше 100","Ласощі для котів",99.96,130,0,{"$f":"G47*I47","v":0}]
[null,1111176210,111270,"Brit Care Cat Snack Superfruits Salmon ласощі д/стер/котів лосось 100г","Більше 100","Ласощі для котів",99.54,130,0,{"$f":"G48*I48","v":0}]
[null,1111176211,111900,"Brit Care Cat Snack Urinary ласощі д/котів здор/сеч/систем індичка 50г","Більше 100","Ласощі для котів",84.24,109,0,{"$f":"G49*I49","v":0}]
[null,1111162358,"171290/0761","Brit Care Cat Sterilized Sensitive д/стеріз/кот чут/травл кролик 2кг","Більше 100","Корм сухий для котів",729.9,949,0,{"$f":"G50*I50","v":0}]
[null,1111162359,"171291/0778","Brit Care Cat Sterilized Sensitive д/стеріз/кот чут/травл кролик 400г","Більше 100","Корм сухий для котів",189.24,248,0,{"$f":"G51*I51","v":0}]
[null,1111162355,"171286/0730","Brit Care Cat Sterilized Urinary Health д/стерилізов котів курка 2кг","Більше 100","Корм сухий для котів",728.76,949,0,{"$f":"G52*I52","v":0}]
[null,1111162356,"171287/0747","Brit Care Cat Sterilized Urinary Health д/стерилізов котів курка 400г","Більше 100","Корм сухий для котів",181.62,236,0,{"$f":"G53*I53","v":0}]
[null,1111162361,"171294/0792","Brit Care Cat Sterilized Weight д/стер/котів зайв/вага качк/індич 2кг","Більше 100","Корм сухий для котів",728.76,949,0,{"$f":"G54*I54","v":0}]
[null,1111162362,"171295/0808","Brit Care Cat Sterilized Weight д/стер/котів зайв/вага качк/індич 400г","Більше 100","Корм сухий для котів",181.62,236,0,{"$f":"G55*I55","v":0}]
[null,1111162360,"171293/0785","Brit Care Cat Sterilized д/стер/котів надмірна/вага качка/індичка 7кг","Більше 100","Корм сухий для котів",2288.4,2976,0,{"$f":"G56*I56","v":0}]
[null,1111162354,"171285/0723","Brit Care Cat Sterilized д/стерліз/котів чутливе/травлення курка 7кг","Більше 100","Корм сухий для котів",2288.4,2976,0,{"$f":"G57*I57","v":0}]
[null,1111175084,101050,"Brit Care Cat Sterilized філе в соусі д/стер. котів кролик 85г","Більше 100","Корм вологий для котів",42.48,56,0,{"$f":"G58*I58","v":0}]
[null,1111175083,101044,"Brit Care Cat Sterilized філе в соусі д/стер. котів лосось/тунець 85г","Більше 100","Корм вологий для котів",42.48,56,0,{"$f":"G59*I59","v":0}]
[null,1111180881,101045,"Brit Care Cat філе в соусі д/стерилізованих котів з індичкою пауч 85 г","Більше 100","Корм вологий для котів",42.48,56,0,{"$f":"G60*I60","v":0}]
[null,1111180880,101043,"Brit Care Cat філе в соусі д/стерилізованих котів з качкою пауч 85 г","Менше 10","Корм вологий для котів",42.48,56,0,{"$f":"G61*I61","v":0}]
[null,1111162357,"171289/0754","Brit Care CatSterilized Sensitive д/стер/котів чутлив/травл кролик 7кг","Більше 100","Корм сухий для котів",2395.56,3114,0,{"$f":"G62*I62","v":0}]
[null,1111173383,172203,"Brit Care Dog Adult Large Breed д/дорос/собак великих/порід лосось 3кг","Більше 100","Корм сухий для собак",889.02,1156,0,{"$f":"G63*I63","v":0}]
[null,1111173384,172204,"Brit Care Dog GF Adult Large Breed д/дорос/собак вел/порід лосось 12кг","Більше 100","Корм сухий для собак",3229.68,4199,0,{"$f":"G64*I64","v":0}]
[null,1111173379,172198,"Brit Care Dog GF Adult д/дор/собак малих/середніх/порід лосось 12кг","Більше 100","Корм сухий для собак",3228.84,4199,0,{"$f":"G65*I65","v":0}]
[null,1111173377,172196,"Brit Care Dog GF Adult д/доросл/собак малих/середніх/порід лосось 1кг","Більше 100","Корм сухий для собак",313.62,408,0,{"$f":"G66*I66","v":0}]
[null,1111173378,172197,"Brit Care Dog GF Adult д/доросл/собак малих/середніх/порід лосось 3кг","Більше 100","Корм сухий для собак",896.94,1168,0,{"$f":"G67*I67","v":0}]
[null,1111173380,172199,"Brit Care Dog GF Junior Large Breed д/мол/собак велик/порід лосось 1кг","Більше 10","Корм сухий для собак",317.04000000000002,413,0,{"$f":"G68*I68","v":0}]
[null,1111173381,172200,"Brit Care Dog GF Junior Large Breed д/мол/собак велик/порід лосось 3кг","Більше 10","Корм сухий для собак",889.26,1156,0,{"$f":"G69*I69","v":0}]
[null,1111173382,172201,"Brit Care Dog GF Junior Large Breed д/молод/собак вел/порід лосос 12кг","Більше 10","Корм сухий для собак",3228.96,4199,0,{"$f":"G70*I70","v":0}]
[null,1111173376,172195,"Brit Care Dog GF Puppy для цуценят лосось 12кг","Більше 10","Корм сухий для собак",3229.2,4199,0,{"$f":"G71*I71","v":0}]
[null,1111173374,172193,"Brit Care Dog GF Puppy для цуценят лосось 1кг","Більше 100","Корм сухий для собак",315.18,412,0,{"$f":"G72*I72","v":0}]
[null,1111173375,172194,"Brit Care Dog GF Puppy для цуценят лосось 3кг","Більше 10","Корм сухий для собак",898.8,1168,0,{"$f":"G73*I73","v":0}]
[null,1111173387,172207,"Brit Care Dog GF Senior and Light д/старіючих/собак лосось 12кг","Більше 10","Корм сухий для собак",3230.7,4199,0,{"$f":"G74*I74","v":0}]
[null,1111173385,172205,"Brit Care Dog GF Senior and Light д/старіючих/собак лосось 1кг","Більше 10","Корм сухий для собак",314.33999999999997,408,0,{"$f":"G75*I75","v":0}]
[null,1111173386,172206,"Brit Care Dog GF Senior and Light д/старіючих/собак лосось 3кг","Більше 10","Корм сухий для собак",885.96,1154,0,{"$f":"G76*I76","v":0}]
[null,1111173389,172209,"Brit Care Dog GF Sensitive д/собак чутливе травлення оленина 3кг","Більше 100","Корм сухий для собак",1106.3399999999999,1439,0,{"$f":"G77*I77","v":0}]
[null,1111173388,172208,"Brit Care Dog GF Sensitive д/собак чутливе травленням оленина 1кг","Більше 100","Корм сухий для собак",441.24,576,0,{"$f":"G78*I78","v":0}]
[null,1111173390,172210,"Brit Care Dog GF Sensitive д/собак чутливе/травлення оленина 12кг","Більше 100","Корм сухий для собак",4037.34,5249,0,{"$f":"G79*I79","v":0}]
[null,1111173367,172221,"Brit Care Dog Hypoallergenic Adult Large Breed д/собак вел/п ягня 3кг","Більше 100","Корм сухий для собак",807.96,1051,0,{"$f":"G80*I80","v":0}]
[null,1111173368,172222,"Brit Care Dog Hypoallergenic Adult Large Breed д/собак ягня 12кг","Більше 100","Корм сухий для собак",2825.4,3674,0,{"$f":"G81*I81","v":0}]
[null,1111173360,172214,"Brit Care Dog Hypoallergenic Adult Medium Breed д/собак ягня 1кг","Більше 100","Корм сухий для собак",281.94,366,0,{"$f":"G82*I82","v":0}]
[null,1111173361,172215,"Brit Care Dog Hypoallergenic Adult Medium Breed д/собак ягня 3кг","Більше 100","Корм сухий для собак",806.82,1049,0,{"$f":"G83*I83","v":0}]
[null,1111173365,172219,"Brit Care Dog Hypoallergenic Junior Large Breed д/собак ягня 12кг","Більше 100","Корм сухий для собак",2824.92,3672,0,{"$f":"G84*I84","v":0}]
[null,1111173363,172217,"Brit Care Dog Hypoallergenic Junior д/цуц/молод/соб вел/пор ягня 1кг","Більше 10","Корм сухий для собак",283.38,370,0,{"$f":"G85*I85","v":0}]
[null,1111173364,172218,"Brit Care Dog Hypoallergenic Junior д/цуц/молод/соб велик/пор ягня 3кг","Більше 100","Корм сухий для собак",804.78,1049,0,{"$f":"G86*I86","v":0}]
[null,1111173357,172211,"Brit Care Dog Hypoallergenic Puppy д/цуценят гіпоалергенний ягня 1кг","Більше 100","Корм сухий для собак",265.2,345,0,{"$f":"G87*I87","v":0}]
[null,1111173359,172213,"Brit Care Dog Hypoallergenic Puppy к/сух для цуценят ягня 12кг","Більше 100","Корм сухий для собак",2582.6999999999998,3359,0,{"$f":"G88*I88","v":0}]
[null,1111173358,172212,"Brit Care Dog Hypoallergenic Puppy к/сух для цуценят ягня 3кг","Більше 100","Корм сухий для собак",766.02,996,0,{"$f":"G89*I89","v":0}]
[null,1111173369,172223,"Brit Care Dog Hypoallergenic Weight Loss д/собак зайва/вага кролик 1кг","Більше 10","Корм сухий для собак",317.58,413,0,{"$f":"G90*I90","v":0}]
[null,1111173370,172224,"Brit Care Dog Hypoallergenic Weight Loss д/собак зайва/вага кролик 3кг","Більше 10","Корм сухий для собак",886.2,1154,0,{"$f":"G91*I91","v":0}]
[null,1111173373,172228,"Brit Care Dog Hypoallergenic д/виставкових/собак лосось/оселедець 12кг","Більше 100","Корм сухий для собак",3229.38,4199,0,{"$f":"G92*I92","v":0}]
[null,1111173372,172227,"Brit Care Dog Hypoallergenic д/виставкових/собак лосось/оселедець 3кг","Менше 10","Корм сухий для собак",982.74,1279,0,{"$f":"G93*I93","v":0}]
[null,1111173366,172220,"Brit Care Dog Hypoallergenic д/дорослих/собак великих/порід ягня 1кг","Більше 10","Корм сухий для собак",281.76,368,0,{"$f":"G94*I94","v":0}]
[null,1111173362,172216,"Brit Care Dog Hypoallergenic д/собак середніх/порід ягня 12кг","Більше 100","Корм сухий для собак",2824.44,3674,0,{"$f":"G95*I95","v":0}]
[null,1111170891,"XMASS_100824*****","Brit Care Dog Mono різдвяна консерви короп і картопл салат д/соб 400г","Більше 100","Корм вологий для собак",126.6,167,0,{"$f":"G96*I96","v":0}]
[null,1111173356,172192,"Brit Care Dog Sustainable Activity д/активних/собак курка/комахи 12кг","Менше 10","Корм сухий для собак",2663.82,3464,0,{"$f":"G97*I97","v":0}]
[null,1111171949,172172,"Brit Care Dog Sustainable Adult Small Breed д/собак курка/комахи 1кг","Більше 100","Корм сухий для собак",268.44,351,0,{"$f":"G98*I98","v":0}]
[null,1111173353,172173,"Brit Care Dog Sustainable Adult Small Breed д/собак курка/комахи 3кг","Більше 10","Корм сухий для собак",765.84,996,0,{"$f":"G99*I99","v":0}]
[null,1111173354,"172174*****","Brit Care Dog Sustainable Adult Small Breed д/собак курка/комахи 7кг","Більше 10","Корм сухий для собак",1792.74,2331,0,{"$f":"G100*I100","v":0}]
[null,1111173607,172171,"Brit Care Dog Sustainable Puppy д/цуценят курка/комахи 12кг","Менше 10","Корм сухий для собак",2543.4,3306,0,{"$f":"G101*I101","v":0}]
[null,1111173606,172170,"Brit Care Dog Sustainable Puppy д/цуценят курка/комахи 3кг","Більше 10","Корм сухий для собак",685.92,891,0,{"$f":"G102*I102","v":0}]
[null,1111174833,172189,"Brit Care Dog Sustainable Sensitive д/собак чут/травл риба/комах 12кг","Більше 10","Корм сухий для собак",3985.74,5182,0,{"$f":"G103*I103","v":0}]
[null,1111174831,172187,"Brit Care Dog Sustainable Sensitive д/собак чутл/трав риба/комахи 1кг","Більше 10","Корм сухий для собак",425.64,554,0,{"$f":"G104*I104","v":0}]
[null,1111174832,172188,"Brit Care Dog Sustainable Sensitive д/собак чутл/трав риба/комахи 3кг","Більше 10","Корм сухий для собак",1049.0999999999999,1364,0,{"$f":"G105*I105","v":0}]
[null,1111173612,172182,"Brit Care Dog Sustainable д/дорос/собак великих/порід курка/комаха 3кг","Більше 10","Корм сухий для собак",767.16,996,0,{"$f":"G106*I106","v":0}]
[null,1111171950,172175,"Brit Care Dog Sustainable д/дорос/собак середн/порід курка/комахи 1кг","Більше 10","Корм сухий для собак",251.94,328,0,{"$f":"G107*I107","v":0}]
[null,1111173609,172176,"Brit Care Dog Sustainable д/дорос/собак середн/порід курка/комахи 3кг","Більше 10","Корм сухий для собак",709.92,923,0,{"$f":"G108*I108","v":0}]
[null,1111173613,172183,"Brit Care Dog Sustainable д/собак великих/порід курка/комахи 12кг","Більше 10","Корм сухий для собак",2663.58,3464,0,{"$f":"G109*I109","v":0}]
[null,1111173610,172177,"Brit Care Dog Sustainable д/собак середніх/порід курка/комахи 12кг","Більше 10","Корм сухий для собак",2664.54,3464,0,{"$f":"G110*I110","v":0}]
[null,1111173371,172225,"Brit Care Dog Weight Loss д/собак зайва/вага кролик 12кг","Більше 10","Корм сухий для собак",3228.42,4199,0,{"$f":"G111*I111","v":0}]
[null,1111180649,111425,"Brit Care Functional Snack Antiparasitic ласощі д/собак лосось 150г","Більше 100","Ласощі для собак",168.42,219,0,{"$f":"G112*I112","v":0}]
[null,1111180647,111422,"Brit Care Functional Snack Antistress ласощі д/собак креветка 150г","Більше 100","Ласощі для собак",168.42,219,0,{"$f":"G113*I113","v":0}]
[null,1111158243,"111418/9949","Brit Care Functional Snack Dental ласощі д/собак оленина/розмарин 150г","Більше 100","Ласощі для собак",168.42,219,0,{"$f":"G114*I114","v":0}]
[null,1111158247,"111424/0006","Brit Care Functional Snack Endurance ласощі д/собак ягня/банан 150г","Більше 100","Ласощі для собак",168.42,219,0,{"$f":"G115*I115","v":0}]
[null,1111158246,"111421/9970","Brit Care Functional Snack Immunity ласощі д/собак комахи/імбир 150г","Більше 100","Ласощі для собак",168.42,219,0,{"$f":"G116*I116","v":0}]
[null,1111158244,"111419/9956","Brit Care Functional Snack Light ласощі д/собак кролик 150г","Більше 100","Ласощі для собак",168.42,219,0,{"$f":"G117*I117","v":0}]
[null,1111180648,111423,"Brit Care Functional Snack Mineral Ham ласощі д/цуценят шинка 150г","Більше 100","Ласощі для собак",168.42,219,0,{"$f":"G118*I118","v":0}]
[null,1111158242,"111417/9932","Brit Care Functional Snack Mobility ласощі д/собак кальмар 150г","Більше 100","Ласощі для собак",168.42,219,0,{"$f":"G119*I119","v":0}]
[null,1111180650,111426,"Brit Care Functional Snack Recovery ласощі д/собак оселедець 150г","Більше 100","Ласощі для собак",168.42,219,0,{"$f":"G120*I120","v":0}]
[null,1111158245,"111420/9963","Brit Care Functional Snack Skin Coat ласощі д/собак криль/кокос 150г","Більше 100","Ласощі для собак",168.42,219,0,{"$f":"G121*I121","v":0}]
[null,1111148813,"170771/0114","Brit Care GF Mini Adult Lamb д/дорослих собак малих порід ягня 400г","Більше 100","Корм сухий для собак",184.32,240,0,{"$f":"G122*I122","v":0}]
[null,1111148824,"170782/0220","Brit Care GF Mini Hair and Skin д/дор/собак догл/шкіра/шерс лос/ос 2кг","Більше 100","Корм сухий для собак",705.36,918,0,{"$f":"G123*I123","v":0}]
[null,1111148825,"170783/0237","Brit Care GF Mini Hair Skin д/собак малих порід лосось/оселедець 400г","Більше 100","Корм сухий для собак",186.18,243,0,{"$f":"G124*I124","v":0}]
[null,1111148816,"170774/0145","Brit Care GF Mini Puppy Lamb д/цуцен/молод/собак малих порід ягня 400г","Більше 100","Корм сухий для собак",200.22,259,0,{"$f":"G125*I125","v":0}]
[null,1111148817,"170775/0152","Brit Care GF Mini Puppy Lamb д/цуцен/собак малих/порід ягня 7кг","Більше 10","Корм сухий для собак",2481.7800000000002,3227,0,{"$f":"G126*I126","v":0}]
[null,1111148823,"170781/0213","Brit Care GF Mini Yorkshire д/йоркшерський/тер_єрів лосось/тунець 7кг","Більше 10","Корм сухий для собак",2275.8000000000002,2960,0,{"$f":"G127*I127","v":0}]
[null,1111148822,"170780/0206","Brit Care GF Mini Yorkshire корм/сух д/йорк/тер_є лосось/тунець 400г","Більше 100","Корм сухий для собак",183.24,239,0,{"$f":"G128*I128","v":0}]
[null,1111148819,"170777/0176","Brit Care GF Sensitive д/собак малих порід чутлив/травл оленина 400г","Більше 100","Корм сухий для собак",202.14,265,0,{"$f":"G129*I129","v":0}]
[null,1111148828,"170786/1074","Brit Care GF Sterilised д/дор/собак мал/порід зайва/вага крол/лос 400г","Більше 100","Корм сухий для собак",202.14,265,0,{"$f":"G130*I130","v":0}]
[null,1111148826,"170784/0244","Brit Care Hair Skin д/собак малих/порід догл/шкір/шер лосось/осел 7кг","Більше 10","Корм сухий для собак",2223.84,2891,0,{"$f":"G131*I131","v":0}]
[null,1111176556,172649,"Brit Care Hypoallergenic Small Breed д/дор/собак мал/порід з ягням 1кг","Більше 100","Корм сухий для собак",304.86,398,0,{"$f":"G132*I132","v":0}]
[null,1111176557,172650,"Brit Care Hypoallergenic Small Breed д/дор/собак мал/порід з ягням 3кг","Більше 100","Корм сухий для собак",886.56,1154,0,{"$f":"G133*I133","v":0}]
[null,1111176558,172651,"Brit Care Hypoallergenic Small Breed д/дор/собак мал/порід з ягням 7кг","Більше 100","Корм сухий для собак",1936.56,2519,0,{"$f":"G134*I134","v":0}]
[null,1111196081,173213,"Brit Care Mini Raw Delights Beef корм д/собак мал.порід яловичина 2кг","Більше 10","Корм сухий для собак",1145.4000000000001,1489,0,{"$f":"G135*I135","v":0}]
[null,1111196082,173214,"Brit Care Mini Raw Delights Turkey корм д/собак мал.порід індичка 2кг","Більше 10","Корм сухий для собак",1130.04,1469,0,{"$f":"G136*I136","v":0}]
[null,1111162668,"100913/100218/4432","Brit Care Mini філе в соусі д/дор/собак малих/порід кролик/лосось 85г","Більше 100","Корм вологий для собак",50.67,65,0,{"$f":"G137*I137","v":0}]
[null,1111162667,"100912/100217/4425","Brit Care Mini філе в соусі д/дорос/собак малих/порід курка/тунець 85г","Більше 100","Корм вологий для собак",50.67,65,0,{"$f":"G138*I138","v":0}]
[null,1111162670,"100915/100220/4456","Brit Care Mini філе в соусі д/дорослих собак малих/порід дичина 85г","Більше 100","Корм вологий для собак",50.67,65,0,{"$f":"G139*I139","v":0}]
[null,1111162665,"100910/100215/4401","Brit Care Mini філе в соусі д/дорослих собак ягня 85г","Більше 10","Корм вологий для собак",50.67,65,0,{"$f":"G140*I140","v":0}]
[null,1111162666,"100911/100216/4418","Brit Care Mini філе в соусі д/цуценят ягня 85 г","Немає в наявності","Корм вологий для собак",50.67,65,0,{"$f":"G141*I141","v":0}]
[null,1111151335,"100858/100072/0274","Brit Care Pate and Meat консерва д/доросл/собак яловичина/індичка 400г","Більше 100","Корм вологий для собак",114.24,149,0,{"$f":"G142*I142","v":0}]
[null,1111151337,"100865/100074/0298","Brit Care Pate and Meat консерва д/дорослих собак індичка 400г","Більше 100","Корм вологий для собак",114.24,149,0,{"$f":"G143*I143","v":0}]
[null,1111151338,"100860/100075/0304","Brit Care Pate and Meat консерва д/дорослих собак качка 400г","Більше 100","Корм вологий для собак",114.24,149,0,{"$f":"G144*I144","v":0}]
[null,1111151339,"100863/100076/0311","Brit Care Pate and Meat консерва д/дорослих собак кролик 400г","Більше 100","Корм вологий для собак",114.24,149,0,{"$f":"G145*I145","v":0}]
[null,1111151336,"100859/100073/0281","Brit Care Pate and Meat консерва д/дорослих собак курка 400г","Більше 100","Корм вологий для собак",114.24,149,0,{"$f":"G146*I146","v":0}]
[null,1111151334,"100864/100071/0267","Brit Care Pate and Meat консерва д/дорослих собак лосось 400г","Більше 100","Корм вологий для собак",114.24,149,0,{"$f":"G147*I147","v":0}]
[null,1111151341,"100866/100078/0328","Brit Care Pate and Meat консерва д/дорослих собак оленина 400г","Більше 100","Корм вологий для собак",114.24,149,0,{"$f":"G148*I148","v":0}]
[null,1111151340,"100861/100077/0441","Brit Care Pate and Meat консерва д/дорослих собак ягня 400г","Більше 100","Корм вологий для собак",114.24,149,0,{"$f":"G149*I149","v":0}]
[null,1111151342,"100862/100079/0335","Brit Care Pate and Meat консерва д/цуценят курка/індичка 400г","Більше 100","Корм вологий для собак",114.24,149,0,{"$f":"G150*I150","v":0}]
[null,1111148820,"170778/0183","Brit Care Sensitive д/собак малих/порід чутливе/травлення оленина 7кг","Менше 10","Корм сухий для собак",2622.24,3410,0,{"$f":"G151*I151","v":0}]
[null,1111182592,101058,"Brit Care Soup Tuna д/котів суп з тунцем 75 г","Більше 100","Корм вологий для котів",39.479999999999997,51,0,{"$f":"G152*I152","v":0}]
[null,1111182591,101057,"Brit Care Soup Turkey д/котів суп з індичкою 75 г","Більше 100","Корм вологий для котів",39.479999999999997,51,0,{"$f":"G153*I153","v":0}]
[null,1111145210,"101117 /442868","Brit Care лососева олія вітаміни д/собак д/покращення/шерсті/шкіри 1л","Більше 10","Вітаміни для собак",974.28,1268,0,{"$f":"G154*I154","v":0}]
[null,1111180884,101048,"Brit Care філе в соусі д/стерилізованих котів набір паучів 12 х 85 г","Більше 10","Корм вологий для котів",443.58,577,0,{"$f":"G155*I155","v":0}]
[null,1111174806,112105,"Brit Dental Stick Calm ласощі д/собак заспокійливі 7шт/251г","Більше 100","Ласощі для собак",158.76,207,0,{"$f":"G156*I156","v":0}]
[null,1111174805,112104,"Brit Dental Stick Immuno ласощі д/собак д/імунітету 7шт/251г","Більше 100","Ласощі для собак",158.76,207,0,{"$f":"G157*I157","v":0}]
[null,1111174804,112103,"Brit Dental Stick Mobility ласощі д/собак д/здор/суглобів 7шт/251г","Більше 100","Ласощі для собак",158.76,207,0,{"$f":"G158*I158","v":0}]
[null,1111174803,112102,"Brit Dental Stick Teeth/Gums ласощі д/собак д/зубів/ясен 7шт/251г","Більше 100","Ласощі для собак",158.76,207,0,{"$f":"G159*I159","v":0}]
[null,1111151065,"100832/100054/9735","Brit Mono Protein Beef and Rice консерва д/собак яловичина/рис 400г","Більше 100","Корм вологий для собак",126.6,167,0,{"$f":"G160*I160","v":0}]
[null,1111151068,"100831/100057/9766","Brit Mono Protein Beef консерва д/собак яловичина 400г","Більше 100","Корм вологий для собак",126.6,167,0,{"$f":"G161*I161","v":0}]
[null,1111151064,"100833/100053/9728","Brit Mono Protein Lamb and Rice консерва д/собак ягня/рис 400г","Більше 100","Корм вологий для собак",126.6,167,0,{"$f":"G162*I162","v":0}]
[null,1111151069,"100834/100058/9773","Brit Mono Protein Lamb консерва д/собак ягня 400г","Більше 100","Корм вологий для собак",126.6,167,0,{"$f":"G163*I163","v":0}]
[null,1111151071,"100835/100061/9797","Brit Mono Protein Rabbit консерва д/собак кролик 400г","Більше 100","Корм вологий для собак",126.6,167,0,{"$f":"G164*I164","v":0}]
[null,1111151066,"100836/100055/9742","Brit Mono Protein Tuna and Sweet Potato консерва д/соб тун/бат 400г","Більше 100","Корм вологий для собак",126.6,164,0,{"$f":"G165*I165","v":0}]
[null,1111151067,"100837/100056/9759","Brit Mono Protein Turkey Sweet Potato консерва д/собак інд/батат 400г","Більше 100","Корм вологий для собак",126.6,167,0,{"$f":"G166*I166","v":0}]
[null,1111151070,"100838/100060/9780","Brit Mono Protein Turkey консерва д/собак індичка 400г","Більше 100","Корм вологий для собак",126.6,167,0,{"$f":"G167*I167","v":0}]
[null,1111176193,"112131*****","Brit Raw Treat Digestion ласощі д/собак покращ/травлен курка 40г","Більше 10","Ласощі для собак",158.76,238,0,{"$f":"G168*I168","v":0}]
[null,1111176195,"112133*****","Brit Raw Treat Immunity ласощі д/собак міц/імунітет ягня/курка 40г","Менше 10","Ласощі для собак",158.76,238,0,{"$f":"G169*I169","v":0}]
[null,1111180674,112187,"Brit Raw Treat Kitten ласощі д/кошенят з куркою і лососем 40 г","Менше 10","Ласощі для котів",181.32,271,0,{"$f":"G170*I170","v":0}]
[null,1111180678,112191,"Brit Raw Treat Sensitive ласощі д/котів з індичкою 40 г","Менше 10","Ласощі для котів",181.32,271,0,{"$f":"G171*I171","v":0}]
[null,1111176194,"112132*****","Brit Raw Treat Skin/Coat ласощі д/собак здор/шкір/шерс риба /курка 40г","Більше 10","Ласощі для собак",158.76,238,0,{"$f":"G172*I172","v":0}]
[null,1111176196,"112134*****","Brit Raw Treat Urinary ласощі д/собак здоров/сеч/системи індичка 40г","Більше 10","Ласощі для собак",158.76,238,0,{"$f":"G173*I173","v":0}]
[null,1111144270,"101115/2844","Care Brit лососева олія вітаміни д/собак покращен/шерсть/шкіра 250мл","Більше 10","Вітаміни для собак",624.72,813,0,{"$f":"G174*I174","v":0}]
[null,13260,"101116/2851","Care Brit лососева олія вітаміни д/собак покращен/шерсть/шкіра 500мл","Більше 10","Вітаміни для собак",742.68,967,0,{"$f":"G175*I175","v":0}]
[null,1111194998,172219,"БЕЗ ТЕРМ. Brit Care Dog Hypoallergenic Junior Large Breed ягня 12кг","Немає в наявності","Корм сухий для собак",1412.46,0,0,{"$f":"G176*I176","v":0}]
[null,1111194029,"172181*****","БЕЗ ТЕРМ. Brit Care Sustainable Adult соб/велик курка/комахи 1кг","Менше 10","Корм сухий для собак",57.24,0,0,{"$f":"G177*I177","v":0}]
[null,1111198844,"172181*****","БЕЗ ТЕРМ. ПОРВ. Brit Care Sustainable Adult соб/велик курка/комахи 1кг","Менше 10","Корм сухий для собак",114.42,0,0,{"$f":"G178*I178","v":0}]
[null,1111174817,112058,"Вітаміни Brit Vitamins Calm для собак д/нервової системи 150 г","Менше 10","Вітаміни для собак",507.72,685,0,{"$f":"G179*I179","v":0}]
[null,1111174816,112057,"Вітаміни Brit Vitamins Mobility д/собак д/суглобів та кісток 150 г","Менше 10","Вітаміни для собак",592.5,800,0,{"$f":"G180*I180","v":0}]
[null,1111174820,112061,"Вітаміни Brit Vitamins Multivitamin д/собак д/здоров_я та імуніт 150 г","Менше 10","Вітаміни для собак",507.72,685,0,{"$f":"G181*I181","v":0}]
[null,1111174821,112062,"Вітаміни Brit Vitamins Probiotic д/собак нормалізація травлення 150 г","Менше 10","Вітаміни для собак",592.5,800,0,{"$f":"G182*I182","v":0}]
[null,1111174818,112059,"Вітаміни Brit Vitamins Puppy д/цуценят д/здоров росту/розвитку 150 г","Менше 10","Вітаміни для собак",592.5,800,0,{"$f":"G183*I183","v":0}]
[null,1111204088,"VAFO_55007","НАБІР Корм сухий Brit Care Grain Free Mini Puppy Lamb 2 кг+400г","Більше 100",null,768.78,999,0,{"$f":"G184*I184","v":0}]
[null,1111204454,"170774/0145","ТЕРМ 08.26 ПОРВ Brit Care GF Mini Puppy Lamb цуцен/малих/пор ягня 400г","Менше 10","Корм сухий для собак",50.1,0,0,{"$f":"G185*I185","v":0}]
[null,1111204224,112134,"ТЕРМ 09.25 Brit Raw Treat Urinary ласощі/соб здоров/сеч/систем інд 40г","Більше 10","Ласощі для собак",50.04,0,0,{"$f":"G186*I186","v":0}]
[null,1111208292,172189,"ТЕРМ 10.25 Brit Care Dog Sustainable Sensitive чут/трав риб/комах 12кг","Немає в наявності","Корм сухий для собак",1992.9,0,0,{"$f":"G187*I187","v":0}]
[null,1111208429,172187,"ТЕРМ 10.25 Brit Care Dog Sustainable Sensitive чут/трав риба/комах 1кг","Менше 10","Корм сухий для собак",212.82,0,0,{"$f":"G188*I188","v":0}]
[null,1111208516,"170783/0237","ТЕРМ 10.25Brit Care GF Mini Hair Skin д/соб.мал.порід лосось/осел.400г","Менше 10","Корм сухий для собак",93.12,0,0,{"$f":"G189*I189","v":0}]
[null,1111207595,"100536/0587","ТЕРМ 11.25 Brit Care Cat Pouch філе в желе дорос/кот тріска/форель 85г","Менше 10","Корм вологий для котів",21.66,0,0,{"$f":"G190*I190","v":0}]
[null,1111207219,"112133*****","ТЕРМ 11.25 Brit Raw Treat Immunity ласощі соб/міц/імуніт ягня/курк 40г","Менше 10","Ласощі для собак",79.38,0,0,{"$f":"G191*I191","v":0}]
[null,1111207528,172221,"ТЕРМ 12.25 Brit Care Dog Hypoallergenic Adult Large Breed ягня 3кг","Немає в наявності","Корм сухий для собак",403.98,0,0,{"$f":"G192*I192","v":0}]
[null,1111198655,172217,"ТЕРМ. 05.26 ПОРВ. Brit Care Dog Hypoallergenic Junior вел/пор ягня 1кг","Менше 10","Корм сухий для собак",141.72,0,0,{"$f":"G193*I193","v":0}]
[null,1111202685,"172181*****","ТЕРМ. 08.25 Brit Care Sustainable Adult соб/велик курка/комахи 1кг","Менше 10","Корм сухий для собак",114.42,0,0,{"$f":"G194*I194","v":0}]
[null,1111203859,172544,"ТЕРМ. 09.25 Brit Care Cat GF Sterilized Immunity стер/кот свинина 400г","Менше 10","Корм сухий для котів",79.02,0,0,{"$f":"G195*I195","v":0}]
[null,1111206480,172201,"ТЕРМ. 09.25 Brit Care Dog GF Junior Large Breed мол/соб/вел лосос 12кг","Немає в наявності","Корм сухий для собак",1614.48,0,0,{"$f":"G196*I196","v":0}]
[null,1111207270,172176,"ТЕРМ. 09.26, ПОРВ. Корм сухий Brit Care Dog Sustainable Adult Medium B","Менше 10","Корм сухий для собак",354.96,0,0,{"$f":"G197*I197","v":0}]
[null,1111208577,171963,"ТЕРМ. 10.25 Brit Care Cat Insect дор/кот харч/непернос комахи/риба 2кг","Менше 10","Корм сухий для котів",364.2,0,0,{"$f":"G198*I198","v":0}]
[null,1111208430,171962,"ТЕРМ. 10.25 Brit Care Cat Insect харч/неперн комахи/риба 400г","Менше 10","Корм сухий для котів",94.2,0,0,{"$f":"G199*I199","v":0}]
[null,1111205737,172195,"ТЕРМ. 10.25 Brit Care Dog GF Puppy для цуценят лосось 12кг","Немає в наявності","Корм сухий для собак",1472.94,0,0,{"$f":"G200*I200","v":0}]
[null,1111205739,172219,"ТЕРМ. 10.25 Brit Care Dog Hypoallergenic Junior Large Breed ягня 12кг","Немає в наявності","Корм сухий для собак",1294.32,0,0,{"$f":"G201*I201","v":0}]
[null,1111208432,172175,"ТЕРМ. 10.25 Brit Care Dog Sustainable середн/порід курка/комахи 1кг","Менше 10","Корм сухий для собак",126,0,0,{"$f":"G202*I202","v":0}]
[null,1111205638,111426,"ТЕРМ. 10.25 Brit Care Functional Snack Recovery ласощі соб оселед 150г","Більше 10","Ласощі для собак",84.24,0,0,{"$f":"G203*I203","v":0}]
[null,1111208431,"170782/0220","ТЕРМ. 10.25 Brit Care GF Mini Hair/Skin соб/догл/шкіра/шерс лос/ос 2кг","Менше 10","Корм сухий для собак",352.68,0,0,{"$f":"G204*I204","v":0}]
[null,1111206782,"170773/0138","ТЕРМ. 10.25 Brit Care GF Mini Puppy Lamb цуцен/молод/соб/малих ягн 2кг","Менше 10","Корм сухий для собак",392.1,0,0,{"$f":"G205*I205","v":0}]
[null,1111207849,"170779/0190","ТЕРМ. 10.25 Brit Care GF Mini Yorkshire дор/йорк/тер'єр лосос/тунц 2кг","Менше 10","Корм сухий для собак",351.78,0,0,{"$f":"G206*I206","v":0}]
[null,1111206351,112133,"ТЕРМ. 10.25 Brit Raw Treat Immunity ласощі соб/зміц/імуні ягн/курк 40г","Більше 10","Ласощі для собак",79.38,0,0,{"$f":"G207*I207","v":0}]
[null,1111205631,"171283/0716","ТЕРМ. 10.25 Корм сухий Brit Care Cat Grain Free Sensitive HDigestion D","Менше 10","Корм сухий для котів",97.14,0,0,{"$f":"G208*I208","v":0}]
[null,1111205632,111901,"ТЕРМ. 10.25 Функціональні ласощі Brit Care Cat Snack Calming для котів","Менше 10","Ласощі для котів",42.12,0,0,{"$f":"G209*I209","v":0}]
[null,1111208580,111900,"ТЕРМ. 10.25 Функціональні ласощі Brit Care Cat Snack Urinary для котів","Менше 10","Ласощі для котів",42.12,0,0,{"$f":"G210*I210","v":0}]
[null,1111207796,"170777/0176","ТЕРМ. 10.26, ПОРВ. Корм сухий Brit Care Grain Free Mini Sensitive для","Менше 10","Корм сухий для собак",101.1,0,0,{"$f":"G211*I211","v":0}]
[null,1111206729,"100914/100219/4449","ТЕРМ. 11.25 Brit Care Mini філе соус дор/соб/міні лосось/оселедець 85г","Більше 10","Корм вологий для собак",15,0,0,{"$f":"G212*I212","v":0}]
[null,1111207267,"100912/100217/4425","ТЕРМ. 11.25 Brit Care Mini філе/соус дорос/собак/міні курка/тунець 85г","Більше 10","Корм вологий для собак",25.38,0,0,{"$f":"G213*I213","v":0}]
[null,1111208625,"100835/100061/9797","ТЕРМ.03.28.ПОМ'ЯТ.Корм вологий Brit Mono Protein Rabbit для собак з кр","Менше 10","Корм вологий для собак",63.3,0,0,{"$f":"G214*I214","v":0}]
[null,1111205981,"170774/0145","ТЕРМ.05.26БРАК ПАЙКИ BritCareMini PuppyLa д/цуц/мол/соб мал пор яг400г","Менше 10","Корм сухий для собак",100.14,0,0,{"$f":"G215*I215","v":0}]
[null,1111206461,"100532/0549","ТЕРМ.09.25.Корм вологий Brit Care Cat Pouch Sterilised для дорослих ка","Більше 10","Корм вологий для котів",21.66,0,0,{"$f":"G216*I216","v":0}]
[null,1111205734,172205,"ТЕРМ.10.25 Brit Care Dog GF Senior and Light д/старіючих/соб лос1кг","Менше 10","Корм сухий для собак",157.19999999999999,0,0,{"$f":"G217*I217","v":0}]
[null,1111206230,172175,"ТЕРМ.10.26.ПОРВ.Корм сухий Brit Care Dog Sustainable Adult Medium Bree","Менше 10","Корм сухий для собак",126,0,0,{"$f":"G218*I218","v":0}]

{"sheet":"Brit Fresh","index":8,"n_rows":23,"n_cols":10,"rows_kept":23,"cut":false,"hidden":false,"merged":[]}
[]
[null,null,null,null,null,null,"suziria.ua"]
[null,null,null,null,null,null,"0 800 21 82 99"]
[null,null,null,null,null,null,"feedback@suziria.ua"]
[]
["Зображення","Код","Артикул","Номенклатура","Наявність","Категорія","Ціна опт.","Ціна РРЦ","Замовлення, шт.","Сума, грн."]
[null,null,null,null,null,null,null,null,null,{"$f":"СУММ(J8:J23)","v":{"$error":"#NAME?"}}]
[null,1111153752,"100158/3886*****","Brit Fresh Beef Pumpkin консерва д/дорос/собак яловичина/гарбуз 400 г","Більше 10","Корм вологий для собак",149.04,197,0,{"$f":"G8*I8","v":0}]
[null,1111153741,170989,"Brit Fresh Chicken/Potato Adult д/дорослих/собак курка/картопля 12кг","Менше 10","Корм сухий для собак",2826.42,3674,0,{"$f":"G9*I9","v":0}]
[null,1111153740,"170988 /0724","Brit Fresh Chicken/Potato Puppy д/цуцен всіх/порід курк/картопля 2,5кг","Менше 10","Корм сухий для собак",677.4,882,0,{"$f":"G10*I10","v":0}]
[null,1111153739,170987,"Brit Fresh Chicken/Potato Puppy д/цуцен всіх/порід курка/картопля 12кг","Менше 10","Корм сухий для собак",2825.76,3674,0,{"$f":"G11*I11","v":0}]
[null,1111153742,"170990/0748","Brit Fresh Chicken/Potato д/дор/собак всех/пород курка/картопля 2,5кг","Менше 10","Корм сухий для собак",685.38,891,0,{"$f":"G12*I12","v":0}]
[null,1111153750,"170998/0823","Brit Fresh Duck/Millet Active Run and Work д/собак качка/пшоно 2,5кг","Більше 10","Корм сухий для собак",726.42,944,0,{"$f":"G13*I13","v":0}]
[null,1111153749,"170997/30816","Brit Fresh Duck/Millet Active Run Work д/дорос/собак качка/пшоно 12кг","Більше 10","Корм сухий для собак",3068.4,3989,0,{"$f":"G14*I14","v":0}]
[null,1111153745,"170993/530779","Brit Fresh Fish/Pumpkin д/собак вел/порід м_язи/сугл риба/гарбуз 12кг","Більше 10","Корм сухий для собак",2905.5,3779,0,{"$f":"G15*I15","v":0}]
[null,1111153746,"170994 /0786","Brit Fresh Fish/Pumpkin д/собак вел/порід м_язи/сугл риба/гарбуз 2,5кг","Менше 10","Корм сухий для собак",725.64,944,0,{"$f":"G16*I16","v":0}]
[null,1111153747,170995,"Brit Fresh Turkey Pea д/дорослих/собак зайва/вага індичка/горох 12кг","Більше 10","Корм сухий для собак",2825.88,3674,0,{"$f":"G17*I17","v":0}]
[null,1111153748,"170996 /0809","Brit Fresh Turkey/Pea д/собак похил/вік зайва/вага індичка/горох 2,5кг","Більше 10","Корм сухий для собак",684.54,891,0,{"$f":"G18*I18","v":0}]
[null,1111153751,"100157/3879*****","Brit Fresh Turkey/Peas консерва д/дорослих собак індичка/горох 400г","Менше 10","Корм вологий для собак",149.04,197,0,{"$f":"G19*I19","v":0}]
[null,1111168378,200260019,"Наповнювач Brit Fresh для котячого туалету Excellent бентонітовий 10кг","Більше 100","Наповнювачі для котячих туалетів",460.44,599,0,{"$f":"G20*I20","v":0}]
[null,1111168377,200260018,"Наповнювач Brit Fresh для котячого туалету Excellent бентонітовий 5кг","Більше 100","Наповнювачі для котячих туалетів",267.24,349,0,{"$f":"G21*I21","v":0}]
[null,1111207431,"170988 /0724","ТЕРМ 12.25 Brit Fresh Chicken/Potato Puppy д/цуцен курк/картопля 2,5кг","Менше 10","Корм сухий для собак",338.7,0,0,{"$f":"G22*I22","v":0}]
[null,1111208186,"170996 /0809","ТЕРМ. 07.26, ПОРВ. Корм сухий Brit Fresh Turkey/Pea Fit and Slim для с","Менше 10","Корм сухий для собак",342.3,0,0,{"$f":"G23*I23","v":0}]

{"sheet":"Brit Premium","index":9,"n_rows":131,"n_cols":10,"rows_kept":131,"cut":false,"hidden":false,"merged":[]}
[]
[null,null,null,null,null,null,"suziria.ua"]
[null,null,null,null,null,null,"0 800 21 82 99"]
[null,null,null,null,null,null,"feedback@suziria.ua"]
[]
["Зображення","Код","Артикул","Номенклатура","Наявність","Категорія","Ціна опт.","Ціна РРЦ","Замовлення, шт.","Сума, грн."]
[null,null,null,null,null,null,null,null,null,{"$f":"СУММ(J8:J131)","v":{"$error":"#NAME?"}}]
[null,1111167469,171850,"Brit Premium by Nature Cat Kitten д/кошенят від 1 до 12 міс курка 800г","Менше 10","Корм сухий для котів",189.6,247,0,{"$f":"G8*I8","v":0}]
[null,1111167470,171858,"Brit Premium by Nature Cat Kitten д/кошенят з куркою 1,5кг","Більше 100","Корм сухий для котів",319.38,417,0,{"$f":"G9*I9","v":0}]
[null,1111167468,171842,"Brit Premium by Nature Cat Kitten д/кошенят з куркою 300г","Більше 100","Корм сухий для котів",98.16,128,0,{"$f":"G10*I10","v":0}]
[null,1111167472,171849,"Brit Premium by Nature Cat Sensitive д/котів з чутл травл ягня 300г","Більше 100","Корм сухий для котів",101.16,132,0,{"$f":"G11*I11","v":0}]
[null,1111167473,171865,"Brit Premium by Nature Cat Sensitive д/котів з чутлив травл ягня 1,5кг","Більше 100","Корм сухий для котів",335.04,436,0,{"$f":"G12*I12","v":0}]
[null,1111167474,171873,"Brit Premium by Nature Cat Sensitive д/котів з чутлив травл ягня 8кг","Більше 100","Корм сухий для котів",1628.1,2119,0,{"$f":"G13*I13","v":0}]
[null,1111167477,171862,"Brit Premium by Nature Cat Sterilised д/стерил кот з куркою 1,5кг","Більше 100","Корм сухий для котів",320.7,417,0,{"$f":"G14*I14","v":0}]
[null,1111167475,171846,"Brit Premium by Nature Cat Sterilised д/стерил кот з куркою 300г","Більше 100","Корм сухий для котів",99.78,131,0,{"$f":"G15*I15","v":0}]
[null,1111167476,171854,"Brit Premium by Nature Cat Sterilised д/стерил кот з куркою 800г","Більше 10","Корм сухий для котів",201.66,264,0,{"$f":"G16*I16","v":0}]
[null,1111167478,171870,"Brit Premium by Nature Cat Sterilised д/стерил котів з куркою 8кг","Більше 100","Корм сухий для котів",1629.18,2119,0,{"$f":"G17*I17","v":0}]
[null,1111167485,171855,"Brit Premium by Nature Cat Sterilized Lamb д/стерил кот з ягням 800г","Більше 10","Корм сухий для котів",201.66,264,0,{"$f":"G18*I18","v":0}]
[null,1111167484,171847,"Brit Premium by Nature Cat Sterilized Lamb д/стерил котів з ягням 300г","Більше 100","Корм сухий для котів",99.78,131,0,{"$f":"G19*I19","v":0}]
[null,1111167487,171871,"Brit Premium by Nature Cat Sterilized Lamb д/стерил котів з ягням 8кг","Більше 100","Корм сухий для котів",1629.18,2119,0,{"$f":"G20*I20","v":0}]
[null,1111167482,171864,"Brit Premium by Nature Cat Sterilized Salmon д/стерил кот лосось 1,5кг","Більше 100","Корм сухий для котів",320.7,417,0,{"$f":"G21*I21","v":0}]
[null,1111167480,171848,"Brit Premium by Nature Cat Sterilized Salmon д/стерил кот лосось 300г","Більше 100","Корм сухий для котів",99.78,131,0,{"$f":"G22*I22","v":0}]
[null,1111167481,171856,"Brit Premium by Nature Cat Sterilized Salmon д/стерил кот лосось 800г","Більше 10","Корм сухий для котів",201.66,264,0,{"$f":"G23*I23","v":0}]
[null,1111167483,171872,"Brit Premium by Nature Cat Sterilized Salmon д/стерил котів лосось 8кг","Більше 100","Корм сухий для котів",1629.18,2119,0,{"$f":"G24*I24","v":0}]
[null,1111167486,171863,"Brit Premium by Nature CatSterilized Lamb д/стерил кот з ягням 1,5кг","Більше 100","Корм сухий для котів",320.7,417,0,{"$f":"G25*I25","v":0}]
[null,1111159941,"100408/8553","Brit Premium by Nature k д/собак з індичкою і печінкою 400г","Більше 100","Корм вологий для собак",94.08,123,0,{"$f":"G26*I26","v":0}]
[null,1111159942,"100410/8577","Brit Premium by Nature k д/собак з індичкою та печінкою 800г","Більше 100","Корм вологий для собак",167.76,205,0,{"$f":"G27*I27","v":0}]
[null,1111159939,"100405/8522","Brit Premium by Nature k д/собак з куркою та серцем 400г","Більше 100","Корм вологий для собак",94.08,123,0,{"$f":"G28*I28","v":0}]
[null,1111159940,"100407/8546","Brit Premium by Nature k д/собак з куркою та серцем 800г","Більше 100","Корм вологий для собак",157.68,205,0,{"$f":"G29*I29","v":0}]
[null,1111159945,"100414/8614","Brit Premium by Nature k д/собак з ягням та гречкою 400г","Більше 100","Корм вологий для собак",94.08,123,0,{"$f":"G30*I30","v":0}]
[null,1111159943,"100411/8584","Brit Premium by Nature k д/собак з яловичиною і тельбухами 400г","Більше 100","Корм вологий для собак",94.08,123,0,{"$f":"G31*I31","v":0}]
[null,1111159944,"100413/8607","Brit Premium by Nature k д/собак з яловичиною і тельбухами 800г","Більше 100","Корм вологий для собак",157.68,205,0,{"$f":"G32*I32","v":0}]
[null,1111142138,"100270 /505982","Brit Premium Cat Beef StewandPeas pouch д/котів яловичина/горошок 100г","Більше 100","Корм вологий для котів",24.6,32,0,{"$f":"G33*I33","v":0}]
[null,1111167458,171859,"Brit Premium Cat by Nature Adult Chicken д/дорослих котів курка 1,5кг","Більше 100","Корм сухий для котів",306.06,401,0,{"$f":"G34*I34","v":0}]
[null,1111167456,171843,"Brit Premium Cat by Nature Adult Chicken д/дорослих котів курка 300г","Більше 100","Корм сухий для котів",97.98,128,0,{"$f":"G35*I35","v":0}]
[null,1111167459,171867,"Brit Premium Cat by Nature Adult Chicken д/дорослих котів курка 8кг","Більше 100","Корм сухий для котів",1547.94,2013,0,{"$f":"G36*I36","v":0}]
[null,1111167457,171851,"Brit Premium Cat by Nature Adult Chicken д/дорослих/котів курка 800г","Більше 10","Корм сухий для котів",189.6,247,0,{"$f":"G37*I37","v":0}]
[null,1111167460,171844,"Brit Premium Cat by Nature Adult Salmon д/дорослих котів лосось 300г","Більше 100","Корм сухий для котів",101.16,132,0,{"$f":"G38*I38","v":0}]
[null,1111167461,171852,"Brit Premium Cat by Nature Adult Salmon д/дорослих котів лосось 800кг","Менше 10","Корм сухий для котів",192.03,251,0,{"$f":"G39*I39","v":0}]
[null,1111167463,171868,"Brit Premium Cat by Nature Adult Salmon д/дорослих котів лосось 8кг","Більше 100","Корм сухий для котів",1629.06,2119,0,{"$f":"G40*I40","v":0}]
[null,1111167462,171860,"Brit Premium Cat by Nature Adult Salmon д/дорослих/котів лосось 1,5кг","Більше 100","Корм сухий для котів",320.27999999999997,417,0,{"$f":"G41*I41","v":0}]
[null,1111167466,171861,"Brit Premium Cat by Nature Indoor д/доросл/домашніх котів курица 1,5кг","Більше 100","Корм сухий для котів",304.68,397,0,{"$f":"G42*I42","v":0}]
[null,1111167464,171845,"Brit Premium Cat by Nature Indoor д/дорослих/домашніх котів курка 300г","Більше 100","Корм сухий для котів",91.75,121,0,{"$f":"G43*I43","v":0}]
[null,1111167465,171853,"Brit Premium Cat by Nature Indoor д/дорослих/домашніх котів курка 800г","Більше 10","Корм сухий для котів",180.59,235,0,{"$f":"G44*I44","v":0}]
[null,1111167467,171869,"Brit Premium Cat by Nature Indoor д/дорослих/домашніх котів курка 8кг","Менше 10","Корм сухий для котів",1547.94,2013,0,{"$f":"G45*I45","v":0}]
[null,1111142141,"100273 /506019","Brit Premium Cat ChickenandTurkey pouch д/котів курка/індичка 100г","Більше 100","Корм вологий для котів",24.6,32,0,{"$f":"G46*I46","v":0}]
[null,1111142140,"100272 /506002","Brit Premium Cat Cod Fish pouch для котів з тріскою 100 г","Більше 100","Корм вологий для котів",24.6,32,0,{"$f":"G47*I47","v":0}]
[null,1111142415,"100276 /506248","Brit Premium Cat Fish Plate pouches набір д/кот тріск/лос/фор 100г/4шт","Більше 10","Корм вологий для котів",99.12,125,0,{"$f":"G48*I48","v":0}]
[null,1111142142,"100274 /506026","Brit Premium Cat Kitten Chicken Chunks pouch д/кошенят курка 100г","Більше 100","Корм вологий для котів",24.6,32,0,{"$f":"G49*I49","v":0}]
[null,1111142144,"100277 /506262","Brit Premium Cat Meat Plate pouches набір паучів д/котів 4шт х 100г","Більше 100","Корм вологий для котів",99.12,125,0,{"$f":"G50*I50","v":0}]
[null,1111178695,111832,"Brit Premium Cat pouch 100 g печінка для стерилізованих котів","Більше 100","Корм вологий для котів",24.6,32,0,{"$f":"G51*I51","v":0}]
[null,1111178694,111831,"Brit Premium Cat pouch 100 g ягнятина для стерилізованих котів","Більше 100","Корм вологий для котів",24.6,32,0,{"$f":"G52*I52","v":0}]
[null,1111178696,111833,"Brit Premium Cat pouch 100г лосось для стерилізованих котів","Більше 100","Корм вологий для котів",24.6,32,0,{"$f":"G53*I53","v":0}]
[null,1111142143,"100275 /506033","Brit Premium Cat Sterilised Chicken Slices pouch д/стер кот курка 100г","Більше 100","Корм вологий для котів",24.6,32,0,{"$f":"G54*I54","v":0}]
[null,1111178697,111834,"Brit Premium Cat Набір паучів д/стерилізованих котів 4 смаки 100gх12шт","Більше 10","Корм вологий для котів",294.06,369,0,{"$f":"G55*I55","v":0}]
[null,1111196080,112284,"Brit Premium Dental Snacks L ласощі д/cобак вел.порід з колагеном 250г","Більше 10","Ласощі для собак",148.86000000000001,186,0,{"$f":"G56*I56","v":0}]
[null,1111196079,112283,"Brit Premium Dental Snacks M ласощі д/cобак сер.порід з колагеном 180г","Більше 100","Ласощі для собак",135.24,169,0,{"$f":"G57*I57","v":0}]
[null,1111150965,"170827/6468","Brit Premium Dog Adult L д/дор собак великих порід з куркою 15кг","Більше 100","Корм сухий для собак",1767.66,2299,0,{"$f":"G58*I58","v":0}]
[null,1111150963,"170825/6444","Brit Premium Dog Adult L д/дор собак великих порід з куркою 3кг","Більше 10","Корм сухий для собак",422.17,549,0,{"$f":"G59*I59","v":0}]
[null,1111150964,"170826/6451","Brit Premium Dog Adult L д/собак вел порід вагою 25-45кг курка 8кг","Більше 100","Корм сухий для собак",883.81,1149,0,{"$f":"G60*I60","v":0}]
[null,1111150954,"170816/6352","Brit Premium Dog Adult M д/дор собак середніх порід з куркою 3кг","Більше 100","Корм сухий для собак",403.5,525,0,{"$f":"G61*I61","v":0}]
[null,1111150956,"170818/6376","Brit Premium Dog Adult M д/дор собак середніх порід курка 15кг","Більше 100","Корм сухий для собак",1615.14,2099,0,{"$f":"G62*I62","v":0}]
[null,1111150953,"170815/6345","Brit Premium Dog Adult M д/собак сер порід вагою 10-25кг курка 1кг","Більше 100","Корм сухий для собак",190.4,248,0,{"$f":"G63*I63","v":0}]
[null,1111150955,"170817/6369","Brit Premium Dog Adult M д/собак сер порід вагою 10-25кг курка 8кг","Більше 100","Корм сухий для собак",845.12,1099,0,{"$f":"G64*I64","v":0}]
[null,1111150947,"170809/6284","Brit Premium Dog Adult S д/собак дрібн порід вагою 1-10кг курка 1кг","Більше 100","Корм сухий для собак",250.08,326,0,{"$f":"G65*I65","v":0}]
[null,1111150948,"170810/6291","Brit Premium Dog Adult S д/собак дрібн порід вагою 1-10кг курка 3кг","Більше 10","Корм сухий для собак",534.48,695,0,{"$f":"G66*I66","v":0}]
[null,1111150949,"170811/6307","Brit Premium Dog Adult S д/собак дрібн порід вагою 1-10кг курка 8кг","Більше 100","Корм сухий для собак",1296.54,1679,0,{"$f":"G67*I67","v":0}]
[null,1111150973,"170833/6529","Brit Premium Dog Adult XL д/собак гіган порід вагою 45-90кг курка 15кг","Більше 100","Корм сухий для собак",2075.04,2699,0,{"$f":"G68*I68","v":0}]
[null,1111150972,"170832/6512","Brit Premium Dog Adult XL д/собак гігант порід 45-90кг з куркою 3кг","Більше 10","Корм сухий для собак",515.82000000000005,672,0,{"$f":"G69*I69","v":0}]
[null,1111150962,"170824/6437","Brit Premium Dog Junior L д/цуцен/мол соб вел порід 25-45кг курка 15кг","Більше 100","Корм сухий для собак",1917.54,2399,0,{"$f":"G70*I70","v":0}]
[null,1111150961,"170823/6420","Brit Premium Dog Junior L д/цуцен/мол соб вел порід 25-45кг курка 3кг","Більше 10","Корм сухий для собак",469.88,612,0,{"$f":"G71*I71","v":0}]
[null,1111150952,"170814/6338","Brit Premium Dog Junior M д/цуц і молод соб середніх порід курка 15кг","Більше 10","Корм сухий для собак",1998.78,2499,0,{"$f":"G72*I72","v":0}]
[null,1111150950,"170812/6314","Brit Premium Dog Junior M д/цуцен і молодих соб середн порід курка 1кг","Більше 10","Корм сухий для собак",186.92,245,0,{"$f":"G73*I73","v":0}]
[null,1111150951,"170813/6321","Brit Premium Dog Junior M д/цуцен/мол соб сер порід 10-25кг курка 3кг","Більше 10","Корм сухий для собак",486.87,634,0,{"$f":"G74*I74","v":0}]
[null,1111150946,"170805/6246","Brit Premium Dog Junior S д/мол соб дрібн пор 1-12міс 1-10кг курка 8кг","Менше 10","Корм сухий для собак",1158.43,1499,0,{"$f":"G75*I75","v":0}]
[null,1111150971,"170831/6505","Brit Premium Dog Junior XL д/цуц і мол соб гігант 45-90кг курка 15кг","Менше 10","Корм сухий для собак",2074.92,2699,0,{"$f":"G76*I76","v":0}]
[null,1111150945,"170807/6260","Brit Premium Dog JuniorS д/мол соб дріб порід 1-12міс 1-10кг курка 3кг","Більше 10","Корм сухий для собак",556.05999999999995,723,0,{"$f":"G77*I77","v":0}]
[null,1111150968,"170830/6499","Brit Premium Dog JuniorXL д/цуц і мол соб гігант пор 45-90кг курка 3кг","Менше 10","Корм сухий для собак",491.28,640,0,{"$f":"G78*I78","v":0}]
[null,1111150975,"170841/6604","Brit Premium Dog Light д/собак з надмірною вагою з індичкою 15кг","Більше 100","Корм сухий для собак",1538.16,1999,0,{"$f":"G79*I79","v":0}]
[null,1111150974,"170839/6581","Brit Premium Dog Light д/собак з надмірною вагою з індичкою 3кг","Більше 10","Корм сухий для собак",431.34,562,0,{"$f":"G80*I80","v":0}]
[null,1111150967,"170829/6482","Brit Premium Dog Senior L+XL д/соб похил віку вел/гіган пор курка 15кг","Менше 10","Корм сухий для собак",2151.7800000000002,2799,0,{"$f":"G81*I81","v":0}]
[null,1111150958,"170820/6390","Brit Premium Dog Senior S+M д/собак дрібн/сер порід 1-25кг курка 3кг","Більше 10","Корм сухий для собак",447.63,582,0,{"$f":"G82*I82","v":0}]
[null,1111150976,"170842/6611","Brit Premium Dog Sensitive Lamb д/собак з чутливим травленням ягня 1кг","Більше 100","Корм сухий для собак",200.73,260,0,{"$f":"G83*I83","v":0}]
[null,1111150977,"170843/6628","Brit Premium Dog Sensitive Lamb д/собак з чутливим травленням ягня 3кг","Більше 100","Корм сухий для собак",648.96,844,0,{"$f":"G84*I84","v":0}]
[null,1111150979,"170845/6642","Brit Premium Dog Sensitive Lamb д/собак чутливе травлення з ягням 15кг","Більше 100","Корм сухий для собак",2691,3499,0,{"$f":"G85*I85","v":0}]
[null,1111150981,"170848/6673","Brit Premium Dog Sport д/собак з високими витратами енергії курка 15кг","Більше 100","Корм сухий для собак",1845.24,2399,0,{"$f":"G86*I86","v":0}]
[null,1111150980,"170847/6666","Brit Premium Dog Sport д/собак з високими витратами енергії курка 3кг","Більше 10","Корм сухий для собак",537.6,699,0,{"$f":"G87*I87","v":0}]
[null,1111185861,101242,"Brit Premium Fillets in Gravy Beef д/соб мал порід яловичина 85г","Більше 100","Корм вологий для собак",31.2,39,0,{"$f":"G88*I88","v":0}]
[null,1111185851,"101135*****","Brit Premium Fillets in Gravy Chicken д/кошенят філе в соусі курка 85г","Більше 10","Корм вологий для котів",33.18,42,0,{"$f":"G89*I89","v":0}]
[null,1111185860,101241,"Brit Premium Fillets in Gravy Chicken д/соб мал порід курка 85г","Більше 100","Корм вологий для собак",31.2,39,0,{"$f":"G90*I90","v":0}]
[null,1111185858,"101144*****","Brit Premium Fillets in Gravy Duck д/стерил котів в соусі качка 85г","Більше 10","Корм вологий для котів",33.18,42,0,{"$f":"G91*I91","v":0}]
[null,1111185850,"101134*****","Brit Premium Fillets in Gravy Family Plate д/котів 12шт x 85г","Більше 10","Корм вологий для котів",345.9,439,0,{"$f":"G92*I92","v":0}]
[null,1111185863,101244,"Brit Premium Fillets in Gravy Lamb д/соб мал порід ягня 85г","Більше 100","Корм вологий для собак",31.2,39,0,{"$f":"G93*I93","v":0}]
[null,1111185857,101143,"Brit Premium Fillets in Gravy Lamb д/стерил котів в соусі ягня 85г","Більше 100","Корм вологий для котів",33.18,42,0,{"$f":"G94*I94","v":0}]
[null,1111185864,101245,"Brit Premium Fillets in Gravy Multipack д/соб мал порід 12шт х 85г","Більше 10","Корм вологий для собак",374.4,468,0,{"$f":"G95*I95","v":0}]
[null,1111185855,101141,"Brit Premium Fillets in Gravy Salmon д/стерил котів в соусі лосось 85г","Більше 10","Корм вологий для котів",33.18,42,0,{"$f":"G96*I96","v":0}]
[null,1111185849,"101132*****","Brit Premium Fillets in Gravy Tuna д/котів філе в соусі тунець 85г","Більше 100","Корм вологий для котів",33.18,42,0,{"$f":"G97*I97","v":0}]
[null,1111185848,"101131*****","Brit Premium Fillets in Gravy Turkey д/котів філе в соусі індичка 85г","Більше 100","Корм вологий для котів",33.18,42,0,{"$f":"G98*I98","v":0}]
[null,1111185862,101243,"Brit Premium Fillets in Gravy Turkey д/цуценят мал порід індичка 85г","Більше 100","Корм вологий для собак",31.2,39,0,{"$f":"G99*I99","v":0}]
[null,1111185852,"101136*****","Brit Premium Fillets in Jelly Chicken д/котів філе в желе курка 85г","Більше 100","Корм вологий для котів",33.18,42,0,{"$f":"G100*I100","v":0}]
[null,1111185854,"101140*****","Brit Premium Fillets in Jelly Family Plate д/котів 12шт x 85г","Більше 100","Корм вологий для котів",345.9,439,0,{"$f":"G101*I101","v":0}]
[null,1111185853,"101138*****","Brit Premium Fillets in Jelly Salmon д/котів філе в желе лосось 85г","Більше 100","Корм вологий для котів",33.18,42,0,{"$f":"G102*I102","v":0}]
[null,1111142139,"100271 /505999","Brit Premium SalmonandTrout pouch д/котів з лососем та фореллю 100г","Більше 100","Корм вологий для котів",24.6,32,0,{"$f":"G103*I103","v":0}]
[null,1111196076,112280,"Brit Premium Snacks Beef ласощі д/cобак яловичина і яблука 180г","Більше 100","Ласощі для собак",135.24,169,0,{"$f":"G104*I104","v":0}]
[null,1111196075,112279,"Brit Premium Snacks Chicken ласощі д/cобак курка і малина 180г","Більше 10","Ласощі для собак",135.24,169,0,{"$f":"G105*I105","v":0}]
[null,1111196078,112282,"Brit Premium Snacks Lamb ласощі д/cобак ягням і обліпиха 180г","Більше 100","Ласощі для собак",135.24,169,0,{"$f":"G106*I106","v":0}]
[null,1111196077,112281,"Brit Premium Snacks Salmon ласощі д/cобак лосось і кроп 180г","Більше 10","Ласощі для собак",135.24,169,0,{"$f":"G107*I107","v":0}]
[null,1111178698,111835,"Brit Premium White fish for Kitten 100г біла риба для кошенят","Більше 100","Корм вологий для котів",24.6,32,0,{"$f":"G108*I108","v":0}]
[null,1111208144,171849,"БЕЗ ТЕРМ. Корм сухий Brit Premium by Nature Cat Sensitive для котів із","Менше 10","Корм сухий для котів",50.58,0,0,{"$f":"G109*I109","v":0}]
[null,1111204591,171847,"ТЕРМ 04.26 ПОРВ Brit Premium by Nature Cat Sterilized Lamb кот ягня 30","Менше 10","Корм сухий для котів",49.02,0,0,{"$f":"G110*I110","v":0}]
[null,1111206407,171844,"ТЕРМ 09.25 Brit Premium Cat by Nature Adult Salmon дор/кот лосось 300г","Менше 10","Корм сухий для котів",49.02,0,0,{"$f":"G111*I111","v":0}]
[null,1111208522,"100270 /505982","ТЕРМ 10.25 Brit Premium Cat Beef StewandPeas pouch ялович/горошок 100г","Менше 10","Корм вологий для котів",12.3,0,0,{"$f":"G112*I112","v":0}]
[null,1111205619,171845,"ТЕРМ 10.25 Brit Premium Cat by Nature Indoor дор/домаш/кот курка 300","Більше 10","Корм сухий для котів",45.9,0,0,{"$f":"G113*I113","v":0}]
[null,1111206783,"111250/524*****","ТЕРМ 10.25 Brit Premium Cat Chicken Fillets Gravy pouch курка/соус 85г","Більше 10","Корм вологий для котів",15.12,0,0,{"$f":"G114*I114","v":0}]
[null,1111206784,"111240/463*****","ТЕРМ 10.25 Brit Premium Cat Chicken Fillets Jelly pouch курка желе 85г","Більше 10","Корм вологий для котів",15.12,0,0,{"$f":"G115*I115","v":0}]
[null,1111205748,"111242/487*****","ТЕРМ 10.25 Brit Premium Cat Salmon Fillets Jelly pouch лосось желе 85г","Більше 10","Корм вологий для котів",15.12,0,0,{"$f":"G116*I116","v":0}]
[null,1111207452,171844,"ТЕРМ 12.25 Brit Premium Cat by Nature Adult Salmon дор/кот лосось 300г","Менше 10","Корм сухий для котів",50.58,0,0,{"$f":"G117*I117","v":0}]
[null,1111207106,171849,"ТЕРМ. 05.26, ПОРВ. Корм сухий Brit Premium by Nature Cat Sensitive для","Менше 10","Корм сухий для котів",50.58,0,0,{"$f":"G118*I118","v":0}]
[null,1111203816,111831,"ТЕРМ. 08.25 Brit Premium Cat pouch 100g ягнятин д/стерилізованих котів","Більше 100","Корм вологий для котів",12.3,0,0,{"$f":"G119*I119","v":0}]
[null,1111205620,171849,"ТЕРМ. 09.25 Brit Premium by Nature Cat Sensitive чут/трав ягн 300г","Менше 10","Корм сухий для котів",49.02,0,0,{"$f":"G120*I120","v":0}]
[null,1111204882,171847,"ТЕРМ. 09.25 Brit Premium by Nature Cat Sterilized Lamb кот ягня 300г","Менше 10","Корм сухий для котів",49.02,0,0,{"$f":"G121*I121","v":0}]
[null,1111206791,"170813/6321","ТЕРМ. 09.25 Brit Premium Dog Junior M цуц/мол/соб/сер 10-25кг курк 3кг","Менше 10","Корм сухий для собак",243.48,0,0,{"$f":"G122*I122","v":0}]
[null,1111205383,171843,"ТЕРМ. 10.25 Brit Premium Cat by Nature Adult Chicken дор/кот курк 300г","Більше 100","Корм сухий для котів",49.02,0,0,{"$f":"G123*I123","v":0}]
[null,1111205747,"111252/548*****","ТЕРМ. 10.25 Brit Premium Cat Tuna Fillets Gravy pouch тунець/соус 85г","Більше 10","Корм вологий для котів",15.12,0,0,{"$f":"G124*I124","v":0}]
[null,1111206129,"170825/6444","ТЕРМ. 10.25 Brit Premium Dog Adult L дор/собак/великих курка 3кг","Менше 10","Корм сухий для собак",211.14,0,0,{"$f":"G125*I125","v":0}]
[null,1111205617,"170812/6314","ТЕРМ. 10.25 Brit Premium Dog Junior M цуцен/молод.соб/середн курка 1кг","Менше 10","Корм сухий для собак",93.48,0,0,{"$f":"G126*I126","v":0}]
[null,1111205618,171846,"ТЕРМ. 10.25 Корм сухий Brit Premium by Nature Cat Sterilised для стери","Менше 10","Корм сухий для котів",49.02,0,0,{"$f":"G127*I127","v":0}]
[null,1111208439,171847,"ТЕРМ. 10.25 Корм сухий Brit Premium by Nature Cat Sterilized Lamb для","Менше 10","Корм сухий для котів",49.92,0,0,{"$f":"G128*I128","v":0}]
[null,1111208475,"170833/6529","ТЕРМ. 10.25, Brit Premium Dog Adult XL д/порід 45-90кг курка 15кг","Немає в наявності","Корм сухий для собак",1037.52,0,0,{"$f":"G129*I129","v":0}]
[null,1111207456,"170832/6512","ТЕРМ. 12.25 Brit Premium Dog Adult XL д/собак/гігант 45-90кг курка 3кг","Менше 10","Корм сухий для собак",257.94,0,0,{"$f":"G130*I130","v":0}]
[null,1111205841,171847,"ТЕРМ.11.25.ПОРВ.Корм сухий Brit Premium by Nature Cat Sterilized Lamb","Менше 10","Корм сухий для котів",30,0,0,{"$f":"G131*I131","v":0}]

{"sheet":"Brit VetDiets","index":10,"n_rows":60,"n_cols":10,"rows_kept":60,"cut":false,"hidden":false,"merged":[]}
[]
[null,null,null,null,null,null,"suziria.ua"]
[null,null,null,null,null,null,"0 800 21 82 99"]
[null,null,null,null,null,null,"feedback@suziria.ua"]
[]
["Зображення","Код","Артикул","Номенклатура","Наявність","Категорія","Ціна опт.","Ціна РРЦ","Замовлення, шт.","Сума, грн."]
[null,null,null,null,null,null,null,null,null,{"$f":"СУММ(J8:J60)","v":{"$error":"#NAME?"}}]
[null,1111204496,"100713/9863","01.28 БЕЗ ЕТ Brit VetDiets Cat Str конс д/кот при сечм_ян/хв 200г","Менше 10","Ветеринарна дієта для котів",41.94,0,0,{"$f":"G8*I8","v":0}]
[null,1111184988,"101115_1*****","Brit GF VD Care Sterilised для котів з лососем 85 г","Більше 100","Корм вологий для котів",53.1,66,0,{"$f":"G9*I9","v":0}]
[null,1111152755,"170969/528523","Brit GF VetDiet Cat Diabetes д/котів цукровий/діабет курка/горох 2кг","Більше 10","Корм сухий для котів",747.36,972,0,{"$f":"G10*I10","v":0}]
[null,1111152751,"170963/528424","Brit GF VetDiet Cat Gastrointestinal д/котів оселедець/лосось 2кг","Більше 100","Корм сухий для котів",831.12,1080,0,{"$f":"G11*I11","v":0}]
[null,1111152748,"170958/528332","Brit GF VetDiet Cat Renal д/котів захворювання/нирок яйце/горох 400г","Більше 100","Корм сухий для котів",217.02,281,0,{"$f":"G12*I12","v":0}]
[null,1111151944,"170943/8103","Brit GF VetDiet Dog Diabetes д/собак цукровий/діабет індичка/горох 2кг","Більше 10","Корм сухий для собак",629.70000000000005,819,0,{"$f":"G13*I13","v":0}]
[null,1111151946,"170945/8134","Brit GF VetDiet Dog Gastrointestinal д/собак поруш/травл осел/лос 2кг","Більше 100","Корм сухий для собак",670.44,872,0,{"$f":"G14*I14","v":0}]
[null,1111151935,"170952/528240","Brit GF VetDiet Dog Mobility д/собак здор/суглобів оселед/лосось 12кг","Менше 10","Корм сухий для собак",3999.72,5200,0,{"$f":"G15*I15","v":0}]
[null,1111151937,"170940/8066","Brit GF VetDiet Dog Obesity д/собак корекція/ваги ягня/індичка 12кг","Більше 10","Корм сухий для собак",3517.74,4573,0,{"$f":"G16*I16","v":0}]
[null,1111151938,"170941/8073","Brit GF VetDiet Dog Obesity д/собак корекція/ваги ягня/індичка 2кг","Більше 10","Корм сухий для собак",676.32,880,0,{"$f":"G17*I17","v":0}]
[null,1111151940,"170949/8196","Brit GF VetDiet Dog Renal д/собак ниркова/недостат яйце/горох 2кг","Більше 10","Корм сухий для собак",635.52,826,0,{"$f":"G18*I18","v":0}]
[null,1111151939,"170948/528189","Brit GF VetDiet Dog Renal д/собак ниркова/недостатн яйце/горох 12кг","Менше 10","Корм сухий для собак",3263.1,4244,0,{"$f":"G19*I19","v":0}]
[null,1111151941,"170950/528219","Brit GF VetDiet Dog Struvite д/собак сечокам/хвороба яйце/індичка 12кг","Більше 10","Корм сухий для собак",3286.44,4273,0,{"$f":"G20*I20","v":0}]
[null,1111151942,"170951/8226","Brit GF VetDiet Dog Struvite д/собак сечокам/хвороба яйце/індичка 2кг","Більше 10","Корм сухий для собак",637.44000000000005,830,0,{"$f":"G21*I21","v":0}]
[null,1111151949,"170938/8035","Brit GF VetDiet д/собак харчова/алергія лосось/горох 12кг","Більше 10","Корм сухий для собак",3733.44,4854,0,{"$f":"G22*I22","v":0}]
[null,1111152749,"170960/528370","Brit Grain Free VetDiet Cat Hypoallergenic д/котів лосось/горох 2кг","Більше 100","Корм сухий для котів",747.3,972,0,{"$f":"G23*I23","v":0}]
[null,1111152750,"170961/528387","Brit Grain Free VetDiet Cat Hypoallergenic д/котів лосось/горох 400г","Менше 10","Корм сухий для котів",200.76,260,0,{"$f":"G24*I24","v":0}]
[null,1111152747,"170957/528325","Brit Grain Free VetDiet Cat Renal д/котів захвор/нирок яйце/горох 2кг","Більше 10","Корм сухий для котів",830.34,1080,0,{"$f":"G25*I25","v":0}]
[null,1111152745,"170954/528271","Brit Grain Free VetDiet Cat Struvite д/котів сеч/хвор курка/горох 2кг","Більше 100","Корм сухий для котів",712.38,926,0,{"$f":"G26*I26","v":0}]
[null,1111152746,"170955/528288","Brit Grain Free VetDiet Cat Struvite д/котів сечокам_я/хвор курка 400г","Більше 100","Корм сухий для котів",187.62,243,0,{"$f":"G27*I27","v":0}]
[null,1111151950,"170939/8042","Brit Grain Free VetDiet Dog Hypoallergenic д/собак лосось/горох 2кг","Більше 100","Корм сухий для собак",713.28,928,0,{"$f":"G28*I28","v":0}]
[null,1111151945,"170944/528127","Brit Grain Free VetDiet д/собак порушен/травлен оселедець/лосось 12кг","Більше 10","Корм сухий для собак",3478.86,4523,0,{"$f":"G29*I29","v":0}]
[null,1111151947,"170946/528158","Brit Grain Free VetDiet д/собак хвороба/печінки яйце/горох 12кг","Більше 10","Корм сухий для собак",3439.92,4473,0,{"$f":"G30*I30","v":0}]
[null,1111151948,"170947/8165","Brit Grain Free VetDiet д/собак хвороба/печінки яйце/горох 2кг","Більше 10","Корм сухий для собак",662.7,863,0,{"$f":"G31*I31","v":0}]
[null,1111151943,"170942/528097","Brit Grain Free VetDiet д/собак цукровий/діабет індичка/горох 12кг","Більше 10","Корм сухий для собак",3234,4203,0,{"$f":"G32*I32","v":0}]
[null,1111152753,"170966/528479","Brit VetDiet Cat Obesity д/котів зайва/вага/ожиріння курка/горох 2кг","Більше 10","Корм сухий для котів",747.36,972,0,{"$f":"G33*I33","v":0}]
[null,1111151936,"170953/8257","Brit VetDiet Dog Mobility д/собак здор_я/суглоб оселедець/лосось 2 кг","Більше 10","Корм сухий для собак",756,984,0,{"$f":"G34*I34","v":0}]
[null,1111168652,100710,"Brit VetDiets Cat Diabetes консерви д/котів із цукровим діабетом 200г","Більше 100","Ветеринарна дієта для котів",106.86,135,0,{"$f":"G35*I35","v":0}]
[null,1111169971,100712,"Brit VetDiets Cat Gastrointestinal консерви д/кот при захвор/ШКТ 200г","Більше 100","Ветеринарна дієта для котів",83.88,106,0,{"$f":"G36*I36","v":0}]
[null,1111168651,100711,"Brit VetDiets Cat Obesity консерви д/котів при надмірній вазі 200г","Менше 10","Ветеринарна дієта для котів",106.86,135,0,{"$f":"G37*I37","v":0}]
[null,1111166665,"100714/9870","Brit VetDiets Cat Renal консерви д/котів з нирков/недостатністю 200г","Більше 100","Ветеринарна дієта для котів",84.84,106,0,{"$f":"G38*I38","v":0}]
[null,1111166664,"100713/9863","Brit VetDiets Cat Struvite консерви д/котів при сечокам_ян/хвороб 200г","Більше 100","Ветеринарна дієта для котів",83.88,106,0,{"$f":"G39*I39","v":0}]
[null,1111168806,100287,"Brit VetDiets Dog Gastrointestinal консерви д/соб при захвор/ШКТ 400г","Більше 100","Ветеринарні дієти для собак",178.98,232,0,{"$f":"G40*I40","v":0}]
[null,1111166669,"100275/6030","Brit VetDiets Dog Hepatic консерви д/собак із захворюван/печінки 400г","Більше 100","Ветеринарні дієти для собак",178.98,232,0,{"$f":"G41*I41","v":0}]
[null,1111166668,"100271/5996","Brit VetDiets Dog Joint Mobility консерви д/собак здоров_я суглоб 400г","Менше 10","Ветеринарні дієти для собак",178.98,232,0,{"$f":"G42*I42","v":0}]
[null,1111168648,100267,"Brit VetDiets Dog Renal консерви д/собак з нирков/недостатністю 400г","Більше 100","Ветеринарні дієти для собак",178.98,232,0,{"$f":"G43*I43","v":0}]
[null,1111166670,"100279/6078","Brit VetDiets Dog Struvite консерви д/собак при сечокам_ян/хвороб 400г","Більше 100","Ветеринарні дієти для собак",178.98,232,0,{"$f":"G44*I44","v":0}]
[null,1111168649,100291,"Brit VetDiets Recovery консерви д/соб/кіт для віднов післ/хвороб 400г","Менше 10","Ветеринарні дієти для собак",178.98,232,0,{"$f":"G45*I45","v":0}]
[null,1111208543,100712,"БЕЗ ТЕРМ. ПОМ'ЯТ Корм вологий Brit Grain Veterinary Diets Gastrointest","Менше 10","Ветеринарна дієта для котів",41.94,0,0,{"$f":"G46*I46","v":0}]
[null,1111207266,"170955/528288","БЕЗ ТЕРМ. ПОРВ. УП. Корм сухий Brit Grain Free VetDiet Cat Struvite дл","Менше 10","Корм сухий для котів",93.84,0,0,{"$f":"G47*I47","v":0}]
[null,1111208427,"170955/528288","БЕЗ ТЕРМ.Корм сухий Brit Grain Free VetDiet Cat Struvite для котів з с","Менше 10","Корм сухий для котів",93.84,0,0,{"$f":"G48*I48","v":0}]
[null,1111183203,"101114_1","Паучі Brit GF VD Gastrointestinal для котів з ягням 85г","Більше 100","Корм вологий для котів",53.1,66,0,{"$f":"G49*I49","v":0}]
[null,1111183204,"101116_1*****","Паучі Brit GF VD Recovery для котів з лососем 85г","Більше 100","Корм вологий для котів",53.1,66,0,{"$f":"G50*I50","v":0}]
[null,1111183202,"101113_1","Паучі Brit GF VD Renal для котів з лососем 85г","Більше 100","Корм вологий для котів",53.1,66,0,{"$f":"G51*I51","v":0}]
[null,1111183205,"101117_1","Паучі Brit GF VD Urinary and Stress Relief для котів з індичкою 85г","Більше 100","Корм вологий для котів",53.1,66,0,{"$f":"G52*I52","v":0}]
[null,1111207047,100710,"ТЕРМ 03.27 ПОРВ.ЕТИК Brit VetDiets Cat Diabetes консерв цукр/діаб 200г","Менше 10","Ветеринарна дієта для котів",44.46,0,0,{"$f":"G53*I53","v":0}]
[null,1111206337,"170955/528288","ТЕРМ 09.25 Brit Grain Free VetDiet Cat Struvite сечокам/хвор курк 400г","Менше 10","Корм сухий для котів",93.84,0,0,{"$f":"G54*I54","v":0}]
[null,1111207046,100711,"ТЕРМ 11.27 ПОРВ.ЕТИК Brit VetDiets Cat Obesity консерви надм/вага 200г","Менше 10","Ветеринарна дієта для котів",44.46,0,0,{"$f":"G55*I55","v":0}]
[null,1111196757,100267,"ТЕРМ. 05.27, ПОМ_ЯТ Вологий корм Brit  для дорослих собак з хронічною","Менше 10","Ветеринарні дієти для собак",89.52,0,0,{"$f":"G56*I56","v":0}]
[null,1111205719,"170970/528530","ТЕРМ. 06.26, ПОРВ. Корм сухий Brit Grain Free VetDiet Cat Diabetes для","Менше 10","Корм сухий для котів",48.96,0,0,{"$f":"G57*I57","v":0}]
[null,1111205749,"101116_1","ТЕРМ. 10.25 Паучі Brit GF VD Recovery для котів з лососем 85г","Більше 10","Корм вологий для котів",26.58,0,0,{"$f":"G58*I58","v":0}]
[null,1111206732,"170958/528332","ТЕРМ. 11.25 Brit GF VetDiet Cat Renal захворюван/нирок яйце/горох 400г","Менше 10","Корм сухий для котів",108.54,0,0,{"$f":"G59*I59","v":0}]
[null,1111206708,"170952/528240","ТЕРМ.09.25.Корм сухий Brit Grain Free VetDiets Dog Mobility для собак","Немає в наявності","Корм сухий для собак",1815.66,0,0,{"$f":"G60*I60","v":0}]

{"sheet":"Brit Vitamins","index":11,"n_rows":10,"n_cols":10,"rows_kept":10,"cut":false,"hidden":false,"merged":[]}
[]
[null,null,null,null,null,null,"suziria.ua"]
[null,null,null,null,null,null,"0 800 21 82 99"]
[null,null,null,null,null,null,"feedback@suziria.ua"]
[]
["Зображення","Код","Артикул","Номенклатура","Наявність","Категорія","Ціна опт.","Ціна РРЦ","Замовлення, шт.","Сума, грн."]
[null,null,null,null,null,null,null,null,null,{"$f":"СУММ(J8:J10)","v":{"$error":"#NAME?"}}]
[null,1111187085,112289,"Brit Vitamins Biotin SkinandCoat д/собак д/шкіри та шерсті 60 таблеток","Більше 10","Вітаміни для собак",532.62,719,0,{"$f":"G8*I8","v":0}]
[null,1111187086,112290,"Brit Vitamins Digestion для собак для травлення 60 таблеток","Більше 10","Вітаміни для собак",621.48,839,0,{"$f":"G9*I9","v":0}]
[null,1111187088,112291,"Brit Vitamins Immunity Booster для собак для імунітету 60 таблеток","Більше 10","Вітаміни для собак",739.98,999,0,{"$f":"G10*I10","v":0}]

{"sheet":"Canina","index":12,"n_rows":46,"n_cols":10,"rows_kept":46,"cut":false,"hidden":false,"merged":[]}
[]
[null,null,null,null,null,null,"suziria.ua"]
[null,null,null,null,null,null,"0 800 21 82 99"]
[null,null,null,null,null,null,"feedback@suziria.ua"]
[]
["Зображення","Код","Артикул","Номенклатура","Наявність","Категорія","Ціна опт.","Ціна РРЦ","Замовлення, шт.","Сума, грн."]
[null,null,null,null,null,null,null,null,null,{"$f":"СУММ(J8:J46)","v":{"$error":"#NAME?"}}]
[null,1111141106,"128501 AD","Canina Barfer Best Junior для собак на натуральному годуванні 350 г","Менше 10","Вітаміни для собак",718.26,933,0,{"$f":"G8*I8","v":0}]
[null,1111151482,"128518 AD","Canina Barfer Best Junior для собак на натуральному годуванні 850 г","Менше 10","Вітаміни для собак",1597.5,2077,0,{"$f":"G9*I9","v":0}]
[null,1111141107,"228058 AD","Canina Barfer Best для котів на натуральному годуванні порошок 180 г","Менше 10","Вітаміни для котів",576.66,750,0,{"$f":"G10*I10","v":0}]
[null,1111126298,"128051 AD","Canina Barfers Best для дорослих собак на натуральному годуванні 180 г","Більше 10","Вітаміни для собак",478.86,623,0,{"$f":"G11*I11","v":0}]
[null,1111121976,"101122 AD*****","Canina Biotin Forte Tabletten д/собак інтенсив д/шерсті 2 кг 600 табл","Менше 10","Вітаміни для собак",8544.24,11108,0,{"$f":"G12*I12","v":0}]
[null,1111111957,"101108 AD","Canina Biotin Forte Tabletten д/собак інтенсив д/шерсті 200 г 60 табл","Менше 10","Вітаміни для собак",1556.88,2023,0,{"$f":"G13*I13","v":0}]
[null,1111111961,"120314 AD","Canina Caniletten віт-мін комплекс для дорослих собак 1 кг 500 табл","Менше 10","Вітаміни для собак",1482.72,1928,0,{"$f":"G14*I14","v":0}]
[null,1111121982,"120321 AD","Canina Caniletten віт-мін комплекс для дорослих собак 2 кг 1000 табл","Менше 10","Вітаміни для собак",2647.26,3442,0,{"$f":"G15*I15","v":0}]
[null,1111111958,"110001 /101001 AD","Canina Canivita д/кот і соб універсал зі швидким ефектом тонік 100 мл","Більше 10","Вітаміни для собак",477,620,0,{"$f":"G16*I16","v":0}]
[null,1111111983,"201525 AD","Canina Cat-Fell O.K. д/кот з пробл шерсті біотин/мікроел 50 г 100 табл","Більше 10","Вітаміни для котів",341.7,444,0,{"$f":"G17*I17","v":0}]
[null,1111111985,"220939 AD","Canina Cat-Mineral Tabs віт-мінерал комплекс для котів 150 г 300 табл","Менше 10","Вітаміни для котів",694.2,903,0,{"$f":"G18*I18","v":0}]
[null,1111116348,"130900 AD*****","Canina Dog Fell Gel для собак з проблемами шерсті Біотин і Цинк 100 мл","Менше 10","Вітаміни для собак",753.12,980,0,{"$f":"G19*I19","v":0}]
[null,1111111965,"101306 AD","Canina Fell O.K. вітамін комп д/собак Біотин д/шерсті 250 г 125 табл","Менше 10","Вітаміни для собак",750.48,977,0,{"$f":"G20*I20","v":0}]
[null,1111111963,"130016 Canina","Canina Hefe д/соб вітамін В дріжджові табл з ензимами 800 г 992 табл","Менше 10","Вітаміни для собак",1314.54,1708,0,{"$f":"G21*I21","v":0}]
[null,1111111966,"112036 AD","Canina Herz-Vital мін комп д/собак та котів для підтримки серця 100 мл","Менше 10","Вітаміни для собак",821.58,1069,0,{"$f":"G22*I22","v":0}]
[null,1111111967,"112050 AD","Canina Herz-Vital мін комп д/собак та котів для підтримки серця 250 мл","Менше 10","Вітаміни для собак",1365.24,1775,0,{"$f":"G23*I23","v":0}]
[null,1111116895,"230815 AD","Canina Katzenmilch замінник молока для кошенят сухе молоко 450 г","Менше 10","Корм сухий для котів",778.2,1011,0,{"$f":"G24*I24","v":0}]
[null,1111112179,"140305 AD","Canina Ohren-Balsam гігієн засіб д/соб і котів для вух бальзам 100 мл","Менше 10","Догляд та гігієна для собак",432.96,562,0,{"$f":"G25*I25","v":0}]
[null,1111140519,"723027 AD","Canina Petvital Arthro-Tabletten д/соб і кот д/суглобів 180 г 180 табл","Менше 10","Вітаміни для собак",1821.18,2368,0,{"$f":"G26*I26","v":0}]
[null,1111111977,"723003 AD","Canina Petvital Arthro-Tabletten д/соб і кот д/суглобів 60 г 60 табл","Менше 10","Вітаміни для собак",753.12,980,0,{"$f":"G27*I27","v":0}]
[null,1111121627,"702008 AD","Canina Petvital Biotin-Tabs для собак і котів Біотин 100 г 50 табл.","Менше 10","Вітаміни для собак",694.2,903,0,{"$f":"G28*I28","v":0}]
[null,1111111992,"712106 AD","Canina PetVital Energy-Gel для собак для швидкого відновлення 100 мл","Менше 10","Вітаміни для собак",576.66,750,0,{"$f":"G29*I29","v":0}]
[null,1111111970,"130504 AD","Canina Seealgen д/соб і котів д/шерсті з мор водоростями 225 г 220табл","Більше 10","Вітаміни для собак",554.46,721,0,{"$f":"G30*I30","v":0}]
[null,1111111971,"130511 AD","Canina Seealgen д/соб і котів д/шерсті з мор водоростями 750 г 730табл","Менше 10","Вітаміни для собак",1303.5,1694,0,{"$f":"G31*I31","v":0}]
[null,1111140518,"127078 AD","Canina Senior Vital мінеральний комплекс д/собак старше 7 років 250 г","Менше 10","Вітаміни для собак",921.66,1198,0,{"$f":"G32*I32","v":0}]
[null,1111111972,"110100 AD","Canina V25 Vitamintabletten вітамін комплекс для собак 100 г 30 табл","Менше 10","Вітаміни для собак",550.44000000000005,716,0,{"$f":"G33*I33","v":0}]
[null,1111111974,"110117 AD","Canina V25 Vitamintabletten вітамін комплекс для собак 200 г 60 табл","Менше 10","Вітаміни для собак",815.16,1061,0,{"$f":"G34*I34","v":0}]
[null,6414,110124,"Canina V25 Vitamintabletten вітамін комплекс для собак 700 г 210 табл","Менше 10","Вітаміни для собак",2179.86,2834,0,{"$f":"G35*I35","v":0}]
[null,1111112183,"120765 AD","Canina Welpenkalk мін комплекс д/цуценят і молод собак 1 кг 1000табл","Менше 10","Вітаміни для собак",2084.04,2710,0,{"$f":"G36*I36","v":0}]
[null,1111111975,"120741 AD","Canina Welpenkalk мін комплекс д/цуценят і молодих собак 150 г 150табл","Менше 10","Вітаміни для собак",576.66,750,0,{"$f":"G37*I37","v":0}]
[null,1111111976,"120758 AD","Canina Welpenkalk мін комплекс д/цуценят і молодих собак 350 г 350табл","Менше 10","Вітаміни для собак",828.42,1076,0,{"$f":"G38*I38","v":0}]
[null,1111145090,"140503 AD","Canina Winter Pfotenbalsam для лап д/собак і котів бальзам 100 мл","Менше 10","Догляд та гігієна для собак",593.34,772,0,{"$f":"G39*I39","v":0}]
[null,1111111987,"210329 AD","Вітамінний комплекс Canina Cat-Vitamin Tabs для котів 125 г 250 табл.","Менше 10","Вітаміни для котів",575.1,748,0,{"$f":"G40*I40","v":0}]
[null,1111111986,"210312 AD","Вітамінний комплекс Canina Cat-Vitamin Tabs для котів 50 г 100 табл.","Менше 10","Вітаміни для котів",341.7,444,0,{"$f":"G41*I41","v":0}]
[null,1111198564,"723003 AD","ТЕРМ 07.25Canina Petvital Arthro-Tabletten д/соб/кот д/сугл.60г 60табл","Більше 10","Вітаміни для собак",358.62,0,0,{"$f":"G42*I42","v":0}]
[null,1111208340,"723317 AD","ТЕРМ 12.25 Canina Petvital GAG д/сугл глюкоз./екстр мідій 180г 180табл","Менше 10","Вітаміни для собак",944.82,0,0,{"$f":"G43*I43","v":0}]
[null,1111207052,"142316 AD","ТЕРМ. 02.27, НЕ ПОВНИЙ ОБ'ЄМ Гігієнічний засіб Canina Dog Stop Forte д","Менше 10","Корекція поведінки для собак",273.89999999999998,0,0,{"$f":"G44*I44","v":0}]
[null,1111200538,"130702 AD*****","ТЕРМ. 08.25 Замінник молока Canina Welpenmilch д/собак сухе молоко 150","Менше 10","Корм сухий для собак",236.22,0,0,{"$f":"G45*I45","v":0}]
[null,1111206453,"723003 AD","ТЕРМ. 11.25 Canina Petvital Arthro-Tabletten д/суглобів 60 г 60 табл","Менше 10","Вітаміни для собак",376.56,0,0,{"$f":"G46*I46","v":0}]

{"sheet":"Carnilove","index":13,"n_rows":67,"n_cols":10,"rows_kept":67,"cut":false,"hidden":false,"merged":[]}
[]
[null,null,null,null,null,null,"suziria.ua"]
[null,null,null,null,null,null,"0 800 21 82 99"]
[null,null,null,null,null,null,"feedback@suziria.ua"]
[]
["Зображення","Код","Артикул","Номенклатура","Наявність","Категорія","Ціна опт.","Ціна РРЦ","Замовлення, шт.","Сума, грн."]
[null,null,null,null,null,null,null,null,null,{"$f":"СУММ(J8:J67)","v":{"$error":"#NAME?"}}]
[null,1111145078,"150824/8983","Carnilove Adult Lamb and Wild Boar д/собак з ягням і дик кабаном 1,5кг","Більше 10","Корм сухий для собак",521.52,849,0,{"$f":"G8*I8","v":0}]
[null,1111145079,"150817/8921","Carnilove Adult Lamb and Wild Boar д/собак з ягням і дик кабаном 12кг","Більше 10","Корм сухий для собак",3544.5,5499,0,{"$f":"G9*I9","v":0}]
[null,1111145083,"150821/8945","Carnilove Adult Large Breed Salmon Turkey д/соб вел пор лос/індич 12кг","Менше 10","Корм сухий для собак",3287.64,5099,0,{"$f":"G10*I10","v":0}]
[null,1111145080,"150827/8891","Carnilove Adult Raindeer д/собак з північним оленем 1,5 кг","Немає в наявності","Корм сухий для собак",599.74,999,0,{"$f":"G11*I11","v":0}]
[null,1111145081,"150820/8884","Carnilove Adult Raindeer д/собак з північним оленем 12 кг","Менше 10","Корм сухий для собак",3994.5,6199,0,{"$f":"G12*I12","v":0}]
[null,1111153876,"100410/ 527175","Carnilove Cat Crunchy Salmon ласощі д/котів здор/зубів лосос/м_ята 50г","Більше 100","Ласощі для котів",78.72,124,0,{"$f":"G13*I13","v":0}]
[null,1111145067,"170194/2263","Carnilove Cat Energy and Outdoor д/активн котів з північн оленем 400г","Більше 100","Корм сухий для котів",212.59,331,0,{"$f":"G14*I14","v":0}]
[null,1111145066,"170200/2256","Carnilove Cat Energy and Outdoor д/активн котів з північним оленем 2кг","Більше 10","Корм сухий для котів",773.46,1199,0,{"$f":"G15*I15","v":0}]
[null,1111145058,"170191/2355","Carnilove Cat Hairball Controll д/котів д/вивед шерст качка/фазан 400г","Більше 100","Корм сухий для котів",212.25,348,0,{"$f":"G16*I16","v":0}]
[null,1111145059,"170203/2331","Carnilove Cat Hairball Controll д/котів д/вивед шерсті качка/фазан 6кг","Немає в наявності","Корм сухий для котів",1934.65,2999,0,{"$f":"G17*I17","v":0}]
[null,1111145057,"170197/2348","Carnilove Cat Hairball Controll д/котів для вивед шерс качка/фазан 2кг","Менше 10","Корм сухий для котів",741.96,1149,0,{"$f":"G18*I18","v":0}]
[null,1111145069,"170196/2225","Carnilove Cat Kitten для кошенят з лососем та індичкою 2 кг","Більше 10","Корм сухий для котів",741.96,1149,0,{"$f":"G19*I19","v":0}]
[null,1111145070,"170190/2232","Carnilove Cat Kitten для кошенят з лососем та індичкою 400 г","Більше 100","Корм сухий для котів",212.77,348,0,{"$f":"G20*I20","v":0}]
[null,1111145071,"170202/2218","Carnilove Cat Kitten для кошенят з лососем та індичкою 6 кг","Більше 10","Корм сухий для котів",1934.65,2999,0,{"$f":"G21*I21","v":0}]
[null,1111145061,"170195/2775","Carnilove Cat Large Breed д/котів великих порід качка/індичка 400г","Більше 10","Корм сухий для котів",212.25,348,0,{"$f":"G22*I22","v":0}]
[null,1111145074,"170204/2270","Carnilove Cat Sensitive and Long Hair д/котів чутл травл з лососем 6кг","Немає в наявності","Корм сухий для котів",2127.5300000000002,3299,0,{"$f":"G23*I23","v":0}]
[null,1111145073,"170192/2294","Carnilove Cat Sensitive and Long Hair д/котів чутл травл лосось 400г","Більше 100","Корм сухий для котів",212.59,331,0,{"$f":"G24*I24","v":0}]
[null,1111153874,"111376/7212","Carnilove Cat Snack Chicken ласощі д/котів здоров/сечов/шлях курка 50г","Більше 100","Ласощі для котів",78.72,124,0,{"$f":"G25*I25","v":0}]
[null,1111153875,"111377/7236","Carnilove Cat Snack Sardine ласощі д/котів з чутлив/травл сардина 50г","Більше 100","Ласощі для котів",78.72,124,0,{"$f":"G26*I26","v":0}]
[null,1111145064,"170193/2324","Carnilove Cat Sterilised д/стерил котів з ягням і диким кабаном 400г","Більше 100","Корм сухий для котів",212.25,348,0,{"$f":"G27*I27","v":0}]
[null,1111145063,"170199/2317","Carnilove Cat Sterilised д/стерил котів ягнятина/дикий кабан 2кг","Більше 100","Корм сухий для котів",741.96,1149,0,{"$f":"G28*I28","v":0}]
[null,1111145065,"170205/2300","Carnilove Cat Sterilised д/стерил котів ягнятина/дикий кабан 6кг","Більше 100","Корм сухий для котів",1934.65,2999,0,{"$f":"G29*I29","v":0}]
[null,1111153871,"100405/7250","Carnilove Dog Crunchy Snack Lamb ласощі д/собак ягня/журавлина 200г","Більше 100","Ласощі для собак",143.58000000000001,217,0,{"$f":"G30*I30","v":0}]
[null,1111153868,"100409/8875","Carnilove Dog Crunchy Snack Mackerel ласощі д/собак скумбр/малина 200г","Більше 100","Ласощі для собак",143.58000000000001,217,0,{"$f":"G31*I31","v":0}]
[null,1111153867,"100408/8851","Carnilove Dog Crunchy Snack Salmon ласощі д/собак лосось/чорниця 200г","Більше 100","Ласощі для собак",143.58000000000001,217,0,{"$f":"G32*I32","v":0}]
[null,1111150029,"100134/529230","Carnilove Dog k консерви д/собак з качкою і фазаном 400г","Більше 100","Корм вологий для собак",169.56,229,0,{"$f":"G33*I33","v":0}]
[null,1111148556,"100132/529278","Carnilove Dog k консерви д/собак з лососем та індичкою 400г","Більше 100","Корм вологий для собак",169.56,229,0,{"$f":"G34*I34","v":0}]
[null,1111150032,"100133/529292","Carnilove Dog k консерви д/собак з північним оленем 400г","Більше 100","Корм вологий для собак",169.56,229,0,{"$f":"G35*I35","v":0}]
[null,1111150030,"100131/529315","Carnilove Dog k консерви д/собак з ягням і кабаном 400г","Більше 100","Корм вологий для собак",169.56,229,0,{"$f":"G36*I36","v":0}]
[null,1111154401,"111374/7335","Carnilove Dog Semi Moist Carp Thyme ласощі для собак короп/тимьян 200г","Більше 100","Ласощі для собак",134.22,217,0,{"$f":"G37*I37","v":0}]
[null,1111154400,"111373/7311","Carnilove Dog Semi Moist Duck ласощі для собак качка/розмарин 200г","Більше 100","Ласощі для собак",134.22,217,0,{"$f":"G38*I38","v":0}]
[null,1111154402,"111375/7359","Carnilove Dog Semi Moist Quail ласощі для собак перепел/орегано 200г","Більше 100","Ласощі для собак",134.22,217,0,{"$f":"G39*I39","v":0}]
[null,1111154398,"111371/8899","Carnilove Dog Semi Moist Sardines ласощі д/собак сардина/часник 200г","Більше 100","Ласощі для собак",134.22,217,0,{"$f":"G40*I40","v":0}]
[null,1111154399,"111372/8912","Carnilove Dog Semi Moist Trout Dill ласощі для собак форель/кріп 200г","Більше 100","Ласощі для собак",134.22,217,0,{"$f":"G41*I41","v":0}]
[null,1111153665,"170871/7533","Carnilove Fresh Carp and Trout for Adult dogs д/соб короп/форель 1,5кг","Менше 10","Корм сухий для собак",620.36,949,0,{"$f":"G42*I42","v":0}]
[null,1111152301,"170878/7465","Carnilove Fresh Carp Trout Steril Adult д/стерил кот короп/форель 6кг","Більше 10","Корм сухий для котів",2221.1799999999998,3399,0,{"$f":"G43*I43","v":0}]
[null,1111153670,"170877/7441","Carnilove Fresh Carp Trout Steril Cats д/стерил котів короп/форель 2кг","Більше 10","Корм сухий для котів",838.2,1349,0,{"$f":"G44*I44","v":0}]
[null,1111152299,"170875/7410","Carnilove Fresh Chicken Rabbit Adult cats д/котів курка/кролик 6 кг","Більше 10","Корм сухий для котів",2220.9899999999998,3399,0,{"$f":"G45*I45","v":0}]
[null,1111153661,"170867/7502","Carnilove Fresh Chicken Rabbit Adult dogs д/собак курка/кролик 1,5кг","Більше 10","Корм сухий для собак",621.54999999999995,999,0,{"$f":"G46*I46","v":0}]
[null,1111153667,"170873/7373","Carnilove Fresh Chicken Rabbit for Adult cats д/кот курка/кролик 400г","Більше 100","Корм сухий для котів",227.56,348,0,{"$f":"G47*I47","v":0}]
[null,1111153668,"170874/7397","Carnilove Fresh Chicken Rabbit for Adult Cats д/котів курка/кролик 2кг","Більше 10","Корм сухий для котів",880.56,1349,0,{"$f":"G48*I48","v":0}]
[null,1111153663,"170869/7472","Carnilove Fresh Ostrich Lamb Small Breed д/дрібн соб страус/ягня 1,5кг","Більше 100","Корм сухий для собак",633.19000000000005,969,0,{"$f":"G49*I49","v":0}]
[null,1111153664,"170870/7496","Carnilove Fresh Ostrich Lamb Small Breed д/соб дрібн страус/баран 6кг","Більше 10","Корм сухий для собак",2220.12,3399,0,{"$f":"G50*I50","v":0}]
[null,1111150031,"100130/529254","Carnilove Puppy k консерви д/цуценят з лососем та індичкою 400г","Більше 100","Корм вологий для собак",169.56,229,0,{"$f":"G51*I51","v":0}]
[null,1111145084,"150823/8853","Carnilove Puppy Large Breed Salmon Turkey д/цуц вел пор лос/інд 1,5кг","Більше 10","Корм сухий для собак",521.28,849,0,{"$f":"G52*I52","v":0}]
[null,1111145085,"150816/8846","Carnilove Puppy Large Breed Salmon Turkey д/цуц вел пор лос/індич 12кг","Менше 10","Корм сухий для собак",3349.98,5199,0,{"$f":"G53*I53","v":0}]
[null,1111145087,"150815/8822","Carnilove Puppy Salmon and Turkey д/цуценят з лососем та індичкою 12кг","Більше 10","Корм сухий для собак",3351.3,5199,0,{"$f":"G54*I54","v":0}]
[null,1111145086,"150822/8839","Carnilove Puppy Salmon and Turkey д/цуценят лосось/індичка 1,5кг","Більше 10","Корм сухий для собак",513.9,799,0,{"$f":"G55*I55","v":0}]
[null,1111207854,"170873/7373","ТЕРМ 10.25 Carnilove Fresh Chicken Rabbit for Adult cats кур/крол 400г","Менше 10","Корм сухий для котів",113.82,0,0,{"$f":"G56*I56","v":0}]
[null,1111206950,"170193/2324","ТЕРМ 10.26 ПОРВ Carnilove Cat Sterilised стери/кот ягня/дик.кабан 400г","Менше 10","Корм сухий для котів",106.14,0,0,{"$f":"G57*I57","v":0}]
[null,1111208510,"170871/7533","ТЕРМ 12.25 Carnilove FreshCarp/Trout for Adult dogs короп/форель 1,5кг","Менше 10","Корм сухий для собак",310.2,0,0,{"$f":"G58*I58","v":0}]
[null,1111207535,"170190/2232","ТЕРМ. 08.25 Корм сухий Carnilove Cat Kitten для кошенят з лососем та і","Більше 10","Корм сухий для котів",106.44,0,0,{"$f":"G59*I59","v":0}]
[null,1111206395,"170873/7373","ТЕРМ. 09.25 Корм сухий Carnilove Fresh Chicken and Rabbit Gourmand for","Менше 10","Корм сухий для котів",113.82,0,0,{"$f":"G60*I60","v":0}]
[null,1111206779,"170190/2232","ТЕРМ. 10.25 Carnilove Cat Kitten д/кошенят з лососем та індичкою 400г","Менше 10","Корм сухий для котів",106.44,0,0,{"$f":"G61*I61","v":0}]
[null,1111208023,"170192/2294","ТЕРМ. 10.25 Carnilove Cat Sensitive and Hair чутл травл лосось 400г","Менше 10","Корм сухий для котів",106.32,0,0,{"$f":"G62*I62","v":0}]
[null,1111205635,"111371/8899","ТЕРМ. 10.25 Carnilove Dog Semi Moist Sardines ласощ соб сард/часн 200г","Менше 10","Ласощі для собак",67.14,0,0,{"$f":"G63*I63","v":0}]
[null,1111207855,"170200/2256","ТЕРМ. 11.25 Carnilove Cat Energy/Outdoor акт/котів північний олень 2кг","Немає в наявності","Корм сухий для котів",386.76,0,0,{"$f":"G64*I64","v":0}]
[null,1111208511,"150824/8983","ТЕРМ. 12.25 Carnilove Adult Lamb/Wild Boar д/соб ягня/дик.кабан 1,5кг","Менше 10","Корм сухий для собак",260.76,0,0,{"$f":"G65*I65","v":0}]
[null,1111207856,"170198/2287","ТЕРМ.10.25.Корм сухий Carnilove Cat Sensitive and Long Hair для довгош","Немає в наявності","Корм сухий для котів",386.76,0,0,{"$f":"G66*I66","v":0}]
[null,1111208300,"170876/7427","ТЕРМ.10.25.Корм сухий Carnilove Fresh Carp and Trout для дорослих стер","Менше 10","Корм сухий для котів",113.76,0,0,{"$f":"G67*I67","v":0}]

{"sheet":"Cats Best","index":14,"n_rows":23,"n_cols":10,"rows_kept":23,"cut":false,"hidden":false,"merged":[]}
[]
[null,null,null,null,null,null,"suziria.ua"]
[null,null,null,null,null,null,"0 800 21 82 99"]
[null,null,null,null,null,null,"feedback@suziria.ua"]
[]
["Зображення","Код","Артикул","Номенклатура","Наявність","Категорія","Ціна опт.","Ціна РРЦ","Замовлення, шт.","Сума, грн."]
[null,null,null,null,null,null,null,null,null,{"$f":"СУММ(J8:J23)","v":{"$error":"#NAME?"}}]
[null,1111205723,"JRS324092/0922","ВАГА 3,5 КГ Наповнювач Cat’s Best для котячого туалету Original деревн","Менше 10","Наповнювачі для котячих туалетів",229.86,0,0,{"$f":"G8*I8","v":0}]
[null,1111201827,"JRS319116/1163","ВАГА 4,5 КГ Наповнювач Cat’s Best для котячого туалету Original деревн","Менше 10","Наповнювачі для котячих туалетів",331.08,0,0,{"$f":"G9*I9","v":0}]
[null,1111149476,"JRS321742/7429","Наповнювач Cat_s Best д/котячого туалету Smart Pellets деревн 20л/10кг","Більше 10","Наповнювачі для котячих туалетів",1565.82,2115,0,{"$f":"G10*I10","v":0}]
[null,1111117838,"JRS300084/0847","Наповнювач Cat_s Best для домашніх тварин Universal деревний 20л/11кг","Менше 10","Наповнювачі для котячих туалетів",632.1,854,0,{"$f":"G11*I11","v":0}]
[null,12547,"JRS300047/0472","Наповнювач Cat_s Best для домашніх тварин Universal деревний 40л/22кг","Менше 10","Наповнювачі для котячих туалетів",1185.1199999999999,1600,0,{"$f":"G12*I12","v":0}]
[null,1111111114,"JRS300062/0625","Наповнювач Cat_s Best для домашніх тварин Universal деревний 7л/4кг","Менше 10","Наповнювачі для котячих туалетів",323.27999999999997,436,0,{"$f":"G13*I13","v":0}]
[null,1111134732,"JRS321309/3094","Наповнювач Cat_s Best для котячого туалету Original деревн 40л/17,2кг","Більше 10","Наповнювачі для котячих туалетів",2284.08,3084,0,{"$f":"G14*I14","v":0}]
[null,1111148528,"JRS324092/0922","Наповнювач Cat_s Best для котячого туалету Original деревний 10л/4,3кг","Більше 10","Наповнювачі для котячих туалетів",459.72,621,0,{"$f":"G15*I15","v":0}]
[null,1111134421,"JRS318669/6695","Наповнювач Cat_s Best для котячого туалету Original деревний 20л/8,6кг","Більше 10","Наповнювачі для котячих туалетів",1221.1199999999999,1647,0,{"$f":"G16*I16","v":0}]
[null,1111117839,"JRS300086/0861","Наповнювач Cat_s Best для котячого туалету Original деревний 5л/2,1кг","Більше 100","Наповнювачі для котячих туалетів",337.62,456,0,{"$f":"G17*I17","v":0}]
[null,1111150983,"JRS319116/1163","Наповнювач Cat’s Best д/котячого туалету Original дерев 10 та 2л/5,2кг","Більше 10","Наповнювачі для котячих туалетів",695.28,940,0,{"$f":"G18*I18","v":0}]
[null,1111149475,"JRS300088/0885","Наповнювач Cat’s Best д/котячого туалету Smart Pellets деревн 10л/5кг","Більше 10","Наповнювачі для котячих туалетів",826.02,1115,0,{"$f":"G19*I19","v":0}]
[null,12548,"JRS300046/0465","Наповнювач Cat’s Best для домашніх тварин Universal деревний 10л/5,5кг","Більше 10","Наповнювачі для котячих туалетів",402.24,543,0,{"$f":"G20*I20","v":0}]
[null,1111201291,"JRS300086/0861","НЕТОВ.В. Наповнювач Cat’s Best для котячого туалету Original деревний","Менше 10","Наповнювачі для котячих туалетів",160.80000000000001,0,0,{"$f":"G21*I21","v":0}]
[null,1111206948,"JRS319116/1163","ПОРВ 4,6кг Наповнювач Cat’s Best кот/туал Original дерев 10та2л/5,2кг","Менше 10","Наповнювачі для котячих туалетів",347.64,0,0,{"$f":"G22*I22","v":0}]
[null,1111203602,"JRS300088/0885","ПОРВ. ВАГА 4,5кг Наповнювач Cat’s Best Smart Pellets деревн 10л/5кг","Менше 10","Наповнювачі для котячих туалетів",393.36,0,0,{"$f":"G23*I23","v":0}]

{"sheet":"Chipsi","index":15,"n_rows":13,"n_cols":10,"rows_kept":13,"cut":false,"hidden":false,"merged":[]}
[]
[null,null,null,null,null,null,"suziria.ua"]
[null,null,null,null,null,null,"0 800 21 82 99"]
[null,null,null,null,null,null,"feedback@suziria.ua"]
[]
["Зображення","Код","Артикул","Номенклатура","Наявність","Категорія","Ціна опт.","Ціна РРЦ","Замовлення, шт.","Сума, грн."]
[null,null,null,null,null,null,null,null,null,{"$f":"СУММ(J8:J13)","v":{"$error":"#NAME?"}}]
[null,1111173939,"JRS3318898","Наповнювач Chipsi для гризунів Зелене яблуко тирса 15л/1кг","Більше 10","Наповнювачі для гризунів",110.64,150,0,{"$f":"G8*I8","v":0}]
[null,1111114658,"JRS300082/0823","Наповнювач Chipsi для гризунів Зелене яблуко тирса 60л/3,2кг","Більше 10","Наповнювачі для гризунів",237.06,320,0,{"$f":"G9*I9","v":0}]
[null,1111173937,"JRS3318874","Наповнювач Chipsi для гризунів Класік гігієнічний тирса 15л/1кг","Більше 10","Наповнювачі для гризунів",103.5,140,0,{"$f":"G10*I10","v":0}]
[null,12546,"JRS300070/0700","Наповнювач Chipsi для гризунів Класік гігієнічний тирса 60л/3,2кг","Більше 10","Наповнювачі для гризунів",258.60000000000002,350,0,{"$f":"G11*I11","v":0}]
[null,1111173938,"JRS3318881","Наповнювач Chipsi для гризунів Цитрус гігієнічний тирса 15л/1кг","Більше 10","Наповнювачі для гризунів",110.64,150,0,{"$f":"G12*I12","v":0}]
[null,12551,"10л/0427","Наповнювач Chipsi для дрібних тварин Mais кукурудзяний 10л","Менше 10","Наповнювачі для гризунів",445.38,601,0,{"$f":"G13*I13","v":0}]

{"sheet":"Chris Christensen","index":16,"n_rows":48,"n_cols":10,"rows_kept":48,"cut":false,"hidden":false,"merged":[]}
[]
[null,null,null,null,null,null,"suziria.ua"]
[null,null,null,null,null,null,"0 800 21 82 99"]
[null,null,null,null,null,null,"feedback@suziria.ua"]
[]
["Зображення","Код","Артикул","Номенклатура","Наявність","Категорія","Ціна опт.","Ціна РРЦ","Замовлення, шт.","Сума, грн."]
[null,null,null,null,null,null,null,null,null,{"$f":"СУММ(J8:J48)","v":{"$error":"#NAME?"}}]
[null,1111147743,"850544/А140","Гребінець Chris Christensen Wood Pin прямокутний 20мм","Менше 10","Інструменти для грумінгу",2389.14,3106,0,{"$f":"G8*I8","v":0}]
[null,1111132713,"841050/79","Кондиціонер Chris Christensen After Bath 3,8л","Менше 10","Косметика для тварин",3427.14,4455,0,{"$f":"G9*I9","v":0}]
[null,1111132725,"841047/061","Кондиціонер Chris Christensen Day to Day д/соб/котів дог/шкір/шер 3,8л","Менше 10","Косметика для тварин",4014.18,5220,0,{"$f":"G10*I10","v":0}]
[null,1111132729,"841054/205/005","Кондиціонер Chris Christensen Spectrum One соб/кот густ/жорс/шерс 3,8л","Менше 10","Косметика для тварин",4196.28,5455,0,{"$f":"G11*I11","v":0}]
[null,1111132726,"841051/087","Кондиціонер Chris Christensen Spectrum Ten д/соб/кот шовк/шерсті 473мл","Менше 10","Косметика для тварин",1438.92,1871,0,{"$f":"G12*I12","v":0}]
[null,1111132727,"841052/088","Кондиціонер Chris Christensen Spectrum Ten д/соб/кот шовк/шерсть 3,8л","Менше 10","Косметика для тварин",4396.08,5715,0,{"$f":"G13*I13","v":0}]
[null,1111180916,844880,"Кондиціонер Chris Christensen д/собак та котів Ice on Ice 3,8л","Менше 10","Косметика для тварин",4406.04,5728,0,{"$f":"G14*I14","v":0}]
[null,1111180917,849092,"Кондиціонер Chris Christensen д/собак та котів Miracle Repair 3,8л","Менше 10","Косметика для тварин",5187.24,6743,0,{"$f":"G15*I15","v":0}]
[null,1111181008,841499,"Кондиціонер Chris Christensen д/собак та котів Smartrinse De-Shed 3,8л","Менше 10","Косметика для тварин",4582.32,5957,0,{"$f":"G16*I16","v":0}]
[null,1111164831,"849076/TNTC16","Кондиціонер Chris Christensen для тварин Thick N Thicker 473мл","Менше 10","Косметика для тварин",2159.52,2808,0,{"$f":"G17*I17","v":0}]
[null,1111184461,841498,"Кондіціонер  для собак Chris Christensen Smartrinse De-Shed  473ml","Менше 10",null,642.95000000000005,1299,0,{"$f":"G18*I18","v":0}]
[null,1111126641,"048 /05-243-1","Лосьйон Chris Christensen Mystic Ear для вух 236мл","Менше 10","Косметика для тварин",1203,1563,0,{"$f":"G19*I19","v":0}]
[null,1111132749,"845024/049/ Скл.048","Лосьйон Chris Christensen Mystic Ear для вух 3,8л","Менше 10","Косметика для тварин",4228.8599999999997,5498,0,{"$f":"G20*I20","v":0}]
[null,1111132734,"844806/089","Маска Chris Christensen Spectrum Ten для собак/котів шовк/шерс 473мл","Менше 10","Косметика для тварин",1600.86,2081,0,{"$f":"G21*I21","v":0}]
[null,1111180922,"860635*****","Ножиці Chris Christensen д/грум. Adalynn Rose 7 Chunky Blender","Менше 10","Ножниці для грумінгу",16695,21704,0,{"$f":"G22*I22","v":0}]
[null,1111180923,"860636*****","Ножиці Chris Christensen д/грум. Adalynn Rose 7 округлі","Менше 10","Ножниці для грумінгу",7451.76,9687,0,{"$f":"G23*I23","v":0}]
[null,1111180921,"860634*****","Ножиці Chris Christensen д/грум. Adalynn Rose 7 шир.золоті","Менше 10","Ножниці для грумінгу",16024.74,20832,0,{"$f":"G24*I24","v":0}]
[null,1111180925,"860638*****","Ножиці Chris Christensen д/грум. Adalynn Rose 7 шир.срібні","Менше 10","Ножниці для грумінгу",7451.76,9687,0,{"$f":"G25*I25","v":0}]
[null,1111180920,"860633*****","Ножиці Chris Christensen д/грум. Adalynn Rose 8 округлі","Менше 10","Ножниці для грумінгу",16024.74,20832,0,{"$f":"G26*I26","v":0}]
[null,1111180919,"860630*****","Ножиці Chris Christensen для грумінгу Adalynn Rose 7 прямі","Менше 10","Ножниці для грумінгу",13357.86,17365,0,{"$f":"G27*I27","v":0}]
[null,1111180924,"860637*****","Ножиці Chris Christensen для грумінгу Adalynn Rose 8","Менше 10","Ножниці для грумінгу",7451.76,9687,0,{"$f":"G28*I28","v":0}]
[null,1111180914,849061,"Парфуми Chris Christensen Smart Scents Cherry and Oats 473мл","Менше 10","Косметика для тварин",1361.76,1770,0,{"$f":"G29*I29","v":0}]
[null,1111180913,849060,"Парфуми Chris Christensen Smart Scents Tropical Breeze 473мл","Менше 10","Косметика для тварин",1361.76,1770,0,{"$f":"G30*I30","v":0}]
[null,1111149688,"849067/284","Парфуми Chris Christensen для тварин Brooklynn_s Sweet_Sassy 473мл","Менше 10","Косметика для тварин",1153.98,1500,0,{"$f":"G31*I31","v":0}]
[null,1111147690,"849074/PUMPGAL*****","Помпа для галонів Chris Christensen д/грум. пластикова","Менше 10","Інструменти для грумінгу",354.96,462,0,{"$f":"G32*I32","v":0}]
[null,1111181007,850592,"Пухоредка Chris Christensen д/собак та котів велика G коралова","Менше 10","Інструменти для грумінгу",6369.06,8280,0,{"$f":"G33*I33","v":0}]
[null,1111132731,"841058/64","Рідкий шовк Chris Christensen Silk Spirits для собак для шерсті 236мл","Менше 10","Косметика для тварин",1518.9,1975,0,{"$f":"G34*I34","v":0}]
[null,1111147775,"827042/SP03*****","Розпилювач Chris Christensen пластиковий 300мл","Менше 10","Інструменти для грумінгу",962.52,1251,0,{"$f":"G35*I35","v":0}]
[null,1111137616,"844244/122 /скл 004","Спрей Chris Christensen Precious Drop д/собак/котів шовк/шерсть 473 мл","Менше 10","Косметика для тварин",1219.68,1586,0,{"$f":"G36*I36","v":0}]
[null,1111139176,"844240/125/1019","Спрей Chris Christensen для тварин Just Divine для розчісування 473мл","Менше 10","Косметика для тварин",1155.48,1503,0,{"$f":"G37*I37","v":0}]
[null,1111132721,38,"Шампунь Chris Christensen Black on Black для чорної шерсті 1,9л","Менше 10","Косметика для тварин",2825.58,3673,0,{"$f":"G38*I38","v":0}]
[null,1111132714,"841031/032","Шампунь Chris Christensen Clean Start д/собак/котів догляд/шерсть 3,8л","Менше 10","Косметика для тварин",3693.06,4801,0,{"$f":"G39*I39","v":0}]
[null,1111132715,"841033/058","Шампунь Chris Christensen Day to Day д/собак/котів догляд/шерсть 3,8л","Менше 10","Косметика для тварин",4014.18,5220,0,{"$f":"G40*I40","v":0}]
[null,1111139159,"841414/231 /1037","Шампунь Chris Christensen Smart Wash Jungle Apple д/соб/котів ябл 3,8л","Менше 10","Косметика для тварин",4183.9799999999996,5439,0,{"$f":"G41*I41","v":0}]
[null,1111132716,"841034/201/ Скл.001","Шампунь Chris Christensen Spectrum One д/соб/кот густ/жорс/шерс 473мл","Менше 10","Косметика для тварин",1320.54,1717,0,{"$f":"G42*I42","v":0}]
[null,1111132717,"841035/202/ Скл.002","Шампунь Chris Christensen Spectrum One д/соб/кот д/густ/жорс/шерс 3,8л","Менше 10","Косметика для тварин",4166.6400000000003,5417,0,{"$f":"G43*I43","v":0}]
[null,1111132719,"841037/071/ Скл.082","Шампунь Chris Christensen Spectrum Ten д/собак/котів д/шовк/шерс 3,8л","Менше 10","Косметика для тварин",3796.62,4936,0,{"$f":"G44*I44","v":0}]
[null,1111129338,"841040/035-1 /Скл. 046","Шампунь Chris Christensen White on White д/собак/котів відбілювач 3,8л","Менше 10","Косметика для тварин",5467.8,7109,0,{"$f":"G45*I45","v":0}]
[null,1111180929,849069,"Шампунь Chris Christensen д/собак та котів Miracle Moisture 3,8л","Менше 10","Косметика для тварин",5249.4,6824,0,{"$f":"G46*I46","v":0}]
[null,1111180931,849090,"Шампунь Chris Christensen д/собак та котів Miracle Repair 3,8л","Менше 10","Косметика для тварин",4993.1400000000003,6491,0,{"$f":"G47*I47","v":0}]
[null,1111180926,841497,"Шампунь Chris Christensen д/собак та котів Smartwash50 De-Shed 3,8л","Менше 10","Косметика для тварин",4668.0600000000004,6068,0,{"$f":"G48*I48","v":0}]

{"sheet":"Comfy","index":17,"n_rows":10,"n_cols":10,"rows_kept":10,"cut":false,"hidden":false,"merged":[]}
[]
[null,null,null,null,null,null,"suziria.ua"]
[null,null,null,null,null,null,"0 800 21 82 99"]
[null,null,null,null,null,null,"feedback@suziria.ua"]
[]
["Зображення","Код","Артикул","Номенклатура","Наявність","Категорія","Ціна опт.","Ціна РРЦ","Замовлення, шт.","Сума, грн."]
[null,null,null,null,null,null,null,null,null,{"$f":"СУММ(J8:J10)","v":{"$error":"#NAME?"}}]
[null,1111206361,245023,"ЗЛАМ. ПАЛИЧКА Іграшка Comfy для котів М'яч на паличці з дзвоником дере","Менше 10","Іграшки для котів",67.739999999999995,0,0,{"$f":"G8*I8","v":0}]
[null,1111137300,"112161*****","Наповнювач Comfy д/котячого туалету гігієнічний деревинний Pinokio 7л","Менше 10","Наповнювачі для котячих туалетів",396.78,535,0,{"$f":"G9*I9","v":0}]
[null,1111199215,245029,"НЕМА ЗВУКУ Іграшка Comfy кот Миша звук/пластик 6см/уп 90шт","Менше 10","Іграшки для котів",1075.5,0,0,{"$f":"G10*I10","v":0}]

{"sheet":"Cookie","index":18,"n_rows":10,"n_cols":10,"rows_kept":10,"cut":false,"hidden":false,"merged":[]}
[]
[null,null,null,null,null,null,"suziria.ua"]
[null,null,null,null,null,null,"0 800 21 82 99"]
[null,null,null,null,null,null,"feedback@suziria.ua"]
[]
["Зображення","Код","Артикул","Номенклатура","Наявність","Категорія","Ціна опт.","Ціна РРЦ","Замовлення, шт.","Сума, грн."]
[null,null,null,null,null,null,null,null,null,{"$f":"СУММ(J8:J10)","v":{"$error":"#NAME?"}}]
[null,1111171672,"10111Ку","Cookie Everyday для дорослих собак усіх порід субпродукти 10 кг","Більше 100","Корм сухий для собак",636.84,754,0,{"$f":"G8*I8","v":0}]
[null,1111171674,"10113Ку","Cookie with Beef для дорослих собак з яловичиною 10кг","Немає в наявності","Корм сухий для собак",752.28,863,0,{"$f":"G9*I9","v":0}]
[null,1111171673,"10112Ку","Cookie with Chicken для дорослих собак з куркою 10кг","Більше 10","Корм сухий для собак",752.28,863,0,{"$f":"G10*I10","v":0}]

{"sheet":"Crown Royale","index":19,"n_rows":14,"n_cols":10,"rows_kept":14,"cut":false,"hidden":false,"merged":[]}
[]
[null,null,null,null,null,null,"suziria.ua"]
[null,null,null,null,null,null,"0 800 21 82 99"]
[null,null,null,null,null,null,"feedback@suziria.ua"]
[]
["Зображення","Код","Артикул","Номенклатура","Наявність","Категорія","Ціна опт.","Ціна РРЦ","Замовлення, шт.","Сума, грн."]
[null,null,null,null,null,null,null,null,null,{"$f":"СУММ(J8:J14)","v":{"$error":"#NAME?"}}]
[null,1111130513,"0002.008/R4444","Кондиціонер Crown Royale Condition Plus д/собак/котів догл/шерс 236мл","Менше 10","Косметика для тварин",738.48,961,0,{"$f":"G8*I8","v":0}]
[null,1111129328,"0001.128/01411","Кондиціонер Crown Royale Condition Plus д/собак/котів догл/шерсть 3,8л","Менше 10","Косметика для тварин",4020.72,5228,0,{"$f":"G9*I9","v":0}]
[null,1111130514,"0002.128/R1111","Шампунь Crown Royale Biovite 1 д/котів/собак д/шовковис/шерсті 237мл","Менше 10","Косметика для тварин",738.48,961,0,{"$f":"G10*I10","v":0}]
[null,1111129325,1011,"Шампунь Crown Royale Biovite 1 д/собак/котів д/шовковист/шерсті 3,8л","Менше 10","Косметика для тварин",3765.36,4896,0,{"$f":"G11*I11","v":0}]
[null,1111129327,"0005.128/01015","Шампунь Crown Royale Biovite 3 д/собак/котів д/густ/жорстк шерсті 3,8л","Менше 10","Косметика для тварин",4020.72,5228,0,{"$f":"G12*I12","v":0}]
[null,1111130512,"0007.008/ 02000","Шампунь Crown Royale Deep Cleansing д/собак/котів суперочищуючий 237мл","Менше 10","Косметика для тварин",820.56,1108,0,{"$f":"G13*I13","v":0}]
[null,1111130509,"0007.128/04000","Шампунь Crown Royale Deep Cleansing д/собак/котів суперочищуючий 3,8л","Менше 10","Косметика для тварин",2707.8,3523,0,{"$f":"G14*I14","v":0}]

{"sheet":"Deming","index":20,"n_rows":29,"n_cols":10,"rows_kept":29,"cut":false,"hidden":false,"merged":[]}
[]
[null,null,null,null,null,null,"suziria.ua"]
[null,null,null,null,null,null,"0 800 21 82 99"]
[null,null,null,null,null,null,"feedback@suziria.ua"]
[]
["Зображення","Код","Артикул","Номенклатура","Наявність","Категорія","Ціна опт.","Ціна РРЦ","Замовлення, шт.","Сума, грн."]
[null,null,null,null,null,null,null,null,null,{"$f":"СУММ(J8:J29)","v":{"$error":"#NAME?"}}]
[null,1111162745,"AM311355CS*****","Декор  Anemone , силікон","Менше 10","Декорації для акваріума",1697.68,2376,0,{"$f":"G8*I8","v":0}]
[null,1111162749,"AM311051DB*****","Декор  Корал-віяло , силікон","Більше 10","Декорації для акваріума",256.98,360,0,{"$f":"G9*I9","v":0}]
[null,1111162748,"AM311132DB*****","Декор  Корал-горгонарія","Більше 10","Декорації для акваріума",358.23,501,0,{"$f":"G10*I10","v":0}]
[null,1111162758,"AM003101PB*****","Декор  Риба-крилатка  S, силікон","Більше 10","Декорації для акваріума",237.52,333,0,{"$f":"G11*I11","v":0}]
[null,1111165858,"AM311150PB*****","Декорація Deming Акропора Glowing для акваріума силіконова 9х8см","Менше 10","Декорації для акваріума",350.44,491,0,{"$f":"G12*I12","v":0}]
[null,1111165860,"AM311186PB*****","Декорація Deming Діскосома для акваріума силіконова 11х8см","Менше 10","Декорації для акваріума",414.69,581,0,{"$f":"G13*I13","v":0}]
[null,1111165861,"AM311172PB*****","Декорація Deming Корал-серіатопора д/акваріума силіконова 10,5х7х14см","Менше 10","Декорації для акваріума",547.07000000000005,765,0,{"$f":"G14*I14","v":0}]
[null,1111165862,"AM311156PT*****","Декорація Deming Медуза для акваріума силіконова 7х7х9см","Менше 10","Декорації для акваріума",397.17,555,0,{"$f":"G15*I15","v":0}]
[null,1111162771,"AM309266SB*****","Рослина  Апоногетон L , силіконова","Більше 10","Декорації для акваріума",358.23,501,0,{"$f":"G16*I16","v":0}]
[null,1111162777,"AM309505PT*****","Рослина  Блікса , силіконова","Більше 10","Декорації для акваріума",321.24,451,0,{"$f":"G17*I17","v":0}]
[null,1111165887,"AM209111PT*****","Рослина Deming Актинії для акваріума силіконова 13х8,5см","Більше 10","Декорації для акваріума",434.16,608,0,{"$f":"G18*I18","v":0}]
[null,1111165879,"AM309263SB*****","Рослина Deming Апоногетон мадагаскарський д/акваріума силікон 14х4,5см","Більше 10","Декорації для акваріума",208.31,291,0,{"$f":"G19*I19","v":0}]
[null,1111165877,"AM309043SB*****","Рослина Deming Валліснерія для акваріума силіконова 15х19см","Менше 10","Декорації для акваріума",256.98,360,0,{"$f":"G20*I20","v":0}]
[null,1111165872,"AM309493SB*****","Рослина Deming Гігрофіла для акваріума силіконова 12х20см","Менше 10","Декорації для акваріума",286.19,401,0,{"$f":"G21*I21","v":0}]
[null,1111165873,"AM309059SB*****","Рослина Deming Ейхорнія для акваріума силіконова 17х19,5см","Менше 10","Декорації для акваріума",332.91,467,0,{"$f":"G22*I22","v":0}]
[null,1111165875,"AM309482SB*****","Рослина Deming Композиція папоротей для акваріума силіконова 11х19см","Менше 10","Декорації для акваріума",321.24,451,0,{"$f":"G23*I23","v":0}]
[null,1111165881,"AM311332SB*****","Рослина Deming Ламінарія для акваріума силіконова 14х10см","Менше 10","Декорації для акваріума",358.23,501,0,{"$f":"G24*I24","v":0}]
[null,1111165876,"AM309455SB*****","Рослина Deming Людвігія для акваріума силіконова 11х18см","Менше 10","Декорації для акваріума",260.88,366,0,{"$f":"G25*I25","v":0}]
[null,1111165874,"AM309501SB*****","Рослина Deming Папороть для акваріума силіконова 10,5х18см","Менше 10","Декорації для акваріума",293.98,413,0,{"$f":"G26*I26","v":0}]
[null,1111165885,"AM311302PT*****","Рослина Deming Підводний бутон для акваріума силіконова 10х17см","Більше 10","Декорації для акваріума",490.61,688,0,{"$f":"G27*I27","v":0}]
[null,1111165867,"AM309313SB*****","Рослина Deming Ротала для акваріума силіконова 18х6,5см","Менше 10","Декорації для акваріума",256.98,360,0,{"$f":"G28*I28","v":0}]
[null,1111165870,"AM309322SB*****","Рослина Deming Таїландська папороть для акваріума силіконова 24х6см","Менше 10","Декорації для акваріума",321.24,451,0,{"$f":"G29*I29","v":0}]

{"sheet":"Dezynadog","index":21,"n_rows":44,"n_cols":10,"rows_kept":44,"cut":false,"hidden":false,"merged":[]}
[]
[null,null,null,null,null,null,"suziria.ua"]
[null,null,null,null,null,null,"0 800 21 82 99"]
[null,null,null,null,null,null,"feedback@suziria.ua"]
[]
["Зображення","Код","Артикул","Номенклатура","Наявність","Категорія","Ціна опт.","Ціна РРЦ","Замовлення, шт.","Сума, грн."]
[null,null,null,null,null,null,null,null,null,{"$f":"СУММ(J8:J44)","v":{"$error":"#NAME?"}}]
[null,1111195728,126025,"Кондиціонер Dezynadog д/видал ковтунів сплутаної пошкод шерсті 5л","Менше 10","Косметика для тварин",2516.88,3398,0,{"$f":"G8*I8","v":0}]
[null,1111195731,126055,"Кондиціонер Dezynadog живильний зволож віднов шерсть д/всіх порід 5л","Менше 10","Косметика для тварин",3795.84,5124,0,{"$f":"G9*I9","v":0}]
[null,1111195732,126051,"Кондиціонер Dezynadog живильний зволож віднов шерсть д/всіх порід450мл","Менше 10","Косметика для тварин",716.22,967,0,{"$f":"G10*I10","v":0}]
[null,1111195853,126086,"Кондиціонер Dezynadog розплут очищ кондиціонує  кучеряву шерсть 450мл","Менше 10","Косметика для тварин",719.1,971,0,{"$f":"G11*I11","v":0}]
[null,1111195733,126087,"Кондиціонер Dezynadog розплут очищ кондиціонує  кучеряву шерсть 5л","Менше 10","Косметика для тварин",5643.66,7619,0,{"$f":"G12*I12","v":0}]
[null,1111195730,126011,"Кондиціонер ополіскувач Dezynadog д/об_єму щільності шерсті 5л","Менше 10","Косметика для тварин",3214.98,4340,0,{"$f":"G13*I13","v":0}]
[null,1111195746,860507,"Ножиці грумерські Dezynadog прямі для стрижки собак 7,5 дюймів","Менше 10","Ножниці для грумінгу",4374.12,5905,0,{"$f":"G14*I14","v":0}]
[null,1111195744,860503,"Ножиці грумерські Dezynadog прямі для стрижки собак 8 дюймів","Менше 10","Ножниці для грумінгу",4265.6400000000003,5759,0,{"$f":"G15*I15","v":0}]
[null,1111195749,860510,"Ножиці грумерські Dezynadog прямі для стрижки собак для лівші 7 дюймів","Менше 10","Ножниці для грумінгу",4265.6400000000003,5759,0,{"$f":"G16*I16","v":0}]
[null,1111195750,860511,"Ножиці грумерські Dezynadog прямі для стрижки собак для лівші 8 дюймів","Менше 10","Ножниці для грумінгу",4444.1400000000003,6000,0,{"$f":"G17*I17","v":0}]
[null,1111195745,860504,"Ножиці грумерські Dezynadog філірувальні для стрижки собак 6,5 дюймів","Менше 10","Ножниці для грумінгу",4444.1400000000003,6000,0,{"$f":"G18*I18","v":0}]
[null,1111195748,860509,"Ножиці грумерські Dezynadog філірувальні для стрижки собак 7 дюймів","Менше 10","Ножниці для грумінгу",3721.2,5024,0,{"$f":"G19*I19","v":0}]
[null,1111195752,123091,"Пуходерка Dezynadog д/важкодоступних місць д/цуценят та малих порід","Менше 10","Інструменти для грумінгу",419.52,566,0,{"$f":"G20*I20","v":0}]
[null,1111195753,123100,"Пуходерка Dezynadog м_яка середнього розміру усуває ковтуни","Менше 10","Інструменти для грумінгу",419.52,566,0,{"$f":"G21*I21","v":0}]
[null,1111195751,123090,"Пуходерка-слікер Dezynadog велика д/кучерявої шерсті розплутує ковтуни","Менше 10","Інструменти для грумінгу",482.28,651,0,{"$f":"G22*I22","v":0}]
[null,1111195754,123089,"Пуходерка-слікер Dezynadog серед розміру д/різних порід і типів шерсті","Менше 10","Інструменти для грумінгу",419.52,566,0,{"$f":"G23*I23","v":0}]
[null,1111195737,126089,"Спрей Dezynadog д/розплут ковтунів вузлів д/шерсті породи Doodle 1л","Менше 10","Косметика для тварин",1393.02,1881,0,{"$f":"G24*I24","v":0}]
[null,1111197968,126088,"Спрей Dezynadog д/розплут ковтунів вузлів д/шерсті породи Doodle 250мл","Менше 10","Косметика для тварин",562.14,759,0,{"$f":"G25*I25","v":0}]
[null,1111195736,126072,"Спрей Dezynadog кондиціонує підвищує керованість і контроль н/шерстю5л","Менше 10","Косметика для тварин",6305.76,8513,0,{"$f":"G26*I26","v":0}]
[null,1111195741,152027,"Спрей-парфум Dezynadog ноти лимону бергамоту з відтінками жасмину500мл","Менше 10","Косметика для тварин",1440.6,1945,0,{"$f":"G27*I27","v":0}]
[null,1111195738,126076,"Спрей-сироватка Dezynadog д/блиску кондиціонує шерсть з протеїном 1л","Менше 10","Косметика для тварин",1618.32,2185,0,{"$f":"G28*I28","v":0}]
[null,1111195739,126074,"Спрей-сироватка Dezynadog д/блиску кондиціонує шерсть з протеїном250мл","Менше 10","Косметика для тварин",594.05999999999995,802,0,{"$f":"G29*I29","v":0}]
[null,1111195851,125061,"Шампунь Dezynadog глиб очищ бруд шерсті аромат Пармської Фіалки 500мл","Менше 10","Косметика для тварин",542.28,732,0,{"$f":"G30*I30","v":0}]
[null,1111195722,125062,"Шампунь Dezynadog глибоке очищ бруд шерсті аромат Пармської Фіалки 5л","Менше 10","Косметика для тварин",2461.38,3323,0,{"$f":"G31*I31","v":0}]
[null,1111195724,125010,"Шампунь Dezynadog д/лікування сухої свербляч шкіри пошкод шерсті 500мл","Менше 10","Косметика для тварин",542.28,732,0,{"$f":"G32*I32","v":0}]
[null,1111195723,125003,"Шампунь Dezynadog д/лікування сухої свербляч шкіри пошкод шерсті 5л","Менше 10","Косметика для тварин",2707.92,3656,0,{"$f":"G33*I33","v":0}]
[null,1111195718,125038,"Шампунь Dezynadog д/посил кольору білих срібних і кольоров порід 5л","Менше 10","Косметика для тварин",2582.52,3486,0,{"$f":"G34*I34","v":0}]
[null,1111195713,125019,"Шампунь Dezynadog д/стрижених порід зміцнює додає об_єм шерсті5л","Менше 10","Косметика для тварин",2461.38,3323,0,{"$f":"G35*I35","v":0}]
[null,1111195720,125055,"Шампунь Dezynadog д/сухої пошкод шерсті в/ковтунів довгошер порід 5л","Менше 10","Косметика для тварин",2540.94,3430,0,{"$f":"G36*I36","v":0}]
[null,1111195721,125056,"Шампунь Dezynadog д/сухої пошкод шерсті в/ковтунів довгошер порід500мл","Менше 10","Косметика для тварин",579.84,783,0,{"$f":"G37*I37","v":0}]
[null,1111195726,125047,"Шампунь Dezynadog інтенсив живильн очищує освітлює відновлюючий 500мл","Менше 10","Косметика для тварин",716.22,967,0,{"$f":"G38*I38","v":0}]
[null,1111195725,125048,"Шампунь Dezynadog інтенсив живильн очищує освітлює відновлюючий 5л","Менше 10","Косметика для тварин",3036.66,4099,0,{"$f":"G39*I39","v":0}]
[null,1111195717,125011,"Шампунь Dezynadog лікувальн заспок д/всіх тип шерсті з репел дією500мл","Менше 10","Косметика для тварин",542.28,732,0,{"$f":"G40*I40","v":0}]
[null,1111195716,125034,"Шампунь Dezynadog лікувальн заспок д/всіх тип шерсті з репелен дією 5л","Менше 10","Косметика для тварин",2582.52,3486,0,{"$f":"G41*I41","v":0}]
[null,1111195715,125033,"Шампунь Dezynadog посил кольору чорн/тем-корич шерсті усіх порід 500мл","Менше 10","Косметика для тварин",542.28,732,0,{"$f":"G42*I42","v":0}]
[null,1111195714,125023,"Шампунь Dezynadog посил кольору чорн/тем-корич шерсті усіх порід 5л","Менше 10","Косметика для тварин",2582.52,3486,0,{"$f":"G43*I43","v":0}]
[null,1111195727,126085,"Шампунь Dezynadog розплут знежирює кондиц шерсть д/каркулевих порід 5л","Менше 10","Косметика для тварин",4615.38,6231,0,{"$f":"G44*I44","v":0}]

{"sheet":"Essence","index":22,"n_rows":11,"n_cols":10,"rows_kept":11,"cut":false,"hidden":false,"merged":[]}
[]
[null,null,null,null,null,null,"suziria.ua"]
[null,null,null,null,null,null,"0 800 21 82 99"]
[null,null,null,null,null,null,"feedback@suziria.ua"]
[]
["Зображення","Код","Артикул","Номенклатура","Наявність","Категорія","Ціна опт.","Ціна РРЦ","Замовлення, шт.","Сума, грн."]
[null,null,null,null,null,null,null,null,null,{"$f":"СУММ(J8:J11)","v":{"$error":"#NAME?"}}]
[null,1111169979,920048,"Наповнювач Essence для котячого туалету тофу/вугілля гранули 1/4мм 6л","Більше 100","Наповнювачі для котячих туалетів",290.76,393,0,{"$f":"G8*I8","v":0}]
[null,1111169976,920017,"Наповнювач гігієнічний Essence д/кот/туалет зелен/чай гранула 2мм 6л","Більше 100","Наповнювачі для котячих туалетів",290.76,393,0,{"$f":"G9*I9","v":0}]
[null,1111169977,920024,"Наповнювач гігієнічний Essence д/кот/туалета лаванда гранула 2мм 6л","Більше 100","Наповнювачі для котячих туалетів",290.76,393,0,{"$f":"G10*I10","v":0}]
[null,1111169978,920031,"Наповнювач гігієнічний Essence д/котяч/туалету з тофу гранула 3мм 6л","Більше 100","Наповнювачі для котячих туалетів",290.76,393,0,{"$f":"G11*I11","v":0}]

{"sheet":"ExoTerra","index":23,"n_rows":37,"n_cols":10,"rows_kept":37,"cut":false,"hidden":false,"merged":[]}
[]
[null,null,null,null,null,null,"suziria.ua"]
[null,null,null,null,null,null,"0 800 21 82 99"]
[null,null,null,null,null,null,"feedback@suziria.ua"]
[]
["Зображення","Код","Артикул","Номенклатура","Наявність","Категорія","Ціна опт.","Ціна РРЦ","Замовлення, шт.","Сума, грн."]
[null,null,null,null,null,null,null,null,null,{"$f":"СУММ(J8:J37)","v":{"$error":"#NAME?"}}]
[null,1111116367,"PT2477_ord","Гігрометр для тераріуму електронний","Менше 10","Обладнання для тераріума",1307.6400000000001,1831,0,{"$f":"G8*I8","v":0}]
[null,1111113352,"PT2812","Годівниця Hagen для тераріумних тварин Exo Terra Feeding Dish M 12см","Менше 10","Аксесуари для тераріума",504.48,705,0,{"$f":"G9*I9","v":0}]
[null,1111113351,"PT2811","Годівниця Hagen для тераріумних тварин Exo Terra Feeding Dish S 9см","Менше 10","Обладнання для тераріума",287.88,402,0,{"$f":"G10*I10","v":0}]
[null,1111162213,"PT3167_ord","Декорація Exo Terra для тераріума Eagle Knight схованка пластикова","Менше 10","Декорації для тераріуму",827.88,1160,0,{"$f":"G11*I11","v":0}]
[null,1111153489,"PT3156****","Декорація ExoTerra Tiki S для тераріумів сховище/поїлка/миска пластик","Менше 10","Декорації для тераріуму",1333.32,1867,0,{"$f":"G12*I12","v":0}]
[null,1111153490,"PT3157****","Декорація Tiki (3в1 схованка, поїлка і миска) велика","Менше 10","Декорації для тераріуму",1849.62,2590,0,{"$f":"G13*I13","v":0}]
[null,1111162211,"PT3165_ord","Декорація д/тераріума ExoTerra Calendar Stone камінь схованка маленька","Менше 10","Декорації для тераріуму",362.4,543,0,{"$f":"G14*I14","v":0}]
[null,1111160431,"PT2840_ord","Декорація для тераріума Exo Terra Dinosaur World поїлка 11х14х11 см","Менше 10","Декорації для тераріуму",462.3,647,0,{"$f":"G15*I15","v":0}]
[null,1111141543,"PT2841_ord","Декорація для тераріума Exo Terra Dinosaur World поїлка 17,5х16х17 см","Менше 10","Декорації для тераріуму",1023.18,1435,0,{"$f":"G16*I16","v":0}]
[null,1111148445,"PT2015","Обігрівач ExoTerra д/тераріумів д/пустел/тварин килимком 4Вт 10х12,5см","Менше 10","Освітлення та обігрів",812.46,1136,0,{"$f":"G17*I17","v":0}]
[null,12356,"PT2002_ord","Обігрівач ExoTerra для тераріумних тварин гарячий камінь 10Вт 15x15см","Менше 10","Освітлення та обігрів",1525.86,2137,0,{"$f":"G18*I18","v":0}]
[null,1111112570,"PT2000_ord","Обігрівач ExoTerra для тераріумних тварин гарячий камінь 5Вт 15x10см","Менше 10","Освітлення та обігрів",1413.54,1977,0,{"$f":"G19*I19","v":0}]
[null,1111162993,"PT2017_ord","Обігрівач ExoTerrа для тераріумів для пустельних тварин плоский 16Вт","Менше 10","Освітлення та обігрів",1169.04,1638,0,{"$f":"G20*I20","v":0}]
[null,1111120238,"PT2052","Плафон ExoTerra Glow Light для ламп обігріву в тераріум метал 14см","Менше 10","Обладнання для тераріума",1034.82,1449,0,{"$f":"G21*I21","v":0}]
[null,1111162214,"PT3168****","Поїлка ExoTerra для рептилій Aztec Frog","Менше 10","Обладнання для тераріума",329.82,465,0,{"$f":"G22*I22","v":0}]
[null,1111113354,"PT2801","Поїлка ExoTerra для тераріумних тварин мала S 9см","Менше 10","Обладнання для тераріума",256.62,359,0,{"$f":"G23*I23","v":0}]
[null,1111113355,"PT2802","Поїлка ExoTerra для тераріумних тварин середня M 12см","Менше 10","Обладнання для тераріума",299.10000000000002,417,0,{"$f":"G24*I24","v":0}]
[null,1111143875,"PT2492****","Поїлка з помпою Exo Terra рослина велика","Менше 10","Обладнання для тераріума",2458.23,3442,0,{"$f":"G25*I25","v":0}]
[null,1111141547,"PT2912","Поїлка-водоспад ExoTerra для тераріумних тварин Waterfall M середня","Менше 10","Обладнання для тераріума",2123.52,2973,0,{"$f":"G26*I26","v":0}]
[null,1111204467,"PT2130_ord","ПОРВ.УП.Лампа ночная  А19/75W д/террар","Менше 10","Обладнання для тераріума",110.34,0,0,{"$f":"G27*I27","v":0}]
[null,1111113376,"PT3032","Рослина ExoTerra Abutilon Silk д/тераріума пластик текстиль 15x32x4см","Менше 10","Декорації для тераріуму",249.72,350,0,{"$f":"G28*I28","v":0}]
[null,1111122336,"PT2991_ord","Рослина ExoTerra Spider Orchid для тераріуму пластик 6,5x45x5см","Менше 10","Декорації для тераріуму",751.62,1053,0,{"$f":"G29*I29","v":0}]
[null,1111112572,"PT3040","Рослина ExoTerra д/тераріуму Ficus Silk пластик текстиль середня 40см","Менше 10","Декорації для тераріуму",464.76,648,0,{"$f":"G30*I30","v":0}]
[null,1111116240,"PT3085","Рослина ExoTerra для тераріуму Jungle Vine Лоза S","Менше 10","Декорації для тераріуму",376.98,526,0,{"$f":"G31*I31","v":0}]
[null,1111121417,"PT2226","Світильник ExoTerra д/тераріумів Compact top ультрафіол/ламп 45х9х20см","Менше 10","Освітлення та обігрів",1844.64,2584,0,{"$f":"G32*I32","v":0}]
[null,1111121418,"PT2227","Світильник ExoTerra д/тераріумів Compact top ультрафіол/ламп 60х9х20см","Менше 10","Освітлення та обігрів",2913.9,4082,0,{"$f":"G33*I33","v":0}]
[null,1111121220,"PT2775","Субстрат ExoTerra для тераріумних тварин Coco Husk 7л","Більше 10","Наповнювачі та субстрати для тераріума",135.72,188,0,{"$f":"G34*I34","v":0}]
[null,1111121412,"PT2613","Тераріум ExoTerra д/екзот/тварин Natural Terrarium скляний 90x45x45см","Менше 10","Тераріуми",14850.96,20791,0,{"$f":"G35*I35","v":0}]
[null,22312,"PT2465","Термометр ExoTerra для тераріумів механічний пластиковий","Менше 10","Аксесуари для тераріума",208.8,293,0,{"$f":"G36*I36","v":0}]
[null,1111113981,"PT2455_ord","Термометр ExoTerra для тераріуму рідкокристалічний чорний","Менше 10","Обладнання для тераріума",172.14,242,0,{"$f":"G37*I37","v":0}]

{"sheet":"Filter sponge Ukr","index":24,"n_rows":12,"n_cols":10,"rows_kept":12,"cut":false,"hidden":false,"merged":[]}
[]
[null,null,null,null,null,null,"suziria.ua"]
[null,null,null,null,null,null,"0 800 21 82 99"]
[null,null,null,null,null,null,"feedback@suziria.ua"]
[]
["Зображення","Код","Артикул","Номенклатура","Наявність","Категорія","Ціна опт.","Ціна РРЦ","Замовлення, шт.","Сума, грн."]
[null,null,null,null,null,null,null,null,null,{"$f":"СУММ(J8:J12)","v":{"$error":"#NAME?"}}]
[null,1111208459,"1264 Украина","БЕЗ БІРКИ Губка для внутрішнього фільтра пряма крупнопориста 10х10х20","Менше 10","Аксесуари для обладнання",36.42,0,0,{"$f":"G8*I8","v":0}]
[null,1111142358,"1264 Украина","Губка для внутрішнього фільтра пряма крупнопориста 10х10х20см","Більше 10","Аксесуари для обладнання",72.84,103,0,{"$f":"G9*I9","v":0}]
[null,1111143465,"1301 Украина","Губка для внутрішнього фільтра пряма крупнопориста 10х15х20см","Більше 10","Аксесуари для обладнання",59.94,84,0,{"$f":"G10*I10","v":0}]
[null,1111144188,"1226 Украина","Губка для внутрішнього фільтра пряма крупнопориста 9х15см","Більше 10","Аксесуари для обладнання",47.64,66,0,{"$f":"G11*I11","v":0}]
[null,1111144189,"1219 Украина","Губка для внутрішнього фільтра пряма крупнопориста рифлена 9х15см","Більше 10","Аксесуари для обладнання",59.94,84,0,{"$f":"G12*I12","v":0}]

{"sheet":"Flexi","index":25,"n_rows":86,"n_cols":10,"rows_kept":86,"cut":false,"hidden":false,"merged":[]}
[]
[null,null,null,null,null,null,"suziria.ua"]
[null,null,null,null,null,null,"0 800 21 82 99"]
[null,null,null,null,null,null,"feedback@suziria.ua"]
[]
["Зображення","Код","Артикул","Номенклатура","Наявність","Категорія","Ціна опт.","Ціна РРЦ","Замовлення, шт.","Сума, грн."]
[null,null,null,null,null,null,null,null,null,{"$f":"СУММ(J8:J86)","v":{"$error":"#NAME?"}}]
[null,1111152114,"12111 BLACK Flexi","Контейнер Flexi для рулетки Vario MultiBox чорний пластик 7х5см","Більше 100","Амуніція для собак",234.12,305,0,{"$f":"G8*I8","v":0}]
[null,1111148008,"Cat RED Flexi","Повідець-рулетка Flexi д/котів New Classic Cat трос червона XS 3м/ 8кг","Менше 10","Амуніція для котів",402.6,522,0,{"$f":"G9*I9","v":0}]
[null,10353,"FL 030004","Повідець-рулетка Flexi д/собак Neon Giant стрічка чорна XL 8м/від50кг","Менше 10","Амуніція для собак",1902,2473,0,{"$f":"G10*I10","v":0}]
[null,1111148215,"11723 RED Flexi","Повідець-рулетка Flexi д/собак New Classic стрічка червона L 5м/ 50кг","Більше 10","Амуніція для собак",865.8,1126,0,{"$f":"G11*I11","v":0}]
[null,1111147890,"11823 RED Flexi","Повідець-рулетка Flexi д/собак New Classic стрічка червона XS 3м/12кг","Більше 10","Амуніція для собак",528.29999999999995,687,0,{"$f":"G12*I12","v":0}]
[null,1111161956,"FL 043615*****","Повідець-рулетка Flexi д/собак New Comfort стрічка блакитна M 5м/25кг","Менше 10","Амуніція для собак",877.92,1142,0,{"$f":"G13*I13","v":0}]
[null,1111162157,"FL 043516*****","Повідець-рулетка Flexi д/собак New Comfort стрічка блакитна S 5м/15кг","Менше 10","Амуніція для собак",724.62,942,0,{"$f":"G14*I14","v":0}]
[null,1111161946,"FL 043424*****","Повідець-рулетка Flexi д/собак New Comfort стрічка червона XS 3м/12кг","Менше 10","Амуніція для собак",607.74,791,0,{"$f":"G15*I15","v":0}]
[null,1111139914,"Cat PINK Flexi*****","Повідець-рулетка Flexi для котів New Classic Cat трос рожева XS 3м/8кг","Менше 10","Амуніція для котів",402.6,522,0,{"$f":"G16*I16","v":0}]
[null,1111147987,"Cat BLUE Flexi*****","Повідець-рулетка Flexi для котів New Classic Cat трос синя XS 3м/ 8кг","Менше 10","Амуніція для котів",402.6,522,0,{"$f":"G17*I17","v":0}]
[null,1111147026,"Cat BLACK Flexi","Повідець-рулетка Flexi для котів New Classic Cat трос чорна XS 3м/ 8кг","Більше 10","Амуніція для котів",402.6,522,0,{"$f":"G18*I18","v":0}]
[null,1111161942,"FL 034125","Повідець-рулетка Flexi для собак Black Design стрічка зелена L 5м/50кг","Менше 10","Амуніція для собак",794.1,1033,0,{"$f":"G19*I19","v":0}]
[null,1111162167,"FL 034026","Повідець-рулетка Flexi для собак Black Design стрічка зелена M 5м/25кг","Більше 10","Амуніція для собак",705.9,918,0,{"$f":"G20*I20","v":0}]
[null,1111161936,"FL 033920","Повідець-рулетка Flexi для собак Black Design стрічка зелена S 5м/15кг","Більше 10","Амуніція для собак",593.4,771,0,{"$f":"G21*I21","v":0}]
[null,1111161937,"FL 033913","Повідець-рулетка Flexi для собак Black Design стрічка рожева S 5м/15кг","Менше 10","Амуніція для собак",593.4,771,0,{"$f":"G22*I22","v":0}]
[null,1111161941,"FL 034132","Повідець-рулетка Flexi для собак Black Design стрічка синя L 5м/50кг","Менше 10","Амуніція для собак",794.1,1033,0,{"$f":"G23*I23","v":0}]
[null,1111162166,"FL 034033","Повідець-рулетка Flexi для собак Black Design стрічка синя M 5м/25кг","Менше 10","Амуніція для собак",705.9,918,0,{"$f":"G24*I24","v":0}]
[null,1111162165,"FL 033937","Повідець-рулетка Flexi для собак Black Design стрічка синя S 5м/15кг","Більше 10","Амуніція для собак",593.4,771,0,{"$f":"G25*I25","v":0}]
[null,1111161939,"FL 034101","Повідець-рулетка Flexi для собак Black Design стрічка чорна L 5м/50кг","Менше 10","Амуніція для собак",794.1,1033,0,{"$f":"G26*I26","v":0}]
[null,1111162168,"FL 034002","Повідець-рулетка Flexi для собак Black Design стрічка чорна M 5м/25кг","Більше 10","Амуніція для собак",705.9,918,0,{"$f":"G27*I27","v":0}]
[null,1111161934,"FL 033425","Повідець-рулетка Flexi для собак Black Design трос зелена M 5м/20кг","Більше 10","Амуніція для собак",538.26,701,0,{"$f":"G28*I28","v":0}]
[null,1111161931,"FL 033326","Повідець-рулетка Flexi для собак Black Design трос зелена S 5м/12кг","Більше 10","Амуніція для собак",467.64,608,0,{"$f":"G29*I29","v":0}]
[null,1111161926,"FL 033227","Повідець-рулетка Flexi для собак Black Design трос зелена XS 3м/8кг","Менше 10","Амуніція для собак",401.46,521,0,{"$f":"G30*I30","v":0}]
[null,1111162163,"FL 033418","Повідець-рулетка Flexi для собак Black Design трос рожева M 5м/20кг","Менше 10","Амуніція для собак",538.26,701,0,{"$f":"G31*I31","v":0}]
[null,1111161932,"FL 033319","Повідець-рулетка Flexi для собак Black Design трос рожева S 5м/12кг","Менше 10","Амуніція для собак",467.64,608,0,{"$f":"G32*I32","v":0}]
[null,1111161928,"FL 033210","Повідець-рулетка Flexi для собак Black Design трос рожева XS 3м/8кг","Більше 10","Амуніція для собак",401.46,521,0,{"$f":"G33*I33","v":0}]
[null,1111161930,"FL 033333","Повідець-рулетка Flexi для собак Black Design трос синя S 5м/12кг","Більше 10","Амуніція для собак",467.64,608,0,{"$f":"G34*I34","v":0}]
[null,1111161925,"FL 033234","Повідець-рулетка Flexi для собак Black Design трос синя XS 3м/8кг","Менше 10","Амуніція для собак",401.46,521,0,{"$f":"G35*I35","v":0}]
[null,1111162164,"FL 033401","Повідець-рулетка Flexi для собак Black Design трос чорна M 5м/20кг","Менше 10","Амуніція для собак",538.26,701,0,{"$f":"G36*I36","v":0}]
[null,1111161929,"FL 033302","Повідець-рулетка Flexi для собак Black Design трос чорна S 5м/12кг","Менше 10","Амуніція для собак",467.64,608,0,{"$f":"G37*I37","v":0}]
[null,1111161924,"FL 033203","Повідець-рулетка Flexi для собак Black Design трос чорна XS 3м/8кг","Більше 10","Амуніція для собак",401.46,521,0,{"$f":"G38*I38","v":0}]
[null,1111131992,"20929 BLACK Flexi","Повідець-рулетка Flexi для собак Neon Giant стрічка чорна L 8м/50кг","Менше 10","Амуніція для собак",1791.18,2330,0,{"$f":"G39*I39","v":0}]
[null,1111149661,"11716 PINK Flexi*****","Повідець-рулетка Flexi для собак New Classic стрічка рожева M 5м/ 25кг","Менше 10","Амуніція для собак",791.88,1030,0,{"$f":"G40*I40","v":0}]
[null,1111147886,"11836 PINK Flexi","Повідець-рулетка Flexi для собак New Classic стрічка рожева S 5м/ 15кг","Менше 10","Амуніція для собак",628.67999999999995,818,0,{"$f":"G41*I41","v":0}]
[null,1111147889,"11826 PINK Flexi","Повідець-рулетка Flexi для собак New Classic стрічка рожева XS 3м/12кг","Менше 10","Амуніція для собак",528.29999999999995,687,0,{"$f":"G42*I42","v":0}]
[null,1111148216,"11722 BLUE Flexi","Повідець-рулетка Flexi для собак New Classic стрічка синя L 5м/ 50кг","Менше 10","Амуніція для собак",865.8,1126,0,{"$f":"G43*I43","v":0}]
[null,1111148633,"11732 BLUE Flexi*****","Повідець-рулетка Flexi для собак New Classic стрічка синя L 8м/ 50кг","Менше 10","Амуніція для собак",1172.4000000000001,1525,0,{"$f":"G44*I44","v":0}]
[null,1111148219,"11712 BLUE Flexi","Повідець-рулетка Flexi для собак New Classic стрічка синя M 5м/ 25кг","Менше 10","Амуніція для собак",791.88,1030,0,{"$f":"G45*I45","v":0}]
[null,1111147887,"11832 BLUE Flexi","Повідець-рулетка Flexi для собак New Classic стрічка синя S 5м/ 15кг","Менше 10","Амуніція для собак",628.67999999999995,818,0,{"$f":"G46*I46","v":0}]
[null,1111147891,"11822 BLUE Flexi","Повідець-рулетка Flexi для собак New Classic стрічка синя XS 3м/ 12кг","Менше 10","Амуніція для собак",528.29999999999995,687,0,{"$f":"G47*I47","v":0}]
[null,1111148632,"11733 RED Flexi*****","Повідець-рулетка Flexi для собак New Classic стрічка червона L 8м/50кг","Менше 10","Амуніція для собак",1172.4000000000001,1439,0,{"$f":"G48*I48","v":0}]
[null,1111148218,"11713 RED Flexi","Повідець-рулетка Flexi для собак New Classic стрічка червона M 5м/25кг","Менше 10","Амуніція для собак",791.88,1030,0,{"$f":"G49*I49","v":0}]
[null,1111139748,"11833 RED Flexi","Повідець-рулетка Flexi для собак New Classic стрічка червона S 5м/15кг","Більше 10","Амуніція для собак",628.67999999999995,818,0,{"$f":"G50*I50","v":0}]
[null,1111148217,"11721 BLACK Flexi","Повідець-рулетка Flexi для собак New Classic стрічка чорна L 5м/ 50кг","Менше 10","Амуніція для собак",865.8,1126,0,{"$f":"G51*I51","v":0}]
[null,1111148634,"11731 BLACK Flexi","Повідець-рулетка Flexi для собак New Classic стрічка чорна L 8м/ 50кг","Більше 10","Амуніція для собак",1172.4000000000001,1525,0,{"$f":"G52*I52","v":0}]
[null,1111148220,"11711 BLACK Flexi","Повідець-рулетка Flexi для собак New Classic стрічка чорна M 5м/ 25кг","Більше 10","Амуніція для собак",791.88,1030,0,{"$f":"G53*I53","v":0}]
[null,1111147888,"11831 BLACK Flexi","Повідець-рулетка Flexi для собак New Classic стрічка чорна S 5м/ 15кг","Більше 10","Амуніція для собак",628.67999999999995,818,0,{"$f":"G54*I54","v":0}]
[null,1111139745,"11821 BLACK Flexi","Повідець-рулетка Flexi для собак New Classic стрічка чорна XS 3м/ 12кг","Більше 10","Амуніція для собак",528.29999999999995,687,0,{"$f":"G55*I55","v":0}]
[null,1111147898,"11796 PINK Flexi*****","Повідець-рулетка Flexi для собак New Classic трос рожева M 5м/ 20кг","Менше 10","Амуніція для собак",553.67999999999995,720,0,{"$f":"G56*I56","v":0}]
[null,1111147894,"11786 PINK Flexi","Повідець-рулетка Flexi для собак New Classic трос рожева S 5м/ 12кг","Менше 10","Амуніція для собак",477.6,622,0,{"$f":"G57*I57","v":0}]
[null,1111139746,"11806 PINK Flexi*****","Повідець-рулетка Flexi для собак New Classic трос рожева S 8м/ 12кг","Менше 10","Амуніція для собак",748.92,975,0,{"$f":"G58*I58","v":0}]
[null,1111147369,"11776 PINK Flexi","Повідець-рулетка Flexi для собак New Classic трос рожева XS 3м/ 8кг","Менше 10","Амуніція для собак",402.6,522,0,{"$f":"G59*I59","v":0}]
[null,1111148013,"11812 BLUE Flexi*****","Повідець-рулетка Flexi для собак New Classic трос синя M 8м/ 20кг","Менше 10","Амуніція для собак",804.06,1046,0,{"$f":"G60*I60","v":0}]
[null,1111147892,"11782 BLUE Flexi","Повідець-рулетка Flexi для собак New Classic трос синя S 5м/ 12кг","Більше 10","Амуніція для собак",477.6,622,0,{"$f":"G61*I61","v":0}]
[null,1111148009,"11802 BLUE Flexi","Повідець-рулетка Flexi для собак New Classic трос синя S 8м/ 12кг","Менше 10","Амуніція для собак",748.92,975,0,{"$f":"G62*I62","v":0}]
[null,1111147368,"11772 BLUE Flexi","Повідець-рулетка Flexi для собак New Classic трос синя XS 3м/ 8кг","Більше 10","Амуніція для собак",402.6,522,0,{"$f":"G63*I63","v":0}]
[null,1111139750,"11793 RED Flexi","Повідець-рулетка Flexi для собак New Classic трос червона M 5м/ 20кг","Менше 10","Амуніція для собак",553.67999999999995,721,0,{"$f":"G64*I64","v":0}]
[null,1111139747,"11813 RED Flexi*****","Повідець-рулетка Flexi для собак New Classic трос червона M 8м/ 20кг","Менше 10","Амуніція для собак",804.06,1046,0,{"$f":"G65*I65","v":0}]
[null,1111148010,"11803 RED Flexi*****","Повідець-рулетка Flexi для собак New Classic трос червона S 8м/ 12кг","Менше 10","Амуніція для собак",748.92,975,0,{"$f":"G66*I66","v":0}]
[null,1111147900,"11791 BLACK Flexi","Повідець-рулетка Flexi для собак New Classic трос чорна M 5м/ 20кг","Менше 10","Амуніція для собак",553.67999999999995,721,0,{"$f":"G67*I67","v":0}]
[null,1111148014,"11811 BLACK Flexi","Повідець-рулетка Flexi для собак New Classic трос чорна M 8м/ 20кг","Менше 10","Амуніція для собак",804.06,1046,0,{"$f":"G68*I68","v":0}]
[null,1111139751,"11781 BLACK Flexi","Повідець-рулетка Flexi для собак New Classic трос чорна S 5м/ 12кг","Більше 10","Амуніція для собак",477.6,622,0,{"$f":"G69*I69","v":0}]
[null,1111148011,"11801 BLACK Flexi","Повідець-рулетка Flexi для собак New Classic трос чорна S 8м/ 12кг","Менше 10","Амуніція для собак",748.92,975,0,{"$f":"G70*I70","v":0}]
[null,1111139752,"11771 BLACK Flexi","Повідець-рулетка Flexi для собак New Classic трос чорна XS 3м/ 8кг","Більше 10","Амуніція для собак",402.6,522,0,{"$f":"G71*I71","v":0}]
[null,1111161954,"FL 043509*****","Повідець-рулетка Flexi для собак New Comfort стрічка рожева S 5м/ 15кг","Менше 10","Амуніція для собак",724.62,942,0,{"$f":"G72*I72","v":0}]
[null,1111162159,"FL 043714*****","Повідець-рулетка Flexi для собак New Comfort стрічка синя L 5м/ 60кг","Менше 10","Амуніція для собак",1331.22,1732,0,{"$f":"G73*I73","v":0}]
[null,1111162588,"FL 043813*****","Повідець-рулетка Flexi для собак New Comfort стрічка синя L 8м/ 50кг","Менше 10","Амуніція для собак",1415.1,1840,0,{"$f":"G74*I74","v":0}]
[null,1111161953,"FL 043530","Повідець-рулетка Flexi для собак New Comfort стрічка синя S 5м/ 15кг","Менше 10","Амуніція для собак",724.62,942,0,{"$f":"G75*I75","v":0}]
[null,1111161945,"FL 043431*****","Повідець-рулетка Flexi для собак New Comfort стрічка синя XS 3м/ 12кг","Менше 10","Амуніція для собак",607.74,791,0,{"$f":"G76*I76","v":0}]
[null,1111162160,"FL 043707*****","Повідець-рулетка Flexi для собак New Comfort стрічка червона L 5м/60кг","Менше 10","Амуніція для собак",1331.22,1732,0,{"$f":"G77*I77","v":0}]
[null,1111162161,"FL 043806*****","Повідець-рулетка Flexi для собак New Comfort стрічка червона L 8м/50кг","Менше 10","Амуніція для собак",1415.1,1840,0,{"$f":"G78*I78","v":0}]
[null,1111161955,"FL 043622*****","Повідець-рулетка Flexi для собак New Comfort стрічка червона M 5м/25кг","Менше 10","Амуніція для собак",877.92,1142,0,{"$f":"G79*I79","v":0}]
[null,1111161923,"FL 043523*****","Повідець-рулетка Flexi для собак New Comfort стрічка червона S 5м/15кг","Менше 10","Амуніція для собак",724.62,942,0,{"$f":"G80*I80","v":0}]
[null,1111161957,"FL 043721","Повідець-рулетка Flexi для собак New Comfort стрічка чорна L 5м/ 60кг","Менше 10","Амуніція для собак",1331.22,1732,0,{"$f":"G81*I81","v":0}]
[null,1111162158,"FL 043646","Повідець-рулетка Flexi для собак New Comfort стрічка чорна M 5м/ 25кг","Менше 10","Амуніція для собак",877.92,1142,0,{"$f":"G82*I82","v":0}]
[null,1111161952,"FL 043547","Повідець-рулетка Flexi для собак New Comfort стрічка чорна S 5м/ 15кг","Менше 10","Амуніція для собак",724.62,942,0,{"$f":"G83*I83","v":0}]
[null,1111162156,"FL 043448*****","Повідець-рулетка Flexi для собак New Comfort стрічка чорна XS 3м/ 12кг","Менше 10","Амуніція для собак",607.74,790,0,{"$f":"G84*I84","v":0}]
[null,1111148214,"FL 031711","Повідець-рулетка Flexi для собак New Neon стрічка жовта L 5м/ 50кг","Менше 10","Амуніція для собак",1031.22,1341,0,{"$f":"G85*I85","v":0}]
[null,1111148213,"FL 031704","Повідець-рулетка Flexi для собак New Neon стрічка жовта M 5м/ 25кг","Менше 10","Амуніція для собак",931.98,1211,0,{"$f":"G86*I86","v":0}]

{"sheet":"Fluval","index":26,"n_rows":26,"n_cols":10,"rows_kept":26,"cut":false,"hidden":false,"merged":[]}
[]
[null,null,null,null,null,null,"suziria.ua"]
[null,null,null,null,null,null,"0 800 21 82 99"]
[null,null,null,null,null,null,"feedback@suziria.ua"]
[]
["Зображення","Код","Артикул","Номенклатура","Наявність","Категорія","Ціна опт.","Ціна РРЦ","Замовлення, шт.","Сума, грн."]
[null,null,null,null,null,null,null,null,null,{"$f":"СУММ(J8:J26)","v":{"$error":"#NAME?"}}]
[null,1111184869,"A14771_ord","Адаптер Fluval для світильника у акваріумі Flex 57л","Менше 10","Обладнання для акваріума",854.16,1196,0,{"$f":"G8*I8","v":0}]
[null,1111124727,"A20207","Кільце Hagen д/фільтрів Fluval FХ5/FX6 ущільнювальне д/моторн/блоку","Менше 10","Аксесуари для обладнання",144.36000000000001,202,0,{"$f":"G9*I9","v":0}]
[null,7091,"A20038","Кільце Hagen до фільтра Fluval 105/205 - 106/206 ущільнююче","Менше 10","Аксесуари для обладнання",238.62,334,0,{"$f":"G10*I10","v":0}]
[null,1111147834,"A20204_ord","Кришка Hagen для корпуса зовнішнього фільтра Fluval FX6 пластик","Менше 10","Аксесуари для обладнання",1559.1,2183,0,{"$f":"G11*I11","v":0}]
[null,8099,"A20156","Кришка Hagen для ротора зовнішн/фільтра Fluval 304/305/404/405 пластик","Менше 10","Аксесуари для обладнання",316.8,443,0,{"$f":"G12*I12","v":0}]
[null,11303,"A20136","Кришка Hagen для ротора зовнішнього фільтра Fluval 204/205 пластик","Менше 10","Аксесуари для обладнання",433.92,607,0,{"$f":"G13*I13","v":0}]
[null,1111174254,"A20095","Набір запчастин Fluval для фільтру FL 207","Менше 10","Аксесуари для обладнання",1202.22,1683,0,{"$f":"G14*I14","v":0}]
[null,1111174255,"A20096","Набір запчастин Fluval для фільтру FL 307","Менше 10","Аксесуари для обладнання",1378.92,1931,0,{"$f":"G15*I15","v":0}]
[null,1111162217,"A20053_ord","Патрубок Hagen для забору води для фільтрів A443/A446/A449","Менше 10","Аксесуари для обладнання",449.58,629,0,{"$f":"G16*I16","v":0}]
[null,1111151436,"15016_ord","Підставка для акваріума Fluval Flex 57 л біла","Менше 10","Підставки та піддони",3994.26,5591,0,{"$f":"G17*I17","v":0}]
[null,10228,"A20152","Ротор Hagen для зовнішнього фільтра Fluval 304/305 метал пластик","Менше 10","Аксесуари для обладнання",464.04,649,0,{"$f":"G18*I18","v":0}]
[null,10229,"A20172","Ротор Hagen для зовнішнього фільтра Fluval 404/405 метал пластик","Менше 10","Аксесуари для обладнання",458.94,643,0,{"$f":"G19*I19","v":0}]
[null,1111147822,"A20208","Ротор Hagen для зовнішнього фільтра Fluval FX4 метал пластик","Менше 10","Аксесуари для обладнання",1513.98,2119,0,{"$f":"G20*I20","v":0}]
[null,1111137338,"A20206","Ротор Hagen для зовнішнього фільтра Fluval FX5/FX6 метал пластик","Менше 10","Аксесуари для обладнання",2376,3326,0,{"$f":"G21*I21","v":0}]
[null,1111140609,"A15233_ord","Ротор для внутрішнього фільтра Fluval U2 метал пластик","Менше 10","Аксесуари для обладнання",276.42,386,0,{"$f":"G22*I22","v":0}]
[null,11759,"A20010_ord","Трубка Fluval забору води для FL 106/206 пластик","Менше 10","Аксесуари для обладнання",553.86,776,0,{"$f":"G23*I23","v":0}]
[null,1111147835,"A20225_ord","Трубка Hagen для фільтру FL FX4/FX5/FX6 забору води пластик","Менше 10","Аксесуари для обладнання",442.08,620,0,{"$f":"G24*I24","v":0}]
[null,1111115096,"A20212","Ущільнююче кільіце Fluval д/фільтрів FX4/FX5/FX6","Менше 10","Аксесуари для обладнання",136.26,191,0,{"$f":"G25*I25","v":0}]
[null,1111135745,"A219","Фільтр Hagen Fluval FX6 д/акваріума зовнішн пласт/метал/гума до 1500л","Менше 10","Фільтри для акваріумів",21199.02,29680,0,{"$f":"G26*I26","v":0}]

{"sheet":"Fop","index":27,"n_rows":15,"n_cols":10,"rows_kept":15,"cut":false,"hidden":false,"merged":[]}
[]
[null,null,null,null,null,null,"suziria.ua"]
[null,null,null,null,null,null,"0 800 21 82 99"]
[null,null,null,null,null,null,"feedback@suziria.ua"]
[]
["Зображення","Код","Артикул","Номенклатура","Наявність","Категорія","Ціна опт.","Ціна РРЦ","Замовлення, шт.","Сума, грн."]
[null,null,null,null,null,null,null,null,null,{"$f":"СУММ(J8:J15)","v":{"$error":"#NAME?"}}]
[null,1111127613,"15110010*****","Клітка Fop Cristina для птахів з підставкою біла 66х45х84см","Менше 10","Обладнання для птахів",6377.88,8292,0,{"$f":"G8*I8","v":0}]
[null,1111143819,15270030,"Клітка Fop Ivonne для птахів оцинкована 66x45x60см","Менше 10","Обладнання для птахів",5123.7,6662,0,{"$f":"G9*I9","v":0}]
[null,1111129209,20030270,"Клітка Fop Junior Deluxe для гризунів укомплектована 42x34x22см","Менше 10","Обладнання для гризунів",949.08,1235,0,{"$f":"G10*I10","v":0}]
[null,1111148625,"10720011*****","Клітка Fop Lara Big Fun для птахів 40х27х51см","Менше 10","Обладнання для птахів",2559.48,3329,0,{"$f":"G11*I11","v":0}]
[null,1111148622,"10300030*****","Клітка Fop Olga для птахів оцинкована 59х36х66см","Менше 10","Обладнання для птахів",4229.04,5499,0,{"$f":"G12*I12","v":0}]
[null,3358,15200030,"Клітка Fop Tiffany для птахів оцинкована на колесах 72x55,5x123,5см","Менше 10","Обладнання для птахів",18453,23988,0,{"$f":"G13*I13","v":0}]
[null,1111148629,20790011,"Клітка Fop Zoe для гризунів укомплектована 45x27x20см","Менше 10","Обладнання для гризунів",1062.48,1381,0,{"$f":"G14*I14","v":0}]
[null,22581,"40151070*****","Кришка-перехідник Fop для тунелів кругла пластик поморанчева 40мм","Менше 10","Обладнання для гризунів",38.58,50,0,{"$f":"G15*I15","v":0}]

{"sheet":"FURminator","index":28,"n_rows":27,"n_cols":10,"rows_kept":27,"cut":false,"hidden":false,"merged":[]}
[]
[null,null,null,null,null,null,"suziria.ua"]
[null,null,null,null,null,null,"0 800 21 82 99"]
[null,null,null,null,null,null,"feedback@suziria.ua"]
[]
["Зображення","Код","Артикул","Номенклатура","Наявність","Категорія","Ціна опт.","Ціна РРЦ","Замовлення, шт.","Сума, грн."]
[null,null,null,null,null,null,null,null,null,{"$f":"СУММ(J8:J27)","v":{"$error":"#NAME?"}}]
[null,1111158253,"691663 СПЕЦЦЕНА","Гребінець-щітка FURminator д/котів/собак 2стороння гум/ручка/зах/кульк","Менше 10","Інструменти для грумінгу",438,679,0,{"$f":"G8*I8","v":0}]
[null,1111161390,"691664 СПЕЦЦЕНА","Гребінь FURminator д/собак/котів з обертовими зубцями д/густої шерсті","Менше 10","Інструменти для грумінгу",418.08,648,0,{"$f":"G9*I9","v":0}]
[null,1111158255,"691669 СПЕЦЦЕНА","Колтуноріз FURminator для собак та котів регульований","Менше 10","Інструменти для грумінгу",687,1065,0,{"$f":"G10*I10","v":0}]
[null,1111156131,"691660СПЕЦЦЕНА","Фурмінатор FURminator для котів з довгою шерстю Long Hair розмір S","Більше 10","Інструменти для грумінгу",733.2,1137,0,{"$f":"G11*I11","v":0}]
[null,1111156130,"691659СПЕЦЦЕНА","Фурмінатор FURminator для котів з короткою шерстю Short Hair розмір S","Більше 10","Інструменти для грумінгу",733.2,1137,0,{"$f":"G12*I12","v":0}]
[null,1111156133,"691662СПЕЦЦЕНА","Фурмінатор FURminator для котів із довгою шерстю Long Hair розмір М/L","Більше 10","Інструменти для грумінгу",790.32,1225,0,{"$f":"G13*I13","v":0}]
[null,1111156132,"691661СПЕЦЦЕНА","Фурмінатор FURminator для котів із короткою шерстю Short Hair розмір L","Більше 10","Інструменти для грумінгу",790.32,1225,0,{"$f":"G14*I14","v":0}]
[null,1111156127,"691657СПЕЦЦЕНА","Фурмінатор FURminator для собак з довгою шерстю Long Hair розмір L","Більше 10","Інструменти для грумінгу",1100.28,1704,0,{"$f":"G15*I15","v":0}]
[null,1111156125,"691655СПЕЦЦЕНА","Фурмінатор FURminator для собак з довгою шерстю Long Hair розмір M","Менше 10","Інструменти для грумінгу",917.58,1423,0,{"$f":"G16*I16","v":0}]
[null,1111156123,"691654СПЕЦЦЕНА","Фурмінатор FURminator для собак з довгою шерстю Long Hair розмір S","Менше 10","Інструменти для грумінгу",733.2,1137,0,{"$f":"G17*I17","v":0}]
[null,1111156129,"691658СПЕЦЦЕНА","Фурмінатор FURminator для собак з довгою шерстю Long Hair розмір XL","Менше 10","Інструменти для грумінгу",1279.6199999999999,1982,0,{"$f":"G18*I18","v":0}]
[null,1111156121,"691693СПЕЦЦЕНА","Фурмінатор FURminator для собак з довгою шерстю Long Hair розмір XS","Менше 10","Інструменти для грумінгу",643.5,996,0,{"$f":"G19*I19","v":0}]
[null,1111156126,"92955FL/691656СПЕЦЦЕНА","Фурмінатор FURminator для собак з короткою шерстю Short Hair розмір L","Менше 10","Інструменти для грумінгу",1100.28,1704,0,{"$f":"G20*I20","v":0}]
[null,1111156122,"691653СПЕЦЦЕНА","Фурмінатор FURminator для собак з короткою шерстю Short Hair розмір S","Більше 10","Інструменти для грумінгу",733.2,1137,0,{"$f":"G21*I21","v":0}]
[null,1111156120,"691692СПЕЦЦЕНА","Фурмінатор FURminator для собак з короткою шерстю Short Hair розмір XS","Більше 10","Інструменти для грумінгу",643.5,996,0,{"$f":"G22*I22","v":0}]
[null,1111156124,"691665СПЕЦЦЕНА","Фурмінатор FURminator для собак з короткою шерстю Short Hair розмір М","Більше 10","Інструменти для грумінгу",917.58,1423,0,{"$f":"G23*I23","v":0}]
[null,1111156128,"691694СПЕЦЦЕНА*****","Фурмінатор FURminator для собак з короткою шерстю Short Hair розмір ХL","Менше 10","Інструменти для грумінгу",1279.6199999999999,1982,0,{"$f":"G24*I24","v":0}]
[null,1111158252,"691668 СПЕЦЦЕНА","Щітка FURminator для котів та собак для збору шерсті","Менше 10","Інструменти для грумінгу",579.05999999999995,898,0,{"$f":"G25*I25","v":0}]
[null,1111158254,"691715 СПЕЦЦЕНА*****","Щітка масажна FURminator для собак та котів гумова","Менше 10","Інструменти для грумінгу",291.72000000000003,454,0,{"$f":"G26*I26","v":0}]
[null,1111170987,"153184 СПЕЦЦЕНА","Щітка-пуходерка для собак та котів FURminator жорстка L20,5х9,5х1,5см","Менше 10","Інструменти для грумінгу",517.91999999999996,802,0,{"$f":"G27*I27","v":0}]

{"sheet":"GimBi","index":29,"n_rows":11,"n_cols":10,"rows_kept":11,"cut":false,"hidden":false,"merged":[]}
[]
[null,null,null,null,null,null,"suziria.ua"]
[null,null,null,null,null,null,"0 800 21 82 99"]
[null,null,null,null,null,null,"feedback@suziria.ua"]
[]
["Зображення","Код","Артикул","Номенклатура","Наявність","Категорія","Ціна опт.","Ціна РРЦ","Замовлення, шт.","Сума, грн."]
[null,null,null,null,null,null,null,null,null,{"$f":"СУММ(J8:J11)","v":{"$error":"#NAME?"}}]
[null,1111165387,"2.210162/14800","Ласощі GimBi для гризунів Natural Delight з кульбабою та яблуком 100г","Менше 10","Ласощі для гризунів",206.1,310,0,{"$f":"G8*I8","v":0}]
[null,1111129443,"G-205069","Сено для грызунов 1кг GimBi","Більше 100","Корм для гризунів",148.56,224,0,{"$f":"G9*I9","v":0}]
[null,1111160189,"G-205151","Сіно GimBi для гризунів з тімофіївкою 500г","Менше 10","Корм для гризунів",238.62,357,0,{"$f":"G10*I10","v":0}]
[null,1111207191,"G-205069","ТЕРМ. 10.26, ПОРВ. Сіно для гризунів 1кг GimBi","Менше 10","Корм для гризунів",74.28,0,0,{"$f":"G11*I11","v":0}]

{"sheet":"GimCat","index":30,"n_rows":91,"n_cols":10,"rows_kept":91,"cut":false,"hidden":false,"merged":[]}
[]
[null,null,null,null,null,null,"suziria.ua"]
[null,null,null,null,null,null,"0 800 21 82 99"]
[null,null,null,null,null,null,"feedback@suziria.ua"]
[]
["Зображення","Код","Артикул","Номенклатура","Наявність","Категорія","Ціна опт.","Ціна РРЦ","Замовлення, шт.","Сума, грн."]
[null,null,null,null,null,null,null,null,null,{"$f":"СУММ(J8:J91)","v":{"$error":"#NAME?"}}]
[null,1111183697,"G-427201","DUO PASTE Anti-hairboll GimCat д/котів з чутлив.травл мальт,курка 50г","Більше 100","Вітаміни для котів",221.58,311,0,{"$f":"G8*I8","v":0}]
[null,1111183698,"G-427218","DUO PASTE Anti-hairboll GimCat д/котів з чутлив.травл мальт,сир 50г","Більше 100","Вітаміни для котів",221.58,311,0,{"$f":"G9*I9","v":0}]
[null,1111183699,"G-421841","DUO PASTE Multi-vitamin GimCat д/котів 12вітамінів,сир 50г","Більше 10","Вітаміни для котів",232.86,327,0,{"$f":"G10*I10","v":0}]
[null,1111183700,"G-421858","DUO PASTE Multi-vitamin GimCat д/котів 12вітамінів,тунець 50г","Більше 10","Вітаміни для котів",232.86,327,0,{"$f":"G11*I11","v":0}]
[null,1111153594,"G-420653/420615","GimCat Every Day Dental вітаміни для котів для здоров_я зубів 40г","Більше 10","Вітаміни для котів",115.14,162,0,{"$f":"G12*I12","v":0}]
[null,1111138174,"G-417127/417943","GimCat Every Day Malt-Soft Paste Extra д/вивед. шерсті зі шлунку  200г","Більше 10","Вітаміни для котів",551.94000000000005,772,0,{"$f":"G13*I13","v":0}]
[null,667,"G-407531/417936","GimCat Every Day Malt-Soft Paste Extra паста д/котів д/вивед/шерс 100г","Більше 10","Вітаміни для котів",349.68,489,0,{"$f":"G14*I14","v":0}]
[null,2831,"G-407081/417912","GimCat Every Day Malt-Soft Paste Extra паста д/котів д/вивед/шерс 20г","Більше 100","Вітаміни для котів",124.8,174,0,{"$f":"G15*I15","v":0}]
[null,1111153596,"G-421681/418704","GimCat Every Day Multivitamin вітаміни д/котів д/підвищ/імунітету 40г","Більше 100","Вітаміни для котів",112.08,156,0,{"$f":"G16*I16","v":0}]
[null,1111123383,"G-407364/417929","GimCat Every Day Skin and Coat вітаміни д/котів д/вивод/шерсті 50г","Більше 100","Вітаміни для котів",221.7,311,0,{"$f":"G17*I17","v":0}]
[null,1111153593,"G-418711/419114","GimCat Every Day Skin and Coat вітаміни д/котів д/покращен/шерсті 40г","Більше 10","Вітаміни для котів",112.14,156,0,{"$f":"G18*I18","v":0}]
[null,1111150088,"G-417950/417462","GimCat Expert Line Gastro Intestinal вітаміни д/котів д/покр/трав 50г","Більше 10","Вітаміни для котів",313.98,440,0,{"$f":"G19*I19","v":0}]
[null,1111140716,"G-420844/420929/420448","GimCat Gimpet Kitten ласощі м_ясні палички для кошенят 3шт","Більше 100","Ласощі для котів",56.76,79,0,{"$f":"G20*I20","v":0}]
[null,1111140229,"G-418285/419336/419244","GimCat Nutri Pockets Dental вітамінні ласощі для котів для зубів 60г","Більше 100","Ласощі для котів",86.04,121,0,{"$f":"G21*I21","v":0}]
[null,1111138663,"G-419299/400730","GimCat Nutri Pockets витамінні ласощі д/котів д/імунітета лосось 60г","Більше 100","Ласощі для котів",86.04,121,0,{"$f":"G22*I22","v":0}]
[null,1111138659,"G-419251/400693/419169","GimCat Nutri Pockets вітамінні ласощі д/котів д/імунітета мультив 150г","Більше 100","Ласощі для котів",148.44,209,0,{"$f":"G23*I23","v":0}]
[null,1111138664,"G-419305/400747","GimCat Nutri Pockets д/котів д/виведення/шерсті яловичина/солод 60г","Більше 100","Ласощі для котів",92.94,130,0,{"$f":"G24*I24","v":0}]
[null,1111164085,"G-419183/419275","GimCat Nutri Pockets Кантрі мікс д/котів з качкою/яловичин/індич 150г","Більше 100","Ласощі для котів",148.44,209,0,{"$f":"G25*I25","v":0}]
[null,1111164086,"G-419220/419312","GimCat Nutri Pockets ласощі вітамінні д/котів з качкою/мультивітам 60г","Більше 100","Ласощі для котів",86.04,121,0,{"$f":"G26*I26","v":0}]
[null,1111164084,"G-419176/419268","GimCat Nutri Pockets Морський мікс ласощі вітамінні для котів 150г","Більше 100","Ласощі для котів",148.44,209,0,{"$f":"G27*I27","v":0}]
[null,1111148272,"G-413815 /900","GimCat Shiny Cat Filet консерва для котів з тунцем 70г","Більше 100","Корм вологий для котів",76.38,96,0,{"$f":"G28*I28","v":0}]
[null,1111140226,"G-412924 / 413761","GimCat Shiny Cat Filet консерва для котів з тунцем та анчоусом 70г","Більше 100","Корм вологий для котів",76.38,96,0,{"$f":"G29*I29","v":0}]
[null,1111140228,"G-412979 / 413792","GimCat Shiny Cat Filet консерва для котів курка/манго 70г","Більше 100","Корм вологий для котів",70.02,88,0,{"$f":"G30*I30","v":0}]
[null,1111148271,"G-413808/412887","GimCat Shiny Cat Filet консерва для котів курка/рис 70г","Більше 100","Корм вологий для котів",72.06,90,0,{"$f":"G31*I31","v":0}]
[null,1111160191,"G-414201","GimCat Shiny Cat Filet консерва для котів тунець/лосось/рис 70г","Більше 100","Корм вологий для котів",78.599999999999994,99,0,{"$f":"G32*I32","v":0}]
[null,1111146616,"G-414539/414577","GimCat Shiny Cat Superfood консерва д/котів з тунцем/цукіні 70г","Більше 100","Корм вологий для котів",76.260000000000005,97,0,{"$f":"G33*I33","v":0}]
[null,1111146614,"G-414515/414553","GimCat Shiny Cat Superfood консерва для котів курка/яблоко 70г","Більше 100","Корм вологий для котів",78.42,100,0,{"$f":"G34*I34","v":0}]
[null,1111153707,"G-414737","GimCat Shiny Cat Superfood консерва для котів тунець/гарбуз 70г","Більше 100","Корм вологий для котів",78.42,100,0,{"$f":"G35*I35","v":0}]
[null,1111148265,"G-413372/413259","GimCat Shiny Cat консерва д/котів з тунцем/креветками/мальтом 70г","Більше 100","Корм вологий для котів",77.760000000000005,98,0,{"$f":"G36*I36","v":0}]
[null,1111137996,"G-413112 /413310","GimCat Shiny Cat консерва для котів з куркою в желе 70г","Більше 100","Корм вологий для котів",66.180000000000007,83,0,{"$f":"G37*I37","v":0}]
[null,1111137993,"G-413082 /413280","GimCat Shiny Cat консерва для котів з тунцем в желе 70г","Більше 100","Корм вологий для котів",68.94,87,0,{"$f":"G38*I38","v":0}]
[null,1111137994,"G-413099 /413297","GimCat Shiny Cat консерва для котів з тунцем та креветками в желе 70г","Більше 100","Корм вологий для котів",68.94,87,0,{"$f":"G39*I39","v":0}]
[null,1111137995,"G-413105 /413303","GimCat Shiny Cat консерва для котів з тунцем та куркою в желе 70г","Більше 100","Корм вологий для котів",68.94,87,0,{"$f":"G40*I40","v":0}]
[null,1111148267,"G-414317 /195","GimCat Shiny Cat консерва для котів з тунцем та лососем в желе 70г","Більше 100","Корм вологий для котів",68.94,87,0,{"$f":"G41*I41","v":0}]
[null,1111146346,"G-412948/413587","GimCat Shiny Cat консерва для котів курка/папайя 70г","Більше 100","Корм вологий для котів",69.3,87,0,{"$f":"G42*I42","v":0}]
[null,1111148266,"G-414300/414188","GimCat Shiny Cat консерва для котів тунець/сир 70г","Більше 100","Корм вологий для котів",69.3,87,0,{"$f":"G43*I43","v":0}]
[null,1111146624,"G-420967/420578","GimCat Superfood Duo-Sticks ласощі для котів курка/лісові ягоди 3шт/5г","Більше 100","Ласощі для котів",62.58,87,0,{"$f":"G44*I44","v":0}]
[null,1111146623,"G-420950/420561","GimCat Superfood Duo-Sticks ласощі палички д/котів з ялов/яблуками 3шт","Більше 10","Ласощі для котів",62.58,87,0,{"$f":"G45*I45","v":0}]
[null,1111141917,"Gimborn","GimCat ласощі Вітамінний мікс для котів мультивітамін 12шт","Більше 100","Вітаміни для котів",19.62,27,0,{"$f":"G46*I46","v":0}]
[null,1111130024,"G-420905/420530","GimCat ласощі м_ясні палички для котів з індичкою та кроликом 4шт","Більше 100","Ласощі для котів",79.92,111,0,{"$f":"G47*I47","v":0}]
[null,1111145480,"G-420868/400761","GimCat ласощі палички для котів з м_ясом птиці 4шт по 5г","Більше 100","Ласощі для котів",83.88,117,0,{"$f":"G48*I48","v":0}]
[null,1111130023,"G-420912/420523/420820","GimCat ласощі палички для котів з ягням та куркою 4шт по 5г","Більше 100","Ласощі для котів",83.88,117,0,{"$f":"G49*I49","v":0}]
[null,1111184123,"G-419626","Nutri Pockets д/котів Рибні Лосось 60г","Більше 100","Ласощі для котів",86.04,121,0,{"$f":"G50*I50","v":0}]
[null,1111184124,"G-419633","Nutri Pockets д/котів Рибні Тунець 60г","Більше 100","Ласощі для котів",86.04,121,0,{"$f":"G51*I51","v":0}]
[null,1111183839,"G-401010","Вітаміни GimCat Cheese Biotin Paste для котів паста з біотином 100г","Більше 10","Вітаміни для котів",347.52,487,0,{"$f":"G52*I52","v":0}]
[null,1111152120,"G-421612/401324","Вітаміни GimCat Every Day Extra мультивітамінна паста для котів 100г","Більше 10","Вітаміни для котів",368.94,517,0,{"$f":"G53*I53","v":0}]
[null,1111138138,"G-401898/421643","Вітаміни GimCat Every Day Extra мультивітамінна паста для котів 200г","Більше 10","Вітаміни для котів",547.08000000000004,767,0,{"$f":"G54*I54","v":0}]
[null,1111152121,"G-401300/421605","Вітаміни GimCat Every Day Extra мультивітамінна паста для котів 50г","Більше 10","Вітаміни для котів",226.14,317,0,{"$f":"G55*I55","v":0}]
[null,1111160999,"G-426174","Вітаміни GimCat Every Day Kitten для кошенят таблетки 40 г","Більше 100","Вітаміни для котів",120.9,170,0,{"$f":"G56*I56","v":0}]
[null,1111161838,"G-427034/427065","Вітаміни GimCat Every Day Malt Tabs д/котів таблетки д/вив/шерсті 40г","Більше 10","Вітаміни для котів",118.56,168,0,{"$f":"G57*I57","v":0}]
[null,1111126502,"G-401027/421599","Вітаміни GimCat Every Day мультивітамінна паста для котів 100г","Більше 10","Вітаміни для котів",331.8,465,0,{"$f":"G58*I58","v":0}]
[null,1111152119,"G-421636/401881","Вітаміни GimCat Every Day мультивітамінна паста для котів 200г","Менше 10","Вітаміни для котів",540.54,757,0,{"$f":"G59*I59","v":0}]
[null,1111137838,"G-401423/421629","Вітаміни GimCat Every Day мультивітамінна паста для котів 50г","Більше 10","Вітаміни для котів",221.7,311,0,{"$f":"G60*I60","v":0}]
[null,1111151180,"G-426167/ 406787","Вітаміни GimCat Expert Line Kitten д/кошенят вітамінізована паста 50г","Більше 10","Вітаміни для котів",313.98,440,0,{"$f":"G61*I61","v":0}]
[null,1111169214,"G-421698","Вітаміни GimCat Expert Line Relax паста д/котів від стресу/тривоги 50г","Більше 10","Вітаміни для котів",313.98,440,0,{"$f":"G62*I62","v":0}]
[null,1111148644,"G-421667/421353/421124","Вітаміни GimCat Expert Line Senior д/старіючих котів паста 50г","Більше 10","Вітаміни для котів",313.98,440,0,{"$f":"G63*I63","v":0}]
[null,1111150087,"G-402192/402109","Вітаміни GimCat Expert Line Taurine Extra д/котів д/серця та зору 50г","Більше 10","Вітаміни для котів",317.10000000000002,443,0,{"$f":"G64*I64","v":0}]
[null,1111194548,"G-427348","Вітаміни GimCat д/дорослих котів д/вивед. грудок шерсті з мальтом 425г","Більше 100","Вітаміни для котів",842.28,1137,0,{"$f":"G65*I65","v":0}]
[null,1111194545,"G-419695","Вітаміни GimCat д/котів д/покращ. шерсті з маскарпоне та біотином 425г","Більше 100","Вітаміни для котів",752.64,1016,0,{"$f":"G66*I66","v":0}]
[null,1111194544,"G-419701","Вітаміни GimCat д/котів д/шерсті та шкіри з водоростями 425г","Більше 100","Вітаміни для котів",752.64,1016,0,{"$f":"G67*I67","v":0}]
[null,1111194547,"G-419671","Вітаміни GimCat д/котів із сиром і таурином 425г","Більше 100","Вітаміни для котів",842.28,1137,0,{"$f":"G68*I68","v":0}]
[null,1111194546,"G-419688","Вітаміни GimCat д/котів мультивітамін з куркою 425г","Більше 100","Вітаміни для котів",842.28,1137,0,{"$f":"G69*I69","v":0}]
[null,1111159298,"G-418742","Вітаміни GimCat таблетки Every Day для котів з кошачою м_ятою 40г","Більше 100","Ласощі для котів",106.68,149,0,{"$f":"G70*I70","v":0}]
[null,1111160187,"G-418735","Вітаміни GimCat таблетки Every Day для котів з молоком 40г","Більше 10","Ласощі для котів",112.02,156,0,{"$f":"G71*I71","v":0}]
[null,1111183838,"G-427270","Вітаміни GimCat таблетки Gras Bits для котів трав_яні кульки 425г пауч","Більше 10","Ласощі для котів",709.08,992,0,{"$f":"G72*I72","v":0}]
[null,1111183837,"G-419510","Вітаміни GimCat таблетки Kase Rollis для котів сирні кульки 425г пауч","Більше 100","Ласощі для котів",758.58,1062,0,{"$f":"G73*I73","v":0}]
[null,1111130025,"G-400778","Ласощі GimCat для котів палички з лососем та фореллю 4 шт по 5 г","Більше 100","Ласощі для котів",83.88,117,0,{"$f":"G74*I74","v":0}]
[null,1111194706,"G-422091","Ласощі GimCat для котів палички з лососем та форелю 10 шт по 5 г","Більше 10","Ласощі для котів",187.32,261,0,{"$f":"G75*I75","v":0}]
[null,1111194705,"G-420008*****","Ласощі GimCat для котів палички з м_ясом птиці 10 шт по 5 г","Більше 10","Ласощі для котів",187.32,261,0,{"$f":"G76*I76","v":0}]
[null,1111142195,"G-418728/418339","Ласощі GimCat для котів таблетки з комплексом вітамінів сирні 40г","Більше 100","Ласощі для котів",116.94,164,0,{"$f":"G77*I77","v":0}]
[null,1111198562,"G-421841","ТЕРМ 07.25 DUO PASTE Multi-vitamin Gim Cat д/котів 12вітам.,сир 50г","Більше 10","Вітаміни для котів",110.88,0,0,{"$f":"G78*I78","v":0}]
[null,1111198561,"G-401010","ТЕРМ 07.25 Вітам. GimCat Cheese Biotin Paste д/кот. паста з біот. 100г","Менше 10","Вітаміни для котів",165.48,0,0,{"$f":"G79*I79","v":0}]
[null,1111202827,"G-427041","ТЕРМ 09.25  GimCat Expert Line UT Balance д/кот. паста нир/сеч/шл 50г","Менше 10","Вітаміни для котів",149.52000000000001,0,0,{"$f":"G80*I80","v":0}]
[null,1111202870,"G-401898/421643","ТЕРМ 09.25Вітам.GimCat Every Day Extra мультивіт. паста для котів 200г","Більше 10","Вітаміни для котів",260.52,0,0,{"$f":"G81*I81","v":0}]
[null,1111204598,"G-421858","ТЕРМ 10.25 DUO PASTE Multi-vitamin GimCat д/кот.12вітамінів,тунець 50г","Більше 100","Вітаміни для котів",110.88,0,0,{"$f":"G82*I82","v":0}]
[null,1111208341,"G-401010","ТЕРМ 12.25Вітам.GimCat Cheese Biotin Paste д/кот. паста з біотин. 100г","Більше 10","Вітаміни для котів",173.76,0,0,{"$f":"G83*I83","v":0}]
[null,1111202671,"G-407364/417929","ТЕРМ. 04.26 ПОМ’ЯТ. GimCat EveryDay Skin and Coat вітам вивед/шерст50г","Немає в наявності","Вітаміни для котів",110.88,0,0,{"$f":"G84*I84","v":0}]
[null,1111208165,"G-407531/417936","ТЕРМ. 05.26, ПОРВ. Паста GimCat Every Day Malt-Soft Paste Extra для ко","Немає в наявності","Вітаміни для котів",174.84,0,0,{"$f":"G85*I85","v":0}]
[null,1111201228,"G-422374","ТЕРМ. 08.25 Адвент календар 2024 GimCat д/котів 550г","Менше 10","Вітаміни для котів",698.94,0,0,{"$f":"G86*I86","v":0}]
[null,1111208159,"G-407364/417929","ТЕРМ. 08.26, ПОРВ. Паста GimCat Every Day Malt-Soft Paste Extra для ко","Немає в наявності","Вітаміни для котів",110.88,0,0,{"$f":"G87*I87","v":0}]
[null,1111202824,"G-426167/ 406787","ТЕРМ. 09.25 Вітаміни GimCat Expert Line Kitten кошен вітамін.паста 50г","Більше 10","Вітаміни для котів",149.52000000000001,0,0,{"$f":"G88*I88","v":0}]
[null,1111206456,"G-427218","ТЕРМ. 11.25 DUO PASTE Anti-hairboll GimCat з чутл.травл мальт,сир 50г","Більше 10","Вітаміни для котів",110.82,0,0,{"$f":"G89*I89","v":0}]
[null,1111206454,"G-427041","ТЕРМ. 11.25 Вітаміни GimCat Expert Line UT Balance нирки/сеч/шл 50г","Більше 10","Вітаміни для котів",166.86,0,0,{"$f":"G90*I90","v":0}]
[null,1111208600,"G-401027/421599","ТЕРМ.12.25.Вітаміни GimCat Every Day мультивітамінна паста для котів д","Більше 10","Вітаміни для котів",165.9,0,0,{"$f":"G91*I91","v":0}]

{"sheet":"GimDog","index":31,"n_rows":69,"n_cols":10,"rows_kept":69,"cut":false,"hidden":false,"merged":[]}
[]
[null,null,null,null,null,null,"suziria.ua"]
[null,null,null,null,null,null,"0 800 21 82 99"]
[null,null,null,null,null,null,"feedback@suziria.ua"]
[]
["Зображення","Код","Артикул","Номенклатура","Наявність","Категорія","Ціна опт.","Ціна РРЦ","Замовлення, шт.","Сума, грн."]
[null,null,null,null,null,null,null,null,null,{"$f":"СУММ(J8:J69)","v":{"$error":"#NAME?"}}]
[null,1111148275,"G-513164 /027","GimDog LD Pure Delight консерва д/собак мініат/порід курка/тунець 85г","Більше 100","Корм вологий для собак",65.28,82,0,{"$f":"G8*I8","v":0}]
[null,1111148274,"G-513157/513010","GimDog LD Pure Delight консерва д/собак мініатюрних порід тунець 85 г","Більше 100","Корм вологий для собак",65.28,82,0,{"$f":"G9*I9","v":0}]
[null,1111148273,"G-513140 /003","GimDog LD Pure Delight консерва для собак мініатюрних порід курка 85г","Більше 100","Корм вологий для собак",65.28,82,0,{"$f":"G10*I10","v":0}]
[null,1111152643,"G-2.504780*****","Кондиціонер GimDog Natural Solutions д/собак розплутуван/шерсті 200мл","Менше 10","Догляд та гігієна для собак",578.94000000000005,753,0,{"$f":"G11*I11","v":0}]
[null,1111152649,"G-2.504841","Лосьйон GimDog Natural Solutions для собак для очищення очей 50 мл","Менше 10","Догляд та гігієна для собак",446.1,580,0,{"$f":"G12*I12","v":0}]
[null,1111163477,"80202003013*****","Нашийник  HARLEM нейлон 1.0*20-30см чорний","Менше 10","Амуніція для собак",196.92,255,0,{"$f":"G13*I13","v":0}]
[null,1111163495,"80302004016*****","Нашийник GimDog д/собак Alfresco подвійн жовтий неопрен 28-40см/20мм","Менше 10","Амуніція для собак",342.54,445,0,{"$f":"G14*I14","v":0}]
[null,1111163498,"80302505116*****","Нашийник GimDog д/собак Alfresco подвійн жовтий неопрен 35-51см/25мм","Менше 10","Амуніція для собак",405.48,527,0,{"$f":"G15*I15","v":0}]
[null,1111163501,"80303206616*****","Нашийник GimDog д/собак Alfresco подвійн жовтий неопрен 42-66см/32мм","Більше 10","Амуніція для собак",496.44,644,0,{"$f":"G16*I16","v":0}]
[null,1111163496,"80302004019*****","Нашийник GimDog д/собак Alfresco подвійн помаран неопрен 28-40см/20мм","Менше 10","Амуніція для собак",342.54,445,0,{"$f":"G17*I17","v":0}]
[null,1111163499,"80302505119*****","Нашийник GimDog д/собак Alfresco подвійн помаран неопрен 35-51см/25мм","Менше 10","Амуніція для собак",405.48,527,0,{"$f":"G18*I18","v":0}]
[null,1111163502,"80303206619*****","Нашийник GimDog д/собак Alfresco подвійн помаран неопрен 42-66см/32мм","Менше 10","Амуніція для собак",496.44,644,0,{"$f":"G19*I19","v":0}]
[null,1111163494,"80302004013*****","Нашийник GimDog д/собак Alfresco подвійн чорний неопрен 28-40см/20мм","Менше 10","Амуніція для собак",342.54,445,0,{"$f":"G20*I20","v":0}]
[null,1111163497,"80302505113*****","Нашийник GimDog д/собак Alfresco подвійн чорний неопрен 35-51см/25мм","Менше 10","Амуніція для собак",405.48,527,0,{"$f":"G21*I21","v":0}]
[null,1111163500,"80303206613*****","Нашийник GimDog д/собак Alfresco подвійн чорний неопрен 42-66см/32мм","Менше 10","Амуніція для собак",496.44,644,0,{"$f":"G22*I22","v":0}]
[null,1111163481,"80202003012*****","Нашийник GimDog для собак Harlem блакитний неопрен 20-30см/10мм","Менше 10","Амуніція для собак",196.92,255,0,{"$f":"G23*I23","v":0}]
[null,1111163486,"80202504012*****","Нашийник GimDog для собак Harlem блакитний неопрен 25-40см/15мм","Менше 10","Амуніція для собак",236.64,307,0,{"$f":"G24*I24","v":0}]
[null,1111163490,"80203505112*****","Нашийник GimDog для собак Harlem блакитний неопрен 35-51см/20мм","Менше 10","Амуніція для собак",286.32,371,0,{"$f":"G25*I25","v":0}]
[null,1111163479,"80202003014*****","Нашийник GimDog для собак Harlem рожевий неопрен 20-30см/10мм","Менше 10","Амуніція для собак",196.92,255,0,{"$f":"G26*I26","v":0}]
[null,1111163484,"80202504014*****","Нашийник GimDog для собак Harlem рожевий неопрен 25-40см/15мм","Менше 10","Амуніція для собак",236.64,307,0,{"$f":"G27*I27","v":0}]
[null,1111163478,"80202003011*****","Нашийник GimDog для собак Harlem червоний неопрен 20-30см/10мм","Менше 10","Амуніція для собак",196.92,255,0,{"$f":"G28*I28","v":0}]
[null,1111163488,"80203505111*****","Нашийник GimDog для собак Harlem червоний неопрен 35-51см/20мм","Менше 10","Амуніція для собак",286.32,371,0,{"$f":"G29*I29","v":0}]
[null,1111163492,"80204606611*****","Нашийник GimDog для собак Harlem червоний неопрен 46-66см/25мм","Менше 10","Амуніція для собак",350.82,457,0,{"$f":"G30*I30","v":0}]
[null,1111163487,"80203505113*****","Нашийник GimDog для собак Harlem чорний неопрен 35-51см/20мм","Менше 10","Амуніція для собак",286.32,371,0,{"$f":"G31*I31","v":0}]
[null,1111163491,"80204606613*****","Нашийник GimDog для собак Harlem чорний неопрен 46-66см/25мм","Менше 10","Амуніція для собак",350.82,457,0,{"$f":"G32*I32","v":0}]
[null,1111163515,"80312012019*****","Повідець GimDog д/собак Alfresco помаранчевий неопрен/фліс 120см/20мм","Менше 10","Амуніція для собак",706.62,919,0,{"$f":"G33*I33","v":0}]
[null,1111163514,"80312012016*****","Повідець GimDog для собак Alfresco жовтий неопрен/фліс 120см/20мм","Менше 10","Амуніція для собак",706.62,919,0,{"$f":"G34*I34","v":0}]
[null,1111163517,"80312512016*****","Повідець GimDog для собак Alfresco жовтий неопрен/фліс 120см/25мм","Менше 10","Амуніція для собак",777.78,1011,0,{"$f":"G35*I35","v":0}]
[null,1111163513,"80312012013*****","Повідець GimDog для собак Alfresco чорний неопрен/фліс 120см/20мм","Менше 10","Амуніція для собак",706.62,919,0,{"$f":"G36*I36","v":0}]
[null,1111163516,"80312512013*****","Повідець GimDog для собак Alfresco чорний неопрен/фліс 120см/25мм","Більше 10","Амуніція для собак",777.78,1011,0,{"$f":"G37*I37","v":0}]
[null,1111163507,"80242012012*****","Повідець GimDog для собак Harlem блакитний неопрен 120см/20мм","Менше 10","Амуніція для собак",471.66,613,0,{"$f":"G38*I38","v":0}]
[null,1111163504,"80242012011*****","Повідець GimDog для собак Harlem червоний неопрен 120см/20мм","Менше 10","Амуніція для собак",471.66,613,0,{"$f":"G39*I39","v":0}]
[null,1111163509,"80242512011*****","Повідець GimDog для собак Harlem червоний неопрен 120см/25мм","Менше 10","Амуніція для собак",565.98,736,0,{"$f":"G40*I40","v":0}]
[null,1111163503,"80242012013*****","Повідець GimDog для собак Harlem чорний неопрен 120см/20мм","Менше 10","Амуніція для собак",471.66,613,0,{"$f":"G41*I41","v":0}]
[null,1111152640,"G-2.504759*****","Шампунь GimDog NaturalSolution д/цуценят липа/ромаш/мигдал/масло 250мл","Менше 10","Догляд та гігієна для собак",518.4,675,0,{"$f":"G42*I42","v":0}]
[null,1111163539,"080321505516*****","Шлея Alfresco Y неопрен 1.5*42 45-55см жовта","Менше 10","Амуніція для собак",620.22,931,0,{"$f":"G43*I43","v":0}]
[null,1111163545,"080323210019*****","Шлея Alfresco Y неопрен 3.2*75 80-100см помаранчева","Менше 10","Амуніція для собак",906.18,1360,0,{"$f":"G44*I44","v":0}]
[null,1111163544,"80323210013*****","Шлея GimDog для собак Alfresco Y чорна неопрен 80-100см/32мм","Менше 10","Амуніція для собак",1224.5999999999999,1592,0,{"$f":"G45*I45","v":0}]
[null,1111163546,"80332803216*****","Шлея GimDog для собак Alfresco жовта неопрен розмір XXS 28-32см","Менше 10","Амуніція для собак",685.14,890,0,{"$f":"G46*I46","v":0}]
[null,1111163555,"80334104419*****","Шлея GimDog для собак Alfresco помаранчева неопрен розмір M 41-44см","Менше 10","Амуніція для собак",797.64,1037,0,{"$f":"G47*I47","v":0}]
[null,1111163552,"80333704019*****","Шлея GimDog для собак Alfresco помаранчева неопрен розмір S 37-40см","Менше 10","Амуніція для собак",757.92,986,0,{"$f":"G48*I48","v":0}]
[null,1111163549,"80333403619*****","Шлея GimDog для собак Alfresco помаранчева неопрен розмір XS 34-36см","Менше 10","Амуніція для собак",695.04,903,0,{"$f":"G49*I49","v":0}]
[null,1111191984,"80334104411*****","Шлея GimDog для собак ALFRESCO червона сітка M арт 80334104411","Менше 10",null,920.94,1197,0,{"$f":"G50*I50","v":0}]
[null,1111191983,"80332803211*****","Шлея GimDog для собак ALFRESCO червона сітка XXS арт 80332803211","Менше 10",null,790.98,1028,0,{"$f":"G51*I51","v":0}]
[null,1111163556,"80334705013*****","Шлея GimDog для собак Alfresco чорна неопрен розмір L 47-50см","Менше 10","Амуніція для собак",853.92,1110,0,{"$f":"G52*I52","v":0}]
[null,1111163554,"80334104413*****","Шлея GimDog для собак Alfresco чорна неопрен розмір M 41-44см","Менше 10","Амуніція для собак",797.64,1037,0,{"$f":"G53*I53","v":0}]
[null,1111163534,"80261505512*****","Шлея GimDog для собак Harlem H блакитна нейлон 40-55см/15мм","Менше 10","Амуніція для собак",546.12,710,0,{"$f":"G54*I54","v":0}]
[null,1111163530,"80261004414*****","Шлея GimDog для собак Harlem H рожева нейлон 33-44см/10мм","Більше 10","Амуніція для собак",413.7,538,0,{"$f":"G55*I55","v":0}]
[null,1111163533,"80261505514*****","Шлея GimDog для собак Harlem H рожева нейлон 40-55см/15мм","Менше 10","Амуніція для собак",546.12,710,0,{"$f":"G56*I56","v":0}]
[null,1111163529,"80261004411*****","Шлея GimDog для собак Harlem H червона нейлон 33-44см/10мм","Менше 10","Амуніція для собак",413.7,538,0,{"$f":"G57*I57","v":0}]
[null,1111163532,"80261505511*****","Шлея GimDog для собак Harlem H червона нейлон 40-55см/15мм","Менше 10","Амуніція для собак",546.12,710,0,{"$f":"G58*I58","v":0}]
[null,1111163520,"80251004412*****","Шлея GimDog для собак Harlem X блакитна нейлон 32-44см/10мм","Менше 10","Амуніція для собак",373.98,487,0,{"$f":"G59*I59","v":0}]
[null,1111163523,"80251506312*****","Шлея GimDog для собак Harlem X блакитна нейлон 45-63см/15мм","Менше 10","Амуніція для собак",499.8,650,0,{"$f":"G60*I60","v":0}]
[null,1111163519,"80251004414*****","Шлея GimDog для собак Harlem X рожева нейлон 32-44см/10мм","Менше 10","Амуніція для собак",373.98,487,0,{"$f":"G61*I61","v":0}]
[null,1111163522,"80251506314*****","Шлея GimDog для собак Harlem X рожева нейлон 45-63см/15мм","Менше 10","Амуніція для собак",499.8,650,0,{"$f":"G62*I62","v":0}]
[null,1111163528,"80252509926*****","Шлея GimDog для собак Harlem X сіра нейлон 65-99см/25мм","Менше 10","Амуніція для собак",800.94,1042,0,{"$f":"G63*I63","v":0}]
[null,1111163518,"80251004411*****","Шлея GimDog для собак Harlem X червона нейлон 32-44см/10мм","Менше 10","Амуніція для собак",373.98,487,0,{"$f":"G64*I64","v":0}]
[null,1111163521,"80251506311*****","Шлея GimDog для собак Harlem X червона нейлон 45-63см/15мм","Менше 10","Амуніція для собак",499.8,650,0,{"$f":"G65*I65","v":0}]
[null,1111163525,"80252007711*****","Шлея GimDog для собак Harlem X червона нейлон 53-77см/20мм","Менше 10","Амуніція для собак",628.86,817,0,{"$f":"G66*I66","v":0}]
[null,1111163524,"80252007713*****","Шлея GimDog для собак Harlem X чорна нейлон 53-77см/20мм","Менше 10","Амуніція для собак",628.86,817,0,{"$f":"G67*I67","v":0}]
[null,1111163527,"80252509913*****","Шлея GimDog для собак Harlem X чорна нейлон 65-99см/25мм","Менше 10","Амуніція для собак",800.94,1042,0,{"$f":"G68*I68","v":0}]
[null,1111163535,"80262007011*****","Шлея HARLEM H 2.0 * 50-70 см, нейлон, червона","Менше 10","Амуніція для собак",685.14,890,0,{"$f":"G69*I69","v":0}]

{"sheet":"Habitrail","index":32,"n_rows":8,"n_cols":10,"rows_kept":8,"cut":false,"hidden":false,"merged":[]}
[]
[null,null,null,null,null,null,"suziria.ua"]
[null,null,null,null,null,null,"0 800 21 82 99"]
[null,null,null,null,null,null,"feedback@suziria.ua"]
[]
["Зображення","Код","Артикул","Номенклатура","Наявність","Категорія","Ціна опт.","Ціна РРЦ","Замовлення, шт.","Сума, грн."]
[null,null,null,null,null,null,null,null,null,{"$f":"СУММ(J8:J8)","v":{"$error":"#NAME?"}}]
[null,1111149839,"62700*****","Замки-з єднувачі для кл Habitrail Ovo для гризу 3 шт,пластик","Менше 10","Обладнання для гризунів",117.61,176,0,{"$f":"G8*I8","v":0}]

{"sheet":"Hagen","index":33,"n_rows":8,"n_cols":10,"rows_kept":8,"cut":false,"hidden":false,"merged":[]}
[]
[null,null,null,null,null,null,"suziria.ua"]
[null,null,null,null,null,null,"0 800 21 82 99"]
[null,null,null,null,null,null,"feedback@suziria.ua"]
[]
["Зображення","Код","Артикул","Номенклатура","Наявність","Категорія","Ціна опт.","Ціна РРЦ","Замовлення, шт.","Сума, грн."]
[null,null,null,null,null,null,null,null,null,{"$f":"СУММ(J8:J8)","v":{"$error":"#NAME?"}}]
[null,1111163694,"A14763_ord","Лампа Hagen для акваріума змінна для FL FLEX 34 л LED Lamp Assembly","Менше 10","Аксесуари для обладнання",1231.6199999999999,1724,0,{"$f":"G8*I8","v":0}]

{"sheet":"Half&Half","index":34,"n_rows":98,"n_cols":10,"rows_kept":98,"cut":false,"hidden":false,"merged":[]}
[]
[null,null,null,null,null,null,"suziria.ua"]
[null,null,null,null,null,null,"0 800 21 82 99"]
[null,null,null,null,null,null,"feedback@suziria.ua"]
[]
["Зображення","Код","Артикул","Номенклатура","Наявність","Категорія","Ціна опт.","Ціна РРЦ","Замовлення, шт.","Сума, грн."]
[null,null,null,null,null,null,null,null,null,{"$f":"СУММ(J8:J98)","v":{"$error":"#NAME?"}}]
[null,1111175732,20840,"HalfHalf д/дорослих котів із яловичиною 2 кг","Більше 100","Корм сухий для котів",339.78,424,0,{"$f":"G8*I8","v":0}]
[null,1111175731,20956,"HalfHalf д/дорослих котів із яловичиною 300 г","Більше 100","Корм сухий для котів",62.04,78,0,{"$f":"G9*I9","v":0}]
[null,1111175733,20857,"HalfHalf д/дорослих котів із яловичиною 8 кг","Більше 10","Корм сухий для котів",1233.9000000000001,1542,0,{"$f":"G10*I10","v":0}]
[null,1111175746,20918,"HalfHalf д/дорослих котів качка/соус у формі пауча 100г","Більше 100","Корм вологий для котів",19.079999999999998,22.6,0,{"$f":"G11*I11","v":0}]
[null,1111175745,20901,"HalfHalf д/дорослих котів лосось/желе у формі пауча 100г","Більше 100","Корм вологий для котів",19.079999999999998,22.6,0,{"$f":"G12*I12","v":0}]
[null,1111175741,20772,"HalfHalf д/дорослих собак вел/порід із яловичиною 12 кг","Більше 10","Корм сухий для собак",1276.02,1531,0,{"$f":"G13*I13","v":0}]
[null,1111175740,20765,"HalfHalf д/дорослих собак вел/порід із яловичиною 2 кг","Більше 100","Корм сухий для собак",300.83999999999997,361,0,{"$f":"G14*I14","v":0}]
[null,1111175737,20734,"HalfHalf д/дорослих собак мал/порід із яловичиною 12 кг","Більше 10","Корм сухий для собак",1435.02,1722,0,{"$f":"G15*I15","v":0}]
[null,1111175736,20727,"HalfHalf д/дорослих собак мал/порід із яловичиною 2 кг","Більше 100","Корм сухий для собак",300.83999999999997,361,0,{"$f":"G16*I16","v":0}]
[null,1111175739,20758,"HalfHalf д/дорослих собак сер/порід із яловичиною 12 кг","Більше 10","Корм сухий для собак",1276.02,1531,0,{"$f":"G17*I17","v":0}]
[null,1111175738,20741,"HalfHalf д/дорослих собак сер/порід із яловичиною 2 кг","Більше 100","Корм сухий для собак",300.83999999999997,361,0,{"$f":"G18*I18","v":0}]
[null,1111175729,20826,"HalfHalf д/котів із чутливим травленям з індичкою 2 кг","Більше 100","Корм сухий для котів",355.98,445,0,{"$f":"G19*I19","v":0}]
[null,1111175728,20949,"HalfHalf д/котів із чутливим травленям з індичкою 300 г","Більше 100","Корм сухий для котів",68.22,85,0,{"$f":"G20*I20","v":0}]
[null,1111175730,20833,"HalfHalf д/котів із чутливим травленям з індичкою 8 кг","Більше 10","Корм сухий для котів",1292.6400000000001,1616,0,{"$f":"G21*I21","v":0}]
[null,1111175722,20925,"HalfHalf д/кошенят з яловичиною 300 г","Більше 100","Корм сухий для котів",53.64,67,0,{"$f":"G22*I22","v":0}]
[null,1111175724,20796,"HalfHalf д/кошенят з яловичиною 8 кг","Більше 10","Корм сухий для котів",1120.02,1400,0,{"$f":"G23*I23","v":0}]
[null,1111175742,20864,"HalfHalf д/кошенят індичка/желе у формі пауча 100г","Більше 100","Корм вологий для котів",19.079999999999998,22.6,0,{"$f":"G24*I24","v":0}]
[null,1111175726,20802,"HalfHalf д/стерил котів із яловичиною 2 кг","Більше 10","Корм сухий для котів",339.78,424,0,{"$f":"G25*I25","v":0}]
[null,1111175725,20932,"HalfHalf д/стерил котів із яловичиною 300 г","Більше 100","Корм сухий для котів",62.04,78,0,{"$f":"G26*I26","v":0}]
[null,1111175727,20819,"HalfHalf д/стерил котів із яловичиною 8 кг","Більше 10","Корм сухий для котів",1234.44,1544,0,{"$f":"G27*I27","v":0}]
[null,1111175743,20888,"HalfHalf д/стерил котів тунець/соус у формі пауча 100г","Більше 100","Корм вологий для котів",19.079999999999998,22.6,0,{"$f":"G28*I28","v":0}]
[null,1111175735,20710,"HalfHalf д/цуценят усіх порід  із яловичиною 12 кг","Більше 10","Корм сухий для собак",1361.22,1634,0,{"$f":"G29*I29","v":0}]
[null,1111175734,20703,"HalfHalf д/цуценят усіх порід  із яловичиною 2 кг","Більше 100","Корм сухий для собак",311.04000000000002,373,0,{"$f":"G30*I30","v":0}]
[null,1111199843,20727,"БЕЗ ТЕРМ. Корм сухий HalfHalf для дорослих собак маленьких порід із ял","Менше 10","Корм сухий для собак",143.28,0,0,{"$f":"G31*I31","v":0}]
[null,1111208623,31779,"БЕЗ ТЕРМ.Ласощі HalfHalf м ясні палички для собак, з куркою 100 г, Обм","Менше 10","Ласощі для собак",23.04,0,0,{"$f":"G32*I32","v":0}]
[null,1111175721,31885,"Ласощі HalfHalf м_ясна паличка для котів, з індичкою 5 г","Більше 100","Ласощі для котів",9.48,14,0,{"$f":"G33*I33","v":0}]
[null,1111175720,31892,"Ласощі HalfHalf м_ясна паличка для котів, з качкою 5 г","Більше 100","Ласощі для котів",9.48,14,0,{"$f":"G34*I34","v":0}]
[null,1111175718,31878,"Ласощі HalfHalf м_ясна паличка для кошенят, з індичкою 5 г","Немає в наявності","Ласощі для котів",9.48,14,0,{"$f":"G35*I35","v":0}]
[null,1111175708,31793,"Ласощі HalfHalf м_ясні кубики для собак, із куркою 100 г","Більше 100","Ласощі для собак",81.12,116,0,{"$f":"G36*I36","v":0}]
[null,1111175707,31786,"Ласощі HalfHalf м_ясні кубики для цуценят, з яловичиною 100 г","Більше 100","Ласощі для собак",81.12,116,0,{"$f":"G37*I37","v":0}]
[null,1111175709,31816,"Ласощі HalfHalf м_ясні монетки для собак з яловичиною 100 г","Більше 100","Ласощі для собак",81.12,116,0,{"$f":"G38*I38","v":0}]
[null,1111175710,31823,"Ласощі HalfHalf м_ясні монетки для собак із качкою 100 г","Більше 100","Ласощі для собак",81.12,116,0,{"$f":"G39*I39","v":0}]
[null,1111175712,31762,"Ласощі HalfHalf м_ясні палички для собак з яловичиною 100 г","Більше 100","Ласощі для собак",46.08,66,0,{"$f":"G40*I40","v":0}]
[null,1111175713,31779,"Ласощі HalfHalf м_ясні палички для собак, з куркою 100 г","Більше 100","Ласощі для собак",46.08,66,0,{"$f":"G41*I41","v":0}]
[null,1111175711,31755,"Ласощі HalfHalf м_ясні палички для цуценят, з індичкою 100 г","Більше 100","Ласощі для собак",46.08,66,0,{"$f":"G42*I42","v":0}]
[null,1111175715,31847,"Ласощі HalfHalf м_ясні смужечки для котів, із качкою 50 г","Більше 100","Ласощі для котів",52.14,75,0,{"$f":"G43*I43","v":0}]
[null,1111175714,31830,"Ласощі HalfHalf м_ясні смужечки для кошенят, з індичкою 50 г","Більше 100","Ласощі для котів",52.14,75,0,{"$f":"G44*I44","v":0}]
[null,1111175716,31861,"Ласощі HalfHalf м_ясні шматочки для котів, з яловичиною 50 г","Більше 100","Ласощі для котів",52.14,75,0,{"$f":"G45*I45","v":0}]
[null,1111175717,"31854 Half","Ласощі HalfHalf м_ясні шматочки для котів, із куркою 50 г","Більше 100","Ласощі для котів",52.14,75,0,{"$f":"G46*I46","v":0}]
[null,1111207053,20741,"ТЕРМ 08.26 ПОРВ HalfHalf д/дорослих собак сер/порід із яловичиною 2кг","Менше 10","Корм сухий для собак",150.41999999999999,0,0,{"$f":"G47*I47","v":0}]
[null,1111206743,20826,"ТЕРМ 08.26 ПОРВ Корм сухий HalfHalf д/котів чутл/травл індичка 2кг","Менше 10","Корм сухий для котів",178.02,0,0,{"$f":"G48*I48","v":0}]
[null,1111204216,31885,"ТЕРМ 09.25 Ласощі HalfHalf м_ясна паличка для котів, з індичкою 5 г","Менше 10","Ласощі для котів",4.74,0,0,{"$f":"G49*I49","v":0}]
[null,1111204629,20710,"ТЕРМ 10.25  HalfHalf д/цуценят усіх порід  із яловичиною 12 кг","Менше 10","Корм сухий для собак",680.64,0,0,{"$f":"G50*I50","v":0}]
[null,1111203081,31861,"ТЕРМ. 03.26, НЕТОВ.В. Ласощі HalfHalf для котів з яловичиною 50 г","Менше 10","Ласощі для котів",24.84,0,0,{"$f":"G51*I51","v":0}]
[null,1111200226,31830,"ТЕРМ. 04.26, ПОРВ. Ласощі HalfHalf для кошенят з індичкою 50 г","Менше 10","Ласощі для котів",24.84,0,0,{"$f":"G52*I52","v":0}]
[null,1111200291,20703,"ТЕРМ. 08.25 HalfHalf д/цуценят усіх порід із яловичиною 2кг","Більше 100","Корм сухий для собак",77.760000000000005,0,0,{"$f":"G53*I53","v":0}]
[null,1111200523,20765,"ТЕРМ. 08.25 HalfHalf доросл/собак/великих/порід яловичина 2кг","Більше 10","Корм сухий для собак",75.209999999999994,0,0,{"$f":"G54*I54","v":0}]
[null,1111200535,20727,"ТЕРМ. 08.25 HalfHalf доросл/собак/малих/порід яловичина 2кг","Більше 10","Корм сухий для собак",90.3,0,0,{"$f":"G55*I55","v":0}]
[null,1111200525,20802,"ТЕРМ. 08.25 Корм сухий HalfHalf д/стерилізованих котів яловичина 2кг","Немає в наявності","Корм сухий для котів",84.96,0,0,{"$f":"G56*I56","v":0}]
[null,1111200287,20789,"ТЕРМ. 08.25 Корм сухий HalfHalf для кошенят з яловичиною 2кг","Більше 100","Корм сухий для котів",82.95,0,0,{"$f":"G57*I57","v":0}]
[null,1111199036,20789,"ТЕРМ. 08.25 ПОШК.Корм сухий HalfHalf для кошенят з яловичиною 2 кг, Об","Менше 10","Корм сухий для котів",165.9,0,0,{"$f":"G58*I58","v":0}]
[null,1111206771,20956,"ТЕРМ. 08.26, ПОРВ. HalfHalf д/дорослих котів із яловичиною 300 г","Менше 10","Корм сухий для котів",31.02,0,0,{"$f":"G59*I59","v":0}]
[null,1111203740,31830,"ТЕРМ. 09.25 Ласощі HalfHalf для кошенят з індичкою 50 г","Менше 10","Ласощі для котів",26.1,0,0,{"$f":"G60*I60","v":0}]
[null,1111204173,31793,"ТЕРМ. 09.25 Ласощі HalfHalf для собак із куркою 100г","Менше 10","Ласощі для собак",40.56,0,0,{"$f":"G61*I61","v":0}]
[null,1111208542,31878,"ТЕРМ. 09.25 Ласощі HalfHalf м ясна паличка для кошенят, з індичкою 5 г","Менше 10","Ласощі для котів",4.74,0,0,{"$f":"G62*I62","v":0}]
[null,1111208449,20932,"ТЕРМ. 09.26, ПОРВ. HalfHalf д/стерил котів із яловичиною 300г","Менше 10","Корм сухий для котів",31.02,0,0,{"$f":"G63*I63","v":0}]
[null,1111207235,31755,"ТЕРМ. 09.26, ПОРВ. Ласощі HalfHalf м'ясні палички для цуценят, з індич","Менше 10","Ласощі для собак",23.04,0,0,{"$f":"G64*I64","v":0}]
[null,1111204274,20840,"ТЕРМ. 10.25 HalfHalf д/дорослих котів із яловичиною 2кг","Більше 10","Корм сухий для котів",169.92,0,0,{"$f":"G65*I65","v":0}]
[null,1111203839,20956,"ТЕРМ. 10.25 HalfHalf д/дорослих котів із яловичиною 300г","Більше 100","Корм сухий для котів",31.02,0,0,{"$f":"G66*I66","v":0}]
[null,1111203293,20734,"ТЕРМ. 10.25 HalfHalf д/дорослих собак малих/порід яловичина 12кг","Менше 10","Корм сухий для собак",430.56,0,0,{"$f":"G67*I67","v":0}]
[null,1111203841,20741,"ТЕРМ. 10.25 HalfHalf д/дорослих собак середн/порід яловичина 2кг","Більше 100","Корм сухий для собак",150.41999999999999,0,0,{"$f":"G68*I68","v":0}]
[null,1111205866,20758,"ТЕРМ. 10.25 HalfHalf д/дорослих/собак/середніх яловичина 12кг","Менше 10","Корм сухий для собак",638.04,0,0,{"$f":"G69*I69","v":0}]
[null,1111205857,20826,"ТЕРМ. 10.25 HalfHalf д/котів із чутливим травленям з індичкою 2 кг","Менше 10","Корм сухий для котів",178.02,0,0,{"$f":"G70*I70","v":0}]
[null,1111204176,20949,"ТЕРМ. 10.25 HalfHalf д/котів чутлив/травлення з індичкою 300г","Більше 100","Корм сухий для котів",34.14,0,0,{"$f":"G71*I71","v":0}]
[null,1111201876,20789,"ТЕРМ. 10.25 HalfHalf д/кошенят з яловичиною 2 кг","Більше 100","Корм сухий для котів",165.9,0,0,{"$f":"G72*I72","v":0}]
[null,1111201878,20703,"ТЕРМ. 10.25 HalfHalf д/цуценят усіх порід  із яловичиною 2кг","Більше 100","Корм сухий для собак",155.52000000000001,0,0,{"$f":"G73*I73","v":0}]
[null,1111203252,20765,"ТЕРМ. 10.25 HalfHalf доросл/собак/великих/порід яловичина 2кг","Менше 10","Корм сухий для собак",150.41999999999999,0,0,{"$f":"G74*I74","v":0}]
[null,1111203840,20727,"ТЕРМ. 10.25 HalfHalf доросл/собак/малих/порід яловичина 2кг","Більше 100","Корм сухий для собак",150.41999999999999,0,0,{"$f":"G75*I75","v":0}]
[null,1111203837,20802,"ТЕРМ. 10.25 Корм сухий HalfHalf д/стерилізованих котів яловичина 2кг","Більше 10","Корм сухий для котів",169.92,0,0,{"$f":"G76*I76","v":0}]
[null,1111197683,20932,"ТЕРМ. 10.25 Корм сухий HalfHalf д/стерилізованих/котів яловичина 300г","Більше 100","Корм сухий для котів",31.02,0,0,{"$f":"G77*I77","v":0}]
[null,1111203836,20925,"ТЕРМ. 10.25 Корм сухий HalfHalf для кошенят з яловичиною 300г","Більше 10","Корм сухий для котів",26.82,0,0,{"$f":"G78*I78","v":0}]
[null,1111208576,31823,"ТЕРМ. 10.25 Ласощі HalfHalf м ясні монетки для собак із качкою 100 г","Менше 10","Ласощі для собак",40.56,0,0,{"$f":"G79*I79","v":0}]
[null,1111206188,31861,"ТЕРМ. 10.25 Ласощі HalfHalf м_ясні кубики для котів, з яловичиною 50 г","Менше 10","Ласощі для котів",26.1,0,0,{"$f":"G80*I80","v":0}]
[null,1111199276,20956,"ТЕРМ. 10.25, ПОРВ. HalfHalf д/дорослих котів із яловичиною 300г","Менше 10","Корм сухий для котів",31.02,0,0,{"$f":"G81*I81","v":0}]
[null,1111199985,20949,"ТЕРМ. 10.25, ПОРВ. HalfHalf д/котів чутлив/травлення з індичкою 300г","Менше 10","Корм сухий для котів",34.14,0,0,{"$f":"G82*I82","v":0}]
[null,1111201890,20789,"ТЕРМ. 10.25, ПОРВ. HalfHalf д/кошенят з яловичиною 2 кг","Менше 10","Корм сухий для котів",165.9,0,0,{"$f":"G83*I83","v":0}]
[null,1111201823,20925,"ТЕРМ. 10.25, ПОРВ. HalfHalf д/кошенят з яловичиною 300 г","Менше 10","Корм сухий для котів",25.56,0,0,{"$f":"G84*I84","v":0}]
[null,1111198948,20932,"ТЕРМ. 10.25, ПОРВ. HalfHalf д/стерил котів із яловичиною 300г","Менше 10","Корм сухий для котів",31.02,0,0,{"$f":"G85*I85","v":0}]
[null,1111201891,20703,"ТЕРМ. 10.25, ПОРВ. HalfHalf д/цуценят усіх порід  із яловичиною 2 кг","Менше 10","Корм сухий для собак",148.13999999999999,0,0,{"$f":"G86*I86","v":0}]
[null,1111201698,20727,"ТЕРМ. 10.25, ПОРВ. HalfHalf доросл/собак/малих/порід яловичина 2кг","Менше 10","Корм сухий для собак",143.28,0,0,{"$f":"G87*I87","v":0}]
[null,1111201880,20703,"ТЕРМ. 10.25, ПОРВ. ВАГА 1,8кг HalfHalf цуценят/усіх яловичина 2кг","Менше 10","Корм сухий для собак",148.13999999999999,0,0,{"$f":"G88*I88","v":0}]
[null,1111197834,20741,"ТЕРМ. 10.25, ПОШК. HalfHalf д/дор собак сер/порід із яловичиною 2 кг","Менше 10","Корм сухий для собак",85.98,0,0,{"$f":"G89*I89","v":0}]
[null,1111204233,31847,"ТЕРМ.04.26.ПОРВ.Ласощі HalfHalf м_ясні смужечки для котів, із качкою 5","Менше 10","Ласощі для котів",24.84,0,0,{"$f":"G90*I90","v":0}]
[null,1111208622,31762,"ТЕРМ.06.26.ПОРВ.Ласощі HalfHalf м ясні палички для собак з яловичиною","Менше 10","Ласощі для собак",23.04,0,0,{"$f":"G91*I91","v":0}]
[null,1111204936,20765,"ТЕРМ.08.26.ПОРВ.Корм сухий HalfHalf для дорослих собак великих порід і","Менше 10","Корм сухий для собак",150.41999999999999,0,0,{"$f":"G92*I92","v":0}]
[null,1111207843,20932,"ТЕРМ.08.26.ПОРВ.Корм сухий HalfHalf для стерилізованих котів із ялович","Менше 10","Корм сухий для котів",31.02,0,0,{"$f":"G93*I93","v":0}]
[null,1111208624,31779,"ТЕРМ.09.26.ПОРВ.Ласощі HalfHalf м ясні палички для собак, з куркою 100","Менше 10","Ласощі для собак",23.04,0,0,{"$f":"G94*I94","v":0}]
[null,1111203292,20833,"ТЕРМ.10.25.Корм сухий HalfHalf для котів із чутливим травленям з індич","Менше 10","Корм сухий для котів",452.46,0,0,{"$f":"G95*I95","v":0}]
[null,1111203291,20796,"ТЕРМ.10.25.Корм сухий HalfHalf для кошенят з яловичиною 8 кг","Більше 10","Корм сухий для котів",392.04,0,0,{"$f":"G96*I96","v":0}]
[null,1111208367,"31854 Half","ТЕРМ.10.25.Ласощі HalfHalf м ясні шматочки для котів, із куркою 50 г,","Менше 10","Ласощі для котів",26.1,0,0,{"$f":"G97*I97","v":0}]
[null,1111198900,20956,"ТЕРМ.10.25.ПОРВ.УП.Корм сухий HalfHalf для дорослих котів із яловичино","Менше 10","Корм сухий для котів",29.58,0,0,{"$f":"G98*I98","v":0}]

{"sheet":"INTEGRA PROTECT","index":35,"n_rows":39,"n_cols":10,"rows_kept":39,"cut":false,"hidden":false,"merged":[]}
[]
[null,null,null,null,null,null,"suziria.ua"]
[null,null,null,null,null,null,"0 800 21 82 99"]
[null,null,null,null,null,null,"feedback@suziria.ua"]
[]
["Зображення","Код","Артикул","Номенклатура","Наявність","Категорія","Ціна опт.","Ціна РРЦ","Замовлення, шт.","Сума, грн."]
[null,null,null,null,null,null,null,null,null,{"$f":"СУММ(J8:J39)","v":{"$error":"#NAME?"}}]
[null,1111204976,"86720IPR","01.26 НЕТОВ ВИД Корм вет вол Integ Sens кот з харч.непер. з індич 85г","Менше 10","Ветеринарна дієта для котів",22.02,0,0,{"$f":"G8*I8","v":0}]
[null,1111197815,"86413IPR","07.26 ПОМЯТІ Корм ветвол IntegraIntes Tur інд д/собзахкишк/шл трак150г","Менше 10","Ветеринарні дієти для собак",40.44,0,0,{"$f":"G9*I9","v":0}]
[null,1111183673,"86689IPR*****","Корм вет вол Integra Diabete Rabbit д/котів при діабеті з крол 100г","Більше 10","Ветеринарна дієта для котів",63.96,86,0,{"$f":"G10*I10","v":0}]
[null,1111183672,"86688IPR*****","Корм вет вол Integra Diabete Salmon д/кот при діабеті з лососем 100г","Більше 10","Ветеринарна дієта для котів",63.96,86,0,{"$f":"G11*I11","v":0}]
[null,1111183690,"86718IPR","Корм вет вол Integra Diabetes кот при діабеті з індичкою 85г","Більше 10","Ветеринарна дієта для котів",43.98,60,0,{"$f":"G12*I12","v":0}]
[null,1111183664,"86414IPR","Корм вет вол Integra Intestinal Chicken кур д/соб кишк/шл трак 400г","Менше 10","Ветеринарні дієти для собак",146.69999999999999,198,0,{"$f":"G13*I13","v":0}]
[null,1111183680,"86875IPR","Корм вет вол Integra Intestinal кот захв киш/шлун тракт індичка 100г","Більше 10","Ветеринарна дієта для котів",63.96,86,0,{"$f":"G14*I14","v":0}]
[null,1111183691,"86716IPR","Корм вет вол Integra Intestinal кот при зах. Киш/шлункового тракту 85г","Більше 10","Ветеринарна дієта для котів",43.98,60,0,{"$f":"G15*I15","v":0}]
[null,1111183668,"86404IPR","Корм вет вол Integra Renal Beef ялов д/соб при хвор нирок 400г","Більше 10","Ветеринарні дієти для собак",146.69999999999999,198,0,{"$f":"G16*I16","v":0}]
[null,1111183667,"86402IPR","Корм вет вол Integra Renal Chicken кур д/собак при хвор нирок 400г","Більше 10","Ветеринарні дієти для собак",146.69999999999999,198,0,{"$f":"G17*I17","v":0}]
[null,1111183665,"86400IPR","Корм вет вол Integra Renal with Chicken курка д/соб хвор. нирок 150г","Менше 10","Ветеринарні дієти для собак",80.88,109,0,{"$f":"G18*I18","v":0}]
[null,1111183666,"86534IPR","Корм вет вол Integra Renal with Pork свин д/собак при хвор нирок 150г","Більше 10","Ветеринарні дієти для собак",80.88,109,0,{"$f":"G19*I19","v":0}]
[null,1111183681,"86803IPR","Корм вет вол Integra Renal кот при хвор нирок моно індичка 100г","Більше 10","Ветеринарна дієта для котів",63.96,86,0,{"$f":"G20*I20","v":0}]
[null,1111183682,"86616IPR","Корм вет вол Integra Renal кот при хвор нирок страва з качкою 100г","Більше 10","Ветеринарна дієта для котів",63.96,86,0,{"$f":"G21*I21","v":0}]
[null,1111183683,"86615IPR","Корм вет вол Integra Renal кот при хвор нирок страва з телятиною 100г","Більше 10","Ветеринарна дієта для котів",63.96,86,0,{"$f":"G22*I22","v":0}]
[null,1111183684,"86633IPR","Корм вет вол Integra Renal кот при хворобах нирок з телятиною 85г","Більше 10","Ветеринарна дієта для котів",43.98,60,0,{"$f":"G23*I23","v":0}]
[null,1111183670,"86539IPR","Корм вет вол Integra Sensitiv д/соб харч неперенос інд/пастер150г","Більше 10","Ветеринарні дієти для собак",80.88,109,0,{"$f":"G24*I24","v":0}]
[null,1111183669,"86538IPR","Корм вет вол Integra Sensitiv д/соб харч неперенос кур/пастер 150г","Більше 10","Ветеринарні дієти для собак",80.88,109,0,{"$f":"G25*I25","v":0}]
[null,1111183671,"86420IPR","Корм вет вол Integra Sensitiv д/соб харч неперенос ягня/пастер 400г","Більше 10","Ветеринарні дієти для собак",146.69999999999999,198,0,{"$f":"G26*I26","v":0}]
[null,1111183686,"86853IPR*****","Корм вет вол Integra Sensitiv кот з харч неперенос. Інд/карт 100г","Більше 10","Ветеринарна дієта для котів",63.96,86,0,{"$f":"G27*I27","v":0}]
[null,1111183688,"86696IPR*****","Корм вет вол Integra Sensitiv кот з харч. неперенос моно свинина 100г","Більше 10","Ветеринарна дієта для котів",63.96,86,0,{"$f":"G28*I28","v":0}]
[null,1111183687,"86695IPR","Корм вет вол Integra Sensitiv кот з харч.неперенос з інд 100г","Більше 10","Ветеринарна дієта для котів",63.96,86,0,{"$f":"G29*I29","v":0}]
[null,1111183685,"86851IPR","Корм вет вол Integra Sensitiv кот з харч.неперенос. ягня і рис 100г","Більше 10","Ветеринарна дієта для котів",63.96,86,0,{"$f":"G30*I30","v":0}]
[null,1111183689,"86720IPR","Корм вет вол Integra Sensitive кот з харч.неперенос. з індичкою 85г","Більше 10","Ветеринарна дієта для котів",43.98,60,0,{"$f":"G31*I31","v":0}]
[null,1111183679,"86613IPR","Корм вет вол Integra Urinary Oxalate кот пр оксалатах страва/ялов 100г","Більше 10","Ветеринарна дієта для котів",63.96,86,0,{"$f":"G32*I32","v":0}]
[null,1111183678,"86612IPR*****","Корм вет вол Integra Urinary Oxalate кот при оксалатах страва/кач100г","Більше 10","Ветеринарна дієта для котів",63.96,86,0,{"$f":"G33*I33","v":0}]
[null,1111183677,"86631IPR","Корм вет вол Integra Urinary Struvit кот сеч.кам хвор з ялов 85г","Менше 10","Ветеринарна дієта для котів",43.98,60,0,{"$f":"G34*I34","v":0}]
[null,1111183674,"86610IPR","Корм вет вол Integra Urinary Struvit кот сеч.кам хвор страва/кур 100г","Більше 10","Ветеринарна дієта для котів",63.96,86,0,{"$f":"G35*I35","v":0}]
[null,1111183675,"86611IPR","Корм вет вол Integra Urinary Struvit кот сеч.кам хвор страва/тел 100г","Менше 10","Ветеринарна дієта для котів",63.96,86,0,{"$f":"G36*I36","v":0}]
[null,1111183676,"86630IPR","Корм вет вол Integra Urinary Struvit кот сеч.кам хвор. з кур 85г","Більше 10","Ветеринарна дієта для котів",43.98,60,0,{"$f":"G37*I37","v":0}]
[null,1111205391,"86853IPR","ТЕРМ.03.26.ПОМ'ЯТ.Корм ветеринарний вологий Protect Sensitiv Turkey +","Менше 10","Ветеринарна дієта для котів",31.98,0,0,{"$f":"G38*I38","v":0}]
[null,1111194470,"86695IPR","ТЕРМ.04.26МЯТА БАНКА Корм вет вол Integra Sens кот харч.непер/інд100г","Менше 10","Ветеринарна дієта для котів",31.98,0,0,{"$f":"G39*I39","v":0}]

{"sheet":"Jaba","index":36,"n_rows":8,"n_cols":10,"rows_kept":8,"cut":false,"hidden":false,"merged":[]}
[]
[null,null,null,null,null,null,"suziria.ua"]
[null,null,null,null,null,null,"0 800 21 82 99"]
[null,null,null,null,null,null,"feedback@suziria.ua"]
[]
["Зображення","Код","Артикул","Номенклатура","Наявність","Категорія","Ціна опт.","Ціна РРЦ","Замовлення, шт.","Сума, грн."]
[null,null,null,null,null,null,null,null,null,{"$f":"СУММ(J8:J8)","v":{"$error":"#NAME?"}}]
[null,5720,"006139_ord","Клей для акваріумів силіконовий чорний 60мл","Менше 10","Аксесуари для акваріума",123.06,171,0,{"$f":"G8*I8","v":0}]

{"sheet":"Juwel","index":37,"n_rows":31,"n_cols":10,"rows_kept":31,"cut":false,"hidden":false,"merged":[]}
[]
[null,null,null,null,null,null,"suziria.ua"]
[null,null,null,null,null,null,"0 800 21 82 99"]
[null,null,null,null,null,null,"feedback@suziria.ua"]
[]
["Зображення","Код","Артикул","Номенклатура","Наявність","Категорія","Ціна опт.","Ціна РРЦ","Замовлення, шт.","Сума, грн."]
[null,null,null,null,null,null,null,null,null,{"$f":"СУММ(J8:J31)","v":{"$error":"#NAME?"}}]
[null,1111143213,"25570/25370СПЕЦЦЕНА","Акваріум Juwel прямий Primo 70 LED чорний 61x44x31см 70л","Менше 10","Акваріуми та акваріумні комплекти",6317.88,8214,0,{"$f":"G8*I8","v":0}]
[null,1111162079,"46515СПЕЦЦЕНА_ord","Балка Juwel для акваріума освітлювальна Multilux LED 150см","Менше 10","Освітлення для акваріумів",8210.82,10673,0,{"$f":"G9*I9","v":0}]
[null,1111148243,"46507СПЕЦЦЕНА_ord","Балка Juwel для акваріума освітлювальна Multilux LED 70см","Менше 10","Освітлення для акваріумів",5032.4399999999996,6545,0,{"$f":"G10*I10","v":0}]
[null,4627,"88049СПЕЦЦЕНА","Вкладиш Juwel вата д/акваріума bioPad M д/внутр/фільтра Bioflow M 5 шт","Більше 10","Фільтри для акваріумів",72.06,93,0,{"$f":"G11*I11","v":0}]
[null,1111137687,"88108_ordСПЕЦЦЕНА","Вкладиш для фільтра активоване вугілля Carbax L (Standart)","Менше 10","Аксесуари для обладнання",746.76,1045,0,{"$f":"G12*I12","v":0}]
[null,1111119971,"89000СПЕЦЦЕНА","Годівниця Juwel для риб EasyFeed для акваріума автоматична","Менше 10","Аксесуари для акваріума",1444.74,1878,0,{"$f":"G13*I13","v":0}]
[null,1111135806,"85758_ord","Головка Juwel Eccoflow 1500л/год","Менше 10","Аксесуари для обладнання",2750.04,3850,0,{"$f":"G14*I14","v":0}]
[null,6323,"88059_ordСПЕЦЦЕНА","Губка Juwel вугільна д/акваріума bioCarb M д/внут/фільтр Bioflow M 2шт","Менше 10","Фільтри для акваріумів",240.96,350,0,{"$f":"G15*I15","v":0}]
[null,4628,"88050_ordСПЕЦЦЕНА","Губка Juwel груба д/акваріума bioPlus coarse M д/внут/фільтр Bioflow M","Більше 10","Фільтри для акваріумів",138.6,204,0,{"$f":"G16*I16","v":0}]
[null,1111111549,"88055_ordСПЕЦЦЕНА","Губка Juwel для акваріума Nitrax M для внутрішнього фільтра Bioflow M","Більше 10","Фільтри для акваріумів",193.86,280,0,{"$f":"G17*I17","v":0}]
[null,2907,"88051СПЕЦЦЕНА","Губка Juwel дрібнопор д/акваріума bioPlus fine M д/вн/фільтр Bioflow M","Більше 10","Фільтри для акваріумів",138.47999999999999,204,0,{"$f":"G18*I18","v":0}]
[null,11977,"90046СПЕЦЦЕНА_ord","Комплект трубок для акваріумов","Менше 10","Аксесуари для обладнання",163.86,229,0,{"$f":"G19*I19","v":0}]
[null,1111160684,"49200СПЕЦЦЕНА_ord","Кріплення Juwel для ламп PrimoLux 60/PrimoLux 80 арт.49200","Менше 10","Аксесуари для обладнання",124.2,161,0,{"$f":"G20*I20","v":0}]
[null,1111161644,"86812СПЕЦЦЕНА_ord","Лампа Juwel для акваріума LED Day світлодіодна 1200мм 9000К 21Вт","Менше 10","Освітлення для акваріумів",1324.32,1852,0,{"$f":"G21*I21","v":0}]
[null,1111161646,"86825СПЕЦЦЕНА_ord","Лампа Juwel для акваріума LED Nature світлодіодна 590мм 6500К 11Вт","Менше 10","Освітлення для акваріумів",794.64,1111,0,{"$f":"G22*I22","v":0}]
[null,1111161647,"86827СПЕЦЦЕНА_ord","Лампа Juwel для акваріума LED Nature світлодіодна 742мм 6500К 14Вт","Менше 10","Освітлення для акваріумів",980.04,1374,0,{"$f":"G23*I23","v":0}]
[null,1111114546,"93990СПЕЦЦЕНА_ord","Набір відкидних кришок Juwel для акваріума Rio 400 150х50см 3шт","Менше 10","Кришки для акваріума",1552.32,2253,0,{"$f":"G24*I24","v":0}]
[null,1111123470,"93968 СПЕЦЦЕНА_ord","Набір відкидних кришок Juwel для акваріума Vision 450 3шт","Менше 10","Кришки для акваріума",2277.84,3303,0,{"$f":"G25*I25","v":0}]
[null,1111170797,"89012_ord","Набір шнеків що подают Juwel для автоматичної годівниці SmartFeed","Менше 10","Аксесуари для обладнання",320.94,434,0,{"$f":"G26*I26","v":0}]
[null,1111132177,"50114/67400СПЕЦЦЕНА_ord","Підставка Juwel для акваріума Rio 180 LED 101x41x73см","Менше 10","Підставки та піддони",7528.56,9788,0,{"$f":"G27*I27","v":0}]
[null,1111111450,"85145_ordСПЕЦЦЕНА","Повітряний дифузор Juwel О2 OxyPlus","Менше 10","Аксесуари для обладнання",323.64,467,0,{"$f":"G28*I28","v":0}]
[null,1111137492,"85097СПЕЦЦЕНА_ord","Ротор Juwel для акваріума для помпи Eccoflow 1500","Менше 10","Аксесуари для обладнання",635.70000000000005,922,0,{"$f":"G29*I29","v":0}]
[null,1111123758,"85703_ordСПЕЦЦЕНА","Термометр електронний Juwel 3.0 для акваріума","Менше 10","Аксесуари для акваріума",1029.8399999999999,1441,0,{"$f":"G30*I30","v":0}]
[null,1111132194,"86262 2L_ord СПЕЦЦЕНА","Фон Juwel для акваріума Poster 2 L 100x50см","Менше 10","Декорації для акваріума",173.4,249,0,{"$f":"G31*I31","v":0}]

{"sheet":"Kiwi Walker","index":38,"n_rows":19,"n_cols":10,"rows_kept":19,"cut":false,"hidden":false,"merged":[]}
[]
[null,null,null,null,null,null,"suziria.ua"]
[null,null,null,null,null,null,"0 800 21 82 99"]
[null,null,null,null,null,null,"feedback@suziria.ua"]
[]
["Зображення","Код","Артикул","Номенклатура","Наявність","Категорія","Ціна опт.","Ціна РРЦ","Замовлення, шт.","Сума, грн."]
[null,null,null,null,null,null,null,null,null,{"$f":"СУММ(J8:J19)","v":{"$error":"#NAME?"}}]
[null,1111171025,"TPR-837*****","Іграшка Kiwi Walker для собак Восьминіг блакитний 12 см","Менше 10","Іграшки для собак",378.19,492,0,{"$f":"G8*I8","v":0}]
[null,1111171024,"TPR-836*****","Іграшка Kiwi Walker для собак Восьминіг зелений 12 см","Менше 10","Іграшки для собак",378.19,492,0,{"$f":"G9*I9","v":0}]
[null,1111171026,"TPR-838*****","Іграшка Kiwi Walker для собак Восьминіг рожевий 12 см","Менше 10","Іграшки для собак",366.78,476,0,{"$f":"G10*I10","v":0}]
[null,1111171022,"TPR-829*****","Іграшка Kiwi Walker для собак Кільце блакитне 13 см","Менше 10","Іграшки для собак",272.29000000000002,354,0,{"$f":"G11*I11","v":0}]
[null,1111171021,"TPR-828*****","Іграшка Kiwi Walker для собак Кільце зелене 13 см","Менше 10","Іграшки для собак",272.29000000000002,354,0,{"$f":"G12*I12","v":0}]
[null,1111171023,"TPR-830*****","Іграшка Kiwi Walker для собак Кільце рожеве 13 см","Менше 10","Іграшки для собак",272.29000000000002,354,0,{"$f":"G13*I13","v":0}]
[null,1111171019,"LTX-013*****","Іграшка Kiwi Walker для собак Птах Ківі блакитний 8,5 см","Менше 10","Іграшки для собак",205.97,268,0,{"$f":"G14*I14","v":0}]
[null,1111171016,"LTX-002*****","Іграшка Kiwi Walker для собак Птах Ківі зелений 15,5 см","Менше 10","Іграшки для собак",428.23,557,0,{"$f":"G15*I15","v":0}]
[null,1111171018,"LTX-012*****","Іграшка Kiwi Walker для собак Птах Ківі зелений 8,5 см","Менше 10","Іграшки для собак",189.59,246,0,{"$f":"G16*I16","v":0}]
[null,1111171015,"LTX-001*****","Іграшка Kiwi Walker для собак Птах Ківі помаранчевий 15,5 см","Менше 10","Іграшки для собак",428.23,557,0,{"$f":"G17*I17","v":0}]
[null,1111171017,"LTX-011*****","Іграшка Kiwi Walker для собак Птах Ківі помаранчевий 8,5 см","Менше 10","Іграшки для собак",189.59,246,0,{"$f":"G18*I18","v":0}]
[null,1111171020,"LTX-015*****","Іграшка Kiwi Walker для собак Птах Ківі рожевий 8,5 см","Менше 10","Іграшки для собак",205.97,268,0,{"$f":"G19*I19","v":0}]

{"sheet":"KW-Zone","index":39,"n_rows":8,"n_cols":10,"rows_kept":8,"cut":false,"hidden":false,"merged":[]}
[]
[null,null,null,null,null,null,"suziria.ua"]
[null,null,null,null,null,null,"0 800 21 82 99"]
[null,null,null,null,null,null,"feedback@suziria.ua"]
[]
["Зображення","Код","Артикул","Номенклатура","Наявність","Категорія","Ціна опт.","Ціна РРЦ","Замовлення, шт.","Сума, грн."]
[null,null,null,null,null,null,null,null,null,{"$f":"СУММ(J8:J8)","v":{"$error":"#NAME?"}}]
[null,1111153805,"22-038/KW Zone БЕЛЫЙ*****","Перехідник пласт. прямий нерегульований (50 шт.)","Менше 10","Аксесуари для акваріума",326.5,457,0,{"$f":"G8*I8","v":0}]

{"sheet":"Laguna","index":40,"n_rows":10,"n_cols":10,"rows_kept":10,"cut":false,"hidden":false,"merged":[]}
[]
[null,null,null,null,null,null,"suziria.ua"]
[null,null,null,null,null,null,"0 800 21 82 99"]
[null,null,null,null,null,null,"feedback@suziria.ua"]
[]
["Зображення","Код","Артикул","Номенклатура","Наявність","Категорія","Ціна опт.","Ціна РРЦ","Замовлення, шт.","Сума, грн."]
[null,null,null,null,null,null,null,null,null,{"$f":"СУММ(J8:J10)","v":{"$error":"#NAME?"}}]
[null,1111146461,"PT1704****","Кварц колба д/УФ-лампи з ущіл кільц для PowerClearMulti РТ1815/РТ1816","Менше 10","Обладнання для ставка",300,1177.1600000000001,0,{"$f":"G8*I8","v":0}]
[null,1111120977,"PT1524****","Кварцева колба для УФ-лампи з ущільнюючими кільцями для PT1500/PT1502","Менше 10","Аксесуари для обладнання",337.08,943,0,{"$f":"G9*I9","v":0}]
[null,1111135729,"PT1525****","Кварцева колба для УФ-лампи з ущільнюючими кільцями для фільтра PT1504","Менше 10","Аксесуари для обладнання",300,1238.78,0,{"$f":"G10*I10","v":0}]

{"sheet":"Marina","index":41,"n_rows":12,"n_cols":10,"rows_kept":12,"cut":false,"hidden":false,"merged":[]}
[]
[null,null,null,null,null,null,"suziria.ua"]
[null,null,null,null,null,null,"0 800 21 82 99"]
[null,null,null,null,null,null,"feedback@suziria.ua"]
[]
["Зображення","Код","Артикул","Номенклатура","Наявність","Категорія","Ціна опт.","Ціна РРЦ","Замовлення, шт.","Сума, грн."]
[null,null,null,null,null,null,null,null,null,{"$f":"СУММ(J8:J12)","v":{"$error":"#NAME?"}}]
[null,1111112285,"PP503****","ANACHARIS 13 см пластикова рослина","Менше 10","Декорації для акваріума",78.92,110,0,{"$f":"G8*I8","v":0}]
[null,1111112270,"PP1205****","CARDAMINE 30 см пластикова рослина","Менше 10","Декорації для акваріума",240.7,337,0,{"$f":"G9*I9","v":0}]
[null,1111112296,"PP813****","HYGROPHILA 20 см пластикова рослина","Менше 10","Декорації для акваріума",121.85,171,0,{"$f":"G10*I10","v":0}]
[null,1111112300,"PP1213****","HYGROPHILA 30 см пластикова рослина","Менше 10","Декорації для акваріума",214.54,300,0,{"$f":"G11*I11","v":0}]
[null,1111122880,"A7510_ord","Кондиціонер Hagen Marina для води для черепах","Менше 10","Засоби догляду для тераріумів",63.84,97,0,{"$f":"G12*I12","v":0}]

{"sheet":"Nechay ZOO","index":42,"n_rows":17,"n_cols":10,"rows_kept":17,"cut":false,"hidden":false,"merged":[]}
[]
[null,null,null,null,null,null,"suziria.ua"]
[null,null,null,null,null,null,"0 800 21 82 99"]
[null,null,null,null,null,null,"feedback@suziria.ua"]
[]
["Зображення","Код","Артикул","Номенклатура","Наявність","Категорія","Ціна опт.","Ціна РРЦ","Замовлення, шт.","Сума, грн."]
[null,null,null,null,null,null,null,null,null,{"$f":"СУММ(J8:J17)","v":{"$error":"#NAME?"}}]
[null,1111116119,"Nechay236128","Ґрунт Nechay Zoo для акваріума чорний дрібний (базальт) 2-5 мм 10 кг","Більше 10","Грунти для акваріума",222.6,334,0,{"$f":"G8*I8","v":0}]
[null,1111116270,"Nechay000080","Ґрунт Nechay Zoo для акваріума чорний середній 5-10 мм 10кг","Більше 10","Грунти для акваріума",222.6,334,0,{"$f":"G9*I9","v":0}]
[null,1111116998,"Nechay000035","Ґрунт Nechay Zoo для акваріума чорний середній 5-10 мм 2кг","Більше 10","Грунти для акваріума",56.7,84,0,{"$f":"G10*I10","v":0}]
[null,1111116122,"Nechay009360","Ґрунт Nechay Zoo для акваріума чорно-білий дрібний 2-5 мм 10 кг","Більше 10","Грунти для акваріума",222.6,334,0,{"$f":"G11*I11","v":0}]
[null,1111117630,"Nechay009353","Ґрунт Nechay Zoo для акваріума чорно-білий середній 5-10 мм 2 кг","Більше 10","Грунти для акваріума",65.459999999999994,97,0,{"$f":"G12*I12","v":0}]
[null,1111116997,"Nechay009339","Ґрунт Nechay Zoo Чорний Кристал для акваріума чорний дрібний 2-5мм 2кг","Більше 10","Грунти для акваріума",65.459999999999994,97,0,{"$f":"G13*I13","v":0}]
[null,1111117629,"Nechay000028","Грунт акваріумн. 10 кг білий середній (5-10 мм)","Менше 10","Грунти для акваріума",222.6,334,0,{"$f":"G14*I14","v":0}]
[null,1111118221,"Nechay019376","Грунт акваріумн. 10 кг рожевий (кварцит) дрібний","Менше 10","Грунти для акваріума",222.6,334,0,{"$f":"G15*I15","v":0}]
[null,1111116996,"Nechay009346","Грунт акваріумн. 2 кг чорно/білий дрібний (2-5 мм)","Більше 10","Грунти для акваріума",62.34,93,0,{"$f":"G16*I16","v":0}]
[null,1111195757,"Nechay000028","ПОРВ. Грунт аквар. 10 кг. белый средн.(5-10мм)","Менше 10","Грунти для акваріума",111.3,0,0,{"$f":"G17*I17","v":0}]

{"sheet":"Pet Chef","index":43,"n_rows":23,"n_cols":10,"rows_kept":23,"cut":false,"hidden":false,"merged":[]}
[]
[null,null,null,null,null,null,"suziria.ua"]
[null,null,null,null,null,null,"0 800 21 82 99"]
[null,null,null,null,null,null,"feedback@suziria.ua"]
[]
["Зображення","Код","Артикул","Номенклатура","Наявність","Категорія","Ціна опт.","Ціна РРЦ","Замовлення, шт.","Сума, грн."]
[null,null,null,null,null,null,null,null,null,{"$f":"СУММ(J8:J23)","v":{"$error":"#NAME?"}}]
[null,1111189114,94035,"Вологий корм для котів Pet Chef з Індичкою 200 г","Більше 100","Корм вологий для котів",37.979999999999997,49,0,{"$f":"G8*I8","v":0}]
[null,1111189113,94042,"Вологий корм для котів Pet Chef з Яловичиною 200г","Більше 100","Корм вологий для котів",37.979999999999997,49,0,{"$f":"G9*I9","v":0}]
[null,1111189101,93588,"Вологий корм для котів Pet Chef з яловичиною 415г","Більше 100","Корм вологий для котів",58.02,75,0,{"$f":"G10*I10","v":0}]
[null,1111189100,93571,"Вологий корм для котів Pet Chef М_ясний мікс 415г","Більше 100","Корм вологий для котів",58.02,75,0,{"$f":"G11*I11","v":0}]
[null,1111189112,94059,"Вологий корм для котів Pet Chef М’ясний мікс 200г","Більше 100","Корм вологий для котів",37.979999999999997,49,0,{"$f":"G12*I12","v":0}]
[null,1111189102,93595,"Вологий корм для котів Pet Chef шматочки в желе з індичкою 415г","Немає в наявності","Корм вологий для котів",58.02,75,0,{"$f":"G13*I13","v":0}]
[null,1111189111,94066,"Вологий корм для котів Pet Chef шматочки в желе з куркою 200г","Більше 100","Корм вологий для котів",37.979999999999997,49,0,{"$f":"G14*I14","v":0}]
[null,1111189099,93564,"Вологий корм для котів Pet Chef шматочки в желе з куркою 415г","Більше 100","Корм вологий для котів",58.02,75,0,{"$f":"G15*I15","v":0}]
[null,1111189103,93601,"Вологий корм для собак Pet Chef з Індичкою 415г","Більше 100","Корм вологий для собак",58.02,75,0,{"$f":"G16*I16","v":0}]
[null,1111189110,93656,"Вологий корм для собак Pet Chef з куркою 800г","Більше 10","Корм вологий для собак",100.02,130,0,{"$f":"G17*I17","v":0}]
[null,1111189105,93618,"Вологий корм для собак Pet Chef з Яловичиною 415 г","Більше 100","Корм вологий для собак",58.02,75,0,{"$f":"G18*I18","v":0}]
[null,1111189104,93670,"Вологий корм для собак Pet Chef шматочки в желе з індичкою 800г","Більше 100","Корм вологий для собак",100.02,130,0,{"$f":"G19*I19","v":0}]
[null,1111189109,93663,"Вологий корм для собак Pet Chef шматочки в желе з куркою 415г","Більше 10","Корм вологий для собак",58.02,75,0,{"$f":"G20*I20","v":0}]
[null,1111189106,93632,"Вологий корм для собак Pet Chef шматочки в желе з яловичиною 800г","Більше 100","Корм вологий для собак",100.02,130,0,{"$f":"G21*I21","v":0}]
[null,1111189108,93649,"Вологий корм для собак Pet Chef шматочки в желе М_ясний мікс 800г","Більше 100","Корм вологий для собак",100.02,130,0,{"$f":"G22*I22","v":0}]
[null,1111194318,93625,"ТЕРМ. 10.27, ПОМ'ЯТ. Вологий корм для собак Pet Chef М'ясний мікс 415г","Менше 10","Корм вологий для собак",29.04,0,0,{"$f":"G23*I23","v":0}]

{"sheet":"Pet Fashion","index":44,"n_rows":406,"n_cols":10,"rows_kept":406,"cut":false,"hidden":false,"merged":[]}
[]
[null,null,null,null,null,null,"suziria.ua"]
[null,null,null,null,null,null,"0 800 21 82 99"]
[null,null,null,null,null,null,"feedback@suziria.ua"]
[]
["Зображення","Код","Артикул","Номенклатура","Наявність","Категорія","Ціна опт.","Ціна РРЦ","Замовлення, шт.","Сума, грн."]
[null,null,null,null,null,null,null,null,null,{"$f":"СУММ(J8:J406)","v":{"$error":"#NAME?"}}]
[null,1111182981,"PR243806*****","Аксесуар Imp червоний   XS-S","Менше 10",null,196.2,281,0,{"$f":"G8*I8","v":0}]
[null,1111182980,"PR243805*****","Аксесуар Imp червоний  M-L для собак","Менше 10",null,221.58,317,0,{"$f":"G9*I9","v":0}]
[null,1111163436,"PR242109*****","Бандана  WEEKEND , M-XL, принт","Більше 10","Одяг для собак",92,119,0,{"$f":"G10*I10","v":0}]
[null,1111163437,"PR242108*****","Бандана  WEEKEND , XS-S, принт","Менше 10","Одяг для собак",70,92,0,{"$f":"G11*I11","v":0}]
[null,1111171986,"PR243016*****","Бомбер Pet Fashion Grace для собак S","Менше 10","Одяг для собак",590.64,797,0,{"$f":"G12*I12","v":0}]
[null,1111171988,"PR243014*****","Бомбер Pet Fashion Grace для собак XS","Більше 10","Одяг для собак",512.59,692,0,{"$f":"G13*I13","v":0}]
[null,1111171987,"PR243015*****","Бомбер Pet Fashion Grace для собак XS-2","Менше 10","Одяг для собак",546.6,737.91,0,{"$f":"G14*I14","v":0}]
[null,1111171985,"PR243017*****","Бомбер Pet Fashion Grace для собак М","Більше 10","Одяг для собак",608.27,821.16,0,{"$f":"G15*I15","v":0}]
[null,1111171983,"PR243019*****","Бомбер Pet Fashion Spike для собак L","Більше 10","Одяг для собак",717.66,969,0,{"$f":"G16*I16","v":0}]
[null,1111171980,"PR243022*****","Бомбер Pet Fashion Spike для собак S","Менше 10","Одяг для собак",590.64,797,0,{"$f":"G17*I17","v":0}]
[null,1111171982,"PR243020*****","Бомбер Pet Fashion Spike для собак XS","Більше 10","Одяг для собак",538.26,727,0,{"$f":"G18*I18","v":0}]
[null,1111171984,"PR243018*****","Бомбер Pet Fashion Spike для собак блакитний XL арт PR243018","Менше 10","Одяг для собак",714.83,965.02,0,{"$f":"G19*I19","v":0}]
[null,1111171979,"PR243023*****","Бомбер Pet Fashion Spike для собак М","Менше 10","Одяг для собак",638.70000000000005,862,0,{"$f":"G20*I20","v":0}]
[null,1111162859,"PR242018*****","Борцовка  COOL , S","Менше 10","Одяг для собак",221,299,0,{"$f":"G21*I21","v":0}]
[null,1111162861,"PR242016*****","Борцовка  COOL , XS","Більше 10","Одяг для собак",195,263,0,{"$f":"G22*I22","v":0}]
[null,1111162860,"PR242017*****","Борцовка  COOL , XS-2","Менше 10","Одяг для собак",208,281,0,{"$f":"G23*I23","v":0}]
[null,1111165974,"PR242364*****","Борцовка  LITTLE HELPER   S","Більше 10","Одяг для собак",226,305,0,{"$f":"G24*I24","v":0}]
[null,1111165975,"PR242363*****","Борцовка  LITTLE HELPER  XS-2","Більше 10","Одяг для собак",222,299,0,{"$f":"G25*I25","v":0}]
[null,1111165973,"PR242365*****","Борцовка  LITTLE HELPER  М","Більше 10","Одяг для собак",245,331,0,{"$f":"G26*I26","v":0}]
[null,1111165978,"PR242360*****","Борцовка  PRESENT   S","Більше 10","Одяг для собак",226,305,0,{"$f":"G27*I27","v":0}]
[null,1111165979,"PR242359*****","Борцовка  PRESENT  XS-2","Більше 10","Одяг для собак",222,299,0,{"$f":"G28*I28","v":0}]
[null,1111165977,"PR242361*****","Борцовка  PRESENT  М","Більше 10","Одяг для собак",245,331,0,{"$f":"G29*I29","v":0}]
[null,1111162854,"PR242011*****","Борцовка  Puppy , S, м ята","Менше 10","Одяг для собак",212,287,0,{"$f":"G30*I30","v":0}]
[null,1111162851,"PR242014*****","Борцовка  Puppy , XS-2, жовта","Менше 10","Одяг для собак",208,281,0,{"$f":"G31*I31","v":0}]
[null,1111167895,"PR242721*****","Вітровка Pet Fashion Fresh для собак бежева XS","Менше 10","Одяг для собак",565.98,764,0,{"$f":"G32*I32","v":0}]
[null,1111167824,"PR242720*****","Вітровка Pet Fashion Fresh для собак бежева XS2","Менше 10","Одяг для собак",589.08000000000004,795,0,{"$f":"G33*I33","v":0}]
[null,1111167822,"PR242718*****","Вітровка Pet Fashion Fresh для собак бежева М","Менше 10","Одяг для собак",679.38,917,0,{"$f":"G34*I34","v":0}]
[null,1111205023,"PR244306","Вішалка для одягу Pet Fashion S2, M, M2, L (5 шт.),","Більше 10","Одяг для собак",65.040000000000006,0,0,{"$f":"G35*I35","v":0}]
[null,1111205024,"PR244305","Вішалка для одягу Pet Fashion XS2, S (5 шт.),","Менше 10","Одяг для собак",40.020000000000003,0,0,{"$f":"G36*I36","v":0}]
[null,1111205025,"PR244307","Вішалка для одягу Pet Fashion XXS, XS (5 шт.),","Менше 10","Одяг для собак",23.04,0,0,{"$f":"G37*I37","v":0}]
[null,1111180560,"PR243511*****","Дощовик Mustang L","Більше 10","Одяг для собак",1103,1489,0,{"$f":"G38*I38","v":0}]
[null,1111180563,"PR243508*****","Дощовик Mustang S2","Більше 10","Одяг для собак",1045,1411,0,{"$f":"G39*I39","v":0}]
[null,1111180559,"PR243512*****","Дощовик Mustang XL","Менше 10","Одяг для собак",1167,1575,0,{"$f":"G40*I40","v":0}]
[null,1111180562,"PR243509*****","Дощовик Mustang М","Менше 10","Одяг для собак",1047,1414,0,{"$f":"G41*I41","v":0}]
[null,1111180561,"PR243510*****","Дощовик Mustang М2","Більше 10","Одяг для собак",1083,1463,0,{"$f":"G42*I42","v":0}]
[null,1111180566,"PR243505*****","Дощовик Mustang ХS","Більше 100","Одяг для собак",765,1033,0,{"$f":"G43*I43","v":0}]
[null,1111180565,"PR243506*****","Дощовик Mustang ХS2","Менше 10","Одяг для собак",809,1092,0,{"$f":"G44*I44","v":0}]
[null,1111171808,"PR242988*****","Дощовик Pet Fashion Ariel для собак M","Менше 10","Одяг для собак",788.97,1065.1199999999999,0,{"$f":"G45*I45","v":0}]
[null,1111179022,"PR243452*****","Дощовик Pet Fashion Semmy морська хвиля капучіно M артPR243452","Менше 10","Одяг для собак",683,922,0,{"$f":"G46*I46","v":0}]
[null,1111179025,"PR243449*****","Дощовик Pet Fashion Semmy морська хвиля капучіно XS артPR243449","Менше 10","Одяг для собак",563,760,0,{"$f":"G47*I47","v":0}]
[null,1111171801,"PR242995*****","Дощовик Pet Fashion Silver для собак L","Менше 10","Одяг для собак",706,953.1,0,{"$f":"G48*I48","v":0}]
[null,1111171802,"PR242994*****","Дощовик Pet Fashion Silver для собак M","Більше 10","Одяг для собак",616.77,832.64,0,{"$f":"G49*I49","v":0}]
[null,1111171803,"PR242993*****","Дощовик Pet Fashion Silver для собак S","Більше 10","Одяг для собак",554.64,748.77,0,{"$f":"G50*I50","v":0}]
[null,1111171806,"PR242990*****","Дощовик Pet Fashion Silver для собак XS","Більше 10","Одяг для собак",471.6,636.66,0,{"$f":"G51*I51","v":0}]
[null,1111171805,"PR242991*****","Дощовик Pet Fashion Silver для собак XS-2","Більше 10","Одяг для собак",536.41999999999996,724.17,0,{"$f":"G52*I52","v":0}]
[null,1111180553,"PR243518*****","Дощовик Tina L дівчинка","Більше 10","Одяг для собак",1002,1353,0,{"$f":"G53*I53","v":0}]
[null,1111180556,"PR243515*****","Дощовик Tina S дівчинка","Більше 10","Одяг для собак",815,1100,0,{"$f":"G54*I54","v":0}]
[null,1111180555,"PR243516*****","Дощовик Tina S2 дівчинка","Менше 10","Одяг для собак",923,1246,0,{"$f":"G55*I55","v":0}]
[null,1111180552,"PR243519*****","Дощовик Tina XL дівчинка","Більше 10","Одяг для собак",1065,1438,0,{"$f":"G56*I56","v":0}]
[null,1111180554,"PR243517*****","Дощовик Tina М дівчинка","Більше 10","Одяг для собак",916,1236,0,{"$f":"G57*I57","v":0}]
[null,1111180558,"PR243513*****","Дощовик Tina ХS дівчинка","Більше 10","Одяг для собак",742,1002,0,{"$f":"G58*I58","v":0}]
[null,1111180547,"PR243524*****","Дублянка Black ХS","Менше 10","Одяг для собак",541.98,731,0,{"$f":"G59*I59","v":0}]
[null,1111171992,"PR243010*****","Жакет Pet Fashion Harry для собак коричневий XS2 арт PR243010","Менше 10","Одяг для собак",411.76,555.88,0,{"$f":"G60*I60","v":0}]
[null,1111181950,"PR243594*****","Жилет Grass M","Більше 100","Одяг для собак",804.36,1086,0,{"$f":"G61*I61","v":0}]
[null,1111181951,"PR243593*****","Жилет Grass S","Більше 100","Одяг для собак",693,936,0,{"$f":"G62*I62","v":0}]
[null,1111181953,"PR243591*****","Жилет Grass XS","Більше 100","Одяг для собак",622.74,841,0,{"$f":"G63*I63","v":0}]
[null,1111181952,"PR243592*****","Жилет Grass XS2","Більше 10","Одяг для собак",695.22,939,0,{"$f":"G64*I64","v":0}]
[null,1111182494,"PR243750","Жилет Hardy S2 для собак","Менше 10","Одяг для собак",711,960,0,{"$f":"G65*I65","v":0}]
[null,1111182490,"PR243745","Жилет Hardy XL для собак","Менше 10","Одяг для собак",824,1113,0,{"$f":"G66*I66","v":0}]
[null,1111182493,"PR243749","Жилет Hardy М для собак","Менше 10","Одяг для собак",710,959,0,{"$f":"G67*I67","v":0}]
[null,1111182492,"PR243746","Жилет Hardy М2 для собак","Менше 10","Одяг для собак",757,1022,0,{"$f":"G68*I68","v":0}]
[null,1111182497,"PR243754","Жилет Hardy ХS для собак","Менше 10","Одяг для собак",573,773,0,{"$f":"G69*I69","v":0}]
[null,1111166190,"PR242392*****","Жилет Pet Fashion Big Boss для собак червоний 4XL","Менше 10","Одяг для собак",817.66,1103.8399999999999,0,{"$f":"G70*I70","v":0}]
[null,1111166192,"PR242398","Жилет Pet Fashion Big Boss для собак чорний 2XL","Менше 10","Одяг для собак",811.8,1096,0,{"$f":"G71*I71","v":0}]
[null,1111166193,"PR242397","Жилет Pet Fashion Big Boss для собак чорний 3XL","Менше 10","Одяг для собак",841.38,1136,0,{"$f":"G72*I72","v":0}]
[null,1111166194,"PR242396","Жилет Pet Fashion Big Boss для собак чорний 4XL","Менше 10","Одяг для собак",899.46,1214,0,{"$f":"G73*I73","v":0}]
[null,1111166195,"PR242395","Жилет Pet Fashion Big Boss для собак чорний 5XL","Менше 10","Одяг для собак",969.18,1308,0,{"$f":"G74*I74","v":0}]
[null,1111166460,"PR242417","Жилет Pet Fashion E.Vest для собак морська хвиля L","Менше 10","Одяг для собак",705.06,952,0,{"$f":"G75*I75","v":0}]
[null,1111166464,"PR242413","Жилет Pet Fashion E.Vest для собак морська хвиля S","Менше 10","Одяг для собак",559.20000000000005,939,0,{"$f":"G76*I76","v":0}]
[null,1111166463,"PR242414","Жилет Pet Fashion E.Vest для собак морська хвиля SМ","Менше 10","Одяг для собак",599.96,809.95,0,{"$f":"G77*I77","v":0}]
[null,1111166459,"PR242418","Жилет Pet Fashion E.Vest для собак морська хвиля XL","Менше 10","Одяг для собак",820.86,1108,0,{"$f":"G78*I78","v":0}]
[null,1111166466,"PR242411","Жилет Pet Fashion E.Vest для собак морська хвиля XS","Більше 10","Одяг для собак",535.08000000000004,722.36,0,{"$f":"G79*I79","v":0}]
[null,1111166465,"PR242412","Жилет Pet Fashion E.Vest для собак морська хвиля XS-2","Менше 10","Одяг для собак",554.83000000000004,749.02,0,{"$f":"G80*I80","v":0}]
[null,1111166462,"PR242415","Жилет Pet Fashion E.Vest для собак морська хвиля М","Більше 10","Одяг для собак",622.62,840.53,0,{"$f":"G81*I81","v":0}]
[null,1111166461,"PR242416","Жилет Pet Fashion E.Vest для собак морська хвиля М2","Менше 10","Одяг для собак",700.28,945.38,0,{"$f":"G82*I82","v":0}]
[null,1111166444,"PR242433","Жилет Pet Fashion E.Vest для собак помаранчевий L","Менше 10","Одяг для собак",718.5,970,0,{"$f":"G83*I83","v":0}]
[null,1111166448,"PR242429","Жилет Pet Fashion E.Vest для собак помаранчевий S","Менше 10","Одяг для собак",608.64,822,0,{"$f":"G84*I84","v":0}]
[null,1111166447,"PR242430","Жилет Pet Fashion E.Vest для собак помаранчевий SМ","Більше 10","Одяг для собак",599.96,809.95,0,{"$f":"G85*I85","v":0}]
[null,1111166443,"PR242434","Жилет Pet Fashion E.Vest для собак помаранчевий XL","Менше 10","Одяг для собак",746.19,1007.36,0,{"$f":"G86*I86","v":0}]
[null,1111166450,"PR242427","Жилет Pet Fashion E.Vest для собак помаранчевий XS","Більше 10","Одяг для собак",535.08000000000004,722.36,0,{"$f":"G87*I87","v":0}]
[null,1111166449,"PR242428","Жилет Pet Fashion E.Vest для собак помаранчевий XS-2","Більше 10","Одяг для собак",554.83000000000004,749.02,0,{"$f":"G88*I88","v":0}]
[null,1111166445,"PR242432","Жилет Pet Fashion E.Vest для собак помаранчевий М2","Менше 10","Одяг для собак",700.28,945.38,0,{"$f":"G89*I89","v":0}]
[null,1111166436,"PR242441","Жилет Pet Fashion E.Vest для собак сірий L","Менше 10","Одяг для собак",671.48,906.5,0,{"$f":"G90*I90","v":0}]
[null,1111166440,"PR242437","Жилет Pet Fashion E.Vest для собак сірий S","Менше 10","Одяг для собак",579.61,782.47,0,{"$f":"G91*I91","v":0}]
[null,1111166439,"PR242438","Жилет Pet Fashion E.Vest для собак сірий SМ","Більше 10","Одяг для собак",599.96,809.95,0,{"$f":"G92*I92","v":0}]
[null,1111166435,"PR242442","Жилет Pet Fashion E.Vest для собак сірий XL","Менше 10","Одяг для собак",746.19,1007.36,0,{"$f":"G93*I93","v":0}]
[null,1111166442,"PR242435","Жилет Pet Fashion E.Vest для собак сірий XS","Менше 10","Одяг для собак",535.08000000000004,722.36,0,{"$f":"G94*I94","v":0}]
[null,1111166441,"PR242436","Жилет Pet Fashion E.Vest для собак сірий XS-2","Більше 10","Одяг для собак",554.83000000000004,749.02,0,{"$f":"G95*I95","v":0}]
[null,1111166438,"PR242439","Жилет Pet Fashion E.Vest для собак сірий М","Менше 10","Одяг для собак",622.62,840.53,0,{"$f":"G96*I96","v":0}]
[null,1111166437,"PR242440","Жилет Pet Fashion E.Vest для собак сірий М2","Менше 10","Одяг для собак",700.28,945.38,0,{"$f":"G97*I97","v":0}]
[null,1111166456,"PR242421","Жилет Pet Fashion E.Vest для собак фіолетовий S","Менше 10","Одяг для собак",579.61,782.47,0,{"$f":"G98*I98","v":0}]
[null,1111166455,"PR242422","Жилет Pet Fashion E.Vest для собак фіолетовий SМ","Більше 10","Одяг для собак",599.96,809.95,0,{"$f":"G99*I99","v":0}]
[null,1111166451,"PR242426","Жилет Pet Fashion E.Vest для собак фіолетовий XL","Менше 10","Одяг для собак",746.19,1007.36,0,{"$f":"G100*I100","v":0}]
[null,1111166458,"PR242419","Жилет Pet Fashion E.Vest для собак фіолетовий XS","Менше 10","Одяг для собак",535.08000000000004,722.36,0,{"$f":"G101*I101","v":0}]
[null,1111166457,"PR242420","Жилет Pet Fashion E.Vest для собак фіолетовий XS-2","Менше 10","Одяг для собак",554.83000000000004,749.02,0,{"$f":"G102*I102","v":0}]
[null,1111166454,"PR242423","Жилет Pet Fashion E.Vest для собак фіолетовий М","Менше 10","Одяг для собак",666.24,899,0,{"$f":"G103*I103","v":0}]
[null,1111166453,"PR242424","Жилет Pet Fashion E.Vest для собак фіолетовий М2","Менше 10","Одяг для собак",700.28,945.38,0,{"$f":"G104*I104","v":0}]
[null,1111166428,"PR242449","Жилет Pet Fashion E.Vest для собак червоний L","Менше 10","Одяг для собак",671.48,906.5,0,{"$f":"G105*I105","v":0}]
[null,1111166432,"PR242445","Жилет Pet Fashion E.Vest для собак червоний S","Більше 10","Одяг для собак",579.61,782.47,0,{"$f":"G106*I106","v":0}]
[null,1111166431,"PR242446","Жилет Pet Fashion E.Vest для собак червоний SМ","Менше 10","Одяг для собак",599.96,809.95,0,{"$f":"G107*I107","v":0}]
[null,1111166427,"PR242450","Жилет Pet Fashion E.Vest для собак червоний XL","Більше 10","Одяг для собак",783.54,1058,0,{"$f":"G108*I108","v":0}]
[null,1111166434,"PR242443","Жилет Pet Fashion E.Vest для собак червоний XS","Більше 10","Одяг для собак",535.08000000000004,722.36,0,{"$f":"G109*I109","v":0}]
[null,1111166433,"PR242444","Жилет Pet Fashion E.Vest для собак червоний XS-2","Більше 10","Одяг для собак",554.83000000000004,749.02,0,{"$f":"G110*I110","v":0}]
[null,1111166430,"PR242447","Жилет Pet Fashion E.Vest для собак червоний М","Менше 10","Одяг для собак",641.34,866,0,{"$f":"G111*I111","v":0}]
[null,1111166429,"PR242448","Жилет Pet Fashion E.Vest для собак червоний М2","Менше 10","Одяг для собак",700.28,945.38,0,{"$f":"G112*I112","v":0}]
[null,1111162550,"FLEECY сер-кр S","Жилет Pet Fashion Fleecy для собак сірий/червоний S","Більше 10","Одяг для собак",364.8,492.49,0,{"$f":"G113*I113","v":0}]
[null,1111162549,"FLEECY сер-кр M","Жилет Pet Fashion Fleecy для собак сірий/червоний М","Менше 10","Одяг для собак",413.41,558.11,0,{"$f":"G114*I114","v":0}]
[null,1111162551,"FLEECY сер-кр XS2","Жилет Pet Fashion Fleecy для собак сірий/червоний ХS2","Більше 10","Одяг для собак",357.79,483.01,0,{"$f":"G115*I115","v":0}]
[null,1111162546,"FLEECY кр-сер S*****","Жилет Pet Fashion Fleecy для собак червоний/сірий S","Більше 10","Одяг для собак",364.8,492.49,0,{"$f":"G116*I116","v":0}]
[null,1111162545,"FLEECY кр-сер M","Жилет Pet Fashion Fleecy для собак червоний/сірий М","Більше 10","Одяг для собак",413.41,558.11,0,{"$f":"G117*I117","v":0}]
[null,1111162547,"FLEECY кр-сер XS2","Жилет Pet Fashion Fleecy для собак червоний/сірий ХS2","Більше 10","Одяг для собак",357.79,483.01,0,{"$f":"G118*I118","v":0}]
[null,1111179017,"PR243457*****","Жилет Pet Fashion Kris блакитний капучіно M артPR243457","Менше 10","Одяг для собак",686,927,0,{"$f":"G119*I119","v":0}]
[null,1111160436,"Yellow vest L*****","Жилет Pet Fashion Yellow vest для собак L","Менше 10","Одяг для собак",425.67,575,0,{"$f":"G120*I120","v":0}]
[null,1111160437,"Yellow vest M*****","Жилет Pet Fashion Yellow vest для собак M","Менше 10","Одяг для собак",420.09,567,0,{"$f":"G121*I121","v":0}]
[null,1111160438,"Yellow vest S*****","Жилет Pet Fashion Yellow vest для собак S","Менше 10","Одяг для собак",361.7,488,0,{"$f":"G122*I122","v":0}]
[null,1111160439,"Yellow vest XS*****","Жилет Pet Fashion Yellow vest для собак XS","Більше 10","Одяг для собак",356.43,481,0,{"$f":"G123*I123","v":0}]
[null,1111166446,"PR242431","Жилет Pet Fashion Е.Vest для собак помаранчевий М","Більше 10","Одяг для собак",622.62,840.53,0,{"$f":"G124*I124","v":0}]
[null,1111160440,"Yellow vest L жф*****","Жилет+фліс  Warm Yellow vest   L","Менше 10","Одяг для собак",629.6,850,0,{"$f":"G125*I125","v":0}]
[null,1111160443,"Yellow vest XS жф*****","Жилет+фліс  Warm Yellow vest   XS","Більше 10","Одяг для собак",521.37,704,0,{"$f":"G126*I126","v":0}]
[null,1111173410,"PR243083","Іграшка Pet Fashion Кажан для собак зелений 15х23 см арт PR243083","Більше 10","Іграшки для собак",118.99,161,0,{"$f":"G127*I127","v":0}]
[null,1111173412,"PR243081","Іграшка Pet Fashion Кісточка з канатом для собак","Більше 10","Іграшки для собак",74.319999999999993,100,0,{"$f":"G128*I128","v":0}]
[null,1111173408,"PR243085","Іграшка Pet Fashion Коник для собак червоний 15х15 см арт PR243085","Більше 100","Іграшки для собак",112.46,152,0,{"$f":"G129*I129","v":0}]
[null,1111173413,"PR243080","Іграшка Pet Fashion Миша для котів","Більше 10","Іграшки для котів",67.45,91,0,{"$f":"G130*I130","v":0}]
[null,1111173409,"PR243084","Іграшка Pet Fashion Рибка для котів","Менше 10","Іграшки для котів",86.34,117,0,{"$f":"G131*I131","v":0}]
[null,1111173411,"PR243082","Іграшка Pet Fashion Саламандра для собак","Більше 10","Іграшки для котів",104.16,141,0,{"$f":"G132*I132","v":0}]
[null,1111179010,"PR243464*****","Кардиган Pet Fashion Denis жовтий S артPR243464","Менше 10","Одяг для собак",395,534,0,{"$f":"G133*I133","v":0}]
[null,1111179013,"PR243461*****","Кардиган Pet Fashion Denis жовтий S м’ятний артPR243461","Менше 10","Одяг для собак",397,536,0,{"$f":"G134*I134","v":0}]
[null,1111179015,"PR243459*****","Кардиган Pet Fashion Denis жовтий XS м’ятний артPR243459","Менше 10","Одяг для собак",351,474,0,{"$f":"G135*I135","v":0}]
[null,1111179011,"PR243463*****","Кардиган Pet Fashion Denis жовтий XS2 артPR243463","Менше 10","Одяг для собак",382,516,0,{"$f":"G136*I136","v":0}]
[null,1111197880,"PR 441709*****","Кепка Phil ТМ Pet Fashion для собак L, бабовна","Менше 10","Одяг для собак",307.32,439,0,{"$f":"G137*I137","v":0}]
[null,1111197881,"PR 441723*****","Кепка Phil ТМ Pet Fashion для собак M, бабовна","Більше 10","Одяг для собак",286.32,409,0,{"$f":"G138*I138","v":0}]
[null,1111197879,"PR 441662*****","Кепка Phil ТМ Pet Fashion для собак ХL, бабовна","Більше 10","Одяг для собак",321.3,459,0,{"$f":"G139*I139","v":0}]
[null,1111197917,"PR 442126*****","Кепка Tony ТМ Pet Fashion для собак L, бабовна","Менше 10","Одяг для собак",244.32,349,0,{"$f":"G140*I140","v":0}]
[null,1111197918,"PR 442096*****","Кепка Tony ТМ Pet Fashion для собак M, бабовна","Більше 10","Одяг для собак",223.32,319,0,{"$f":"G141*I141","v":0}]
[null,1111197916,"PR 442072*****","Кепка Tony ТМ Pet Fashion для собак ХL, бабовна","Більше 10","Одяг для собак",272.33999999999997,389,0,{"$f":"G142*I142","v":0}]
[null,1111122795,"PR240453*****","Ковпак Pet Fashion новорічний для собак M","Більше 10","Одяг для собак",162.51,219.38,0,{"$f":"G143*I143","v":0}]
[null,1111153406,"PR240454*****","Ковпак Pet Fashion новорічний для собак S","Більше 100","Одяг для собак",159.31,215.07,0,{"$f":"G144*I144","v":0}]
[null,1111153407,"PR240455*****","Ковпак Pet Fashion новорічний для собак XS","Більше 10","Одяг для собак",157.5,212.63,0,{"$f":"G145*I145","v":0}]
[null,1111165268,"PR242328*****","Комбінезон  AMAZE  M","Менше 10","Одяг для собак",694.64,937.76,0,{"$f":"G146*I146","v":0}]
[null,1111180536,"PR243533*****","Комбінезон  Cherry XL дівчинка","Менше 10","Одяг для собак",1458,1968,0,{"$f":"G147*I147","v":0}]
[null,1111165102,"PR242244*****","Комбінезон  PUZZLE   XS","Менше 10","Одяг для собак",658.59,889.09,0,{"$f":"G148*I148","v":0}]
[null,1111159499,"PR241634*****","Комбінезон  RAIN   S-2 такса","Менше 10","Одяг для собак",459.05,620,0,{"$f":"G149*I149","v":0}]
[null,1111159498,"PR241635*****","Комбінезон  RAIN  S такса","Менше 10","Одяг для собак",431.67,582.5,0,{"$f":"G150*I150","v":0}]
[null,1111180541,"PR243530*****","Комбінезон Cherry S2 дівчинка","Більше 10","Одяг для собак",1203,1624,0,{"$f":"G151*I151","v":0}]
[null,1111182511,"PR243770*****","Комбінезон EGO S2 зелений для собак","Менше 10","Одяг для собак",1009.98,1444,0,{"$f":"G152*I152","v":0}]
[null,1111167323,"PR242600","Комбінезон Pet Fashion Cold для собак бірюза 2XL","Менше 10","Одяг для собак",1089.78,1471,0,{"$f":"G153*I153","v":0}]
[null,1111167324,"PR242601","Комбінезон Pet Fashion Cold для собак бірюза 3XL","Менше 10","Одяг для собак",1189.44,1606,0,{"$f":"G154*I154","v":0}]
[null,1111167325,"PR242602","Комбінезон Pet Fashion Cold для собак бірюза 4XL","Менше 10","Одяг для собак",1237.02,1670,0,{"$f":"G155*I155","v":0}]
[null,1111167326,"PR242603","Комбінезон Pet Fashion Cold для собак бірюза 5XL","Більше 10","Одяг для собак",1355.04,1829,0,{"$f":"G156*I156","v":0}]
[null,1111167327,"PR242604","Комбінезон Pet Fashion Cold для собак бірюза 6XL","Менше 10","Одяг для собак",1382.7,1867,0,{"$f":"G157*I157","v":0}]
[null,1111167328,"PR242605","Комбінезон Pet Fashion Cold для собак бірюза 7XL","Більше 10","Одяг для собак",1529.04,2064,0,{"$f":"G158*I158","v":0}]
[null,1111167317,"PR242535","Комбінезон Pet Fashion Cold для собак бірюза L","Більше 10","Одяг для собак",807.32,1089.8800000000001,0,{"$f":"G159*I159","v":0}]
[null,1111167316,"PR242534","Комбінезон Pet Fashion Cold для собак бірюза M","Більше 10","Одяг для собак",699.58,944.43,0,{"$f":"G160*I160","v":0}]
[null,1111167314,"PR242532","Комбінезон Pet Fashion Cold для собак бірюза M2","Менше 10","Одяг для собак",743.53,1003.76,0,{"$f":"G161*I161","v":0}]
[null,1111167315,"PR242533","Комбінезон Pet Fashion Cold для собак бірюза ML","Більше 10","Одяг для собак",718.43,969.88,0,{"$f":"G162*I162","v":0}]
[null,1111167312,"PR242530","Комбінезон Pet Fashion Cold для собак бірюза S","Менше 10","Одяг для собак",586.83000000000004,792.22,0,{"$f":"G163*I163","v":0}]
[null,1111167313,"PR242531","Комбінезон Pet Fashion Cold для собак бірюза SM","Більше 10","Одяг для собак",693.54,936,0,{"$f":"G164*I164","v":0}]
[null,1111167322,"PR242599","Комбінезон Pet Fashion Cold для собак бірюза XL","Більше 10","Одяг для собак",858.3,1159,0,{"$f":"G165*I165","v":0}]
[null,1111167311,"PR242529","Комбінезон Pet Fashion Cold для собак бірюза XS","Більше 10","Одяг для собак",541.66999999999996,731.26,0,{"$f":"G166*I166","v":0}]
[null,1111167356,"PR242633","Комбінезон Pet Fashion COLD для собак пород такса сірий S2 артPR242633","Більше 10","Одяг для собак",753.36,1017,0,{"$f":"G167*I167","v":0}]
[null,1111167354,"PR242631","Комбінезон Pet Fashion COLD для собак пород такса сірий XS артPR242631","Менше 10","Одяг для собак",627.48,847,0,{"$f":"G168*I168","v":0}]
[null,1111167357,"PR242634","Комбінезон Pet Fashion COLD для собак породи такса сірий M артPR242634","Більше 10","Одяг для собак",785.76,1061,0,{"$f":"G169*I169","v":0}]
[null,1111167355,"PR242632","Комбінезон Pet Fashion COLD для собак породи такса сірий S артPR242632","Більше 10","Одяг для собак",678,915,0,{"$f":"G170*I170","v":0}]
[null,1111167359,"PR242636","Комбінезон Pet Fashion Cold для собак сірий 2XL","Менше 10","Одяг для собак",1089.78,1471,0,{"$f":"G171*I171","v":0}]
[null,1111167360,"PR242637","Комбінезон Pet Fashion Cold для собак сірий 3XL","Менше 10","Одяг для собак",1189.44,1606,0,{"$f":"G172*I172","v":0}]
[null,1111167361,"PR242638","Комбінезон Pet Fashion Cold для собак сірий 4XL","Більше 10","Одяг для собак",1237.02,1670,0,{"$f":"G173*I173","v":0}]
[null,1111167362,"PR242639","Комбінезон Pet Fashion COLD для собак сірий 5XL артPR242639","Більше 10","Одяг для собак",1355.04,1829,0,{"$f":"G174*I174","v":0}]
[null,1111167363,"PR242640","Комбінезон Pet Fashion COLD для собак сірий 6XL артPR242640","Більше 10","Одяг для собак",1382.7,1867,0,{"$f":"G175*I175","v":0}]
[null,1111167364,"PR242641","Комбінезон Pet Fashion COLD для собак сірий 7XL артPR242641","Більше 10","Одяг для собак",1529.04,2064,0,{"$f":"G176*I176","v":0}]
[null,1111167353,"PR242630","Комбінезон Pet Fashion Cold для собак сірий L","Менше 10","Одяг для собак",847.74,1144,0,{"$f":"G177*I177","v":0}]
[null,1111167352,"PR242629","Комбінезон Pet Fashion Cold для собак сірий M","Більше 10","Одяг для собак",734.58,992,0,{"$f":"G178*I178","v":0}]
[null,1111167351,"PR242628","Комбінезон Pet Fashion Cold для собак сірий ML","Більше 10","Одяг для собак",754.38,1018,0,{"$f":"G179*I179","v":0}]
[null,1111167348,"PR242625","Комбінезон Pet Fashion Cold для собак сірий S","Більше 10","Одяг для собак",616.20000000000005,832,0,{"$f":"G180*I180","v":0}]
[null,1111167349,"PR242626","Комбінезон Pet Fashion Cold для собак сірий SM","Більше 10","Одяг для собак",674.28,910,0,{"$f":"G181*I181","v":0}]
[null,1111167347,"PR242624","Комбінезон Pet Fashion Cold для собак сірий XS","Більше 10","Одяг для собак",568.79999999999995,768,0,{"$f":"G182*I182","v":0}]
[null,1111167341,"PR242618","Комбінезон Pet Fashion Cold для собак червоний 2XL","Більше 10","Одяг для собак",1089.78,1471,0,{"$f":"G183*I183","v":0}]
[null,1111167342,"PR242619","Комбінезон Pet Fashion Cold для собак червоний 3XL","Більше 10","Одяг для собак",1189.44,1606,0,{"$f":"G184*I184","v":0}]
[null,1111167343,"PR242620","Комбінезон Pet Fashion Cold для собак червоний 4XL","Менше 10","Одяг для собак",1237.02,1670,0,{"$f":"G185*I185","v":0}]
[null,1111167344,"PR242621","Комбінезон Pet Fashion Cold для собак червоний 5XL","Більше 10","Одяг для собак",1355.04,1829,0,{"$f":"G186*I186","v":0}]
[null,1111167345,"PR242622","Комбінезон Pet Fashion Cold для собак червоний 6XL","Більше 10","Одяг для собак",1448.52,1955,0,{"$f":"G187*I187","v":0}]
[null,1111167346,"PR242623","Комбінезон Pet Fashion Cold для собак червоний 7XL","Менше 10","Одяг для собак",1529.04,2064,0,{"$f":"G188*I188","v":0}]
[null,1111167335,"PR242612","Комбінезон Pet Fashion Cold для собак червоний L","Більше 10","Одяг для собак",847.74,1144,0,{"$f":"G189*I189","v":0}]
[null,1111167334,"PR242611","Комбінезон Pet Fashion Cold для собак червоний M","Більше 10","Одяг для собак",734.58,992,0,{"$f":"G190*I190","v":0}]
[null,1111167332,"PR242609","Комбінезон Pet Fashion Cold для собак червоний M2","Більше 10","Одяг для собак",780.72,1054,0,{"$f":"G191*I191","v":0}]
[null,1111167333,"PR242610","Комбінезон Pet Fashion Cold для собак червоний ML","Більше 10","Одяг для собак",754.38,1018,0,{"$f":"G192*I192","v":0}]
[null,1111167330,"PR242607","Комбінезон Pet Fashion Cold для собак червоний S","Більше 10","Одяг для собак",616.20000000000005,832,0,{"$f":"G193*I193","v":0}]
[null,1111167331,"PR242608","Комбінезон Pet Fashion Cold для собак червоний SM","Більше 10","Одяг для собак",674.28,910,0,{"$f":"G194*I194","v":0}]
[null,1111167340,"PR242617","Комбінезон Pet Fashion Cold для собак червоний XL","Менше 10","Одяг для собак",858.3,1159,0,{"$f":"G195*I195","v":0}]
[null,1111167329,"PR242606","Комбінезон Pet Fashion Cold для собак червоний XS","Більше 10","Одяг для собак",568.79999999999995,768,0,{"$f":"G196*I196","v":0}]
[null,1111167321,"PR242539","Комбінезон Pet Fashion Cold для такси бірюза M","Більше 10","Одяг для собак",748.32,1010.23,0,{"$f":"G197*I197","v":0}]
[null,1111167319,"PR242537","Комбінезон Pet Fashion Cold для такси бірюза S","Більше 10","Одяг для собак",645.71,871.7,0,{"$f":"G198*I198","v":0}]
[null,1111167320,"PR242538","Комбінезон Pet Fashion Cold для такси бірюза S2","Більше 10","Одяг для собак",717.47,968.59,0,{"$f":"G199*I199","v":0}]
[null,1111167318,"PR242536","Комбінезон Pet Fashion Cold для такси бірюза XS","Більше 10","Одяг для собак",597.54999999999995,806.7,0,{"$f":"G200*I200","v":0}]
[null,1111167339,"PR242616","Комбінезон Pet Fashion Cold для такси червоний M","Більше 10","Одяг для собак",785.76,1061,0,{"$f":"G201*I201","v":0}]
[null,1111167337,"PR242614","Комбінезон Pet Fashion Cold для такси червоний S","Більше 10","Одяг для собак",678,915,0,{"$f":"G202*I202","v":0}]
[null,1111167338,"PR242615","Комбінезон Pet Fashion Cold для такси червоний S2","Більше 10","Одяг для собак",753.36,1017,0,{"$f":"G203*I203","v":0}]
[null,1111167336,"PR242613","Комбінезон Pet Fashion Cold для такси червоний XS","Більше 10","Одяг для собак",627.48,847,0,{"$f":"G204*I204","v":0}]
[null,1111174496,"PR243141*****","Комбінезон Pet Fashion EGO для собак бежевий S2 арт PR243141","Менше 10","Одяг для собак",920.95,1243.28,0,{"$f":"G205*I205","v":0}]
[null,1111159491,"PR241643","Комбінезон Pet Fashion Rain для собак XS","Менше 10","Одяг для собак",351.6,475,0,{"$f":"G206*I206","v":0}]
[null,1111167395,"PR242573","Комбінезон Pet Fashion Rain для собак бірюза 2XL","Менше 10","Одяг для собак",930.84,1257,0,{"$f":"G207*I207","v":0}]
[null,1111167396,"PR242572","Комбінезон Pet Fashion Rain для собак бірюза 3XL","Більше 10","Одяг для собак",944.88,1275.5899999999999,0,{"$f":"G208*I208","v":0}]
[null,1111167397,"PR242556","Комбінезон Pet Fashion Rain для собак бірюза 4XL","Менше 10","Одяг для собак",993.32,1340.98,0,{"$f":"G209*I209","v":0}]
[null,1111167398,"PR242645","Комбінезон Pet Fashion Rain для собак бірюза 5XL","Менше 10","Одяг для собак",1092.06,1474,0,{"$f":"G210*I210","v":0}]
[null,1111167399,"PR242571","Комбінезон Pet Fashion Rain для собак бірюза 6XL","Більше 10","Одяг для собак",1179.5999999999999,1592,0,{"$f":"G211*I211","v":0}]
[null,1111167400,"PR242570","Комбінезон Pet Fashion Rain для собак бірюза 7XL","Менше 10","Одяг для собак",1221.57,1649.11,0,{"$f":"G212*I212","v":0}]
[null,1111167389,"PR242561","Комбінезон Pet Fashion Rain для собак бірюза L","Менше 10","Одяг для собак",689.87,931.32,0,{"$f":"G213*I213","v":0}]
[null,1111167388,"PR242574","Комбінезон Pet Fashion Rain для собак бірюза M","Менше 10","Одяг для собак",592.14,799.4,0,{"$f":"G214*I214","v":0}]
[null,1111167386,"PR242580","Комбінезон Pet Fashion Rain для собак бірюза M2","Менше 10","Одяг для собак",635.66999999999996,858.16,0,{"$f":"G215*I215","v":0}]
[null,1111167387,"PR242560","Комбінезон Pet Fashion Rain для собак бірюза ML","Менше 10","Одяг для собак",646.62,873,0,{"$f":"G216*I216","v":0}]
[null,1111167384,"PR242582","Комбінезон Pet Fashion Rain для собак бірюза S","Менше 10","Одяг для собак",525.12,709,0,{"$f":"G217*I217","v":0}]
[null,1111167385,"PR242581","Комбінезон Pet Fashion Rain для собак бірюза SM","Менше 10","Одяг для собак",587.76,793,0,{"$f":"G218*I218","v":0}]
[null,1111167394,"PR242576","Комбінезон Pet Fashion Rain для собак бірюза XL","Більше 10","Одяг для собак",751.98,1015,0,{"$f":"G219*I219","v":0}]
[null,1111167383,"PR242583","Комбінезон Pet Fashion Rain для собак бірюза XS","Менше 10","Одяг для собак",453.48,612.20000000000005,0,{"$f":"G220*I220","v":0}]
[null,1111167374,"PR242595","Комбінезон Pet Fashion RAIN для собак пород такса сірий S2 артPR242595","Менше 10","Одяг для собак",613.71,828.51,0,{"$f":"G221*I221","v":0}]
[null,1111167372,"PR242598","Комбінезон Pet Fashion RAIN для собак пород такса сірий XS артPR242598","Менше 10","Одяг для собак",557.4,752,0,{"$f":"G222*I222","v":0}]
[null,1111167375,"PR242593","Комбінезон Pet Fashion RAIN для собак породи такса сірий M артPR242593","Менше 10","Одяг для собак",623.17999999999995,841.29,0,{"$f":"G223*I223","v":0}]
[null,1111167373,"PR242644","Комбінезон Pet Fashion RAIN для собак породи такса сірий S артPR242644","Більше 10","Одяг для собак",605.64,818,0,{"$f":"G224*I224","v":0}]
[null,1111167377,"PR242590","Комбінезон Pet Fashion RAIN для собак сірий 2XL артPR242590","Більше 10","Одяг для собак",886.51,1196.79,0,{"$f":"G225*I225","v":0}]
[null,1111167378,"PR242588","Комбінезон Pet Fashion RAIN для собак сірий 3XL артPR242588","Менше 10","Одяг для собак",944.88,1275.5899999999999,0,{"$f":"G226*I226","v":0}]
[null,1111167379,"PR242587","Комбінезон Pet Fashion Rain для собак сірий 4XL","Менше 10","Одяг для собак",993.32,1340.98,0,{"$f":"G227*I227","v":0}]
[null,1111167380,"PR242586","Комбінезон Pet Fashion Rain для собак сірий 5XL","Менше 10","Одяг для собак",1060.2,1431.26,0,{"$f":"G228*I228","v":0}]
[null,1111167381,"PR242585","Комбінезон Pet Fashion RAIN для собак сірий 6XL артPR242585","Більше 10","Одяг для собак",1123.42,1516.62,0,{"$f":"G229*I229","v":0}]
[null,1111167382,"PR242584","Комбінезон Pet Fashion RAIN для собак сірий 7XL артPR242584","Менше 10","Одяг для собак",1221.57,1649.11,0,{"$f":"G230*I230","v":0}]
[null,1111167371,"PR242597","Комбінезон Pet Fashion RAIN для собак сірий L артPR242597","Більше 10","Одяг для собак",689.87,931.32,0,{"$f":"G231*I231","v":0}]
[null,1111167370,"PR242596","Комбінезон Pet Fashion RAIN для собак сірий M артPR242596","Менше 10","Одяг для собак",592.14,799.4,0,{"$f":"G232*I232","v":0}]
[null,1111167368,"PR242592","Комбінезон Pet Fashion Rain для собак сірий M2","Більше 10","Одяг для собак",635.66999999999996,858.16,0,{"$f":"G233*I233","v":0}]
[null,1111167369,"PR242594","Комбінезон Pet Fashion RAIN для собак сірий ML артPR242594","Більше 10","Одяг для собак",615.83000000000004,831.37,0,{"$f":"G234*I234","v":0}]
[null,1111167366,"PR242643","Комбінезон Pet Fashion Rain для собак сірий S","Більше 10","Одяг для собак",500.09,675.12,0,{"$f":"G235*I235","v":0}]
[null,1111167367,"PR242589","Комбінезон Pet Fashion Rain для собак сірий SM","Менше 10","Одяг для собак",587.76,793,0,{"$f":"G236*I236","v":0}]
[null,1111167376,"PR242591","Комбінезон Pet Fashion RAIN для собак сірий XL артPR242591","Менше 10","Одяг для собак",751.98,1015,0,{"$f":"G237*I237","v":0}]
[null,1111167365,"PR242642","Комбінезон Pet Fashion Rain для собак сірий XS","Менше 10","Одяг для собак",453.48,612.20000000000005,0,{"$f":"G238*I238","v":0}]
[null,1111167413,"PR242555","Комбінезон Pet Fashion Rain для собак червоний 2XL","Менше 10","Одяг для собак",1019.52,1376,0,{"$f":"G239*I239","v":0}]
[null,1111167414,"PR242554","Комбінезон Pet Fashion Rain для собак червоний 3XL","Більше 10","Одяг для собак",992.16,1339,0,{"$f":"G240*I240","v":0}]
[null,1111167415,"PR242552","Комбінезон Pet Fashion Rain для собак червоний 4XL","Більше 10","Одяг для собак",1023.12,1381,0,{"$f":"G241*I241","v":0}]
[null,1111167416,"PR242551","Комбінезон Pet Fashion Rain для собак червоний 5XL","Більше 10","Одяг для собак",1060.2,1431.26,0,{"$f":"G242*I242","v":0}]
[null,1111167417,"PR242550","Комбінезон Pet Fashion Rain для собак червоний 6XL","Менше 10","Одяг для собак",1179.5999999999999,1592,0,{"$f":"G243*I243","v":0}]
[null,1111167418,"PR242549","Комбінезон Pet Fashion Rain для собак червоний 7XL","Більше 10","Одяг для собак",1221.57,1649.11,0,{"$f":"G244*I244","v":0}]
[null,1111167407,"PR242563","Комбінезон Pet Fashion Rain для собак червоний L","Менше 10","Одяг для собак",689.87,931.32,0,{"$f":"G245*I245","v":0}]
[null,1111167406,"PR242564","Комбінезон Pet Fashion Rain для собак червоний M","Менше 10","Одяг для собак",592.14,799.4,0,{"$f":"G246*I246","v":0}]
[null,1111167404,"PR242566","Комбінезон Pet Fashion Rain для собак червоний M2","Більше 10","Одяг для собак",667.5,901,0,{"$f":"G247*I247","v":0}]
[null,1111167405,"PR242565","Комбінезон Pet Fashion Rain для собак червоний ML","Менше 10","Одяг для собак",615.83000000000004,831.37,0,{"$f":"G248*I248","v":0}]
[null,1111167402,"PR242568","Комбінезон Pet Fashion Rain для собак червоний S","Менше 10","Одяг для собак",500.09,675.12,0,{"$f":"G249*I249","v":0}]
[null,1111167403,"PR242567","Комбінезон Pet Fashion Rain для собак червоний SM","Менше 10","Одяг для собак",559.74,755.65,0,{"$f":"G250*I250","v":0}]
[null,1111167412,"PR242557","Комбінезон Pet Fashion Rain для собак червоний XL","Менше 10","Одяг для собак",716.14,966.79,0,{"$f":"G251*I251","v":0}]
[null,1111167401,"PR242569","Комбінезон Pet Fashion Rain для собак червоний XS","Менше 10","Одяг для собак",476.16,643,0,{"$f":"G252*I252","v":0}]
[null,1111167391,"PR242579","Комбінезон Pet Fashion Rain для такси бірюза S","Більше 10","Одяг для собак",605.64,818,0,{"$f":"G253*I253","v":0}]
[null,1111167392,"PR242578","Комбінезон Pet Fashion Rain для такси бірюза S2","Більше 10","Одяг для собак",632.16,853,0,{"$f":"G254*I254","v":0}]
[null,1111167411,"PR242558","Комбінезон Pet Fashion Rain для такси червоний M","Менше 10","Одяг для собак",623.17999999999995,841.29,0,{"$f":"G255*I255","v":0}]
[null,1111167409,"PR242562","Комбінезон Pet Fashion Rain для такси червоний S","Більше 10","Одяг для собак",576.78,778.65,0,{"$f":"G256*I256","v":0}]
[null,1111167410,"PR242559","Комбінезон Pet Fashion Rain для такси червоний S2","Більше 10","Одяг для собак",644.4,870,0,{"$f":"G257*I257","v":0}]
[null,1111167408,"PR242553","Комбінезон Pet Fashion Rain для такси червоний XS","Менше 10","Одяг для собак",568.26,767,0,{"$f":"G258*I258","v":0}]
[null,1111182498,"PR243757*****","Комбінезон Сharlie L для собак","Менше 10","Одяг для собак",1342.02,1919,0,{"$f":"G259*I259","v":0}]
[null,1111182499,"PR243760*****","Комбінезон Сharlie М для собак","Менше 10","Одяг для собак",1195.02,1709,0,{"$f":"G260*I260","v":0}]
[null,1111163438,"PR242107*****","Комірець  BRIGHT , S-M","Більше 10","Одяг для собак",137,178,0,{"$f":"G261*I261","v":0}]
[null,1111163439,"PR242106*****","Комірець  BRIGHT , XS-XS2","Більше 10","Одяг для собак",124,161,0,{"$f":"G262*I262","v":0}]
[null,1111167420,"PR242547*****","Комірець BRIGHT S-M","Менше 10","Одяг для собак",153,214,0,{"$f":"G263*I263","v":0}]
[null,1111167421,"PR242546*****","Комірець BRIGHT XS-XS2","Менше 10","Одяг для собак",153.72,216,0,{"$f":"G264*I264","v":0}]
[null,1111174489,"PR243148*****","Костюм  LEAF  зелениий  L","Менше 10","Одяг для собак",859.22,1159.95,0,{"$f":"G265*I265","v":0}]
[null,1111182480,"PR243764*****","Костюм Berry L для собак","Більше 10","Одяг для собак",983.27,1330,0,{"$f":"G266*I266","v":0}]
[null,1111182482,"PR243761*****","Костюм Berry S для собак","Менше 10","Одяг для собак",772.67,1045,0,{"$f":"G267*I267","v":0}]
[null,1111182484,"PR243758*****","Костюм Berry ХS для собак","Менше 10","Одяг для собак",656.02,888,0,{"$f":"G268*I268","v":0}]
[null,1111182483,"PR243759*****","Костюм Berry ХS2 для собак","Більше 10","Одяг для собак",748.58,1013,0,{"$f":"G269*I269","v":0}]
[null,1111174490,"PR243147*****","Костюм LEAF зелений  М","Менше 10","Одяг для собак",778.3,1050.7,0,{"$f":"G270*I270","v":0}]
[null,1111182521,"PR243784*****","Костюм Locky S2 для собак","Менше 10","Одяг для собак",973.02,1392,0,{"$f":"G271*I271","v":0}]
[null,1111182519,"PR243786*****","Костюм Locky М2 для собак","Менше 10","Одяг для собак",1051.98,1504,0,{"$f":"G272*I272","v":0}]
[null,1111182525,"PR243789*****","Костюм Locky ХХS для собак","Менше 10","Одяг для собак",736.98,1054,0,{"$f":"G273*I273","v":0}]
[null,1111168390,"PR242740*****","Костюм Pet Fashion Alf для собак бежевий M арт PR242740","Більше 10","Одяг для собак",647,874,0,{"$f":"G274*I274","v":0}]
[null,1111168389,"PR242739*****","Костюм Pet Fashion Alf для собак бежевий S арт PR242739","Менше 10","Одяг для собак",546,737,0,{"$f":"G275*I275","v":0}]
[null,1111168830,"PR242886*****","Костюм Pet Fashion Judy для собак пудровий M","Менше 10","Одяг для собак",830.86,1121.6600000000001,0,{"$f":"G276*I276","v":0}]
[null,1111174148,"PR242763*****","Костюм Pet Fashion TENDER для собак біло-блакитний M арт PR242763","Менше 10","Одяг для собак",933.24,1259.8800000000001,0,{"$f":"G277*I277","v":0}]
[null,1111174147,"PR242764*****","Костюм Pet Fashion TENDER для собак біло-блакитний S арт PR242764","Менше 10","Одяг для собак",825.06,1113.83,0,{"$f":"G278*I278","v":0}]
[null,1111164689,"PR242215*****","Костюм SPELL  S","Менше 10","Одяг для собак",358,483,0,{"$f":"G279*I279","v":0}]
[null,1111164692,"PR242212*****","Костюм SPELL  XS","Менше 10","Одяг для собак",337,455,0,{"$f":"G280*I280","v":0}]
[null,1111182967,"PR243799*****","Костюм Xmas S для собак","Менше 10",null,446.52,639,0,{"$f":"G281*I281","v":0}]
[null,1111182969,"PR243796*****","Костюм Xmas XS для собак","Менше 10",null,412.92,590,0,{"$f":"G282*I282","v":0}]
[null,1111182968,"PR243797*****","Костюм Xmas XS2 для собак","Менше 10",null,434.64,622,0,{"$f":"G283*I283","v":0}]
[null,1111182966,"PR243801*****","Костюм Xmas М для собак","Більше 10",null,517.86,741,0,{"$f":"G284*I284","v":0}]
[null,1111182486,"PR243755*****","Костюм дівчинка Alisa M для собак","Більше 10","Одяг для собак",1329.72,1799,0,{"$f":"G285*I285","v":0}]
[null,1111182487,"PR243751*****","Костюм дівчинка Alisa S для собак","Менше 10","Одяг для собак",1090.6099999999999,1476,0,{"$f":"G286*I286","v":0}]
[null,1111182489,"PR243747*****","Костюм дівчинка Alisa XS для собак","Більше 10","Одяг для собак",931.41,1260,0,{"$f":"G287*I287","v":0}]
[null,1111182488,"PR243748*****","Костюм дівчинка Alisa XS2 для собак","Більше 10","Одяг для собак",1016.67,1376,0,{"$f":"G288*I288","v":0}]
[null,1111182518,"PR243781*****","Костюм дівчинка Twiddy ХS для собак","Менше 10","Одяг для собак",807,1154,0,{"$f":"G289*I289","v":0}]
[null,1111195187,"PR441488","Лежак BRIG для собак кавовий, 58*48*20","Більше 10","Спальні місця для собак",730.38,986,0,{"$f":"G290*I290","v":0}]
[null,1111166419,"PR242408*****","Лежак Pet Fashion Bond №1 для собак ліловий 60х50х18 см","Менше 10","Спальні місця для собак",1217.77,1643.99,0,{"$f":"G291*I291","v":0}]
[null,1111166421,"PR242406","Лежак Pet Fashion Bond №1 для собак сірий 60х50х18 см","Менше 10","Спальні місця для собак",1278.6600000000001,1726,0,{"$f":"G292*I292","v":0}]
[null,1111166420,"PR242407*****","Лежак Pet Fashion Bond №2 для собак ліловий 78х60х20 см","Більше 10","Спальні місця для собак",1675.76,2262.2800000000002,0,{"$f":"G293*I293","v":0}]
[null,1111160858,"PR241767","Лежак Pet Fashion Bosphorus 1 для собак 60х53х18 см","Менше 10","Спальні місця для собак",854.52,1153.5999999999999,0,{"$f":"G294*I294","v":0}]
[null,1111160859,"PR241766","Лежак Pet Fashion Bosphorus 2 для собак 82х65х18 см","Менше 10","Спальні місця для собак",1335.41,1802.8,0,{"$f":"G295*I295","v":0}]
[null,1111160860,"PR241765","Лежак Pet Fashion Bosphorus 3 для собак 95х78х24 см","Більше 10","Спальні місця для собак",2003.88,2705,0,{"$f":"G296*I296","v":0}]
[null,1111171996,"PR243006","Лежак Pet Fashion Denver №2 для собак сірий 78х60х20 см","Більше 10","Спальні місця для собак",1481.52,2000,0,{"$f":"G297*I297","v":0}]
[null,1111164245,"PR242135","Лежак Pet Fashion Molly №1 для собак і котів пісочний 52х40х17 см","Більше 10","Спальні місця для собак",953.28,1287,0,{"$f":"G298*I298","v":0}]
[null,1111164247,"PR242133","Лежак Pet Fashion Molly №1 для собак і котів фіолетовий 52х40х17 см","Більше 10","Спальні місця для собак",953.28,1287,0,{"$f":"G299*I299","v":0}]
[null,1111164246,"PR242134","Лежак Pet Fashion Molly №2 для собак і котів пісочний 62х50х19 см","Менше 10","Спальні місця для собак",1196.46,1615,0,{"$f":"G300*I300","v":0}]
[null,1111164248,"PR242132","Лежак Pet Fashion Molly №2 для собак і котів фіолетовий 62х50х19 см","Менше 10","Спальні місця для собак",1196.46,1615,0,{"$f":"G301*I301","v":0}]
[null,1111160863,"PR241757*****","Лежак Pet Fashion Prime для собак 66х52х24 см","Більше 10","Спальні місця для собак",1516,2047,0,{"$f":"G302*I302","v":0}]
[null,1111160861,"PR241760*****","Лежак Pet Fashion Simon 1 для собак 52х42х18 см","Менше 10","Спальні місця для собак",996.56,1345.36,0,{"$f":"G303*I303","v":0}]
[null,1111160862,"PR241759*****","Лежак Pet Fashion Simon 2 для собак 66х54х20 см","Менше 10","Спальні місця для собак",1468.93,1983.06,0,{"$f":"G304*I304","v":0}]
[null,1111160997,"PR241789","Лежак Pet Fashion Soft для собак і котів сірий 48х48х17 см","Більше 10","Спальні місця для собак",916.5,1237,0,{"$f":"G305*I305","v":0}]
[null,1111160975,"PR241788","Лежак SOFT  (48*48*17) рожевий","Більше 10","Спальні місця для собак",829.26,1120,0,{"$f":"G306*I306","v":0}]
[null,9136,"PR240115*****","Намордник Природа №2 для пуделя м_який","Менше 10","Амуніція для собак",78.36,110,0,{"$f":"G307*I307","v":0}]
[null,8938,"PR240117*****","Намордник Природа №4 для дога м_який","Менше 10","Амуніція для собак",87.96,123,0,{"$f":"G308*I308","v":0}]
[null,8939,"PR240118*****","Намордник Природа №5 для ротвейлера м_який","Менше 10","Амуніція для собак",91.92,129,0,{"$f":"G309*I309","v":0}]
[null,1111195204,"PR441419*****","Панама Pet Fashion Rob для соб бавовна фіксатор бірюз ХL арт PR441419","Більше 10","Одяг для собак",391.32,559,0,{"$f":"G310*I310","v":0}]
[null,1111195190,"PR441334","Плед Pet Fashion Bliss 1 для соб і кот карт 70,5х55,5 см арт PR441334","Менше 10","Спальні місця для собак",283.7,339,0,{"$f":"G311*I311","v":0}]
[null,1111195188,"PR441396","Плед Pet Fashion Bliss 1 для соб і кот пудра 86х67,5 см арт PR441396","Менше 10","Спальні місця для собак",326.45,399,0,{"$f":"G312*I312","v":0}]
[null,1111161844,"PR241904*****","Плед Pet Fashion Bliss 1 для собак і котів м_ята 77х60 см","Менше 10","Спальні місця для собак",333.77,451,0,{"$f":"G313*I313","v":0}]
[null,1111195191,"PR441310","Плед Pet Fashion Bliss 2 для соб і кот карт 70,5х94 см арт PR441310","Менше 10","Спальні місця для собак",387.8,469,0,{"$f":"G314*I314","v":0}]
[null,1111195189,"PR441358","Плед Pet Fashion Bliss 2 для соб і кот пудра 68х114,6 см арт PR441358","Більше 10","Спальні місця для собак",435.3,519,0,{"$f":"G315*I315","v":0}]
[null,1111176044,"PR243291","Попона Pet Fashion Roy для собак малиновий/сірий 2XL","Більше 10","Одяг для собак",701.32,946.78,0,{"$f":"G316*I316","v":0}]
[null,1111176045,"PR243290","Попона Pet Fashion Roy для собак малиновий/сірий 3XL","Більше 10","Одяг для собак",751.46,1014.47,0,{"$f":"G317*I317","v":0}]
[null,1111176046,"PR243289","Попона Pet Fashion Roy для собак малиновий/сірий 4XL","Більше 10","Одяг для собак",845.53,1141.46,0,{"$f":"G318*I318","v":0}]
[null,1111176047,"PR243288","Попона Pet Fashion Roy для собак малиновий/сірий 5XL","Більше 10","Одяг для собак",885.95,1196.03,0,{"$f":"G319*I319","v":0}]
[null,1111176048,"PR243287","Попона Pet Fashion Roy для собак малиновий/сірий 6XL","Більше 10","Одяг для собак",1078.2,1456,0,{"$f":"G320*I320","v":0}]
[null,1111176049,"PR243286","Попона Pet Fashion Roy для собак малиновий/сірий 7XL","Більше 10","Одяг для собак",1132.8900000000001,1529.4,0,{"$f":"G321*I321","v":0}]
[null,1111176043,"PR243292","Попона Pet Fashion Roy для собак малиновий/сірий XL","Більше 10","Одяг для собак",652.45000000000005,880.81,0,{"$f":"G322*I322","v":0}]
[null,1111176051,"PR243284","Попона Pet Fashion Roy для собак хакі/гірчиця 2XL","Більше 10","Одяг для собак",736.44,994,0,{"$f":"G323*I323","v":0}]
[null,1111176052,"PR243283","Попона Pet Fashion Roy для собак хакі/гірчиця 3XL","Менше 10","Одяг для собак",804.06,1085,0,{"$f":"G324*I324","v":0}]
[null,1111176053,"PR243282","Попона Pet Fashion Roy для собак хакі/гірчиця 4XL","Менше 10","Одяг для собак",845.53,1141.46,0,{"$f":"G325*I325","v":0}]
[null,1111176054,"PR243281","Попона Pet Fashion Roy для собак хакі/гірчиця 5XL","Менше 10","Одяг для собак",930.3,1256,0,{"$f":"G326*I326","v":0}]
[null,1111176055,"PR243280","Попона Pet Fashion Roy для собак хакі/гірчиця 6XL","Більше 10","Одяг для собак",1026.8599999999999,1386.25,0,{"$f":"G327*I327","v":0}]
[null,1111176056,"PR243279","Попона Pet Fashion Roy для собак хакі/гірчиця 7 XL","Більше 10","Одяг для собак",1132.8900000000001,1529.4,0,{"$f":"G328*I328","v":0}]
[null,1111176050,"PR243285","Попона Pet Fashion Roy для собак хакі/гірчиця XL","Менше 10","Одяг для собак",685.08,925,0,{"$f":"G329*I329","v":0}]
[null,1111181939,"PR243605*****","Светр Fur  S","Більше 10","Одяг для собак",330,446,0,{"$f":"G330*I330","v":0}]
[null,1111181938,"PR243606*****","Светр Fur  М","Більше 10","Одяг для собак",389,525,0,{"$f":"G331*I331","v":0}]
[null,1111181937,"PR243607*****","Светр Fur L","Більше 10","Одяг для собак",422,570,0,{"$f":"G332*I332","v":0}]
[null,1111181931,"PR243613*****","Светр Happy L","Більше 10","Одяг для собак",643,868,0,{"$f":"G333*I333","v":0}]
[null,1111181932,"PR243612*****","Светр Happy M","Менше 10","Одяг для собак",633,854,0,{"$f":"G334*I334","v":0}]
[null,1111181933,"PR243611*****","Светр Happy S","Більше 10","Одяг для собак",564,762,0,{"$f":"G335*I335","v":0}]
[null,1111181930,"PR243614*****","Светр Happy XL","Більше 10","Одяг для собак",663,896,0,{"$f":"G336*I336","v":0}]
[null,1111181935,"PR243609*****","Светр Happy XS","Менше 10","Одяг для собак",535,723,0,{"$f":"G337*I337","v":0}]
[null,1111181934,"PR243610*****","Светр Happy XS2","Менше 10","Одяг для собак",554,748,0,{"$f":"G338*I338","v":0}]
[null,1111181936,"PR243608*****","Светр Happy XXS","Менше 10","Одяг для собак",525,709,0,{"$f":"G339*I339","v":0}]
[null,1111181944,"PR243600*****","Светр для кота Tim  S","Більше 10","Одяг і аксесуари для котів",299,403,0,{"$f":"G340*I340","v":0}]
[null,1111181943,"PR243601*****","Светр для кота Tim  М","Більше 10","Одяг і аксесуари для котів",317,428,0,{"$f":"G341*I341","v":0}]
[null,1111181942,"PR243602*****","Светр для кота Tim L","Більше 10","Одяг і аксесуари для котів",322,434,0,{"$f":"G342*I342","v":0}]
[null,1111182971,"PR243792*****","Светр плетений Winter L для собак","Більше 10",null,569.46,814,0,{"$f":"G343*I343","v":0}]
[null,1111182972,"PR243793*****","Светр плетений Winter M для собак","Менше 10",null,559.86,801,0,{"$f":"G344*I344","v":0}]
[null,1111182973,"PR243794*****","Светр плетений Winter S для собак","Менше 10",null,491.94,703,0,{"$f":"G345*I345","v":0}]
[null,1111182975,"PR243800*****","Светр плетений Winter XS для собак","Менше 10",null,470.34,673,0,{"$f":"G346*I346","v":0}]
[null,1111182974,"PR243798*****","Светр плетений Winter XS2 для собак","Менше 10",null,482.34,690,0,{"$f":"G347*I347","v":0}]
[null,1111182970,"PR243795*****","Светр плетений Winter ХL для собак","Менше 10",null,583.86,835,0,{"$f":"G348*I348","v":0}]
[null,1111159520,"Ститч XS*****","Сорочка  Стітч  XS","Більше 10","Одяг для собак",178.47,240.93,0,{"$f":"G349*I349","v":0}]
[null,1111159519,"Феникс XS*****","Сорочка  Фенікс  XS","Більше 10","Одяг для собак",212.46,287,0,{"$f":"G350*I350","v":0}]
[null,1111176063,"PR243272*****","Сумка-переноска Pet Fashion Linen для собак 38х32х22 см","Менше 10","Сумки, переноски та посуд для подорожей з собаками",1054.5899999999999,1423.69,0,{"$f":"G351*I351","v":0}]
[null,1111162539,"PR241974","Сумка-переноска Pet Fashion Vesta для собак і котів 38х22х22 см","Більше 10","Сумки, переноски та посуд для подорожей з собаками",1125.5999999999999,1519.56,0,{"$f":"G352*I352","v":0}]
[null,1111182985,"PR243811*****","Толстовка Halloween  XS для собак","Менше 10",null,259.8,372,0,{"$f":"G353*I353","v":0}]
[null,1111182982,"PR243808*****","Толстовка Halloween  М для собак","Менше 10",null,349.92,500,0,{"$f":"G354*I354","v":0}]
[null,1111182983,"PR243810*****","Толстовка Halloween S для собак","Менше 10",null,303.54000000000002,434,0,{"$f":"G355*I355","v":0}]
[null,1111182984,"PR243809*****","Толстовка Halloween XS2  для собак","Менше 10",null,298.8,427,0,{"$f":"G356*I356","v":0}]
[null,1111172179,"PR243030*****","Толстовка Pet Fashion Bim для собак S","Менше 10","Одяг для собак",409.79,553.21,0,{"$f":"G357*I357","v":0}]
[null,1111171974,"PR243028*****","Толстовка Pet Fashion Bim для собак XS","Менше 10","Одяг для собак",374.39,505.42,0,{"$f":"G358*I358","v":0}]
[null,1111172178,"PR243031*****","Толстовка Pet Fashion BIM для собак сіро-рожева М арт PR243031","Менше 10","Одяг для собак",450.13,607.66999999999996,0,{"$f":"G359*I359","v":0}]
[null,1111179001,"PR243473*****","Толстовка Pet Fashion Miley коричнева M артPR243473","Менше 10","Одяг для собак",448,605,0,{"$f":"G360*I360","v":0}]
[null,1111182979,"PR243804*****","Толстовка Tinsel  XS для собак","Менше 10",null,348.72,499,0,{"$f":"G361*I361","v":0}]
[null,1111182976,"PR243802*****","Толстовка Tinsel  М для собак","Менше 10",null,445.14,637,0,{"$f":"G362*I362","v":0}]
[null,1111182977,"PR243807*****","Толстовка Tinsel S для собак","Менше 10",null,404.28,578,0,{"$f":"G363*I363","v":0}]
[null,1111182978,"PR243803*****","Толстовка Tinsel XS2 для собак","Менше 10",null,386.1,552,0,{"$f":"G364*I364","v":0}]
[null,1111178747,"PR243436*****","Футбока Rose S девочка","Більше 10","Одяг для собак",273,369,0,{"$f":"G365*I365","v":0}]
[null,1111178748,"PR243435*****","Футбока Rose XS2 дівчинка","Менше 10","Одяг для собак",259,350,0,{"$f":"G366*I366","v":0}]
[null,1111172859,"PR243046*****","Футболка Ivanko M2","Менше 10","Одяг для собак",288,388.33,0,{"$f":"G367*I367","v":0}]
[null,1111195213,"PR441495*****","Футболка Pet Fashion Flora для соб трикот біл з квітк XS арт PR441495","Більше 10","Одяг для собак",307.32,439,0,{"$f":"G368*I368","v":0}]
[null,1111195212,"PR441518*****","Футболка Pet Fashion Flora для соб трикот біл з квітк XS2 арт PR441518","Більше 10","Одяг для собак",328.32,469,0,{"$f":"G369*I369","v":0}]
[null,1111195214,"PR441501*****","Футболка Pet Fashion Flora для соб трикот біл з квітк XХS арт PR441501","Більше 10","Одяг для собак",279.3,399,0,{"$f":"G370*I370","v":0}]
[null,1111195209,"PR441457*****","Футболка Pet Fashion Flora для соб трикотаж біл з квітк L арт PR441457","Більше 10","Одяг для собак",363.3,519,0,{"$f":"G371*I371","v":0}]
[null,1111195211,"PR441525*****","Футболка Pet Fashion Flora для соб трикотаж біл з квітк S арт PR441525","Більше 10","Одяг для собак",342.3,489,0,{"$f":"G372*I372","v":0}]
[null,1111195210,"PR441471*****","Футболка Pet Fashion Flora для соб трикотаж біл з квітк М арт PR441457","Більше 10","Одяг для собак",349.32,499,0,{"$f":"G373*I373","v":0}]
[null,1111195194,"PR441259*****","Футболка Pet Fashion Jessica трикотаж жов S арт PR441259","Більше 10","Одяг для собак",342.3,489,0,{"$f":"G374*I374","v":0}]
[null,1111195195,"PR441273*****","Футболка Pet Fashion Jessica трикотаж жов XS2 арт PR441273","Менше 10","Одяг для собак",328.32,469,0,{"$f":"G375*I375","v":0}]
[null,1111195192,"PR441280*****","Футболка Pet Fashion Jessica трикотаж жовт L арт PR441280","Менше 10","Одяг для собак",363.3,519,0,{"$f":"G376*I376","v":0}]
[null,1111195198,"PR441327*****","Футболка Pet Fashion Oscar для собак трикотаж блакит L арт PR441327","Більше 10","Одяг для собак",363.3,519,0,{"$f":"G377*I377","v":0}]
[null,1111195200,"PR441365*****","Футболка Pet Fashion Oscar для собак трикотаж блакит S арт PR441365","Більше 10","Одяг для собак",342.3,489,0,{"$f":"G378*I378","v":0}]
[null,1111195202,"PR441389*****","Футболка Pet Fashion Oscar для собак трикотаж блакит XS арт PR441389","Більше 10","Одяг для собак",307.32,439,0,{"$f":"G379*I379","v":0}]
[null,1111195201,"PR441372*****","Футболка Pet Fashion Oscar для собак трикотаж блакит XS2 арт PR441372","Більше 10","Одяг для собак",328.32,469,0,{"$f":"G380*I380","v":0}]
[null,1111195203,"PR441402*****","Футболка Pet Fashion Oscar для собак трикотаж блакит XХS PR41402","Менше 10","Одяг для собак",279.3,399,0,{"$f":"G381*I381","v":0}]
[null,1111195199,"PR441341*****","Футболка Pet Fashion Oscar для собак трикотаж блакит М арт PR441341","Більше 10","Одяг для собак",349.32,499,0,{"$f":"G382*I382","v":0}]
[null,1111180572,"PR243499*****","Худі Home М дівчинка","Більше 10","Одяг для собак",473,638,0,{"$f":"G383*I383","v":0}]
[null,1111165365,"PR242336","Худі Pet Fashion Snoodie для собак сіра M","Більше 10","Одяг для собак",571.74,771.86,0,{"$f":"G384*I384","v":0}]
[null,1111165367,"PR242333","Худі Pet Fashion Snoodie для собак сіра S","Менше 10","Одяг для собак",531.86,718.01,0,{"$f":"G385*I385","v":0}]
[null,1111165368,"PR242334","Худі Pet Fashion Snoodie для собак сіра SM","Більше 10","Одяг для собак",574.44000000000005,775,0,{"$f":"G386*I386","v":0}]
[null,1111165357,"PR242340","Худі Pet Fashion Snoodie для собак червона M","Більше 10","Одяг для собак",600.36,810,0,{"$f":"G387*I387","v":0}]
[null,1111165358,"PR242339","Худі Pet Fashion Snoodie для собак червона M2","Менше 10","Одяг для собак",637.15,860.15,0,{"$f":"G388*I388","v":0}]
[null,1111165359,"PR242337","Худі Pet Fashion Snoodie для собак червона S","Менше 10","Одяг для собак",553.14,747,0,{"$f":"G389*I389","v":0}]
[null,1111165360,"PR242338","Худі Pet Fashion Snoodie для собак червона SM","Більше 10","Одяг для собак",568.98,768,0,{"$f":"G390*I390","v":0}]
[null,1111165361,"PR242344","Худі Pet Fashion Snoodie для собак чорна M","Менше 10","Одяг для собак",600.36,810,0,{"$f":"G391*I391","v":0}]
[null,1111165363,"PR242341","Худі Pet Fashion Snoodie для собак чорна S","Більше 10","Одяг для собак",558.48,754,0,{"$f":"G392*I392","v":0}]
[null,1111165364,"PR242342","Худі Pet Fashion Snoodie для собак чорна SM","Менше 10","Одяг для собак",563.52,761,0,{"$f":"G393*I393","v":0}]
[null,1111165277,"PR242319*****","Шапка  PARTY  зима S","Більше 10","Одяг для собак",204.37,275.91000000000003,0,{"$f":"G394*I394","v":0}]
[null,1111165278,"PR242318*****","Шапка  PARTY  зима XS","Більше 10","Одяг для собак",200.09,270.12,0,{"$f":"G395*I395","v":0}]
[null,1111165971,"PR242357*****","Шарф Pet Fashion Happy для собак M-XL","Більше 10","Одяг для собак",163.91,221.28,0,{"$f":"G396*I396","v":0}]
[null,1111165972,"PR242356*****","Шарф Pet Fashion Happy для собак XS-S","Більше 10","Одяг для собак",154.6,208.72,0,{"$f":"G397*I397","v":0}]
[null,1111197866,"PR 441716*****","Шлея Monika ТМ Pet Fashion для собак S, лен","Більше 10","Одяг для собак",510.3,729,0,{"$f":"G398*I398","v":0}]
[null,1111197868,"PR 441686*****","Шлея Monika ТМ Pet Fashion для собак XS, лен","Більше 10","Одяг для собак",440.34,629,0,{"$f":"G399*I399","v":0}]
[null,1111197867,"PR 441693*****","Шлея Monika ТМ Pet Fashion для собак XS2, лен","Більше 10","Одяг для собак",475.32,679,0,{"$f":"G400*I400","v":0}]
[null,1111197869,"PR 441679*****","Шлея Monika ТМ Pet Fashion для собак ХXS, льон","Більше 10","Одяг для собак",405.3,579,0,{"$f":"G401*I401","v":0}]
[null,1111197872,"PR 441624*****","Шлея Ross ТМ Pet Fashion для собак  XS, льон","Більше 10","Одяг для собак",440.34,629,0,{"$f":"G402*I402","v":0}]
[null,1111197873,"PR 441617*****","Шлея Ross ТМ Pet Fashion для собак  ХXS, льон","Більше 10","Одяг для собак",405.3,579,0,{"$f":"G403*I403","v":0}]
[null,1111197870,"PR 441655*****","Шлея Ross ТМ Pet Fashion для собак S, льон","Більше 10","Одяг для собак",503.34,719,0,{"$f":"G404*I404","v":0}]
[null,1111197871,"PR 441648*****","Шлея Ross ТМ Pet Fashion для собак XS2, льон","Більше 10","Одяг для собак",475.32,679,0,{"$f":"G405*I405","v":0}]
[null,1111178742,"PR243441*****","Шлея-костюм Patrik S","Менше 10","Одяг для собак",466,628,0,{"$f":"G406*I406","v":0}]

{"sheet":"PROFILINE","index":45,"n_rows":8,"n_cols":10,"rows_kept":8,"cut":false,"hidden":false,"merged":[]}
[]
[null,null,null,null,null,null,"suziria.ua"]
[null,null,null,null,null,null,"0 800 21 82 99"]
[null,null,null,null,null,null,"feedback@suziria.ua"]
[]
["Зображення","Код","Артикул","Номенклатура","Наявність","Категорія","Ціна опт.","Ціна РРЦ","Замовлення, шт.","Сума, грн."]
[null,null,null,null,null,null,null,null,null,{"$f":"СУММ(J8:J8)","v":{"$error":"#NAME?"}}]
[null,1111180401,"PR243475","Краплі Provet PROFILINE KІП КАЛМ для котів та собак 10мл","Більше 100","Корекція поведінки для котів",108.24,153,0,{"$f":"G8*I8","v":0}]

{"sheet":"Profine","index":46,"n_rows":16,"n_cols":10,"rows_kept":16,"cut":false,"hidden":false,"merged":[]}
[]
[null,null,null,null,null,null,"suziria.ua"]
[null,null,null,null,null,null,"0 800 21 82 99"]
[null,null,null,null,null,null,"feedback@suziria.ua"]
[]
["Зображення","Код","Артикул","Номенклатура","Наявність","Категорія","Ціна опт.","Ціна РРЦ","Замовлення, шт.","Сума, грн."]
[null,null,null,null,null,null,null,null,null,{"$f":"СУММ(J8:J16)","v":{"$error":"#NAME?"}}]
[null,1111145713,"170572/7763*****","Profine Cat Derma д/довгошерстих котів з лососем і рисом 2 кг","Менше 10","Корм сухий для котів",486.48,633,0,{"$f":"G8*I8","v":0}]
[null,1111145717,"170569/7732*****","Profine Cat Indoor д/котів, що живуть у приміщенні, ягня/рис 2кг","Менше 10","Корм сухий для котів",530.88,692,0,{"$f":"G9*I9","v":0}]
[null,1111145721,"170575/7794*****","Profine Cat Light д/котів з надмірною вагою з індичкою та рисом 2 кг","Більше 10","Корм сухий для котів",471.72,615,0,{"$f":"G10*I10","v":0}]
[null,1111145724,"170565/7695*****","Profine Cat Original Adult д/котів усіх порід з куркою та рисом 300 г","Більше 10","Корм сухий для котів",110.1,145,0,{"$f":"G11*I11","v":0}]
[null,1111145729,"170563/7671*****","Profine Cat Sterilised д/стерилізованих котів з куркою та рисом 2 кг","Менше 10","Корм сухий для котів",486.48,633,0,{"$f":"G12*I12","v":0}]
[null,1111145727,"170562/7664*****","Profine Cat Sterilised д/стерилізованих котів з куркою та рисом 300 г","Більше 10","Корм сухий для котів",116.52,152,0,{"$f":"G13*I13","v":0}]
[null,1111150394,"100813/100010/4051*****","Profine Dog k консерви д/собак з куркою та курячою печінкою 400г","Більше 100","Корм вологий для собак",127.62,167,0,{"$f":"G14*I14","v":0}]
[null,1111150393,"100812/100008/4037*****","Profine Dog k консерви д/собак з яловичиною та яловичою печінкою 400г","Немає в наявності","Корм вологий для собак",127.62,167,0,{"$f":"G15*I15","v":0}]
[null,1111150397,"100816/100016/4112*****","Profine Dog k консерви для собак з олениною та куркою 400 г","Немає в наявності","Корм вологий для собак",127.62,167,0,{"$f":"G16*I16","v":0}]

{"sheet":"ProVET","index":47,"n_rows":57,"n_cols":10,"rows_kept":57,"cut":false,"hidden":false,"merged":[]}
[]
[null,null,null,null,null,null,"suziria.ua"]
[null,null,null,null,null,null,"0 800 21 82 99"]
[null,null,null,null,null,null,"feedback@suziria.ua"]
[]
["Зображення","Код","Артикул","Номенклатура","Наявність","Категорія","Ціна опт.","Ціна РРЦ","Замовлення, шт.","Сума, грн."]
[null,null,null,null,null,null,null,null,null,{"$f":"СУММ(J8:J57)","v":{"$error":"#NAME?"}}]
[null,1111175204,"PR243159","Вітаміни Provet PROFILINE д/котів ГАГ комплекс суглоби/зв_язки 180таб","Більше 10","Вітаміни для котів",225.3,315,0,{"$f":"G8*I8","v":0}]
[null,1111175196,"PR243167","Вітаміни Provet PROFILINE д/котів УРІНАРІ КОМПЛ сечовивід/сист 180таб","Більше 10","Вітаміни для котів",210.54,294,0,{"$f":"G9*I9","v":0}]
[null,1111175200,"PR243163","Вітаміни Provet PROFILINE д/кошен вагіт/лакт котів комплекс 180таб","Більше 10","Вітаміни для котів",162.18,227,0,{"$f":"G10*I10","v":0}]
[null,1111175197,"PR243166","Вітаміни Provet PROFILINE д/собак ВІТАЛІТІ комплекс протиалерг 100таб","Більше 10","Вітаміни для собак",193.74,271,0,{"$f":"G11*I11","v":0}]
[null,1111175198,"PR243165","Вітаміни Provet PROFILINE д/собак ГАГ комплекс суглоби/зв_язки 100таб","Більше 10","Вітаміни для собак",233.7,327,0,{"$f":"G12*I12","v":0}]
[null,1111175199,"PR243164","Вітаміни Provet PROFILINE д/собак КАЛЬЦІЙ комплекс кістки/зуби 100таб","Більше 10","Вітаміни для собак",176.88,247,0,{"$f":"G13*I13","v":0}]
[null,1111175194,"PR243169","Вітаміни Provet PROFILINE д/собак МАКСІ комплекс сер/вел/пород 100таб","Більше 10","Вітаміни для собак",214.74,300,0,{"$f":"G14*I14","v":0}]
[null,1111175195,"PR243168","Вітаміни Provet PROFILINE д/собак МІНІ комплекс дрібних порід 100таб","Більше 10","Вітаміни для собак",212.64,297,0,{"$f":"G15*I15","v":0}]
[null,1111175203,"PR243160","Вітаміни Provet PROFILINE для котів АКТИВ комплекс для шерсті 180таб","Більше 10","Вітаміни для котів",216.9,303,0,{"$f":"G16*I16","v":0}]
[null,1111175202,"PR243161","Вітаміни Provet PROFILINE для котів БІОТИН комплекс для шерсті 180таб","Більше 10","Вітаміни для котів",170.58,238,0,{"$f":"G17*I17","v":0}]
[null,1111175193,"PR243170","Вітаміни Provet PROFILINE для котів ТАУРИН комплекс 180таб","Більше 10","Вітаміни для котів",162.18,227,0,{"$f":"G18*I18","v":0}]
[null,1111175201,"PR243162","Вітаміни Provet PROFILINE для собак БІОТИН комплекс для шерсті 100таб","Більше 10","Вітаміни для собак",181.08,253,0,{"$f":"G19*I19","v":0}]
[null,1111175173,"PR243111","Краплі Provet PROFILINE д/котів до 4кг інсектоакарицид 4піпет по 0,5мл","Більше 100","Антипаразитарні препарати для котів",191.34,268,0,{"$f":"G20*I20","v":0}]
[null,1111175177,"PR243103","Краплі Provet PROFILINE д/собак 10-20кг інсектоакарицид4 піпет по 2мл","Більше 100","Антипаразитарні препарати для собак",272.16000000000003,381,0,{"$f":"G21*I21","v":0}]
[null,1111175183,"PR243106","Краплі Provet PROFILINE д/собак 20-40кг інсектоакарицид 1піпет 3мл","Більше 100","Антипаразитарні препарати для собак",116.46,163,0,{"$f":"G22*I22","v":0}]
[null,1111175178,"PR243102","Краплі Provet PROFILINE д/собак 20-40кг інсектоакарицид 4 піпет по 3мл","Більше 100","Антипаразитарні препарати для собак",334.08,467,0,{"$f":"G23*I23","v":0}]
[null,1111175176,"PR243104","Краплі Provet PROFILINE д/собак 4-10кг інсектоакарицид 4 піпет по 1мл","Більше 100","Антипаразитарні препарати для собак",217.14,304,0,{"$f":"G24*I24","v":0}]
[null,1111175175,"PR243105","Краплі Provet PROFILINE д/собак до 4кг інсектоакарицид 4піпет по 0,5мл","Більше 100","Антипаразитарні препарати для собак",194.22,272,0,{"$f":"G25*I25","v":0}]
[null,1111175179,"PR243112","Краплі Provet PROFILINE для котів 4-8кг інсектоакарицид 1піпет 1мл","Більше 100","Антипаразитарні препарати для котів",67.14,94,0,{"$f":"G26*I26","v":0}]
[null,1111175174,"PR243110","Краплі Provet PROFILINE для котів 4-8кг інсектоакарицид 4 піпет по 1мл","Більше 100","Антипаразитарні препарати для котів",210.24,294,0,{"$f":"G27*I27","v":0}]
[null,1111175180,"PR243113","Краплі Provet PROFILINE для котів до 4кг інсектоакарицид 1піпет 0,5мл","Більше 100","Антипаразитарні препарати для котів",56.82,80,0,{"$f":"G28*I28","v":0}]
[null,1111175182,"PR243107","Краплі Provet PROFILINE для собак 10-20кг інсектоакарицид1піпет 2мл","Більше 100","Антипаразитарні препарати для собак",92.04,129,0,{"$f":"G29*I29","v":0}]
[null,1111175184,"PR243108","Краплі Provet PROFILINE для собак 4-10кг інсектоакарицид 1піпет 1мл","Більше 100","Антипаразитарні препарати для собак",67.14,94,0,{"$f":"G30*I30","v":0}]
[null,1111175181,"PR243109","Краплі Provet PROFILINE для собак до 4кг інсектоакарицид 1піпет 0,5мл","Більше 10","Антипаразитарні препарати для собак",58.56,82,0,{"$f":"G31*I31","v":0}]
[null,1111190960,"PR244010","Лосьйон Provet SOFTVET для гігієни вух котів і собак 15мл","Більше 100","Догляд та гігієна для собак",51.96,73,0,{"$f":"G32*I32","v":0}]
[null,1111190962,"PR244007","Лосьйон Provet SOFTVET для гігієни очей котів і собак 15мл","Більше 100","Догляд та гігієна для собак",51.96,73,0,{"$f":"G33*I33","v":0}]
[null,1111190964,"PR244017","Лосьйон Provet SOFTVET для гігієни очей котів і собак 300мл","Більше 10","Догляд та гігієна для собак",159.30000000000001,223,0,{"$f":"G34*I34","v":0}]
[null,1111190963,"PR244008","Лосьйон Provet SOFTVETдля гігієни очей котів і собак 30мл","Більше 100","Догляд та гігієна для собак",76.08,107,0,{"$f":"G35*I35","v":0}]
[null,1111175186,"PR243096","Нашийник Provet PROFILINE д/котів і собак інсектоакарицид корал 35 см","Більше 100","Антипаразитарні препарати для собак",105.72,148,0,{"$f":"G36*I36","v":0}]
[null,1111175187,"PR243095","Нашийник Provet PROFILINE д/котів і собак інсектоакарицид фуксія 35см","Більше 100","Антипаразитарні препарати для собак",105.72,148,0,{"$f":"G37*I37","v":0}]
[null,1111175185,"PR243097","Нашийник Provet PROFILINE д/котів/собак інсектоакарицид зелений 35 см","Більше 100","Антипаразитарні препарати для собак",105.72,148,0,{"$f":"G38*I38","v":0}]
[null,1111175188,"PR243094","Нашийник Provet PROFILINE д/котів/собак інсектоакарицид фіолет 35 см","Більше 100","Антипаразитарні препарати для собак",105.72,148,0,{"$f":"G39*I39","v":0}]
[null,1111175192,"PR243098","Нашийник Provet PROFILINE д/собак вел/порід інсектоакарицид фіол70 см","Більше 10","Антипаразитарні препарати для собак",134.52000000000001,188,0,{"$f":"G40*I40","v":0}]
[null,1111175190,"PR243100","Нашийник Provet PROFILINE д/собак д/великих порід інсектоакарицид 70см","Більше 10","Антипаразитарні препарати для собак",134.52000000000001,188,0,{"$f":"G41*I41","v":0}]
[null,1111175191,"PR243099","Нашийник Provet PROFILINE д/собак д/великих порід інсектоакарицид 70см","Більше 10","Антипаразитарні препарати для собак",134.52000000000001,188,0,{"$f":"G42*I42","v":0}]
[null,1111193676,"PR244115","Нашийник Provet SOFTVET БІО для котів та собак дрібних порід репелентн","Більше 100","Антипаразитарні препарати для котів",35.700000000000003,51,0,{"$f":"G43*I43","v":0}]
[null,1111193678,"PR244116","Нашийник Provet SOFTVET для котів та собак дрібних порід заспокійливий","Більше 10","Антипаразитарні препарати для котів",95.4,134,0,{"$f":"G44*I44","v":0}]
[null,1111193680,"PR244120","Нашийник Provet SOFTVET для котів та собак дрібних порід репелентний","Більше 100",null,95.94,134,0,{"$f":"G45*I45","v":0}]
[null,1111175206,"PR243086","Спрей Provet PROFILINE для котів та собак інсектоакарицид 30мл","Більше 10","Антипаразитарні препарати для котів",86.82,122,0,{"$f":"G46*I46","v":0}]
[null,1111190966,"PR244014","Спрей Provet SOFTVET відлякувач від місць не призначених для туалету д","Більше 100",null,131.69999999999999,184,0,{"$f":"G47*I47","v":0}]
[null,1111190970,"PR244020","Спрей Provet SOFTVET привчання до туалету для котів 250мл","Більше 10",null,131.69999999999999,184,0,{"$f":"G48*I48","v":0}]
[null,1111175205,"PR243087","Суспензія Provet PROFILINE КОКЦИД д/котів/собак антигельмінтик 5,0мл","Більше 10","Антипаразитарні препарати для котів",90.9,127,0,{"$f":"G49*I49","v":0}]
[null,1111208601,"PR243167","ТЕРМ.02.26.Вітаміни Provet PROFILINE для котів УРІНАРІ комплекс для по","Більше 10","Вітаміни для котів",105.3,0,0,{"$f":"G50*I50","v":0}]
[null,1111207599,"PR243167","ТЕРМ.07.25.Вітаміни Provet PROFILINE для котів УРІНАРІ комплекс для по","Менше 10","Вітаміни для котів",105.3,0,0,{"$f":"G51*I51","v":0}]
[null,1111207597,"PR243163","ТЕРМ.09.25.Вітаміни Provet PROFILINE для кошенят та котів вагітних та","Менше 10","Вітаміни для котів",81.12,0,0,{"$f":"G52*I52","v":0}]
[null,1111207596,"PR243168","ТЕРМ.10.25.Вітаміни Provet PROFILINE для собак МІНІ комплекс дрібних п","Менше 10","Вітаміни для собак",106.32,0,0,{"$f":"G53*I53","v":0}]
[null,1111207841,"PR243159","ТЕРМ.12.25.Вітаміни Provet PROFILINE для котів ГАГ комплекс для суглоб","Більше 10","Вітаміни для котів",112.68,0,0,{"$f":"G54*I54","v":0}]
[null,1111192757,"PR244049","Фітокомплекс Provet SOFTVET д/кот антистрес та нормаліз нерв сист 100т","Більше 10","Вітаміни для котів",207,290,0,{"$f":"G55*I55","v":0}]
[null,1111192758,"PR244048","Фітокомплекс Provet SOFTVET д/соб антистрес та нормаліз нерв сист 100т","Більше 10","Вітаміни для собак",216,302,0,{"$f":"G56*I56","v":0}]
[null,1111190958,"PR244013","Фітокомплекс Provet SOFTVET покращення функції сечовивідної системи 20","Більше 10",null,79.8,112,0,{"$f":"G57*I57","v":0}]

{"sheet":"ProVET аква","index":48,"n_rows":86,"n_cols":10,"rows_kept":86,"cut":false,"hidden":false,"merged":[]}
[]
[null,null,null,null,null,null,"suziria.ua"]
[null,null,null,null,null,null,"0 800 21 82 99"]
[null,null,null,null,null,null,"feedback@suziria.ua"]
[]
["Зображення","Код","Артикул","Номенклатура","Наявність","Категорія","Ціна опт.","Ціна РРЦ","Замовлення, шт.","Сума, грн."]
[null,null,null,null,null,null,null,null,null,{"$f":"СУММ(J8:J86)","v":{"$error":"#NAME?"}}]
[null,11070,"PR740574_ord","Акваріум Природа кутовий 57x57x45 см 85л","Менше 10","Акваріуми та акваріумні комплекти",2975.04,3867.53,0,{"$f":"G8*I8","v":0}]
[null,9356,"PR740575_ord","Акваріум Природа кутовий 70x70x50 см 142 л","Менше 10","Акваріуми та акваріумні комплекти",5361.78,6970.27,0,{"$f":"G9*I9","v":0}]
[null,11025,"PR740556 (506401)","Акваріум Природа овальний 100х40х50 см 190 л","Менше 10","Акваріуми та акваріумні комплекти",5097.84,6627,0,{"$f":"G10*I10","v":0}]
[null,10400,"PR740557","Акваріум Природа овальний 120x40x50 см 220 л","Менше 10","Акваріуми та акваріумні комплекти",5877.33,7641,0,{"$f":"G11*I11","v":0}]
[null,8523,"PR740558_ord","Акваріум Природа овальний 150x50x60 см 400 л","Менше 10","Акваріуми та акваріумні комплекти",13286.19,17272,0,{"$f":"G12*I12","v":0}]
[null,1111112596,"PR740546","Акваріум Природа овальний 40x25x25 см 24 л","Менше 10","Акваріуми та акваріумні комплекти",972,1263.5999999999999,0,{"$f":"G13*I13","v":0}]
[null,1111113082,"PR740547","Акваріум Природа овальний 40x25x34 см 32 л","Менше 10","Акваріуми та акваріумні комплекти",1028.52,1337.06,0,{"$f":"G14*I14","v":0}]
[null,5884,"PR740549","Акваріум Природа овальний 50x30x30 см 40 л","Менше 10","Акваріуми та акваріумні комплекти",1183.5,1538.53,0,{"$f":"G15*I15","v":0}]
[null,10974,"PR740550","Акваріум Природа овальний 50x30x40 см 52 л","Менше 10","Акваріуми та акваріумні комплекти",1467,1907.04,0,{"$f":"G16*I16","v":0}]
[null,5885,"PR740551","Акваріум Природа овальний 60x30x30 см 54 л","Менше 10","Акваріуми та акваріумні комплекти",1421.16,1847.45,0,{"$f":"G17*I17","v":0}]
[null,10975,"PR740552","Акваріум Природа овальний 60x30x40 см 60 л","Менше 10","Акваріуми та акваріумні комплекти",1678.62,2182.1999999999998,0,{"$f":"G18*I18","v":0}]
[null,5886,"PR740554","Акваріум Природа овальний 80x35x40 см 100 л","Менше 10","Акваріуми та акваріумні комплекти",2823.66,3670.69,0,{"$f":"G19*I19","v":0}]
[null,10976,"PR740555","Акваріум Природа овальний 80x35x45 см 110 л","Менше 10","Акваріуми та акваріумні комплекти",3098.76,4028.36,0,{"$f":"G20*I20","v":0}]
[null,6970,"PR740570","Акваріум Природа прямий 100x40x50 см 200 л","Менше 10","Акваріуми та акваріумні комплекти",5049.4399999999996,6565,0,{"$f":"G21*I21","v":0}]
[null,1111133642,"PR740571_ord","Акваріум Природа прямий 100x40x60 см 235л","Менше 10","Акваріуми та акваріумні комплекти",6225.84,8094,0,{"$f":"G22*I22","v":0}]
[null,6969,"PR740572","Акваріум Природа прямий 120x40x50 см 240 л","Менше 10","Акваріуми та акваріумні комплекти",5843.44,7596,0,{"$f":"G23*I23","v":0}]
[null,7257,"PR740573_ord","Акваріум Природа прямий 150x50x60 см 450 л","Менше 10","Акваріуми та акваріумні комплекти",11466.64,14907,0,{"$f":"G24*I24","v":0}]
[null,4666,"PR740559","Акваріум Природа прямий 36x23x27 см 22 л","Менше 10","Акваріуми та акваріумні комплекти",635.65,826,0,{"$f":"G25*I25","v":0}]
[null,7859,"PR740560","Акваріум Природа прямий 40x25x34 см 34 л","Менше 10","Акваріуми та акваріумні комплекти",856.01,1113,0,{"$f":"G26*I26","v":0}]
[null,4649,"PR740562","Акваріум Природа прямий 50x30x36 см 54 л","Менше 10","Акваріуми та акваріумні комплекти",1048.79,1363,0,{"$f":"G27*I27","v":0}]
[null,6728,"PR740563","Акваріум Природа прямий 50x30x40 см 60 л","Менше 10","Акваріуми та акваріумні комплекти",1221.27,1588,0,{"$f":"G28*I28","v":0}]
[null,5560,"PR740564","Акваріум Природа прямий 60x30x36 см 65л","Менше 10","Акваріуми та акваріумні комплекти",1398.48,1818,0,{"$f":"G29*I29","v":0}]
[null,6727,"PR740565","Акваріум Природа прямий 60x30x42 см 72 л","Менше 10","Акваріуми та акваріумні комплекти",1642.75,2136,0,{"$f":"G30*I30","v":0}]
[null,4807,"PR740567","Акваріум Природа прямий 80x35x42 см 112 л","Менше 10","Акваріуми та акваріумні комплекти",2376.81,3089,0,{"$f":"G31*I31","v":0}]
[null,5206,"PR740568","Акваріум Природа прямий 80x35x50 см 140 л","Менше 10","Акваріуми та акваріумні комплекти",2844.25,3698,0,{"$f":"G32*I32","v":0}]
[null,1111133643,"PR740569","Акваріум Природа прямий 80x35x60 см 170 л","Менше 10","Акваріуми та акваріумні комплекти",4344.82,5648,0,{"$f":"G33*I33","v":0}]
[null,1111160197,"PR241673","Акваріумний комплект Природа Міні-куб 22х22х22 см 9,5л","Менше 10","Акваріуми та акваріумні комплекти",2070,2691,0,{"$f":"G34*I34","v":0}]
[null,1111160537,"PR241735","Акваріумний комплект Природа Неон Led овальний 40x25x34 см 32 л","Більше 10","Акваріуми та акваріумні комплекти",2310.12,3003.1,0,{"$f":"G35*I35","v":0}]
[null,1111160539,"PR241733","Акваріумний комплект Природа Неон Led овальний 50x30x40 см 52 л","Менше 10","Акваріуми та акваріумні комплекти",2980.14,3874.19,0,{"$f":"G36*I36","v":0}]
[null,1111160541,"PR241731","Акваріумний комплект Природа Неон Led овальний 60х30х40 см 62 л","Менше 10","Акваріуми та акваріумні комплекти",3075.3,3997.87,0,{"$f":"G37*I37","v":0}]
[null,1111160538,"PR241734","Акваріумний комплект Природа Неон Led прямий 40х25х34 см 34 л","Менше 10","Акваріуми та акваріумні комплекти",2170.1999999999998,2821.23,0,{"$f":"G38*I38","v":0}]
[null,1111160540,"PR241732","Акваріумний комплект Природа Неон Led прямий 50х30х36 см 54 л","Менше 10","Акваріуми та акваріумні комплекти",2634.48,3424.78,0,{"$f":"G39*I39","v":0}]
[null,1111160542,"PR241730","Акваріумний комплект Природа Неон Led прямий 60x30x42 см 72 л","Менше 10","Акваріуми та акваріумні комплекти",3299.76,4289.66,0,{"$f":"G40*I40","v":0}]
[null,1111160543,"PR241729","Акваріумний комплект Природа Скалярія Led овальний 40х25х34 см 32 л","Менше 10","Акваріуми та акваріумні комплекти",2764.32,3593.62,0,{"$f":"G41*I41","v":0}]
[null,1111160545,"PR241727","Акваріумний комплект Природа Скалярія Led овальний 50х40х30 см 52 л","Менше 10","Акваріуми та акваріумні комплекти",3413.76,4437.83,0,{"$f":"G42*I42","v":0}]
[null,1111160544,"PR241728","Акваріумний комплект Природа Скалярія Led прямий 40х25х34 см 34 л","Менше 10","Акваріуми та акваріумні комплекти",2524.14,3281.36,0,{"$f":"G43*I43","v":0}]
[null,1111160546,"PR241726","Акваріумний комплект Природа Скалярія Led прямий 50x30x36 см 54 л","Менше 10","Акваріуми та акваріумні комплекти",2921.88,3798.38,0,{"$f":"G44*I44","v":0}]
[null,1111160547,"PR241725","Акваріумний набір Природа Скалярія Led овальний 60x30x40 см 62 л","Менше 10","Акваріуми та акваріумні комплекти",3548.34,4612.8100000000004,0,{"$f":"G45*I45","v":0}]
[null,1111162260,"PR241955_ord","Кришка-світильник Природа Led Light для акваріума кутова 57х57 см","Менше 10","Кришки для акваріума",1814.4,2358.7199999999998,0,{"$f":"G46*I46","v":0}]
[null,1111162475,"PR241958","Кришка-світильник Природа Led Light для акваріума кутова 70х70 см","Менше 10","Кришки для акваріума",1860.72,2418.91,0,{"$f":"G47*I47","v":0}]
[null,1111162963,"PR242007_ord","Кришка-світильник Природа Led Light для акваріума кутова 89х89 см","Менше 10","Кришки для акваріума",2175,2827.5,0,{"$f":"G48*I48","v":0}]
[null,1111159078,"PR241460","Кришка-світильник Природа Led Light для акваріума овальна 100х40 см","Менше 10","Кришки для акваріума",2793.78,3632.16,0,{"$f":"G49*I49","v":0}]
[null,1111159080,"PR241458","Кришка-світильник Природа Led Light для акваріума овальна 120x40 см","Менше 10","Кришки для акваріума",2895.06,3763.2,0,{"$f":"G50*I50","v":0}]
[null,1111159082,"PR241456","Кришка-світильник Природа Led Light для акваріума овальна 150x50 см","Менше 10","Кришки для акваріума",3755.04,4880.96,0,{"$f":"G51*I51","v":0}]
[null,1111162200,"PR241939","Кришка-світильник Природа Led Light для акваріума овальна 40х25 см","Менше 10","Кришки для акваріума",907.2,1181.5999999999999,0,{"$f":"G52*I52","v":0}]
[null,1111163638,"PR241937","Кришка-світильник Природа Led Light для акваріума овальна 50х30 см","Менше 10","Кришки для акваріума",1125.5999999999999,1463.84,0,{"$f":"G53*I53","v":0}]
[null,1111162326,"PR241935","Кришка-світильник Природа Led Light для акваріума овальна 60х30 см","Менше 10","Кришки для акваріума",1416.6,1841.28,0,{"$f":"G54*I54","v":0}]
[null,1111164462,"PR241933","Кришка-світильник Природа Led Light для акваріума овальна 80х35 см","Менше 10","Кришки для акваріума",1959.6,2546.88,0,{"$f":"G55*I55","v":0}]
[null,1111159077,"PR241461","Кришка-світильник Природа Led Light для акваріума пряма 100x40 см","Менше 10","Кришки для акваріума",2794.44,3632.16,0,{"$f":"G56*I56","v":0}]
[null,1111159079,"PR241459","Кришка-світильник Природа Led Light для акваріума пряма 120x40 см","Менше 10","Кришки для акваріума",2895.24,3764.32,0,{"$f":"G57*I57","v":0}]
[null,1111159081,"PR241457","Кришка-світильник Природа Led Light для акваріума пряма 150x50 см","Менше 10","Кришки для акваріума",3754.8,4880.96,0,{"$f":"G58*I58","v":0}]
[null,1111162199,"PR241940","Кришка-світильник Природа Led Light для акваріума пряма 40х25 см","Менше 10","Кришки для акваріума",907.2,1180.48,0,{"$f":"G59*I59","v":0}]
[null,1111163637,"PR241938","Кришка-світильник Природа Led Light для акваріума пряма 50х30 см","Менше 10","Кришки для акваріума",1125.5999999999999,1463.84,0,{"$f":"G60*I60","v":0}]
[null,1111162325,"PR241936","Кришка-світильник Природа Led Light для акваріума пряма 60х30 см","Менше 10","Кришки для акваріума",1416.6,1841.28,0,{"$f":"G61*I61","v":0}]
[null,1111164461,"PR241934","Кришка-світильник Природа Led Light для акваріума пряма 80х35 см","Менше 10","Кришки для акваріума",1959.6,2546.88,0,{"$f":"G62*I62","v":0}]
[null,1111113909,"PR740687","Кришка-світильник Природа для акваріума кругла 21,5 см","Менше 10","Кришки для акваріума",459,596.16,0,{"$f":"G63*I63","v":0}]
[null,1111113166,"PR740677","Кришка-світильник Природа для акваріума овальна 40х25 см","Менше 10","Кришки для акваріума",510.6,664.2,0,{"$f":"G64*I64","v":0}]
[null,1111135983,"PR740685","Кришка-світильник Природа для акваріума овальна 60х30 см","Менше 10","Кришки для акваріума",803.34,1044.3599999999999,0,{"$f":"G65*I65","v":0}]
[null,1111111519,"PR740681","Кришка-світильник Природа для акваріума пряма 40х25 см","Менше 10","Кришки для акваріума",510.6,664.2,0,{"$f":"G66*I66","v":0}]
[null,1111136683,"PR740686","Кришка-світильник Природа для акваріума пряма 60х30 см","Менше 10","Кришки для акваріума",803.34,1044.3599999999999,0,{"$f":"G67*I67","v":0}]
[null,1111113632,"PR740626_ord","Піддон під акваріум Природа овальний 150x50х3 см","Менше 10","Підставки та піддони",1400.64,1821.12,0,{"$f":"G68*I68","v":0}]
[null,1111113627,"PR740615","Піддон під акваріум Природа прямий 100x40х2,9 см","Менше 10","Підставки та піддони",826.38,1074.08,0,{"$f":"G69*I69","v":0}]
[null,1111114513,"PR740632_ord","Піддон Природа під акваріум кутовий 57x57х2,2 см","Менше 10","Підставки та піддони",595.86,774.59,0,{"$f":"G70*I70","v":0}]
[null,1111114514,"PR740635","Піддон Природа під акваріум кутовий 70x70х2,5 см","Менше 10","Підставки та піддони",703.8,914.94,0,{"$f":"G71*I71","v":0}]
[null,1111113628,"PR740609","Піддон Природа під акваріум овальний 100x40х2,9 см","Менше 10","Підставки та піддони",826.38,1074.08,0,{"$f":"G72*I72","v":0}]
[null,1111113630,"PR740620","Піддон Природа під акваріум овальний 120x40х2,7 см","Менше 10","Підставки та піддони",950.52,1235.3599999999999,0,{"$f":"G73*I73","v":0}]
[null,1111163640,"PR242070","Піддон Природа під акваріум овальний 50х30 см","Менше 10","Підставки та піддони",222.54,289.8,0,{"$f":"G74*I74","v":0}]
[null,1111162620,"PR241959","Піддон Природа під акваріум овальний 60×30 см","Менше 10","Підставки та піддони",234.6,304.75,0,{"$f":"G75*I75","v":0}]
[null,1111113626,"PR740529","Піддон Природа під акваріум овальний 80x35х2,8 см","Менше 10","Підставки та піддони",417.48,542.69000000000005,0,{"$f":"G76*I76","v":0}]
[null,1111162202,"PR241941","Піддон Природа під акваріум овальний новий 40х25 см","Менше 10","Підставки та піддони",159.54,207.35,0,{"$f":"G77*I77","v":0}]
[null,1111113629,"PR740623","Піддон Природа під акваріум прямий 120x40х2,7 см","Менше 10","Підставки та піддони",950.52,1235.3599999999999,0,{"$f":"G78*I78","v":0}]
[null,1111113631,"PR740629_ord","Піддон Природа під акваріум прямий 150x50х3 см","Менше 10","Підставки та піддони",1400.64,1821.12,0,{"$f":"G79*I79","v":0}]
[null,1111163639,"PR242071","Піддон Природа під акваріум прямий 50х30х2,5 см","Менше 10","Підставки та піддони",222.54,289.8,0,{"$f":"G80*I80","v":0}]
[null,1111162619,"PR241960","Піддон Природа під акваріум прямий 60х30х2,5 см","Менше 10","Підставки та піддони",234.6,304.75,0,{"$f":"G81*I81","v":0}]
[null,1111113625,"PR740535","Піддон Природа під акваріум прямий 80x35х2,8 см","Менше 10","Підставки та піддони",417.48,542.69000000000005,0,{"$f":"G82*I82","v":0}]
[null,1111162201,"PR241942","Піддон Природа під акваріум прямий новий 40х25 см","Менше 10","Підставки та піддони",159.54,207.35,0,{"$f":"G83*I83","v":0}]
[null,10111,"PR740602_ord","Тераріум Природа для рептилій плазунів та комах скляний 60x35x40 см","Менше 10","Тераріуми",4715.04,6129.5,0,{"$f":"G84*I84","v":0}]
[null,1111126466,"PR740445","Туалет для собак великий 55x57 см","Менше 10","Туалети для собак",685.74,891,0,{"$f":"G85*I85","v":0}]
[null,1111125064,"PR740446","Туалет для собак малий 40х55 см","Менше 10","Туалети для собак",542.16,704.55,0,{"$f":"G86*I86","v":0}]

{"sheet":"ProVET економ","index":49,"n_rows":27,"n_cols":10,"rows_kept":27,"cut":false,"hidden":false,"merged":[]}
[]
[null,null,null,null,null,null,"suziria.ua"]
[null,null,null,null,null,null,"0 800 21 82 99"]
[null,null,null,null,null,null,"feedback@suziria.ua"]
[]
["Зображення","Код","Артикул","Номенклатура","Наявність","Категорія","Ціна опт.","Ціна РРЦ","Замовлення, шт.","Сума, грн."]
[null,null,null,null,null,null,null,null,null,{"$f":"СУММ(J8:J27)","v":{"$error":"#NAME?"}}]
[null,6627,"PR740200","Шампунь Барсік для котів репелентний від бліх та кліщів 15мл","Більше 10","Догляд та гігієна для котів",7.62,14,0,{"$f":"G8*I8","v":0}]
[null,7757,"PR740199","Шампунь Барсік для котів репелентний від бліх та кліщів 250мл","Більше 10","Догляд та гігієна для котів",42.12,58.97,0,{"$f":"G9*I9","v":0}]
[null,4849,"PR740206","Шампунь Джессі для довгошерстих собак репелентний 15мл","Більше 10","Догляд та гігієна для собак",7.62,14,0,{"$f":"G10*I10","v":0}]
[null,7751,"PR740205","Шампунь Джессі для довгошерстих собак репелентний 250мл","Більше 100","Догляд та гігієна для собак",42.12,58.97,0,{"$f":"G11*I11","v":0}]
[null,7752,"PR740208","Шампунь Лорд для собак від бліх та кліщів репелентний 250мл","Більше 100","Догляд та гігієна для собак",42.12,58.97,0,{"$f":"G12*I12","v":0}]
[null,1111157177,"PR241272","Шампунь Люкс д/короткошерст/котів/собак гігієніч репелент 240мл","Більше 100","Догляд та гігієна для собак",56.1,78.48,0,{"$f":"G13*I13","v":0}]
[null,6539,"PR740213","Шампунь Люкс д/котів та собак гігієнічний репелентної дії 15мл","Більше 100","Догляд та гігієна для собак",10.92,15.29,0,{"$f":"G14*I14","v":0}]
[null,1111157176,"PR241271","Шампунь Люкс д/котів та собак гігієнічний репелентної дії 240мл","Більше 10","Догляд та гігієна для собак",56.1,78.48,0,{"$f":"G15*I15","v":0}]
[null,1111157178,"PR241273","Шампунь Люкс д/котів/собак профілактика дерматолог/ефект 240мл","Більше 100","Догляд та гігієна для собак",57.6,80.59,0,{"$f":"G16*I16","v":0}]
[null,6537,"PR740215","Шампунь Люкс для кошенят та цуценят гігієнічний репелент 15мл","Більше 100","Догляд та гігієна для собак",10.92,15.29,0,{"$f":"G17*I17","v":0}]
[null,1111157179,"PR241274","Шампунь Люкс для кошенят та цуценят гігієнічний репелент 240мл","Більше 100","Догляд та гігієна для собак",56.1,78.48,0,{"$f":"G18*I18","v":0}]
[null,4851,"PR740203","Шампунь Мурзик для короткошерстих котів репелентний 15мл","Більше 10","Догляд та гігієна для котів",7.62,14,0,{"$f":"G19*I19","v":0}]
[null,7756,"PR740202","Шампунь Мурзик для короткошерстих котів репелентний 250мл","Більше 10","Догляд та гігієна для котів",42.12,58.97,0,{"$f":"G20*I20","v":0}]
[null,7753,"PR740193","Шампунь Принц для короткошерстих собак репелентний 250мл","Більше 10","Догляд та гігієна для собак",42.12,58.97,0,{"$f":"G21*I21","v":0}]
[null,4853,"PR740191","Шампунь Пупсі для кошенят репелентний 15мл","Більше 10","Догляд та гігієна для котів",7.62,14,0,{"$f":"G22*I22","v":0}]
[null,7754,"PR740190","Шампунь Пупсі для цуценят та кошенят репелентний 250мл","Більше 100","Догляд та гігієна для собак",42.12,58.97,0,{"$f":"G23*I23","v":0}]
[null,4850,"PR740197","Шампунь Пушок для довгошерстих котів репелентний 15мл","Більше 100","Догляд та гігієна для котів",7.62,14,0,{"$f":"G24*I24","v":0}]
[null,7755,"PR740196","Шампунь Пушок для довгошерстих котів репелентний 250мл","Більше 100","Догляд та гігієна для котів",42.12,58.97,0,{"$f":"G25*I25","v":0}]
[null,1111157181,"PR241276","Шампунь-кондиціонер Люкс для довгошерстих котів 240мл","Більше 10","Догляд та гігієна для котів",55.92,78.28,0,{"$f":"G26*I26","v":0}]
[null,1111157180,"PR241275","Шампунь-кондиціонер Люкс для довгошерстих собак 240мл","Більше 100","Догляд та гігієна для собак",55.92,78.28,0,{"$f":"G27*I27","v":0}]

{"sheet":"SaniPet","index":50,"n_rows":17,"n_cols":10,"rows_kept":17,"cut":false,"hidden":false,"merged":[]}
[]
[null,null,null,null,null,null,"suziria.ua"]
[null,null,null,null,null,null,"0 800 21 82 99"]
[null,null,null,null,null,null,"feedback@suziria.ua"]
[]
["Зображення","Код","Артикул","Номенклатура","Наявність","Категорія","Ціна опт.","Ціна РРЦ","Замовлення, шт.","Сума, грн."]
[null,null,null,null,null,null,null,null,null,{"$f":"СУММ(J8:J17)","v":{"$error":"#NAME?"}}]
[null,1111203418,"PR240561","БЕЗ ТЕРМ. НЕТОВ.В. Спрей PROVET Sani Pet для собак для захисту від гри","Менше 10","Корекція поведінки для собак",65.88,0,0,{"$f":"G8*I8","v":0}]
[null,1111140374,"PR020062*****","Гель Provet SANIPET для котів та собак для ротової порожнини 15мл","Більше 100","Догляд та гігієна для котів",44.16,62,0,{"$f":"G9*I9","v":0}]
[null,1111172229,"PR242911","Засіб Provet SANIPET д/догл за вухами котів/собак лосьйон-спрей 300мл","Більше 10","Догляд та гігієна для собак",159.30000000000001,223,0,{"$f":"G10*I10","v":0}]
[null,1111140373,"PR020059","Лосьон Provet SANIPET спрей д/котів/собак для догляду за вухами 30мл","Більше 100","Догляд та гігієна для котів",76.08,107,0,{"$f":"G11*I11","v":0}]
[null,1111148421,"PR240566","Спрей Provet SANIPET д/собак для захисту місць не для туалету 250мл","Більше 100","Корекція поведінки для собак",131.69999999999999,184,0,{"$f":"G12*I12","v":0}]
[null,1111140430,"PR240564","Спрей Provet SANIPET для котів для захисту від дряпання 250мл","Більше 10","Корекція поведінки для котів",131.69999999999999,184,0,{"$f":"G13*I13","v":0}]
[null,1111140431,"PR240561","Спрей Provet SANIPET для собак для захисту від гризіння 250мл","Більше 10","Корекція поведінки для собак",131.69999999999999,184,0,{"$f":"G14*I14","v":0}]
[null,1111140432,"PR240563","Спрей Provet SANIPET для собак для привчання до туалету 250мл","Більше 10","Корекція поведінки для собак",131.69999999999999,184,0,{"$f":"G15*I15","v":0}]
[null,1111206542,"PR240566","ТЕРМ 03.28 НТВ Спрей Provet SANIPET соб захист/місц/не.д/туалету 250мл","Менше 10","Корекція поведінки для собак",65.88,0,0,{"$f":"G16*I16","v":0}]
[null,1111201694,"PR240562","ТЕРМ.12.27.ЗЛОМ.ДОЗ.Спрей PROVET Sani Pet для котів для привчання до т","Менше 10","Корекція поведінки для котів",65.88,0,0,{"$f":"G17*I17","v":0}]

{"sheet":"Savory","index":51,"n_rows":114,"n_cols":10,"rows_kept":114,"cut":false,"hidden":false,"merged":[]}
[]
[null,null,null,null,null,null,"suziria.ua"]
[null,null,null,null,null,null,"0 800 21 82 99"]
[null,null,null,null,null,null,"feedback@suziria.ua"]
[]
["Зображення","Код","Артикул","Номенклатура","Наявність","Категорія","Ціна опт.","Ціна РРЦ","Замовлення, шт.","Сума, грн."]
[null,null,null,null,null,null,null,null,null,{"$f":"СУММ(J8:J114)","v":{"$error":"#NAME?"}}]
[null,1111162988,30181,"Savory Adult All Breeds Fresh Duck and Rabbit д/соб качкf/кролик 12кг","Більше 100","Корм сухий для собак",3282.3,4267,0,{"$f":"G8*I8","v":0}]
[null,1111162986,30167,"Savory Adult All Breeds Fresh Duck and Rabbit д/соб качка/кролик 1кг","Більше 100","Корм сухий для собак",416.22,541,0,{"$f":"G9*I9","v":0}]
[null,1111162987,30174,"Savory Adult All Breeds Fresh Duck and Rabbit д/соб качка/кролик 3кг","Більше 10","Корм сухий для собак",1028.1600000000001,1337,0,{"$f":"G10*I10","v":0}]
[null,1111162995,30020,"Savory Adult Cat Fresh Salmon WhiteFish д/довгошер кот лосось/риба 2кг","Більше 100","Корм сухий для котів",864.18,1124,0,{"$f":"G11*I11","v":0}]
[null,1111162998,30051,"Savory Adult Cat Fresh Turkey and Duck д/котів індичка/качка 2кг","Більше 100","Корм сухий для котів",882.36,1147,0,{"$f":"G12*I12","v":0}]
[null,1111162999,30068,"Savory Adult Cat Fresh Turkey and Duck д/котів індичка/качка 8кг","Більше 100","Корм сухий для котів",3183.12,4138,0,{"$f":"G13*I13","v":0}]
[null,1111162997,30044,"Savory Adult Cat Gourmand Fresh Turkey/Duck д/кот індичка/качка 400г","Більше 100","Корм сухий для котів",233.58,303,0,{"$f":"G14*I14","v":0}]
[null,1111162994,30013,"Savory Adult Cat Gourmand FreshSalmonWhiteFish д/кот лосось/риба 400г","Більше 100","Корм сухий для котів",222.48,290,0,{"$f":"G15*I15","v":0}]
[null,1111163005,30129,"Savory Adult Cat Steril Fresh Lamb Chicken д/стерил кот ягня/курка 8кг","Більше 100","Корм сухий для котів",2999.16,3899,0,{"$f":"G16*I16","v":0}]
[null,1111163004,30112,"Savory Adult Cat Steril FreshLamb/Chicken д/стерил кот ягня/курка 2кг","Більше 100","Корм сухий для котів",839.64,1092,0,{"$f":"G17*I17","v":0}]
[null,1111163003,30105,"Savory Adult Cat Steril FreshLamb/Chicken д/стерил кот ягня/курка 400г","Більше 100","Корм сухий для котів",221.34,288,0,{"$f":"G18*I18","v":0}]
[null,1111171568,31515,"Savory All Breed Sterilised Fresh Turkey д/стерил соб індичка 12кг","Більше 100","Корм сухий для собак",2681.7,3486,0,{"$f":"G19*I19","v":0}]
[null,1111171566,31492,"Savory All Breed Sterilised Fresh Turkey д/стерил собак індичка 1кг","Більше 100","Корм сухий для собак",338.46,440,0,{"$f":"G20*I20","v":0}]
[null,1111171567,31508,"Savory All Breed Sterilised Fresh Turkey д/стерил собак індичка 3кг","Більше 100","Корм сухий для собак",858.12,1112,0,{"$f":"G21*I21","v":0}]
[null,1111168073,31324,"Savory AntiParasitic Tuna/Garlic ласощі д/собак антипараз тунець 200г","Більше 100","Ласощі для собак",154.44,208,0,{"$f":"G22*I22","v":0}]
[null,1111165070,30600,"Savory Cat Can Adult Duck консерви д/котів з качкою 100г","Немає в наявності","Корм вологий для котів",43.26,56,0,{"$f":"G23*I23","v":0}]
[null,1111165071,30617,"Savory Cat Can Adult Duck консерви д/котів з качкою 200г","Більше 100","Корм вологий для котів",78.84,103,0,{"$f":"G24*I24","v":0}]
[null,1111165069,30655,"Savory Cat Can Adult Fish консерви д/кот з рибою 400г","Більше 100","Корм вологий для котів",123.06,161,0,{"$f":"G25*I25","v":0}]
[null,1111165067,30631,"Savory Cat Can Adult Fish консерви д/котів з рибою 100г","Більше 100","Корм вологий для котів",43.26,56,0,{"$f":"G26*I26","v":0}]
[null,1111165068,30648,"Savory Cat Can Adult Fish консерви д/котів з рибою 200г","Більше 100","Корм вологий для котів",78.84,103,0,{"$f":"G27*I27","v":0}]
[null,1111165066,30761,"Savory Cat Can Adult Sterilised д/стерилізованих котів з куркою 400г","Більше 100","Корм вологий для котів",123.06,161,0,{"$f":"G28*I28","v":0}]
[null,1111165064,30747,"Savory Cat Can Adult Sterilised консерви д/стерил кот курка 100г","Немає в наявності","Корм вологий для котів",43.26,56,0,{"$f":"G29*I29","v":0}]
[null,1111165065,30754,"Savory Cat Can Adult Sterilised консерви д/стерил кот курка 200г","Більше 100","Корм вологий для котів",78.84,103,0,{"$f":"G30*I30","v":0}]
[null,1111165061,30716,"Savory Cat Can Adult Sterilised консерви д/стерил котів з ягням 100г","Немає в наявності","Корм вологий для котів",43.26,56,0,{"$f":"G31*I31","v":0}]
[null,1111165062,30723,"Savory Cat Can Adult Sterilised консерви д/стерил котів з ягням 200г","Немає в наявності","Корм вологий для котів",78.84,103,0,{"$f":"G32*I32","v":0}]
[null,1111165063,30730,"Savory Cat Can Adult Sterilised консерви д/стерил котів з ягням 400г","Немає в наявності","Корм вологий для котів",123.06,161,0,{"$f":"G33*I33","v":0}]
[null,1111171667,20123,"Savory Cat Pouch Lamb Beetroot шматки в соусі д/дор/кот ягня/буряк 85г","Більше 100","Корм вологий для котів",35.82,48,0,{"$f":"G34*I34","v":0}]
[null,1111171663,20086,"Savory Cat Pouch Lamb Pumpkin шматки в желе д/кошенят ягня/гарбуз 85г","Більше 100","Корм вологий для котів",35.82,48,0,{"$f":"G35*I35","v":0}]
[null,1111171662,20079,"Savory Cat Pouch Salmon Carrot шматки в соусі д/кошен лосос/морква 85г","Більше 100","Корм вологий для котів",35.82,48,0,{"$f":"G36*I36","v":0}]
[null,1111171666,20116,"Savory Cat Pouch Salmon Peas шматки в соусі д/дор/кот лосос/горош 85г","Більше 100","Корм вологий для котів",35.82,48,0,{"$f":"G37*I37","v":0}]
[null,1111171665,20109,"Savory Cat Pouch Turkey Carrot шматки в желе д/стер/котів індичка 85г","Немає в наявності","Корм вологий для котів",35.82,48,0,{"$f":"G38*I38","v":0}]
[null,1111168075,31348,"Savory Digestion Lamb/Chamomile ласощі д/собак чут/травлен ягня 200г","Більше 100","Ласощі для собак",154.44,208,0,{"$f":"G39*I39","v":0}]
[null,1111165043,30372,"Savory Dog Gourmand 4 meats консерви д/собак всіх порід 4 м_яса 100г","Більше 100","Корм вологий для собак",43.26,56,0,{"$f":"G40*I40","v":0}]
[null,1111165044,30389,"Savory Dog Gourmand 4 meats консерви д/собак всіх порід 4 м_яса 200г","Більше 100","Корм вологий для собак",78.84,103,0,{"$f":"G41*I41","v":0}]
[null,1111165045,30396,"Savory Dog Gourmand 4 meats консерви д/собак всіх порід 4 м_яса 400г","Більше 100","Корм вологий для собак",123.06,161,0,{"$f":"G42*I42","v":0}]
[null,1111165047,30419,"Savory Dog Gourmand Beef консерви для собак всіх порід яловичина 100г","Більше 100","Корм вологий для собак",43.26,56,0,{"$f":"G43*I43","v":0}]
[null,1111165048,30426,"Savory Dog Gourmand Beef консерви для собак всіх порід яловичина 200г","Більше 100","Корм вологий для собак",78.84,103,0,{"$f":"G44*I44","v":0}]
[null,1111165049,30433,"Savory Dog Gourmand Beef консерви для собак всіх порід яловичина 400г","Більше 100","Корм вологий для собак",123.06,161,0,{"$f":"G45*I45","v":0}]
[null,1111165050,30440,"Savory Dog Gourmand Beef консерви для собак всіх порід яловичина 800г","Більше 100","Корм вологий для собак",182.16,237,0,{"$f":"G46*I46","v":0}]
[null,1111165039,30457,"Savory Dog Gourmand Duck консерви для собак всіх порід качка 100г","Більше 100","Корм вологий для собак",43.26,56,0,{"$f":"G47*I47","v":0}]
[null,1111165040,30464,"Savory Dog Gourmand Duck консерви для собак всіх порід качка 200г","Більше 100","Корм вологий для собак",78.84,103,0,{"$f":"G48*I48","v":0}]
[null,1111165041,30471,"Savory Dog Gourmand Duck консерви для собак всіх порід качка 400г","Більше 100","Корм вологий для собак",123.06,161,0,{"$f":"G49*I49","v":0}]
[null,1111165042,30488,"Savory Dog Gourmand Duck консерви для собак всіх порід качка 800г","Більше 100","Корм вологий для собак",182.16,237,0,{"$f":"G50*I50","v":0}]
[null,1111165051,30495,"Savory Dog Gourmand Turkey консерви для собак всіх порід індичка 100г","Більше 100","Корм вологий для собак",43.26,56,0,{"$f":"G51*I51","v":0}]
[null,1111165052,30501,"Savory Dog Gourmand Turkey консерви для собак всіх порід індичка 200г","Більше 100","Корм вологий для собак",78.84,103,0,{"$f":"G52*I52","v":0}]
[null,1111165053,30518,"Savory Dog Gourmand Turkey консерви для собак всіх порід індичка 400г","Більше 100","Корм вологий для собак",123.06,161,0,{"$f":"G53*I53","v":0}]
[null,1111165054,30525,"Savory Dog Gourmand Turkey консерви для собак всіх порід індичка 800г","Більше 100","Корм вологий для собак",182.16,237,0,{"$f":"G54*I54","v":0}]
[null,1111165033,30563,"Savory Dog Puppy Chicken Rabbit консерви д/цуцен всі/порід кролик 100г","Більше 100","Корм вологий для собак",43.26,56,0,{"$f":"G55*I55","v":0}]
[null,1111165034,30570,"Savory Dog Puppy Chicken Rabbit консерви д/цуцен всі/порід кролик 200г","Більше 100","Корм вологий для собак",78.84,103,0,{"$f":"G56*I56","v":0}]
[null,1111165035,30587,"Savory Dog Puppy Chicken Rabbit консерви д/цуцен всі/порід кролик 400г","Більше 100","Корм вологий для собак",123.06,161,0,{"$f":"G57*I57","v":0}]
[null,1111165036,30532,"Savory Dog Puppy Chicken консерви для цуценят всіх порід курка 100г","Більше 100","Корм вологий для собак",43.26,56,0,{"$f":"G58*I58","v":0}]
[null,1111165037,30549,"Savory Dog Puppy Chicken консерви для цуценят всіх порід курка 200г","Більше 100","Корм вологий для собак",78.84,103,0,{"$f":"G59*I59","v":0}]
[null,1111165038,30556,"Savory Dog Puppy Chicken консерви для цуценят всіх порід курка 400г","Більше 100","Корм вологий для собак",123.06,161,0,{"$f":"G60*I60","v":0}]
[null,1111163008,30150,"Savory Fresh Turkey Chicken д/кошенят всіх порід індич/курка 8кг","Більше 100","Корм сухий для котів",2823.12,3670,0,{"$f":"G61*I61","v":0}]
[null,1111168074,"31331 Savory","Savory Immunity Duck/Rosehip ласощі д/собак міц/імунітет качка 200г","Більше 100","Ласощі для собак",154.44,208,0,{"$f":"G62*I62","v":0}]
[null,1111162974,30211,"Savory Junior Turkey Chicken д/молод/собак вел/порід індич/курка 12кг","Більше 100","Корм сухий для собак",2819.16,3666,0,{"$f":"G63*I63","v":0}]
[null,1111162973,30204,"Savory Junior Turkey Chicken д/молод/собак вел/порід індич/курка 3кг","Більше 10","Корм сухий для собак",901.14,1172,0,{"$f":"G64*I64","v":0}]
[null,1111163007,30143,"Savory Kitten Fresh Turkey Chicken для кошенят індичка/курка 2кг","Більше 100","Корм сухий для котів",802.26,1043,0,{"$f":"G65*I65","v":0}]
[null,1111163006,30136,"Savory Kitten Fresh Turkey Chicken для кошенят індичка/курка 400г","Більше 100","Корм сухий для котів",203.34,265,0,{"$f":"G66*I66","v":0}]
[null,1111165059,30679,"Savory Kitten Turkey консерви для кошенят з індичкою 100г","Більше 100","Корм вологий для котів",43.26,56,0,{"$f":"G67*I67","v":0}]
[null,1111165060,30686,"Savory Kitten Turkey консерви для кошенят з індичкою 200г","Немає в наявності","Корм вологий для котів",78.84,103,0,{"$f":"G68*I68","v":0}]
[null,1111162982,30242,"Savory Large Breeds Turkey Lamb д/дор/собак вел/порід ягня/індич 12кг","Більше 100","Корм сухий для собак",2937.3,3818,0,{"$f":"G69*I69","v":0}]
[null,1111162981,30235,"Savory Large Breeds Turkey Lamb д/дор/собак вел/порід ягня/індич 3кг","Більше 10","Корм сухий для собак",912.42,1187,0,{"$f":"G70*I70","v":0}]
[null,1111162980,30273,"Savory Medium Breed Turkey Lamb д/дор/собак сер/порід ягня/індич 12кг","Немає в наявності","Корм сухий для собак",2831.16,3679,0,{"$f":"G71*I71","v":0}]
[null,1111162978,30259,"Savory Medium Breed Turkey Lamb д/дор/собак сер/порід ягня/індич 1кг","Більше 100","Корм сухий для собак",340.38,442,0,{"$f":"G72*I72","v":0}]
[null,1111199034,30259,"Savory Medium Breed Turkey Lamb д/дор/собак сер/порід ягня/індич 1кг","Менше 10","Корм сухий для собак",162.06,0,0,{"$f":"G73*I73","v":0}]
[null,1111162979,30266,"Savory Medium Breed Turkey Lamb д/дор/собак сер/порід ягня/індич 3кг","Більше 100","Корм сухий для собак",896.1,1166,0,{"$f":"G74*I74","v":0}]
[null,1111168077,31362,"Savory Mobility Rabbit Chokeberries ласощі д/собак кролик/горобин 200г","Більше 100","Ласощі для собак",154.44,208,0,{"$f":"G75*I75","v":0}]
[null,1111171671,31485,"Savory Pillows Hair Ball Control ласощі д/котів д/вивед шерсті 60г","Більше 100","Ласощі для котів",73.92,104,0,{"$f":"G76*I76","v":0}]
[null,1111162970,30280,"Savory Puppy Fresh Turkey Chicken д/цуценят вс/порід індичка/курка 1кг","Більше 100","Корм сухий для собак",335.7,437,0,{"$f":"G77*I77","v":0}]
[null,1111162972,30303,"Savory Puppy Turkey Chicken для цуценят всіх порід індичка/курка 12кг","Більше 10","Корм сухий для собак",2865.66,3725,0,{"$f":"G78*I78","v":0}]
[null,1111162971,30297,"Savory Puppy Turkey Chicken для цуценят всіх порід індичка/курка 3кг","Більше 100","Корм сухий для собак",900,1170,0,{"$f":"G79*I79","v":0}]
[null,1111163001,30082,"Savory Sensitive FreshLamb/Turkey д/кот чутл травл ягня/індичка 2кг","Більше 100","Корм сухий для котів",844.02,1097,0,{"$f":"G80*I80","v":0}]
[null,1111163000,30075,"Savory Sensitive FreshLamb/Turkey д/кот чутл травл ягня/індичка 400г","Більше 100","Корм сухий для котів",219.24,286,0,{"$f":"G81*I81","v":0}]
[null,1111168076,31355,"Savory Skin Coat Salmon Marigolds ласощі для собак лосось/чорнобр 200г","Більше 100","Ласощі для собак",154.44,208,0,{"$f":"G82*I82","v":0}]
[null,1111162975,30341,"Savory Small Breed Fresh Turkey Lamb д/собак мал/порід ягня/індич 1кг","Більше 100","Корм сухий для собак",355.74,462,0,{"$f":"G83*I83","v":0}]
[null,1111162976,30358,"Savory Small Breed Turkey Lamb для дор/собак мал/порід ягня/індич 3кг","Більше 100","Корм сухий для собак",918.9,1194,0,{"$f":"G84*I84","v":0}]
[null,1111162977,30365,"Savory Small Breed TurkeyLamb для дор/собак мал/порід ягня/індич 8кг","Менше 10","Корм сухий для собак",2260.1999999999998,2938,0,{"$f":"G85*I85","v":0}]
[null,1111162983,30310,"Savory Small Breeds Lamb для дорослих собак малих порід з ягням 1кг","Більше 100","Корм сухий для собак",398.58,519,0,{"$f":"G86*I86","v":0}]
[null,1111162984,30327,"Savory Small Breeds Lamb для дорослих собак малих порід з ягням 3кг","Більше 100","Корм сухий для собак",1036.2,1347,0,{"$f":"G87*I87","v":0}]
[null,1111171669,31461,"Savory Snacks Gourmand Chicken Cheese ласощі для котів курка/сир 60г","Більше 100","Ласощі для котів",73.92,104,0,{"$f":"G88*I88","v":0}]
[null,1111171668,31454,"Savory Snacks Gourmand Salmon хрумкі ласощі для котів лосось 60г","Більше 100","Ласощі для котів",73.92,104,0,{"$f":"G89*I89","v":0}]
[null,1111171670,31478,"Savory Snacks Pillows Dental Care ласощі д/котів д/здоров_я зубів 60г","Більше 100","Ласощі для котів",73.92,104,0,{"$f":"G90*I90","v":0}]
[null,1111195877,21113,"Джерки Savory Bars With Rabbit, батончики з кроликом, 100 г","Більше 100","Ласощі для собак",167.7,229,0,{"$f":"G91*I91","v":0}]
[null,1111195873,21090,"Джерки Savory Puppy Coins With Turkey, монетки д/цуценят з/інд, 100 г","Більше 100","Ласощі для собак",167.7,229,0,{"$f":"G92*I92","v":0}]
[null,1111168080,31416,"М_які ласощі Savory для здоров я стерилізованих котів, ягня та чорниці","Більше 100","Ласощі для котів",85.92,120,0,{"$f":"G93*I93","v":0}]
[null,1111168079,31409,"М_які ласощі Savory для покращення травлення котів, качка та чебрець","Більше 100","Ласощі для котів",85.92,120,0,{"$f":"G94*I94","v":0}]
[null,1111204792,30013,"ТЕРМ 10.25 Savory Adult Cat Gourmand FreshSalmonWhiteFish лос/риб 400г","Менше 10","Корм сухий для котів",111.24,0,0,{"$f":"G95*I95","v":0}]
[null,1111208383,30099,"ТЕРМ 10.25 Savory Adult Cat Sensitive Lamb Turkey чут/трав ягн/інд 8кг","Немає в наявності","Корм сухий для котів",1540.62,0,0,{"$f":"G96*I96","v":0}]
[null,1111205643,30129,"ТЕРМ 10.25 Savory Adult Cat Steril Fresh Lamb&Chicken ягня/курка 8кг","Немає в наявності","Корм сухий для котів",1499.58,0,0,{"$f":"G97*I97","v":0}]
[null,1111206628,30259,"ТЕРМ 11.25 Savory Medium Breed Turkey Lamb дор/соб/сер ягня/індич 1кг","Менше 10","Корм сухий для собак",170.22,0,0,{"$f":"G98*I98","v":0}]
[null,1111206627,30280,"ТЕРМ 11.25 Savory Puppy Fresh Turkey Chicken д/цуц. індичка/курка 1кг","Менше 10","Корм сухий для собак",167.88,0,0,{"$f":"G99*I99","v":0}]
[null,1111200527,30037,"ТЕРМ. 08.25 Savory Adult Cat Fresh Salmon WhiteFish лосось/риба 8кг","Немає в наявності","Корм сухий для котів",1578,0,0,{"$f":"G100*I100","v":0}]
[null,1111200536,30044,"ТЕРМ. 08.25 Savory Adult Cat Gourmand Fresh Turkey/Duck інд/качка 400","Більше 10","Корм сухий для котів",111.24,0,0,{"$f":"G101*I101","v":0}]
[null,1111206344,30242,"ТЕРМ. 08.26,ВАГ. 11.3 КГ Savory Large Breeds Turkey Lamb 12кг","Менше 10","Корм сухий для собак",0,0,0,{"$f":"G102*I102","v":0}]
[null,1111202917,31393,"ТЕРМ. 09.25 Хрусткі ласощі Savory інд/журавлин здоров/рост кошенят","Менше 10","Ласощі для котів",42.96,0,0,{"$f":"G103*I103","v":0}]
[null,1111205743,30167,"ТЕРМ. 10.25 Savory Adult All Breeds Fresh DuckRabbit соб качк/крол 1кг","Менше 10","Корм сухий для собак",208.14,0,0,{"$f":"G104*I104","v":0}]
[null,1111205625,30020,"ТЕРМ. 10.25 Savory Adult Cat FreshSalmon WhiteFish лосось/біл.риба 2кг","Менше 10","Корм сухий для котів",432.12,0,0,{"$f":"G105*I105","v":0}]
[null,1111204075,30105,"ТЕРМ. 10.25 Savory Adult Cat Steril FreshLamb/Chicken ягня/курка 400г","Менше 10","Корм сухий для котів",110.7,0,0,{"$f":"G106*I106","v":0}]
[null,1111205630,30136,"ТЕРМ. 10.25 Корм сухий Savory Kitten rich in Fresh Turkey and Chicken","Менше 10","Корм сухий для котів",101.7,0,0,{"$f":"G107*I107","v":0}]
[null,1111205744,30259,"ТЕРМ. 10.25 Корм сухий Savory Medium Breed urkey and Lamb для дорослих","Менше 10","Корм сухий для собак",170.22,0,0,{"$f":"G108*I108","v":0}]
[null,1111206727,30204,"ТЕРМ. 11.25 Savory Junior Turkey Chicken мол/собак/вел індич/курка 3кг","Менше 10","Корм сухий для собак",450.6,0,0,{"$f":"G109*I109","v":0}]
[null,1111208034,31492,"ТЕРМ.06.26.ПОРВ.Корм сухий Savory All Breed Sterilised Turkey для стер","Менше 10","Корм сухий для собак",161.16,0,0,{"$f":"G110*I110","v":0}]
[null,1111206345,30242,"ТЕРМ.08.26, ВАГ. 10.1 КГ Savory Large Breeds Turkey Lamb /12кг","Менше 10","Корм сухий для собак",0,0,0,{"$f":"G111*I111","v":0}]
[null,1111207501,30136,"ТЕРМ.08.26ПОШК.ПАК Savory KittenFresh Turkey Chicken д/кош інд/кур400г","Менше 10","Корм сухий для котів",101.7,0,0,{"$f":"G112*I112","v":0}]
[null,1111205988,31492,"ТЕРМ.10.25.Корм сухий Savory All Breed Sterilised rich in Fresh Turkey","Менше 10","Корм сухий для собак",169.26,0,0,{"$f":"G113*I113","v":0}]
[null,1111168082,31393,"Хрусткі ласощі Savory індичка і журавлина для здорового росту кошенят","Більше 100","Ласощі для котів",85.92,120,0,{"$f":"G114*I114","v":0}]

{"sheet":"SGbox","index":52,"n_rows":9,"n_cols":10,"rows_kept":9,"cut":false,"hidden":false,"merged":[]}
[]
[null,null,null,null,null,null,"suziria.ua"]
[null,null,null,null,null,null,"0 800 21 82 99"]
[null,null,null,null,null,null,"feedback@suziria.ua"]
[]
["Зображення","Код","Артикул","Номенклатура","Наявність","Категорія","Ціна опт.","Ціна РРЦ","Замовлення, шт.","Сума, грн."]
[null,null,null,null,null,null,null,null,null,{"$f":"СУММ(J8:J9)","v":{"$error":"#NAME?"}}]
[null,1111166072,5097,"Контейнер-переноска SGbox для котів та собак до 12кг 39х55х36,5см","Більше 10","Сумки, переноски та посуд для подорожей з собаками",925.74,1338,0,{"$f":"G8*I8","v":0}]
[null,1111164362,5096,"Контейнер-переноска SGbox для котів та собак до 6кг чорна 35х49х32,5см","Більше 10","Сумки, переноски та посуд для подорожей з собаками",483.48,659,0,{"$f":"G9*I9","v":0}]

{"sheet":"Special One","index":53,"n_rows":32,"n_cols":10,"rows_kept":32,"cut":false,"hidden":false,"merged":[]}
[]
[null,null,null,null,null,null,"suziria.ua"]
[null,null,null,null,null,null,"0 800 21 82 99"]
[null,null,null,null,null,null,"feedback@suziria.ua"]
[]
["Зображення","Код","Артикул","Номенклатура","Наявність","Категорія","Ціна опт.","Ціна РРЦ","Замовлення, шт.","Сума, грн."]
[null,null,null,null,null,null,null,null,null,{"$f":"СУММ(J8:J32)","v":{"$error":"#NAME?"}}]
[null,1111165524,"PR242345","Ласощі Special One Горіхові палички для середніх папуг 90г","Більше 100","Ласощі для птахів",57.48,95,0,{"$f":"G8*I8","v":0}]
[null,1111165522,"PR242347","Ласощі Special One Квіткові палички для хвилястих папуг 90г","Більше 10","Ласощі для птахів",57.48,95,0,{"$f":"G9*I9","v":0}]
[null,1111165520,"PR242348","Ласощі Special One Мюслі палички для декоративних гризунів 90г","Більше 100","Ласощі для гризунів",57.48,95,0,{"$f":"G10*I10","v":0}]
[null,1111165521,"PR242350","Ласощі Special One Овочевий мікс палички для декоративних гризунів 90г","Більше 10","Ласощі для гризунів",57.48,95,0,{"$f":"G11*I11","v":0}]
[null,1111166928,"PR242519","Ласощі Special One Пончики д/гризунів волошка календула ромашка 60г","Більше 100","Ласощі для гризунів",54.72,89,0,{"$f":"G12*I12","v":0}]
[null,1111166926,"PR242517","Ласощі Special One Пончики д/декорат/птахів паприка морква кунжут 60г","Більше 10","Ласощі для птахів",60.36,99,0,{"$f":"G13*I13","v":0}]
[null,1111166925,"PR242516","Ласощі Special One Пончики д/декоратив/птиц барбарис волошка кокос 60г","Більше 100","Ласощі для птахів",60.36,99,0,{"$f":"G14*I14","v":0}]
[null,1111166929,"PR242520","Ласощі Special One Пончики для гризунів паприка гарбуз морква 60г","Більше 100","Ласощі для гризунів",54.72,89,0,{"$f":"G15*I15","v":0}]
[null,1111166930,"PR242521","Ласощі Special One Пончики для гризунів петрушка чумиза календула 60г","Більше 10","Ласощі для гризунів",54.72,89,0,{"$f":"G16*I16","v":0}]
[null,1111166931,"PR242522","Ласощі Special One Пончики для гризунів цикорій арахіс барбарис 60г","Більше 100","Ласощі для гризунів",54.72,89,0,{"$f":"G17*I17","v":0}]
[null,1111166927,"PR242518","Ласощі Special One Пончики для птахів смородина ехінацея виноград 60г","Більше 100","Ласощі для птахів",60.36,99,0,{"$f":"G18*I18","v":0}]
[null,1111165523,"PR242346","Ласощі Special One Фруктові палички для хвилястих папуг 90г","Більше 100","Ласощі для птахів",57.48,95,0,{"$f":"G19*I19","v":0}]
[null,1111165519,"PR242349","Ласощі Special One Ягідні палички для декоративних гризунів 90 г","Більше 10","Ласощі для гризунів",57.48,95,0,{"$f":"G20*I20","v":0}]
[null,1111164474,"PR242125","Повнораціонний корм Special One для великих папуг 500г","Більше 10","Корм для птахів",137.62,192.93,0,{"$f":"G21*I21","v":0}]
[null,1111164484,"PR242115","Повнораціонний корм Special One для дегу 500г","Більше 100","Корм для гризунів",113.39,160,0,{"$f":"G22*I22","v":0}]
[null,1111164479,"PR242120","Повнораціонний корм Special One для декоративних кроликів 500г","Більше 100","Корм для гризунів",115.83,162,0,{"$f":"G23*I23","v":0}]
[null,1111164480,"PR242119","Повнораціонний корм Special One для декоративних пацючків 500г","Більше 100","Корм для гризунів",97.34,137,0,{"$f":"G24*I24","v":0}]
[null,1111164477,"PR242122","Повнораціонний корм Special One для екзотичніх птахів 500г","Більше 100","Корм для птахів",94.51,132.91,0,{"$f":"G25*I25","v":0}]
[null,1111164478,"PR242121","Повнораціонний корм Special One для канарок 500г","Більше 100","Корм для птахів",98.59,138.01,0,{"$f":"G26*I26","v":0}]
[null,1111164476,"PR242123","Повнораціонний корм Special One для середніх папуг 500 г","Більше 100","Корм для птахів",101.98,142.76,0,{"$f":"G27*I27","v":0}]
[null,1111164475,"PR242124","Повнораціонний корм Special One для хвилястих папуг 500г","Більше 100","Корм для птахів",94.51,132.91,0,{"$f":"G28*I28","v":0}]
[null,1111164483,"PR242116","Повнораціонний корм Special One для хом_яків 500г","Більше 100","Корм для гризунів",97.34,137,0,{"$f":"G29*I29","v":0}]
[null,1111164482,"PR242117","Повнораціонний корм Special One для шиншил 500г","Більше 100","Корм для гризунів",109.69,154,0,{"$f":"G30*I30","v":0}]
[null,1111208208,"PR242125","ТЕРМ. 06.26, ПОРВ. Повнораціонний корм Special One для великих папуг 5","Менше 10","Корм для птахів",68.819999999999993,0,0,{"$f":"G31*I31","v":0}]
[null,1111203378,"PR242121","ТЕРМ. 06.26, ПОРВ. Повнораціонний корм Special One для канарок 500г","Менше 10","Корм для птахів",49.32,0,0,{"$f":"G32*I32","v":0}]

{"sheet":"Tetra","index":54,"n_rows":222,"n_cols":10,"rows_kept":222,"cut":false,"hidden":false,"merged":[]}
[]
[null,null,null,null,null,null,"suziria.ua"]
[null,null,null,null,null,null,"0 800 21 82 99"]
[null,null,null,null,null,null,"feedback@suziria.ua"]
[]
["Зображення","Код","Артикул","Номенклатура","Наявність","Категорія","Ціна опт.","Ціна РРЦ","Замовлення, шт.","Сума, грн."]
[null,null,null,null,null,null,null,null,null,{"$f":"СУММ(J8:J222)","v":{"$error":"#NAME?"}}]
[null,311887,"139015_ordСПЕЦЦЕНА","PRO Algae (Vegetable) 250 мл преміум-корм з овочами","Менше 10","Корм сухий для акваріумних риб",296.64,385,0,{"$f":"G8*I8","v":0}]
[null,1111149038,"270534_ord","Tetra CABOMBA Plant L 30см пластикова рослина","Менше 10","Декорації для акваріума",267.95999999999998,496,0,{"$f":"G9*I9","v":0}]
[null,1111149613,"270268_ord","Tetra FOXTAIL RED  Plant S 15см пластикова рослина","Менше 10","Декорації для акваріума",102.3,189,0,{"$f":"G10*I10","v":0}]
[null,1111149307,"270237_ord","Tetra HYGROPHILA  Plant S 15см пластикова рослина","Менше 10","Декорації для акваріума",102.3,189,0,{"$f":"G11*I11","v":0}]
[null,1111149309,"270565_ord","Tetra HYGROPHILA Plant L 30см пластикова рослина","Менше 10","Декорації для акваріума",256.86,476,0,{"$f":"G12*I12","v":0}]
[null,1111149032,"273146СПЕЦЦЕНА","Tetra PhosphateMinus 250 мл","Більше 10","Засоби проти водоростей",206.22,383,0,{"$f":"G13*I13","v":0}]
[null,1111149310,"270596_ord","Tetra RED LUDWIGIA Plant  L 30см пластикова рослина","Більше 10","Декорації для акваріума",256.86,476,0,{"$f":"G14*I14","v":0}]
[null,1111121682,"167247_ord","Адаптер для голови зовнішнього фільтра Tetra EX 400/EX 600/EX 700","Менше 10","Аксесуари для обладнання",968.34,1307,0,{"$f":"G15*I15","v":0}]
[null,1111138161,"240728_ord","Адаптер для фільтра Tetra ЕX 1200 plus","Більше 10","Аксесуари для обладнання",849.3,1274,0,{"$f":"G16*I16","v":0}]
[null,1111172931,304796,"Адаптер для шланга Tetra EX 1500","Менше 10","Аксесуари для обладнання",900.3,1349,0,{"$f":"G17*I17","v":0}]
[null,1111113808,"145580_ord","Біогубка у фільтр Tetratec EX 600/700/800 plus","Менше 10","Фільтри для акваріумів",325.98,440,0,{"$f":"G18*I18","v":0}]
[null,7781,"607682****","Вкладиш Tetra BF 400/600 для внутрішн/фільтра IN 400/600 губка 2шт","Менше 10","Фільтри для акваріумів",348.84,471,0,{"$f":"G19*I19","v":0}]
[null,1111113054,"134669_ord","Вкладиш Tetra CF 800/1000 Plus д/фільтра IN 800/1000 акт/вуг губка 4шт","Менше 10","Фільтри для акваріумів",688.98,930,0,{"$f":"G20*I20","v":0}]
[null,1111113822,146068,"Вкладиш Tetra Filter Floss д/зовн/фільтра EX 1200/1500 волокнистий 2шт","Менше 10","Фільтри для акваріумів",226.62,307,0,{"$f":"G21*I21","v":0}]
[null,1111113820,145597,"Вкладиш Tetra Filter Floss д/зовн/фільтра EX 600/1000 волокнистий 2шт","Менше 10","Фільтри для акваріумів",146.34,198,0,{"$f":"G22*I22","v":0}]
[null,1111117018,151598,"Вкладиш Tetra Filter Pack 250/300 C д/фільтра Tetra Easy Crystal 3шт","Більше 10","Фільтри для акваріумів",376.44,508,0,{"$f":"G23*I23","v":0}]
[null,1111114648,211841,"Вкладиш Tetra акваріум до Filter Pack 100 C Cascade Globe з актив/вуг","Більше 10","Фільтри для акваріумів",287.82,392,0,{"$f":"G24*I24","v":0}]
[null,1111130297,179172,"Вкладиш Tetra фільтруючий картридж д/внутрішнього фільтра IN 300 губка","Менше 10","Фільтри для акваріумів",290.27999999999997,334,0,{"$f":"G25*I25","v":0}]
[null,1111184031,"304932_ord","Голова Tetra для фільтра EX1500 4 MK","Менше 10","Аксесуари для обладнання",3726.72,5031,0,{"$f":"G26*I26","v":0}]
[null,1111184030,"304970_ord","Голова Tetra для фільтра EX500 4 MK","Менше 10","Аксесуари для обладнання",2264.4,3057,0,{"$f":"G27*I27","v":0}]
[null,1111184764,305038,"Голова Tetra для фільтра EX700 4 MK","Менше 10","Аксесуари для обладнання",2608.86,3522,0,{"$f":"G28*I28","v":0}]
[null,1111138159,"240711_ord","Головка Tetra для зовнішнього фільтру ЕX 1200 Plus","Менше 10","Аксесуари для обладнання",4519.0200000000004,6779,0,{"$f":"G29*I29","v":0}]
[null,1111138158,"240681_ord","Головка Tetra для зовнішнього фільтру ЕX 800 Plus","Менше 10","Аксесуари для обладнання",3431.58,5147,0,{"$f":"G30*I30","v":0}]
[null,1111184028,"304895_ord","Губка попереднього фільтра Tetra для EX500/700/1000 40 МК","Менше 10","Аксесуари для обладнання",131.69999999999999,177,0,{"$f":"G31*I31","v":0}]
[null,1111137789,240100,"Добриво Tetra CO2 Plus для акваріумних рослин 250мл","Більше 10","Добрива для рослин",279.12,363,0,{"$f":"G32*I32","v":0}]
[null,4465,139268,"Добриво Tetra PlantaMin д/зелених акваріум/рослин з залізом 100мл/400л","Більше 10","Добрива для рослин",147.18,192,0,{"$f":"G33*I33","v":0}]
[null,7400,297371,"Добриво Tetra PlantaMin для зелених аквар/рослин з залізом 250мл/1000л","Більше 10","Добрива для рослин",316.32,412,0,{"$f":"G34*I34","v":0}]
[null,1111184024,"304819_ord","Заглушки Tetra для фільтра EX1500 40 MK","Менше 10","Аксесуари для обладнання",658.26,888,0,{"$f":"G35*I35","v":0}]
[null,1111111141,144040,"Засіб Aqua Tetra Crystal Water від помутніння води 100мл на 200л","Більше 100","Кондиціонери для води",194.04,252,0,{"$f":"G36*I36","v":0}]
[null,9215,140349,"Засіб Tetra Algetten для акваріума проти водоростей 12 таблеток/120л","Більше 10","Засоби проти водоростей",315.36,411,0,{"$f":"G37*I37","v":0}]
[null,1700,770386,"Засіб Tetra Algizit проти водоростей в акваріумі 10 таблеток на 200л","Більше 100","Засоби проти водоростей",241.8,315,0,{"$f":"G38*I38","v":0}]
[null,1111184766,"760837 СПЕЦЦЕНА","Засіб Tetra AlgoRem проти водоростей в ставку 250мл + проб PondSticks","Менше 10","Засоби для догляду за ставком",318.24,414,0,{"$f":"G39*I39","v":0}]
[null,1111115656,298989,"Засіб Tetra Algostop для акваріума проти водоростей 12 таблеток/240л","Більше 10","Засоби проти водоростей",385.14,500,0,{"$f":"G40*I40","v":0}]
[null,1699,770416,"Засіб Tetra AlguMin проти водоростей в акваріумі 100мл на 200л","Більше 100","Засоби проти водоростей",146.22,191,0,{"$f":"G41*I41","v":0}]
[null,8194,198753,"Засіб Tetra AlguMin проти водоростей в акваріумі 250мл на 500л","Більше 10","Засоби проти водоростей",298.2,389,0,{"$f":"G42*I42","v":0}]
[null,8195,204164,"Засіб Tetra AlguMin проти водоростей в акваріумі 500мл","Менше 10","Засоби проти водоростей",529.02,688,0,{"$f":"G43*I43","v":0}]
[null,1111180013,"313811/313842","Засіб Tetra Aqua Biocoryn для розкладання органіки 100мл","Більше 10","Кондиціонери для води",213.54,278,0,{"$f":"G44*I44","v":0}]
[null,8824,704183,"Засіб Tetra Aqua Safe для акваріума для підготовки води 5л на 10000л","Менше 10","Кондиціонери для води",2569.2600000000002,3341,0,{"$f":"G45*I45","v":0}]
[null,5046,762732,"Засіб Tetra Aqua Safe для підготовки води в акваріумі 100мл на 200л","Більше 100","Кондиціонери для води",158.63999999999999,206,0,{"$f":"G46*I46","v":0}]
[null,4135,762749,"Засіб Tetra Aqua Safe для підготовки води в акваріумі 250мл на 500л","Більше 10","Кондиціонери для води",299.16000000000003,390,0,{"$f":"G47*I47","v":0}]
[null,8189,198876,"Засіб Tetra Aqua Safe для підготовки води в акваріумі 500мл на 1000л","Більше 10","Кондиціонери для води",484.56,630,0,{"$f":"G48*I48","v":0}]
[null,1111123360,198852,"Засіб Tetra Aqua Safe для підготовки води в акваріумі 50мл на 100л","Більше 100","Кондиціонери для води",104.22,135,0,{"$f":"G49*I49","v":0}]
[null,8819,745209,"Засіб Tetra Aqua ToruMin екстракт гумінових кислот 250мл на 500л","Менше 10","Кондиціонери для води",450.06,586,0,{"$f":"G50*I50","v":0}]
[null,8193,756540,"Засіб Tetra Bactozym д/акваріума д/стабіл/біол/рівнов 10 таблеток/1000","Більше 10","Кондиціонери для води",448.26,583,0,{"$f":"G51*I51","v":0}]
[null,1111111140,198739,"Засіб Tetra Crystal Water д/акваріума від помутніння води 250мл/500л","Більше 10","Кондиціонери для води",448.26,583,0,{"$f":"G52*I52","v":0}]
[null,8818,139176,"Засіб Tetra Easy Balance д/акваріума д/стабіл/показн/води 250мл/1000л","Більше 10","Кондиціонери для води",315.06,411,0,{"$f":"G53*I53","v":0}]
[null,8453,198814,"Засіб Tetra Easy Balance д/акваріума д/стабіл/показн/води 500мл/2000л","Більше 10","Кондиціонери для води",482.64,627,0,{"$f":"G54*I54","v":0}]
[null,8454,770492,"Засіб Tetra Easy Balance д/стабілізації показників води 100мл на 400 л","Більше 10","Кондиціонери для води",169.44,221,0,{"$f":"G55*I55","v":0}]
[null,1111152078,279230,"Засіб Tetra Medica ContraIck Plus д/риб ліки знищ/шкір/параз 20мл/600л","Менше 10","Препарати для лікування риб",362.28,471,0,{"$f":"G56*I56","v":0}]
[null,1111115268,"154469СПЕЦЦЕНА","Засіб Tetra Pond AlgoFin д/ставка борот/ниткоподіб/водор 1л/15000л","Більше 10","Засоби для догляду за ставком",1067.8800000000001,1387,0,{"$f":"G57*I57","v":0}]
[null,13250,"124363СПЕЦЦЕНА","Засіб Tetra Pond AlgoFin д/ставка борот/ниткоподіб/водор 250мл/5000л","Більше 10","Засоби для догляду за ставком",313.62,411,0,{"$f":"G58*I58","v":0}]
[null,8813,"143784СПЕЦЦЕНА","Засіб Tetra Pond AlgoFin д/ставка борот/ниткоподіб/водор 500мл/10000л","Більше 10","Засоби для догляду за ставком",608.1,791,0,{"$f":"G59*I59","v":0}]
[null,8820,"753327СПЕЦЦЕНА","Засіб Tetra Pond AlgoFin для ставка борот/калам/зелен/водою 3л/60000л","Більше 10","Засоби для догляду за ставком",2355.96,3062,0,{"$f":"G60*I60","v":0}]
[null,1111115267,"154445СПЕЦЦЕНА","Засіб Tetra Pond AlgoRem д/ставка боротьба з калам/зел/водою 1л/15000л","Менше 10","Засоби для догляду за ставком",1102.74,1433,0,{"$f":"G61*I61","v":0}]
[null,8816,"753334СПЕЦЦЕНА","Засіб Tetra Pond AlgoRem д/ставка боротьба з калам/зел/водою 3л/60000л","Більше 10","Засоби для догляду за ставком",2355.96,3062,0,{"$f":"G62*I62","v":0}]
[null,8822,"735460СПЕЦЦЕНА","Засіб Tetra Pond AquaSafe для ставка ддя підготовки води 500мл/10000л","Менше 10","Засоби для догляду за ставком",492.36,639,0,{"$f":"G63*I63","v":0}]
[null,1111135602,"231566СПЕЦЦЕНА","Засіб Tetra Pond Crystal Water для ставка д/очищення води 1л/20000л","Менше 10","Засоби для догляду за ставком",1070.0999999999999,1392,0,{"$f":"G64*I64","v":0}]
[null,1111123416,"180635СПЕЦЦЕНА","Засіб Tetra Pond Crystal Water для ставка д/очищення води 250мл/5000л","Менше 10","Засоби для догляду за ставком",322.62,419,0,{"$f":"G65*I65","v":0}]
[null,1111135603,"232617СПЕЦЦЕНА","Засіб Tetra Pond Crystal Water для ставка для очищення води 3л/60000л","Менше 10","Засоби для догляду за ставком",2601.06,3381,0,{"$f":"G66*I66","v":0}]
[null,1111205895,"285392СПЕЦЦЕНА","Засіб Tetra Pond Filter Zym д/ставка д/ біо актив/фільтр 500мл","Більше 10","Засоби для догляду за ставком",413.22,558,0,{"$f":"G67*I67","v":0}]
[null,12837,"737730СПЕЦЦЕНА","Засіб Tetra Pond MediFin д/став/риб ліки від інфекц/хвороб 250мл/5000л","Менше 10","Препарати для лікування риб",356.34,462,0,{"$f":"G68*I68","v":0}]
[null,1111127177,"187825СПЕЦЦЕНА","Засіб Tetra Pond SeasonStart для ставка підготовка води 250мл/5000л","Більше 10","Засоби для догляду за ставком",318.12,413,0,{"$f":"G69*I69","v":0}]
[null,1111146240,"256705СПЕЦЦЕНА","Засіб Tetra Pond SludgeRemover ставок видал/мулу/розщ/спол 250мл/5000л","Менше 10","Засоби для догляду за ставком",319.26,415,0,{"$f":"G70*I70","v":0}]
[null,1111123413,"180437СПЕЦЦЕНА","Засіб Tetra Pond WaterBalance д/ставка стабіл/показ/води 250мл/10000л","Менше 10","Засоби для догляду за ставком",282.12,369,0,{"$f":"G71*I71","v":0}]
[null,1111123466,177727,"Засіб Tetra ReptoSafe д/тераріумів усунення важк/металів з води 100мл","Більше 10","Засоби догляду для тераріумів",173.04,225,0,{"$f":"G72*I72","v":0}]
[null,1111133142,175655,"Засіб Tetra Safe Start д/акваріума д/негайного запуску риб 250мл/300л","Менше 10","Кондиціонери для води",820.98,1067,0,{"$f":"G73*I73","v":0}]
[null,12470,161313,"Засіб Tetra SafeStart д/акваріума для негайного запуску риб 100мл/120л","Більше 10","Кондиціонери для води",382.32,497,0,{"$f":"G74*I74","v":0}]
[null,12440,161184,"Засіб Tetra SafeStart д/негайн запуску риб в нов акваріум 50мл на 60л","Більше 10","Кондиціонери для води",218.88,284,0,{"$f":"G75*I75","v":0}]
[null,8190,139237,"Засіб Tetra Vital вітамінізований кондиціонер д/аквар/води 100мл/200л","Більше 10","Кондиціонери для води",213.18,277,0,{"$f":"G76*I76","v":0}]
[null,1111161902,247031,"Засіб для стимуляції біологічної середовища Tetra FilterActive 100мл","Більше 10","Кондиціонери для води",262.86,341,0,{"$f":"G77*I77","v":0}]
[null,8921,608085,"Клапан Tetra для повітряного компресора зворотній CV4","Більше 10","Аксесуари для обладнання",125.7,214,0,{"$f":"G78*I78","v":0}]
[null,1111126353,187351,"Компресор Tetra Pond APК 400 д/ставка д/аерації з двома виходами набір","Менше 10","Обладнання для ставка",3151.8,4257,0,{"$f":"G79*I79","v":0}]
[null,1111112414,143166,"Компресор Tetra для акваріума APS 150 80/150л","Менше 10","Компресори і помпи для акваріума",958.8,1391,0,{"$f":"G80*I80","v":0}]
[null,1111112720,143180,"Компресор Tetra для акваріума APS 300 з двома виходами 120/300л","Менше 10","Компресори і помпи для акваріума",1109.04,1609,0,{"$f":"G81*I81","v":0}]
[null,1111112413,143203,"Компресор Tetra для акваріума APS 400 з двома виходами 250/600л","Менше 10","Компресори і помпи для акваріума",1986.96,2881,0,{"$f":"G82*I82","v":0}]
[null,1111112412,143128,"Компресор Tetra для акваріума APS 50 10/60л","Менше 10","Компресори і помпи для акваріума",638.34,925,0,{"$f":"G83*I83","v":0}]
[null,1111115614,"212466_ordСПЕЦЦЕНА","Компресор Tetratec APS 150 білий","Менше 10","Компресори і помпи для акваріума",840.24,2436,0,{"$f":"G84*I84","v":0}]
[null,1111118131,"212510_ordСПЕЦЦЕНА","Компресор Tetratec APS 300 білий","Менше 10","Компресори і помпи для акваріума",901.38,1868,0,{"$f":"G85*I85","v":0}]
[null,1111134707,"212534_ordСПЕЦЦЕНА","Компресор Tetratec APS 400 білий","Більше 10","Компресори і помпи для акваріума",1532.82,3171,0,{"$f":"G86*I86","v":0}]
[null,1111115178,"212404_ordСПЕЦЦЕНА","Компресор Tetratec APS 50 білий","Менше 10","Компресори і помпи для акваріума",672.3,974,0,{"$f":"G87*I87","v":0}]
[null,1111133781,193031,"Кондиціонер Tetra Betta Aqua Safe д/підгот води д/півників 100мл/100л","Більше 10","Кондиціонери для води",159,206,0,{"$f":"G88*I88","v":0}]
[null,1111162336,"284746_ord","Корм Tetra Algae Mix д/травоїдн/декоративних риб пластівці 10л/1,75кг","Більше 10","Корм сухий для акваріумних риб",4746,6408,0,{"$f":"G89*I89","v":0}]
[null,1111126316,193680,"Корм Tetra Betta Granules для рибок півників гранули 5г","Більше 100","Корм сухий для акваріумних риб",44.94,58,0,{"$f":"G90*I90","v":0}]
[null,1111133776,201408,"Корм Tetra Cichlid Algae Mini для акваріумних цихлід гранули 10л/3,9кг","Менше 10","Корм сухий для акваріумних риб",4717.38,6368,0,{"$f":"G91*I91","v":0}]
[null,1111134741,201385,"Корм Tetra Cichlid Colour Mini д/невел/цихлід яскрав/забар/гранули 10л","Менше 10","Корм сухий для акваріумних риб",4545.54,6136,0,{"$f":"G92*I92","v":0}]
[null,1111132078,197343,"Корм Tetra Cichlid Colour д/цихлід д/яскрав/забарвлення гранули 500мл","Менше 10","Корм сухий для акваріумних риб",639.41999999999996,831,0,{"$f":"G93*I93","v":0}]
[null,5464,201392,"Корм Tetra Cichlid Colour д/цихлід яскр/забарвлення гранули 10л/3,6кг","Менше 10","Корм сухий для акваріумних риб",4717.38,6368,0,{"$f":"G94*I94","v":0}]
[null,1111112723,146594,"Корм Tetra Cichlid Granules для рибок цихлід гранули 500мл","Більше 10","Корм сухий для акваріумних риб",658.5,855,0,{"$f":"G95*I95","v":0}]
[null,1111115270,153691,"Корм Tetra Cichlid Sticks для рибок цихлід палички 10л/2,9кг","Менше 10","Корм сухий для акваріумних риб",3423.66,4623,0,{"$f":"G96*I96","v":0}]
[null,8313,198975,"Корм Tetra Cichlid Sticks для рибок цихлід палички 1л/ 320 г","Більше 10","Корм сухий для акваріумних риб",859.2,1117,0,{"$f":"G97*I97","v":0}]
[null,8446,157170,"Корм Tetra Cichlid Sticks для рибок цихлід палички 250мл/75г","Більше 10","Корм сухий для акваріумних риб",297.12,388,0,{"$f":"G98*I98","v":0}]
[null,5973,767409,"Корм Tetra Cichlid Sticks для рибок цихлід палички 500мл/160г","Більше 10","Корм сухий для акваріумних риб",519.78,675,0,{"$f":"G99*I99","v":0}]
[null,1111112215,201415,"Корм Tetra Cichlid XL Flakes д/риб великих цихлід пластівці 10л/1,9кг","Менше 10","Корм сухий для акваріумних риб",3628.2,4898,0,{"$f":"G100*I100","v":0}]
[null,1111141223,290310,"Корм Tetra Discus для дискусів гранулы 15г","Більше 10","Корм сухий для акваріумних риб",54.18,70,0,{"$f":"G101*I101","v":0}]
[null,11718,126176,"Корм Tetra Discus для рибок дискусів гранули 10л","Немає в наявності","Корм сухий для акваріумних риб",3829.62,5169,0,{"$f":"G102*I102","v":0}]
[null,1111126506,167612,"Корм Tetra Gold fish Granules для золотих риб 100мл","Менше 10","Корм сухий для акваріумних риб",106.56,139,0,{"$f":"G103*I103","v":0}]
[null,9622,766389,"Корм Tetra Goldfish Flakes для золотих рибок пластівці 12г","Більше 100","Корм сухий для акваріумних риб",39.24,51,0,{"$f":"G104*I104","v":0}]
[null,8956,140127,"Корм Tetra Goldfish Flakes для золотих рибок пластівці 250мл","Більше 10","Корм сухий для акваріумних риб",200.76,261,0,{"$f":"G105*I105","v":0}]
[null,1111129886,193741,"Корм Tetra Guppy для гупі пластівці 12 г","Більше 100","Корм сухий для акваріумних риб",52.14,68,0,{"$f":"G106*I106","v":0}]
[null,1111157244,756861,"Корм Tetra Micro Granules для акваріумних дрібних рибок гранули 100мл","Більше 10","Корм сухий для акваріумних риб",195.96,254,0,{"$f":"G107*I107","v":0}]
[null,1111157246,277496,"Корм Tetra Micro Pellets для акваріумних дрібних рибок гранули 100мл","Більше 10","Корм сухий для акваріумних риб",195.96,254,0,{"$f":"G108*I108","v":0}]
[null,12585,198913,"Корм Tetra Min Betta для рибок півників пластівці 100мл","Більше 10","Корм сухий для акваріумних риб",187.32,244,0,{"$f":"G109*I109","v":0}]
[null,1111114138,149304,"Корм Tetra Min Crisps для акваріумних риб чіпси 12г","Більше 100","Корм сухий для акваріумних риб",59.22,77,0,{"$f":"G110*I110","v":0}]
[null,13545,139657,"Корм Tetra Min Crisps для акваріумних рибок чіпси 55г/250мл","Більше 10","Корм сухий для акваріумних риб",293.39999999999998,381,0,{"$f":"G111*I111","v":0}]
[null,8319,"769939СПЕЦЦЕНА","Корм Tetra Min Flakes д/тропічних акваріумних риб пластівці 10л/2,1кг","Більше 10","Корм сухий для акваріумних риб",2273.04,3068,0,{"$f":"G112*I112","v":0}]
[null,8957,204379,"Корм Tetra Min Flakes для акваріумних рибок пластівці 100г/500мл","Більше 10","Корм сухий для акваріумних риб",467.34,607,0,{"$f":"G113*I113","v":0}]
[null,4899,762725,"Корм Tetra Min Flakes для акваріумних рибок пластівці 200г/1л","Більше 10","Корм сухий для акваріумних риб",774.12,1007,0,{"$f":"G114*I114","v":0}]
[null,4134,762701,"Корм Tetra Min Flakes для тропічних акваріумних риб пластівці 100мл","Більше 10","Корм сухий для акваріумних риб",114.72,149,0,{"$f":"G115*I115","v":0}]
[null,12147,766402,"Корм Tetra Min Flakes для тропічних акваріумних риб пластівці 12г","Більше 100","Корм сухий для акваріумних риб",44.94,58,0,{"$f":"G116*I116","v":0}]
[null,5102,762718,"Корм Tetra Min Flakes для тропічних акваріумних риб пластівці 250мл","Більше 10","Корм сухий для акваріумних риб",253.26,330,0,{"$f":"G117*I117","v":0}]
[null,11121,139749,"Корм Tetra Min Granules для акваріумних рибок гранули 100г/250мл","Більше 10","Корм сухий для акваріумних риб",295.32,383,0,{"$f":"G118*I118","v":0}]
[null,11812,134492,"Корм Tetra Min Granules для акваріумних рибок гранули 15г","Більше 100","Корм сухий для акваріумних риб",54.54,71,0,{"$f":"G119*I119","v":0}]
[null,1111138164,240568,"Корм Tetra Min Granules для акваріумних рибок гранули 200г/500мл","Більше 10","Корм сухий для акваріумних риб",511.92,665,0,{"$f":"G120*I120","v":0}]
[null,1111116457,201361,"Корм Tetra Min Granules для акваріумних рибок гранули 4,2кг/10л","Більше 10","Корм сухий для акваріумних риб",4040.76,5455,0,{"$f":"G121*I121","v":0}]
[null,311890,199057,"Корм Tetra Min Mini Granules для акваріумних рибок гранули 45г","Більше 10","Корм сухий для акваріумних риб",150.12,195,0,{"$f":"G122*I122","v":0}]
[null,11906,134430,"Корм Tetra Phyll Flakes для травоїдних рибок пластівці 12г","Більше 10","Корм сухий для акваріумних риб",50.7,66,0,{"$f":"G123*I123","v":0}]
[null,1111131087,193840,"Корм Tetra Pleco Spirulina Wafers д/травоїд/донн/риб пласт 1,75кг/3,6л","Менше 10","Корм сухий для акваріумних риб",3105.06,4036,0,{"$f":"G124*I124","v":0}]
[null,1111123361,199118,"Корм Tetra Pleco Veggie Wafers д/травоїдн/донних/риб пласт 110г/250мл","Більше 10","Корм сухий для акваріумних риб",377.52,491,0,{"$f":"G125*I125","v":0}]
[null,8330,"758629СПЕЦЦЕНА","Корм Tetra Pond KOI Sticks для риб коропів кої гранули 10л","Більше 10","Корм сухий для ставкових риб",737.34,995,0,{"$f":"G126*I126","v":0}]
[null,12848,"757608СПЕЦЦЕНА","Корм Tetra Pond KOI Sticks для риб коропів кої гранули 1л","Менше 10","Корм сухий для ставкових риб",149.4,217,0,{"$f":"G127*I127","v":0}]
[null,8324,"140189СПЕЦЦЕНА","Корм Tetra Pond Sticks для ставкових риб палички 1л","Більше 100","Корм сухий для ставкових риб",107.04,155,0,{"$f":"G128*I128","v":0}]
[null,1111114141,149397,"Корм Tetra PRO Algae Multi-Crisps д/травоїдних риб чипси з овочами 12г","Більше 10","Корм сухий для акваріумних риб",62.16,81,0,{"$f":"G129*I129","v":0}]
[null,13564,140516,"Корм Tetra Pro Colour Multi-Crisps д/акв/риб яск/забар чіпси 10л/2,1кг","Менше 10","Корм сухий для акваріумних риб",3875.7,5232,0,{"$f":"G130*I130","v":0}]
[null,311889,140677,"Корм Tetra Pro Colour Multi-Crisps д/акв/риб яск/забар чіпси 55г/250мл","Більше 10","Корм сухий для акваріумних риб",314.45999999999998,408,0,{"$f":"G131*I131","v":0}]
[null,1111114140,149366,"Корм Tetra PRO Colour Multi-Crisps д/аквар/риб яскрав/забарв чіпси 12г","Більше 100","Корм сухий для акваріумних риб",62.16,81,0,{"$f":"G132*I132","v":0}]
[null,13541,141742,"Корм Tetra Pro Energy Multi-Crisps д/акваріумних риб чіпси 55г/250мл","Більше 10","Корм сухий для акваріумних риб",314.45999999999998,408,0,{"$f":"G133*I133","v":0}]
[null,13559,141582,"Корм Tetra Pro Energy Multi-Crisps для акваріумних риб чіпси 10л/2,1кг","Більше 10","Корм сухий для акваріумних риб",3875.7,5232,0,{"$f":"G134*I134","v":0}]
[null,1111114139,149335,"Корм Tetra PRO Energy Multi-Crisps для акваріумних риб чіпси 12г","Більше 100","Корм сухий для акваріумних риб",62.16,81,0,{"$f":"G135*I135","v":0}]
[null,12571,199033,"Корм Tetra Red Parrot для рибок папуг кульки 320г/1л","Менше 10","Корм сухий для акваріумних риб",867.12,1128,0,{"$f":"G136*I136","v":0}]
[null,1111131127,194816,"Корм Tetra ReptoFrog для жаб та тритонів 100мл","Менше 10","Корм сухий для черепах та рептилій",218.94,285,0,{"$f":"G137*I137","v":0}]
[null,1111111563,133068,"Корм Tetra ReptoMin Energy для черепах палички 100мл","Більше 10","Корм сухий для черепах та рептилій",129.06,169,0,{"$f":"G138*I138","v":0}]
[null,1111129885,178649,"Корм Tetra ReptoMin Energy для черепах палички 250мл","Більше 10","Корм сухий для черепах та рептилій",286.74,373,0,{"$f":"G139*I139","v":0}]
[null,10734,740365,"Корм Tetra ReptoMin Gammarus для водних черепах 250мл","Менше 10","Корм сухий для черепах та рептилій",118.08,154,0,{"$f":"G140*I140","v":0}]
[null,1111145678,258853,"Корм Tetra ReptoMin Junior для черепах палички 30г/100мл","Більше 10","Корм сухий для черепах та рептилій",102.3,133,0,{"$f":"G141*I141","v":0}]
[null,1111128642,189966,"Корм Tetra ReptoMin Mix Gammarus для водних черепах 250мл","Більше 10","Корм сухий для черепах та рептилій",195.96,254,0,{"$f":"G142*I142","v":0}]
[null,8314,139862,"Корм Tetra ReptoMin для водоплавних черепах палички 100мл","Більше 10","Корм сухий для черепах та рептилій",102.3,133,0,{"$f":"G143*I143","v":0}]
[null,4056,761346,"Корм Tetra ReptoMin для водоплавних черепах палички 250мл","Більше 10","Корм сухий для черепах та рептилій",224.04,291,0,{"$f":"G144*I144","v":0}]
[null,1111131088,753518,"Корм Tetra ReptoMin для черепах палички 130г/500мл","Більше 10","Корм сухий для черепах та рептилій",403.98,525,0,{"$f":"G145*I145","v":0}]
[null,1111133734,201354,"Корм Tetra ReptoMin для черепах палички 2,8кг/10л","Менше 10","Корм сухий для черепах та рептилій",3499.86,4549,0,{"$f":"G146*I146","v":0}]
[null,8894,204270,"Корм Tetra ReptoMin для черепах палички 270г/1л","Більше 10","Корм сухий для черепах та рептилій",649.86,845,0,{"$f":"G147*I147","v":0}]
[null,1695,767362,"Корм Tetra Rubin Flakes д/аквар/рибок забарвлення пластівці 52г/250мл","Більше 10","Корм сухий для акваріумних риб",301.08,392,0,{"$f":"G148*I148","v":0}]
[null,12146,766396,"Корм Tetra Rubin Flakes д/акваріумних риб д/забарвлення пластивці 12г","Більше 100","Корм сухий для акваріумних риб",50.7,66,0,{"$f":"G149*I149","v":0}]
[null,1111131114,193765,"Корм Tetra Rubin Granules д/аквар/риб яскравіс/забарвлення гранули 15г","Більше 100","Корм сухий для акваріумних риб",62.16,81,0,{"$f":"G150*I150","v":0}]
[null,11119,139800,"Корм Tetra Rubin Granules д/аквар/рибок яскр/забарв гранули 100г/250мл","Більше 10","Корм сухий для акваріумних риб",360.3,469,0,{"$f":"G151*I151","v":0}]
[null,1111128326,189911,"Корм Tetra Wafer Mini Mix для акваріумних донних риб таблетки 100мл","Більше 10","Корм сухий для акваріумних риб",269.52,351,0,{"$f":"G152*I152","v":0}]
[null,11813,134461,"Корм Tetra Wafer Mix д/аквар/донних риб та ракообразних пластини 15г","Більше 100","Корм сухий для акваріумних риб",65.040000000000006,84,0,{"$f":"G153*I153","v":0}]
[null,1111131091,193826,"Корм Tetra Wafer Mix для акваріумних донних риб таблетки 1,85кг/3,6л","Більше 10","Корм сухий для акваріумних риб",2684.52,3625,0,{"$f":"G154*I154","v":0}]
[null,12586,198890,"Корм Tetra Wafer Mix для акваріумних донних риб таблетки 119г/250мл","Більше 10","Корм сухий для акваріумних риб",459.72,597,0,{"$f":"G155*I155","v":0}]
[null,11435,140066,"Корм Tetra Wafer Mix для акваріумних донних риб таблетки 48г/100мл","Більше 10","Корм сухий для акваріумних риб",226.5,295,0,{"$f":"G156*I156","v":0}]
[null,8963,767423,"Корм Tetra Weekend д/акваріумних рибок під час трив/відс/палички 20шт","Більше 10","Корм сухий для акваріумних риб",229.38,298,0,{"$f":"G157*I157","v":0}]
[null,8326,"241602СПЕЦЦЕНА","Корм Tetra для ставкових риб Тетра Понд Стікс палички 50л/5,04кг","Більше 100","Корм сухий для ставкових риб",1912.38,2582,0,{"$f":"G158*I158","v":0}]
[null,1111174267,"149519_ord","Корм Tetra палички для сух-х черепах Тетра Тортоуз 500мл","Більше 10","Корм сухий для черепах та рептилій",307.68,400,0,{"$f":"G159*I159","v":0}]
[null,5744,199156,"Корм TetraMin Baby для малька порошок 66мл","Менше 10","Корм сухий для акваріумних риб",183.48,239,0,{"$f":"G160*I160","v":0}]
[null,1111157245,277557,"Корм сухий Tetra Micro Crisps для тропічних акваріумних риб чіпси 100м","Менше 10","Корм сухий для акваріумних риб",195.3,253,0,{"$f":"G161*I161","v":0}]
[null,1111157247,277526,"Корм сухий Tetra Micro Sticks для тропічних акваріумних риб палички 10","Більше 10","Корм сухий для акваріумних риб",195.3,253,0,{"$f":"G162*I162","v":0}]
[null,1111130295,"179158_ord","Кріплення для фільтра Tetratec Easy Crystal 250","Менше 10","Аксесуари для обладнання",94.74,128,0,{"$f":"G163*I163","v":0}]
[null,1111130296,"179165_ord","Кріплення для фільтра Tetratec Easy Crystal 300","Менше 10","Аксесуари для обладнання",155.46,210,0,{"$f":"G164*I164","v":0}]
[null,9214,"768673_ord","Ласощі Tetra желе для риб Фреш Деліка артемія 48г","Менше 10","Корм сухий для акваріумних риб",270.83999999999997,352,0,{"$f":"G165*I165","v":0}]
[null,1111174265,"236707_ord","Ласощі Tetra желе для риб Фреш Деліка криль 48г","Менше 10","Корм сухий для акваріумних риб",266.58,346,0,{"$f":"G166*I166","v":0}]
[null,1111122069,"169241_ord","Ласощі Tetra сухі для черепах Репто Деліка креветки 250мл","Менше 10","Корм сухий для черепах та рептилій",286.44,372,0,{"$f":"G167*I167","v":0}]
[null,1111113829,"179400_ordСПЕЦЦЕНА","Набір запчастин для компресора Tetratec APS 50","Менше 10","Аксесуари для акваріума",176.04,237,0,{"$f":"G168*I168","v":0}]
[null,1111162343,"286962_ord","Набір запчастин для фільтра Tetra FilterJet","Менше 10","Аксесуари для обладнання",236.64,319,0,{"$f":"G169*I169","v":0}]
[null,1111205896,"324756СПЕЦЦЕНА","Набір індик/тестів Tetra Pond Test 7in1 д/ставка показ/якост/води 25шт","Менше 10","Засоби для догляду за ставком",398.88,538,0,{"$f":"G170*I170","v":0}]
[null,1111122049,175488,"Набір тестів Tetra Test 6in1 д/акваріумів вимір/парам/води індикатори","Більше 10","Тести для води",649.86,845,0,{"$f":"G171*I171","v":0}]
[null,1111112938,145566,"Наповнювач Tetra BioBalls біо-кульки для зовнішнього фільтра EX 800мл","Менше 10","Фільтри для акваріумів",326.76,441,0,{"$f":"G172*I172","v":0}]
[null,1111113823,145603,"Наповнювач Tetra Carbon д/зовнішн/фільтра EX 600-1500 вугільний 800мл","Менше 10","Фільтри для акваріумів",345.12,466,0,{"$f":"G173*I173","v":0}]
[null,1111113807,145573,"Наповнювач Tetra Filter Rings д/зовніш/фільтра EX кераміч/кільця 800мл","Менше 10","Фільтри для акваріумів",275.22000000000003,372,0,{"$f":"G174*I174","v":0}]
[null,1111115081,"145122****","Обігрівач Tetratec HT 25 Вт","Менше 10","Обігрівачі для акваріума",1019.88,1478,0,{"$f":"G175*I175","v":0}]
[null,1111154450,557635,"Пакет Tetra д/транспортування риб Fish Transport Bag великий 50шт/упак","Більше 10","Аксесуари для акваріума",622.79999999999995,1027,0,{"$f":"G176*I176","v":0}]
[null,1111154452,543829,"Пакет Tetra д/транспортування риб Fish Transport Bag маленьк 50шт/упак","Більше 10","Аксесуари для акваріума",373.68,616,0,{"$f":"G177*I177","v":0}]
[null,1111184022,"304611_ord","Перехідник для шлангів Tetra EX500/700/1000 40 МК","Менше 10","Аксесуари для обладнання",708.42,956,0,{"$f":"G178*I178","v":0}]
[null,1111184027,"304994_ord","Присоски Tetra для фільтра EX1500 4ct 40 MK","Менше 10","Аксесуари для обладнання",160.19999999999999,216,0,{"$f":"G179*I179","v":0}]
[null,1111184026,"304710_ord","Присоски Tetra для фільтра EX500/700/1000 4ct 40MK","Менше 10","Аксесуари для обладнання",160.19999999999999,216,0,{"$f":"G180*I180","v":0}]
[null,9874,603523,"Розпилювач Tetra AS30 для акваріума повітряний циліндр 30мм","Більше 10","Аксесуари для акваріума",40.26,66,0,{"$f":"G181*I181","v":0}]
[null,9617,603554,"Розпилювач Tetra AS35 для акваріума повітряний циліндр 35мм","Більше 10","Аксесуари для акваріума",44.4,74,0,{"$f":"G182*I182","v":0}]
[null,1111132864,"603561_ord","Розпилювач Tetra AS40 для акваріума повітряний циліндр 40мм","Менше 10","Аксесуари для акваріума",53.76,89,0,{"$f":"G183*I183","v":0}]
[null,9226,603578,"Розпилювач Tetra AS45 для акваріума повітряний циліндр 45мм","Більше 10","Аксесуари для акваріума",60.42,100,0,{"$f":"G184*I184","v":0}]
[null,10518,607590,"Розпилювач Tetra AS50 для ставків круглий","Більше 10","Обладнання для ставка",134.16,224,0,{"$f":"G185*I185","v":0}]
[null,1111128391,"134706_ord","Ротор Tetra для внутрішнього фільтра IN 600 Plus","Менше 10","Аксесуари для обладнання",352.08,528,0,{"$f":"G186*I186","v":0}]
[null,1111138155,"213647_ord","Ротор Tetra для внутрішнього фільтра акваріума Cascade Globe","Менше 10","Аксесуари для обладнання",178.62,242,0,{"$f":"G187*I187","v":0}]
[null,1111146730,"260160_ord","Ротор Tetra для зовнішнього фільтра EX 400 Plus","Менше 10","Аксесуари для обладнання",845.82,1142,0,{"$f":"G188*I188","v":0}]
[null,1111184018,"304734_ord","Ротор Tetra для фільтра EX1000 40 MK","Менше 10","Аксесуари для обладнання",755.64,1020,0,{"$f":"G189*I189","v":0}]
[null,1111184019,"304758_ord","Ротор Tetra для фільтра EX1500 40 MK","Менше 10","Аксесуари для обладнання",877.68,1184,0,{"$f":"G190*I190","v":0}]
[null,1111184016,"304956_ord","Ротор Tetra для фільтра EX500 40 MK","Менше 10","Аксесуари для обладнання",658.26,888,0,{"$f":"G191*I191","v":0}]
[null,1111184017,"304574_ord","Ротор Tetra для фільтра EX700 40 MK","Менше 10","Аксесуари для обладнання",708.42,956,0,{"$f":"G192*I192","v":0}]
[null,1111162337,"286979_ord","Ротор Tetra для фільтра FilterJet 400","Менше 10","Аксесуари для обладнання",172.02,232,0,{"$f":"G193*I193","v":0}]
[null,1111162338,"286986_ord","Ротор Tetra для фільтра FilterJet 600","Менше 10","Аксесуари для обладнання",172.02,232,0,{"$f":"G194*I194","v":0}]
[null,1111162339,"286993_ord","Ротор Tetra для фільтра FilterJet 900","Менше 10","Аксесуари для обладнання",172.02,232,0,{"$f":"G195*I195","v":0}]
[null,1111113824,"145610_ord","Ротор для фільтра Tetratec EX 600","Менше 10","Аксесуари для обладнання",759.42,1025,0,{"$f":"G196*I196","v":0}]
[null,1111143260,"145627_ord","Ротор для фільтра Tetratec EX 800 plus","Менше 10","Аксесуари для обладнання",902.82,1219,0,{"$f":"G197*I197","v":0}]
[null,1111113826,"145634_ord","Ротор для фільтра Tetratec ЕX 1200","Менше 10","Аксесуари для обладнання",653.16,882,0,{"$f":"G198*I198","v":0}]
[null,1111138156,"240698_ord","Ротор для фільтра Tetratec ЕX 1200 plus","Більше 10","Аксесуари для обладнання",1128.48,1524,0,{"$f":"G199*I199","v":0}]
[null,13571,724457,"Сачок Tetra Fish Net для акваріумів середній 10см","Більше 10","Аксесуари для акваріума",46.2,76,0,{"$f":"G200*I200","v":0}]
[null,1111111565,762312,"Сифон Tetra GC 30 для акваріума для чищення грунту 20-60л","Менше 10","Аксесуари для акваріума",486.6,803,0,{"$f":"G201*I201","v":0}]
[null,11737,762329,"Сифон Tetra GC 40 для акваріума для чищення грунту 50-200л","Менше 10","Аксесуари для акваріума",611.88,1009,0,{"$f":"G202*I202","v":0}]
[null,8788,762336,"Сифон Tetra GC 50 для акваріума для чищення грунту 50-400л","Менше 10","Аксесуари для акваріума",754.56,1244,0,{"$f":"G203*I203","v":0}]
[null,1111145637,246898,"Субстрат Tetra Active Substrate для акваріума з рослинами 3л","Більше 10","Грунти для акваріума",315.42,411,0,{"$f":"G204*I204","v":0}]
[null,12845,297524,"Субстрат Tetra CompleteSubstrate з добривами 2,5кг","Менше 10","Грунти для акваріума",482.64,627,0,{"$f":"G205*I205","v":0}]
[null,12846,245303,"Субстрат Tetra CompleteSubstrate з добривами 5кг","Менше 10","Грунти для акваріума",833.22,1083,0,{"$f":"G206*I206","v":0}]
[null,1111202085,175655,"ТЕРМ 09.25 НТВ Засіб Tetra SafeStart аквар/негай/запуск/риб 250мл/300л","Менше 10","Кондиціонери для води",369.6,0,0,{"$f":"G207*I207","v":0}]
[null,1111208450,193765,"ТЕРМ. 02.26, НЕТОВ.В.. Корм сухий Tetra Rubin Granules для акваріумних","Менше 10","Корм сухий для акваріумних риб",31.08,0,0,{"$f":"G208*I208","v":0}]
[null,1111207239,204270,"ТЕРМ. 05.27, ПОМ'ЯТ. Корм Tetra ReptoMin для черепах палички 270 г/ 1","Менше 10","Корм сухий для черепах та рептилій",324.95999999999998,0,0,{"$f":"G209*I209","v":0}]
[null,1111202822,175655,"ТЕРМ. 09.25 Засіб Tetra SafeStart аквар/негай/запуск/риб 250мл/300л","Більше 10","Кондиціонери для води",390.96,0,0,{"$f":"G210*I210","v":0}]
[null,1111113798,"753686_ordСПЕЦЦЕНА","Термометр Tetratec TH35","Менше 10","Аксесуари для акваріума",166.74,439,0,{"$f":"G211*I211","v":0}]
[null,1111170986,302761,"Фільтр Tetra External EX 1000 для акваріума 100-300л 1150л/год","Менше 10","Фільтри для акваріумів",6449.82,8708,0,{"$f":"G212*I212","v":0}]
[null,1111170984,302808,"Фільтр Tetra External EX 500 для акваріума 100л 910л/год","Менше 10","Фільтри для акваріумів",4887.4799999999996,6598,0,{"$f":"G213*I213","v":0}]
[null,1111158747,"287143_ord","Фільтр Tetra FilterJet 600","Менше 10","Фільтри для акваріумів",937.68,1266,0,{"$f":"G214*I214","v":0}]
[null,1111158748,"287167_ord","Фільтр Tetra FilterJet 900","Менше 10","Фільтри для акваріумів",1051.98,1420,0,{"$f":"G215*I215","v":0}]
[null,1111170985,302747,"Фільтр Tetra для акваріумів External EX 700 Plus 1040л/год","Менше 10","Фільтри для акваріумів",5542.68,7482,0,{"$f":"G216*I216","v":0}]
[null,6855,"607668_ord","Фільтр Tetratec IN 800 150 л","Менше 10","Фільтри для акваріумів",1614,2179,0,{"$f":"G217*I217","v":0}]
[null,1111182159,"288317_ord","Фільтр для акваріума Tetra EasyCrystal Filter 100","Більше 10","Фільтри для акваріумів",998.16,1348,0,{"$f":"G218*I218","v":0}]
[null,1111122804,157026,"Шланг Tetra Tetratec силіконовий 2,5м","Менше 10","Аксесуари для обладнання",98.16,162,0,{"$f":"G219*I219","v":0}]
[null,1111184021,"304772_ord","Шланг Tetra для фільтра EX1500 6 MK","Менше 10","Аксесуари для обладнання",807.42,1091,0,{"$f":"G220*I220","v":0}]
[null,1111184020,"304598_ord","Шланг Tetra для фільтра EX500/700/1000 12 МК","Менше 10","Аксесуари для обладнання",483.6,652,0,{"$f":"G221*I221","v":0}]
[null,1111137351,"239364_ord","Щітка для чищення трубок Tetra 160 см","Більше 10","Аксесуари для акваріума",305.52,628,0,{"$f":"G222*I222","v":0}]

{"sheet":"Trixie","index":55,"n_rows":1819,"n_cols":10,"rows_kept":1819,"cut":false,"hidden":false,"merged":[]}
[]
[null,null,null,null,null,null,"suziria.ua"]
[null,null,null,null,null,null,"0 800 21 82 99"]
[null,null,null,null,null,null,"feedback@suziria.ua"]
[]
["Зображення","Код","Артикул","Номенклатура","Наявність","Категорія","Ціна опт.","Ціна РРЦ","Замовлення, шт.","Сума, грн."]
[null,null,null,null,null,null,null,null,null,{"$f":"СУММ(J8:J1819)","v":{"$error":"#NAME?"}}]
[null,1111183911,"31282_10шт*****","Denta Fun Veggie Медова гребінець з морськ. водоростями д/собак 12 см","Менше 10",null,629.4,818,0,{"$f":"G8*I8","v":0}]
[null,1111183909,"31283_10шт*****","Denta Fun Veggie Щелепна кістка для собак велика 12 см 35 г","Менше 10",null,391.62,509,0,{"$f":"G9*I9","v":0}]
[null,1111183905,"31284_5шт*****","Denta Fun Veggie Щелепна кістка для собак велика 22 см 85 г","Менше 10",null,468.6,609,0,{"$f":"G10*I10","v":0}]
[null,1111184076,"2756*****","Ham bone Trixie д/собак Кістка окосту 24 см 390 г","Більше 10","Ласощі для собак",148.26,193,0,{"$f":"G11*I11","v":0}]
[null,1111184077,"31412*****","Pig tibia bonе Trixie д/собак Свиняча гомілкова кістка 17 см 200 г","Більше 10","Ласощі для собак",117.54,153,0,{"$f":"G12*I12","v":0}]
[null,1111183266,42755,"PREMIO Freeze Dried крветки 25 г","Більше 100","Ласощі для котів",131.52000000000001,171,0,{"$f":"G13*I13","v":0}]
[null,1111184062,"31843*****","PREMIO lamb pâté Trixie д/собак Паштет з баранини 110г","Більше 10","Ласощі для собак",191.64,249,0,{"$f":"G14*I14","v":0}]
[null,1111184056,"3176*****","PREMIO liver pâté Trixie д/собак Печінковий паштет 110г","Більше 100","Ласощі для собак",167.88,218,0,{"$f":"G15*I15","v":0}]
[null,1111184058,"3179*****","PREMIO poultry pâté Trixie д/собак Паштет з птиці 110г","Більше 100","Ласощі для собак",191.64,249,0,{"$f":"G16*I16","v":0}]
[null,1111184057,"3178*****","PREMIO salmon pâté Trixie д/собак Паштет з лосося 110г","Більше 100","Ласощі для собак",191.64,249,0,{"$f":"G17*I17","v":0}]
[null,1111153606,"2673_10шт","Trixie Chewing Ball д/собак М_яч жувальний начинка/шкіра 8см 170г 10шт","Менше 10","Ласощі для собак",1258.8,1636,0,{"$f":"G18*I18","v":0}]
[null,1111170305,31505,"Trixie Chicken Burger для собак Бургер з куркою 9см 140г","Більше 10","Ласощі для собак",202.8,264,0,{"$f":"G19*I19","v":0}]
[null,1111151354,42743,"Trixie Cookies ласощі для котів лосось/котяча м_ята 50г","Більше 100","Ласощі для котів",55.98,73,0,{"$f":"G20*I20","v":0}]
[null,1111176339,42683,"Trixie Creamy Snacks для котів з білою риби 5шт х 14г","Більше 100","Ласощі для котів",82.56,107,0,{"$f":"G21*I21","v":0}]
[null,1111176337,42681,"Trixie Creamy Snacks для котів з куркою 5шт х 14г","Більше 100","Ласощі для котів",82.56,107,0,{"$f":"G22*I22","v":0}]
[null,1111176338,42682,"Trixie Creamy Snacks для котів з тунцем і креветками 5шт х 14г","Більше 100","Ласощі для котів",82.56,107,0,{"$f":"G23*I23","v":0}]
[null,13429,31501,"Trixie Denta Fun Chew Bites ласощі для собак петрушка/м_ята 150г","Немає в наявності","Ласощі для собак",100.74,131,0,{"$f":"G24*I24","v":0}]
[null,1111116717,"2674*****","Trixie Denta Fun Chewing Chips ласощі для собак спіруліна 50г","Більше 100","Ласощі для собак",82.56,107,0,{"$f":"G25*I25","v":0}]
[null,1111143414,31342,"Trixie Denta Fun Chewing Dumbbells ласощі для собак курка/рис 100г 6шт","Більше 10","Ласощі для собак",113.34,147,0,{"$f":"G26*I26","v":0}]
[null,1111156267,31372,"Trixie Denta Fun Chewing Rolls Mix паличка для собак асорті 10см 250г","Більше 100","Ласощі для собак",414,538,0,{"$f":"G27*I27","v":0}]
[null,1111156268,31395,"Trixie Denta Fun Chewing Rolls паличка для собак качка 12см 240г 30шт","Більше 100","Ласощі для собак",377.64,491,0,{"$f":"G28*I28","v":0}]
[null,1111134918,31371,"Trixie Denta Fun Chewing Rolls паличка для собак качка 12см 80г 10шт","Більше 100","Ласощі для собак",125.88,164,0,{"$f":"G29*I29","v":0}]
[null,1111134919,31373,"Trixie Denta Fun Chewing Rolls паличка для собак качка 17см 140г 3шт","Більше 100","Ласощі для собак",186.06,242,0,{"$f":"G30*I30","v":0}]
[null,1111134920,31374,"Trixie Denta Fun Chewing Rolls паличка для собак качка 28см 250г 3шт","Більше 100","Ласощі для собак",323.10000000000002,420,0,{"$f":"G31*I31","v":0}]
[null,1111140898,31378,"Trixie Denta Fun Chewing Rolls паличка для собак курка 12см 240г 30шт","Більше 100","Ласощі для собак",337.08,438,0,{"$f":"G32*I32","v":0}]
[null,1111137237,31325,"Trixie Denta Fun Chewing Rolls паличка для собак курка 12см 70г 6шт","Більше 100","Ласощі для собак",102.12,133,0,{"$f":"G33*I33","v":0}]
[null,1111140896,31376,"Trixie Denta Fun Chewing Rolls паличка для собак курка 12см 80г 10шт","Більше 100","Ласощі для собак",186.06,242,0,{"$f":"G34*I34","v":0}]
[null,1111139988,31321,"Trixie Denta Fun Chicken Chewing Bone ласощі д/собак курка 70г/5шт","Більше 10","Ласощі для собак",103.5,135,0,{"$f":"G35*I35","v":0}]
[null,1111120314,4266,"Trixie Denta Fun Dentinos ласощі для котів для здоров_я зубів 50г","Більше 10","Вітаміни для котів",64.38,84,0,{"$f":"G36*I36","v":0}]
[null,1111134756,3173,"Trixie Denta Fun Dentros ласощі для собак м_ясо птахів 180г 7шт","Більше 100","Ласощі для собак",89.52,116,0,{"$f":"G37*I37","v":0}]
[null,1111141111,31391,"Trixie Denta Fun Duck Chewing Bones ласощі для собак качка 10см 70г","Більше 100","Ласощі для собак",125.88,164,0,{"$f":"G38*I38","v":0}]
[null,1111141112,31392,"Trixie Denta Fun Duck Chewing Bones ласощі для собак качка 12см 120г","Більше 100","Ласощі для собак",186.06,242,0,{"$f":"G39*I39","v":0}]
[null,1111148380,31347,"Trixie Denta Fun Mini Chewing Rolls паличка для собак качка 6см 120г","Більше 100","Ласощі для собак",166.44,216,0,{"$f":"G40*I40","v":0}]
[null,1111148379,31346,"Trixie Denta Fun Mini для собак Палички для чищ/зубів курка 6см 120г","Більше 100","Ласощі для собак",166.44,216,0,{"$f":"G41*I41","v":0}]
[null,1111146289,31387,"Trixie Denta Fun д/соб Роли жувальні натур шкіра 12см 75г 10шт/уп","Більше 100","Ласощі для собак",145.5,189,0,{"$f":"G42*I42","v":0}]
[null,1111170299,31331,"Trixie Denta Fun д/собак Кільце для чищ/зубів курка 20см 225г","Більше 10","Ласощі для собак",360.9,469,0,{"$f":"G43*I43","v":0}]
[null,1111170293,"311841*****","Trixie Denta Fun д/собак Кільце для чищ/зубів курка 5см 27г 150шт","Менше 10","Ласощі для собак",8391.9,10909,0,{"$f":"G44*I44","v":0}]
[null,1111170300,31332,"Trixie Denta Fun д/собак Кільце для чищ/зубів курка 6см 110г 2шт","Більше 10","Ласощі для собак",207,269,0,{"$f":"G45*I45","v":0}]
[null,1111161304,31225,"Trixie Denta Fun д/собак Паличка для чищ/зубів яловичина 12см 70г 6шт","Більше 100","Ласощі для собак",103.5,135,0,{"$f":"G46*I46","v":0}]
[null,1111161305,"9931227/31227_3 шт","Trixie Denta Fun д/собак Паличка для чищ/зубів яловичина 17см 140г 3шт","Більше 100","Ласощі для собак",207,269,0,{"$f":"G47*I47","v":0}]
[null,1111141771,31388,"Trixie Denta Fun д/собак Паличка для чищення зубів буйвол 12см 70г 5шт","Більше 100","Ласощі для собак",145.5,189,0,{"$f":"G48*I48","v":0}]
[null,1111137240,"31329_1шт","Trixie Denta Fun д/собак Палички для чищення зубів з куркою 40см 170 г","Більше 100","Ласощі для собак",226.62,295,0,{"$f":"G49*I49","v":0}]
[null,1111156276,31338,"Trixie Denta Fun д/собак Палички для чищення зубів кролик 12см 70г 6шт","Більше 10","Ласощі для собак",113.34,147,0,{"$f":"G50*I50","v":0}]
[null,1111140897,31377,"Trixie Denta Fun д/собак Палички для чищення зубів курка 12см 105г 3шт","Більше 10","Ласощі для собак",207,269,0,{"$f":"G51*I51","v":0}]
[null,1111137239,31327,"Trixie Denta Fun д/собак Палички для чищення зубів курка 17см 140г 3шт","Більше 100","Ласощі для собак",186.06,242,0,{"$f":"G52*I52","v":0}]
[null,1111137238,31326,"Trixie Denta Fun д/собак Палички для чищення зубів курка 28см 250г 3шт","Більше 100","Ласощі для собак",323.10000000000002,420,0,{"$f":"G53*I53","v":0}]
[null,1111116716,"2682*****","Trixie Denta Fun д/собак Пластинки для чищен/зубів зі спіруліною 100г","Більше 100","Ласощі для собак",158.1,205,0,{"$f":"G54*I54","v":0}]
[null,1111139737,"31328_1шт","Trixie Denta Fun для собак Кільце для чищ/зубів з куркою 10см 110г","Більше 10","Ласощі для собак",166.44,216,0,{"$f":"G55*I55","v":0}]
[null,1111146646,"31324_1шт","Trixie Denta Fun для собак Кісточка для чищ/зубів з куркою 18см 120г","Більше 10","Ласощі для собак",145.5,189,0,{"$f":"G56*I56","v":0}]
[null,1111144020,"31345_1шт*****","Trixie Denta Fun для собак Кісточка для чищ/зубів з куркою 20см 200г","Менше 10","Ласощі для собак",226.62,295,0,{"$f":"G57*I57","v":0}]
[null,1111146645,"31320_1шт","Trixie Denta Fun для собак Кісточка для чищ/зубів з куркою 25см 220г","Більше 10","Ласощі для собак",250.38,325,0,{"$f":"G58*I58","v":0}]
[null,1111139989,31322,"Trixie Denta Fun для собак Кісточка для чищ/зубів курка 11см 70г 2шт","Більше 100","Ласощі для собак",103.5,135,0,{"$f":"G59*I59","v":0}]
[null,1111134917,31340,"Trixie Denta Fun для собак Кісточка для чищ/зубів курка 5см 120г 8шт","Більше 10","Ласощі для собак",183.24,238,0,{"$f":"G60*I60","v":0}]
[null,1111115309,"31121_1шт*****","Trixie Denta Fun для собак Кісточка для чищ/зубів шкіра 16см 110г","Більше 10","Ласощі для собак",158.1,205,0,{"$f":"G61*I61","v":0}]
[null,12226,"31141_1шт*****","Trixie Denta Fun для собак Кісточка для чищ/зубів шкіра 24см 240г","Більше 10","Ласощі для собак",320.33999999999997,416,0,{"$f":"G62*I62","v":0}]
[null,1111186068,"31475_5шт*****","Trixie Denta Fun Косички з яловичиною для собак 12см 5шт","Більше 10","Ласощі для собак",195.84,255,0,{"$f":"G63*I63","v":0}]
[null,1111144019,"31344_1шт","Trixie Denta Fun ласощі д/собак Кістка для чищення зубів 17см 140г1шт","Більше 10","Ласощі для собак",186.06,242,0,{"$f":"G64*I64","v":0}]
[null,1111163209,"31473*****","Trixie DentaFun Chicken Chewing ласощі д/собак курка 15см 110г 3шт","Більше 10","Ласощі для собак",226.62,295,0,{"$f":"G65*I65","v":0}]
[null,1111170303,31466,"Trixie DentaFun д/соб Реберця качка натур шкір 17см 110г 2шт/уп","Більше 10","Ласощі для собак",207,269,0,{"$f":"G66*I66","v":0}]
[null,1111170304,31467,"Trixie DentaFun д/соб Реберця курка натур шкіра 12см 90г 3шт/уп","Більше 10","Ласощі для собак",166.44,216,0,{"$f":"G67*I67","v":0}]
[null,1111121023,"31492  Trixie","Trixie Flowers ласощі для собак малих порід та цуценят ягня/курка 75г","Більше 100","Ласощі для собак",68.58,89,0,{"$f":"G68*I68","v":0}]
[null,1111162485,31518,"Trixie Junior Soft Snack Bones ласощі для цуценят з кальцієм 140г","Більше 10","Вітаміни для собак",123.12,160,0,{"$f":"G69*I69","v":0}]
[null,1111162486,31519,"Trixie Junior Soft Snack Dots ласощі для цуценят з Омега-3 та 6 140г","Більше 100","Вітаміни для собак",123.12,160,0,{"$f":"G70*I70","v":0}]
[null,1111170289,31656,"Trixie Mini Pretzels для собак крендель з куркою 100г","Більше 100","Ласощі для собак",166.44,216,0,{"$f":"G71*I71","v":0}]
[null,1111156266,"27127*****","Trixie Natural Dried для собак Хвіст буйвола 28-30см","Більше 10","Ласощі для собак",166.44,216,0,{"$f":"G72*I72","v":0}]
[null,1111156271,31853,"Trixie Premio 4 Meat Bars для собак курка/качкабаранина/лосось 4х100г","Більше 10","Ласощі для собак",462.96,602,0,{"$f":"G73*I73","v":0}]
[null,1111156270,31852,"Trixie Premio 4 Meat Minis для собак курка/качка/ялович/баранин 4х100г","Більше 10","Ласощі для собак",462.96,602,0,{"$f":"G74*I74","v":0}]
[null,1111156272,"31854*****","Trixie Premio 4 Meat Superfoods д/собак курка/качка/ялов/баран 4х100г","Менше 10","Ласощі для собак",462.96,602,0,{"$f":"G75*I75","v":0}]
[null,1111138613,31593,"Trixie Premio Apple Chicken ласощі для собак з куркою та яблуком 100г","Більше 10","Ласощі для собак",137.1,178,0,{"$f":"G76*I76","v":0}]
[null,1111129082,31582,"Trixie Premio Banana Chicken ласощі для собак з куркою та бананом 100г","Більше 10","Ласощі для собак",137.1,178,0,{"$f":"G77*I77","v":0}]
[null,1111124005,42703,"Trixie Premio Barbecue Hearts ласощі для котів сердечка з куркою 50г","Більше 100","Ласощі для котів",82.56,107,0,{"$f":"G78*I78","v":0}]
[null,1111140891,31706,"Trixie Premio Beef Coins ласощі для собак яловичина 100г","Більше 100","Ласощі для собак",145.5,189,0,{"$f":"G79*I79","v":0}]
[null,1111148409,31804,"Trixie Premio Carpaccio XXL ласощі для собак з качкою та рибою 80г","Більше 100","Ласощі для собак",137.1,178,0,{"$f":"G80*I80","v":0}]
[null,1111133312,42707,"Trixie Premio Carpaccio ласощі для котів качка/риба 20г","Більше 100","Ласощі для котів",39.18,51,0,{"$f":"G81*I81","v":0}]
[null,1111151352,42742,"Trixie Premio Catnip Chicken Bites для котів курка/котяча м_ята 50г","Більше 100","Ласощі для котів",82.56,107,0,{"$f":"G82*I82","v":0}]
[null,1111136713,42717,"Trixie Premio Cheese Chicken Cubes ласощі для котів курка/сир 50г","Більше 100","Ласощі для котів",82.56,107,0,{"$f":"G83*I83","v":0}]
[null,1111140893,31802,"Trixie Premio Chicken Bites XXL для собак курячі гантельки курка 300г","Більше 10","Ласощі для собак",292.32,380,0,{"$f":"G84*I84","v":0}]
[null,1111122468,31533,"Trixie Premio Chicken Bites ласощі для собак кісточки курка 100г","Більше 100","Ласощі для собак",113.34,147,0,{"$f":"G85*I85","v":0}]
[null,1111163202,31589,"Trixie Premio Chicken Cheese Rolls ласощі для собак курка/сир 100г","Більше 100","Ласощі для собак",137.1,178,0,{"$f":"G86*I86","v":0}]
[null,1111134760,31586,"Trixie Premio Chicken Cheese Stripes ласощі для собак курка/сир 100г","Більше 100","Ласощі для собак",137.1,178,0,{"$f":"G87*I87","v":0}]
[null,1111124225,31531,"Trixie Premio Chicken Coins ласощі для собак монетки курка 100г","Більше 100","Ласощі для собак",125.88,164,0,{"$f":"G88*I88","v":0}]
[null,1111133311,42706,"Trixie Premio Chicken Cubes ласощі для котів курка 50г","Більше 100","Ласощі для котів",82.56,107,0,{"$f":"G89*I89","v":0}]
[null,1111134761,31585,"Trixie Premio Chicken Drumsticks ласощі д/собак курячі гомілки 5шт 95г","Більше 100","Ласощі для собак",125.88,164,0,{"$f":"G90*I90","v":0}]
[null,1111124006,42701,"Trixie Premio Chicken Filet Bites ласощі для котів куряче філе 50г","Більше 100","Ласощі для котів",82.56,107,0,{"$f":"G91*I91","v":0}]
[null,1111124223,31532,"Trixie Premio Chicken Filets ласощі для собак полоски куряче філе 100г","Більше 100","Ласощі для собак",145.5,189,0,{"$f":"G92*I92","v":0}]
[null,1111146930,31539,"Trixie Premio Chicken Flags ласощі для собак куряче філе 100г","Більше 10","Ласощі для собак",137.1,178,0,{"$f":"G93*I93","v":0}]
[null,1111146931,31588,"Trixie Premio Chicken Flags ласощі для собак куряче філе банка 400г","Більше 10","Ласощі для собак",640.62,833,0,{"$f":"G94*I94","v":0}]
[null,1111133313,42708,"Trixie Premio Chicken Mini Sticks ласощі для котів курка/рис 50г","Більше 100","Ласощі для котів",72.78,95,0,{"$f":"G95*I95","v":0}]
[null,1111139264,31703,"Trixie Premio Chicken Pasta для собак курка/куряча печінка/риба 100г","Більше 100","Ласощі для собак",137.1,178,0,{"$f":"G96*I96","v":0}]
[null,1111139043,31702,"Trixie Premio Chicken Pizza ласощі для собак піца з куркою 100г","Більше 10","Ласощі для собак",125.88,164,0,{"$f":"G97*I97","v":0}]
[null,1111134916,31591,"Trixie Premio Chickies ласощі для собак кальцій курка 100г","Більше 100","Ласощі для собак",125.88,164,0,{"$f":"G98*I98","v":0}]
[null,1111148905,31749,"Trixie Premio Corn Dogs ласощі для собак качка/сиром_ята шкіра 100г","Більше 10","Ласощі для собак",137.1,178,0,{"$f":"G99*I99","v":0}]
[null,1111139266,31705,"Trixie Premio Crispy Duck ласощі для собак з качкою 100г","Більше 10","Ласощі для собак",137.1,178,0,{"$f":"G100*I100","v":0}]
[null,1111135175,31592,"Trixie Premio Duck Bites ласощі для собак кісточка качка 80г","Більше 100","Ласощі для собак",113.34,147,0,{"$f":"G101*I101","v":0}]
[null,1111134915,31587,"Trixie Premio Duck Coins ласощі для собак монетки качка 80г","Більше 100","Ласощі для собак",125.88,164,0,{"$f":"G102*I102","v":0}]
[null,1111136712,42716,"Trixie Premio Duck Filet Bites ласощі для котів філе качки 50г","Більше 100","Ласощі для котів",72.78,95,0,{"$f":"G103*I103","v":0}]
[null,1111163203,31869,"Trixie Premio Duck Softies ласощі для собак качка 100г","Більше 100","Ласощі для собак",125.88,164,0,{"$f":"G104*I104","v":0}]
[null,1111129084,31538,"Trixie Premio Duckies ласощі для собак кісточки качка 100г","Більше 100","Ласощі для собак",113.34,147,0,{"$f":"G105*I105","v":0}]
[null,1111135174,31594,"Trixie Premio Duckinos ласощі для собак з качкою 80г","Більше 100","Ласощі для собак",103.5,135,0,{"$f":"G106*I106","v":0}]
[null,1111128593,42705,"Trixie Premio Ducky Hearts ласощі для котів качка/риба 50г","Більше 100","Ласощі для котів",72.78,95,0,{"$f":"G107*I107","v":0}]
[null,1111134594,31537,"Trixie Premio Ducky Stripes ласощі для собак шматочки качка 100г","Більше 100","Ласощі для собак",137.1,178,0,{"$f":"G108*I108","v":0}]
[null,1111124007,42702,"Trixie Premio Fish Chicken Rolls ласощі для котів курка/риба 50г","Більше 100","Ласощі для котів",82.56,107,0,{"$f":"G109*I109","v":0}]
[null,1111124227,31535,"Trixie Premio Fish Chicken Rolls ласощі для собак курка/лосось 75г","Більше 100","Ласощі для собак",103.5,135,0,{"$f":"G110*I110","v":0}]
[null,1111143413,31747,"Trixie Premio Fish Chicken Sticks ласощі для собак курка/риба 80г","Більше 100","Ласощі для собак",103.5,135,0,{"$f":"G111*I111","v":0}]
[null,1111140894,31803,"Trixie Premio Fish Chicken Stripes XXL д/собак палич курка/лосось 300г","Більше 10","Ласощі для собак",337.08,438,0,{"$f":"G112*I112","v":0}]
[null,1111124226,31534,"Trixie Premio Fish Chicken Stripes ласощі для собак курка/лосось 75г","Більше 100","Ласощі для собак",103.5,135,0,{"$f":"G113*I113","v":0}]
[null,1111143412,31748,"Trixie Premio Fish Chicken Wheels ласощі для собак курка/риба 75г","Більше 100","Ласощі для собак",125.88,164,0,{"$f":"G114*I114","v":0}]
[null,1111148412,31547,"Trixie Premio Fish Rabbit Stripes ласощі для собак риба/кролик 100г","Більше 100","Ласощі для собак",137.1,178,0,{"$f":"G115*I115","v":0}]
[null,1111139047,31599,"Trixie Premio Fishies ласощі для собак з рибою 100г","Більше 10","Ласощі для собак",125.88,164,0,{"$f":"G116*I116","v":0}]
[null,1111170308,31607,"Trixie Premio Freeze Dried для собак качина грудка 50г","Більше 10","Ласощі для собак",226.62,295,0,{"$f":"G117*I117","v":0}]
[null,1111170307,31606,"Trixie Premio Freeze Dried для собак куряча грудка 50г","Більше 10","Ласощі для собак",226.62,295,0,{"$f":"G118*I118","v":0}]
[null,1111156269,31809,"Trixie Premio Goose Filets ласощі для собак з гусаком 65г","Більше 100","Ласощі для собак",113.34,147,0,{"$f":"G119*I119","v":0}]
[null,1111170284,31867,"Trixie Premio Guse Liver Cubes д/собак кубики з гусячою печінкою 100г","Більше 100","Ласощі для собак",137.1,178,0,{"$f":"G120*I120","v":0}]
[null,1111161177,31855,"Trixie Premio Horse Stripes ласощі для собак з кониною 11см 100г","Більше 10","Ласощі для собак",267.18,347,0,{"$f":"G121*I121","v":0}]
[null,1111146933,31544,"Trixie Premio Lamb Bites ласощі для собак снеки ягня 100г","Більше 100","Ласощі для собак",125.88,164,0,{"$f":"G122*I122","v":0}]
[null,1111140899,31707,"Trixie Premio Lamb Chicken Bagles ласощі для собак ягня/курка 100г","Більше 100","Ласощі для собак",145.5,189,0,{"$f":"G123*I123","v":0}]
[null,1111141773,31741,"Trixie Premio Lamb Stripes ласощі для собак полоски ягня 100г","Більше 100","Ласощі для собак",125.88,164,0,{"$f":"G124*I124","v":0}]
[null,1111133128,31536,"Trixie Premio Omega Stripes ласощі для собак палички курка 100г","Більше 100","Ласощі для собак",137.1,178,0,{"$f":"G125*I125","v":0}]
[null,1111115101,2748,"Trixie Premio Picknicks для собак Сосиски з яловичиною 8см 8г 200шт","Більше 10","Ласощі для собак",3356.76,4364,0,{"$f":"G126*I126","v":0}]
[null,1111116707,2755,"Trixie Premio Picknicks ласощі для собак Сосиски з ягням 8см 8г 200шт","Більше 10","Ласощі для собак",3356.76,4364,0,{"$f":"G127*I127","v":0}]
[null,1111148410,31545,"Trixie Premio Rabbit Cubes ласощі для собак шматочки із кроликом 100г","Більше 100","Ласощі для собак",145.5,189,0,{"$f":"G128*I128","v":0}]
[null,1111148411,31546,"Trixie Premio Rabbit Drumsticks ласощі для собак кролик 100г 8шт","Більше 100","Ласощі для собак",125.88,164,0,{"$f":"G129*I129","v":0}]
[null,1111157556,31808,"Trixie Premio Rabbit Ears ласощі для собак кролик/курка 80г","Більше 100","Ласощі для собак",113.34,147,0,{"$f":"G130*I130","v":0}]
[null,1111141772,31709,"Trixie Premio Rabbit Sticks ласощі для собак палички кролик 100г","Більше 100","Ласощі для собак",125.88,164,0,{"$f":"G131*I131","v":0}]
[null,1111139042,31701,"Trixie Premio Rice Chicken Balls для собак курячі кульки з рисом 80г","Більше 100","Ласощі для собак",93.72,122,0,{"$f":"G132*I132","v":0}]
[null,1111139265,31704,"Trixie Premio Rice Duck Balls ласощі для собак кульки качка/рис 80г","Більше 100","Ласощі для собак",93.72,122,0,{"$f":"G133*I133","v":0}]
[null,1111141774,31742,"Trixie Premio Rice Duck Bones ласощі для собак кісточки качка/рис 80г","Більше 100","Ласощі для собак",103.5,135,0,{"$f":"G134*I134","v":0}]
[null,1111135172,42724,"Trixie Premio Stick Quintett ласощі д/котів домаш птиця/печінка 5г 5шт","Більше 100","Ласощі для котів",60.18,78,0,{"$f":"G135*I135","v":0}]
[null,1111135173,42725,"Trixie Premio Stick Quintett ласощі для котів лосось/форель 5г 5шт","Більше 100","Ласощі для котів",60.18,78,0,{"$f":"G136*I136","v":0}]
[null,1111135171,42723,"Trixie Premio Stick Quintett ласощі для котів ягня/індичка 5г 5шт","Більше 100","Ласощі для котів",60.18,78,0,{"$f":"G137*I137","v":0}]
[null,1111134914,31573,"Trixie Premio Sushi Rolls ласощі для собак з рибою 100г","Більше 10","Ласощі для собак",145.5,189,0,{"$f":"G138*I138","v":0}]
[null,1111141775,42741,"Trixie Premio Trainer Snack Mini Fish Nuggets д/котів тунець/курка 50г","Більше 10","Ласощі для котів",93.72,122,0,{"$f":"G139*I139","v":0}]
[null,1111140895,42734,"Trixie Premio Tuna Bites для котів шматочки з тунцем і куркою 50г","Більше 100","Ласощі для котів",93.72,122,0,{"$f":"G140*I140","v":0}]
[null,1111139045,42732,"Trixie Premio Tuna Rolls ласощі для котів тунець/курка 50г","Більше 100","Ласощі для котів",93.72,122,0,{"$f":"G141*I141","v":0}]
[null,1111139044,42731,"Trixie Premio Tuna Sandwiches для котів кубики з тунцем і куркою 50г","Більше 100","Ласощі для котів",93.72,122,0,{"$f":"G142*I142","v":0}]
[null,1111156273,"42746*****","Trixie Premio Tuna Strips для котів з тунцем і білою рибою 20г","Більше 100","Ласощі для котів",47.58,62,0,{"$f":"G143*I143","v":0}]
[null,1111183910,"312851_10шт","Trixie Safari овочеве насип для собак 28 г","Більше 10",null,363.66,473,0,{"$f":"G144*I144","v":0}]
[null,6719,"31491*****","Trixie Soft Snack Bonies ласощі для собак з яловичиною та птицею 75г","Немає в наявності","Ласощі для собак",68.58,89,0,{"$f":"G145*I145","v":0}]
[null,1111148376,31526,"Trixie Soft Snack Bony Mix XXL для собак асорті відро пластик 1800г","Більше 100","Ласощі для собак",911.94,1185,0,{"$f":"G146*I146","v":0}]
[null,1111132992,31497,"Trixie Soft Snack Happy Hearts ласощі для собак з ягням 500г","Більше 100","Ласощі для собак",272.76,355,0,{"$f":"G147*I147","v":0}]
[null,1111129069,31495,"Trixie Soft Snack Happy Mix ласощі для собак курка/ягня/лосось 500г","Більше 100","Ласощі для собак",272.76,355,0,{"$f":"G148*I148","v":0}]
[null,1111121803,3171,"Trixie Soft Snack Rotolinis ласощі д/собак м_ясо домашніх птахів 120г","Більше 100","Ласощі для собак",60.18,78,0,{"$f":"G149*I149","v":0}]
[null,1111119296,3155,"Trixie Soft Snack Rotolinis ласощі для собак рубець 120г","Більше 100","Ласощі для собак",60.18,78,0,{"$f":"G150*I150","v":0}]
[null,1111134758,31771,"Trixie Soft Snack Rotolinis ласощі для собак яловичина 120г","Більше 100","Ласощі для собак",55.98,73,0,{"$f":"G151*I151","v":0}]
[null,9925,2928,"Trixie Stop! Keep Off Spray д/котів/собак захищ/від/подряп/укус 175мл","Більше 10","Корекція поведінки для собак",260.16000000000003,338,0,{"$f":"G152*I152","v":0}]
[null,1111120007,3156,"Trixie Stripes ласощі для собак полоски з м_ясом домашніх птахів 100г","Більше 100","Ласощі для собак",55.98,73,0,{"$f":"G153*I153","v":0}]
[null,1111121135,3172,"Trixie Stripes ласощі для собак полоски з яловичиною 100г","Більше 100","Ласощі для собак",51.78,67,0,{"$f":"G154*I154","v":0}]
[null,1111134759,31772,"Trixie Stripes ласощі для собак полоски ягня 100г","Більше 100","Ласощі для собак",55.98,73,0,{"$f":"G155*I155","v":0}]
[null,1111139972,31523,"Trixie Trainer Mini Bones ласощі для собак яловичина/ягня/птиця 500г","Більше 100","Ласощі для собак",272.76,355,0,{"$f":"G156*I156","v":0}]
[null,1111139733,31524,"Trixie Trainer Mini Hearts ласощі для собак курка/ягня/лосось 200г","Більше 100","Ласощі для собак",137.1,178,0,{"$f":"G157*I157","v":0}]
[null,1111184089,"31604*****","Trixie д/собак PREMIO Мармурові ягнячі фрикадельки 100 г","Більше 10","Ласощі для собак",103.5,135,0,{"$f":"G158*I158","v":0}]
[null,1111114888,"2805*****","Trixie для котів Рибка сушена натуральна 50 г","Менше 10","Ласощі для котів",62.94,82,0,{"$f":"G159*I159","v":0}]
[null,1111170292,27647,"Trixie для собак Filled Chew паличка жувальна з качкою 10см 17г 100шт","Більше 10","Ласощі для собак",1958.16,2546,0,{"$f":"G160*I160","v":0}]
[null,1111170291,27646,"Trixie для собак Filled Chew паличка жувальна з куркою 10см 17г 100шт","Менше 10","Ласощі для собак",1958.16,2546,0,{"$f":"G161*I161","v":0}]
[null,1111122921,"2788*****","Trixie для собак Кісточка жувал пресов індивід/упаковка 10см 100г 3шт","Більше 100","Ласощі для собак",117.54,153,0,{"$f":"G162*I162","v":0}]
[null,1111122931,2609,"Trixie для собак Роли жувальні натуральна шкіра 12 см 50 шт/уп","Більше 100","Ласощі для собак",186.06,242,0,{"$f":"G163*I163","v":0}]
[null,1111122924,"2791*****","Trixie Кісточка д/собак жув пресов в індивід/упаковці кожа 17см 90г","Більше 100","Ласощі для собак",96.54,125,0,{"$f":"G164*I164","v":0}]
[null,1111153370,"2653_5шт*****","Trixie Кісточка д/собак жув пресов з вузлами шкіра кожа 16см 65г 5шт","Менше 10","Ласощі для собак",384.66,500,0,{"$f":"G165*I165","v":0}]
[null,1111122920,"2787*****","Trixie Кісточка д/собак жув пресов індивід/упаковка шкіра 8см 75г 5шт","Більше 100","Ласощі для собак",93.72,122,0,{"$f":"G166*I166","v":0}]
[null,1111122925,"2792*****","Trixie Кісточка для собак жув пресов в індивід/упаковці кожа 21см 170г","Більше 100","Ласощі для собак",158.1,205,0,{"$f":"G167*I167","v":0}]
[null,1111122927,"2794*****","Trixie Кісточка для собак жув пресов індивід/упаковка шкіра 32см 420г","Більше 10","Ласощі для собак",401.46,522,0,{"$f":"G168*I168","v":0}]
[null,1111153360,"2649_3шт*****","Trixie Кісточка для собак жувальна пресована шкіра 21см 170г 3шт","Більше 10","Ласощі для собак",461.58,600,0,{"$f":"G169*I169","v":0}]
[null,1111153361,"2650_3шт*****","Trixie Кісточка для собак жувальна пресована шкіра 22см 230г 3шт","Більше 10","Ласощі для собак",629.4,818,0,{"$f":"G170*I170","v":0}]
[null,1111153362,"2651_3шт*****","Trixie Кісточка для собак жувальна пресована шкіра 32см 420г 3шт","Більше 10","Ласощі для собак",1166.52,1516,0,{"$f":"G171*I171","v":0}]
[null,1111139987,27612,"Trixie Кісточка ласощі для собак пресована з пенісом 12см 60г/2шт","Більше 100","Ласощі для собак",113.34,147,0,{"$f":"G172*I172","v":0}]
[null,1111118270,27621,"Trixie Кісточка ласощі для собак пресована з рубцем 10см 35г/2шт","Більше 100","Ласощі для собак",72.78,95,0,{"$f":"G173*I173","v":0}]
[null,1111118269,27622,"Trixie Кісточка ласощі для собак пресована з рубцем 12см 60г/2шт","Більше 100","Ласощі для собак",113.34,147,0,{"$f":"G174*I174","v":0}]
[null,1111186066,"27648_5шт","Trixie Косичка жувальна з бичачим пенісом для собак 15 см/5ШТ","Більше 100","Ласощі для собак",258.77999999999997,336,0,{"$f":"G175*I175","v":0}]
[null,1111137849,"2708_1шт*****","Trixie ласощі для собак Паличка жувальна пресована з рубцем 20см 80г","Більше 10","Ласощі для собак",82.56,107,0,{"$f":"G176*I176","v":0}]
[null,1111115848,"2617*****","Trixie Палички д/собак жувальні натурал/шкіра 12см/9-10мм 850г 100шт","Менше 10","Ласощі для собак",1009.86,1313,0,{"$f":"G177*I177","v":0}]
[null,1111118652,"2615*****","Trixie Палички д/собак жувальні натуральна шкіра 12см/5-6мм 33,3 100шт","Менше 10","Ласощі для собак",523.14,680,0,{"$f":"G178*I178","v":0}]
[null,1111118654,"2616*****","Trixie Палички д/собак жувальні натуральна шкіра 12см/7-8мм 505г 100шт","Менше 10","Ласощі для собак",604.26,785,0,{"$f":"G179*I179","v":0}]
[null,1111141768,31745,"Trixie Палички для собак жувальна з куркою 17см 65г 50шт","Більше 10","Ласощі для собак",1608.48,2091,0,{"$f":"G180*I180","v":0}]
[null,1111141769,31746,"Trixie Палички для собак жувальна з яловичиною 17см 65г 50шт","Більше 10","Ласощі для собак",1608.48,2091,0,{"$f":"G181*I181","v":0}]
[null,10243,2610,"Trixie Палички для собак жувальні пресовані 12см 100шт","Більше 100","Ласощі для собак",365.1,475,0,{"$f":"G182*I182","v":0}]
[null,1111134911,2600,"Trixie Палички для собак жувальні пресовані червоні 12см 100шт","Більше 10","Ласощі для собак",332.88,433,0,{"$f":"G183*I183","v":0}]
[null,1111134913,2607,"Trixie Палички для собак натуральні жувальні 12см 100шт","Більше 10","Ласощі для собак",365.1,475,0,{"$f":"G184*I184","v":0}]
[null,1111144195,"27742*****","Trixie Ріг буйвола ласощі для собак жувальний M середній 109г","Більше 10","Ласощі для собак",184.62,240,0,{"$f":"G185*I185","v":0}]
[null,1111183267,42754,"Trixie Юніор Лосось Хмари 40 г","Більше 100","Ласощі для котів",72.78,95,0,{"$f":"G186*I186","v":0}]
[null,1111119516,24371,"Автоматична годівниця Trixie для корму TX1 пластик 300мл/13х7х24см","Менше 10","Миски та годівниці для собак",826.62,1075,0,{"$f":"G187*I187","v":0}]
[null,1111118536,24372,"Автоматична годівниця Trixie для корму TX2 пластик 2х300мл/27х7х24см","Менше 10","Миски та годівниці для собак",1317.54,1713,0,{"$f":"G188*I188","v":0}]
[null,1111116696,"9269_Christmas*****","Адвент календар Trixie ласощі для котів 30х34х3,5 см арт 9269","Більше 10","Ласощі для котів",359.34,467,0,{"$f":"G189*I189","v":0}]
[null,1111158314,"9268_Christmas*****","Адвент-календар Trixie для собак Різдвяний з ласощами 30х34х3,5см","Менше 10","Ласощі для собак",359.34,467,0,{"$f":"G190*I190","v":0}]
[null,1111183707,12746,"Амортизатор Trixie розмір S-M 21 см х 15 мм чорний Арт12746","Більше 10","Амуніція для собак",304.92,396,0,{"$f":"G191*I191","v":0}]
[null,1111183727,23421,"Багаторазова пелюшка Trixie для собак 60 х 60 см сіра Арт23421","Менше 10","Пелюшки, підгузки для собак",486.78,633,0,{"$f":"G192*I192","v":0}]
[null,1111135464,39451,"Бар_єр-перегородка Trixie д/собак міжкімнатний металевий 75-85см/76см","Менше 10","Інструменти для догляду за будинком з собаками",3204.3,4166,0,{"$f":"G193*I193","v":0}]
[null,1111114669,5401,"Басейн Trixie Bath House для птахів підвісний пластик 14х14х15см","Більше 100","Обладнання для птахів",128.69999999999999,167,0,{"$f":"G194*I194","v":0}]
[null,1111112415,5402,"Басейн Trixie Bath House для птахів підвісний пластик 14х15х15см","Більше 10","Обладнання для птахів",176.28,229,0,{"$f":"G195*I195","v":0}]
[null,1111127831,54032,"Басейн Trixie Bath House для птахів підвісний пластик 15х16х17см","Більше 10","Обладнання для птахів",260.16000000000003,338,0,{"$f":"G196*I196","v":0}]
[null,1111138464,63002,"Басейн Trixie для гризунів пластик 27х18х16см","Більше 10","Обладнання для гризунів",411.24,535,0,{"$f":"G197*I197","v":0}]
[null,1111204349,3536,"БЕЗ БІРКИ, НЕ ПІЩИТЬ Іграшка Trixie для собак Курка з пискавкою 25 см","Менше 10","Іграшки для собак",52.56,0,0,{"$f":"G198*I198","v":0}]
[null,1111194914,42931,"БЕЗ ВЕРХ. КРІПЛЕННЯ Дряпка-стовпчик Trixie Junior для кошенят Лапка з","Менше 10","Дряпки для котів",388.8,0,0,{"$f":"G199*I199","v":0}]
[null,1111193773,3412,"БЕЗ ЗВУКА Іграшка Trixie для собак М_яч голчастий з пискавкою середній","Менше 10","Іграшки для собак",48.54,0,0,{"$f":"G200*I200","v":0}]
[null,1111206865,"3501_1шт","БЕЗ ЗВУКА,НЕ ТОВ.ВИГ.Іграшка Trixie для собак Баскетбольний м'яч латек","Менше 10","Іграшки для собак",88.98,0,0,{"$f":"G201*I201","v":0}]
[null,1111197606,3398,"БЕЗ ЗВУКУ Іграшка Trixie для собак Морква з пискавкою вініл 20см","Менше 10","Іграшки для собак",61.44,0,0,{"$f":"G202*I202","v":0}]
[null,1111202840,4135,"БЕЗ М_ЯЧА Іграшка Trixie Crazy Circle для котів ігровий трек з мишкою","Менше 10","Іграшки для котів",101.7,0,0,{"$f":"G203*I203","v":0}]
[null,1111194131,"24981*****","БЕЗ ОДН. МИС Trixie д/кот. подвійна з сталі на підст.сіра 2х300мл/16см","Менше 10","Миски для котів",348,0,0,{"$f":"G204*I204","v":0}]
[null,1111196697,43171,"БИТ ДВП ЗГОРИ Дряпка Trixie для котів настінна сизаль/дерево бежева 17","Менше 10","Дряпки для котів",202.38,0,0,{"$f":"G205*I205","v":0}]
[null,1111194990,"43161Trixie","БИТ. ФАНЕРА Дряпка Trixie форма/кота сизаль/кот.м'ята 21х56см беж","Менше 10","Дряпки для котів",141.36000000000001,0,0,{"$f":"G206*I206","v":0}]
[null,1111169736,61010,"Бігове колесо Trixie для мал/гризунів на підставці пластик d-20см","Менше 10","Обладнання для гризунів",325.92,424,0,{"$f":"G207*I207","v":0}]
[null,1111127833,61011,"Бігове колесо Trixie для мал/гризунів на підставці пластик d-28см","Менше 10","Обладнання для гризунів",489.54,636,0,{"$f":"G208*I208","v":0}]
[null,1111172934,61012,"Бігове колесо Trixie для мал/гризунів на підставці пластик d-33см","Менше 10","Обладнання для гризунів",621,807,0,{"$f":"G209*I209","v":0}]
[null,1111134458,60812,"Біговий диск Trixie для дегу і великих хом_яків пластик 30см Арт60812","Менше 10","Обладнання для гризунів",489.54,636,0,{"$f":"G210*I210","v":0}]
[null,8897,4006,"Біо-нашийник Trixie для котів від зовнішніх паразитів 35см","Більше 10","Антипаразитарні препарати для котів",140.52000000000001,183,0,{"$f":"G211*I211","v":0}]
[null,8898,3906,"Біо-нашийник Trixie для собак від зовнішніх паразитів 60см","Більше 10","Антипаразитарні препарати для собак",157.91999999999999,205,0,{"$f":"G212*I212","v":0}]
[null,1111205179,5903,"БРАК 1 КРІПЛЕННЯ Переноска Trixie для гризунів Pico пластик 23x16x17 с","Менше 10","Обладнання для гризунів",89.76,0,0,{"$f":"G213*I213","v":0}]
[null,1111194656,24499,"БРАК ЕМАЛ, ВІДСУТ.ПАК. Миска Trixie біла чорн/котик керам 250мл d-13см","Менше 10","Миски для котів",51.24,0,0,{"$f":"G214*I214","v":0}]
[null,1111193790,25120,"БРАК ЕМАЛІ Миска Trixie д/кот Zentangle керам чорно-біла 12см 0,3л","Менше 10","Миски для котів",67.62,0,0,{"$f":"G215*I215","v":0}]
[null,1111204185,24795,"БРАК ПОКРИТТ Миска Trixie д/котів/короткомордих/порід керам 15см 300мл","Менше 10","Миски для котів",83.16,0,0,{"$f":"G216*I216","v":0}]
[null,1111208223,"25212*****","БРАК ПОКРИТТ Миска Trixie д/собак Adventure зел емаль/метал 900мл/17см","Менше 10","Миски та годівниці для собак",130.08000000000001,0,0,{"$f":"G217*I217","v":0}]
[null,1111201269,25120,"БРАК ПОКРИТТЯ Миска Trixie д/кот Zentangle керам чорно-біла 12см 0,3л","Менше 10","Миски для котів",67.8,0,0,{"$f":"G218*I218","v":0}]
[null,1111208224,"25213*****","БРАК ПОКРИТТЯ Миска Trixie д/собак Adventure зел емаль/метал 1,9л/21см","Менше 10","Миски та годівниці для собак",164.16,0,0,{"$f":"G219*I219","v":0}]
[null,1111195470,"арт.25053","БРАК ПОКРИТТЯ Миска Trixie д/собак Pet_s Home коричн/керам 300мл 12см","Менше 10","Миски та годівниці для собак",65.58,0,0,{"$f":"G220*I220","v":0}]
[null,1111205711,25108,"БРАК ПОКРИТТЯ Миска Trixie д/собак на гумовій основі керамічна 1л/17см","Менше 10","Миски та годівниці для собак",210.54,0,0,{"$f":"G221*I221","v":0}]
[null,1111195582,"24355*****","БРАК ПОКРИТТЯ Миска Trixie для собак Be Nordic Moin сіра керамічна 1,4","Менше 10","Миски та годівниці для собак",150.18,0,0,{"$f":"G222*I222","v":0}]
[null,1111205710,25025,"БРАК ПОКРИТТЯ Миска Trixie для собак керамічна біла 1,6л 20см","Менше 10","Миски та годівниці для собак",160.74,0,0,{"$f":"G223*I223","v":0}]
[null,1111207471,"25022*****","БРАК ПОКРИТТЯ Миска Trixie для собак керамічна чорна 1,6л 20см","Менше 10","Миски та годівниці для собак",211.92,0,0,{"$f":"G224*I224","v":0}]
[null,1111207977,"25144*****","БРАК ПОКРИТТЯ Миска Trixie для собак на гумовій основі сіра металева 9","Менше 10","Миски та годівниці для собак",123.66,0,0,{"$f":"G225*I225","v":0}]
[null,1111195427,25087,"БРАК ПОКРИТТЯ Миска Trixie керамічна д/собак 0,7л 16см біло-коричнева","Менше 10","Миски та годівниці для собак",103.98,0,0,{"$f":"G226*I226","v":0}]
[null,1111204681,24521,"БРАК ПОКРИТТЯ Миска Trixie соб Повіл.годув сір/блакит керам 900мл 17см","Менше 10","Миски та годівниці для собак",282.42,0,0,{"$f":"G227*I227","v":0}]
[null,1111117203,2288,"Брелок Trixie для собак з металевими дисками для тренувань 4,5см","Більше 10","Амуніція для собак",127.32,165,0,{"$f":"G228*I228","v":0}]
[null,1111130650,22762,"Брелок-адресниця Trixie Fancy I.D. Tag д/собак Кісточка метал 3,5x2см","Більше 10","Амуніція для собак",144.06,187,0,{"$f":"G229*I229","v":0}]
[null,1111124230,2287,"Брелок-клікер Trixie Clicker д/собак кнопка/пружинний браслет 6,7см","Менше 10","Амуніція для собак",151.08000000000001,196,0,{"$f":"G230*I230","v":0}]
[null,1111120016,2289,"Брелок-клікер Trixie для собак Basic пластик","Менше 10","Амуніція для собак",89.52,116,0,{"$f":"G231*I231","v":0}]
[null,1111124231,2298,"Брелок-клікер Trixie для собак Soft з кнопкою та пружинним браслетом","Менше 10","Амуніція для собак",120.3,156,0,{"$f":"G232*I232","v":0}]
[null,1111165306,13449,"Брелок-ліхтарик Trixie USB для собак 3,5х4,3 см Арт13449","Менше 10","Амуніція для собак",292.32,380,0,{"$f":"G233*I233","v":0}]
[null,1111141005,13447,"Брелок-ліхтарик Trixie д/собак водовідштовхувальний силікон 8х2,4см","Більше 10","Амуніція для собак",181.86,236,0,{"$f":"G234*I234","v":0}]
[null,1111134523,13443,"Брелок-ліхтарик Trixie д/собак з карабіном водонепроникний метал d-1см","Менше 10","Амуніція для собак",176.28,229,0,{"$f":"G235*I235","v":0}]
[null,1111146895,13448,"Брелок-ліхтарик Trixie для собак водовідштовхувальний силікон 11х3,5см","Більше 10","Амуніція для собак",212.64,276,0,{"$f":"G236*I236","v":0}]
[null,1111185441,36271,"Будиночок Trixie Lene для котів фетр 54х30х35 см сірий арт36271","Менше 10","Спальні місця для котів",1663.02,2162,0,{"$f":"G237*I237","v":0}]
[null,1111183753,38211,"Будиночок Trixie Бохо 55 х 65 х 55 см бежевий Арт38211","Менше 10","Спальні місця для собак",1906.38,2478,0,{"$f":"G238*I238","v":0}]
[null,1111183796,"62103*****","Будиночок Trixie для гризун набір з 2 будин з мостом 13х100см Арт62103","Менше 10","Обладнання для гризунів",523.14,680,0,{"$f":"G239*I239","v":0}]
[null,1111121369,6176,"Будиночок Trixie для гризунів Bjork дерев_яний 15х15х16см","Менше 10","Обладнання для гризунів",325.92,424,0,{"$f":"G240*I240","v":0}]
[null,1111120127,6171,"Будиночок Trixie для гризунів Hendrik дерев_яний 15х11х12см","Менше 10","Обладнання для гризунів",209.82,273,0,{"$f":"G241*I241","v":0}]
[null,1111183797,62684,"Будиночок Trixie для гризунів Вігвам Санні 37х35х37см Арт62684","Менше 10","Обладнання для гризунів",373.44,485,0,{"$f":"G242*I242","v":0}]
[null,1111115851,6118,"Будиночок Trixie для гризунів натуральні матеріали 28х18х13см","Менше 10","Обладнання для гризунів",292.32,380,0,{"$f":"G243*I243","v":0}]
[null,1111133003,36290,"Будиночок Trixie для котів Lukas з дряпкою сірий 35х33х65см","Менше 10","Спальні місця для котів",3204.3,4166,0,{"$f":"G244*I244","v":0}]
[null,1111139703,36842,"Будиночок Trixie для собак та котів Jimmy з лапками 40х35х35см","Менше 10","Спальні місця для собак",1415.46,1840,0,{"$f":"G245*I245","v":0}]
[null,1111139036,36341,"Будиночок Trixie для собак та котів Kaline сірий 35х26х41см","Більше 10","Спальні місця для собак",1212.6600000000001,1576,0,{"$f":"G246*I246","v":0}]
[null,1111150923,36319,"Будиночок Trixie для собак та котів Liva сірий фетр 40х24х47см","Більше 10","Спальні місця для собак",1009.86,1313,0,{"$f":"G247*I247","v":0}]
[null,1111145204,36356,"Будиночок Trixie для собак та котів Malu коричневий 47х27х41см","Більше 10","Спальні місця для собак",1415.46,1840,0,{"$f":"G248*I248","v":0}]
[null,1111146878,36352,"Будиночок Trixie для собак та котів Silas сірий 40х45х40см","Більше 10","Спальні місця для собак",1663.02,2162,0,{"$f":"G249*I249","v":0}]
[null,1111183752,37911,"Будиночок Trixie Лівія 38 х 41 х 44 см темно-сірий-білий Арт37911","Менше 10","Спальні місця для собак",1415.46,1840,0,{"$f":"G250*I250","v":0}]
[null,1111140974,36847,"Будиночок-тунель Trixie для котів Mimi сірий 42х35х35см","Менше 10","Спальні місця для котів",1415.46,1840,0,{"$f":"G251*I251","v":0}]
[null,1111175151,23236,"Валик Trixie для прибирання шерсті тварин XXL силікон/пластик 20х30см","Більше 10","Інструменти для догляду за будинком з собаками",411.24,535,0,{"$f":"G252*I252","v":0}]
[null,1111161308,63004,"Ванна Trixie для гризунів для піска дерев_яна 22х12х12см","Більше 10","Обладнання для гризунів",486.78,633,0,{"$f":"G253*I253","v":0}]
[null,10991,19486,"Ветеринарний комір Trixie д/собак на застібці пластик L-XL 47-57/30см","Менше 10","Ветеринарні комірці для собак",335.7,436,0,{"$f":"G254*I254","v":0}]
[null,10995,19485,"Ветеринарний комір Trixie для собак на застібці пластик L 44-50/25см","Менше 10","Ветеринарні комірці для собак",204.24,265,0,{"$f":"G255*I255","v":0}]
[null,10993,19484,"Ветеринарний комір Trixie для собак на застібці пластик M 38-44/20см","Більше 10","Ветеринарні комірці для собак",179.04,233,0,{"$f":"G256*I256","v":0}]
[null,10992,19482,"Ветеринарний комір Trixie для собак на застібці пластик S 28-33/12см","Більше 10","Ветеринарні комірці для собак",100.74,131,0,{"$f":"G257*I257","v":0}]
[null,1111134443,19515,"Ветеринарний комір Trixie для собак на липучці пластик L 44-53/22см","Більше 100","Ветеринарні комірці для собак",334.32,435,0,{"$f":"G258*I258","v":0}]
[null,1111134444,19516,"Ветеринарний комір Trixie для собак на липучці пластик L-XL 50-58/28см","Більше 10","Ветеринарні комірці для собак",411.24,535,0,{"$f":"G259*I259","v":0}]
[null,1111134442,19514,"Ветеринарний комір Trixie для собак на липучці пластик M 36-43/18см","Більше 10","Ветеринарні комірці для собак",255.96,333,0,{"$f":"G260*I260","v":0}]
[null,1111134441,19513,"Ветеринарний комір Trixie для собак на липучці пластик S-M 30-37/14см","Більше 100","Ветеринарні комірці для собак",204.24,265,0,{"$f":"G261*I261","v":0}]
[null,1111134438,19510,"Ветеринарний комір Trixie для собак на липучці пластик XS 18-23/8см","Більше 100","Ветеринарні комірці для собак",127.32,165,0,{"$f":"G262*I262","v":0}]
[null,1111134439,19511,"Ветеринарний комір Trixie для собак на липучці пластик XS-S 20-26/11см","Більше 100","Ветеринарні комірці для собак",152.46,198,0,{"$f":"G263*I263","v":0}]
[null,1111134440,19512,"Ветеринарний комір Trixie для собак на липучці розмір S 25-32см/12см","Більше 100","Ветеринарні комірці для собак",179.04,233,0,{"$f":"G264*I264","v":0}]
[null,1111206964,"25108*****","ВІДІРВАНА РЕЗИНКА Миска Trixie для собак на гумовій основі керамічна 1","Менше 10","Миски та годівниці для собак",254.34,0,0,{"$f":"G265*I265","v":0}]
[null,1111195597,44541,"ВІДС.КРІПЛ.Дряпка-комплекс Trixie Baza  з іграшкою бежева 41х41х50см","Менше 10","Дряпки для котів",640.62,0,0,{"$f":"G266*I266","v":0}]
[null,1111203436,25241,"ВІДСУТ. РЕЗИНКА Миска Trixie для собак на гумовій основі металева з пл","Менше 10","Миски та годівниці для собак",62.64,0,0,{"$f":"G267*I267","v":0}]
[null,1111197385,3274,"ВІДСУТ.ЕТИК Іграшка Trixie для собак Ігр кан плет 4вуз кот54см","Немає в наявності","Іграшки для собак",64.56,0,0,{"$f":"G268*I268","v":0}]
[null,1111202391,44644,"ВІДСУТНІЙ 1 СТОВПЧЯИК Дряпка-комплекс Trixie Nita для котів сизаль/плю","Менше 10","Дряпки для котів",2583.48,0,0,{"$f":"G269*I269","v":0}]
[null,1111194392,39821,"ВІТБИТ КРАЙ ДВЕРЦІ Контейнер-переноска Trixie для собак та котів Capri","Менше 10","Сумки, переноски та посуд для подорожей з котами",498.72,0,0,{"$f":"G270*I270","v":0}]
[null,1111145331,25445,"Вода Trixie Dental Care для собак/котів догляд за зубами яблуко 300мл","Більше 10","Догляд та гігієна для собак",202.8,264,0,{"$f":"G271*I271","v":0}]
[null,1111183799,76289,"Водний кондиціонер Trixie для черепах 61 х 45 х 20 мм Арт76289","Більше 10","Засоби догляду для тераріумів",83.94,109,0,{"$f":"G272*I272","v":0}]
[null,1111122601,64054,"Вольєр Trixie Outdoor Run для гризунів поліестер 130х55см","Менше 10","Обладнання для гризунів",2110.56,2744,0,{"$f":"G273*I273","v":0}]
[null,1111115364,6276,"Гамак Trixie Cuddly Cave для гризунів плюш 9x12x16см","Більше 100","Обладнання для гризунів",160.86000000000001,209,0,{"$f":"G274*I274","v":0}]
[null,1111139328,43141,"Гамак Trixie д/котів на радіатор довге хутро беж/корич плюш 45х26х31см","Менше 10","Спальні місця для котів",1090.98,1418,0,{"$f":"G275*I275","v":0}]
[null,1111116588,62691,"Гамак Trixie для гризунів поліестер 18х18см","Більше 100","Обладнання для гризунів",103.5,135,0,{"$f":"G276*I276","v":0}]
[null,1111127081,6913,"Гамак Trixie для тхорів поліестер 45х45см","Більше 10","Обладнання для гризунів",194.46,253,0,{"$f":"G277*I277","v":0}]
[null,1111133853,62696,"Гамак Trixie для тхорів та шиншил двох_ярусний поліестер 22х15х30см","Більше 10","Обладнання для гризунів",226.62,295,0,{"$f":"G278*I278","v":0}]
[null,1111116589,62692,"Гамак Trixie для хом_яків 30x30см","Більше 10","Обладнання для гризунів",194.46,253,0,{"$f":"G279*I279","v":0}]
[null,1111140980,49920,"Гамак Trixie настінний для котів 54 х 28 х 33 см біло-сірий Арт49920","Менше 10","Спальні місця для котів",1663.02,2162,0,{"$f":"G280*I280","v":0}]
[null,1111127893,23496,"Гігієнічні прокладки Trixie д/собак для захисних трусів XS/S/S-M 10шт","Більше 10","Пелюшки, підгузки для собак",42,55,0,{"$f":"G281*I281","v":0}]
[null,1111127895,23498,"Гігієнічні прокладки Trixie для собак для захисних трусів L/XL 10шт","Більше 10","Пелюшки, підгузки для собак",72.78,95,0,{"$f":"G282*I282","v":0}]
[null,1111127894,23497,"Гігієнічні прокладки Trixie для собак для захисних трусів M 10шт","Більше 10","Пелюшки, підгузки для собак",61.56,80,0,{"$f":"G283*I283","v":0}]
[null,8062,6108,"Гніздо Trixie для гризунів плетене кругле натуральні матеріали 10см","Більше 10","Обладнання для гризунів",95.16,124,0,{"$f":"G284*I284","v":0}]
[null,5930,6110,"Гніздо Trixie для гризунів плетене кругле натуральні матеріали 16см","Менше 10","Обладнання для гризунів",260.16000000000003,338,0,{"$f":"G285*I285","v":0}]
[null,5929,6109,"Гніздо Trixie для гризунів плетене подвійне натур/матеріали 10х19см","Більше 10","Обладнання для гризунів",144.06,187,0,{"$f":"G286*I286","v":0}]
[null,6929,5620,"Гніздо Trixie для канарки плетене бамбук 10см","Більше 10","Обладнання для птахів",72.78,95,0,{"$f":"G287*I287","v":0}]
[null,1111183704,"5630*****","Гніздо Trixie для птах Дерев_яна коробка 21х13х12 см діам 4 см Арт5630","Менше 10","Обладнання для птахів",325.92,424,0,{"$f":"G288*I288","v":0}]
[null,6931,5602,"Гніздо Trixie для птахів плетене бамбук 12х11см","Більше 10","Обладнання для птахів",120.3,156,0,{"$f":"G289*I289","v":0}]
[null,6930,5605,"Гніздо Trixie для птахів плетене бамбук 15х12см","Більше 10","Обладнання для птахів",151.08000000000001,196,0,{"$f":"G290*I290","v":0}]
[null,7839,5600,"Гніздо Trixie для птахів плетене бамбук 9х10см","Більше 10","Обладнання для птахів",89.52,116,0,{"$f":"G291*I291","v":0}]
[null,1111182444,60713,"Гніздовий матеріал Trixie для гризунів Капок 40 г кремовий Арт60713","Більше 100","Обладнання для гризунів",74.16,96,0,{"$f":"G292*I292","v":0}]
[null,1111183785,60714,"Гніздовий матеріал Trixie капок 100 г кремовий Арт60714","Більше 10","Обладнання для гризунів",184.62,240,0,{"$f":"G293*I293","v":0}]
[null,8059,"5472_1шт","Годівниця Trixie для птахів підвісна з кріпленням пластик 130мл 8х7см","Більше 100","Обладнання для птахів",36.36,47,0,{"$f":"G294*I294","v":0}]
[null,8060,"5473_1шт","Годівниця Trixie для птахів підвісна з кріпленням пластик 200мл 11х9см","Більше 100","Обладнання для птахів",42,55,0,{"$f":"G295*I295","v":0}]
[null,8058,"5471_1шт","Годівниця Trixie для птахів підвісна з кріпленням пластик 80мл 6х6см","Більше 100","Обладнання для птахів",29.4,38,0,{"$f":"G296*I296","v":0}]
[null,1111114578,5418,"Годівниця Trixie для птахів пластик 150мл 12см","Більше 10","Обладнання для птахів",89.52,116,0,{"$f":"G297*I297","v":0}]
[null,1111165896,"55630*****","Годівниця Trixie для птахів садова підвісна метал 1000мл 20см","Менше 10","Обладнання для птахів",523.14,680,0,{"$f":"G298*I298","v":0}]
[null,1111125850,23791,"Граблі Trixie д/довгошерстих собак однорядна з довгим зубом 7х14см","Більше 10","Догляд та гігієна для собак",325.92,424,0,{"$f":"G299*I299","v":0}]
[null,1111125857,23792,"Граблі Trixie д/короткошерстих собак з коротким зубом металева 10х15см","Більше 10","Догляд та гігієна для собак",358.08,465,0,{"$f":"G300*I300","v":0}]
[null,1111125851,23793,"Граблі Trixie для довгошерстих собак з довгим зубом металева 10х15см","Менше 10","Догляд та гігієна для собак",358.08,465,0,{"$f":"G301*I301","v":0}]
[null,1111125849,23783,"Граблі Trixie для собак дворядна з різними зубчиками металева 10х15см","Більше 10","Догляд та гігієна для собак",391.62,509,0,{"$f":"G302*I302","v":0}]
[null,6726,24241,"Гребінець Trixie д/грум. розплутування прорідж зубці 1см 5*18см","Більше 10","Догляд та гігієна для собак",555.29999999999995,722,0,{"$f":"G303*I303","v":0}]
[null,1111125843,23767,"Гребінець Trixie д/собак короткий/довгий зуб метал пластик/ручка 22см","Більше 10","Догляд та гігієна для собак",260.16000000000003,338,0,{"$f":"G304*I304","v":0}]
[null,1111125844,23771,"Гребінець Trixie д/собак част/корот/оберт/зуб метал пластик/ручка 22см","Більше 10","Догляд та гігієна для собак",292.32,380,0,{"$f":"G305*I305","v":0}]
[null,1111118325,2400,"Гребінець Trixie для вичісування бліх/вошей двосторонній пластик 14см","Більше 100","Догляд та гігієна для собак",40.56,53,0,{"$f":"G306*I306","v":0}]
[null,1111118328,2410,"Гребінець Trixie для вичісування бліх/вошей метал пластик/ручка 15см","Більше 10","Догляд та гігієна для собак",134.28,175,0,{"$f":"G307*I307","v":0}]
[null,1111125838,23762,"Гребінець Trixie для вичісування бліх/вошей метал пластик/ручка 21см","Більше 10","Догляд та гігієна для собак",292.32,380,0,{"$f":"G308*I308","v":0}]
[null,1111125846,23773,"Гребінець Trixie для довгошерстих коротк/довг зуб пластик/ручка 22см","Більше 10","Догляд та гігієна для собак",292.32,380,0,{"$f":"G309*I309","v":0}]
[null,8238,2396,"Гребінець Trixie для собак середній/широкий зуб дерев_яна ручка 17см","Більше 10","Догляд та гігієна для собак",151.08000000000001,196,0,{"$f":"G310*I310","v":0}]
[null,1111125840,23764,"Гребінець Trixie для собак частий тонкий зуб метал пластик/ручка 22см","Менше 10","Догляд та гігієна для собак",260.16000000000003,338,0,{"$f":"G311*I311","v":0}]
[null,1111125845,23772,"Гребінець Trixie для собак/котів середній зуб метал пластик/ручка 22см","Більше 10","Догляд та гігієна для собак",292.32,380,0,{"$f":"G312*I312","v":0}]
[null,2170,2395,"Гребінець-планка Trixie для собак середній/густий зуб метал 16см","Більше 100","Догляд та гігієна для собак",151.08000000000001,196,0,{"$f":"G313*I313","v":0}]
[null,1111142383,24183,"Гребінець-тример Trixie д/собак видал/підшерстя гостре лезо 6см/15см","Більше 10","Догляд та гігієна для собак",654.6,851,0,{"$f":"G314*I314","v":0}]
[null,1111142384,24185,"Гребінець-тример Trixie д/собак д/видал/підшерстя гостре лезо 8х14см","Менше 10","Догляд та гігієна для собак",720.3,936,0,{"$f":"G315*I315","v":0}]
[null,1111145750,23123,"Гребінець-тример Trixie д/собак д/видалення підшерстя рожев 7см/15 см","Більше 10","Догляд та гігієна для котів",621,807,0,{"$f":"G316*I316","v":0}]
[null,1111126099,24175,"Гребінець-тример Trixie для собак для видалення підшерстя 11см/15 см","Більше 10","Догляд та гігієна для собак",883.98,1149,0,{"$f":"G317*I317","v":0}]
[null,1111125854,24171,"Гребінець-тример Trixie для собак для видалення підшерстя 7х15см","Більше 10","Догляд та гігієна для собак",654.6,851,0,{"$f":"G318*I318","v":0}]
[null,1111125858,24173,"Гребінець-тример Trixie для собак для видалення підшерстя 8см/14см","Більше 10","Догляд та гігієна для собак",720.3,936,0,{"$f":"G319*I319","v":0}]
[null,1111115380,2315,"Гребінець-щітка Trixie д/котів двостор нейлон/метал/щетин/дерев 6х21см","Більше 10","Догляд та гігієна для собак",151.08000000000001,196,0,{"$f":"G320*I320","v":0}]
[null,1111113775,2326,"Гребінець-щітка Trixie д/котів з натуральною щетиною дерев_яна 5х18см","Менше 10","Догляд та гігієна для собак",120.3,156,0,{"$f":"G321*I321","v":0}]
[null,1111113774,2322,"Гребінець-щітка Trixie д/собак/котів двосторон/кругла дерев_яна 5х17см","Більше 10","Догляд та гігієна для собак",151.08000000000001,196,0,{"$f":"G322*I322","v":0}]
[null,1111131657,3879,"Двері Trixie Free для собак пластикові розмір M/XL 39х45см","Менше 10","Інструменти для догляду за будинком з собаками",2597.34,3376,0,{"$f":"G323*I323","v":0}]
[null,1111131656,3878,"Двері Trixie Free для собак пластикові розмір S/M 30х36см","Менше 10","Інструменти для догляду за будинком з собаками",2005.68,2607,0,{"$f":"G324*I324","v":0}]
[null,1111139052,3877,"Двері Trixie Free для собак пластикові розмір XS/S 25х29см","Менше 10","Інструменти для догляду за будинком з собаками",1348.32,1753,0,{"$f":"G325*I325","v":0}]
[null,1111156349,44201,"Двері Trixie для котів двосторонні білі пластикові 20х22см","Менше 10","Інструменти для догляду за будинком з котами",489.54,636,0,{"$f":"G326*I326","v":0}]
[null,1111156350,44202,"Двері Trixie для котів двосторонні сірі пластикові 20х22см","Менше 10","Інструменти для догляду за будинком з котами",489.54,636,0,{"$f":"G327*I327","v":0}]
[null,1111156353,44231,"Двері Trixie для котів чотирьохсторонні з тунелем білі пластик 20х22см","Менше 10","Інструменти для догляду за будинком з котами",654.6,851,0,{"$f":"G328*I328","v":0}]
[null,1111127811,"76210_ord","Декорація Trixie для тераріума Печера рептилій пластик 16х7х11см","Менше 10","Декорації для тераріуму",411.24,535,0,{"$f":"G329*I329","v":0}]
[null,1111195970,24784,"ДЕФ.ПОКРИТТЯ Миска Trixie для котів короткомордих порід сіра/біла кера","Менше 10","Миски для котів",88.98,0,0,{"$f":"G330*I330","v":0}]
[null,1111185409,22856,"Диспенсер Trixie BE NORDIC пакети для фекалій 20 шт пісочний арт22856","Більше 10","Догляд та гігієна для собак",151.08000000000001,196,0,{"$f":"G331*I331","v":0}]
[null,1111185410,22857,"Диспенсер Trixie CityStyle з пакетами 1уп 15пак світло-сірий арт22857","Більше 10","Догляд та гігієна для собак",325.92,424,0,{"$f":"G332*I332","v":0}]
[null,1111185486,22849,"Диспенсер Trixie для пакетів зі штучною шкірою 1 уп 20 пак арт22849","Більше 10","Догляд та гігієна для собак",292.32,380,0,{"$f":"G333*I333","v":0}]
[null,1111185411,22858,"Диспенсер Trixie з пакетами 1 упаковка 20 пакетів арт22858","Менше 10","Догляд та гігієна для собак",151.08000000000001,196,0,{"$f":"G334*I334","v":0}]
[null,1111129071,76392,"Додатковий корм Trixie для рептилій Цвіркуни сушені 25г Арт76392","Менше 10","Корм сухий для черепах та рептилій",128.69999999999999,167,0,{"$f":"G335*I335","v":0}]
[null,1111120101,6106,"Драбинка Trixie Natural Living для гризунів дерев_яна 7х27см","Більше 10","Обладнання для гризунів",103.5,135,0,{"$f":"G336*I336","v":0}]
[null,1111172123,"44073*****","Дряпка Trixie Acadia д/котів настінна сизал/плюш біла/сіра 46х37х160см","Менше 10","Дряпки для котів",6485.58,8431,0,{"$f":"G337*I337","v":0}]
[null,1111114597,43712,"Дряпка Trixie Junior Tarifa для котів чорно-сіра 35х35х52см","Менше 10","Дряпки для котів",1212.6600000000001,1576,0,{"$f":"G338*I338","v":0}]
[null,1111114599,43751,"Дряпка Trixie Junior Vitoria для котів з іграшкою бежева 36х36х43см","Менше 10","Дряпки для котів",1663.02,2162,0,{"$f":"G339*I339","v":0}]
[null,1111171709,48011,"Дряпка Trixie Junior для кошенят котяча м_ята картон 38х6х18см","Більше 10","Дряпки для котів",202.8,264,0,{"$f":"G340*I340","v":0}]
[null,1111171708,48012,"Дряпка Trixie Wave Junior для кошенят котяча м_ята картон 38х7х18см","Більше 10","Дряпки для котів",202.8,264,0,{"$f":"G341*I341","v":0}]
[null,1111172122,"49960*****","Дряпка Trixie д/котів Set1 настінна дерев/сизал біла/сіра 35х130х25см","Менше 10","Дряпки для котів",2960.94,3849,0,{"$f":"G342*I342","v":0}]
[null,1111172126,"49971*****","Дряпка Trixie д/котів Дошка настінна сизаль/дерево біла/сіра 38х58см","Менше 10","Дряпки для котів",1257.08,1697,0,{"$f":"G343*I343","v":0}]
[null,1111185459,48015,"Дряпка Trixie для кот Риба картон 2 шт 40х30х11см м_ятно-крем арт48015","Менше 10","Дряпки для котів",486.78,633,0,{"$f":"G344*I344","v":0}]
[null,1111127887,43115,"Дряпка Trixie для котів 2 іграшки дощечка на підстав чорна 30х40х42см","Менше 10","Дряпки для котів",1009.86,1313,0,{"$f":"G345*I345","v":0}]
[null,1111130095,4331,"Дряпка Trixie для котів Edoardo будиночок та іграшка бежева 33х50см","Менше 10","Дряпки для котів",3447.72,4482,0,{"$f":"G346*I346","v":0}]
[null,1111117413,4330,"Дряпка Trixie для котів Samuel з будиночком бежева 36х70см","Менше 10","Дряпки для котів",4700.88,6111,0,{"$f":"G347*I347","v":0}]
[null,1111172124,"43160*****","Дряпка Trixie для котів XXL настінна кутова сизаль/плюш сіра 38х75см","Менше 10","Дряпки для котів",1318.98,1715,0,{"$f":"G348*I348","v":0}]
[null,1111172125,"43166*****","Дряпка Trixie для котів XXL настінна сизаль/фліс коричнева 50х70см","Менше 10","Дряпки для котів",1415.46,1840,0,{"$f":"G349*I349","v":0}]
[null,1111171715,48004,"Дряпка Trixie для котів Барабан кульки/котяча м_ята картон 33х5,5см","Більше 10","Дряпки для котів",524.52,682,0,{"$f":"G350*I350","v":0}]
[null,12280,4303,"Дряпка Trixie для котів з валик/іграшка сизаль/плюш чорна 15x35см","Більше 10","Дряпки для котів",448.98,584,0,{"$f":"G351*I351","v":0}]
[null,1111171718,48000,"Дряпка Trixie для котів з котячою м_ятою картон синя 41х7х24см","Більше 10","Дряпки для котів",297.95999999999998,387,0,{"$f":"G352*I352","v":0}]
[null,1111117415,"4324*****","Дряпка Trixie для котів кругла з іграшкою 23х20см синьо-бежева Арт4324","Менше 10","Дряпки для котів",685.38,891,0,{"$f":"G353*I353","v":0}]
[null,1111171717,48006,"Дряпка Trixie для котів кульки/котяча м_ята картон 38х5х30см","Менше 10","Дряпки для котів",297.95999999999998,387,0,{"$f":"G354*I354","v":0}]
[null,1111172129,43721,"Дряпка Trixie для котів М_яч МДФ/джут бежева 29х31см","Менше 10","Дряпки для котів",2068.62,2689,0,{"$f":"G355*I355","v":0}]
[null,1111115157,43191,"Дряпка Trixie для котів настінна кутова сизаль/плюш бежева 23x49см","Менше 10","Дряпки для котів",524.52,682,0,{"$f":"G356*I356","v":0}]
[null,1111115167,43181,"Дряпка Trixie для котів настінна сизаль/дерево бежева 11x56см","Менше 10","Дряпки для котів",297.95999999999998,387,0,{"$f":"G357*I357","v":0}]
[null,1111118187,43171,"Дряпка Trixie для котів настінна сизаль/дерево бежева 17х70см","Менше 10","Дряпки для котів",442.02,575,0,{"$f":"G358*I358","v":0}]
[null,1111119914,43071,"Дряпка Trixie для котів настінна сизаль/плюш бежева 15x62см","Менше 10","Дряпки для котів",335.7,436,0,{"$f":"G359*I359","v":0}]
[null,1111120015,4342,"Дряпка Trixie для котів настінна сизаль/плюш бежева 18x78см","Менше 10","Дряпки для котів",562.26,731,0,{"$f":"G360*I360","v":0}]
[null,1111171714,48002,"Дряпка Trixie для котів Хвиля Mimi з котячою м_ятою картон 48х16х22см","Менше 10","Дряпки для котів",675.6,878,0,{"$f":"G361*I361","v":0}]
[null,1111171710,48031,"Дряпка Trixie для котів Хвиля XXL котяча м_ята картон сіра 64х14х37см","Менше 10","Дряпки для котів",1228.02,1596,0,{"$f":"G362*I362","v":0}]
[null,1111185462,48041,"Дряпка Trixie для кошен картон з кот м_ят 31х2,5х32,5см арт48041","Більше 10","Дряпки для котів",222.42,289,0,{"$f":"G363*I363","v":0}]
[null,1111185461,"48040*****","Дряпка Trixie для кошен картон з кот м_ят 35х2,5х29,5см біла арт48040","Менше 10","Дряпки для котів",222.42,289,0,{"$f":"G364*I364","v":0}]
[null,1111183772,"42930*****","Дряпка Trixie для кошенят фліс 47 см світло-бузкова","Менше 10","Дряпки для котів",807.06,1049,0,{"$f":"G365*I365","v":0}]
[null,1111157201,44418,"Дряпка Trixie Міка для котів 46 см світло-сіра Арт44418","Менше 10","Дряпки для котів",1415.46,1840,0,{"$f":"G366*I366","v":0}]
[null,1111172140,"44413*****","Дряпка-будинок Trixie для котів Печера з кулею МДФ/джут/плюш 36х50см","Менше 10","Дряпки для котів",2647.03,3574,0,{"$f":"G367*I367","v":0}]
[null,1111172132,"44988*****","Дряпка-будиночок Trixie Gabriel для котів сизаль сіра 38х38х78см","Менше 10","Дряпки для котів",5357.61,7233,0,{"$f":"G368*I368","v":0}]
[null,1111172136,"44537*****","Дряпка-будиночок Trixie Harvey д/котів джут/плюш коричнева 54х40х73см","Менше 10","Дряпки для котів",4255.3599999999997,5745,0,{"$f":"G369*I369","v":0}]
[null,1111172135,"44539*****","Дряпка-будиночок Trixie Harvey д/котів джут/плюш рожева 54х40х73см","Менше 10","Дряпки для котів",3883.32,5243,0,{"$f":"G370*I370","v":0}]
[null,1111172131,"44708*****","Дряпка-будиночок Trixie Harvey для котів сизаль/плюш сіра 50х118см","Менше 10","Дряпки для котів",12665.55,17098,0,{"$f":"G371*I371","v":0}]
[null,1111172133,44706,"Дряпка-будиночок Trixie Ria для котів сизаль сіра 37х37см","Менше 10","Дряпки для котів",3727.44,4846,0,{"$f":"G372*I372","v":0}]
[null,1111172134,44433,"Дряпка-будиночок Trixie Saul для котів сизал/плюш сіра/біла 39х39х64см","Менше 10","Дряпки для котів",2717.58,3533,0,{"$f":"G373*I373","v":0}]
[null,312023,4325,"Дряпка-килимок Trixie для кот з іграшк на мотузці беж 55х35см Арт4325","Менше 10","Дряпки для котів",482.58,627,0,{"$f":"G374*I374","v":0}]
[null,1111133308,4323,"Дряпка-килимок Trixie для котів з м_ячиком коричнева 70х45см","Менше 10","Дряпки для котів",888.18,1155,0,{"$f":"G375*I375","v":0}]
[null,1111114905,43882,"Дряпка-комплекс Trixie Altea для котів з іграшками сіра 40х40х117см","Менше 10","Дряпки для котів",2717.58,3533,0,{"$f":"G376*I376","v":0}]
[null,1111172139,44548,"Дряпка-комплекс Trixie Baza д/котів іграшка сизал/плюш сіра 41х41х50см","Менше 10","Дряпки для котів",1906.38,2478,0,{"$f":"G377*I377","v":0}]
[null,1111129721,44541,"Дряпка-комплекс Trixie Baza для котів з іграшкою бежева 41х41х50см","Більше 10","Дряпки для котів",1663.02,2162,0,{"$f":"G378*I378","v":0}]
[null,1111172137,"44436*****","Дряпка-комплекс Trixie Nayra д/котів іграшка джут/плюш беж 40х40х83см","Менше 10","Дряпки для котів",4700.88,6111,0,{"$f":"G379*I379","v":0}]
[null,1111117666,43787,"Дряпка-комплекс Trixie Palamos для котів чорна 39х39х109см","Менше 10","Дряпки для котів",3727.44,4846,0,{"$f":"G380*I380","v":0}]
[null,1111115161,43771,"Дряпка-комплекс Trixie Valencia для котів бежева 44х33х71см","Менше 10","Дряпки для котів",2267.2199999999998,2947,0,{"$f":"G381*I381","v":0}]
[null,1111171712,48014,"Дряпка-лежак Trixie Lilly для котів котяча м_ята картон рожева 45х10см","Менше 10","Дряпки для котів",939.9,1222,0,{"$f":"G382*I382","v":0}]
[null,1111172138,"47062*****","Дряпка-лежак Trixie Marcela д/котів іграшка сизал/плюш сіра 53х43х60см","Менше 10","Дряпки для котів",4255.3599999999997,5745,0,{"$f":"G383*I383","v":0}]
[null,1111171713,48013,"Дряпка-лежак Trixie для котів котяча м_ята картон дерево 45х12х33см","Менше 10","Дряпки для котів",448.98,584,0,{"$f":"G384*I384","v":0}]
[null,1111172127,42931,"Дряпка-стовпчик Trixie Junior д/кошенят Лапка сизаль/плюш 40х38х50см","Менше 10","Дряпки для котів",888.18,1155,0,{"$f":"G385*I385","v":0}]
[null,1111172128,42932,"Дряпка-стовпчик Trixie Junior для кошенят джут/плюш м_ятна 30х42см","Більше 10","Дряпки для котів",563.70000000000005,733,0,{"$f":"G386*I386","v":0}]
[null,1111172130,44720,"Дряпка-стовпчик Trixie Livia д/котів іграшка сизал/плюш рожева 38х64см","Менше 10","Дряпки для котів",1318.98,1715,0,{"$f":"G387*I387","v":0}]
[null,1111113978,4309,"Дряпка-стовпчик Trixie для котів з іграшкою на мотузці сизаль 31х50см","Менше 10","Дряпки для котів",685.38,891,0,{"$f":"G388*I388","v":0}]
[null,1111114480,4310,"Дряпка-стовпчик Trixie для котів з іграшкою на мотузці сизаль 35х62см","Більше 10","Дряпки для котів",1009.86,1313,0,{"$f":"G389*I389","v":0}]
[null,1111114370,4306,"Дряпка-стовпчик Trixie для котів з іграшкою та мишкою 40х30х50см","Більше 10","Дряпки для котів",1009.86,1313,0,{"$f":"G390*I390","v":0}]
[null,1111172120,"48022*****","Дряпка-стовпчик Trixie для котів іграшка/котяча м_ята 30х30х62см","Менше 10","Дряпки для котів",1373.78,1855,0,{"$f":"G391*I391","v":0}]
[null,1111141815,48001,"Дряпка-хвиля Trixie Mimi Wave для котів картонна 50х9х23см","Більше 100","Дряпки для котів",373.44,485,0,{"$f":"G392*I392","v":0}]
[null,1111148452,43262,"Дряпка-хвиля Trixie Wave для котів плюш/сизаль сіра 29x18x50см","Менше 10","Дряпки для котів",807.06,1049,0,{"$f":"G393*I393","v":0}]
[null,1111116611,4341,"Дряпка-хвиля Trixie для котів Inca світло-коричнева 44х25х39см","Менше 10","Дряпки для котів",1521.78,1978,0,{"$f":"G394*I394","v":0}]
[null,1111126360,5876,"Жердинка Trixie Natural Living для птахів Y-образна дерево 20см/15мм","Більше 10","Обладнання для птахів",89.52,116,0,{"$f":"G395*I395","v":0}]
[null,1111126361,5877,"Жердинка Trixie Natural Living для птахів Y-образна дерево 35см/18мм","Більше 10","Обладнання для птахів",120.3,156,0,{"$f":"G396*I396","v":0}]
[null,1111126359,5875,"Жердинка Trixie Natural Living для птахів дерево 35см/10-12мм 2шт","Більше 10","Обладнання для птахів",89.52,116,0,{"$f":"G397*I397","v":0}]
[null,1111126366,5889,"Жердинка Trixie Natural Living для птахів з мотузкою дерево 25см/25мм","Більше 10","Обладнання для птахів",120.3,156,0,{"$f":"G398*I398","v":0}]
[null,1111165538,60891,"Забірник для сіна Trixie для гризунів з кришкою метал 20х18х12см","Більше 10","Обладнання для гризунів",151.08000000000001,196,0,{"$f":"G399*I399","v":0}]
[null,13732,6105,"Заборник-куля Trixie для гризунів підвісна метал 12см","Більше 10","Обладнання для гризунів",160.86000000000001,209,0,{"$f":"G400*I400","v":0}]
[null,13733,6104,"Заборник-куля Trixie для гризунів підвісна метал 8см","Більше 10","Обладнання для гризунів",120.3,156,0,{"$f":"G401*I401","v":0}]
[null,1111118162,2547,"Засіб Trixie гігієнічний для очищення вух 50 мл","Більше 100","Догляд та гігієна для собак",146.88,191,0,{"$f":"G402*I402","v":0}]
[null,1111118161,2546,"Засіб Trixie гігієнічний для очищення очей 50 мл","Більше 100","Догляд та гігієна для собак",146.88,191,0,{"$f":"G403*I403","v":0}]
[null,1111165689,25752,"Засіб д/видалення плям від сечі Trixie Intensive 750мл","Більше 10","Засоби для догляду за будинком з собаками",416.82,542,0,{"$f":"G404*I404","v":0}]
[null,1111183739,25751,"Засіб д/видалення плям від сечі Trixie з натур. актив.речовинами 750мл","Менше 10","Засоби для догляду за будинком з собаками",370.68,482,0,{"$f":"G405*I405","v":0}]
[null,1111179975,25705,"Засіб-щітка Trixie для собак для чищення лап силікон/PP синій M/L","Менше 10","Догляд та гігієна для собак",325.92,424,0,{"$f":"G406*I406","v":0}]
[null,1111179974,25704,"Засіб-щітка Trixie для собак для чищення лап силікон/PP синій S/M","Більше 10","Догляд та гігієна для собак",260.16000000000003,338,0,{"$f":"G407*I407","v":0}]
[null,1111140857,"4417 Trixie*****","Захисна решітка Trixie для вікна верх-низ 65 на 16 см біла Арт4417","Немає в наявності","Інструменти для догляду за будинком з котами",274.14,356,0,{"$f":"G408*I408","v":0}]
[null,1111183775,44183,"Захисна решітка для вікна Trixie бокова панель 62х16х7см біла Арт44183","Менше 10","Інструменти для догляду за будинком з собаками",212.64,276,0,{"$f":"G409*I409","v":0}]
[null,1111148095,19543,"Захисний комір Trixie д/соб. надувний M-L 45-57см*11см блакитний","Більше 10","Ветеринарні комірці для собак",751.08,976,0,{"$f":"G410*I410","v":0}]
[null,1111148094,19542,"Захисний комір Trixie д/соб. надувний S 24-31см*9,5см блакитний","Більше 10","Ветеринарні комірці для собак",600.05999999999995,780,0,{"$f":"G411*I411","v":0}]
[null,1111148096,"19544*****","Захисний комір Trixie д/соб. надувний X-XL 66-78см*12см блакитний","Більше 10","Ветеринарні комірці для собак",826.62,1075,0,{"$f":"G412*I412","v":0}]
[null,1111135598,1348,"Захисний чохол Trixie для автомобільного сидіння нейлон 150х135см","Менше 10","Сумки, переноски та посуд для подорожей з собаками",1548.3,2013,0,{"$f":"G413*I413","v":0}]
[null,1111170369,"13204*****","Захисний чохол Trixie для багажника захист бампера поліестер 210х175см","Більше 10","Сумки, переноски та посуд для подорожей з собаками",3923.22,5100,0,{"$f":"G414*I414","v":0}]
[null,1111119294,"1314*****","Захисний чохол Trixie для багажника чорний поліестер 164х125см","Менше 10","Сумки, переноски та посуд для подорожей з собаками",2110.56,2744,0,{"$f":"G415*I415","v":0}]
[null,1111118314,"1318*****","Захисний чохол Trixie для багажника чорний поліестер 230х170см","Менше 10","Сумки, переноски та посуд для подорожей з собаками",1128.72,1467,0,{"$f":"G416*I416","v":0}]
[null,1111170368,"13203*****","Захисний чохол Trixie для сидіння високі борти поліестер 130х155см","Менше 10","Сумки, переноски та посуд для подорожей з собаками",3696.66,4806,0,{"$f":"G417*I417","v":0}]
[null,1111134501,13237,"Захисний чохол Trixie для сидіння роздільн бежевий поліестер 140х120см","Менше 10","Сумки, переноски та посуд для подорожей з собаками",826.62,1075,0,{"$f":"G418*I418","v":0}]
[null,1111114890,1324,"Захисний чохол Trixie для сидіння роздільн чорний поліестер 145х160см","Менше 10","Сумки, переноски та посуд для подорожей з собаками",1925.94,2504,0,{"$f":"G419*I419","v":0}]
[null,1111143926,13472,"Захисний чохол Trixie для сидіння чорний поліестер 145х160см","Менше 10","Сумки, переноски та посуд для подорожей з собаками",1128.72,1467,0,{"$f":"G420*I420","v":0}]
[null,1111206963,39735,"ЗЛАМ. ЗАМОК Контейнер-переноска Trixie для собак та котів Skudo 1 ваго","Менше 10","Сумки, переноски та посуд для подорожей з собаками",497.82,0,0,{"$f":"G421*I421","v":0}]
[null,1111205706,4135,"ЗЛАМАН ТРИМАЧ Іграшка Trixie Crazy Circle д/кот ігр.трек/мишк 24х29см","Менше 10","Іграшки для котів",100.74,0,0,{"$f":"G422*I422","v":0}]
[null,1111207105,43171,"ЗЛАМАНА ЗНИЗУ Дряпка Trixie для котів настінна сизаль/дерево бежева 17","Менше 10","Дряпки для котів",197.94,0,0,{"$f":"G423*I423","v":0}]
[null,1111205200,24791,"ЗЛАМАНА НІЖКА НА ПІДСТАВЦІ Миски Trixie для котів Eat on Feet подвійні","Менше 10","Миски для котів",206.04,0,0,{"$f":"G424*I424","v":0}]
[null,1111199565,39821,"ЗЛАМАНА РУЧКА Контейнер-переноска Trixie для собак та котів Capri 2 ва","Менше 10","Сумки, переноски та посуд для подорожей з котами",428.34,0,0,{"$f":"G425*I425","v":0}]
[null,1111208537,4135,"ЗЛАМАНЕ КРІП Іграшка Trixie Crazy Circle кот ігр.трек з мишкою 24х29см","Менше 10","Іграшки для котів",146.16,0,0,{"$f":"G426*I426","v":0}]
[null,1111201989,40721,"ЗЛОМ.ОДНА ПРУЖИНА Іграшки Trixie для котів Набір на пружинках люфа сиз","Менше 10","Іграшки для котів",262.44,0,0,{"$f":"G427*I427","v":0}]
[null,1111145340,25620,"Зубна паста Trixie для котів зі смаком сиру та щіткою 50г","Більше 100","Догляд та гігієна для котів",181.86,236,0,{"$f":"G428*I428","v":0}]
[null,1111117647,2557,"Зубна паста Trixie для собак з м_ятою 100г","Більше 100","Догляд та гігієна для собак",95.16,124,0,{"$f":"G429*I429","v":0}]
[null,9730,2549,"Зубна паста Trixie для собак з маслом чайного дерева 100г","Більше 100","Догляд та гігієна для собак",103.5,135,0,{"$f":"G430*I430","v":0}]
[null,1111116721,2561,"Зубна паста Trixie для собак зі смаком м_яти та набором щіток 100г","Більше 10","Догляд та гігієна для собак",195.84,255,0,{"$f":"G431*I431","v":0}]
[null,1111131655,2545,"Зубна паста Trixie для собак зі смаком яловичини 100г","Більше 100","Догляд та гігієна для собак",95.16,124,0,{"$f":"G432*I432","v":0}]
[null,1111145200,25446,"Зубний гель Trixie Dental Care для собак/котів зі смаком м_яса 100г","Більше 10","Догляд та гігієна для собак",128.69999999999999,167,0,{"$f":"G433*I433","v":0}]
[null,1111145207,25621,"Зубні щітки Trixie для котів і маленьких собак 15см 4шт","Більше 100","Догляд та гігієна для собак",103.5,135,0,{"$f":"G434*I434","v":0}]
[null,1111119314,2558,"Зубні щітки Trixie для котів і собак двостороння 23см 4шт","Більше 10","Догляд та гігієна для собак",89.52,116,0,{"$f":"G435*I435","v":0}]
[null,793,"4099_1шт","Іграшка Trixie Ball and Roll для котів м_яч/валик з брязкальцем 4,5см","Більше 10","Іграшки для котів",21,27,0,{"$f":"G436*I436","v":0}]
[null,1111150315,41413,"Іграшка Trixie Ball Race для котів Трек ігровий з м_ячем 65х31см","Менше 10","Іграшки для котів",588.84,765,0,{"$f":"G437*I437","v":0}]
[null,1111170341,34878,"Іграшка Trixie Be Eco Elroy для собак Ведмідь зі звуком плюш 42см","Менше 10","Іграшки для собак",448.98,584,0,{"$f":"G438*I438","v":0}]
[null,1111170339,34875,"Іграшка Trixie Be Eco Eyleen для собак Альпака зі звуком плюш 26см","Більше 10","Іграшки для собак",373.44,485,0,{"$f":"G439*I439","v":0}]
[null,1111170340,34877,"Іграшка Trixie Be Eco для собак Ослик звук перероблений плюш 40см","Більше 10","Іграшки для собак",373.44,485,0,{"$f":"G440*I440","v":0}]
[null,1111170328,32630,"Іграшка Trixie Be Nordic для собак М_яч мотузковий бавовна 13см","Менше 10","Іграшки для собак",260.16000000000003,338,0,{"$f":"G441*I441","v":0}]
[null,1111163142,36044,"Іграшка Trixie Be Nordic для собак Морж зі звуком плюш 28см","Менше 10","Іграшки для собак",292.32,380,0,{"$f":"G442*I442","v":0}]
[null,1111163143,36045,"Іграшка Trixie Be Nordic для собак Тюлень зі звуком плюш 30см","Менше 10","Іграшки для собак",292.32,380,0,{"$f":"G443*I443","v":0}]
[null,1111117426,4128,"Іграшка Trixie Catch the Light д/котів Лазерна указка Миша пластик 7см","Менше 10","Іграшки для котів",260.16000000000003,338,0,{"$f":"G444*I444","v":0}]
[null,1111128767,4130,"Іграшка Trixie Catch the Light для котів Указка лазерна 8см","Більше 100","Іграшки для котів",151.08000000000001,196,0,{"$f":"G445*I445","v":0}]
[null,1111116600,41411,"Іграшка Trixie Catch The Mouse д/котів Трек з мишкою пластик 25х6см","Більше 10","Іграшки для котів",325.92,424,0,{"$f":"G446*I446","v":0}]
[null,1111126413,35987,"Іграшка Trixie Chipmunk для собак Бурундук з пискавкою плюш 28см","Більше 10","Іграшки для собак",209.82,273,0,{"$f":"G447*I447","v":0}]
[null,1111126357,4135,"Іграшка Trixie Crazy Circle для котів ігровий трек з мишкою 24х29см","Більше 100","Іграшки для котів",292.32,380,0,{"$f":"G448*I448","v":0}]
[null,1111125094,35986,"Іграшка Trixie Dangling Chipmunk д/собак Бурундук з хвостом плюш 30см","Більше 10","Іграшки для собак",226.62,295,0,{"$f":"G449*I449","v":0}]
[null,1111121032,33181,"Іграшка Trixie Denta Fun для собак Кільце м_ятний смак гума 12см","Більше 10","Іграшки для собак",260.16000000000003,338,0,{"$f":"G450*I450","v":0}]
[null,1111140924,34847,"Іграшка Trixie Denta Fun для собак Кістка з зубною ниткою гума 14см","Більше 10","Іграшки для собак",325.92,424,0,{"$f":"G451*I451","v":0}]
[null,1111122406,"3259    мята","Іграшка Trixie Denta Fun для собак М_яч бейсбольний з м_ятою 5см","Більше 100","Іграшки для собак",89.52,116,0,{"$f":"G452*I452","v":0}]
[null,1111143305,"32880    мята","Іграшка Trixie Denta Fun для собак М_яч бейсбольний з м_ятою 6см","Більше 100","Іграшки для собак",128.69999999999999,167,0,{"$f":"G453*I453","v":0}]
[null,13602,"3289    мята","Іграшка Trixie Denta Fun для собак М_яч бейсбольний з м_ятою 7см","Більше 100","Іграшки для собак",160.86000000000001,209,0,{"$f":"G454*I454","v":0}]
[null,1111126349,3299,"Іграшка Trixie Denta Fun для собак М_яч на мотузці з ручкою 7х24см","Більше 10","Іграшки для собак",226.62,295,0,{"$f":"G455*I455","v":0}]
[null,13603,"3290    мята","Іграшка Trixie Denta Fun для собак М_яч регбі з м_ятою 11см","Більше 10","Іграшки для собак",194.46,253,0,{"$f":"G456*I456","v":0}]
[null,1111119102,32942,"Іграшка Trixie Denta Fun для собак М_яч-котушка для чистки зубів 7см","Більше 10","Іграшки для собак",226.62,295,0,{"$f":"G457*I457","v":0}]
[null,13604,"33132     мята","Іграшка Trixie Denta Fun для собак М_яч-котушка регбі гума 15см","Менше 10","Іграшки для собак",448.98,584,0,{"$f":"G458*I458","v":0}]
[null,1111170337,33704,"Іграшка Trixie DentaFun д/собак Кільце-канат з м_яч чищен/зуб 5см/20см","Менше 10","Іграшки для собак",373.44,485,0,{"$f":"G459*I459","v":0}]
[null,1111121033,"33771 Trixie","Іграшка Trixie DentaFun д/собак Котушка канат/м_ятний смак 9см/37см","Більше 10","Іграшки для собак",260.16000000000003,338,0,{"$f":"G460*I460","v":0}]
[null,1111119105,32943,"Іграшка Trixie DentaFun д/собак Котушка масаж ясен м_ятний смак 11см","Більше 10","Іграшки для собак",226.62,295,0,{"$f":"G461*I461","v":0}]
[null,1111119104,32944,"Іграшка Trixie DentaFun д/собак Котушка масаж ясен м_ятний смак 15см","Більше 10","Іграшки для собак",325.92,424,0,{"$f":"G462*I462","v":0}]
[null,1111140913,33680,"Іграшка Trixie DentaFun для собак М_яч для зубів термопласт гума 6см","Більше 10","Іграшки для собак",128.69999999999999,167,0,{"$f":"G463*I463","v":0}]
[null,1111119103,32941,"Іграшка Trixie DentaFun для собак М_яч-котушка м_ятний смак гума 6см","Більше 10","Іграшки для собак",160.86000000000001,209,0,{"$f":"G464*I464","v":0}]
[null,1111170325,"32023*****","Іграшка Trixie Dog Activity д/дрібн/собак Mini Solitaire пластик 20см","Менше 10","Іграшки для собак",325.92,424,0,{"$f":"G465*I465","v":0}]
[null,1111170366,32036,"Іграшка Trixie Dog Activity д/собак/котів Slide/Feed пластик 30х27см","Більше 10","Іграшки для собак",523.14,680,0,{"$f":"G466*I466","v":0}]
[null,1111170365,32009,"Іграшка Trixie Dog Activity для собак Ball and Treat пластик 17х18см","Менше 10","Іграшки для собак",883.98,1149,0,{"$f":"G467*I467","v":0}]
[null,1111170324,"32022*****","Іграшка Trixie Dog Activity для собак Chess пластик 40х10х27см","Менше 10","Іграшки для собак",818.22,1064,0,{"$f":"G468*I468","v":0}]
[null,1111170322,32001,"Іграшка Trixie Dog Activity для собак Flip and Fun пластик 23см","Більше 10","Іграшки для собак",358.08,465,0,{"$f":"G469*I469","v":0}]
[null,1111144824,32016,"Іграшка Trixie Dog Activity для собак Gambling Tower пластик 25х27см","Менше 10","Іграшки для собак",720.3,936,0,{"$f":"G470*I470","v":0}]
[null,1111170323,"32017*****","Іграшка Trixie Dog Activity для собак Solitaire пластик 29см","Менше 10","Іграшки для собак",464.47,664,0,{"$f":"G471*I471","v":0}]
[null,1111134529,33562,"Іграшка Trixie Dog Activity для собак Літаюча тарілка пластик 23см","Менше 10","Іграшки для собак",260.16000000000003,338,0,{"$f":"G472*I472","v":0}]
[null,1111114698,3335,"Іграшка Trixie Dog Toy Dumbbell д/собак Гантель з дзвіночком гума 12см","Більше 10","Іграшки для собак",131.52000000000001,171,0,{"$f":"G473*I473","v":0}]
[null,1111117732,"3504_1шт","Іграшка Trixie Faces для собак Тваринки-обличчя латекс 6см","Менше 10","Іграшки для собак",89.52,116,0,{"$f":"G474*I474","v":0}]
[null,1111170327,32533,"Іграшка Trixie Feed Dummy для собак для дресирування поліестер 6х18см","Менше 10","Іграшки для собак",144.06,187,0,{"$f":"G475*I475","v":0}]
[null,1111156346,41416,"Іграшка Trixie Fix and Catch д/котів Трек ігровий з м_ячем пласт 45см","Більше 10","Іграшки для котів",165.06,215,0,{"$f":"G476*I476","v":0}]
[null,1111170330,32827,"Іграшка Trixie Jumper для собак Стрибун на канаті гума 7см/25см","Менше 10","Іграшки для собак",292.32,380,0,{"$f":"G477*I477","v":0}]
[null,1111170331,"32828*****","Іграшка Trixie Jumper для собак Стрибун на канаті гума 9см/30см","Більше 10","Іграшки для собак",373.44,485,0,{"$f":"G478*I478","v":0}]
[null,1111142219,33343,"Іграшка Trixie Junior Dumbbell для цуценят Гантель шипована гума 9см","Більше 10","Іграшки для собак",194.46,253,0,{"$f":"G479*I479","v":0}]
[null,1111115844,35611,"Іграшка Trixie Junior Mini Dumbbell д/цуценят Гантель латекс 10см","Більше 10","Іграшки для собак",110.52,144,0,{"$f":"G480*I480","v":0}]
[null,1111163125,36178,"Іграшка Trixie Junior Snuggler для цуценят Тваринки плюш 20х20см","Менше 10","Іграшки для собак",260.16000000000003,338,0,{"$f":"G481*I481","v":0}]
[null,1111170352,36177,"Іграшка Trixie Junior для собак Ведмідь з кільцем та звуком 23см","Менше 10","Іграшки для собак",260.16000000000003,338,0,{"$f":"G482*I482","v":0}]
[null,1111170351,36176,"Іграшка Trixie Junior для собак Ведмідь зі звуком тканина/плюш 28см","Більше 10","Іграшки для собак",292.32,380,0,{"$f":"G483*I483","v":0}]
[null,1111170315,33341,"Іграшка Trixie Junior для собак Гілка що шарудить гума 10см","Більше 10","Іграшки для собак",198.66,258,0,{"$f":"G484*I484","v":0}]
[null,1111170316,33342,"Іграшка Trixie Junior для собак Пустишка для масажу ясен гума 9см","Більше 10","Іграшки для собак",160.86000000000001,209,0,{"$f":"G485*I485","v":0}]
[null,1111170350,36171,"Іграшка Trixie Junior для цуценят Кролик зі звуком текстиль/плюш 28см","Більше 10","Іграшки для собак",292.32,380,0,{"$f":"G486*I486","v":0}]
[null,1111147055,32810,"Іграшка Trixie Junior для цуценят М_яч жгутовий текстиль 6см","Більше 10","Іграшки для собак",65.760000000000005,85,0,{"$f":"G487*I487","v":0}]
[null,1111170358,32814,"Іграшка Trixie Junior для цуценят М_яч жгутовий текстиль 9см","Менше 10","Іграшки для собак",97.92,127,0,{"$f":"G488*I488","v":0}]
[null,1111170318,"34953*****","Іграшка Trixie Lick n Snack для собак М_яч для ласощів гума 8х12х13см","Менше 10","Іграшки для собак",601.44000000000005,782,0,{"$f":"G489*I489","v":0}]
[null,1111123863,"3506_1шт","Іграшка Trixie Longies для собак Тварини-сафарі латекс 30-32см","Менше 10","Іграшки для собак",260.16000000000003,338,0,{"$f":"G490*I490","v":0}]
[null,1111141009,"41311*****","Іграшка Trixie Moving Light для котів Лазерна указка на стіну 11см","Менше 10","Іграшки для котів",1004.28,1305,0,{"$f":"G491*I491","v":0}]
[null,1111117857,5870,"Іграшка Trixie Natural Living д/папуг підвісна ланц/мотуз дерево 40см","Більше 10","Іграшки для птахів",134.28,175,0,{"$f":"G492*I492","v":0}]
[null,10361,5186,"Іграшка Trixie Natural Living д/птахів Драбинка 3 сходинки дерево 40см","Більше 10","Обладнання для птахів",181.86,236,0,{"$f":"G493*I493","v":0}]
[null,1111126363,5880,"Іграшка Trixie Natural Living д/птахів Драбинка 7 сходинок дерево 30см","Більше 10","Обладнання для птахів",89.52,116,0,{"$f":"G494*I494","v":0}]
[null,1111119269,5886,"Іграшка Trixie Natural Living д/птахів Драбинка на канаті дерево 34см","Більше 10","Обладнання для птахів",243.36,316,0,{"$f":"G495*I495","v":0}]
[null,1111170317,34951,"Іграшка Trixie Roly Poly для собак Яйце для ласощів пластик 13см","Менше 10","Іграшки для собак",373.44,485,0,{"$f":"G496*I496","v":0}]
[null,1111141794,34930,"Іграшка Trixie Snack Dumbbell для собак Гантель для ласощів гума 12см","Більше 10","Іграшки для собак",78.36,102,0,{"$f":"G497*I497","v":0}]
[null,1111119769,4547,"Іграшка Trixie Squeaky для котів Мишка на вудочці зі звуком 47см","Більше 10","Іграшки для котів",209.82,273,0,{"$f":"G498*I498","v":0}]
[null,1111170332,32860,"Іграшка Trixie Training Dummy для собак для дресирування 6х14см/25см","Менше 10","Іграшки для собак",232.2,302,0,{"$f":"G499*I499","v":0}]
[null,1111170333,32861,"Іграшка Trixie Training Dummy для собак для дресирування 6х24см/36см","Менше 10","Іграшки для собак",260.16000000000003,338,0,{"$f":"G500*I500","v":0}]
[null,1111117382,"4089_1шт","Іграшка Trixie Wriggle для котів Мишка вібруюча плюш 8см","Більше 100","Іграшки для котів",103.5,135,0,{"$f":"G501*I501","v":0}]
[null,1111163130,35677,"Іграшка Trixie Альпака для собак плюш 22см","Менше 10","Іграшки для собак",373.44,485,0,{"$f":"G502*I502","v":0}]
[null,1111121810,6192,"Іграшка Trixie д/гризунів Кукурудза/морква натур/матеріали 15см 2шт","Більше 10","Іграшки для гризунів",78.36,102,0,{"$f":"G503*I503","v":0}]
[null,1111126945,61822,"Іграшка Trixie д/гризунів м_яч з брязкальцем натуральні матеріали 6см","Більше 10","Іграшки для гризунів",54.6,71,0,{"$f":"G504*I504","v":0}]
[null,1111126943,61821,"Іграшка Trixie д/гризунів м_яч з брязкальцем натуральні матеріали 6см","Більше 10","Іграшки для гризунів",61.56,80,0,{"$f":"G505*I505","v":0}]
[null,1111178638,41132,"Іграшка Trixie д/кот Гантель на струні CityStyle фетр/дер сір/чор 13см","Більше 10","Іграшки для котів",67.14,87,0,{"$f":"G506*I506","v":0}]
[null,1111178641,41136,"Іграшка Trixie д/кот Диски наШнур CityStyle проб/дер беж/чорн d=4*14см","Більше 10","Іграшки для котів",113.34,147,0,{"$f":"G507*I507","v":0}]
[null,1111136765,45560,"Іграшка Trixie д/котів Вівця брязкальце на гумці котяч/м_ята плюш 20см","Менше 10","Іграшки для котів",151.08000000000001,196,0,{"$f":"G508*I508","v":0}]
[null,1111178639,41133,"Іграшка Trixie д/котів Гантель CityStyle фетр/дерево сірий/чорний 10см","Більше 10","Іграшки для котів",79.739999999999995,104,0,{"$f":"G509*I509","v":0}]
[null,1111136766,45561,"Іграшка Trixie д/котів Курка брязкальце/котяча м_ята/мотузка плюш 20см","Більше 10","Іграшки для котів",151.08000000000001,196,0,{"$f":"G510*I510","v":0}]
[null,1111126433,45741,"Іграшка Trixie д/котів Паличка з пір_ям та м_ячиком плюш/пластик 54см","Більше 10","Іграшки для котів",89.52,116,0,{"$f":"G511*I511","v":0}]
[null,1111178637,41118,"Іграшка Trixie д/котів Риба з котячою м_ятою поліестер кольорова 20см","Більше 10","Іграшки для котів",110.52,144,0,{"$f":"G512*I512","v":0}]
[null,1111178636,41117,"Іграшка Trixie д/котів Риба з котячою м_ятою поліестер кольорова 8см","Більше 10","Іграшки для котів",72.78,95,0,{"$f":"G513*I513","v":0}]
[null,1111178640,41135,"Іграшка Trixie д/котМ_ячРегбіНаШнурCityStyle проб/дер беж/чор d=4*17см","Більше 10","Іграшки для котів",131.52000000000001,171,0,{"$f":"G514*I514","v":0}]
[null,1111130091,58951,"Іграшка Trixie д/птахів підвісна вулканіч/камінь дзвіночок дерево 16см","Більше 10","Іграшки для птахів",88.14,115,0,{"$f":"G515*I515","v":0}]
[null,1111178634,"36061*****","Іграшка Trixie д/соб BE NORDIC Камбала Хаджо звук поліест/бав сір 35см","Більше 10","Іграшки для собак",373.44,485,0,{"$f":"G516*I516","v":0}]
[null,1111178633,"36060*****","Іграшка Trixie д/соб BE NORDIC Морськ коник Іда поліест/бавов сір 32см","Більше 10","Іграшки для собак",373.44,485,0,{"$f":"G517*I517","v":0}]
[null,1111178476,34823,"Іграшка Trixie д/соб Лисиця звук і шелест фольги поліест помаранч 50см","Більше 10","Іграшки для собак",448.98,584,0,{"$f":"G518*I518","v":0}]
[null,1111178635,36062,"Іграшка Trixie д/собак BE NORDIC Черепаха Хауке поліест/бавов сір 34см","Більше 10","Іграшки для собак",486.78,633,0,{"$f":"G519*I519","v":0}]
[null,1111163122,32867,"Іграшка Trixie д/собак Bungee Dummy д/тренування плюш/поліест 20х47см","Менше 10","Іграшки для собак",226.62,295,0,{"$f":"G520*I520","v":0}]
[null,1111163123,32868,"Іграшка Trixie д/собак Bungee Tugger для тренування з кільцем 10х56см","Менше 10","Іграшки для собак",325.92,424,0,{"$f":"G521*I521","v":0}]
[null,1111163124,32869,"Іграшка Trixie д/собак Bungee Tugger для тренувань з м_ячем d-7см 48см","Більше 10","Іграшки для собак",325.92,424,0,{"$f":"G522*I522","v":0}]
[null,1111178478,36020,"Іграшка Trixie д/собак Білка з ефектом пам_яті поліест помаранч 13см","Більше 10","Іграшки для собак",292.32,380,0,{"$f":"G523*I523","v":0}]
[null,1111170354,"33412*****","Іграшка Trixie д/собак Дзвіночок на ремінці для ласощів каучук 11х22см","Менше 10","Іграшки для собак",247.26,311.54000000000002,0,{"$f":"G524*I524","v":0}]
[null,1111114737,3278,"Іграшка Trixie д/собак Канат-вісімка плетений пластик/хрестовина 35см","Більше 10","Іграшки для собак",151.08000000000001,196,0,{"$f":"G525*I525","v":0}]
[null,1111178473,34721,"Іграшка Trixie д/собак Корова зі звуком поліестер/бавовна бежева 50см","Менше 10","Іграшки для собак",448.98,584,0,{"$f":"G526*I526","v":0}]
[null,1111178479,36021,"Іграшка Trixie д/собак Лисиця з ефектом пам_яті поліест помаранч 11см","Менше 10","Іграшки для собак",299.33999999999997,389,0,{"$f":"G527*I527","v":0}]
[null,12150,"34603_1шт","Іграшка Trixie д/собак М_яч змінний для арт.32441 спінена гума d-4,5см","Менше 10","Іграшки для собак",50.4,65,0,{"$f":"G528*I528","v":0}]
[null,1111178480,36022,"Іграшка Trixie д/собак Мавпа з ефектом пам_яті поліестер кричнева 11см","Менше 10","Іграшки для собак",325.92,424,0,{"$f":"G529*I529","v":0}]
[null,1111178630,34720,"Іграшка Trixie д/собак Мавпа зі звуком поліестер/бавовна коричнев 40см","Менше 10","Іграшки для собак",486.78,633,0,{"$f":"G530*I530","v":0}]
[null,1111134632,35968,"Іграшка Trixie д/собак Пташка з пискавкою та еластичною шиєю плюш 30см","Більше 10","Іграшки для собак",373.44,485,0,{"$f":"G531*I531","v":0}]
[null,1111183792,"61823*****","Іграшка Trixie для гриз Яблуко з кукурудзяного лушпиння 7см Арт61823","Менше 10","Іграшки для гризунів",144.06,187,0,{"$f":"G532*I532","v":0}]
[null,1111183791,61654,"Іграшка Trixie для гризун Дерев_яний ролик з дзвіночком 5х7см Арт61654","Менше 10","Іграшки для гризунів",95.16,124,0,{"$f":"G533*I533","v":0}]
[null,1111165401,61949,"Іграшка Trixie для гризун Набір іграшок в формі овочів 6х9см Арт61949","Менше 10","Іграшки для гризунів",144.06,187,0,{"$f":"G534*I534","v":0}]
[null,1111115171,6184,"Іграшка Trixie для гризунів Валик з брязкальцем дерев_яний 7х5 см","Більше 10","Іграшки для гризунів",78.36,102,0,{"$f":"G535*I535","v":0}]
[null,1111121132,6183,"Іграшка Trixie для гризунів Валик з дзвіночком дерево 3,5х5см","Більше 10","Іграшки для гризунів",65.760000000000005,85,0,{"$f":"G536*I536","v":0}]
[null,1111134457,60811,"Іграшка Trixie для гризунів Диск біговий пластик 17см","Більше 10","Обладнання для гризунів",160.86000000000001,209,0,{"$f":"G537*I537","v":0}]
[null,1111183798,"62812*****","Іграшка Trixie для гризунів для ласощів інтерактивна 20см Арт62812","Більше 10","Іграшки для гризунів",260.16000000000003,338,0,{"$f":"G538*I538","v":0}]
[null,1111119900,6186,"Іграшка Trixie для гризунів Канат з блоками дерево 20см","Більше 10","Іграшки для гризунів",78.36,102,0,{"$f":"G539*I539","v":0}]
[null,1111185465,"61813*****","Іграшка Trixie для гризунів Кокосовий м_яч діаметр 6 см арт61813","Більше 10","Іграшки для гризунів",103.5,135,0,{"$f":"G540*I540","v":0}]
[null,1111120636,"6185*****","Іграшка Trixie для гризунів куля дерев_яна для ласощів 8 см Арт6185","Менше 10","Іграшки для гризунів",176.28,229,0,{"$f":"G541*I541","v":0}]
[null,1111119534,"6275*****","Іграшка Trixie для гризунів Куля для ласощів пластик 7 см Арт6275","Більше 10","Іграшки для гризунів",128.69999999999999,167,0,{"$f":"G542*I542","v":0}]
[null,1111140047,"61825*****","Іграшка Trixie для гризунів Куля з дзвіночком з трави 10см","Менше 10","Іграшки для гризунів",95.16,124,0,{"$f":"G543*I543","v":0}]
[null,1111117668,6187,"Іграшка Trixie для гризунів м_яч з брязкальцем дерев_яна 6см","Більше 10","Іграшки для гризунів",128.69999999999999,167,0,{"$f":"G544*I544","v":0}]
[null,1111161175,61943,"Іграшка Trixie для гризунів М_яч плетений натуральний 13см","Більше 10","Іграшки для гризунів",120.3,156,0,{"$f":"G545*I545","v":0}]
[null,1111118893,6189,"Іграшка Trixie для гризунів Морква сизаль 18см","Більше 10","Іграшки для гризунів",110.52,144,0,{"$f":"G546*I546","v":0}]
[null,1111185469,"61916*****","Іграшка Trixie для гризунів Набір гантелей з кори 2 шт 9х2см арт61916","Менше 10","Іграшки для гризунів",89.52,116,0,{"$f":"G547*I547","v":0}]
[null,1111183705,"6195*****","Іграшка Trixie для гризунів набір дерев_ян гантель 4,5х9см 2шт Арт6195","Менше 10","Іграшки для гризунів",72.78,95,0,{"$f":"G548*I548","v":0}]
[null,1111183794,61942,"Іграшка Trixie для гризунів Плетена куля 10 см Арт61942","Більше 10","Іграшки для гризунів",89.52,116,0,{"$f":"G549*I549","v":0}]
[null,1111183793,"61941*****","Іграшка Trixie для гризунів Плетена куля 6 см Арт61941","Більше 10","Іграшки для гризунів",61.56,80,0,{"$f":"G550*I550","v":0}]
[null,1111185468,"61915*****","Іграшка Trixie для гризунів Пучок трави з джутом 3,5 16см арт61915","Менше 10","Іграшки для гризунів",72.78,95,0,{"$f":"G551*I551","v":0}]
[null,1111134784,6193,"Іграшка Trixie для гризунів Редиска натур/матеріали 8см набір 2шт","Більше 10","Іграшки для гризунів",78.36,102,0,{"$f":"G552*I552","v":0}]
[null,1111121546,6188,"Іграшка Trixie для гризунів цукерка з паперової пряжі 18см Арт6188","Менше 10","Іграшки для гризунів",95.16,124,0,{"$f":"G553*I553","v":0}]
[null,1111185455,45681,"Іграшка Trixie для кот Білка плюш з пір_ям і кот м_ятою 24см арт45681","Більше 10","Іграшки для котів",176.28,229,0,{"$f":"G554*I554","v":0}]
[null,1111185452,45664,"Іграшка Trixie для кот Ведмідь плюш з кот м_ятою 8см блакит арт45664","Більше 10","Іграшки для котів",89.52,116,0,{"$f":"G555*I555","v":0}]
[null,1111185453,45665,"Іграшка Trixie для кот Ведмідь тканина з кот м_ятою 12см арт45665","Більше 10","Іграшки для котів",120.3,156,0,{"$f":"G556*I556","v":0}]
[null,1111185457,45683,"Іграшка Trixie для кот Восьминіг плюш з котячою м_ятою 10см арт45683","Менше 10","Іграшки для котів",103.5,135,0,{"$f":"G557*I557","v":0}]
[null,1111185456,45682,"Іграшка Trixie для кот Єнот XXL плюш і пір_я з кот м_ят 30см арт45682","Немає в наявності","Іграшки для котів",260.16000000000003,338,0,{"$f":"G558*I558","v":0}]
[null,1111185449,"45554*****","Іграшка Trixie для кот Звірі плюш з котячою м_ятою 11 см арт45554","Менше 10","Іграшки для котів",89.52,116,0,{"$f":"G559*I559","v":0}]
[null,1111185446,45551,"Іграшка Trixie для кот Звірята зі звуком плюш діаметр 6 см арт45551","Менше 10","Іграшки для котів",120.3,156,0,{"$f":"G560*I560","v":0}]
[null,1111185447,45552,"Іграшка Trixie для кот Морозиво і тістечко з кот м_ятою 7см арт45552","Більше 10","Іграшки для котів",72.78,95,0,{"$f":"G561*I561","v":0}]
[null,1111185448,45553,"Іграшка Trixie для кот Морські звірі плюш з кот м_ятою 5–8см арт45553","Більше 10","Іграшки для котів",72.78,95,0,{"$f":"G562*I562","v":0}]
[null,1111145206,45763,"Іграшка Trixie для кот Паличка з 2 іграшк телескопічн 40-98см Арт45763","Менше 10","Іграшки для котів",292.32,380,0,{"$f":"G563*I563","v":0}]
[null,1111185450,45617,"Іграшка Trixie для кот Паличка з плюш зіркою і кот м_ят 46см арт45617","Більше 10","Іграшки для котів",144.06,187,0,{"$f":"G564*I564","v":0}]
[null,1111185451,45619,"Іграшка Trixie для кот Паличка з плюшевою рибою 46 см арт45619","Більше 10","Іграшки для котів",128.69999999999999,167,0,{"$f":"G565*I565","v":0}]
[null,1111185454,45667,"Іграшка Trixie для кот Пташка тканинна 13 см арт45667","Більше 10","Іграшки для котів",120.3,156,0,{"$f":"G566*I566","v":0}]
[null,1111183779,45824,"Іграшка Trixie для кот Риба що рухається з кот м_ятою 26см Арт45824","Менше 10","Іграшки для котів",373.44,485,0,{"$f":"G567*I567","v":0}]
[null,1111134787,45768,"Іграшка Trixie для котів Білка плюшева 9см","Більше 10","Іграшки для котів",128.69999999999999,167,0,{"$f":"G568*I568","v":0}]
[null,1111134786,45767,"Іграшка Trixie для котів Вівця з котячою м_ятою плюш 10см","Більше 10","Іграшки для котів",95.16,124,0,{"$f":"G569*I569","v":0}]
[null,1111141811,45746,"Іграшка Trixie для котів Вудочка двостороння з мишкою і стрічками 40см","Більше 10","Іграшки для котів",151.08000000000001,196,0,{"$f":"G570*I570","v":0}]
[null,1111139788,45289,"Іграшка Trixie для котів Вудочка з пташкою та пір_ями плюш 50см","Менше 10","Іграшки для котів",260.16000000000003,338,0,{"$f":"G571*I571","v":0}]
[null,1111141839,45742,"Іграшка Trixie для котів Вудочка з рибкою котяча м_ята плюш 42см","Більше 100","Іграшки для котів",120.3,156,0,{"$f":"G572*I572","v":0}]
[null,1111141838,45739,"Іграшка Trixie для котів Вудочка з трьома м_ячиками з брязкальцем 35см","Більше 100","Іграшки для котів",103.5,135,0,{"$f":"G573*I573","v":0}]
[null,1111134509,45797,"Іграшка Trixie для котів Вудочка зі смайликом/пір_ям плюш/пластик 50см","Більше 10","Іграшки для котів",89.52,116,0,{"$f":"G574*I574","v":0}]
[null,8463,"4125_1шт*****","Іграшка Trixie для котів Їжак морський латекс 3см","Більше 100","Іграшки для котів",16.8,22,0,{"$f":"G575*I575","v":0}]
[null,1111134791,45782,"Іграшка Trixie для котів Їжачок зі звуком та котячою м_ятою плюш 8см","Більше 10","Іграшки для котів",151.08000000000001,196,0,{"$f":"G576*I576","v":0}]
[null,1111134790,45781,"Іграшка Trixie для котів Їжачок зі звуком та котячою м_ятою плюш 8см","Більше 10","Іграшки для котів",144.06,187,0,{"$f":"G577*I577","v":0}]
[null,1111185484,"45661*****","Іграшка Trixie для котів Конус картонний 13 см арт45661","Менше 10","Іграшки для котів",65.86,86,0,{"$f":"G578*I578","v":0}]
[null,1111183764,41362,"Іграшка Trixie для котів Куля для ласощів 6 см Арт41362","Більше 10","Іграшки для котів",160.86000000000001,209,0,{"$f":"G579*I579","v":0}]
[null,1111183776,45567,"Іграшка Trixie для котів Куля з котячої м_яти 4 см Арт45567","Більше 10","Іграшки для котів",78.36,102,0,{"$f":"G580*I580","v":0}]
[null,1111165692,42432,"Іграшка Trixie для котів Куля з мататабі 4 см Арт42432","Більше 100","Іграшки для котів",78.36,102,0,{"$f":"G581*I581","v":0}]
[null,1111183770,42441,"Іграшка Trixie для котів Льодяник з мататабі і сердечком 23см Арт42441","Більше 10","Іграшки для котів",144.06,187,0,{"$f":"G582*I582","v":0}]
[null,1111119468,4165,"Іграшка Trixie для котів М_яч брязкальце/хвіст пластик 4см набір 2шт","Більше 100","Іграшки для котів",72.78,95,0,{"$f":"G583*I583","v":0}]
[null,1111113723,4137,"Іграшка Trixie для котів М_яч для ласощів пластик 7см","Більше 10","Іграшки для котів",128.69999999999999,167,0,{"$f":"G584*I584","v":0}]
[null,1111119258,4166,"Іграшка Trixie для котів М_яч з брязкальцем пластик 4,5см набір 4шт","Більше 100","Іграшки для котів",71.34,93,0,{"$f":"G585*I585","v":0}]
[null,1111115580,4075,"Іграшка Trixie для котів М_яч з брязкальцем сизаль 6см","Більше 100","Іграшки для котів",89.52,116,0,{"$f":"G586*I586","v":0}]
[null,9603,"4123_1шт*****","Іграшка Trixie для котів М_ячик з брязкальцем та котячою м_ятою 3см","Більше 100","Іграшки для котів",21,27,0,{"$f":"G587*I587","v":0}]
[null,1111145332,"41101_1шт","Іграшка Trixie для котів М_ячик м_який поролоновий 4см","Більше 100","Іграшки для котів",44.76,58,0,{"$f":"G588*I588","v":0}]
[null,1111130855,"45805_1шт","Іграшка Trixie для котів М_ячик смугастий пластик/основа бавовна 4,5см","Більше 100","Іграшки для котів",40.56,53,0,{"$f":"G589*I589","v":0}]
[null,1111123315,"4570_1шт","Іграшка Trixie для котів М_ячик спіральний із брязкальцем нейлон 4см","Більше 100","Іграшки для котів",48.96,64,0,{"$f":"G590*I590","v":0}]
[null,1111120633,"4126_1шт","Іграшка Trixie для котів М_ячик шнур/брязкальце/котяча м_ята плюш 4см","Більше 10","Іграшки для котів",26.58,35,0,{"$f":"G591*I591","v":0}]
[null,1111124961,4097,"Іграшка Trixie для котів М_ячики веселкові спінена гума 4см 4шт","Більше 10","Іграшки для котів",110.52,144,0,{"$f":"G592*I592","v":0}]
[null,1111115360,4077,"Іграшка Trixie для котів М_ячі з брязкальцем на мотузці сизаль 4,5см","Більше 10","Іграшки для котів",72.78,95,0,{"$f":"G593*I593","v":0}]
[null,1111120282,4501,"Іграшка Trixie для котів М_ячі на мотузці пір_я/котяча м_ята 4,5см 2шт","Більше 100","Іграшки для котів",72.78,95,0,{"$f":"G594*I594","v":0}]
[null,1111119262,4133,"Іграшка Trixie для котів М_ячі/дзвіночки/пір_я на гумці гума 3,5х80см","Більше 100","Іграшки для котів",75.540000000000006,98,0,{"$f":"G595*I595","v":0}]
[null,3376,4092,"Іграшка Trixie для котів Миша заводна 7см","Більше 100","Іграшки для котів",95.16,124,0,{"$f":"G596*I596","v":0}]
[null,1111119993,4065,"Іграшка Trixie для котів Миша на вудочці 8см/190см","Більше 100","Іграшки для котів",75.540000000000006,98,0,{"$f":"G597*I597","v":0}]
[null,1111114596,4105,"Іграшка Trixie для котів Миша на вудочці з котячою мятою 50см","Більше 100","Іграшки для котів",89.52,116,0,{"$f":"G598*I598","v":0}]
[null,1111183760,41112,"Іграшка Trixie для котів Миша плюшева з котячою м_ятою 7 см в дисплеї","Більше 100","Іграшки для котів",72.78,95,0,{"$f":"G599*I599","v":0}]
[null,1111125296,45735,"Іграшка Trixie для котів Миша плюшева з котячою м_ятою 7см","Більше 100","Іграшки для котів",65.760000000000005,85,0,{"$f":"G600*I600","v":0}]
[null,1111183761,41115,"Іграшка Trixie для котів Миша плюшева з котячою м_ятою 9 см Арт41115","Більше 10","Іграшки для котів",110.52,144,0,{"$f":"G601*I601","v":0}]
[null,12249,4052,"Іграшка Trixie для котів Миша хутряна з котячою м_ятою 5см","Більше 100","Іграшки для котів",32.22,42,0,{"$f":"G602*I602","v":0}]
[null,9742,4074,"Іграшка Trixie для котів Мишка XXL з брязкальцем сизаль 10см","Більше 100","Іграшки для котів",89.52,116,0,{"$f":"G603*I603","v":0}]
[null,769,"4115_1шт","Іграшка Trixie для котів Мишка в дротяній кулі з дзвіночком плюш 6см","Більше 100","Іграшки для котів",65.760000000000005,85,0,{"$f":"G604*I604","v":0}]
[null,1111131806,"45808_1шт","Іграшка Trixie для котів Мишка з брязкальцем сизаль 5см","Більше 100","Іграшки для котів",28.02,36,0,{"$f":"G605*I605","v":0}]
[null,8089,"4085_1шт","Іграшка Trixie для котів Мишка з котячою м_ятою плюш 5см","Більше 100","Іграшки для котів",36.36,47,0,{"$f":"G606*I606","v":0}]
[null,1111126987,36030,"Іграшка Trixie для котів Мишка з латками та пискавкою плюш 19см","Більше 10","Іграшки для собак",226.62,295,0,{"$f":"G607*I607","v":0}]
[null,1111134792,45785,"Іграшка Trixie для котів Мишка з пискавкою та котячою м_ятою плюш 8см","Більше 10","Іграшки для котів",151.08000000000001,196,0,{"$f":"G608*I608","v":0}]
[null,1111113519,"4116_1шт","Іграшка Trixie для котів Мишка з пискавкою та котячою м_ятою плюш 9см","Більше 100","Іграшки для котів",51.78,67,0,{"$f":"G609*I609","v":0}]
[null,1111143746,45758,"Іграшка Trixie для котів Мишка з пряжі та брязкальцем 5см","Більше 10","Іграшки для котів",110.52,144,0,{"$f":"G610*I610","v":0}]
[null,1111141783,45579,"Іграшка Trixie для котів Мишка з серцем та котячою м_ятою плюш 11см","Більше 10","Іграшки для котів",128.69999999999999,167,0,{"$f":"G611*I611","v":0}]
[null,1111143638,45749,"Іграшка Trixie для котів Мишка з шкіри та котячої м_яти 5см 2шт","Більше 10","Іграшки для котів",89.52,116,0,{"$f":"G612*I612","v":0}]
[null,12266,4083,"Іграшка Trixie для котів Мишка заводна вібруюча котяча м_ята 8,5см","Більше 100","Іграшки для котів",120.3,156,0,{"$f":"G613*I613","v":0}]
[null,1111134797,45798,"Іграшка Trixie для котів Мишка заводна рухається плюш 5,5см","Менше 10","Іграшки для котів",226.62,295,0,{"$f":"G614*I614","v":0}]
[null,1111114595,4103,"Іграшка Trixie для котів Мишка на вудочці з котячою м_ятою 100см","Більше 100","Іграшки для котів",110.52,144,0,{"$f":"G615*I615","v":0}]
[null,1111117855,"4516_1шт","Іграшка Trixie для котів Мишка на вудочці з пір_ям/котячою м_ятою 50см","Більше 100","Іграшки для котів",61.56,80,0,{"$f":"G616*I616","v":0}]
[null,1111135277,"4139_1шт","Іграшка Trixie для котів Мишка хутряна дзвіночок та котяча м_ята 4см","Більше 100","Іграшки для котів",34.979999999999997,45,0,{"$f":"G617*I617","v":0}]
[null,1111150539,"40763_1шт","Іграшка Trixie для котів Мишка/Рибка з котячою м_ятою 9-12см","Менше 10","Іграшки для котів",61.56,80,0,{"$f":"G618*I618","v":0}]
[null,1111122323,"4554_1шт","Іграшка Trixie для котів Мишка-м_ячик з котячою м_ятою плюш 4,5см","Більше 10","Іграшки для котів",72.78,95,0,{"$f":"G619*I619","v":0}]
[null,1111183769,42435,"Іграшка Trixie для котів Палиця з мататабі з китицями 24 см Арт42435","Більше 100","Іграшки для котів",78.36,102,0,{"$f":"G620*I620","v":0}]
[null,1111126443,45733,"Іграшка Trixie для котів Паличка з метелик та пір_ям котяча м_ята 45см","Більше 100","Іграшки для котів",103.5,135,0,{"$f":"G621*I621","v":0}]
[null,1111129736,45804,"Іграшка Trixie для котів Паличка з мишкою та пір_ям котяча м_ята 50см","Більше 100","Іграшки для котів",120.3,156,0,{"$f":"G622*I622","v":0}]
[null,1111133628,45801,"Іграшка Trixie для котів Паличка з мишкою та пір_ям котяча м_ята 50см","Більше 100","Іграшки для котів",120.3,156,0,{"$f":"G623*I623","v":0}]
[null,1111185483,41195,"Іграшка Trixie для котів Паличка з плюшевою стрічкою 38 см арт41195","Більше 10","Іграшки для котів",85.32,111,0,{"$f":"G624*I624","v":0}]
[null,1111183777,45698,"Іграшка Trixie для котів Паличка з помпонами дерево плюш 40см Арт45698","Більше 10","Іграшки для котів",120.3,156,0,{"$f":"G625*I625","v":0}]
[null,1111122660,45724,"Іграшка Trixie для котів Паличка з стрічкою та пір_ями 48см","Більше 10","Іграшки для котів",61.56,80,0,{"$f":"G626*I626","v":0}]
[null,1111121053,"4509  пошт.*****","Іграшка Trixie для котів Паличка зі штучним пером павліна 47см","Менше 10","Іграшки для котів",120.3,156,0,{"$f":"G627*I627","v":0}]
[null,8038,4106,"Іграшка Trixie для котів Паличка-дражнилка з пір_ям 50см","Більше 100","Іграшки для котів",51.78,67,0,{"$f":"G628*I628","v":0}]
[null,1111119737,4091,"Іграшка Trixie для котів Паличка-дражнилка зі стрічками 65см","Більше 100","Іграшки для котів",48.96,64,0,{"$f":"G629*I629","v":0}]
[null,1111116627,4550,"Іграшка Trixie для котів Паличка-дражнилка пір_я/шкіряні смужки 50см","Більше 100","Іграшки для котів",72.78,95,0,{"$f":"G630*I630","v":0}]
[null,1111183768,42433,"Іграшка Trixie для котів Рол з мататабі 4 х 5 см Арт42433","Більше 10","Іграшки для котів",95.16,124,0,{"$f":"G631*I631","v":0}]
[null,1111180625,"9935262*****","Іграшка Trixie для котів Серце з пір_ям плюш 7см х 25см","Більше 10","Іграшки для котів",108.61,141,0,{"$f":"G632*I632","v":0}]
[null,1111115170,4505,"Іграшка Trixie для котів Сир з мишкою і трьома м_ячами плюш 36х8х26см","Менше 10","Іграшки для котів",373.44,485,0,{"$f":"G633*I633","v":0}]
[null,1111185485,45596,"Іграшка Trixie для котів Сороконіжка плюш і рафія 33 см арт45596","Менше 10","Іграшки для котів",194.46,253,0,{"$f":"G634*I634","v":0}]
[null,1111183763,41340,"Іграшка Trixie для кошенят Коло з кулями 24 см Арт41340","Більше 10","Іграшки для котів",194.46,253,0,{"$f":"G635*I635","v":0}]
[null,1111140970,58986,"Іграшка Trixie для папуг підвісна з пробкою і мотузкою дерево 35см","Менше 10","Іграшки для птахів",588.84,765,0,{"$f":"G636*I636","v":0}]
[null,1111114722,5195,"Іграшка Trixie для папуг підвісна на ланцюжку з мотузкою дерево 30см","Більше 10","Іграшки для птахів",120.3,156,0,{"$f":"G637*I637","v":0}]
[null,1111183784,58961,"Іграшка Trixie для птах з дерев_яними намистин і корою 20 см Арт58961","Менше 10","Іграшки для птахів",103.5,135,0,{"$f":"G638*I638","v":0}]
[null,1111113787,5159,"Іграшка Trixie для птах Кільце-канат з дерев_яним блоком 24см Арт5159","Менше 10","Обладнання для птахів",304.92,396,0,{"$f":"G639*I639","v":0}]
[null,1111113746,5830,"Іграшка Trixie для птахів Гойдалка з дзвіночком дерево 12х13см","Більше 10","Обладнання для птахів",61.56,80,0,{"$f":"G640*I640","v":0}]
[null,1111113745,5822,"Іграшка Trixie для птахів Гойдалка подвійна дзвіночок дерево 12х20см","Більше 10","Обладнання для птахів",89.52,116,0,{"$f":"G641*I641","v":0}]
[null,7841,5826,"Іграшка Trixie для птахів Гойдалка-арка дерево 10х22см","Більше 10","Обладнання для птахів",89.52,116,0,{"$f":"G642*I642","v":0}]
[null,8092,5827,"Іграшка Trixie для птахів Гойдалка-арка дерево 15х27см","Менше 10","Обладнання для птахів",103.5,135,0,{"$f":"G643*I643","v":0}]
[null,7842,5825,"Іграшка Trixie для птахів Гойдалка-арка дерево 8х15см","Більше 10","Обладнання для птахів",72.78,95,0,{"$f":"G644*I644","v":0}]
[null,1111115579,5828,"Іграшка Trixie для птахів Гойдалка-арка кольорова дерево 13х19см","Більше 10","Обладнання для птахів",226.62,295,0,{"$f":"G645*I645","v":0}]
[null,1111116041,5829,"Іграшка Trixie для птахів Гойдалка-арка кольорова дерево 20х29см","Менше 10","Обладнання для птахів",325.92,424,0,{"$f":"G646*I646","v":0}]
[null,1111120889,5160,"Іграшка Trixie для птахів Гойдалка-канат текстиль 37см/16мм","Більше 10","Обладнання для птахів",176.28,229,0,{"$f":"G647*I647","v":0}]
[null,1111119528,5161,"Іграшка Trixie для птахів Гойдалка-канат текстиль 66см/18мм","Більше 10","Обладнання для птахів",194.46,253,0,{"$f":"G648*I648","v":0}]
[null,1111118523,5162,"Іграшка Trixie для птахів Гойдалка-канат текстиль 75см/30мм","Менше 10","Обладнання для птахів",292.32,380,0,{"$f":"G649*I649","v":0}]
[null,1111113749,5813,"Іграшка Trixie для птахів Драбинка на 6 сходинок дерево 28см","Більше 10","Обладнання для птахів",72.78,95,0,{"$f":"G650*I650","v":0}]
[null,1111113748,5815,"Іграшка Trixie для птахів Драбинка на 8 сходинок дерево 36см","Більше 10","Обладнання для птахів",89.52,116,0,{"$f":"G651*I651","v":0}]
[null,1111119907,5164,"Іграшка Trixie для птахів Канат плетений з кільцями текстиль 50см/21мм","Менше 10","Іграшки для птахів",391.62,509,0,{"$f":"G652*I652","v":0}]
[null,1111113754,5158,"Іграшка Trixie для птахів Кільце з канату плетене текстиль 19см","Більше 10","Обладнання для птахів",274.14,356,0,{"$f":"G653*I653","v":0}]
[null,1111114740,5166,"Іграшка Trixie для птахів Кільце з канату плетене текстиль 25см","Більше 10","Обладнання для птахів",325.92,424,0,{"$f":"G654*I654","v":0}]
[null,1111185438,36099,"Іграшка Trixie для соб Віслюк плюш з перероб матеріалів 66см арт36099","Менше 10","Іграшки для собак",524.52,682,0,{"$f":"G655*I655","v":0}]
[null,1111185434,36088,"Іграшка Trixie для соб Зайчик з тканини 39 см арт36088","Менше 10","Іграшки для собак",373.44,485,0,{"$f":"G656*I656","v":0}]
[null,1111185439,36154,"Іграшка Trixie для соб Заяєць тканина і плюш 24 см арт36154","Більше 10","Іграшки для собак",260.16000000000003,338,0,{"$f":"G657*I657","v":0}]
[null,1111185432,35522,"Іграшка Trixie для соб Капустяна свинка 23см світло-зелена арт35522","Більше 10","Іграшки для собак",373.44,485,0,{"$f":"G658*I658","v":0}]
[null,1111183702,3246,"Іграшка Trixie для соб Катапульта 5,5см і 50см блак-оранж Арт3246","Менше 10","Іграшки для собак",160.86000000000001,209,0,{"$f":"G659*I659","v":0}]
[null,1111183746,33443,"Іграшка Trixie для соб Кільце плавуче для водних розваг 17см Арт33443","Менше 10","Іграшки для собак",226.62,295,0,{"$f":"G660*I660","v":0}]
[null,1111126572,34940,"Іграшка Trixie для соб М_яч для ласощів натур гума 6см зелен Арт34940","Менше 10","Іграшки для собак",222.42,289,0,{"$f":"G661*I661","v":0}]
[null,1111120304,34942,"Іграшка Trixie для соб М_яч для ласощів натур гума 9см лайм Арт34942","Менше 10","Іграшки для собак",411.24,535,0,{"$f":"G662*I662","v":0}]
[null,1111163121,32866,"Іграшка Trixie для собак Bungee Dummy для тренування поліестер 20х47см","Менше 10","Іграшки для собак",260.16000000000003,338,0,{"$f":"G663*I663","v":0}]
[null,1111118321,"3327*****","Іграшка Trixie для собак Jumper натуральна гума 10см блакитний Арт3327","Більше 10","Іграшки для собак",194.46,253,0,{"$f":"G664*I664","v":0}]
[null,1111118320,"3326*****","Іграшка Trixie для собак Jumper натуральна гума 8 см лайм Арт3326","Більше 10","Іграшки для собак",128.69999999999999,167,0,{"$f":"G665*I665","v":0}]
[null,1111162628,35899,"Іграшка Trixie для собак Альпака зі звуком плюш 31см","Менше 10","Іграшки для собак",292.32,380,0,{"$f":"G666*I666","v":0}]
[null,1111134859,35910,"Іграшка Trixie для собак Бобер плюшевий з пискавкою 27см","Немає в наявності","Іграшки для собак",373.44,485,0,{"$f":"G667*I667","v":0}]
[null,1111134860,35988,"Іграшка Trixie для собак Бурундук з пискавкою плюш 24см","Більше 10","Іграшки для собак",260.16000000000003,338,0,{"$f":"G668*I668","v":0}]
[null,1111122212,35763,"Іграшка Trixie для собак Вівця довгонога зі звуком плюш 30см","Більше 10","Іграшки для собак",325.92,424,0,{"$f":"G669*I669","v":0}]
[null,1111163136,35796,"Іграшка Trixie для собак Вівця зі звуком плюш 14см","Більше 10","Іграшки для собак",226.62,295,0,{"$f":"G670*I670","v":0}]
[null,1111126407,35933,"Іграшка Trixie для собак Вівця кошлата зі звуком плюш 21см","Більше 10","Іграшки для собак",292.32,380,0,{"$f":"G671*I671","v":0}]
[null,1111114479,"3224*****","Іграшка Trixie для собак Гантель дерев_яна 25см близько 650г Арт3224","Менше 10","Іграшки для собак",600.05999999999995,780,0,{"$f":"G672*I672","v":0}]
[null,11907,3361,"Іграшка Trixie для собак Гантель з пискавкою та лапками вініл 15см","Більше 100","Іграшки для собак",78.36,102,0,{"$f":"G673*I673","v":0}]
[null,9734,3362,"Іграшка Trixie для собак Гантель з пискавкою та лапками вініл 19см","Більше 10","Іграшки для собак",128.69999999999999,167,0,{"$f":"G674*I674","v":0}]
[null,1111116014,"3221*****","Іграшка Trixie для собак Гантель закруглена дерев_яна 21см/250г","Менше 10","Іграшки для собак",260.16000000000003,338,0,{"$f":"G675*I675","v":0}]
[null,1111170321,34484,"Іграшка Trixie для собак Гантель-жаба з пискавкою латекс 18см","Більше 10","Іграшки для собак",160.86000000000001,209,0,{"$f":"G676*I676","v":0}]
[null,1111131157,35911,"Іграшка Trixie для собак Гриф Густав тканина і плюш 24 см Арт35911","Більше 10","Іграшки для собак",260.16000000000003,338,0,{"$f":"G677*I677","v":0}]
[null,1111114590,35093,"Іграшка Trixie для собак Гусак з пискавкою латекс 14см","Більше 100","Іграшки для собак",78.36,102,0,{"$f":"G678*I678","v":0}]
[null,1111122205,35497,"Іграшка Trixie для собак Дикий кабан з пискавкою латекс 18см","Більше 10","Іграшки для собак",292.32,380,0,{"$f":"G679*I679","v":0}]
[null,1111151139,"36038*****","Іграшка Trixie для собак Єдиноріг плюшевий 25 см блакитний Арт36038","Менше 10","Іграшки для собак",292.32,380,0,{"$f":"G680*I680","v":0}]
[null,1111126414,35989,"Іграшка Trixie для собак Єнот з пискавкою плюш 46см","Більше 10","Іграшки для собак",373.44,485,0,{"$f":"G681*I681","v":0}]
[null,1111150286,35886,"Іграшка Trixie для собак Зайчик з пискавкою плюшевий 38см","Більше 10","Іграшки для собак",391.62,509,0,{"$f":"G682*I682","v":0}]
[null,1111120694,"3582_1шт","Іграшка Trixie для собак Звірятка з пискавкою плюш 17см","Більше 10","Іграшки для собак",226.62,295,0,{"$f":"G683*I683","v":0}]
[null,1111114891,"3578_1шт","Іграшка Trixie для собак Зебра/Жираф тенісний м_яч/мотузка плюш 28см","Більше 10","Іграшки для собак",373.44,485,0,{"$f":"G684*I684","v":0}]
[null,1111183749,34950,"Іграшка Trixie для собак Змія для ласощів 18см зелена Арт34950","Менше 10","Іграшки для собак",260.16000000000003,338,0,{"$f":"G685*I685","v":0}]
[null,1111183748,34931,"Іграшка Trixie для собак Змія для ласощів 27см зелена Арт34931","Менше 10","Іграшки для собак",226.62,295,0,{"$f":"G686*I686","v":0}]
[null,11002,3275,"Іграшка Trixie для собак Ігровий канат з вузлами та петлею 60см 500г","Більше 100","Іграшки для собак",212.64,276,0,{"$f":"G687*I687","v":0}]
[null,1111151099,35718,"Іграшка Trixie для собак Ігровий канат з двома петлями котон 38см","Більше 10","Іграшки для собак",128.69999999999999,167,0,{"$f":"G688*I688","v":0}]
[null,11001,3274,"Іграшка Trixie для собак Ігровий канат плетений з 4 вузлами котон 54см","Більше 100","Іграшки для собак",151.08000000000001,196,0,{"$f":"G689*I689","v":0}]
[null,1111111511,3270,"Іграшка Trixie для собак Ігровий канат плетений текстиль 15см 25г","Більше 100","Іграшки для собак",29.4,38,0,{"$f":"G690*I690","v":0}]
[null,1111111512,3271,"Іграшка Trixie для собак Ігровий канат плетений текстиль 20см 50г","Більше 100","Іграшки для собак",42,55,0,{"$f":"G691*I691","v":0}]
[null,12255,3272,"Іграшка Trixie для собак Ігровий канат плетений текстиль 26см 125г","Більше 100","Іграшки для собак",61.56,80,0,{"$f":"G692*I692","v":0}]
[null,11000,3273,"Іграшка Trixie для собак Ігровий канат плетений текстиль 37см","Більше 100","Іграшки для собак",151.08000000000001,196,0,{"$f":"G693*I693","v":0}]
[null,1111115362,3276,"Іграшка Trixie для собак Ігровий канат плетений текстиль 40см","Більше 10","Іграшки для собак",194.46,253,0,{"$f":"G694*I694","v":0}]
[null,1111141019,34833,"Іграшка Trixie для собак Їжачок довгий плюш 37см","Більше 10","Іграшки для собак",292.32,380,0,{"$f":"G695*I695","v":0}]
[null,1111126408,35934,"Іграшка Trixie для собак Їжачок кошлатий з пискавкою плюш 12см","Більше 100","Іграшки для собак",160.86000000000001,209,0,{"$f":"G696*I696","v":0}]
[null,1111126409,35935,"Іграшка Trixie для собак Їжачок кошлатий з пискавкою плюш 17см","Більше 10","Іграшки для собак",194.46,253,0,{"$f":"G697*I697","v":0}]
[null,1111141016,34748,"Іграшка Trixie для собак Їжачок плюш 12см","Більше 10","Іграшки для собак",160.86000000000001,209,0,{"$f":"G698*I698","v":0}]
[null,1111183747,"34704*****","Іграшка Trixie для собак Канат банджі для перетягування 85см Арт34704","Більше 10","Іграшки для собак",373.44,485,0,{"$f":"G699*I699","v":0}]
[null,1111114699,3317,"Іграшка Trixie для собак Капкан литий гума 14см","Менше 10","Іграшки для собак",448.98,584,0,{"$f":"G700*I700","v":0}]
[null,1111170326,32441,"Іграшка Trixie для собак Катапульта з поролоновим м_ячем 4,5см/40см","Менше 10","Іграшки для собак",194.46,253,0,{"$f":"G701*I701","v":0}]
[null,1111112216,"3250*****","Іграшка Trixie для собак Катапульта з поролоновим м_ячем 6см/70см","Менше 10","Іграшки для собак",194.46,253,0,{"$f":"G702*I702","v":0}]
[null,1111139968,35176,"Іграшка Trixie для собак Каченя з пискавкою латекс 13см","Більше 100","Іграшки для собак",144.06,187,0,{"$f":"G703*I703","v":0}]
[null,1111129417,35474,"Іграшка Trixie для собак Каченя з пискавкою латекс 18см","Більше 10","Іграшки для собак",209.82,273,0,{"$f":"G704*I704","v":0}]
[null,1111116918,35492,"Іграшка Trixie для собак Качка з пискавкою латекс 30см","Більше 10","Іграшки для собак",325.92,424,0,{"$f":"G705*I705","v":0}]
[null,1111126402,35812,"Іграшка Trixie для собак Качка з пискавкою плюш 15см","Більше 10","Іграшки для собак",194.46,253,0,{"$f":"G706*I706","v":0}]
[null,1111150285,35885,"Іграшка Trixie для собак Качка плюшева 38 см Арт35885","Більше 10","Іграшки для собак",292.32,380,0,{"$f":"G707*I707","v":0}]
[null,1111114766,3321,"Іграшка Trixie для собак Кільце лите гума 15см","Більше 10","Іграшки для собак",194.46,253,0,{"$f":"G708*I708","v":0}]
[null,1111114765,3320,"Іграшка Trixie для собак Кільце лите гума 9см","Більше 100","Іграшки для собак",65.760000000000005,85,0,{"$f":"G709*I709","v":0}]
[null,1111115376,3330,"Іграшка Trixie для собак Кільце лите з виступами гума 16см","Менше 10","Іграшки для собак",260.16000000000003,338,0,{"$f":"G710*I710","v":0}]
[null,1111137989,33191,"Іграшка Trixie для собак Кільце на мотузці з ручкою гума 41см d-12см","Менше 10","Іграшки для собак",562.26,731,0,{"$f":"G711*I711","v":0}]
[null,1111114736,"3277 Trixie","Іграшка Trixie для собак Кільце плетене з пластиковою ручкою 30см","Більше 10","Іграшки для собак",181.86,236,0,{"$f":"G712*I712","v":0}]
[null,1111140903,33671,"Іграшка Trixie для собак Кістка з пискавкою термопластична гума 17см","Більше 10","Іграшки для собак",260.16000000000003,338,0,{"$f":"G713*I713","v":0}]
[null,1111140926,34849,"Іграшка Trixie для собак Кістка шурхотлива гума 18см","Більше 10","Іграшки для собак",411.24,535,0,{"$f":"G714*I714","v":0}]
[null,9737,3374,"Іграшка Trixie для собак Кісточка з пискавкою вініл 15см","Більше 10","Іграшки для собак",97.92,127,0,{"$f":"G715*I715","v":0}]
[null,1111118315,3342,"Іграшка Trixie для собак Кісточка з пискавкою хутряна 20см","Більше 10","Іграшки для собак",128.69999999999999,167,0,{"$f":"G716*I716","v":0}]
[null,1111143307,33690,"Іграшка Trixie для собак Кісточка охолоджуюча гума 11см","Більше 10","Іграшки для собак",226.62,295,0,{"$f":"G717*I717","v":0}]
[null,1111140925,34848,"Іграшка Trixie для собак Кісточка шелестка гума 11см","Більше 10","Іграшки для собак",226.62,295,0,{"$f":"G718*I718","v":0}]
[null,1111163128,35673,"Іграшка Trixie для собак Коала плюш 33см","Менше 10","Іграшки для собак",448.98,584,0,{"$f":"G719*I719","v":0}]
[null,13728,3529,"Іграшка Trixie для собак Крокодил з пискавкою латекс 33см","Більше 10","Іграшки для собак",373.44,485,0,{"$f":"G720*I720","v":0}]
[null,1111125097,"3590_1шт","Іграшка Trixie для собак Кролик з пискавкою плюшевий 15см","Більше 10","Іграшки для собак",207,269,0,{"$f":"G721*I721","v":0}]
[null,1111150283,35869,"Іграшка Trixie для собак Кролик з пискавкою текстиль 29см","Більше 10","Іграшки для собак",292.32,380,0,{"$f":"G722*I722","v":0}]
[null,1111163132,35679,"Іграшка Trixie для собак Кролик з хустинкою плюш 47см","Менше 10","Іграшки для собак",637.79999999999995,829,0,{"$f":"G723*I723","v":0}]
[null,1111170319,34955,"Іграшка Trixie для собак Куб для ласощів гума 5х5х5см","Менше 10","Іграшки для собак",198.66,258,0,{"$f":"G724*I724","v":0}]
[null,1111132133,"3454*****","Іграшка Trixie для собак Куля з мотузкою натуральна гума 30см Арт3454","Менше 10","Іграшки для собак",128.69999999999999,167,0,{"$f":"G725*I725","v":0}]
[null,1111142243,"3459_1шт","Іграшка Trixie для собак Куля з мотузкою плаваюча 30 см Арт3459","Більше 10","Іграшки для собак",89.52,116,0,{"$f":"G726*I726","v":0}]
[null,12238,3536,"Іграшка Trixie для собак Курка з пискавкою 25см","Більше 10","Іграшки для собак",128.69999999999999,167,0,{"$f":"G727*I727","v":0}]
[null,1111115537,3539,"Іграшка Trixie для собак Курка з пискавкою латекс 43см","Більше 10","Іграшки для собак",292.32,380,0,{"$f":"G728*I728","v":0}]
[null,1111119094,35495,"Іграшка Trixie для собак Курка з пискавкою латекс 48см","Більше 10","Іграшки для собак",524.52,682,0,{"$f":"G729*I729","v":0}]
[null,1111115131,35091,"Іграшка Trixie для собак Курча з пискавкою латекс 15см","Більше 100","Іграшки для собак",78.36,102,0,{"$f":"G730*I730","v":0}]
[null,1111150284,35884,"Іграшка Trixie для собак Лама з фольгою шелестка плюш 40см","Більше 10","Іграшки для собак",292.32,380,0,{"$f":"G731*I731","v":0}]
[null,1111129426,35919,"Іграшка Trixie для собак Лисиця з пискавкою та канатами плюш 34см","Більше 10","Іграшки для собак",373.44,485,0,{"$f":"G732*I732","v":0}]
[null,1111163126,35671,"Іграшка Trixie для собак Лінивець з пискавкою плюш 56см","Менше 10","Іграшки для собак",486.78,633,0,{"$f":"G733*I733","v":0}]
[null,1111116820,33501,"Іграшка Trixie для собак Літаюча тарілка апортова гума 18см","Більше 10","Іграшки для собак",194.46,253,0,{"$f":"G734*I734","v":0}]
[null,1111115379,33502,"Іграшка Trixie для собак Літаюча тарілка апортова гума 22см","Більше 10","Іграшки для собак",260.16000000000003,338,0,{"$f":"G735*I735","v":0}]
[null,1111113771,3441,"Іграшка Trixie для собак М_яч ассорті плаваючий поролон 6см","Більше 10","Іграшки для собак",61.56,80,0,{"$f":"G736*I736","v":0}]
[null,1111113769,3442,"Іграшка Trixie для собак М_яч ассорті плаваючий поролон 7см","Більше 10","Іграшки для собак",89.52,116,0,{"$f":"G737*I737","v":0}]
[null,1111113770,3444,"Іграшка Trixie для собак М_яч ассорті плаваючий поролон 9см","Більше 10","Іграшки для собак",144.06,187,0,{"$f":"G738*I738","v":0}]
[null,12237,3419,"Іграшка Trixie для собак М_яч голчастий для масажу ясен вініл 16см","Більше 10","Іграшки для собак",290.94,378,0,{"$f":"G739*I739","v":0}]
[null,1111134454,33651,"Іграшка Trixie для собак М_яч голчастий для масажу ясен гума 8см","Більше 10","Іграшки для собак",95.16,124,0,{"$f":"G740*I740","v":0}]
[null,8044,"3429 /12080","Іграшка Trixie для собак М_яч голчастий з пискавкою вініл 10см","Більше 100","Іграшки для собак",120.3,156,0,{"$f":"G741*I741","v":0}]
[null,2430,"3428 /8029-32","Іграшка Trixie для собак М_яч голчастий з пискавкою вініл 6см","Більше 100","Іграшки для собак",58.74,76,0,{"$f":"G742*I742","v":0}]
[null,10366,3414,"Іграшка Trixie для собак М_яч голчастий з пискавкою малий вініл 7см","Більше 100","Іграшки для собак",89.52,116,0,{"$f":"G743*I743","v":0}]
[null,9735,3412,"Іграшка Trixie для собак М_яч голчастий з пискавкою середн вініл 10см","Більше 10","Іграшки для собак",120.3,156,0,{"$f":"G744*I744","v":0}]
[null,1111136652,33640,"Іграшка Trixie для собак М_яч голчастий миготливий гума 5см","Більше 100","Іграшки для собак",95.16,124,0,{"$f":"G745*I745","v":0}]
[null,1111115126,3307,"Іграшка Trixie для собак М_яч для дресирування плаваючий гума 6/100см","Більше 10","Іграшки для собак",95.16,124,0,{"$f":"G746*I746","v":0}]
[null,1111116727,33482,"Іграшка Trixie для собак М_яч для дресирування плаваючий гума 7/35см","Менше 10","Іграшки для собак",194.46,253,0,{"$f":"G747*I747","v":0}]
[null,1111120303,34941,"Іграшка Trixie для собак М_яч для ласощів литий гума 7см","Менше 10","Іграшки для собак",260.16000000000003,338,0,{"$f":"G748*I748","v":0}]
[null,1111122409,34841,"Іграшка Trixie для собак М_яч з пискавкою гумовий 6см","Більше 10","Іграшки для собак",110.52,144,0,{"$f":"G749*I749","v":0}]
[null,1111120297,34861,"Іграшка Trixie для собак М_яч з пискавкою литий з лапкою гума 6см","Більше 10","Іграшки для собак",160.86000000000001,209,0,{"$f":"G750*I750","v":0}]
[null,1111120296,34862,"Іграшка Trixie для собак М_яч з пискавкою литий з лапкою гума 7см","Більше 10","Іграшки для собак",209.82,273,0,{"$f":"G751*I751","v":0}]
[null,1111120298,34863,"Іграшка Trixie для собак М_яч з пискавкою литий з лапкою гума 9см","Менше 10","Іграшки для собак",325.92,424,0,{"$f":"G752*I752","v":0}]
[null,1111134847,34845,"Іграшка Trixie для собак М_яч з пискавкою спортивний гумовий 7см","Більше 10","Іграшки для собак",128.69999999999999,167,0,{"$f":"G753*I753","v":0}]
[null,1111141791,33677,"Іграшка Trixie для собак М_яч з шипами термопластична гума 7см","Більше 100","Іграшки для собак",110.52,144,0,{"$f":"G754*I754","v":0}]
[null,1111141792,33678,"Іграшка Trixie для собак М_яч з шипами термопластична гума 8см","Більше 100","Іграшки для собак",128.69999999999999,167,0,{"$f":"G755*I755","v":0}]
[null,1111115203,3301,"Іграшка Trixie для собак М_яч литий гума 6см","Менше 10","Іграшки для собак",128.69999999999999,167,0,{"$f":"G756*I756","v":0}]
[null,1111115202,3302,"Іграшка Trixie для собак М_яч литий гума 7см","Більше 10","Іграшки для собак",194.46,253,0,{"$f":"G757*I757","v":0}]
[null,1111136653,33642,"Іграшка Trixie для собак М_яч миготливий гума 6см","Більше 10","Іграшки для собак",209.82,273,0,{"$f":"G758*I758","v":0}]
[null,1111136654,33643,"Іграшка Trixie для собак М_яч миготливий каучук 7,5см","Менше 10","Іграшки для собак",260.16000000000003,338,0,{"$f":"G759*I759","v":0}]
[null,1111114060,3308,"Іграшка Trixie для собак М_яч на мотузці з ручкою апорт гума 7см/30см","Більше 10","Іграшки для собак",144.06,187,0,{"$f":"G760*I760","v":0}]
[null,3280,"3443_1шт","Іграшка Trixie для собак М_яч Неон ассорті поролон 6см","Більше 10","Іграшки для собак",72.78,95,0,{"$f":"G761*I761","v":0}]
[null,1111129415,"3458_1шт","Іграшка Trixie для собак М_яч Неон ассорті поролон 7см","Менше 10","Іграшки для собак",120.3,156,0,{"$f":"G762*I762","v":0}]
[null,1111116686,3268,"Іграшка Trixie для собак М_яч плетений із канату з ручкою 5,5/30см","Більше 10","Іграшки для собак",72.78,95,0,{"$f":"G763*I763","v":0}]
[null,1111116687,3269,"Іграшка Trixie для собак М_яч плетений із канату з ручкою 7/50см","Більше 10","Іграшки для собак",89.52,116,0,{"$f":"G764*I764","v":0}]
[null,1111141781,34390,"Іграшка Trixie для собак М_яч спінена гума 4,5см","Більше 100","Іграшки для собак",42,55,0,{"$f":"G765*I765","v":0}]
[null,1111134846,34843,"Іграшка Trixie для собак М_яч спортивний з пискавкою гума 5,5см","Більше 100","Іграшки для собак",95.16,124,0,{"$f":"G766*I766","v":0}]
[null,12260,"3476_1шт","Іграшка Trixie для собак М_яч тенісний 10см","Більше 10","Іграшки для собак",144.06,187,0,{"$f":"G767*I767","v":0}]
[null,6486,"3475_1шт","Іграшка Trixie для собак М_яч тенісний 6см","Більше 100","Іграшки для собак",48.96,64,0,{"$f":"G768*I768","v":0}]
[null,1111115127,3479,"Іграшка Trixie для собак М_яч тенісний на мотузці з ручкою 50см d-6см","Менше 10","Іграшки для собак",110.52,144,0,{"$f":"G769*I769","v":0}]
[null,1111115370,3436,"Іграшка Trixie для собак М_яч футбольний з пискавкою вініл 10см","Більше 10","Іграшки для собак",95.16,124,0,{"$f":"G770*I770","v":0}]
[null,11912,"3471_1шт","Іграшка Trixie для собак М_яч футбольний різні кольори брезент 11см","Менше 10","Іграшки для собак",160.86000000000001,209,0,{"$f":"G771*I771","v":0}]
[null,9601,"3461_1шт","Іграшка Trixie для собак М_яч шипами неоновий гума 7см","Менше 10","Іграшки для собак",144.06,187,0,{"$f":"G772*I772","v":0}]
[null,1111170338,34812,"Іграшка Trixie для собак М_яч-годівниця для ласощів гума 9см","Менше 10","Іграшки для собак",373.44,485,0,{"$f":"G773*I773","v":0}]
[null,1111122450,35431,"Іграшка Trixie для собак М_яч-їжак з пискавкою латекс 6см","Більше 10","Іграшки для собак",89.52,116,0,{"$f":"G774*I774","v":0}]
[null,1111122449,35432,"Іграшка Trixie для собак М_яч-їжак з пискавкою латекс 7см","Більше 10","Іграшки для собак",120.3,156,0,{"$f":"G775*I775","v":0}]
[null,1111115594,34091,"Іграшка Trixie для собак М_яч-їжак з пискавкою флуоресцент вініл 10см","Більше 10","Іграшки для собак",160.86000000000001,209,0,{"$f":"G776*I776","v":0}]
[null,1111114062,32621,"Іграшка Trixie для собак М_яч-клубок гума 7см","Більше 10","Іграшки для собак",176.28,229,0,{"$f":"G777*I777","v":0}]
[null,1111122446,3527,"Іграшка Trixie для собак М_ячсмайлики з пискавкою латекс 7см","Менше 10","Іграшки для собак",160.86000000000001,209,0,{"$f":"G778*I778","v":0}]
[null,1111134658,"35283_1шт","Іграшка Trixie для собак М_яч-тваринка круглий з пискавкою латекс 6см","Більше 100","Іграшки для собак",110.52,144,0,{"$f":"G779*I779","v":0}]
[null,1111170344,35511,"Іграшка Trixie для собак Мавпа з пискавкою латекс 25см","Менше 10","Іграшки для собак",325.92,424,0,{"$f":"G780*I780","v":0}]
[null,1111178475,34821,"Іграшка Trixie для собак Мавпа зі звуком поліестер біла 40см","Більше 10","Іграшки для собак",373.44,485,0,{"$f":"G781*I781","v":0}]
[null,1111139711,35851,"Іграшка Trixie для собак Мавпочка з пискавкою плюш 24см","Більше 10","Іграшки для собак",292.32,380,0,{"$f":"G782*I782","v":0}]
[null,1111136655,35170,"Іграшка Trixie для собак Миша з пискавкою в горошок латекс 8см","Більше 10","Іграшки для собак",95.16,124,0,{"$f":"G783*I783","v":0}]
[null,1111114763,3398,"Іграшка Trixie для собак Морква з пискавкою вініл 20см","Більше 10","Іграшки для собак",144.06,187,0,{"$f":"G784*I784","v":0}]
[null,1111119095,3516,"Іграшка Trixie для собак Морська зірка з пискавкою латекс 23см","Менше 10","Іграшки для собак",260.16000000000003,338,0,{"$f":"G785*I785","v":0}]
[null,1111170335,33653,"Іграшка Trixie для собак Паличка з пискавкою гума 18см","Більше 100","Іграшки для собак",194.46,253,0,{"$f":"G786*I786","v":0}]
[null,1111170336,33654,"Іграшка Trixie для собак Паличка з пискавкою гума 28см","Більше 10","Іграшки для собак",325.92,424,0,{"$f":"G787*I787","v":0}]
[null,1111163129,35674,"Іграшка Trixie для собак Панда з пискавкою плюш 26см","Менше 10","Іграшки для собак",325.92,424,0,{"$f":"G788*I788","v":0}]
[null,1111124104,35232,"Іграшка Trixie для собак Пацюк з пискавкою латекс 22см","Більше 10","Іграшки для собак",198.66,258,0,{"$f":"G789*I789","v":0}]
[null,1111134527,35940,"Іграшка Trixie для собак Півень з пискавкою сидячий плюш 22см","Більше 10","Іграшки для собак",226.62,295,0,{"$f":"G790*I790","v":0}]
[null,1111170348,35865,"Іграшка Trixie для собак Півень з фольгою плюш 60см","Більше 10","Іграшки для собак",524.52,682,0,{"$f":"G791*I791","v":0}]
[null,1111178474,"34820*****","Іграшка Trixie для собак Пінгвін поліестер білий 24см","Менше 10","Іграшки для собак",325.92,424,0,{"$f":"G792*I792","v":0}]
[null,1111132132,"35261_1шт","Іграшка Trixie для собак Пончик-смайлик з пискавкою латекс 6см","Більше 10","Іграшки для собак",71.34,93,0,{"$f":"G793*I793","v":0}]
[null,1111114475,35092,"Іграшка Trixie для собак Порося з пискавкою латекс 13см","Більше 100","Іграшки для собак",78.36,102,0,{"$f":"G794*I794","v":0}]
[null,1111119263,35490,"Іграшка Trixie для собак Порося з пискавкою латекс 17см","Більше 10","Іграшки для собак",260.16000000000003,338,0,{"$f":"G795*I795","v":0}]
[null,1111116917,35491,"Іграшка Trixie для собак Порося з пискавкою латекс 21см","Більше 10","Іграшки для собак",260.16000000000003,338,0,{"$f":"G796*I796","v":0}]
[null,1111114474,3537,"Іграшка Trixie для собак Порося з пискавкою латекс 23см","Більше 10","Іграшки для собак",160.86000000000001,209,0,{"$f":"G797*I797","v":0}]
[null,1111132125,35190,"Іграшка Trixie для собак Порося з щетиною та пискавкою латекс 10см","Більше 10","Іграшки для собак",128.69999999999999,167,0,{"$f":"G798*I798","v":0}]
[null,1111123631,35499,"Іграшка Trixie для собак Порося з щетиною та пискавкою латекс 21см","Більше 10","Іграшки для собак",260.16000000000003,338,0,{"$f":"G799*I799","v":0}]
[null,1111133315,35182,"Іграшка Trixie для собак Пташка з пискавкою латекс 20см","Більше 10","Іграшки для собак",194.46,253,0,{"$f":"G800*I800","v":0}]
[null,1111191465,"92629_Christmas","Іграшка Trixie для собак Різдв_яна сова плюш 33 см арт 92629","Менше 10","Іграшки для собак",370.92,482,0,{"$f":"G801*I801","v":0}]
[null,1111191479,"92579_Christmas","Іграшка Trixie для собак Різдв_яний смайл зі звуком плюш 17см арт92579","Менше 10","Іграшки для собак",164.1,213,0,{"$f":"G802*I802","v":0}]
[null,1111114906,3295,"Іграшка Trixie для собак Рол джутовий для тренування 53см Арт3295","Менше 10","Іграшки для собак",226.62,295,0,{"$f":"G803*I803","v":0}]
[null,1111114745,"3298*****","Іграшка Trixie для собак Рол джутовий для тренування 88 см Арт3298","Менше 10","Іграшки для собак",523.14,680,0,{"$f":"G804*I804","v":0}]
[null,1111183744,32020,"Іграшка Trixie для собак Рол для ласощів 6 х 5 х 14 см Арт32020","Більше 10","Іграшки для собак",160.86000000000001,209,0,{"$f":"G805*I805","v":0}]
[null,1111114677,3242,"Іграшка Trixie для собак Сарделька на мотузці 11см","Більше 100","Іграшки для собак",65.760000000000005,85,0,{"$f":"G806*I806","v":0}]
[null,12132,3252,"Іграшка Trixie для собак Сардельки на мотузці вініл 75см","Більше 10","Іграшки для собак",194.46,253,0,{"$f":"G807*I807","v":0}]
[null,1111125076,35266,"Іграшка Trixie для собак Смайлики з пискавкою латекс набір 4шт 6см","Менше 10","Іграшки для собак",358.08,465,0,{"$f":"G808*I808","v":0}]
[null,1111163140,35977,"Іграшка Trixie для собак Собака в клітинку плюш/поліестер 26см","Більше 10","Іграшки для собак",194.46,253,0,{"$f":"G809*I809","v":0}]
[null,1111163137,35864,"Іграшка Trixie для собак Собака з латкою зі звуком плюш/поліестер 28см","Більше 100","Іграшки для собак",260.16000000000003,338,0,{"$f":"G810*I810","v":0}]
[null,1111124008,35930,"Іграшка Trixie для собак Собака кудлата з пискавкою плюш 30см","Більше 10","Іграшки для собак",260.16000000000003,338,0,{"$f":"G811*I811","v":0}]
[null,1111136657,35172,"Іграшка Trixie для собак Собака яскрава з пискавкою латекс 8см","Менше 10","Іграшки для собак",131.52000000000001,171,0,{"$f":"G812*I812","v":0}]
[null,1111180624,"9935260*****","Іграшка Trixie для собак Страус Св Валентин плюш 80см","Більше 10","Іграшки для собак",464.67,604,0,{"$f":"G813*I813","v":0}]
[null,1111163127,35672,"Іграшка Trixie для собак Сурикат зі звуком плюш 40см","Менше 10","Іграшки для собак",524.52,682,0,{"$f":"G814*I814","v":0}]
[null,1111116142,"3607_1шт","Іграшка Trixie для собак Тваринка міні зі звуком плюш 10-12см","Більше 10","Іграшки для собак",176.28,229,0,{"$f":"G815*I815","v":0}]
[null,1111126202,"3618_1шт","Іграшка Trixie для собак Тваринки з мотузкою та пискавкою плюш 13см","Більше 10","Іграшки для собак",226.62,295,0,{"$f":"G816*I816","v":0}]
[null,1111129727,"35894_1шт","Іграшка Trixie для собак Тваринки з мотузкою та пискавкою плюш 32см","Більше 10","Іграшки для собак",292.32,380,0,{"$f":"G817*I817","v":0}]
[null,9605,"3510_1шт","Іграшка Trixie для собак Тваринки з пискавкою латекс 6-9см","Більше 10","Іграшки для собак",110.52,144,0,{"$f":"G818*I818","v":0}]
[null,1111114744,3297,"Іграшка Trixie для собак Ухватка тренувальна джут 9х29см/43см","Менше 10","Іграшки для собак",226.62,295,0,{"$f":"G819*I819","v":0}]
[null,1111147060,35854,"Іграшка Trixie для собак Черепаха з пискавкою плюш 40см","Більше 10","Іграшки для собак",486.78,633,0,{"$f":"G820*I820","v":0}]
[null,1111116724,33702,"Іграшка Trixie для собак Шина на мотузці гума 15/31см","Більше 10","Іграшки для собак",448.98,584,0,{"$f":"G821*I821","v":0}]
[null,1111115845,35612,"Іграшка Trixie для цуценят Кільце Junior латекс 8см","Більше 10","Іграшки для собак",110.52,144,0,{"$f":"G822*I822","v":0}]
[null,1111114743,"3296*****","Іграшка Trixie Рол джутовий для тренування собак 56 см Арт3296","Більше 10","Іграшки для собак",391.62,509,0,{"$f":"G823*I823","v":0}]
[null,1111183780,45892,"Іграшка Trixie Фліп Борд для котів інтерактивна 23см Арт45892","Більше 10","Іграшки для котів",325.92,424,0,{"$f":"G824*I824","v":0}]
[null,1111140868,"32040*****","Іграшка-годівниця Trixie DogActivity д/собак MemoryTrainer 3.0 20х24см","Менше 10","Іграшки для собак",3696.66,4806,0,{"$f":"G825*I825","v":0}]
[null,1111170313,32004,"Іграшка-годівниця Trixie для собак Snack Popper пластик 21х10х12см","Менше 10","Іграшки для собак",654.6,851,0,{"$f":"G826*I826","v":0}]
[null,1111183759,40721,"Іграшки Trixie для кот Набір на пружинках люфа сизаль 15х30см Арт40721","Менше 10","Іграшки для котів",675.6,878,0,{"$f":"G827*I827","v":0}]
[null,1111126086,76094,"Інфрачервона лампа Trixie для тераріуму для обігріву E27 63х100мм/35Вт","Менше 10","Освітлення та обігрів",373.44,485,0,{"$f":"G828*I828","v":0}]
[null,1111126087,76095,"Інфрачервона лампа Trixie для тераріуму для обігріву E27 63х100мм/50Вт","Менше 10","Освітлення та обігрів",411.24,535,0,{"$f":"G829*I829","v":0}]
[null,1111126088,76096,"Інфрачервона лампа Trixie для тераріуму для обігріву E27 63х100мм/75Вт","Більше 10","Освітлення та обігрів",411.24,535,0,{"$f":"G830*I830","v":0}]
[null,1111183781,50541,"Кальцієвий камінь Trixie для птахів з сепією 11см 40г","Більше 100","Вітаміни та мінерали для птахів",60.18,78,0,{"$f":"G831*I831","v":0}]
[null,1111119649,2272,"Карабін Trixie з шарніром хромований 13мм","Більше 10","Амуніція для собак",61.56,80,0,{"$f":"G832*I832","v":0}]
[null,8235,2273,"Карабін Trixie з шарніром хромований 19мм","Більше 10","Амуніція для собак",89.52,116,0,{"$f":"G833*I833","v":0}]
[null,1111116188,2274,"Карабін Trixie з шарніром хромований 25мм","Менше 10","Амуніція для собак",103.5,135,0,{"$f":"G834*I834","v":0}]
[null,1111172121,"48022-10*****","Картон Trixie змінний для дряпки 48022 15х58см","Менше 10","Дряпки для котів",432.12,583,0,{"$f":"G835*I835","v":0}]
[null,1111159714,40364,"Килим Trixie під туалет двошаровий 40 х 55 сірий Арт40364","Менше 10","Аксесуари для котячих туалетів",555.29999999999995,722,0,{"$f":"G836*I836","v":0}]
[null,1111183758,40365,"Килим Trixie під туалет двошаровий 40 х 70 сірий Арт40365","Менше 10","Аксесуари для котячих туалетів",720.3,936,0,{"$f":"G837*I837","v":0}]
[null,1111159715,40389,"Килим Trixie під туалет ПВХ 60 х 90 см антрацит Арт40389","Менше 10","Аксесуари для котячих туалетів",523.14,680,0,{"$f":"G838*I838","v":0}]
[null,1111146897,37126,"Килимок Trixie для котів Nani з кішкою сірий поліестер 40х30см","Більше 10","Спальні місця для котів",222.42,289,0,{"$f":"G839*I839","v":0}]
[null,1111146898,37127,"Килимок Trixie для котів Tilly з кішкою бежевий плюш 50х40см","Менше 10","Спальні місця для котів",335.7,436,0,{"$f":"G840*I840","v":0}]
[null,1111150316,43114,"Килимок Trixie для котів Розважальний комплекс з дряпкою 60х33х42см","Менше 10","Іграшки для котів",1009.86,1313,0,{"$f":"G841*I841","v":0}]
[null,1111146630,40385,"Килимок Trixie для котячого туалету півколо ПВХ 41х25см","Менше 10","Аксесуари для котячих туалетів",128.69999999999999,167,0,{"$f":"G842*I842","v":0}]
[null,1111150295,37118,"Килимок Trixie для собак Tammy з лапками поліестер 90х68см","Менше 10","Спальні місця для собак",637.79999999999995,829,0,{"$f":"G843*I843","v":0}]
[null,1111143192,28685,"Килимок Trixie для собак охолоджуючий блакитний 50х40см","Більше 10","Спальні місця для собак",297.95999999999998,387,0,{"$f":"G844*I844","v":0}]
[null,1111146663,28684,"Килимок Trixie для собак охолоджуючий блакитний 65х50см","Більше 100","Спальні місця для собак",486.78,633,0,{"$f":"G845*I845","v":0}]
[null,1111146662,28683,"Килимок Trixie для собак охолоджуючий синій нейлон 40х30см","Більше 100","Спальні місця для собак",222.42,289,0,{"$f":"G846*I846","v":0}]
[null,1111143193,28686,"Килимок Trixie для собак охолоджуючий синій нейлон 90х50см","Більше 100","Спальні місця для собак",637.79999999999995,829,0,{"$f":"G847*I847","v":0}]
[null,1111135461,40381,"Килимок Trixie під котячий туалет сірий з лапкою 34х45см","Більше 10","Аксесуари для котячих туалетів",194.46,253,0,{"$f":"G848*I848","v":0}]
[null,1111135460,40382,"Килимок Trixie під котячий туалет сірий з лапкою 40х60см","Більше 10","Аксесуари для котячих туалетів",260.16000000000003,338,0,{"$f":"G849*I849","v":0}]
[null,1299,24544,"Килимок під миску Trixie для котів Comic Cat сірий пластик 44х28см","Більше 10","Килимки під миски для котів",95.16,124,0,{"$f":"G850*I850","v":0}]
[null,1111146806,24579,"Килимок під миску Trixie для котів Patchwork сірий пластик 44х28см","Більше 10","Килимки під миски для котів",95.16,124,0,{"$f":"G851*I851","v":0}]
[null,1111127576,24540,"Килимок під миску Trixie для котів Pussy Cats сірий пластик 40х30см","Більше 10","Килимки під миски для котів",95.16,124,0,{"$f":"G852*I852","v":0}]
[null,1111121024,24561,"Килимок під миску Trixie для собак темно-сірий каучук 45х25см","Більше 10","Килимки для собак",373.44,485,0,{"$f":"G853*I853","v":0}]
[null,2102,2368,"Кігтеріз Trixie Luxe д/собак середніх/великих порід з обмежувачем 16см","Більше 100","Догляд та гігієна для собак",366.48,476,0,{"$f":"G854*I854","v":0}]
[null,5679,2367,"Кігтеріз Trixie Luxe для дрібних домашніх тварин з обмежувачем 12см","Більше 100","Догляд та гігієна для собак",274.14,356,0,{"$f":"G855*I855","v":0}]
[null,5009,2371,"Кігтеріз Trixie д/дрібних тварин ручка з гумовою накладкою сталь 13см","Більше 10","Догляд та гігієна для собак",325.92,424,0,{"$f":"G856*I856","v":0}]
[null,4773,2373,"Кігтеріз Trixie для дрібних домашніх тварин 8см","Більше 100","Догляд та гігієна для собак",127.32,165,0,{"$f":"G857*I857","v":0}]
[null,4902,2370,"Кігтеріз-гільйотина Trixie для домашніх тварин 11см","Більше 100","Догляд та гігієна для собак",181.86,236,0,{"$f":"G858*I858","v":0}]
[null,1111115197,2423,"Кігтеріз-гільйотина Trixie для домашніх тварин метал 14см","Більше 10","Догляд та гігієна для собак",274.14,356,0,{"$f":"G859*I859","v":0}]
[null,1111150323,62860,"Кігтеріз-ножиці Trixie для дрібних тварин/птахів нержавіюча сталь 13см","Більше 10","Догляд та гігієна для гризунів",181.86,236,0,{"$f":"G860*I860","v":0}]
[null,1111116590,6285,"Кігтеріз-ножиці Trixie для дрібних тварин/птахів нержавіюча сталь 8см","Більше 10","Догляд та гігієна для гризунів",127.32,165,0,{"$f":"G861*I861","v":0}]
[null,1111146287,"27616_1шт*****","Кісточка пресована з трахеї 15см/90г, 1шт","Менше 10","Ласощі для собак",103.5,135,0,{"$f":"G862*I862","v":0}]
[null,1111140866,22860,"Клікер Trixie для собак 6,5 см Арт22860","Більше 10","Амуніція для собак",120.3,156,0,{"$f":"G863*I863","v":0}]
[null,1111183722,22863,"Клікер Trixie для собак з карабіном і спіральним тросом Арт22863","Менше 10","Амуніція для собак",151.08000000000001,196,0,{"$f":"G864*I864","v":0}]
[null,1111162630,22862,"Клікер-свисток Trixie для собак 8 см Арт22862","Менше 10","Амуніція для собак",120.3,156,0,{"$f":"G865*I865","v":0}]
[null,5134,3925,"Клітка Тріксі для тварин металева розмір L 109х79х71см","Менше 10","Сумки, переноски та посуд для подорожей з собаками",5151.24,6697,0,{"$f":"G866*I866","v":0}]
[null,5061,3923,"Клітка Тріксі для тварин металева розмір M 78х62х55см","Менше 10","Сумки, переноски та посуд для подорожей з собаками",3204.3,4166,0,{"$f":"G867*I867","v":0}]
[null,5775,3924,"Клітка Тріксі для тварин металева розмір M-L 93х62х69см","Менше 10","Сумки, переноски та посуд для подорожей з собаками",3970.8,5162,0,{"$f":"G868*I868","v":0}]
[null,1111117424,3922,"Клітка Тріксі для тварин металева розмір S 64х54х48см","Менше 10","Сумки, переноски та посуд для подорожей з собаками",2474.2199999999998,3216,0,{"$f":"G869*I869","v":0}]
[null,12681,3926,"Клітка Тріксі для тварин металева розмір XL 116х86х77см","Менше 10","Сумки, переноски та посуд для подорожей з собаками",6485.58,8431,0,{"$f":"G870*I870","v":0}]
[null,1111183712,13233,"Ковдра Trixie для заднього сидіння авто 1,4х1,45 м сіра Арт13233","Менше 10","Сумки, переноски та посуд для подорожей з собаками",1128.72,1467,0,{"$f":"G871*I871","v":0}]
[null,1111183736,24568,"Коврик Trixie під миски силіконовий блакитний 48 х 27 см Арт24568","Більше 10","Килимки для собак",448.98,584,0,{"$f":"G872*I872","v":0}]
[null,1111185444,40369,"Коврик Trixie під туалет ПВХ 37х45 см блакитний арт40369","Менше 10","Туалети для собак",194.46,253,0,{"$f":"G873*I873","v":0}]
[null,1111185442,40367,"Коврик Trixie під туалет ПВХ 37х45 см світло-зелений арт40367","Менше 10","Туалети для собак",194.46,253,0,{"$f":"G874*I874","v":0}]
[null,1111125852,24161,"Ковтуноріз Trixie для котів/собак з середньою та довгою шерстю 18см","Більше 10","Догляд та гігієна для собак",325.92,424,0,{"$f":"G875*I875","v":0}]
[null,1111137871,24240,"Ковтуноріз Trixie універсальний дрібний зубчик пластикова ручка 5х18см","Більше 10","Догляд та гігієна для собак",621,807,0,{"$f":"G876*I876","v":0}]
[null,1111137872,24244,"Ковтуноріз Trixie універсальний середній зубчик пластиков/ручка 7х18см","Більше 10","Догляд та гігієна для собак",555.29999999999995,722,0,{"$f":"G877*I877","v":0}]
[null,1111119120,24242,"Ковтуноріз Trixie універсальний широкий зубчик пластикова ручка 6х18см","Більше 10","Догляд та гігієна для собак",457.38,595,0,{"$f":"G878*I878","v":0}]
[null,1111118160,"3988 /3283*****","Комплект коліс Trixie д/переноски Gulliver 4-7 та Gulliver Touring 4шт","Менше 10","Сумки, переноски та посуд для подорожей з собаками",1827,2375,0,{"$f":"G879*I879","v":0}]
[null,1111139758,"39740 /36313","Комплект коліс Trixie для переноски Skudo 4-7 4шт","Менше 10","Сумки, переноски та посуд для подорожей з собаками",2019.3,2625,0,{"$f":"G880*I880","v":0}]
[null,1111137775,29196,"Кондиціонер Trixie для шерсті собак з маслами макадамія/обліпиха 250мл","Більше 10","Догляд та гігієна для собак",165.06,215,0,{"$f":"G881*I881","v":0}]
[null,1111132056,29193,"Кондиціонер Trixie для шерсті собак з маслом жожоба 250мл","Більше 100","Догляд та гігієна для собак",144.06,187,0,{"$f":"G882*I882","v":0}]
[null,1111148917,24664,"Контейнер Trixie Food and Snack Jar для їжі та ласощів 1,5л/17,5см","Менше 10","Контейнери для зберігання їжі собак",260.16000000000003,338,0,{"$f":"G883*I883","v":0}]
[null,1111136845,2331,"Контейнер Trixie для пакетів з 2 рулонами пакетів М 20шт/рулон","Більше 10","Пелюшки, підгузки для собак",103.5,135,0,{"$f":"G884*I884","v":0}]
[null,1111143757,22846,"Контейнер-кісточка Trixie для пакетів з 1 рулоном М 15шт","Більше 10","Пелюшки, підгузки для собак",103.5,135,0,{"$f":"G885*I885","v":0}]
[null,1111176960,909145,"Коробка Trixie Хеллов д/вітрини д/ласощ арт91997 карт 24,5*10,4*34,5см","Менше 10",null,135.11000000000001,182.4,0,{"$f":"G886*I886","v":0}]
[null,1111119909,2571,"Крем Trixie Paw Care для собак/котів захисний для подушечок лап 50мл","Більше 10","Догляд та гігієна для собак",120.3,156,0,{"$f":"G887*I887","v":0}]
[null,1111185720,"313281_5шт","Лакомство Жевательное кольцо Denta Fun с курицей ø10см/110г 5 шт/уп","Більше 10","Ласощі для собак",832.2,1082,0,{"$f":"G888*I888","v":0}]
[null,1111137981,55001,"Лампа Тріксі для птахів денна без мерехтіння 23Вт","Менше 10","Обладнання для птахів",826.62,1075,0,{"$f":"G889*I889","v":0}]
[null,1111119349,2151,"Ланцюг-зашморг Trixie для собак велика ланка хромований 58см/4мм","Менше 10","Амуніція для собак",212.64,276,0,{"$f":"G890*I890","v":0}]
[null,1111185790,"312281_5шт*****","Ласощі Denta Fun для собак із мармуром яловичини 10см/110г/5шт","Більше 100","Ласощі для собак",832.2,1082,0,{"$f":"G891*I891","v":0}]
[null,1111190389,"31262*****","Ласощі Trixie Chewing cheese для собак, M: 13.5 см, 75 г","Більше 10","Ласощі для собак",502.14,653,0,{"$f":"G892*I892","v":0}]
[null,1111190388,"31261*****","Ласощі Trixie Chewing cheese для собак, S: 13.5 см, 45 г","Менше 10","Ласощі для собак",317.52,413,0,{"$f":"G893*I893","v":0}]
[null,1111190387,"31260*****","Ласощі Trixie Chewing cheese для собак, XS: 13.5 см, 30 г","Більше 10","Ласощі для собак",246.18,320,0,{"$f":"G894*I894","v":0}]
[null,1111205925,"313753_40шт","Ласощі Trixie Denta Fun Roll з качкою та курячою печінкою","Менше 10","Ласощі для собак",0,0,0,{"$f":"G895*I895","v":0}]
[null,1111185700,"314671_10шт*****","Ласощі Trixie Denta Fun Барбекю Курячі реберця 12 см 30 г 10 шт/уп","Менше 10","Ласощі для собак",559.5,727,0,{"$f":"G896*I896","v":0}]
[null,1111180980,"313331 пошт.","Ласощі Trixie Denta Fun жувальне кільце з качкою д10см/110г 1шт","Більше 10","Ласощі для собак",166.44,216,0,{"$f":"G897*I897","v":0}]
[null,1111180979,"313271 пошт.","Ласощі Trixie Denta Fun жувальний рол з куркою д/соб  17см 1 шт","Більше 10","Ласощі для собак",61.56,80,0,{"$f":"G898*I898","v":0}]
[null,1111185713,"31178_5шт*****","Ласощі Trixie Denta Fun Качиний крендель ваговий д 10 см 75 г 5 шт/уп","Більше 10","Ласощі для собак",510.54,664,0,{"$f":"G899*I899","v":0}]
[null,1111185787,"313731_20шт*****","Ласощі Trixie Denta Fun Качка жувальний рулет д 17 см 45 г/20 ШТ","Більше 10","Ласощі для собак",1174.8599999999999,1527,0,{"$f":"G900*I900","v":0}]
[null,1111192112,31343,"Ласощі Trixie Denta Fun Кістка для чищення зубів 11 см 120 г 2шт/упак","Більше 10","Ласощі для собак",166.44,216,0,{"$f":"G901*I901","v":0}]
[null,1111205927,"31198_100шт","Ласощі Trixie Denta Fun Крендель з качиною грудкою","Менше 10","Ласощі для собак",0,0,0,{"$f":"G902*I902","v":0}]
[null,1111185706,"313251_20шт*****","Ласощі Trixie Denta Fun Курка жувальна рулетик д 12 см 11 г 20 шт/уп","Більше 10","Ласощі для собак",363.66,473,0,{"$f":"G903*I903","v":0}]
[null,1111205929,"313321_5 шт","Ласощі Trixie Denta Fun Курка жувальне кільце","Більше 10","Ласощі для собак",0,0,0,{"$f":"G904*I904","v":0}]
[null,1111185704,"313521_10шт*****","Ласощі Trixie Denta Fun Курка Жувальний Біг Рол 15 см 80 г 10 шт/уп","Менше 10","Ласощі для собак",1035,1346,0,{"$f":"G905*I905","v":0}]
[null,1111185709,"31191_30шт*****","Ласощі Trixie Denta Fun Куряча зірочка д 9 см 30 г 30 шт/уп","Менше 10","Ласощі для собак",1174.8599999999999,1527,0,{"$f":"G906*I906","v":0}]
[null,1111185708,"31188_30шт*****","Ласощі Trixie Denta Fun Куряча любов ваговий 6 см 25 г 30 шт/уп","Менше 10","Ласощі для собак",965.1,1255,0,{"$f":"G907*I907","v":0}]
[null,1111185705,"314731_5шт*****","Ласощі Trixie Denta Fun Курячі палички фасовані 15 см 35 г 5 шт/уп","Більше 10","Ласощі для собак",363.66,473,0,{"$f":"G908*I908","v":0}]
[null,1111185715,"313341 пошт.*****","Ласощі Trixie Denta Fun Рибне жувальне кільце д 10 см 110 г","Менше 10","Ласощі для собак",166.44,216,0,{"$f":"G909*I909","v":0}]
[null,1111205930,"313752_5шт","Ласощі Trixie Denta Fun Ролл з качкою та курячою печінкою","Більше 10","Ласощі для собак",0,0,0,{"$f":"G910*I910","v":0}]
[null,1111205928,"31197_200шт","Ласощі Trixie Denta Fun Сердечко з курячою грудкою","Менше 10","Ласощі для собак",0,0,0,{"$f":"G911*I911","v":0}]
[null,1111185703,"31187_5шт*****","Ласощі Trixie Denta Fun Хлібчик з куркою 15 см 75 г 5 шт/уп","Більше 100","Ласощі для собак",510.54,664,0,{"$f":"G912*I912","v":0}]
[null,1111185716,"313391_10 шт*****","Ласощі Trixie Denta Fun Ягня жувальне кільце д 6 см 55 г 10 шт/уп","Менше 10","Ласощі для собак",1132.92,1473,0,{"$f":"G913*I913","v":0}]
[null,1111205924,"315435_30шт","Ласощі Trixie PREMIO Льодяник з куркою та рисом","Більше 10","Ласощі для собак",0,0,0,{"$f":"G914*I914","v":0}]
[null,1111190391,"27152*****","Ласощі Trixie Snack Dips with rabbit and chicken, 120 г","Більше 10","Ласощі для собак",113.34,147,0,{"$f":"G915*I915","v":0}]
[null,1111204169,"92765*****","Ласощі Trixie Soft Snack Easter Mix М_які пасхальні ласощі мікс","Більше 10","Ласощі для собак",123.96,161,0,{"$f":"G916*I916","v":0}]
[null,1111183787,60792,"Ласощі Trixie для гризунів Черв_яки сушені 70 г Арт60792","Більше 100","Ласощі для гризунів",127.32,165,0,{"$f":"G917*I917","v":0}]
[null,1111205923,"3181_25шт","Ласощі Trixie для собак Паличка жувальна пресована з салямі","Менше 10","Ласощі для собак",0,0,0,{"$f":"G918*I918","v":0}]
[null,1111192342,"315911_20шт","Ласощі Trixie для собак Преміо Chiсkies кісточка з куркою 7,5см 9г","Більше 100","Ласощі для собак",223.8,291,0,{"$f":"G919*I919","v":0}]
[null,1111137695,"27614*****","Ласощі Trixie Кість прес с пенісом 21см/170гр","Більше 10","Ласощі для собак",145.5,189,0,{"$f":"G920*I920","v":0}]
[null,1111205926,"313751_100шт","Ласощі Trixie Рулет Denta Fun з качкою та курячою печінкою","Менше 10","Ласощі для собак",0,0,0,{"$f":"G921*I921","v":0}]
[null,1111185789,"2709_20шт","Ласощі Trixie Трубочка 15см з рубцом_20ШТ","Менше 10","Ласощі для собак",1202.8800000000001,1564,0,{"$f":"G922*I922","v":0}]
[null,1111185719,"2801_500г*****","Ласощі Trixie Шпроти в_ялена риба для собак 500 г","Менше 10","Ласощі для собак",826.62,1075,0,{"$f":"G923*I923","v":0}]
[null,1111140900,42735,"Ласощі д/кот. PREMIO Chicken Tenders курячі крила 70гр/4шт","Більше 100","Ласощі для котів",103.5,135,0,{"$f":"G924*I924","v":0}]
[null,1111171842,"31196_1шт*****","Ласощі д/чищ. DentaFun з кур, с/ш 46г 12см - 1 шт","Більше 100","Ласощі для собак",55.98,73,0,{"$f":"G925*I925","v":0}]
[null,1111139767,37031,"Лежак Trixie Jimmy для собак з лапками сіро-коричневий плюш 45х35см","Менше 10","Спальні місця для собак",807.06,1049,0,{"$f":"G926*I926","v":0}]
[null,1111139768,37032,"Лежак Trixie Jimmy для собак з лапками сіро-коричневий плюш 55х45см","Менше 10","Спальні місця для собак",1009.86,1313,0,{"$f":"G927*I927","v":0}]
[null,1111139770,37034,"Лежак Trixie Jimmy для собак з лапками сіро-коричневий плюш 75х65см","Менше 10","Спальні місця для собак",1906.38,2478,0,{"$f":"G928*I928","v":0}]
[null,1111139772,"37036*****","Лежак Trixie Jimmy для собак з лапками сіро-коричневий плюш 95х85см","Менше 10","Спальні місця для собак",3204.3,4166,0,{"$f":"G929*I929","v":0}]
[null,1111156934,37448,"Лежак Trixie д/собаки Be Nordic Fohr з ручками сірий поліестер 80х60см","Менше 10","Спальні місця для собак",4700.88,6111,0,{"$f":"G930*I930","v":0}]
[null,1111115190,62703,"Лежак Trixie для карлик кроликів  поліестер поролон 35х28 см Арт62703","Менше 10","Обладнання для гризунів",448.98,584,0,{"$f":"G931*I931","v":0}]
[null,1111116793,28631,"Лежак Trixie для котів Cuddly Bed двосторонній білий/червоний 47х38см","Менше 10","Спальні місця для собак",335.7,436,0,{"$f":"G932*I932","v":0}]
[null,1111140978,37487,"Лежак Trixie для котів Mimi з мордочками сірий плюш 50см","Менше 10","Спальні місця для котів",1415.46,1840,0,{"$f":"G933*I933","v":0}]
[null,1111118665,"4328 Trixie","Лежак Trixie для котів на підвіконня світло-сірий плюш 51х36см","Менше 10","Спальні місця для котів",1009.86,1313,0,{"$f":"G934*I934","v":0}]
[null,1111115189,62702,"Лежак Trixie для морської свинки флісовий наповнювач текстиль 30х22см","Більше 10","Обладнання для гризунів",160.86000000000001,209,0,{"$f":"G935*I935","v":0}]
[null,1111139778,38974,"Лежак Trixie для собаки Davin в смужку сірий плюш/фліс 50х40см","Більше 10","Спальні місця для собак",1009.86,1313,0,{"$f":"G936*I936","v":0}]
[null,1111148404,38395,"Лежак Trixie для собаки Lian з ручками  сірий фетр/плюш 37см","Менше 10","Спальні місця для собак",562.26,731,0,{"$f":"G937*I937","v":0}]
[null,1111144831,37685,"Лежак Trixie для собаки Lingo з лапками/кісточками бежевий 50х40см","Менше 10","Спальні місця для собак",751.08,976,0,{"$f":"G938*I938","v":0}]
[null,1111144830,37686,"Лежак Trixie для собаки Lingo з лапками/кісточками бежевий 60х55см","Менше 10","Спальні місця для собак",1009.86,1313,0,{"$f":"G939*I939","v":0}]
[null,1111115896,37021,"Лежак Trixie для собаки Lucky в клітинку сірий бавовна/фліс 45х35см","Менше 10","Спальні місця для собак",807.06,1049,0,{"$f":"G940*I940","v":0}]
[null,1111137864,37841,"Лежак Trixie для собаки Othello коричневий плюш 50см","Більше 10","Спальні місця для собак",1090.98,1418,0,{"$f":"G941*I941","v":0}]
[null,1111137778,37842,"Лежак Trixie для собаки Othello коричневий плюш 60см","Менше 10","Спальні місця для собак",1415.46,1840,0,{"$f":"G942*I942","v":0}]
[null,1111115099,38821,"Лежак Trixie для собаки Sleeper 2 сірий пластик 68х47см","Менше 10","Спальні місця для собак",803.88,1045,0,{"$f":"G943*I943","v":0}]
[null,1111140976,37377,"Лежак Trixie для собаки Tammy з лапками темно-синій плюш 50см","Більше 10","Спальні місця для собак",751.08,976,0,{"$f":"G944*I944","v":0}]
[null,1111140977,37378,"Лежак Trixie для собаки Tammy з лапками темно-синій плюш 70см","Менше 10","Спальні місця для собак",1212.6600000000001,1576,0,{"$f":"G945*I945","v":0}]
[null,1111115188,"62701 Trixie","Лежак Trixie для хом_яка флісовий наповнювач текстиль 16х13см","Більше 100","Обладнання для гризунів",103.5,135,0,{"$f":"G946*I946","v":0}]
[null,1111142222,62785,"Лежак-будиночок для гризун Trixie підвісн 11х14 см коричневий Арт62785","Менше 10","Обладнання для гризунів",194.46,253,0,{"$f":"G947*I947","v":0}]
[null,1111137641,40475,"Лопатка Trixie д/наповнювача Fresn/Easy Granulat з підставкою пласт L","Більше 10","Аксесуари для котячих туалетів",212.64,276,0,{"$f":"G948*I948","v":0}]
[null,8008,4050,"Лопатка Trixie для наповнювача Ultra з отворами пластик розмір M","Більше 100","Аксесуари для котячих туалетів",48.96,64,0,{"$f":"G949*I949","v":0}]
[null,12219,4049,"Лопатка Trixie для туалету для гігієнічного наповнювача розмір М","Більше 100","Аксесуари для котячих туалетів",36.36,47,0,{"$f":"G950*I950","v":0}]
[null,9299,4045,"Лопатка-совок Trixie для наповнювача або корму пластик розмір S","Більше 10","Аксесуари для котячих туалетів",42,55,0,{"$f":"G951*I951","v":0}]
[null,1111118163,2559,"Лосьйон Trixie Eye-Care д/домашніх тварин видалення плям від сліз 50мл","Більше 100","Догляд та гігієна для котів",139.86000000000001,182,0,{"$f":"G952*I952","v":0}]
[null,1111126936,76035,"Люмінесцентна лампа Trixie DesertProCompact д/опромінен 60х152мм/23Вт","Менше 10","Освітлення та обігрів",826.62,1075,0,{"$f":"G953*I953","v":0}]
[null,1111115114,4225,"М_ята Trixie Catnip для котів 20 г","Більше 100","Вітаміни для котів",51.78,67,0,{"$f":"G954*I954","v":0}]
[null,1111141362,37069,"Матрац Trixie для собак Patchwork з собачками синій/зелений 80х55 см","Менше 10","Спальні місця для собак",888.18,1155,0,{"$f":"G955*I955","v":0}]
[null,1111183730,23889,"Машинка для зточування кігтів Trixie для котів 14см","Більше 10","Догляд та гігієна для собак",654.6,851,0,{"$f":"G956*I956","v":0}]
[null,9743,2278,"Медальйон-адресник Trixie для собак золотий метал","Менше 10","Амуніція для собак",42,55,0,{"$f":"G957*I957","v":0}]
[null,1111115368,2279,"Медальйон-адресник Trixie для собак синій/червоний метал","Менше 10","Амуніція для собак",42,55,0,{"$f":"G958*I958","v":0}]
[null,12256,2275,"Медальйон-адресник Trixie для собак сірий метал","Більше 10","Амуніція для собак",42,55,0,{"$f":"G959*I959","v":0}]
[null,1111119354,2280,"Медальйон-адресник Trixie для собак сірий метал в асортименті","Більше 10","Амуніція для собак",61.56,80,0,{"$f":"G960*I960","v":0}]
[null,1111127815,2277,"Медальйон-адресник Trixie лапка флуоресцентна пластикова 3,5 см","Більше 10","Амуніція для собак",34.979999999999997,45,0,{"$f":"G961*I961","v":0}]
[null,1111167887,29200,"Мило Trixie для собак з екстрактом алое вера для чутливої ​​шкіри 100г","Менше 10","Догляд та гігієна для собак",131.52000000000001,171,0,{"$f":"G962*I962","v":0}]
[null,1111162678,42425,"Мильні бульбашки Trixie для котів з котячою м_ятою 120 мл Арт42425","Більше 10","Засоби для догляду за будинком з котами",160.86000000000001,209,0,{"$f":"G963*I963","v":0}]
[null,1111183750,35699,"Мильні бульбашки Trixie для собак з ароматом бекону 120 мл Арт35699","Більше 10","Іграшки для собак",160.86000000000001,209,0,{"$f":"G964*I964","v":0}]
[null,1111127547,24498,"Миска Trixie Cat для котів керамічна 200мл d-13см","Більше 10","Миски для котів",176.28,229,0,{"$f":"G965*I965","v":0}]
[null,1111185415,24415,"Миска Trixie Food керамічна д/собак 1,6л 20см біло-чорна","Більше 10","Миски та годівниці для собак",423.84,551,0,{"$f":"G966*I966","v":0}]
[null,1111185414,24414,"Миска Trixie Food керамічна для соб 0,6 л 15см біло-чорна арт24414","Більше 10","Миски та годівниці для собак",260.16000000000003,338,0,{"$f":"G967*I967","v":0}]
[null,1111112059,60808,"Миска Trixie HoneyHopper для гризунів керамічна 250 мл 11 см Арт60808","Менше 10","Обладнання для гризунів",160.86000000000001,209,0,{"$f":"G968*I968","v":0}]
[null,1111185421,24486,"Миска Trixie Water керамічна для соб 0,6 л 15см біло-чорна арт24486","Менше 10","Миски та годівниці для собак",260.16000000000003,338,0,{"$f":"G969*I969","v":0}]
[null,1111185422,"24487*****","Миска Trixie Water керамічна для соб 1,6 л 20см біло-чорна арт24487","Більше 10","Миски та годівниці для собак",423.84,551,0,{"$f":"G970*I970","v":0}]
[null,1111138499,24495,"Миска Trixie д/котів короткомордих порід овальна кераміч 15х10см 200мл","Менше 10","Миски для котів",160.86000000000001,209,0,{"$f":"G971*I971","v":0}]
[null,1111146883,24784,"Миска Trixie д/котів короткомордих порід сіра/біла кераміч 15см 300мл","Більше 10","Миски для котів",209.82,273,0,{"$f":"G972*I972","v":0}]
[null,11815,24870,"Миска Trixie д/котів на гумов/основі з рибками нержав/сталь 15см 200мл","Більше 100","Миски для котів",79.739999999999995,104,0,{"$f":"G973*I973","v":0}]
[null,1111135222,25270,"Миска Trixie д/котів на гумов/основі пластик/покриття метал 12см 250мл","Більше 10","Миски для котів",160.86000000000001,209,0,{"$f":"G974*I974","v":0}]
[null,1111170401,"24981*****","Миска Trixie д/котів подвійна з сталі на підставці сіра 2х300мл/16см","Більше 10","Миски для котів",682.84,860,0,{"$f":"G975*I975","v":0}]
[null,1111114207,24721,"Миска Trixie д/котів подвійна на підставці пласт 250мл/9см/300мл/11см","Менше 10","Миски та годівниці для собак",325.92,424,0,{"$f":"G976*I976","v":0}]
[null,1111163175,24420,"Миска Trixie д/котів Рибка/Серце пластик на гумовій основі 300мл/12см","Менше 10","Миски для котів",292.32,380,0,{"$f":"G977*I977","v":0}]
[null,1111140994,24777,"Миска Trixie д/собак Jimmy чорна з лапкою кераміка 400мл 12см","Більше 10","Миски та годівниці для собак",325.92,424,0,{"$f":"G978*I978","v":0}]
[null,1111170406,25039,"Миска Trixie д/собак Вулик для повільного годування пластик/гума 30см","Менше 10","Миски та годівниці для собак",751.08,976,0,{"$f":"G979*I979","v":0}]
[null,1111170399,"25273*****","Миска Trixie д/собак з лапками/сердечками гумов/основа метал 2л/20см","Більше 10","Миски та годівниці для собак",260.16000000000003,338,0,{"$f":"G980*I980","v":0}]
[null,1111170412,"24521*****","Миска Trixie д/собак Повільне годування сіра/блакит керам 900мл 17см","Більше 10","Миски та годівниці для собак",588.84,765,0,{"$f":"G981*I981","v":0}]
[null,1111170405,"25285*****","Миска Trixie д/собак Повільне годування сіра/блакит пластик 500мл 23см","Більше 10","Миски та годівниці для собак",433.62,564,0,{"$f":"G982*I982","v":0}]
[null,1111170402,24983,"Миска Trixie д/собак подвійна підставка сіра з нержавійки 2х400мл/14см","Менше 10","Миски та годівниці для собак",826.62,1075,0,{"$f":"G983*I983","v":0}]
[null,1111119275,2497,"Миска Trixie д/собак подвійна регул/підстав/дужка 2x2,8 л/24см h-43см","Менше 10","Миски та годівниці для собак",1774.92,2307,0,{"$f":"G984*I984","v":0}]
[null,10355,24921,"Миска Trixie д/собак подвійна регул/підставк метал 2x1,8 л/21см h-40см","Більше 10","Миски та годівниці для собак",1128.72,1467,0,{"$f":"G985*I985","v":0}]
[null,10352,24922,"Миска Trixie д/собак подвійна регул/підставк метал 2x2,8 л/24см h-50см","Більше 10","Миски та годівниці для собак",1416.84,1842,0,{"$f":"G986*I986","v":0}]
[null,10356,24923,"Миска Trixie д/собак подвійна регул/підставк метал 2x4,5 л/29см h-60см","Менше 10","Миски та годівниці для собак",2110.56,2744,0,{"$f":"G987*I987","v":0}]
[null,1111119276,24920,"Миска Trixie д/собак подвійна регул/підставк метал 2x750мл/17см h-27см","Більше 10","Миски та годівниці для собак",826.62,1075,0,{"$f":"G988*I988","v":0}]
[null,1111125971,60801,"Миска Trixie для гризун з принтом хом_як керамічна 80 мл 8 см Арт60801","Більше 10","Обладнання для гризунів",103.5,135,0,{"$f":"G989*I989","v":0}]
[null,1111122596,60732,"Миска Trixie для гризунів з принтом керамічна 250 мл 11 см Арт60732","Більше 10","Обладнання для гризунів",160.86000000000001,209,0,{"$f":"G990*I990","v":0}]
[null,1111122597,60733,"Миска Trixie для гризунів керамічна 11см 250мл","Більше 10","Обладнання для гризунів",160.86000000000001,209,0,{"$f":"G991*I991","v":0}]
[null,1111119428,6066,"Миска Trixie для гризунів керамічна 7см 100мл","Більше 10","Обладнання для гризунів",95.16,124,0,{"$f":"G992*I992","v":0}]
[null,1111122599,60742,"Миска Trixie для гризунів яскрава керамічна 11см 200мл","Більше 10","Обладнання для гризунів",110.52,144,0,{"$f":"G993*I993","v":0}]
[null,1111122600,60743,"Миска Trixie для гризунів яскрава керамічна 15см 400мл","Більше 10","Обладнання для гризунів",160.86000000000001,209,0,{"$f":"G994*I994","v":0}]
[null,1111146884,25120,"Миска Trixie для кот Zentangle керамічна чорно-біла 12см 0,3л арт25120","Більше 10","Миски для котів",194.46,253,0,{"$f":"G995*I995","v":0}]
[null,1111134434,"25245*****","Миска Trixie для кот з нержавіючої сталі і пластику 2,2л 23см Арт25245","Більше 10","Миски та годівниці для собак",489.54,636,0,{"$f":"G996*I996","v":0}]
[null,1111170415,25211,"Миска Trixie для котів Adventure зелена емаль/метал 300мл/12см","Більше 10","Миски та годівниці для собак",160.86000000000001,209,0,{"$f":"G997*I997","v":0}]
[null,1111140988,24650,"Миска Trixie для котів Mimi керамічна 300мл/12см","Більше 10","Миски для котів",160.86000000000001,209,0,{"$f":"G998*I998","v":0}]
[null,1111134118,24793,"Миска Trixie для котів Thanks for Service керамічна 300мл/11см","Більше 10","Миски для котів",160.86000000000001,209,0,{"$f":"G999*I999","v":0}]
[null,1111127552,24499,"Миска Trixie для котів біла з чорним котиком керамічна 250мл d-13см","Більше 100","Миски для котів",144.06,187,0,{"$f":"G1000*I1000","v":0}]
[null,1111119257,2474,"Миска Trixie для котів з гумовими ніжками пластик 11см 200мл","Менше 10","Миски для котів",39.18,51,0,{"$f":"G1001*I1001","v":0}]
[null,11409,4009,"Миска Trixie для котів з котиком керамічна 11см 300мл","Більше 10","Миски для котів",144.06,187,0,{"$f":"G1002*I1002","v":0}]
[null,1111122540,24531,"Миска Trixie для котів з лапками коричнева керамічна 12см 300мл","Більше 10","Миски та годівниці для собак",176.28,229,0,{"$f":"G1003*I1003","v":0}]
[null,1111122542,24533,"Миска Trixie для котів з лапками коричнева керамічна 20см 1,4л","Більше 10","Миски та годівниці для собак",457.38,595,0,{"$f":"G1004*I1004","v":0}]
[null,1111138491,24799,"Миска Trixie для котів з лапками срібна керамічна 11см 300мл","Більше 10","Миски для котів",226.62,295,0,{"$f":"G1005*I1005","v":0}]
[null,1111134432,25243,"Миска Trixie для котів з нержав сталі і пластику 0,8 л 17 см Арт25243","Менше 10","Миски та годівниці для собак",260.16000000000003,338,0,{"$f":"G1006*I1006","v":0}]
[null,1111134433,"25244*****","Миска Trixie для котів з нержав сталі і пластику 1,5 л 21 см Арт25244","Менше 10","Миски та годівниці для собак",391.62,509,0,{"$f":"G1007*I1007","v":0}]
[null,1111122227,24492,"Миска Trixie для котів з рибкою керамічна 200мл d-13см","Більше 100","Миски для котів",120.3,156,0,{"$f":"G1008*I1008","v":0}]
[null,1111170382,24985,"Миска Trixie для котів і собак подвійна пластик 2х200мл/11см","Менше 10","Миски та годівниці для собак",89.52,116,0,{"$f":"G1009*I1009","v":0}]
[null,1111185425,25223,"Миска Trixie для котів керамічна 0,15 л діаметр 12 см рожева арт25223","Більше 10","Миски для котів",194.46,253,0,{"$f":"G1010*I1010","v":0}]
[null,1111115192,2467,"Миска Trixie для котів керамічна 13см 300мл","Більше 10","Миски для котів",160.86000000000001,209,0,{"$f":"G1011*I1011","v":0}]
[null,312022,"4008_1шт","Миска Trixie для котів керамічна 200мл d-11,5см","Більше 100","Миски для котів",144.06,187,0,{"$f":"G1012*I1012","v":0}]
[null,1111150263,24497,"Миска Trixie для котів керамічна котяча голова 0,25л 12х12 см Арт24497","Більше 10","Миски для котів",194.46,253,0,{"$f":"G1013*I1013","v":0}]
[null,1111150266,24651,"Миска Trixie для котів керамічна пласка принт 0,2 л 15см біла Арт24651","Більше 10","Миски для котів",194.46,253,0,{"$f":"G1014*I1014","v":0}]
[null,1111119252,2468,"Миска Trixie для котів короткомордих порід металева 13см 200мл","Більше 10","Миски для котів",46.2,60,0,{"$f":"G1015*I1015","v":0}]
[null,1111156287,24770,"Миска Trixie для котів короткомордих порід синя/біла 15см 300мл","Більше 10","Миски для котів",209.82,273,0,{"$f":"G1016*I1016","v":0}]
[null,1111170376,24807,"Миска Trixie для котів Котик керамічна 150мл d-14см","Більше 100","Миски для котів",260.16000000000003,338,0,{"$f":"G1017*I1017","v":0}]
[null,1111116026,4007,"Миска Trixie для котів малюнок з котом і мишкою керамічна 12см 200мл","Більше 10","Миски для котів",160.86000000000001,209,0,{"$f":"G1018*I1018","v":0}]
[null,11814,2469,"Миска Trixie для котів на гумовій основі нержавіюча сталь 15см 200мл","Більше 10","Миски для котів",72.78,95,0,{"$f":"G1019*I1019","v":0}]
[null,1111170375,24802,"Миска Trixie для котів пласка та широка керамічна 23см 600мл","Більше 10","Миски для котів",391.62,509,0,{"$f":"G1020*I1020","v":0}]
[null,1111117189,2470,"Миска Trixie для котів пластик 12см 200мл","Більше 10","Миски для котів",36.36,47,0,{"$f":"G1021*I1021","v":0}]
[null,1111170414,"25192*****","Миска Trixie для котів Повільне годування сіра пластик 250мл 21х14см","Більше 10","Миски для котів",260.16000000000003,338,0,{"$f":"G1022*I1022","v":0}]
[null,1111170413,"25191*****","Миска Trixie для котів Повільне годування сіра пластик 350мл 15х15см","Більше 10","Миски для котів",194.46,253,0,{"$f":"G1023*I1023","v":0}]
[null,1111170398,25187,"Миска Trixie для котів подвійна біла меламінова 2х200мл/13см 27х3х14см","Більше 10","Миски для котів",373.44,485,0,{"$f":"G1024*I1024","v":0}]
[null,7467,4014,"Миска Trixie для котів подвійна керамічна 2/150мл d-11см","Більше 10","Миски для котів",332.88,433,0,{"$f":"G1025*I1025","v":0}]
[null,1111138498,24494,"Миска Trixie для котів у формі котячої мордочки керамічна 250мл/12см","Більше 100","Миски для котів",176.28,229,0,{"$f":"G1026*I1026","v":0}]
[null,1111164060,25128,"Миска Trixie для кошенят і цуценят керамічна 0,2 л 14 см Арт25128","Більше 10","Миски для котів",160.86000000000001,209,0,{"$f":"G1027*I1027","v":0}]
[null,1111143277,25017,"Миска Trixie для подорожей термопластична гума 0,5л 14см Арт25017","Менше 10","Сумки, переноски та посуд для подорожей з собаками",194.46,253,0,{"$f":"G1028*I1028","v":0}]
[null,9590,5497,"Миска Trixie для птахів з гвинтовим кріпленням металева 300мл/9см","Більше 10","Обладнання для птахів",120.3,156,0,{"$f":"G1029*I1029","v":0}]
[null,1111121455,"5461*****","Миска Trixie для птахів керамічна 25мл/5см","Менше 10","Обладнання для птахів",50.4,65,0,{"$f":"G1030*I1030","v":0}]
[null,7281,5493,"Миска Trixie для птахів підвісна з кріпленням металева 150мл 7см","Більше 100","Обладнання для птахів",89.52,116,0,{"$f":"G1031*I1031","v":0}]
[null,8123,5494,"Миска Trixie для птахів підвісна з кріпленням металева 300мл 9см","Більше 10","Обладнання для птахів",120.3,156,0,{"$f":"G1032*I1032","v":0}]
[null,7280,5495,"Миска Trixie для птахів підвісна з кріпленням металева 600мл 12см","Більше 10","Обладнання для птахів",181.86,236,0,{"$f":"G1033*I1033","v":0}]
[null,1111183738,25055,"Миска Trixie для соб керам з принт 1,4л 20см кремово-коричн Арт25055","Більше 10","Миски та годівниці для собак",423.84,551,0,{"$f":"G1034*I1034","v":0}]
[null,1111183737,"25052*****","Миска Trixie для соб кераміч з принт 1,4л 20см кремово-блакит Арт25052","Менше 10","Миски та годівниці для собак",423.84,551,0,{"$f":"G1035*I1035","v":0}]
[null,1111170417,"25213*****","Миска Trixie для собак Adventure зелена емаль/метал 1,9 л/21см","Більше 10","Миски та годівниці для собак",358.08,465,0,{"$f":"G1036*I1036","v":0}]
[null,1111170416,"25212*****","Миска Trixie для собак Adventure зелена емаль/метал 900мл/17см","Більше 10","Миски та годівниці для собак",260.16000000000003,338,0,{"$f":"G1037*I1037","v":0}]
[null,1111170372,"24355*****","Миска Trixie для собак Be Nordic Moin сіра керамічна 1,4л 20см","Менше 10","Миски та годівниці для собак",385.91,544.41999999999996,0,{"$f":"G1038*I1038","v":0}]
[null,1111170390,"25063*****","Миска Trixie для собак Be Nordic пісочна меламінова 200мл 14см","Більше 10","Миски та годівниці для собак",247.26,311.54000000000002,0,{"$f":"G1039*I1039","v":0}]
[null,1111170367,"24300*****","Миска Trixie для собак Be Nordic синя/бежева керамічна 200мл 16см","Менше 10","Миски та годівниці для собак",339.69,428.01,0,{"$f":"G1040*I1040","v":0}]
[null,1111170370,"24301*****","Миска Trixie для собак Be Nordic синя/бежева керамічна 500мл 20см","Менше 10","Миски та годівниці для собак",526.86,663.85,0,{"$f":"G1041*I1041","v":0}]
[null,1111170371,"24302*****","Миска Trixie для собак Be Nordic синя/бежева керамічна 800мл 25см","Менше 10","Миски та годівниці для собак",776.43,978.3,0,{"$f":"G1042*I1042","v":0}]
[null,1111140995,24778,"Миска Trixie для собак Jimmy чорна з лапкою керамічна 750мл 16см","Більше 10","Миски та годівниці для собак",423.84,551,0,{"$f":"G1043*I1043","v":0}]
[null,1111150267,"Арт25050","Миска Trixie для собак Pet_s Home бірюзова керамічна 300мл 12см","Більше 10","Миски та годівниці для собак",160.86000000000001,209,0,{"$f":"G1044*I1044","v":0}]
[null,1111150268,25051,"Миска Trixie для собак Pet_s Home бірюзова керамічна 800мл 16см","Менше 10","Миски та годівниці для собак",260.16000000000003,338,0,{"$f":"G1045*I1045","v":0}]
[null,1111150269,"арт.25053","Миска Trixie для собак Pet_s Home коричнева керамічна 300мл 12см","Більше 10","Миски та годівниці для собак",160.86000000000001,209,0,{"$f":"G1046*I1046","v":0}]
[null,1111150270,25054,"Миска Trixie для собак Pet_s Home коричнева керамічна 800мл 16см","Менше 10","Миски та годівниці для собак",260.16000000000003,338,0,{"$f":"G1047*I1047","v":0}]
[null,1111116004,"2463*****","Миска Trixie для собак Swobby пластикова 1,7л 24см","Більше 10","Миски та годівниці для собак",243.36,316,0,{"$f":"G1048*I1048","v":0}]
[null,1111170420,25201,"Миска Trixie для собак Брахіцефалів метал на гумовій кромці 700мл/27см","Менше 10","Миски та годівниці для собак",467.16,607,0,{"$f":"G1049*I1049","v":0}]
[null,1111134861,25247,"Миска Trixie для собак для порід з довгими вухами 0,9 л 19 см Арт25247","Менше 10","Миски та годівниці для собак",423.84,551,0,{"$f":"G1050*I1050","v":0}]
[null,8120,2488,"Миска Trixie для собак довговухих порід на гум/основі метал 900мл/25см","Менше 10","Миски та годівниці для собак",160.86000000000001,209,0,{"$f":"G1051*I1051","v":0}]
[null,1111143278,25018,"Миска Trixie для собак дорожня з ободком складна каучук 1 л/18см","Більше 10","Сумки, переноски та посуд для подорожей з собаками",260.16000000000003,338,0,{"$f":"G1052*I1052","v":0}]
[null,1111134435,25010,"Миска Trixie для собак дорожня складна силіконова 250мл/11см","Більше 100","Сумки, переноски та посуд для подорожей з собаками",95.16,124,0,{"$f":"G1053*I1053","v":0}]
[null,1111126348,25011,"Миска Trixie для собак дорожня складна силіконова 500мл/14см","Більше 10","Сумки, переноски та посуд для подорожей з собаками",128.69999999999999,167,0,{"$f":"G1054*I1054","v":0}]
[null,1111127527,"25013*****","Миска Trixie для собак дорожня складна термопластичний каучук 2 л/22см","Більше 10","Сумки, переноски та посуд для подорожей з собаками",292.32,380,0,{"$f":"G1055*I1055","v":0}]
[null,1111183733,24360,"Миска Trixie для собак кераміч з резин основою 0,4л 12см сіра Арт24360","Більше 10","Миски та годівниці для собак",226.62,295,0,{"$f":"G1056*I1056","v":0}]
[null,1111140992,24775,"Миска Trixie для собак керамічна 0,75 л 15 см Арт24775","Менше 10","Миски та годівниці для собак",260.16000000000003,338,0,{"$f":"G1057*I1057","v":0}]
[null,1111170388,"25025*****","Миска Trixie для собак керамічна біла 1,6л 20см","Більше 10","Миски та годівниці для собак",423.84,551,0,{"$f":"G1058*I1058","v":0}]
[null,1111170386,25023,"Миска Trixie для собак керамічна біла 400мл 13см","Більше 100","Миски та годівниці для собак",176.28,229,0,{"$f":"G1059*I1059","v":0}]
[null,1111170387,25024,"Миска Trixie для собак керамічна біла 900мл 16см","Більше 10","Миски та годівниці для собак",260.16000000000003,338,0,{"$f":"G1060*I1060","v":0}]
[null,1111170385,"25022*****","Миска Trixie для собак керамічна чорна 1,6л 20см","Більше 10","Миски та годівниці для собак",423.84,551,0,{"$f":"G1061*I1061","v":0}]
[null,1111170383,25020,"Миска Trixie для собак керамічна чорна 400мл 13см","Менше 10","Миски та годівниці для собак",176.28,229,0,{"$f":"G1062*I1062","v":0}]
[null,1111170384,25021,"Миска Trixie для собак керамічна чорна 900мл 16см","Більше 10","Миски та годівниці для собак",260.16000000000003,338,0,{"$f":"G1063*I1063","v":0}]
[null,8112,24843,"Миска Trixie для собак металева 1,8л d-20см","Більше 100","Миски та годівниці для собак",110.52,144,0,{"$f":"G1064*I1064","v":0}]
[null,8231,24844,"Миска Trixie для собак металева 2,8л 24см","Більше 100","Миски та годівниці для собак",144.06,187,0,{"$f":"G1065*I1065","v":0}]
[null,8045,24840,"Миска Trixie для собак металева 200мл 10см","Більше 100","Миски та годівниці для собак",40.56,53,0,{"$f":"G1066*I1066","v":0}]
[null,8876,24845,"Миска Trixie для собак металева 4,5л 29см","Більше 10","Миски та годівниці для собак",194.46,253,0,{"$f":"G1067*I1067","v":0}]
[null,10354,24841,"Миска Trixie для собак металева 450мл 13см","Більше 10","Миски та годівниці для собак",50.4,65,0,{"$f":"G1068*I1068","v":0}]
[null,8111,24842,"Миска Trixie для собак металева 750мл 17см","Більше 10","Миски та годівниці для собак",62.94,82,0,{"$f":"G1069*I1069","v":0}]
[null,4636,24854,"Миска Trixie для собак на гумовій кромці металева 1,75л/30см","Більше 10","Миски та годівниці для собак",226.62,295,0,{"$f":"G1070*I1070","v":0}]
[null,4637,24855,"Миска Trixie для собак на гумовій кромці металева 2,7л/32см","Менше 10","Миски та годівниці для собак",292.32,380,0,{"$f":"G1071*I1071","v":0}]
[null,5123,24852,"Миска Trixie для собак на гумовій кромці металева 700мл/21см","Більше 100","Миски та годівниці для собак",128.69999999999999,167,0,{"$f":"G1072*I1072","v":0}]
[null,8469,24853,"Миска Trixie для собак на гумовій кромці металева 900мл/23см","Більше 10","Миски та годівниці для собак",160.86000000000001,209,0,{"$f":"G1073*I1073","v":0}]
[null,1111170391,"25108*****","Миска Trixie для собак на гумовій основі керамічна 1л/17см","Більше 10","Миски та годівниці для собак",588.84,765,0,{"$f":"G1074*I1074","v":0}]
[null,1111136647,25072,"Миска Trixie для собак на гумовій основі металева 17см/1л","Менше 10","Миски та годівниці для собак",160.86000000000001,209,0,{"$f":"G1075*I1075","v":0}]
[null,1111136648,25073,"Миска Trixie для собак на гумовій основі металева 21см/1,7л","Менше 10","Миски та годівниці для собак",260.16000000000003,338,0,{"$f":"G1076*I1076","v":0}]
[null,1111136649,25074,"Миска Trixie для собак на гумовій основі металева 24см/2,5л","Менше 10","Миски та годівниці для собак",391.62,509,0,{"$f":"G1077*I1077","v":0}]
[null,5124,24851,"Миска Trixie для собак на гумовій основі металева 450мл d-19см","Більше 100","Миски та годівниці для собак",110.52,144,0,{"$f":"G1078*I1078","v":0}]
[null,1111170380,"24953*****","Миска Trixie для собак на гумовій основі пластикова 1,5л 20см","Більше 10","Миски та годівниці для собак",260.16000000000003,338,0,{"$f":"G1079*I1079","v":0}]
[null,1111170377,24950,"Миска Trixie для собак на гумовій основі пластикова 300мл 12см","Більше 10","Миски та годівниці для собак",72.78,95,0,{"$f":"G1080*I1080","v":0}]
[null,1111170378,24951,"Миска Trixie для собак на гумовій основі пластикова 500мл 16см","Менше 10","Миски та годівниці для собак",120.3,156,0,{"$f":"G1081*I1081","v":0}]
[null,1111170379,"24952*****","Миска Trixie для собак на гумовій основі пластикова 750мл 16см","Більше 10","Миски та годівниці для собак",160.86000000000001,209,0,{"$f":"G1082*I1082","v":0}]
[null,1111170395,"25144*****","Миска Trixie для собак на гумовій основі сіра металева 900мл 23см","Більше 10","Миски та годівниці для собак",247.26,311.54000000000002,0,{"$f":"G1083*I1083","v":0}]
[null,1111169735,"25033*****","Миска Trixie для собак Повільне годування блакитна гума 1,5л 27см","Більше 10","Миски та годівниці для собак",274.14,356,0,{"$f":"G1084*I1084","v":0}]
[null,1111170389,25031,"Миска Trixie для собак Повільне годування блакитна гума 450мл 20см","Менше 10","Миски та годівниці для собак",120.3,156,0,{"$f":"G1085*I1085","v":0}]
[null,1111170411,"25029*****","Миска Trixie для собак Повільне годування сіра пластикова 450мл 23см","Більше 10","Миски та годівниці для собак",325.92,424,0,{"$f":"G1086*I1086","v":0}]
[null,1111111510,24833,"Миска Trixie для собак подвійна на підставці металева 2х1,8л 21см","Менше 10","Миски та годівниці для собак",391.62,509,0,{"$f":"G1087*I1087","v":0}]
[null,1111115107,24834,"Миска Trixie для собак подвійна на підставці металева 2х2,8л 24см","Менше 10","Миски та годівниці для собак",523.14,680,0,{"$f":"G1088*I1088","v":0}]
[null,11905,24830,"Миска Trixie для собак подвійна на підставці металева 2х200мл 11см","Більше 100","Миски та годівниці для собак",144.06,187,0,{"$f":"G1089*I1089","v":0}]
[null,11904,24831,"Миска Trixie для собак подвійна на підставці металева 2х450мл 13см","Більше 10","Миски та годівниці для собак",194.46,253,0,{"$f":"G1090*I1090","v":0}]
[null,12130,24832,"Миска Trixie для собак подвійна на підставці металева 2х750мл 17см","Більше 10","Миски та годівниці для собак",260.16000000000003,338,0,{"$f":"G1091*I1091","v":0}]
[null,1111118284,2471,"Миска Trixie для собак полегшена версія пластик 250мл 10см","Менше 10","Миски та годівниці для собак",42,55,0,{"$f":"G1092*I1092","v":0}]
[null,1111119260,"2473*****","Миска Trixie для собак полегшена версія пластик 500мл 14см","Більше 10","Миски та годівниці для собак",72.78,95,0,{"$f":"G1093*I1093","v":0}]
[null,1111127917,60805,"Миска Trixie для хом_яків полосатий принт керамічна 50мл 8см","Більше 10","Обладнання для гризунів",89.52,116,0,{"$f":"G1094*I1094","v":0}]
[null,1111122595,60731,"Миска Trixie для хом_яків принт з гризуном керамічна 80мл 8см","Більше 10","Обладнання для гризунів",103.5,135,0,{"$f":"G1095*I1095","v":0}]
[null,1111122598,60741,"Миска Trixie для хом_яків яскрава з обідком керамічна 100мл 10см","Більше 10","Обладнання для гризунів",95.16,124,0,{"$f":"G1096*I1096","v":0}]
[null,1111163176,25126,"Миска Trixie для цуценят Junior керамічна 300мл 12см","Більше 10","Миски та годівниці для собак",194.46,253,0,{"$f":"G1097*I1097","v":0}]
[null,1111170392,25127,"Миска Trixie для цуценят Junior керамічна 800мл 16см","Більше 10","Миски та годівниці для собак",292.32,380,0,{"$f":"G1098*I1098","v":0}]
[null,11478,25282,"Миска Trixie для цуценят кругова металева 4л 38см","Менше 10","Миски та годівниці для собак",423.84,551,0,{"$f":"G1099*I1099","v":0}]
[null,1111115227,24761,"Миска Trixie з дозатором універсальна пластикова 600мл","Більше 10","Миски та годівниці для собак",128.69999999999999,167,0,{"$f":"G1100*I1100","v":0}]
[null,1111185423,25086,"Миска Trixie керамічна для соб 0,3 л 12см біло-коричнева арт25086","Більше 10","Миски та годівниці для собак",194.46,253,0,{"$f":"G1101*I1101","v":0}]
[null,1111185424,25087,"Миска Trixie керамічна для соб 0,7 л 16см біло-коричнева арт25087","Менше 10","Миски та годівниці для собак",260.16000000000003,338,0,{"$f":"G1102*I1102","v":0}]
[null,1111170343,34952,"Миска-килимок Trixie д/собак Lick/Snack для повільн/годування 20х20см","Менше 10","Миски та годівниці для собак",292.32,380,0,{"$f":"G1103*I1103","v":0}]
[null,1111170408,"25037*****","Миска-килимок Trixie д/собак повільне годування блакитн силікон d-28см","Більше 10","Миски та годівниці для собак",423.84,551,0,{"$f":"G1104*I1104","v":0}]
[null,1111170363,34954,"Миска-килимок Trixie д/цуценят Junior повільне годування блакитна 15см","Більше 100","Миски та годівниці для собак",120.3,156,0,{"$f":"G1105*I1105","v":0}]
[null,1111170364,34958,"Миска-килимок Trixie д/цуценят Junior повільне годування блакитна 21см","Більше 10","Миски та годівниці для собак",243.36,316,0,{"$f":"G1106*I1106","v":0}]
[null,1111170407,"25038*****","Миска-килимок Trixie для котів/собак Pillars повільне годування d-35см","Більше 10","Миски для котів",654.6,851,0,{"$f":"G1107*I1107","v":0}]
[null,1111170409,"25036*****","Миска-килимок Trixie для собак повільне годування сіра гума d-24см","Менше 10","Миски та годівниці для собак",423.84,551,0,{"$f":"G1108*I1108","v":0}]
[null,1111136681,24791,"Миски Trixie д/котів Eat on Feet кераміка метал/підставка 2x300мл/12см","Більше 10","Миски для котів",588.84,765,0,{"$f":"G1109*I1109","v":0}]
[null,1111127915,24790,"Миски Trixie д/котів Eat on Feet кераміка метал/підставка 2x300мл/12см","Більше 10","Миски для котів",523.14,680,0,{"$f":"G1110*I1110","v":0}]
[null,1111139948,25230,"Миски Trixie д/котів Eat on Feet подвійні метал/підставка 2x250мл/11см","Більше 10","Миски та годівниці для собак",260.16000000000003,338,0,{"$f":"G1111*I1111","v":0}]
[null,1111156356,24535,"Миски Trixie д/собак Eat on Feet з метал/підстав кераміка 2x250мл/13см","Більше 10","Миски та годівниці для собак",523.14,680,0,{"$f":"G1112*I1112","v":0}]
[null,1111136775,24640,"Миски Trixie д/собак Eat on Feet на метал/підставці керам 2x250мл/13см","Більше 100","Миски та годівниці для собак",523.14,680,0,{"$f":"G1113*I1113","v":0}]
[null,1111124112,24641,"Миски Trixie д/собак Eat on Feet на метал/підставці керам 2x600мл/15см","Більше 10","Миски та годівниці для собак",720.3,936,0,{"$f":"G1114*I1114","v":0}]
[null,1111139949,25231,"Миски Trixie д/собак Eat on Feet подвійні метал/підставка 2x450мл/13см","Менше 10","Миски та годівниці для собак",325.92,424,0,{"$f":"G1115*I1115","v":0}]
[null,1111139950,25232,"Миски Trixie д/собак Eat on Feet подвійні метал/підставка 2x900мл/16см","Більше 10","Миски та годівниці для собак",489.54,636,0,{"$f":"G1116*I1116","v":0}]
[null,1111141857,24820,"Миски Trixie д/собак на дерев/підставці чорні кераміка 2x200мл/10х10см","Більше 10","Миски та годівниці для собак",939.9,1222,0,{"$f":"G1117*I1117","v":0}]
[null,1111170397,"25184*****","Миски Trixie д/собак подвійн біла меламін/метал 2х400мл/14см 32х6х17см","Менше 10","Миски та годівниці для собак",413.64,586.57000000000005,0,{"$f":"G1118*I1118","v":0}]
[null,1111170403,"25006*****","Миски Trixie д/собак регульо/підставка білі меламін/метал 2х1,6л 21см","Менше 10","Миски та годівниці для собак",2277.3000000000002,3199,0,{"$f":"G1119*I1119","v":0}]
[null,1111170404,"25007*****","Миски Trixie д/собак регульо/підставка білі меламін/метал 2х2,4л 25см","Більше 10","Миски та годівниці для собак",2651.66,3728,0,{"$f":"G1120*I1120","v":0}]
[null,5165,6000,"Мінеральна сіль Trixie для гризунів Брикет 54г 2шт","Більше 100","Вітаміни та мінерали для гризунів",54.6,71,0,{"$f":"G1121*I1121","v":0}]
[null,1111132112,6004,"Мінеральна сіль Trixie для гризунів Брикет гімалайська 60г","Більше 100","Вітаміни та мінерали для гризунів",72.78,95,0,{"$f":"G1122*I1122","v":0}]
[null,8057,6001,"Мінеральна сіль Trixie для гризунів Брикет з утримувачем 84г","Більше 100","Вітаміни та мінерали для гризунів",50.4,65,0,{"$f":"G1123*I1123","v":0}]
[null,1111133708,62151,"Місток Trixie для гризунів дерев_яний 22х10 см","Більше 10","Обладнання для гризунів",110.52,144,0,{"$f":"G1124*I1124","v":0}]
[null,1111121349,62152,"Місток Trixie для гризунів дерев_яний 28х17 см","Більше 10","Обладнання для гризунів",160.86000000000001,209,0,{"$f":"G1125*I1125","v":0}]
[null,1111121350,6221,"Місток Trixie для гризунів дерев_яний підвісний 55,5х7 см","Більше 10","Обладнання для гризунів",160.86000000000001,209,0,{"$f":"G1126*I1126","v":0}]
[null,1111117663,6274,"Місток Trixie для гризунів дерев_яний підвісний з канатами 29х25х9 см","Менше 10","Обладнання для гризунів",292.32,380,0,{"$f":"G1127*I1127","v":0}]
[null,1111199111,24790,"НА 1 МИСКІ СКОЛ Миски Trixie кот Eat on Feet мет/підст 2x300мл/12см","Менше 10","Миски для котів",196.68,0,0,{"$f":"G1128*I1128","v":0}]
[null,1111111509,2296,"Набір бантів Trixie для собак з металевою застібкою 4-5,5см 10шт","Менше 10","Одяг для собак",755.28,982,0,{"$f":"G1129*I1129","v":0}]
[null,6923,2550,"Набір зубних щіток Trixie д/собак для чищення зубів та масажна 6см 2шт","Більше 100","Догляд та гігієна для собак",61.56,80,0,{"$f":"G1130*I1130","v":0}]
[null,1111118323,4109,"Набір іграшок Trixie д/котів М_ячики хутряні леопардові 3,5см 4шт/уп","Більше 100","Іграшки для котів",89.52,116,0,{"$f":"G1131*I1131","v":0}]
[null,1111118319,4132,"Набір Іграшок Trixie для котів М_ячики 4 см 3 шт/уп","Більше 10","Іграшки для котів",72.78,95,0,{"$f":"G1132*I1132","v":0}]
[null,13001,4523,"Набір іграшок Trixie для котів М_ячики 6 шт/уп","Більше 100","Іграшки для котів",134.28,175,0,{"$f":"G1133*I1133","v":0}]
[null,1111116255,4534,"Набір іграшок Trixie для котів М_ячики з виступами резина 3,5см 4шт","Більше 100","Іграшки для котів",89.52,116,0,{"$f":"G1134*I1134","v":0}]
[null,1111122308,4521,"Набір іграшок Trixie для котів М_ячики з дзвіночком пластикові 4 шт/уп","Більше 100","Іграшки для котів",72.78,95,0,{"$f":"G1135*I1135","v":0}]
[null,1111144194,41100,"Набір іграшок Trixie для котів М_ячики м_які поролонові 4см 4шт","Більше 100","Іграшки для котів",160.86000000000001,209,0,{"$f":"G1136*I1136","v":0}]
[null,1111120480,4503,"Набір іграшок Trixie для котів Мишки хутряні з котячою м_ятою 5см 6шт","Більше 100","Іграшки для котів",209.82,273,0,{"$f":"G1137*I1137","v":0}]
[null,1111118202,4055,"Набір іграшок Trixie для котів Парад Мишей 5 см 24 шт","Більше 10","Іграшки для котів",1007.04,1309,0,{"$f":"G1138*I1138","v":0}]
[null,11274,3503,"Набір іграшок Trixie для собак Longies латекcні 18 см 3 шт","Більше 10","Іграшки для собак",386.04,502,0,{"$f":"G1139*I1139","v":0}]
[null,1111124115,35872,"Набір іграшок Trixie для собак Longies плюшеві 35 см 3 шт","Більше 10","Іграшки для собак",528.72,687,0,{"$f":"G1140*I1140","v":0}]
[null,1111125073,35267,"Набір іграшок Trixie для собак Веселі Кури латексні 14 см 3 шт","Менше 10","Іграшки для собак",432.18,562,0,{"$f":"G1141*I1141","v":0}]
[null,1111119408,3513,"Набір іграшок-міні Trixie для собак латексні 4 шт","Менше 10","Іграшки для собак",442.02,575,0,{"$f":"G1142*I1142","v":0}]
[null,1111140933,15556,"Набір нашийн Trixie д/цуц рож/сір/син/олив/корич/бірюз M-L 22-35см 6шт","Менше 10","Амуніція для собак",243.36,316,0,{"$f":"G1143*I1143","v":0}]
[null,1111140931,15552,"Набір нашийн Trixie д/цуц рож/сір/син/олив/корич/бірюз S-M 17-25см 6шт","Менше 10","Амуніція для собак",243.36,316,0,{"$f":"G1144*I1144","v":0}]
[null,1111140932,15555,"Набір нашийн Trixie д/цуц фіол/чер/син/чорн/папа/зел M-L 22-35см 6шт","Менше 10","Амуніція для собак",243.36,316,0,{"$f":"G1145*I1145","v":0}]
[null,1111115341,15551,"Набір нашийн Trixie д/цуц фіол/чер/син/чорн/папа/зел S-M 17-25см 6шт","Більше 10","Амуніція для собак",243.36,316,0,{"$f":"G1146*I1146","v":0}]
[null,1111208016,43435,"НАДІРВАНА Дряпка Trixie для котів настінна кутова сизаль/плюш сіра 32x","Менше 10","Дряпки для котів",306.95999999999998,0,0,{"$f":"G1147*I1147","v":0}]
[null,1111201307,24777,"НАДІРВАНА РЕЗИНКА Миска Trixie для собак Jimmy чорна з лапкою на гумов","Менше 10","Миски та годівниці для собак",122.76,0,0,{"$f":"G1148*I1148","v":0}]
[null,1111207885,61775,"НАДЛОМАНО Будиночок Trixie Mette для хом яків деревинна кора 18х12х12","Менше 10","Обладнання для гризунів",116.52,0,0,{"$f":"G1149*I1149","v":0}]
[null,1111146831,17613,"Намордник Trixie Muzzle Flex для собак чорний силікон M-L 27см","Менше 10","Амуніція для собак",654.6,851,0,{"$f":"G1150*I1150","v":0}]
[null,1111148059,17594,"Намордник Trixie д/соб д/захисту від отрут нейлоновий M-L 27см/22-46см","Менше 10","Амуніція для собак",230.82,300,0,{"$f":"G1151*I1151","v":0}]
[null,1111148056,17591,"Намордник Trixie д/соб д/захисту від отрут нейлоновий XS 14см/18-26см","Менше 10","Амуніція для собак",204.24,265,0,{"$f":"G1152*I1152","v":0}]
[null,1111146832,17614,"Намордник Trixie для собак гумовий L чорний Арт17614","Більше 10","Амуніція для собак",818.22,1064,0,{"$f":"G1153*I1153","v":0}]
[null,1111146833,17615,"Намордник Trixie для собак гумовий L-XL чорний Арт17615","Більше 10","Амуніція для собак",883.98,1149,0,{"$f":"G1154*I1154","v":0}]
[null,1111146830,17612,"Намордник Trixie для собак гумовий M чорний Арт17612","Більше 10","Амуніція для собак",555.29999999999995,722,0,{"$f":"G1155*I1155","v":0}]
[null,1111146829,17611,"Намордник Trixie для собак гумовий S чорний Арт17611","Більше 10","Амуніція для собак",489.54,636,0,{"$f":"G1156*I1156","v":0}]
[null,1111148060,17595,"Намордник Trixie для собак для захисту від ядів L чорний Арт17595","Менше 10","Амуніція для собак",255.96,333,0,{"$f":"G1157*I1157","v":0}]
[null,1111148061,17596,"Намордник Trixie для собак для захисту від ядів XL чорний Арт17596","Більше 10","Амуніція для собак",255.96,333,0,{"$f":"G1158*I1158","v":0}]
[null,1111115539,19264,"Намордник Trixie для собак закритий поліестер М-L 23-31см/5,9см","Більше 10","Амуніція для собак",127.32,165,0,{"$f":"G1159*I1159","v":0}]
[null,1111150254,17626,"Намордник Trixie для собак короткомордих пород S–M сірий Арт17626","Більше 10","Амуніція для собак",181.86,236,0,{"$f":"G1160*I1160","v":0}]
[null,1111114267,1924,"Намордник Trixie для собак поліестер L 30см/16-44см арт1924","Менше 10","Амуніція для собак",127.32,165,0,{"$f":"G1161*I1161","v":0}]
[null,1111111407,1921,"Намордник Trixie для собак поліестер XS 16см/14-28см","Більше 10","Амуніція для собак",88.14,115,0,{"$f":"G1162*I1162","v":0}]
[null,1111114703,19283,"Намордник-петля Trixie д/собак неопрен/підкладка нейлон XL-XXL 28-38см","Більше 10","Амуніція для собак",243.36,316,0,{"$f":"G1163*I1163","v":0}]
[null,1111114702,19281,"Намордник-петля Trixie для собак неопрен/підкладка нейлон M-L 22-30см","Більше 10","Амуніція для собак",212.64,276,0,{"$f":"G1164*I1164","v":0}]
[null,10966,4026,"Наповнювач Trixie Simple and Clean для котів сілікагелевий гранули 5л","Більше 100","Наповнювачі для котячих туалетів",392.88,511,0,{"$f":"G1165*I1165","v":0}]
[null,10221,4020,"Наповнювач Trixie Simple and Clean для котів сілікагелевий гранули 8л","Більше 100","Наповнювачі для котячих туалетів",609.24,792,0,{"$f":"G1166*I1166","v":0}]
[null,1111126014,76147,"Наповнювач Trixie для тераріума букова стружка 10 л","Менше 10","Наповнювачі та субстрати для тераріума",524.52,682,0,{"$f":"G1167*I1167","v":0}]
[null,1111185215,1748205,"Нашийник Trixie BE NORDIC для соб широкий M–L 40–60см чорн арт1748205","Менше 10","Амуніція для собак",520.32000000000005,676,0,{"$f":"G1168*I1168","v":0}]
[null,1111185191,144128,"Нашийник Trixie Cavo для соб напівуд L–XL 52–60см аква-граф арт144128","Менше 10","Амуніція для собак",232.2,302,0,{"$f":"G1169*I1169","v":0}]
[null,1111185193,144135,"Нашийник Trixie Cavo для соб напівуд L–XL 52–60см рож-пісочн арт144135","Менше 10","Амуніція для собак",232.2,302,0,{"$f":"G1170*I1170","v":0}]
[null,1111185186,143930,"Нашийник Trixie Cavo для соб напівуд M–L 43–51см риж-графіт арт143930","Менше 10","Амуніція для собак",202.8,264,0,{"$f":"G1171*I1171","v":0}]
[null,1111185197,144328,"Нашийник Trixie Cavo для соб напівуд S 30–36см аква-граф арт144328","Менше 10","Амуніція для собак",128.69999999999999,167,0,{"$f":"G1172*I1172","v":0}]
[null,1111185198,144330,"Нашийник Trixie Cavo для соб напівуд S 30–36см рижо-графіт арт144330","Немає в наявності","Амуніція для собак",128.69999999999999,167,0,{"$f":"G1173*I1173","v":0}]
[null,1111185199,144335,"Нашийник Trixie Cavo для соб напівуд S 30–36см рож-пісочн арт144335","Менше 10","Амуніція для собак",128.69999999999999,167,0,{"$f":"G1174*I1174","v":0}]
[null,1111185200,144428,"Нашийник Trixie Cavo для соб напівуд XS–S 25–31см акв-граф арт144428","Менше 10","Амуніція для собак",114.72,149,0,{"$f":"G1175*I1175","v":0}]
[null,1111185201,144430,"Нашийник Trixie Cavo для соб напівуд XS–S 25–31см риж-графіт арт144430","Менше 10","Амуніція для собак",114.72,149,0,{"$f":"G1176*I1176","v":0}]
[null,1111185202,144435,"Нашийник Trixie Cavo для соб напівуд XS–S 25–31см рож-пісочн арт144435","Менше 10","Амуніція для собак",114.72,149,0,{"$f":"G1177*I1177","v":0}]
[null,1111185188,144028,"Нашийник Trixie Cavo для соб напівудав L 47–55см аква-графіт арт144028","Менше 10","Амуніція для собак",232.2,302,0,{"$f":"G1178*I1178","v":0}]
[null,1111185192,144130,"Нашийник Trixie Cavo для соб напівудав L–XL 52–60см риж-граф арт144130","Менше 10","Амуніція для собак",232.2,302,0,{"$f":"G1179*I1179","v":0}]
[null,1111185182,143828,"Нашийник Trixie Cavo для соб напівудав M 39–45см аква-граф арт143828","Менше 10","Амуніція для собак",144.06,187,0,{"$f":"G1180*I1180","v":0}]
[null,1111185183,143830,"Нашийник Trixie Cavo для соб напівудав M 39–45см риж-графіт арт143830","Менше 10","Амуніція для собак",144.06,187,0,{"$f":"G1181*I1181","v":0}]
[null,1111185184,143835,"Нашийник Trixie Cavo для соб напівудав M 39–45см рож-пісочн арт143835","Менше 10","Амуніція для собак",144.06,187,0,{"$f":"G1182*I1182","v":0}]
[null,1111185185,143928,"Нашийник Trixie Cavo для соб напівудав M–L 43–51см аква-граф арт143928","Менше 10","Амуніція для собак",202.8,264,0,{"$f":"G1183*I1183","v":0}]
[null,1111185179,143728,"Нашийник Trixie Cavo для соб напівудав S–M 35–41см акв-граф арт143728","Менше 10","Амуніція для собак",128.69999999999999,167,0,{"$f":"G1184*I1184","v":0}]
[null,1111185180,143730,"Нашийник Trixie Cavo для соб напівудав S–M 35–41см риж-граф арт143730","Менше 10","Амуніція для собак",128.69999999999999,167,0,{"$f":"G1185*I1185","v":0}]
[null,1111185244,1970801,"Нашийник Trixie CityStyle для соб L 45–52см 30 мм чорний арт1970801","Менше 10","Амуніція для собак",766.5,996,0,{"$f":"G1186*I1186","v":0}]
[null,1111185245,1970816,"Нашийник Trixie CityStyle для соб L 45–52см світло-зелений арт1970816","Більше 10","Амуніція для собак",766.5,996,0,{"$f":"G1187*I1187","v":0}]
[null,1111185246,1970819,"Нашийник Trixie CityStyle для соб L 45–52см світло-сірий арт1970819","Менше 10","Амуніція для собак",766.5,996,0,{"$f":"G1188*I1188","v":0}]
[null,1111185248,1970916,"Нашийник Trixie CityStyle для соб L–XL 50–57см світло-зелен арт1970916","Більше 10","Амуніція для собак",766.5,996,0,{"$f":"G1189*I1189","v":0}]
[null,1111185249,1970919,"Нашийник Trixie CityStyle для соб L–XL 50–57см світло-сірий арт1970919","Менше 10","Амуніція для собак",766.5,996,0,{"$f":"G1190*I1190","v":0}]
[null,1111185247,1970901,"Нашийник Trixie CityStyle для соб L–XL 50–57см чорний арт1970901","Менше 10","Амуніція для собак",766.5,996,0,{"$f":"G1191*I1191","v":0}]
[null,1111185238,1970601,"Нашийник Trixie CityStyle для соб M 35–42см 25 мм чорний арт1970601","Більше 10","Амуніція для собак",612.66,796,0,{"$f":"G1192*I1192","v":0}]
[null,1111185239,1970616,"Нашийник Trixie CityStyle для соб M 35–42см світло-зелен арт1970616","Більше 10","Амуніція для собак",612.66,796,0,{"$f":"G1193*I1193","v":0}]
[null,1111185240,1970619,"Нашийник Trixie CityStyle для соб M 35–42см світло-сір арт1970619","Менше 10","Амуніція для собак",612.66,796,0,{"$f":"G1194*I1194","v":0}]
[null,1111185241,1970701,"Нашийник Trixie CityStyle для соб M–L 40–47см 30 мм чорний арт1970701","Менше 10","Амуніція для собак",674.16,876,0,{"$f":"G1195*I1195","v":0}]
[null,1111185242,1970716,"Нашийник Trixie CityStyle для соб M–L 40–47см світло-зелен арт1970716","Більше 10","Амуніція для собак",674.16,876,0,{"$f":"G1196*I1196","v":0}]
[null,1111185243,1970719,"Нашийник Trixie CityStyle для соб M–L 40–47см світло-сірий арт1970719","Менше 10","Амуніція для собак",674.16,876,0,{"$f":"G1197*I1197","v":0}]
[null,1111185236,1970516,"Нашийник Trixie CityStyle для соб S–M 30–37см світло-зелен арт1970516","Більше 10","Амуніція для собак",581.88,756,0,{"$f":"G1198*I1198","v":0}]
[null,1111185237,1970519,"Нашийник Trixie CityStyle для соб S–M 30–37см світло-сірий арт1970519","Більше 10","Амуніція для собак",581.88,756,0,{"$f":"G1199*I1199","v":0}]
[null,1111185235,1970501,"Нашийник Trixie CityStyle для соб S–M 30–37см чорний арт1970501","Більше 10","Амуніція для собак",581.88,756,0,{"$f":"G1200*I1200","v":0}]
[null,1111185233,1970416,"Нашийник Trixie CityStyle для соб XS–S 25–32см світл-зелен арт1970416","Більше 10","Амуніція для собак",551.1,716,0,{"$f":"G1201*I1201","v":0}]
[null,1111185252,1971919,"Нашийник Trixie CityStyle для соб XS–S 25–32см світло-зелен арт1971919","Менше 10","Амуніція для собак",274.14,356,0,{"$f":"G1202*I1202","v":0}]
[null,1111185251,1971916,"Нашийник Trixie CityStyle для соб XS–S 25–32см світло-сір арт1971916","Менше 10","Амуніція для собак",274.14,356,0,{"$f":"G1203*I1203","v":0}]
[null,1111185234,1970419,"Нашийник Trixie CityStyle для соб XS–S 25–32см світло-сірий арт1970419","Більше 10","Амуніція для собак",551.1,716,0,{"$f":"G1204*I1204","v":0}]
[null,1111185232,1970401,"Нашийник Trixie CityStyle для соб XS–S 25–32см чорний арт1970401","Більше 10","Амуніція для собак",551.1,716,0,{"$f":"G1205*I1205","v":0}]
[null,1111185250,1971901,"Нашийник Trixie CityStyle для соб ПВХ XS–S 25–32см чорний арт1971901","Менше 10","Амуніція для собак",274.14,356,0,{"$f":"G1206*I1206","v":0}]
[null,1111142207,12671,"Нашийник Trixie Flash Light Ring USB д/собак синій широк M-L 50cм/18мм","Менше 10","Амуніція для собак",562.26,731,0,{"$f":"G1207*I1207","v":0}]
[null,1111139995,12702,"Нашийник Trixie Flash Light Ring USB для собак зелений L–XL 65см/7мм","Менше 10","Амуніція для собак",486.78,633,0,{"$f":"G1208*I1208","v":0}]
[null,1111142214,12685,"Нашийник Trixie Flash Light Ring USB для собак зелений L-XL 70cм/18мм","Менше 10","Амуніція для собак",562.26,731,0,{"$f":"G1209*I1209","v":0}]
[null,1111139994,12701,"Нашийник Trixie Flash Light Ring USB для собак зелений M-L 45см/7мм","Більше 10","Амуніція для собак",448.98,584,0,{"$f":"G1210*I1210","v":0}]
[null,1111139945,12700,"Нашийник Trixie Flash Light Ring USB для собак зелений XS-S 35см/7мм","Більше 10","Амуніція для собак",411.24,535,0,{"$f":"G1211*I1211","v":0}]
[null,1111141001,12705,"Нашийник Trixie Flash Light Ring USB для собак оранжевий L–XL 65см/7мм","Більше 10","Амуніція для собак",486.78,633,0,{"$f":"G1212*I1212","v":0}]
[null,1111141000,12704,"Нашийник Trixie Flash Light Ring USB для собак оранжевий M-L 45см/7мм","Менше 10","Амуніція для собак",448.98,584,0,{"$f":"G1213*I1213","v":0}]
[null,1111140999,12703,"Нашийник Trixie Flash Light Ring USB для собак оранжевий XS-S 35см/7мм","Більше 10","Амуніція для собак",411.24,535,0,{"$f":"G1214*I1214","v":0}]
[null,1111141003,12707,"Нашийник Trixie Flash Light Ring USB для собак рожевий  M-L 45см/7мм","Більше 100","Амуніція для собак",448.98,584,0,{"$f":"G1215*I1215","v":0}]
[null,1111141004,12708,"Нашийник Trixie Flash Light Ring USB для собак рожевий L-XL 65cм/7мм","Менше 10","Амуніція для собак",486.78,633,0,{"$f":"G1216*I1216","v":0}]
[null,1111141002,12706,"Нашийник Trixie Flash Light Ring USB для собак рожевий XS-S 35см/7мм","Більше 10","Амуніція для собак",411.24,535,0,{"$f":"G1217*I1217","v":0}]
[null,1111185268,1995828,"Нашийник Trixie Premium для соб L 46–55см аква-графіт арт1995828","Менше 10","Амуніція для собак",674.16,876,0,{"$f":"G1218*I1218","v":0}]
[null,1111185271,1995836,"Нашийник Trixie Premium для соб L 46–55см пісочно-сірий арт1995836","Менше 10","Амуніція для собак",674.16,876,0,{"$f":"G1219*I1219","v":0}]
[null,1111185269,1995830,"Нашийник Trixie Premium для соб L 46–55см рижо-графітовий арт1995830","Менше 10","Амуніція для собак",674.16,876,0,{"$f":"G1220*I1220","v":0}]
[null,1111185364,201729,"Нашийник Trixie Premium для соб L–XL 40–65см 25 мм оранжевий арт201729","Менше 10","Амуніція для собак",212.64,276,0,{"$f":"G1221*I1221","v":0}]
[null,1111185367,201736,"Нашийник Trixie Premium для соб L–XL 40–65см 25 мм пісочний арт201736","Менше 10","Амуніція для собак",212.64,276,0,{"$f":"G1222*I1222","v":0}]
[null,1111185366,201735,"Нашийник Trixie Premium для соб L–XL 40–65см світло-рожевий арт201735","Менше 10","Амуніція для собак",212.64,276,0,{"$f":"G1223*I1223","v":0}]
[null,1111185272,1995928,"Нашийник Trixie Premium для соб L–XL 53–62см аква-графіт арт1995928","Менше 10","Амуніція для собак",766.5,996,0,{"$f":"G1224*I1224","v":0}]
[null,1111185274,1995934,"Нашийник Trixie Premium для соб L–XL 53–62см блакитно-сірий арт1995934","Менше 10","Амуніція для собак",766.5,996,0,{"$f":"G1225*I1225","v":0}]
[null,1111185275,1995936,"Нашийник Trixie Premium для соб L–XL 53–62см пісочно-сірий арт1995936","Менше 10","Амуніція для собак",766.5,996,0,{"$f":"G1226*I1226","v":0}]
[null,1111185273,1995930,"Нашийник Trixie Premium для соб L–XL 53–62см рижо-графітов арт1995930","Менше 10","Амуніція для собак",766.5,996,0,{"$f":"G1227*I1227","v":0}]
[null,1111185362,201636,"Нашийник Trixie Premium для соб M–L 35–55см 20 мм пісочний арт201636","Менше 10","Амуніція для собак",151.08000000000001,196,0,{"$f":"G1228*I1228","v":0}]
[null,1111185361,201635,"Нашийник Trixie Premium для соб M–L 35–55см світло-рожевий арт201635","Менше 10","Амуніція для собак",151.08000000000001,196,0,{"$f":"G1229*I1229","v":0}]
[null,1111185360,201632,"Нашийник Trixie Premium для соб M–L 35–55см синьо-зелений арт201632","Менше 10","Амуніція для собак",151.08000000000001,196,0,{"$f":"G1230*I1230","v":0}]
[null,1111185264,1995728,"Нашийник Trixie Premium для соб M–L 40–48см аква-графіт арт1995728","Менше 10","Амуніція для собак",612.66,796,0,{"$f":"G1231*I1231","v":0}]
[null,1111185266,1995734,"Нашийник Trixie Premium для соб M–L 40–48см блакитно-сірий арт1995734","Менше 10","Амуніція для собак",612.66,796,0,{"$f":"G1232*I1232","v":0}]
[null,1111185267,1995736,"Нашийник Trixie Premium для соб M–L 40–48см пісочно-сірий арт1995736","Менше 10","Амуніція для собак",612.66,796,0,{"$f":"G1233*I1233","v":0}]
[null,1111185265,1995730,"Нашийник Trixie Premium для соб M–L 40–48см рижо-графітовий арт1995730","Менше 10","Амуніція для собак",612.66,796,0,{"$f":"G1234*I1234","v":0}]
[null,1111185374,202232,"Нашийник Trixie Premium для соб S 25–40см синьо-зелений арт202232","Менше 10","Амуніція для собак",120.3,156,0,{"$f":"G1235*I1235","v":0}]
[null,1111185357,201536,"Нашийник Trixie Premium для соб S–M 30–45см 15 мм пісочний арт201536","Менше 10","Амуніція для собак",134.28,175,0,{"$f":"G1236*I1236","v":0}]
[null,1111185355,201532,"Нашийник Trixie Premium для соб S–M 30–45см синьо-зелений арт201532","Менше 10","Амуніція для собак",134.28,175,0,{"$f":"G1237*I1237","v":0}]
[null,1111185260,1995628,"Нашийник Trixie Premium для соб S–M 33–42см аква-графіт арт1995628","Менше 10","Амуніція для собак",551.1,716,0,{"$f":"G1238*I1238","v":0}]
[null,1111185262,1995634,"Нашийник Trixie Premium для соб S–M 33–42см блакитно-сірий арт1995634","Менше 10","Амуніція для собак",551.1,716,0,{"$f":"G1239*I1239","v":0}]
[null,1111185263,1995636,"Нашийник Trixie Premium для соб S–M 33–42см пісочно-сірий арт1995636","Менше 10","Амуніція для собак",551.1,716,0,{"$f":"G1240*I1240","v":0}]
[null,1111185261,1995630,"Нашийник Trixie Premium для соб S–M 33–42см рижо-графітовий арт1995630","Менше 10","Амуніція для собак",551.1,716,0,{"$f":"G1241*I1241","v":0}]
[null,1111185256,1995528,"Нашийник Trixie Premium для соб XS–S 27–35см аква-графіт арт1995528","Менше 10","Амуніція для собак",489.54,636,0,{"$f":"G1242*I1242","v":0}]
[null,1111185258,1995534,"Нашийник Trixie Premium для соб XS–S 27–35см блакитно-сірий арт1995534","Менше 10","Амуніція для собак",489.54,636,0,{"$f":"G1243*I1243","v":0}]
[null,1111185259,1995536,"Нашийник Trixie Premium для соб XS–S 27–35см пісочно-сірий арт1995536","Менше 10","Амуніція для собак",489.54,636,0,{"$f":"G1244*I1244","v":0}]
[null,1111185257,1995530,"Нашийник Trixie Premium для соб XS–S 27–35см рижо-графіт арт1995530","Менше 10","Амуніція для собак",489.54,636,0,{"$f":"G1245*I1245","v":0}]
[null,1111185371,202135,"Нашийник Trixie Premium для соб XXS–XS 15–25см світло-рожев арт202135","Менше 10","Амуніція для собак",103.5,135,0,{"$f":"G1246*I1246","v":0}]
[null,1111185370,202132,"Нашийник Trixie Premium для соб XXS–XS 15–25см синьо-зелений арт202132","Менше 10","Амуніція для собак",103.5,135,0,{"$f":"G1247*I1247","v":0}]
[null,1111185372,202228,"Нашийник Trixie Premium для собак S 25–40 см 15 мм аква арт202228","Менше 10","Амуніція для собак",120.3,156,0,{"$f":"G1248*I1248","v":0}]
[null,1111185353,201528,"Нашийник Trixie Premium для собак S–M 30–45 см 15 мм аква арт201528","Менше 10","Амуніція для собак",134.28,175,0,{"$f":"G1249*I1249","v":0}]
[null,1111185348,201428,"Нашийник Trixie Premium для собак XS–S 22–35 см 10 мм аква арт201428","Менше 10","Амуніція для собак",103.5,135,0,{"$f":"G1250*I1250","v":0}]
[null,1111132100,"12224  Тrixie","Нашийник Trixie Silver Reflect з лапами світловідбив L-XL 40-65см/25мм","Менше 10","Амуніція для собак",243.36,316,0,{"$f":"G1251*I1251","v":0}]
[null,1111132099,"12223  Тrixie","Нашийник Trixie Silver Reflect з лапами світловідбив M-L 35-55см/20мм","Менше 10","Амуніція для собак",195.84,255,0,{"$f":"G1252*I1252","v":0}]
[null,1111132097,12221,"Нашийник Trixie Silver Reflect з лапами світловідбив XS-S 22-35см/15мм","Менше 10","Амуніція для собак",151.08000000000001,196,0,{"$f":"G1253*I1253","v":0}]
[null,1111150519,202901,"Нашийник Trixie д/собак Premium метал/ланцюж чорний L-XL 45-70см/25мм","Менше 10","Амуніція для собак",304.92,396,0,{"$f":"G1254*I1254","v":0}]
[null,1111163568,"1988423*****","Нашийник Trixie д/собак Premium неопрен/підклад камуф M-L 42-48см/20мм","Менше 10","Амуніція для собак",337.38,417,0,{"$f":"G1255*I1255","v":0}]
[null,1111122419,4207,"Нашийник Trixie для котів Glitter з дзвіночком поліестеровий","Більше 10","Амуніція для котів",120.3,156,0,{"$f":"G1256*I1256","v":0}]
[null,1111121035,4202,"Нашийник Trixie для котів еластичний з візерунком Арт4202","Менше 10","Амуніція для котів",113.34,147,0,{"$f":"G1257*I1257","v":0}]
[null,1111115139,4179,"Нашийник Trixie для кошенят Kitty з дзвіночком нейлоновий","Більше 10","Амуніція для котів",75.540000000000006,98,0,{"$f":"G1258*I1258","v":0}]
[null,1111150934,202116,"Нашийник Trixie для собак Premium нейлон графіт XXS-XS 15-25см/10мм","Менше 10","Амуніція для собак",103.5,135,0,{"$f":"G1259*I1259","v":0}]
[null,1111150688,201716,"Нашийник Trixie для собак Premium нейлон графітовий L-XL 40-65см/25мм","Менше 10","Амуніція для собак",212.64,276,0,{"$f":"G1260*I1260","v":0}]
[null,1111150678,201616,"Нашийник Trixie для собак Premium нейлон графітовий M-L 35-55см/20мм","Більше 10","Амуніція для собак",151.08000000000001,196,0,{"$f":"G1261*I1261","v":0}]
[null,1111150669,201516,"Нашийник Trixie для собак Premium нейлон графітовий S-M 30-45см/15мм","Більше 10","Амуніція для собак",134.28,175,0,{"$f":"G1262*I1262","v":0}]
[null,1111150659,201416,"Нашийник Trixie для собак Premium нейлон графітовий XS-S 22-35см/10мм","Менше 10","Амуніція для собак",103.5,135,0,{"$f":"G1263*I1263","v":0}]
[null,1111150703,"202113*****","Нашийник Trixie для собак Premium нейлон індіго XXS-XS 15-25см/10мм","Менше 10","Амуніція для собак",70.48,87,0,{"$f":"G1264*I1264","v":0}]
[null,1111150704,"202114*****","Нашийник Trixie для собак Premium нейлон карамель XXS-XS 15-25см/10мм","Менше 10","Амуніція для собак",70.48,87,0,{"$f":"G1265*I1265","v":0}]
[null,1111150478,201402,"Нашийник Trixie для собак Premium нейлон синій XS-S 22-35см/10мм","Менше 10","Амуніція для собак",103.5,135,0,{"$f":"G1266*I1266","v":0}]
[null,1111150684,201711,"Нашийник Trixie для собак Premium нейлон фуксія L-XL 40-65см/25мм","Менше 10","Амуніція для собак",212.64,276,0,{"$f":"G1267*I1267","v":0}]
[null,1111150673,201611,"Нашийник Trixie для собак Premium нейлон фуксія M-L 35-55см/20мм","Менше 10","Амуніція для собак",151.08000000000001,196,0,{"$f":"G1268*I1268","v":0}]
[null,1111150664,201511,"Нашийник Trixie для собак Premium нейлон фуксія S-M 30-45см/15мм","Менше 10","Амуніція для собак",134.28,175,0,{"$f":"G1269*I1269","v":0}]
[null,1111150654,201411,"Нашийник Trixie для собак Premium нейлон фуксія XS-S 22-35см/10мм","Менше 10","Амуніція для собак",103.5,135,0,{"$f":"G1270*I1270","v":0}]
[null,1111151049,201703,"Нашийник Trixie для собак Premium нейлон червоний L-XL 40-65см/25мм","Менше 10","Амуніція для собак",212.64,276,0,{"$f":"G1271*I1271","v":0}]
[null,1111151046,201603,"Нашийник Trixie для собак Premium нейлон червоний M-L 35-55см/20мм","Більше 10","Амуніція для собак",151.08000000000001,196,0,{"$f":"G1272*I1272","v":0}]
[null,1111151045,201601,"Нашийник Trixie для собак Premium нейлон чорний M-L 35-55см/20мм","Менше 10","Амуніція для собак",151.08000000000001,196,0,{"$f":"G1273*I1273","v":0}]
[null,1111150517,202101,"Нашийник Trixie для собак Premium нейлон чорний XXS-XS 15-25см/10мм","Менше 10","Амуніція для собак",103.5,135,0,{"$f":"G1274*I1274","v":0}]
[null,1111150547,144101,"Нашийник-зашморг Trixie для собак Cavo чорний нейлон L-XL 52-60см/18мм","Менше 10","Амуніція для собак",232.2,302,0,{"$f":"G1275*I1275","v":0}]
[null,1111150225,143701,"Нашийник-зашморг Trixie для собак Cavo чорний нейлон S-M 35-41см/12мм","Менше 10","Амуніція для собак",128.69999999999999,167,0,{"$f":"G1276*I1276","v":0}]
[null,1111119917,2244,"Нашийник-зашморг Trixie для собак дворядний хромований L 50см/2,5мм","Менше 10","Амуніція для собак",304.92,396,0,{"$f":"G1277*I1277","v":0}]
[null,1111119916,2245,"Нашийник-зашморг Trixie для собак дворядний хромований L-XL 55см/2,5мм","Більше 10","Амуніція для собак",335.7,436,0,{"$f":"G1278*I1278","v":0}]
[null,1111119919,2242,"Нашийник-зашморг Trixie для собак дворядний хромований M 40см/2мм","Більше 10","Амуніція для собак",243.36,316,0,{"$f":"G1279*I1279","v":0}]
[null,1111119918,2243,"Нашийник-зашморг Trixie для собак дворядний хромований M-L 45см/2,5мм","Менше 10","Амуніція для собак",304.92,396,0,{"$f":"G1280*I1280","v":0}]
[null,1111119920,2241,"Нашийник-зашморг Trixie для собак дворядний хромований S-M 35см/2мм","Менше 10","Амуніція для собак",243.36,316,0,{"$f":"G1281*I1281","v":0}]
[null,1111119922,2247,"Нашийник-зашморг Trixie для собак дворядний хромований XL 65см/2,5мм","Менше 10","Амуніція для собак",366.48,476,0,{"$f":"G1282*I1282","v":0}]
[null,1111116673,2268,"Нашийник-зашморг Trixie для собак потрійний хром L-XL 60см/2,5мм","Менше 10","Амуніція для собак",428.04,556,0,{"$f":"G1283*I1283","v":0}]
[null,8228,2269,"Нашийник-зашморг Trixie для собак потрійний хром XL 65см/2,5мм","Менше 10","Амуніція для собак",458.76,596,0,{"$f":"G1284*I1284","v":0}]
[null,1111116670,2266,"Нашийник-зашморг Trixie для собак потрійний хром розмір L 50см/2,5мм","Менше 10","Амуніція для собак",366.48,476,0,{"$f":"G1285*I1285","v":0}]
[null,1111203370,3516,"НЕ ПИЩИТЬ Іграшка Trixie д/собак Морська зірка з пискавкою латекс 23см","Менше 10","Іграшки для собак",98.7,0,0,{"$f":"G1286*I1286","v":0}]
[null,1111207446,33677,"НЕ ПИЩИТЬ Іграшка Trixie д/собак М'яч з шипами термопластична гума 7см","Менше 10","Іграшки для собак",50.76,0,0,{"$f":"G1287*I1287","v":0}]
[null,1111205708,35497,"НЕ ПИЩИТЬ Іграшка Trixie для собак Дикий кабан з пискавкою латекс 18см","Менше 10","Іграшки для собак",127.44,0,0,{"$f":"G1288*I1288","v":0}]
[null,1111200106,33671,"НЕ ПІЩИТЬ Іграшка Trixie для собак Кістка з пискавкою термопластична г","Менше 10","Іграшки для собак",105.18,0,0,{"$f":"G1289*I1289","v":0}]
[null,1111202847,25242,"НЕ ТОВ. ВИГ.Миска Trixie для собак на гумовій основі металева з пласти","Менше 10","Миски та годівниці для собак",67.5,0,0,{"$f":"G1290*I1290","v":0}]
[null,1111208277,45742,"НЕ ТОВ.ВИГ.Іграшка Trixie для котів Вудочка з рибкою та котячою м'ятою","Менше 10","Іграшки для котів",60.18,0,0,{"$f":"G1291*I1291","v":0}]
[null,1111206481,24561,"НЕ ТОВ.ВИГ.Килимок під миску Trixie для собак темно-сірий каучук 45х25","Менше 10","Килимки для собак",159.24,0,0,{"$f":"G1292*I1292","v":0}]
[null,1111200808,76070,"НЕ ТОВ.ВИГ.Плафон Trixie для тераріума рефлекторний із захисною решітк","Менше 10","Обладнання для тераріума",693.42,0,0,{"$f":"G1293*I1293","v":0}]
[null,1111201991,24605,"НЕ ТОВ.ВИГ.Поїлка Trixie для собак для подорожей металева/пластикова 3","Менше 10","Сумки, переноски та посуд для подорожей з собаками",169.74,0,0,{"$f":"G1294*I1294","v":0}]
[null,1111206525,25108,"НЕ ТРИМ.РЕЗИН Миска Trixie для соб.на гумовій основі керамічна 1л/17см","Менше 10","Миски та годівниці для собак",210.54,0,0,{"$f":"G1295*I1295","v":0}]
[null,1111194896,42930,"НЕКОМПЛЕКТ Дряпка Trixie для кошенят фліс 47 см світло-бузкова","Менше 10","Дряпки для котів",171.42,0,0,{"$f":"G1296*I1296","v":0}]
[null,1111197490,42930,"НЕМА ВЕРХН.КРІПЛЕННЯ Дряпка Trixie д/кошенят фліс 47 см світло-бузкова","Менше 10","Дряпки для котів",332.46,0,0,{"$f":"G1297*I1297","v":0}]
[null,1111195455,35497,"НЕТОВ. ВИГЛ. Іграшка Trixie д/собак Дикий кабан пискавка латекс 18см","Менше 10","Іграшки для собак",63.78,0,0,{"$f":"G1298*I1298","v":0}]
[null,1111197178,35093,"НЕТОВ. ВИГЛ. Іграшка Trixie для собак Гусак з пискавкою латекс 14см","Менше 10","Іграшки для собак",33.659999999999997,0,0,{"$f":"G1299*I1299","v":0}]
[null,1111198569,24791,"НЕТОВ. ВИГЛ. Миски Trixie кот EatFeet керам метал/підст 2x300мл/12см","Менше 10","Миски для котів",210.18,0,0,{"$f":"G1300*I1300","v":0}]
[null,1111207709,40177,"НЕТОВ. ВИГЛ. ПОДРЯПИНИ Туалет-будиночок Trixie Прімо XXL Топ 56 х 47 х","Менше 10","Туалети для котів",721.02,0,0,{"$f":"G1301*I1301","v":0}]
[null,1111207319,76094,"НЕТОВ.В. Інфрачервона лампа розжарювання Trixie для тераріуму для обіг","Менше 10","Освітлення та обігрів",167.28,0,0,{"$f":"G1302*I1302","v":0}]
[null,1111208183,4503,"НЕТОВ.В. Набір іграшок Trixie для котів Мишки хутряні з котячою м'ятою","Немає в наявності","Іграшки для котів",95.88,0,0,{"$f":"G1303*I1303","v":0}]
[null,1111207318,4416,"НЕТОВ.В. НЕ ТРИМАЄТЬСЯ 1 УГОЛ Решітка Trixie для вікна захисна біла 62","Менше 10","Інструменти для догляду за будинком з котами",103.98,0,0,{"$f":"G1304*I1304","v":0}]
[null,1111196258,24820,"НЕТОВ.ВИГЛ Миски Trixie д/соб на дер/підс чор кер2x200мл/10х10см","Менше 10","Миски та годівниці для собак",381.24,0,0,{"$f":"G1305*I1305","v":0}]
[null,1111206773,"3501_1шт","НЕТОВ.ВИГЛ. Іграшка Trixie д/соб Баскетбольний м'яч латекс 13см блакит","Менше 10","Іграшки для собак",96.6,0,0,{"$f":"G1306*I1306","v":0}]
[null,1111195599,"40279*****","НЕТОВ.ВИГЛ. Туалет Trixie д/кот Vico закр.пластик зелен/біл 40х40х56см","Менше 10","Туалети для котів",441.66,0,0,{"$f":"G1307*I1307","v":0}]
[null,1111150258,23690,"Ножиці Trixie Professional для собак та котів обрізні стальні 20 см","Менше 10","Догляд та гігієна для собак",826.62,1075,0,{"$f":"G1308*I1308","v":0}]
[null,1111115369,2355,"Ножиці Trixie д/грум. філіровочні пластик і нержавіюча сталь 16см","Менше 10","Догляд та гігієна для собак",230.82,300,0,{"$f":"G1309*I1309","v":0}]
[null,9613,2351,"Ножиці Trixie для домашніх тварин стальні 16 см","Менше 10","Догляд та гігієна для собак",179.04,233,0,{"$f":"G1310*I1310","v":0}]
[null,9614,2360,"Ножиці Trixie для малих тварин для морди та лап 8 см","Більше 10","Догляд та гігієна для собак",120.3,156,0,{"$f":"G1311*I1311","v":0}]
[null,9615,2352,"Ножиці Trixie для малих тварин філірувальні односторонні 16 см Арт2352","Менше 10","Догляд та гігієна для собак",204.24,265,0,{"$f":"G1312*I1312","v":0}]
[null,1111183745,32039,"Нюхальний килим Trixie для цуценят 38 см Арт32039","Менше 10","Іграшки для собак",654.6,851,0,{"$f":"G1313*I1313","v":0}]
[null,1111126952,"76081_ord","Обігрівач Trixie для тераріума Гарячий шнур 25 Вт 4,5 м","Менше 10","Освітлення та обігрів",939.9,1222,0,{"$f":"G1314*I1314","v":0}]
[null,1111126953,"76082*****","Обігрівач Trixie для тераріума Гарячий шнур 50 Вт 7 м","Менше 10","Освітлення та обігрів",1228.02,1596,0,{"$f":"G1315*I1315","v":0}]
[null,1111114704,1949,"Одяг Trixie Walker панчохи для собак міцний поліестер чорн XXXL 2шт/уп","Менше 10","Одяг для собак",255.96,333,0,{"$f":"G1316*I1316","v":0}]
[null,12228,1958,"Одяг Trixie Walker панчохи для собак міцний поліестер чорні L 2 шт/уп","Більше 10","Одяг для собак",204.24,265,0,{"$f":"G1317*I1317","v":0}]
[null,12229,1957,"Одяг Trixie Walker панчохи для собак міцний поліестер чорні M 2 шт/уп","Більше 10","Одяг для собак",179.04,233,0,{"$f":"G1318*I1318","v":0}]
[null,1111114368,1956,"Одяг Trixie Walker панчохи для собак міцний поліестер чорні S 2 шт/уп","Більше 10","Одяг для собак",152.46,198,0,{"$f":"G1319*I1319","v":0}]
[null,7287,1959,"Одяг Trixie Walker панчохи для собак міцний поліестер чорні XL 2 шт/уп","Менше 10","Одяг для собак",230.82,300,0,{"$f":"G1320*I1320","v":0}]
[null,12227,1955,"Одяг Trixie Walker панчохи для собак міцний поліестер чорні XXL 2шт/уп","Менше 10","Одяг для собак",255.96,333,0,{"$f":"G1321*I1321","v":0}]
[null,1111121076,23491,"Одяг Trixie труси для собак чорні 24х31 см","Більше 10","Пелюшки, підгузки для собак",113.34,147,0,{"$f":"G1322*I1322","v":0}]
[null,1111121075,23490,"Одяг Trixie труси для собак чорні 25х25 см","Більше 10","Пелюшки, підгузки для собак",100.74,131,0,{"$f":"G1323*I1323","v":0}]
[null,1111121077,23492,"Одяг Trixie труси для собак чорні 32х39 см","Більше 10","Пелюшки, підгузки для собак",127.32,165,0,{"$f":"G1324*I1324","v":0}]
[null,1111121078,23493,"Одяг Trixie труси для собак чорні 40х49 см","Більше 100","Пелюшки, підгузки для собак",139.86000000000001,182,0,{"$f":"G1325*I1325","v":0}]
[null,1111121079,23494,"Одяг Trixie труси для собак чорні 50х59 см","Більше 10","Пелюшки, підгузки для собак",152.46,198,0,{"$f":"G1326*I1326","v":0}]
[null,1111121080,23495,"Одяг Trixie труси для собак чорні 60х70 см","Більше 10","Пелюшки, підгузки для собак",179.04,233,0,{"$f":"G1327*I1327","v":0}]
[null,1111118477,2934,"Олія Trixie для притягування для собачого туалету 50 мл","Більше 10","Корекція поведінки для собак",184.62,240,0,{"$f":"G1328*I1328","v":0}]
[null,1111183741,28688,"Охолоджуючий килимок Trixie XL–XXL 100 х 60 см синій Арт28688","Більше 10","Спальні місця для собак",939.9,1222,0,{"$f":"G1329*I1329","v":0}]
[null,1111183742,28788,"Охолоджуючий килимок Trixie м_який XXL 110 х 70 см сірий Арт28788","Немає в наявності","Спальні місця для собак",1548.3,2013,0,{"$f":"G1330*I1330","v":0}]
[null,1111183766,41576,"Ошийник Trixie для кот Мій дім світловідбиваючий з адресником Арт41576","Більше 10","Амуніція для котів",134.28,175,0,{"$f":"G1331*I1331","v":0}]
[null,1111115532,4043,"Пакети Tixie для котячого туалету змінні М 48х37 см 10 шт/уп","Більше 10","Аксесуари для котячих туалетів",78.36,102,0,{"$f":"G1332*I1332","v":0}]
[null,1111137776,4051,"Пакети Trixie для котячого туалету XL 10 шт в упаковці Арт4051","Менше 10","Аксесуари для котячих туалетів",160.86000000000001,209,0,{"$f":"G1333*I1333","v":0}]
[null,1111136977,22843,"Пакети Trixie для прибирання за собаками змінні M 20 шт/уп","Більше 100","Пелюшки, підгузки для собак",19.62,25,0,{"$f":"G1334*I1334","v":0}]
[null,1111128778,22840,"Пакети Trixie для прибирання за собаками змінні M 4х20 шт/уп","Більше 100","Пелюшки, підгузки для собак",72.78,95,0,{"$f":"G1335*I1335","v":0}]
[null,1111137245,22844,"Пакети Trixie для прибирання за собаками змінні M 8х20 шт/уп","Більше 100","Пелюшки, підгузки для собак",151.08000000000001,196,0,{"$f":"G1336*I1336","v":0}]
[null,1111144809,23473,"Пакети Trixie для прибирання за собаками змінні жовті M 4х20 шт/уп","Більше 100","Пелюшки, підгузки для собак",72.78,95,0,{"$f":"G1337*I1337","v":0}]
[null,1111162593,22839,"Пакети для фекалій Trixie для соб з лаванд 4х20 пак фіолетові Арт22839","Більше 100","Пелюшки, підгузки для собак",72.78,95,0,{"$f":"G1338*I1338","v":0}]
[null,1111183720,22845,"Пакети для фекалій Trixie для соб з ручками 3х15 пак Арт22845","Більше 10","Туалети для собак",72.78,95,0,{"$f":"G1339*I1339","v":0}]
[null,1111183728,23476,"Пакети для фекалій Trixie для собак біо 10х10 пак зелені","Менше 10","Туалети для собак",373.44,485,0,{"$f":"G1340*I1340","v":0}]
[null,1111183767,42427,"Палички Trixie для котів мататабі жувальні 10 г Арт42427","Більше 100","Іграшки для котів",89.52,116,0,{"$f":"G1341*I1341","v":0}]
[null,1111183724,23370,"Пелюшки Trixie для собак з активованим вугіллям 40х60см 7шт Арт23370","Більше 10","Пелюшки, підгузки для собак",120.3,156,0,{"$f":"G1342*I1342","v":0}]
[null,1111183725,23372,"Пелюшки Trixie для собак з активованим вугіллям 60х60см 10шт Арт23372","Менше 10","Пелюшки, підгузки для собак",243.36,316,0,{"$f":"G1343*I1343","v":0}]
[null,1111139268,23417,"Пелюшки Trixie для собак целюлоза 40х60см 50шт","Більше 10","Пелюшки, підгузки для собак",674.16,876,0,{"$f":"G1344*I1344","v":0}]
[null,1111122415,23412,"Пелюшки Trixie для собак целюлоза 60х60см 10шт","Більше 100","Пелюшки, підгузки для собак",243.36,316,0,{"$f":"G1345*I1345","v":0}]
[null,1111134496,23413,"Пелюшки Trixie для собак целюлоза 60х90см 8шт","Більше 100","Пелюшки, підгузки для собак",243.36,316,0,{"$f":"G1346*I1346","v":0}]
[null,1111185429,"28908*****","Переноска Trixie Dillon 33х32х54 см сіро-м_ятна арт28908","Більше 10","Сумки, переноски та посуд для подорожей з котами",1906.38,2478,0,{"$f":"G1347*I1347","v":0}]
[null,1111119250,39792,"Переноска Trixie д/гризунів Midi-Capri ремень до 5кг пласт 44x33x32см","Менше 10","Сумки, переноски та посуд для подорожей з котами",803.88,1045,0,{"$f":"G1348*I1348","v":0}]
[null,1111121807,39861,"Переноска Trixie д/соб/котів Capri 3 OpenTop до 12кг сіра S 40x38x61см","Менше 10","Сумки, переноски та посуд для подорожей з котами",1898.82,2468,0,{"$f":"G1349*I1349","v":0}]
[null,1111117848,39871,"Переноска Trixie д/собак Gulliver 4 вагою до 18кг сіра S-M 52x51x72см","Менше 10","Сумки, переноски та посуд для подорожей з собаками",4205.28,5467,0,{"$f":"G1350*I1350","v":0}]
[null,1111161045,39823,"Переноска Trixie д/собак/котів Capri 2 до 8кг рожева XS-S 37x34x55см","Менше 10","Сумки, переноски та посуд для подорожей з собаками",1085.94,1412,0,{"$f":"G1351*I1351","v":0}]
[null,1111113715,39831,"Переноска Trixie д/собак/котів Capri 3 до 12кг сіра S 40x38x61см","Більше 10","Сумки, переноски та посуд для подорожей з собаками",1409.04,1832,0,{"$f":"G1352*I1352","v":0}]
[null,1111146794,39735,"Переноска Trixie д/собак/котів Skudo 1 до 12кг коричнева XS 30x32x49см","Більше 10","Сумки, переноски та посуд для подорожей з собаками",1209.06,1572,0,{"$f":"G1353*I1353","v":0}]
[null,1111115833,39802,"Переноска Trixie для гризунів Mini-Capri до 2 кг пластик 40х22х30см","Більше 10","Обладнання для гризунів",601.32000000000005,782,0,{"$f":"G1354*I1354","v":0}]
[null,1111137372,5900,"Переноска Trixie для гризунів Pico пластик 18x12x13см","Більше 10","Обладнання для гризунів",194.46,253,0,{"$f":"G1355*I1355","v":0}]
[null,1111116042,5903,"Переноска Trixie для гризунів Pico пластик 23x16x17см","Більше 10","Обладнання для гризунів",260.16000000000003,338,0,{"$f":"G1356*I1356","v":0}]
[null,39768,5904,"Переноска Trixie для гризунів Pico пластик 30x21x23см","Більше 10","Обладнання для гризунів",448.98,584,0,{"$f":"G1357*I1357","v":0}]
[null,1111117850,"39872*****","Переноска Trixie для собак Gulliver 5 до 25кг сіра M 58x60x79см","Менше 10","Сумки, переноски та посуд для подорожей з собаками",5455.32,7092,0,{"$f":"G1358*I1358","v":0}]
[null,1111117849,"39873*****","Переноска Trixie для собак Gulliver 6 до 38кг сіра M-L 64x64x92см","Менше 10","Сумки, переноски та посуд для подорожей з собаками",6868.2,8929,0,{"$f":"G1359*I1359","v":0}]
[null,1111117847,"39874*****","Переноска Trixie для собак Gulliver 7 до 50кг сіра L 73x75x104см","Менше 10","Сумки, переноски та посуд для подорожей з собаками",7902.84,10274,0,{"$f":"G1360*I1360","v":0}]
[null,1111146795,39736,"Переноска Trixie для собак Skudo 2 до 18кг коричнева XS-S 35x36x55см","Більше 10","Сумки, переноски та посуд для подорожей з собаками",1394.94,1813,0,{"$f":"G1361*I1361","v":0}]
[null,1111139278,39741,"Переноска Trixie для собак Skudo 3 до 24кг коричнева S 40x39x60см","Менше 10","Сумки, переноски та посуд для подорожей з собаками",1610.34,2093,0,{"$f":"G1362*I1362","v":0}]
[null,1111139281,39744,"Переноска Trixie для собак Skudo 6 до 40кг коричнева M-L 63x70x92см","Менше 10","Сумки, переноски та посуд для подорожей з собаками",6868.2,8929,0,{"$f":"G1363*I1363","v":0}]
[null,1111140885,"39745*****","Переноска Trixie для собак Skudo 7 до 45кг коричнева L 73x76x105см","Немає в наявності","Сумки, переноски та посуд для подорожей з собаками",7902.84,10274,0,{"$f":"G1364*I1364","v":0}]
[null,1111113709,39812,"Переноска Trixie для собак/котів Capri 1 до 6кг синя XS 32x31x48см","Більше 10","Сумки, переноски та посуд для подорожей з котами",702.6,913,0,{"$f":"G1365*I1365","v":0}]
[null,1111113710,39811,"Переноска Trixie для собак/котів Capri 1 до 6кг сіра XS 32x31x48см","Більше 10","Сумки, переноски та посуд для подорожей з котами",702.6,913,0,{"$f":"G1366*I1366","v":0}]
[null,1111113712,39821,"Переноска Trixie для собак/котів Capri 2 до 8кг сіра XS-S 37x34x55см","Більше 10","Сумки, переноски та посуд для подорожей з котами",1085.94,1412,0,{"$f":"G1367*I1367","v":0}]
[null,1111113717,39832,"Переноска Trixie для собак/котів Capri 3 до 12кг синя S 40x38x61см","Більше 10","Сумки, переноски та посуд для подорожей з котами",1409.04,1832,0,{"$f":"G1368*I1368","v":0}]
[null,1111132096,12216,"Перестібка Trixie Silver Reflect з лапками світловідбиваю L-XL 2м/25мм","Менше 10","Амуніція для собак",612.66,796,0,{"$f":"G1369*I1369","v":0}]
[null,1111183790,61650,"Підвісний міст Trixie для гризунів з ланцюгом 27х17х7см Арт61650","Більше 10","Обладнання для гризунів",297.95999999999998,387,0,{"$f":"G1370*I1370","v":0}]
[null,1111183782,51700,"Підвісний міст Trixie для птахів вербовий 61 х 8 см Арт51700","Менше 10","Обладнання для птахів",292.32,380,0,{"$f":"G1371*I1371","v":0}]
[null,1111183783,58842,"Підвісний міст Trixie для птахів на сизалі 45 см Арт58842","Менше 10","Обладнання для птахів",325.92,424,0,{"$f":"G1372*I1372","v":0}]
[null,1111183706,6298,"Підвісний міст Trixie для хом_яка гамак з іграшками 17х22х15см Арт6298","Менше 10","Обладнання для гризунів",411.24,535,0,{"$f":"G1373*I1373","v":0}]
[null,1111139272,23643,"Підгузки Trixie для кобелів поліестер розмір L-XL 60-80см 12шт","Більше 10","Пелюшки, підгузки для собак",391.62,509,0,{"$f":"G1374*I1374","v":0}]
[null,1111139271,23642,"Підгузки Trixie для кобелів поліестер розмір M-L 46-60см 12шт","Більше 100","Пелюшки, підгузки для собак",325.92,424,0,{"$f":"G1375*I1375","v":0}]
[null,1111139270,23641,"Підгузки Trixie для кобелів поліестер розмір S-M 30-46см 12шт","Більше 100","Пелюшки, підгузки для собак",260.16000000000003,338,0,{"$f":"G1376*I1376","v":0}]
[null,1111132142,23635,"Підгузки Trixie для собак поліестер розмір L 38-56см 12шт","Більше 10","Пелюшки, підгузки для собак",391.62,509,0,{"$f":"G1377*I1377","v":0}]
[null,1111132140,23633,"Підгузки Trixie для собак поліестер розмір M 32-48см 12шт","Більше 10","Пелюшки, підгузки для собак",292.32,380,0,{"$f":"G1378*I1378","v":0}]
[null,1111132141,23634,"Підгузки Trixie для собак поліестер розмір M-L 36-52см 12шт","Більше 10","Пелюшки, підгузки для собак",325.92,424,0,{"$f":"G1379*I1379","v":0}]
[null,1111132139,23632,"Підгузки Trixie для собак поліестер розмір S-M 28-40см 12шт","Більше 10","Пелюшки, підгузки для собак",260.16000000000003,338,0,{"$f":"G1380*I1380","v":0}]
[null,1111132143,23636,"Підгузки Trixie для собак поліестер розмір XL 40-58см 12шт","Більше 10","Пелюшки, підгузки для собак",457.38,595,0,{"$f":"G1381*I1381","v":0}]
[null,1111132138,23631,"Підгузки Trixie для собак поліестер розмір XS-S 20-28см 12шт","Більше 10","Пелюшки, підгузки для собак",226.62,295,0,{"$f":"G1382*I1382","v":0}]
[null,1111134466,2297,"Пінцет Trixie для видалення кліщів гачкоподібний пластиковий 6,5 см","Немає в наявності","Догляд та гігієна для собак",75.540000000000006,98,0,{"$f":"G1383*I1383","v":0}]
[null,1111120099,2386,"Пінцет Trixie для видалення кліщів металевий 8 см","Більше 100","Догляд та гігієна для собак",75.540000000000006,98,0,{"$f":"G1384*I1384","v":0}]
[null,1111137243,2623,"Пластини Trixie д/собак жувальні мікс натурaльна шкіра 12 см 100 шт/уп","Більше 10","Ласощі для собак",373.44,485,0,{"$f":"G1385*I1385","v":0}]
[null,1111185470,"62250*****","Платформа Trixie для гризунів з гвинтовим кріпленням 10х15см арт62250","Менше 10","Обладнання для гризунів",128.69999999999999,167,0,{"$f":"G1386*I1386","v":0}]
[null,1111127477,76070,"Плафон Trixie д/терар рефлекторний із захисною решіткою 14х17 см/100Вт","Менше 10","Обладнання для тераріума",1774.92,2307,0,{"$f":"G1387*I1387","v":0}]
[null,1111140972,37167,"Плед Trixie д/собак Kenny з лапками/кісточками бежевий плюш 100х150см","Менше 10","Спальні місця для собак",562.26,731,0,{"$f":"G1388*I1388","v":0}]
[null,1111140973,37168,"Плед Trixie для котів Mimi з мордочками плюш 70х50см","Менше 10","Спальні місця для котів",335.7,436,0,{"$f":"G1389*I1389","v":0}]
[null,1111139765,37164,"Плед Trixie для собак Cosy бежевий плюш 100х70см","Менше 10","Спальні місця для собак",751.08,976,0,{"$f":"G1390*I1390","v":0}]
[null,1111140971,37166,"Плед Trixie для собак Kenny з лапками/кісточками бежевий плюш 100х75см","Більше 10","Спальні місця для собак",373.44,485,0,{"$f":"G1391*I1391","v":0}]
[null,1111150300,37150,"Плед Trixie для собак Tammy з лапками блакитний/бежевий плюш 100х70см","Менше 10","Спальні місця для собак",486.78,633,0,{"$f":"G1392*I1392","v":0}]
[null,1111150628,200316,"Повідець Trixie д/собак Premium графіт неопрен/підкладка L-XL 1м/25мм","Більше 10","Амуніція для собак",458.76,596,0,{"$f":"G1393*I1393","v":0}]
[null,1111150618,200216,"Повідець Trixie д/собак Premium графіт неопрен/підкладка M-L 1м/20мм","Менше 10","Амуніція для собак",397.26,516,0,{"$f":"G1394*I1394","v":0}]
[null,1111150596,200016,"Повідець Trixie д/собак Premium графіт неопрен/підкладка XS 120cм/10мм","Менше 10","Амуніція для собак",243.36,316,0,{"$f":"G1395*I1395","v":0}]
[null,1111150605,"200113*****","Повідець Trixie д/собак Premium індіго неопрен/підклад XS-S 120cм/15мм","Менше 10","Амуніція для собак",288.85000000000002,358,0,{"$f":"G1396*I1396","v":0}]
[null,1111150616,"200214*****","Повідець Trixie д/собак Premium карамель неопрен/підкладка M-L 1м/20мм","Менше 10","Амуніція для собак",313.11,387,0,{"$f":"G1397*I1397","v":0}]
[null,1111150609,"200117*****","Повідець Trixie д/собак Premium салато неопрен/підклад XS-S 120см/15мм","Менше 10","Амуніція для собак",288.85000000000002,358,0,{"$f":"G1398*I1398","v":0}]
[null,1111165398,"203012*****","Повідець Trixie д/собак Premium синій неопрен/петля д/руки 180см/20мм","Менше 10","Амуніція для собак",385.91,476.59,0,{"$f":"G1399*I1399","v":0}]
[null,1111150603,200111,"Повідець Trixie д/собак Premium фуксія неопрен/підклад XS-S 120см/15мм","Менше 10","Амуніція для собак",335.7,436,0,{"$f":"G1400*I1400","v":0}]
[null,1111150613,200211,"Повідець Trixie д/собак Premium фуксія неопрен/підкладка M-L 1м/20мм","Менше 10","Амуніція для собак",397.26,516,0,{"$f":"G1401*I1401","v":0}]
[null,1111183714,17231,"Повідець Trixie для соб регульований L–XL 2мх13мм сіро-коричн Арт17231","Більше 10","Амуніція для собак",612.66,796,0,{"$f":"G1402*I1402","v":0}]
[null,1111150204,143401,"Повідець Trixie для собак Cavo чорний нейлон розмір S-М 1м/12мм","Менше 10","Амуніція для собак",243.36,316,0,{"$f":"G1403*I1403","v":0}]
[null,1111147481,"14113*****","Повідець Trixie для собак Classic червоний нейлон XS-S 120х180см/15мм","Менше 10","Амуніція для собак",80.88,100,0,{"$f":"G1404*I1404","v":0}]
[null,1111183719,"20727 Trixie","Повідець Trixie для собак M–L 10 м х 13 мм неоново-жовтий Арт20727","Менше 10","Амуніція для собак",983.28,1278,0,{"$f":"G1405*I1405","v":0}]
[null,1111183718,20725,"Повідець Trixie для собак M–L 5 м х 13 мм неоново-жовтий Арт20725","Менше 10","Амуніція для собак",555.29999999999995,722,0,{"$f":"G1406*I1406","v":0}]
[null,1111207676,200633,"Повідець Trixie для собак Premium регульований L-XL оливковий 2м/25мм","Більше 10","Амуніція для собак",0,0,0,{"$f":"G1407*I1407","v":0}]
[null,1111163578,"196703*****","Повідець Trixie для собак Premium червоний нейлон XS-S 3 м/15мм","Менше 10","Амуніція для собак",551.1,716,0,{"$f":"G1408*I1408","v":0}]
[null,1111183715,19761,"Повідець Trixie для собак S–M 10 м х 5 мм чорний Арт19761","Більше 10","Амуніція для собак",179.04,233,0,{"$f":"G1409*I1409","v":0}]
[null,1111183716,"19771*****","Повідець Trixie для собак S–M 15 м х 5 мм чорний Арт19771","Менше 10","Амуніція для собак",204.24,265,0,{"$f":"G1410*I1410","v":0}]
[null,1111115589,14021,"Повідець-ланцюг Trixie для собак з петлею для рук M–L чорний Арт14021","Більше 10","Амуніція для собак",335.7,436,0,{"$f":"G1411*I1411","v":0}]
[null,1111115591,"14031 Trixie","Повідець-ланцюг Trixie нейлоновою ручкою чорний розмір L-XL 1м/4мм","Менше 10","Амуніція для собак",411.24,535,0,{"$f":"G1412*I1412","v":0}]
[null,1111150650,200516,"Повідець-перестібка Trixie д/собак Premium нейлон графіт M-L 2м/20мм","Менше 10","Амуніція для собак",458.76,596,0,{"$f":"G1413*I1413","v":0}]
[null,1111150647,"200513*****","Повідець-перестібка Trixie д/собак Premium нейлон індіго M-L 2м/20мм","Менше 10","Амуніція для собак",361.64,447,0,{"$f":"G1414*I1414","v":0}]
[null,1111150637,"200414*****","Повідець-перестібка Trixie д/собак Premium нейлон карамел XS-S 2м/15мм","Менше 10","Амуніція для собак",288.85000000000002,358,0,{"$f":"G1415*I1415","v":0}]
[null,1111150653,"200519*****","Повідець-перестібка Trixie д/собак Premium нейлон оливкова M-L 2м/20мм","Менше 10","Амуніція для собак",361.64,447,0,{"$f":"G1416*I1416","v":0}]
[null,1111150645,200511,"Повідець-перестібка Trixie д/собак Premium нейлон фуксія M-L 2м/20мм","Менше 10","Амуніція для собак",458.76,596,0,{"$f":"G1417*I1417","v":0}]
[null,1111150634,200411,"Повідець-перестібка Trixie д/собак Premium нейлон фуксія XS-S 2м/15мм","Менше 10","Амуніція для собак",366.48,476,0,{"$f":"G1418*I1418","v":0}]
[null,1111150220,143601,"Повідець-перестібка Trixie для собак Cavo чорний нейлон L-XL 2м/18мм","Менше 10","Амуніція для собак",674.16,876,0,{"$f":"G1419*I1419","v":0}]
[null,1111150212,143501,"Повідець-перестібка Trixie для собак Cavo чорний нейлон S-M 2м/12мм","Менше 10","Амуніція для собак",397.26,516,0,{"$f":"G1420*I1420","v":0}]
[null,1111156037,201101,"Повідець-сворка Trixie для двох собак Premium нейлон XS-M 40-70см/15мм","Менше 10","Амуніція для собак",304.92,396,0,{"$f":"G1421*I1421","v":0}]
[null,1111185194,144228,"Повідок Trixie Cavo для соб L–XL 1 м аква-графіт арт144228","Менше 10","Амуніція для собак",428.04,556,0,{"$f":"G1422*I1422","v":0}]
[null,1111185195,144230,"Повідок Trixie Cavo для соб L–XL 1 м рижо-графітовий арт144230","Менше 10","Амуніція для собак",428.04,556,0,{"$f":"G1423*I1423","v":0}]
[null,1111185196,144235,"Повідок Trixie Cavo для соб L–XL 1 м рожево-пісочний арт144235","Менше 10","Амуніція для собак",428.04,556,0,{"$f":"G1424*I1424","v":0}]
[null,1111185170,143428,"Повідок Trixie Cavo для соб S–M 1м діаметр 12мм аква-графіт арт143428","Менше 10","Амуніція для собак",243.36,316,0,{"$f":"G1425*I1425","v":0}]
[null,1111185171,143430,"Повідок Trixie Cavo для соб S–M 1м діаметр 12мм рижий-графіт арт143430","Менше 10","Амуніція для собак",243.36,316,0,{"$f":"G1426*I1426","v":0}]
[null,1111185172,143435,"Повідок Trixie Cavo для соб S–M 1м діаметр 12мм рожев-пісочн арт143435","Менше 10","Амуніція для собак",243.36,316,0,{"$f":"G1427*I1427","v":0}]
[null,1111185178,143635,"Повідок Trixie Cavo для соб регульов L–XL 2 м рожев-пісоч арт143635","Менше 10","Амуніція для собак",674.16,876,0,{"$f":"G1428*I1428","v":0}]
[null,1111185177,143630,"Повідок Trixie Cavo для соб регульов L–XL 2м рижий-графіт арт143630","Менше 10","Амуніція для собак",674.16,876,0,{"$f":"G1429*I1429","v":0}]
[null,1111185175,143535,"Повідок Trixie Cavo для соб регульов S–M 2 мм рожев-пісочн арт143535","Менше 10","Амуніція для собак",397.26,516,0,{"$f":"G1430*I1430","v":0}]
[null,1111185176,143628,"Повідок Trixie Cavo для соб регульований L–XL 2м аква-графіт арт143628","Менше 10","Амуніція для собак",674.16,876,0,{"$f":"G1431*I1431","v":0}]
[null,1111185173,143528,"Повідок Trixie Cavo для соб регульований S–M 2м аква-графіт арт143528","Менше 10","Амуніція для собак",397.26,516,0,{"$f":"G1432*I1432","v":0}]
[null,1111185174,143530,"Повідок Trixie Cavo для соб регульований S–M 2м рижий-графіт арт143530","Менше 10","Амуніція для собак",397.26,516,0,{"$f":"G1433*I1433","v":0}]
[null,1111121051,"135901*****","Повідок Trixie Cavo світловідбив регульов чорн L–XL 2мх18мм арт135901","Більше 10","Амуніція для собак",555.29999999999995,722,0,{"$f":"G1434*I1434","v":0}]
[null,1111185231,1970316,"Повідок Trixie CityStyle V-Lead для соб M–L 2м зелений арт1970316","Менше 10","Амуніція для собак",1074.18,1396,0,{"$f":"G1435*I1435","v":0}]
[null,1111185478,1970319,"Повідок Trixie CityStyle V-Lead для соб M–L 2м світло-сірий арт1970319","Менше 10","Амуніція для собак",1074.18,1396,0,{"$f":"G1436*I1436","v":0}]
[null,1111185229,1970216,"Повідок Trixie CityStyle V-Lead для соб S–M 2м зелений арт1970216","Менше 10","Амуніція для собак",828,1076,0,{"$f":"G1437*I1437","v":0}]
[null,1111185477,1970219,"Повідок Trixie CityStyle V-Lead для соб S–M 2м світло-сірий арт1970219","Менше 10","Амуніція для собак",828,1076,0,{"$f":"G1438*I1438","v":0}]
[null,1111185230,1970301,"Повідок Trixie CityStyle V-Lead для соб бавовна M–L 2м чорн арт1970301","Менше 10","Амуніція для собак",1074.18,1396,0,{"$f":"G1439*I1439","v":0}]
[null,1111185228,1970201,"Повідок Trixie CityStyle V-Lead для соб бавовна S–M 2м чорн арт1970201","Менше 10","Амуніція для собак",828,1076,0,{"$f":"G1440*I1440","v":0}]
[null,1111185476,1970119,"Повідок Trixie CityStyle для соб M–L 1 м світло-сірий арт1970119","Менше 10","Амуніція для собак",612.66,796,0,{"$f":"G1441*I1441","v":0}]
[null,1111185224,1970001,"Повідок Trixie CityStyle для соб S–M 1,2 м 13 мм чорний арт1970001","Менше 10","Амуніція для собак",551.1,716,0,{"$f":"G1442*I1442","v":0}]
[null,1111185475,1970019,"Повідок Trixie CityStyle для соб S–M 1,2 м світло-сірий арт1970019","Менше 10","Амуніція для собак",551.1,716,0,{"$f":"G1443*I1443","v":0}]
[null,1111185225,1970016,"Повідок Trixie CityStyle для соб S–M 1,2м світло-зелений арт1970016","Більше 10","Амуніція для собак",551.1,716,0,{"$f":"G1444*I1444","v":0}]
[null,1111185226,1970101,"Повідок Trixie CityStyle для соб бавовна M–L 1 м 20мм чорн арт1970101","Менше 10","Амуніція для собак",612.66,796,0,{"$f":"G1445*I1445","v":0}]
[null,1111185227,1970116,"Повідок Trixie CityStyle для соб бавовна M–L 1м 20мм зелен арт1970116","Менше 10","Амуніція для собак",612.66,796,0,{"$f":"G1446*I1446","v":0}]
[null,1111185320,200333,"Повідок Trixie Premium для соб L–XL 1 м 25 мм оливк-зелений арт200333","Менше 10","Амуніція для собак",458.76,596,0,{"$f":"G1447*I1447","v":0}]
[null,1111185319,200332,"Повідок Trixie Premium для соб L–XL 1 м 25 мм синьо-зелений арт200332","Менше 10","Амуніція для собак",458.76,596,0,{"$f":"G1448*I1448","v":0}]
[null,1111185316,200233,"Повідок Trixie Premium для соб M–L 1 м 20 мм оливк-зелений арт200233","Менше 10","Амуніція для собак",397.26,516,0,{"$f":"G1449*I1449","v":0}]
[null,1111185308,200033,"Повідок Trixie Premium для соб XS 1,2 м 10 мм оливк-зелений арт200033","Менше 10","Амуніція для собак",243.36,316,0,{"$f":"G1450*I1450","v":0}]
[null,1111185307,200032,"Повідок Trixie Premium для соб XS 1,2 м 10 мм синьо-зелений арт200032","Менше 10","Амуніція для собак",243.36,316,0,{"$f":"G1451*I1451","v":0}]
[null,1111185312,200133,"Повідок Trixie Premium для соб XS–S 1,2 м 15 мм оливк-зелен арт200133","Менше 10","Амуніція для собак",335.7,436,0,{"$f":"G1452*I1452","v":0}]
[null,1111185311,200132,"Повідок Trixie Premium для соб XS–S 1,2 м 15 мм синьо-зелен арт200132","Менше 10","Амуніція для собак",335.7,436,0,{"$f":"G1453*I1453","v":0}]
[null,1111185376,203032,"Повідок Trixie Premium для соб екстрадовг M–L 1,8м син-зелен арт203032","Менше 10","Амуніція для собак",520.32000000000005,676,0,{"$f":"G1454*I1454","v":0}]
[null,1111185339,"200931*****","Повідок Trixie Premium для соб регул двошар L–XL 2м бордовий арт200931","Менше 10","Амуніція для собак",766.5,996,0,{"$f":"G1455*I1455","v":0}]
[null,1111185340,200934,"Повідок Trixie Premium для соб регул двошар L–XL 2м зелений арт200934","Менше 10","Амуніція для собак",766.5,996,0,{"$f":"G1456*I1456","v":0}]
[null,1111185341,200936,"Повідок Trixie Premium для соб регул двошар L–XL 2м пісочний арт200936","Менше 10","Амуніція для собак",766.5,996,0,{"$f":"G1457*I1457","v":0}]
[null,1111185336,200831,"Повідок Trixie Premium для соб регул двошар M–L 2 м бордовий арт200831","Менше 10","Амуніція для собак",612.66,796,0,{"$f":"G1458*I1458","v":0}]
[null,1111185338,200836,"Повідок Trixie Premium для соб регул двошар M–L 2 м пісочний арт200836","Менше 10","Амуніція для собак",612.66,796,0,{"$f":"G1459*I1459","v":0}]
[null,1111185337,200834,"Повідок Trixie Premium для соб регул двошар M–L 2м зелений арт200834","Менше 10","Амуніція для собак",612.66,796,0,{"$f":"G1460*I1460","v":0}]
[null,1111185342,201031,"Повідок Trixie Premium для соб регул двошар XS 2 м бордовий арт201031","Менше 10","Амуніція для собак",397.26,516,0,{"$f":"G1461*I1461","v":0}]
[null,1111185344,"201036*****","Повідок Trixie Premium для соб регул двошар XS 2 м пісочний арт201036","Менше 10","Амуніція для собак",397.26,516,0,{"$f":"G1462*I1462","v":0}]
[null,1111185335,200736,"Повідок Trixie Premium для соб регул двошар XS–S 2 м пісочн арт200736","Менше 10","Амуніція для собак",551.1,716,0,{"$f":"G1463*I1463","v":0}]
[null,1111185329,200628,"Повідок Trixie Premium для соб регульов L–XL 2 м аква арт200628","Менше 10","Амуніція для собак",551.1,716,0,{"$f":"G1464*I1464","v":0}]
[null,1111185330,200629,"Повідок Trixie Premium для соб регульов L–XL 2 м оранжевий арт200629","Менше 10","Амуніція для собак",551.1,716,0,{"$f":"G1465*I1465","v":0}]
[null,1111185331,200632,"Повідок Trixie Premium для соб регульов L–XL 2 м синьо-зелен арт200632","Менше 10","Амуніція для собак",551.1,716,0,{"$f":"G1466*I1466","v":0}]
[null,1111185332,200635,"Повідок Trixie Premium для соб регульов L–XL 2м світло-рожев арт200635","Менше 10","Амуніція для собак",551.1,716,0,{"$f":"G1467*I1467","v":0}]
[null,1111185325,200528,"Повідок Trixie Premium для соб регульов M–L 2 м аква арт200528","Менше 10","Амуніція для собак",458.76,596,0,{"$f":"G1468*I1468","v":0}]
[null,1111185326,200529,"Повідок Trixie Premium для соб регульов M–L 2 м оранжевий арт200529","Менше 10","Амуніція для собак",458.76,596,0,{"$f":"G1469*I1469","v":0}]
[null,1111185328,200535,"Повідок Trixie Premium для соб регульов M–L 2 м світло-рожев арт200535","Менше 10","Амуніція для собак",458.76,596,0,{"$f":"G1470*I1470","v":0}]
[null,1111185327,200532,"Повідок Trixie Premium для соб регульов M–L 2 м синьо-зелен арт200532","Менше 10","Амуніція для собак",458.76,596,0,{"$f":"G1471*I1471","v":0}]
[null,1111185347,201335,"Повідок Trixie Premium для соб регульов XS 2м світло-рожевий арт201335","Менше 10","Амуніція для собак",335.7,436,0,{"$f":"G1472*I1472","v":0}]
[null,1111185346,201332,"Повідок Trixie Premium для соб регульов XS 2м синьо-зелений арт201332","Менше 10","Амуніція для собак",335.7,436,0,{"$f":"G1473*I1473","v":0}]
[null,1111185321,200428,"Повідок Trixie Premium для соб регульов XS–S 2 м аква арт200428","Менше 10","Амуніція для собак",366.48,476,0,{"$f":"G1474*I1474","v":0}]
[null,1111185322,200429,"Повідок Trixie Premium для соб регульов XS–S 2 м оранжевий арт200429","Менше 10","Амуніція для собак",366.48,476,0,{"$f":"G1475*I1475","v":0}]
[null,1111185323,200432,"Повідок Trixie Premium для соб регульов XS–S 2 м синьо-зелен арт200432","Менше 10","Амуніція для собак",366.48,476,0,{"$f":"G1476*I1476","v":0}]
[null,1111185324,200435,"Повідок Trixie Premium для соб регульов XS–S 2м світло-рожев арт200435","Менше 10","Амуніція для собак",366.48,476,0,{"$f":"G1477*I1477","v":0}]
[null,1111185343,201034,"Повідок Trixie Premium для соб регульов двошар XS 2м зелений арт201034","Менше 10","Амуніція для собак",397.26,516,0,{"$f":"G1478*I1478","v":0}]
[null,1111185333,200731,"Повідок Trixie Premium для соб регульов двошар XS–S 2м бордо арт200731","Менше 10","Амуніція для собак",551.1,716,0,{"$f":"G1479*I1479","v":0}]
[null,1111185334,200734,"Повідок Trixie Premium для соб регульов двошар XS–S 2м зелен арт200734","Менше 10","Амуніція для собак",551.1,716,0,{"$f":"G1480*I1480","v":0}]
[null,1111185345,201328,"Повідок Trixie Premium для соб регульований XS 2м 10 мм аква арт201328","Менше 10","Амуніція для собак",335.7,436,0,{"$f":"G1481*I1481","v":0}]
[null,1111185317,200328,"Повідок Trixie Premium для собак L–XL 1 м 25 мм аква арт200328","Менше 10","Амуніція для собак",458.76,596,0,{"$f":"G1482*I1482","v":0}]
[null,1111185318,200330,"Повідок Trixie Premium для собак L–XL 1 м 25 мм рижий арт200330","Менше 10","Амуніція для собак",458.76,596,0,{"$f":"G1483*I1483","v":0}]
[null,1111185313,200228,"Повідок Trixie Premium для собак M–L 1 м 20 мм аква арт200228","Менше 10","Амуніція для собак",397.26,516,0,{"$f":"G1484*I1484","v":0}]
[null,1111185314,200230,"Повідок Trixie Premium для собак M–L 1 м 20 мм рижий арт200230","Менше 10","Амуніція для собак",397.26,516,0,{"$f":"G1485*I1485","v":0}]
[null,1111185315,200232,"Повідок Trixie Premium для собак M–L 1 м 20 мм синьо-зелений арт200232","Менше 10","Амуніція для собак",397.26,516,0,{"$f":"G1486*I1486","v":0}]
[null,1111185305,200028,"Повідок Trixie Premium для собак XS 1,2 м 10 мм аква арт200028","Менше 10","Амуніція для собак",243.36,316,0,{"$f":"G1487*I1487","v":0}]
[null,1111185306,200030,"Повідок Trixie Premium для собак XS 1,2 м 10 мм рижий арт200030","Менше 10","Амуніція для собак",243.36,316,0,{"$f":"G1488*I1488","v":0}]
[null,1111185309,200128,"Повідок Trixie Premium для собак XS–S 1,2 м 15 мм аква арт200128","Менше 10","Амуніція для собак",335.7,436,0,{"$f":"G1489*I1489","v":0}]
[null,1111185310,200130,"Повідок Trixie Premium для собак XS–S 1,2 м 15 мм рижий арт200130","Менше 10","Амуніція для собак",335.7,436,0,{"$f":"G1490*I1490","v":0}]
[null,1111185253,198060,"Повідок Trixie Tracking lead для соб XS–S 5 м 10 мм рижий арт198060","Менше 10","Амуніція для собак",151.08000000000001,196,0,{"$f":"G1491*I1491","v":0}]
[null,1111150222,143611,"Повідок Trixie Каво регульований L–XL 2 мх18мм фуксія-графіт Арт143611","Більше 10","Амуніція для собак",674.16,876,0,{"$f":"G1492*I1492","v":0}]
[null,1111183800,143620,"Повідок Trixie Каво регульований L–XL 2мх18мм чорний-графіт Арт143620","Більше 10","Амуніція для собак",674.16,876,0,{"$f":"G1493*I1493","v":0}]
[null,1111150213,143503,"Повідок Trixie Каво регульований S–M 2,00 м х 12 мм червоний Арт143503","Менше 10","Амуніція для собак",397.26,516,0,{"$f":"G1494*I1494","v":0}]
[null,1111207884,24153,"ПОГНУТІ ЗУБЦІ Щітка Trixie  для котів  двухстороння нейлонові і дротян","Менше 10","Догляд та гігієна для собак",194.04,0,0,{"$f":"G1495*I1495","v":0}]
[null,1111201726,"4008_1шт","ПОДРЯПИНИ Миска Trixie для котів керамічна 200 мл d-11,5 см","Менше 10","Миски для котів",55.02,0,0,{"$f":"G1496*I1496","v":0}]
[null,1111196612,24495,"ПОДРЯПИНИ Миска Trixie для котів короткомордих порід овальна керамічна","Менше 10","Миски для котів",69.900000000000006,0,0,{"$f":"G1497*I1497","v":0}]
[null,1111168084,"38951*****","Подушка Trixie Kaline для собак овальна сіра/кремова текстиль 44х31 см","Менше 10","Спальні місця для собак",486.78,633,0,{"$f":"G1498*I1498","v":0}]
[null,1111112060,60445,"Поїлка Trixie HoneyHopper для гризунів автоматична скляна 125 мл","Більше 10","Обладнання для гризунів",226.62,295,0,{"$f":"G1499*I1499","v":0}]
[null,1111114040,"60446  Trixie","Поїлка Trixie HoneyHopper для гризунів автоматична скляна 250 мл","Більше 10","Обладнання для гризунів",260.16000000000003,338,0,{"$f":"G1500*I1500","v":0}]
[null,311982,60447,"Поїлка Trixie HoneyHopper для гризунів автоматична скляна 500 мл","Більше 10","Обладнання для гризунів",292.32,380,0,{"$f":"G1501*I1501","v":0}]
[null,546,"60571_1шт","Поїлка Trixie для гризунів автоматична гвинт/кріплення пластик 125мл","Більше 100","Обладнання для гризунів",89.52,116,0,{"$f":"G1502*I1502","v":0}]
[null,1111122421,"60573_1шт Trixie","Поїлка Trixie для гризунів автоматична гвинт/кріплення пластик 500мл","Більше 10","Обладнання для гризунів",151.08000000000001,196,0,{"$f":"G1503*I1503","v":0}]
[null,6934,"6052_1шт","Поїлка Trixie для гризунів автоматична пластикова 100мл","Більше 100","Обладнання для гризунів",60.18,78,0,{"$f":"G1504*I1504","v":0}]
[null,5976,"6053_1шт","Поїлка Trixie для гризунів автоматична пластикова 250мл","Більше 100","Обладнання для гризунів",75.540000000000006,98,0,{"$f":"G1505*I1505","v":0}]
[null,5975,"6054_1шт","Поїлка Trixie для гризунів автоматична пластикова 450мл","Більше 10","Обладнання для гризунів",82.56,107,0,{"$f":"G1506*I1506","v":0}]
[null,6928,"6051_1шт","Поїлка Trixie для гризунів автоматична пластикова 50мл","Більше 100","Обладнання для гризунів",60.18,78,0,{"$f":"G1507*I1507","v":0}]
[null,12131,"6050_1шт","Поїлка Trixie для гризунів автоматична пластикова 600мл","Більше 100","Обладнання для гризунів",100.74,131,0,{"$f":"G1508*I1508","v":0}]
[null,1111118317,6070,"Поїлка Trixie для гризунів з кріпленням-гачком/присоскою скляна 50мл","Більше 10","Обладнання для гризунів",134.28,175,0,{"$f":"G1509*I1509","v":0}]
[null,1111137672,60441,"Поїлка Trixie для гризунів скляна 125мл","Більше 10","Обладнання для гризунів",226.62,295,0,{"$f":"G1510*I1510","v":0}]
[null,1111137673,60442,"Поїлка Trixie для гризунів скляна 250мл","Менше 10","Обладнання для гризунів",260.16000000000003,338,0,{"$f":"G1511*I1511","v":0}]
[null,1111116147,6065,"Поїлка Trixie для кроликів автоматична пластикова 450мл","Більше 10","Обладнання для гризунів",88.14,115,0,{"$f":"G1512*I1512","v":0}]
[null,1111118498,5420,"Поїлка Trixie для птахів пластикова 130 мл","Більше 10","Обладнання для птахів",72.78,95,0,{"$f":"G1513*I1513","v":0}]
[null,6926,5410,"Поїлка Trixie для птахів пластикова 50 мл","Більше 10","Обладнання для птахів",50.4,65,0,{"$f":"G1514*I1514","v":0}]
[null,1111121138,2462,"Поїлка Trixie для собак для подорожей пластикова 250 мл","Більше 100","Сумки, переноски та посуд для подорожей з собаками",120.3,156,0,{"$f":"G1515*I1515","v":0}]
[null,13727,2461,"Поїлка Trixie для собак для подорожей пластикова 500 мл","Більше 100","Сумки, переноски та посуд для подорожей з собаками",151.08000000000001,196,0,{"$f":"G1516*I1516","v":0}]
[null,1111124228,2459,"Поїлка Trixie для собак для подорожей пластикова 700 мл","Більше 100","Сумки, переноски та посуд для подорожей з собаками",181.86,236,0,{"$f":"G1517*I1517","v":0}]
[null,1111161156,24609,"Поїлка Trixie для собак з мискою біла/блакитна пластик 550 мл","Більше 100","Сумки, переноски та посуд для подорожей з собаками",212.64,276,0,{"$f":"G1518*I1518","v":0}]
[null,1111119529,5445,"Поїлка-годівниця Trixie для птахів пластикова 200 мл","Більше 10","Обладнання для птахів",120.3,156,0,{"$f":"G1519*I1519","v":0}]
[null,1111114679,5415,"Поїлка-годівниця Trixie птахів пластик 65 мл","Більше 10","Обладнання для птахів",61.56,80,0,{"$f":"G1520*I1520","v":0}]
[null,1111114682,5425,"Поїлка-годівниця Trixie птахів пластик 90 мл","Більше 10","Обладнання для птахів",61.56,80,0,{"$f":"G1521*I1521","v":0}]
[null,1111170421,24444,"Поїлка-фонтан Trixie CurvedStream д/соб біла пластик 2,5л 25х24,5х35см","Менше 10","Поїлки автоматичні для котів",1657.44,2155,0,{"$f":"G1522*I1522","v":0}]
[null,1111170423,24446,"Поїлка-фонтан Trixie Flower д/котів біл/сір пластик 2л 18,5х13х18,5см","Більше 10","Поїлки автоматичні для котів",1128.72,1467,0,{"$f":"G1523*I1523","v":0}]
[null,1111200208,76134,"ПОРВ. ПАК. Тераріумний субстрат Trixie пісок д/тераріуму 5кг пісочний","Менше 10","Наповнювачі та субстрати для тераріума",122.1,0,0,{"$f":"G1524*I1524","v":0}]
[null,1111199765,24870,"ПОРВ. РЕЗИНКА Миска Trixie для котів на гумовій основі з рибками нержа","Менше 10","Миски для котів",27.84,0,0,{"$f":"G1525*I1525","v":0}]
[null,1111200999,24499,"ПОРВ. УП. Миска Trixie д/котів біла чорн/котик керам 250мл d-13см","Менше 10","Миски для котів",72.06,0,0,{"$f":"G1526*I1526","v":0}]
[null,1111205990,24855,"ПОРВ.РЕЗИНКА.Миска Trixie для собак на гумовій кромці металева 2,7 л/3","Менше 10","Миски та годівниці для собак",126.42,0,0,{"$f":"G1527*I1527","v":0}]
[null,1111205875,35930,"ПОРВАНА ПО ШВУ Іграшка Trixie д/соб Собака кудлата пискавка плюш 30см","Менше 10","Іграшки для собак",119.04,0,0,{"$f":"G1528*I1528","v":0}]
[null,1111204690,32022,"ПОШК.ПАК Іграшка Trixie Dog Activity д/собак Chess пластик 40х10х27см","Менше 10","Іграшки для собак",329.46,0,0,{"$f":"G1529*I1529","v":0}]
[null,1111205284,25022,"ПОШКОДЖЕННЯ Миска Trixie для собак керамічна чорна 1,6 л 20 см","Менше 10","Миски та годівниці для собак",179.16,0,0,{"$f":"G1530*I1530","v":0}]
[null,1111157199,19407,"Пояс Trixie для собак підтримуючий неопреновий чорний L 65–75 см","Менше 10","Амуніція для собак",335.7,436,0,{"$f":"G1531*I1531","v":0}]
[null,1111163636,19406,"Пояс Trixie для собак підтримуючий неопреновий чорний M 55–65 см","Менше 10","Амуніція для собак",304.92,396,0,{"$f":"G1532*I1532","v":0}]
[null,1111133846,"1292*****","Пояс-шлея Trixie для собак в авто L 70–90 см на 25 мм чорний Арт1292","Більше 10","Сумки, переноски та посуд для подорожей з собаками",458.76,596,0,{"$f":"G1533*I1533","v":0}]
[null,1111133845,"1291*****","Пояс-шлея Trixie для собак в авто M 50–70 см на 25 мм чорний Арт1291","Більше 10","Сумки, переноски та посуд для подорожей з собаками",428.04,556,0,{"$f":"G1534*I1534","v":0}]
[null,1111133844,"1290*****","Пояс-шлея Trixie для собак в авто S 30–60 см на 20 мм чорний Арт1290","Більше 10","Сумки, переноски та посуд для подорожей з собаками",335.7,436,0,{"$f":"G1535*I1535","v":0}]
[null,1111183708,12767,"Пояс-шлея Trixie для собак пояс 70–130смх9см шлея 1,20–1,50см Арт12767","Менше 10","Амуніція для собак",818.22,1064,0,{"$f":"G1536*I1536","v":0}]
[null,4223,2353,"Пуходерка Trixie д/гризун м_яка дерев/хром з додатк гребінцем 6х13 см","Більше 100","Догляд та гігієна для гризунів",120.3,156,0,{"$f":"G1537*I1537","v":0}]
[null,1111117633,6288,"Пуходерка Trixie д/гризун м_яка пластик з додатковим гребінцем 7х13 см","Більше 10","Догляд та гігієна для гризунів",120.3,156,0,{"$f":"G1538*I1538","v":0}]
[null,12276,2306,"Пуходерка Trixie д/соб м_яка двостороння зі щіткою пластикова 10х17см","Більше 100","Догляд та гігієна для собак",151.08000000000001,196,0,{"$f":"G1539*I1539","v":0}]
[null,6194,2356,"Пуходерка Trixie д/соб м_яка дерев/хром з додатковим гребінцем 11х14см","Більше 10","Догляд та гігієна для собак",181.86,236,0,{"$f":"G1540*I1540","v":0}]
[null,1111145745,23125,"Пуходерка Trixie для котів пластикова 7х16 см","Більше 10","Догляд та гігієна для котів",325.92,424,0,{"$f":"G1541*I1541","v":0}]
[null,9745,2305,"Пуходерка Trixie для собак двостороння зі щіткою дерев_яна 10х18 см","Більше 100","Догляд та гігієна для собак",151.08000000000001,196,0,{"$f":"G1542*I1542","v":0}]
[null,5083,2300,"Пуходерка Trixie для собак дерев_яна 10х18 см","Більше 100","Догляд та гігієна для собак",134.28,175,0,{"$f":"G1543*I1543","v":0}]
[null,1111201730,45617,"РОЗІРВАНА ІГР.НА 0,5 СМ .Іграшка Trixie для котів Паличка з плюшевою з","Менше 10","Іграшки для котів",65.28,0,0,{"$f":"G1544*I1544","v":0}]
[null,4701,2335,"Рукавичка Trixie для вичісування шерсті гумова 14х25 см","Більше 10","Догляд та гігієна для собак",134.28,175,0,{"$f":"G1545*I1545","v":0}]
[null,1111150257,23393,"Рукавичка Trixie для вичісування шерсті гумова/тканинна 16х24 см","Більше 100","Догляд та гігієна для собак",151.08000000000001,196,0,{"$f":"G1546*I1546","v":0}]
[null,1111134531,23391,"Рукавичка Trixie для вичісування шерсті гумова/тканинна 18х24 см","Більше 10","Догляд та гігієна для собак",134.28,175,0,{"$f":"G1547*I1547","v":0}]
[null,1111135345,23392,"Рукавичка Trixie масажна д/шерсті з метал зубчик гума/тканина 18х24 см","Більше 10","Догляд та гігієна для собак",243.36,316,0,{"$f":"G1548*I1548","v":0}]
[null,1111183908,"31510_5шт*****","Рулька з куркою для собак 150 гр","Більше 10",null,902.16,1173,0,{"$f":"G1549*I1549","v":0}]
[null,1111114716,2882,"Рюкзак-переноска Trixie Connor д/соб нейлон чорн/сір до 8кг 42х29х21см","Менше 10","Сумки, переноски та посуд для подорожей з собаками",1009.86,1313,0,{"$f":"G1550*I1550","v":0}]
[null,1111125950,28941,"Рюкзак-переноска Trixie Savina д/соб поліес чорн/сір до10кг 30х33х26см","Менше 10","Сумки, переноски та посуд для подорожей з собаками",1663.02,2162,0,{"$f":"G1551*I1551","v":0}]
[null,1111122532,28871,"Рюкзак-переноска Trixie Shiva д/соб поліес коричн до 8 кг 41х30х21 см","Менше 10","Сумки, переноски та посуд для подорожей з собаками",1663.02,2162,0,{"$f":"G1552*I1552","v":0}]
[null,1111183743,28840,"Рюкзак-переноска Trixie Ава 32 х 42 х 20 см сірий Арт28840","Менше 10","Сумки, переноски та посуд для подорожей з собаками",1415.46,1840,0,{"$f":"G1553*I1553","v":0}]
[null,1111119352,2254,"Свисток Trixie Buffalo д/тренув собак зі шкіряним шнурком пластик 6 см","Менше 10","Амуніція для собак",274.14,356,0,{"$f":"G1554*I1554","v":0}]
[null,1111119353,2255,"Свисток Trixie Buffalo д/тренув собак зі шкіряним шнурком пластик 9 см","Менше 10","Амуніція для собак",304.92,396,0,{"$f":"G1555*I1555","v":0}]
[null,5569,2258,"Свисток Trixie для тренування собак ультразвуковий металевий 5 см","Більше 10","Амуніція для собак",120.3,156,0,{"$f":"G1556*I1556","v":0}]
[null,1111114755,2257,"Свисток Trixie для тренування собак ультразвуковий металевий 8 см","Менше 10","Амуніція для собак",134.28,175,0,{"$f":"G1557*I1557","v":0}]
[null,1111121025,2940,"Серветки Trixie д/очищен універсальні з алое пластикова банка 30 шт/уп","Більше 100","Догляд та гігієна для собак",198.66,258,0,{"$f":"G1558*I1558","v":0}]
[null,1111146936,29415,"Серветки Trixie для очищення очей пластикова банка 30 шт/уп","Більше 10","Догляд та гігієна для собак",198.66,258,0,{"$f":"G1559*I1559","v":0}]
[null,1111195233,24414,"СКОЛ Миска Trixie Food керамічна для собак 0,6 л діаметр 15 см біло-чо","Менше 10","Миски та годівниці для собак",97.74,0,0,{"$f":"G1560*I1560","v":0}]
[null,1111208456,"24302*****","СКОЛ Миска Trixie для собак Be Nordic синя/бежева керамічна 800 мл 25","Менше 10","Миски та годівниці для собак",388.26,0,0,{"$f":"G1561*I1561","v":0}]
[null,1111199640,25126,"СКОЛ Миска Trixie для цуценят Junior керамічна 300мл 12см","Менше 10","Миски та годівниці для собак",67.260000000000005,0,0,{"$f":"G1562*I1562","v":0}]
[null,1111208221,24533,"СКОЛ НА ДНІ Миска Trixie д/котів з лапками коричнева керам 20см 1,4л","Менше 10","Миски та годівниці для собак",194.22,0,0,{"$f":"G1563*I1563","v":0}]
[null,1111207192,25126,"СКОЛ НА ДНІ Миска Trixie для цуценят Junior керамічна 300мл 12см","Менше 10","Миски та годівниці для собак",73.92,0,0,{"$f":"G1564*I1564","v":0}]
[null,9236,6030,"Спрей Trixie BIOLiberator для птахів від зовнішніх паразитів 100мл","Менше 10","Ветпрепарати для птахів",303.54000000000002,395,0,{"$f":"G1565*I1565","v":0}]
[null,1111132058,2932,"Спрей Trixie д/собак догляд за шерстю від колтунів масло жожоба 175мл","Більше 10","Догляд та гігієна для собак",144.06,187,0,{"$f":"G1566*I1566","v":0}]
[null,11120,4238,"Спрей Trixie для котів для притягування Валеріана 150 мл","Більше 10","Корекція поведінки для котів",134.28,175,0,{"$f":"G1567*I1567","v":0}]
[null,1111129085,4241,"Спрей Trixie для котів для притягування Котяча м_ята спрей 50 мл","Більше 100","Корекція поведінки для котів",95.16,124,0,{"$f":"G1568*I1568","v":0}]
[null,1111132059,2572,"Спрей Trixie для котів та собак для подушечок лап захисний 50мл","Більше 100","Догляд та гігієна для собак",120.3,156,0,{"$f":"G1569*I1569","v":0}]
[null,8164,2548,"Спрей Trixie для собак для догляду за ротовою порожниною 50мл","Більше 100","Догляд та гігієна для собак",128.69999999999999,167,0,{"$f":"G1570*I1570","v":0}]
[null,12201,2930,"Спрей Trixie для собак для догляду за шерстю від колтунів 175мл","Більше 100","Догляд та гігієна для собак",128.69999999999999,167,0,{"$f":"G1571*I1571","v":0}]
[null,1111138452,42421,"Спрей Trixie з валеріаною 175мл","Менше 10","Корекція поведінки для котів",160.86000000000001,209,0,{"$f":"G1572*I1572","v":0}]
[null,9926,2931,"Спрей Trixie Не Гризи для собак 175мл","Менше 10","Корекція поведінки для собак",198.66,258,0,{"$f":"G1573*I1573","v":0}]
[null,1111137874,44000,"Стовпчик Trixie для котів запасний для дряпки із сизалю 11х30см","Менше 10","Дряпки для котів",482.58,627,0,{"$f":"G1574*I1574","v":0}]
[null,1111119422,44003,"Стовпчик Trixie для котів запасний для дряпки із сизалю 11х60см","Менше 10","Дряпки для котів",888.18,1155,0,{"$f":"G1575*I1575","v":0}]
[null,1111120814,43991,"Стовпчик Trixie для котів запасний для дряпки із сизалю 9х40см","Менше 10","Дряпки для котів",401.46,522,0,{"$f":"G1576*I1576","v":0}]
[null,1111120269,43992,"Стовпчик Trixie для котів запасний для дряпки із сизалю 9х50см","Більше 10","Дряпки для котів",482.58,627,0,{"$f":"G1577*I1577","v":0}]
[null,1111120481,43993,"Стовпчик Trixie для котів запасний для дряпки із сизалю 9х60см","Менше 10","Дряпки для котів",563.70000000000005,733,0,{"$f":"G1578*I1578","v":0}]
[null,1111120631,43994,"Стовпчик Trixie для котів запасний для дряпки із сизалю 9х70см","Менше 10","Дряпки для котів",685.38,891,0,{"$f":"G1579*I1579","v":0}]
[null,1111122838,3227,"Сумка Trixie Baggy Snack для собак для дресирування нейлон 10x14см","Менше 10","Сумки, переноски та посуд для подорожей з собаками",151.08000000000001,196,0,{"$f":"G1580*I1580","v":0}]
[null,1111185430,32293,"Сумка Trixie BE NORDIC для ласощів діаметр 10х14 см пісочна арт32293","Більше 10","Сумки, переноски та посуд для подорожей з собаками",194.46,253,0,{"$f":"G1581*I1581","v":0}]
[null,1111183721,22852,"Сумка для пакетів Trixie для собак неопрен 1 шт на 20 пакетів Арт22852","Більше 10","Туалети для собак",151.08000000000001,196,0,{"$f":"G1582*I1582","v":0}]
[null,1111183751,36244,"Сумка-переноска Trixie Аміна 18 х 29 х 37 см чорна Арт36244","Менше 10","Сумки, переноски та посуд для подорожей з собаками",1415.46,1840,0,{"$f":"G1583*I1583","v":0}]
[null,1111132249,36231,"Сумка-переноска Trixie Вікторія 26 х 29 х 50 см темно-синя","Менше 10","Сумки, переноски та посуд для подорожей з собаками",1212.6600000000001,1576,0,{"$f":"G1584*I1584","v":0}]
[null,1111122195,2889,"Сумка-переноска Trixie д/собак Adrina до 7кг поліест чорна 26x27x42см","Більше 10","Сумки, переноски та посуд для подорожей з собаками",1009.86,1313,0,{"$f":"G1585*I1585","v":0}]
[null,1111143314,36253,"Сумка-переноска Trixie д/собак Helen до 10кг бав/шкір сіра 19x28x40см","Більше 10","Сумки, переноски та посуд для подорожей з собаками",2717.58,3533,0,{"$f":"G1586*I1586","v":0}]
[null,1111170494,36217,"Сумка-переноска Trixie д/собак Riva до 7кг поліестер срібна 26x30x45см","Менше 10","Сумки, переноски та посуд для подорожей з собаками",1212.6600000000001,1576,0,{"$f":"G1587*I1587","v":0}]
[null,1111116805,36211,"Сумка-переноска Trixie д/собак Riva до 7кг поліестер чорна 26x30x45см","Менше 10","Сумки, переноски та посуд для подорожей з собаками",1212.6600000000001,1576,0,{"$f":"G1588*I1588","v":0}]
[null,1111115569,"28841 Trixie","Сумка-переноска Trixie д/собак Ryan до 6кг поліестер чорна 26x27x47см","Менше 10","Сумки, переноски та посуд для подорожей з собаками",1009.86,1313,0,{"$f":"G1589*I1589","v":0}]
[null,1111138483,36247,"Сумка-переноска Trixie для котів Elisa з поліестеру біла 20x26x41см","Менше 10","Сумки, переноски та посуд для подорожей з собаками",1212.6600000000001,1576,0,{"$f":"G1590*I1590","v":0}]
[null,1111134485,"28903*****","Сумка-переноска Trixie для собак Maxima до 8 кг кремова 33x32x54см","Менше 10","Сумки, переноски та посуд для подорожей з собаками",4214.16,5478,0,{"$f":"G1591*I1591","v":0}]
[null,1111118183,39703,"Сумка-переноска Trixie для собак Tcamp з поліестеру синя S 50x50x60см","Менше 10","Сумки, переноски та посуд для подорожей з собаками",1902.18,2473,0,{"$f":"G1592*I1592","v":0}]
[null,1111119364,28851,"Сумка-переноска Trixie Раян 30 х 30 х 54 см чорна Арт28851","Менше 10","Сумки, переноски та посуд для подорожей з собаками",1090.98,1418,0,{"$f":"G1593*I1593","v":0}]
[null,1111123137,2880,"Сумка-рюкзак Trixie д/собак Trolley до 8кг поліест чорн/сір 32х45х25см","Менше 10","Сумки, переноски та посуд для подорожей з собаками",2717.58,3533,0,{"$f":"G1594*I1594","v":0}]
[null,1111185428,"28867*****","Сумка-рюкзак Trixie з поясним ременем пояс 55-130 см рижа арт28867","Менше 10","Сумки, переноски та посуд для подорожей з собаками",751.08,976,0,{"$f":"G1595*I1595","v":0}]
[null,1111126025,76132,"Тераріумний субстрат Trixie пустельний пісок 5кг червоний Арт76132","Менше 10","Наповнювачі та субстрати для тераріума",563.70000000000005,733,0,{"$f":"G1596*I1596","v":0}]
[null,1111208350,"31761*****","ТЕРМ 12.25 PREMIO liver pâté XXL Trixie д/собак Печінковий паштет 300г","Більше 10","Ласощі для собак",168.54,0,0,{"$f":"G1597*I1597","v":0}]
[null,1111200529,"31399_5шт","ТЕРМ. 08.25 Ласощі Trixie Denta Fun Куряче Тако д/соб 12см 80г 5шт/уп","Більше 10","Ласощі для собак",222.24,0,0,{"$f":"G1598*I1598","v":0}]
[null,1111204513,"31195_5шт","ТЕРМ. 09.25 Ласощі Trixie Denta Fun Фан Міні батон 13см 70г 5шт/уп","Менше 10","Ласощі для собак",234.3,0,0,{"$f":"G1599*I1599","v":0}]
[null,1111206346,"31185_5шт","ТЕРМ. 10.25 Ласощі Trixie Denta Fun Жувальний пиріг д 9см 70г 5шт/уп","Менше 10","Ласощі для собак",230.04,0,0,{"$f":"G1600*I1600","v":0}]
[null,1111204506,"9268_Christmas","ТЕРМ.01.26.НЕ ТОВ.ВИГ.Адвент-календар Trixie для собак Різдвяний з лас","Менше 10","Ласощі для собак",193.8,0,0,{"$f":"G1601*I1601","v":0}]
[null,1111197546,"9264_Christmas","ТЕРМ.03.26.ПОРВ.УП.Адвент календар Trixie для котів PREMIO 30х34х3,5 с","Менше 10","Ласощі для котів",195.6,0,0,{"$f":"G1602*I1602","v":0}]
[null,1111208438,31867,"ТЕРМ.05.26.НЕ ТОВ.ВИГ.Ласощі Trixie Premio Guse Liver Cubes для собак","Менше 10","Ласощі для собак",68.58,0,0,{"$f":"G1603*I1603","v":0}]
[null,1111206225,42732,"ТЕРМ.07.25,Trixie Premio Tuna Rolls лас д/к тунець/курка 50г","Менше 10","Ласощі для котів",42,0,0,{"$f":"G1604*I1604","v":0}]
[null,1111207625,"2707_5шт*****","ТЕРМ.07.25.Ласощі Trixie Бичка сушена для собак 70–80 см/ 5 шт, Обмеже","Більше 10",null,1409.16,0,0,{"$f":"G1605*I1605","v":0}]
[null,1111206463,31846,"ТЕРМ.11.25.Ласощі Trixie Liver pâté with hemp для собак Печінковий паш","Більше 10","Ласощі для собак",75.180000000000007,0,0,{"$f":"G1606*I1606","v":0}]
[null,1111206717,42735,"ТЕРМ.11.25.Ласощі д/кот. PREMIO Chicken Tenders курячі крила 70гр/4шт","Більше 10","Ласощі для котів",46.38,0,0,{"$f":"G1607*I1607","v":0}]
[null,1111207434,"3179*****","ТЕРМ.12.25.Ласощі Trixie PREMIO poultry pâté для собак Паштет з птиці","Більше 10","Ласощі для собак",95.82,0,0,{"$f":"G1608*I1608","v":0}]
[null,1111206180,"313321_5 шт","ТЕРМ.12.26.НЕ КОМПЛЕК 4ШТ Ласощі Trixie Denta Fun Chicken Chewing Ring","Менше 10","Ласощі для собак",0,0,0,{"$f":"G1609*I1609","v":0}]
[null,1111122466,38872,"Термо-килимок Trixie для котів Capri 2 у переноску плюш сірий 26х46см","Більше 10","Сумки, переноски та посуд для подорожей з котами",222.42,289,0,{"$f":"G1610*I1610","v":0}]
[null,1111122467,38873,"Термо-килимок Trixie для котів Capri 3 у переноску плюш сірий 29х51см","Більше 10","Сумки, переноски та посуд для подорожей з котами",260.16000000000003,338,0,{"$f":"G1611*I1611","v":0}]
[null,1111126096,76113,"Термометр-гігрометр Trixie для тераріума механічний з наліпкою 7,5см","Менше 10","Аксесуари для тераріума",325.92,424,0,{"$f":"G1612*I1612","v":0}]
[null,1111117393,"4232*****","Трава Trixie Soft Grass для котів та кошенят контейнер пластик 100г","Більше 100","Ласощі для котів",113.34,147,0,{"$f":"G1613*I1613","v":0}]
[null,1111145579,"4233*****","Трава Trixie для котів 100 г пакет","Менше 10","Ласощі для котів",103.5,135,0,{"$f":"G1614*I1614","v":0}]
[null,1111115510,"4235*****","Трава Trixie для котів насіння ячменю контейнер пластик 100г","Більше 10","Ласощі для котів",79.739999999999995,104,0,{"$f":"G1615*I1615","v":0}]
[null,12194,"4236*****","Трава Trixie для котів насіння ячменю пакет 100г","Більше 10","Ласощі для котів",62.94,82,0,{"$f":"G1616*I1616","v":0}]
[null,1111120133,6035,"Трава Trixie для маленьких тварин 100 г Арт6035","Більше 10","Ласощі для гризунів",82.56,107,0,{"$f":"G1617*I1617","v":0}]
[null,1111115322,6091,"Тримач Trixie для кліток універсальний пластиковий 2шт","Більше 10","Обладнання для птахів",40.56,53,0,{"$f":"G1618*I1618","v":0}]
[null,7968,2361,"Тримінг Trixie д/голови та вух тонкий пластик і нержавіюча сталь 19см","Менше 10","Догляд та гігієна для собак",391.62,509,0,{"$f":"G1619*I1619","v":0}]
[null,7969,2362,"Тримінг Trixie д/спини та живота грубий пластик і нерж сталь 19см","Менше 10","Догляд та гігієна для собак",391.62,509,0,{"$f":"G1620*I1620","v":0}]
[null,1111121660,2293,"Трос прив_язувальн Trixie для соб з аморт і караб 15м червоний Арт2293","Менше 10","Амуніція для собак",920.34,1196,0,{"$f":"G1621*I1621","v":0}]
[null,12257,2292,"Трос прив_язувальн Trixie для соб з аморт і караб 8м червоний Арт2292","Більше 10","Амуніція для собак",489.54,636,0,{"$f":"G1622*I1622","v":0}]
[null,1111165690,40212,"Туалет Trixie Be Eco Carlo для котів рамка пластик сірий 38х17х58см","Більше 10","Туалети для котів",439.8,572,0,{"$f":"G1623*I1623","v":0}]
[null,1111149279,40154,"Туалет Trixie Berto коти борти/сітка/застібки пластик сірий 39х22x59см","Більше 10","Туалети для котів",884.7,1150,0,{"$f":"G1624*I1624","v":0}]
[null,1111143300,40394,"Туалет Trixie Brisko для котів з бортами пластик прозорий 38x11x50см","Більше 10","Туалети для котів",373.44,485,0,{"$f":"G1625*I1625","v":0}]
[null,8162,40111,"Туалет Trixie Carlo для котів з бортами пластиковий сірий 31x14x43см","Більше 10","Туалети для котів",278.22000000000003,362,0,{"$f":"G1626*I1626","v":0}]
[null,8150,40121,"Туалет Trixie Carlo для котів з бортами пластиковий сірий 38x17х58см","Більше 10","Туалети для котів",439.8,572,0,{"$f":"G1627*I1627","v":0}]
[null,1111165633,40184,"Туалет Trixie Classic д/котів з рамкою сірий/білий пластик 37х15х47см","Більше 10","Туалети для котів",401.46,522,0,{"$f":"G1628*I1628","v":0}]
[null,1111166535,40397,"Туалет Trixie Delio для котів з рамкою сірий/білий пластик 38х20х50см","Більше 10","Туалети для котів",644.82000000000005,838,0,{"$f":"G1629*I1629","v":0}]
[null,1111119259,4042,"Туалет Trixie Junior Kitty для кошенят пластиковий 27х9х37см","Більше 10","Туалети для котів",158.1,205,0,{"$f":"G1630*I1630","v":0}]
[null,1111137777,4040,"Туалет Trixie Mio д/кошенят з бортами пластиковий прозорий 32х12х43см","Більше 10","Туалети для котів",297.95999999999998,387,0,{"$f":"G1631*I1631","v":0}]
[null,1111147533,40275,"Туалет Trixie Vico коти ковпак-криш/двер/ручк пластик бірюз 40х40х56см","Менше 10","Туалети для котів",723.12,940,0,{"$f":"G1632*I1632","v":0}]
[null,1111150307,40271,"Туалет Trixie Vico коти ковпак-криш/двер/ручк пластик сірий 40х40х56см","Більше 10","Туалети для котів",723.12,940,0,{"$f":"G1633*I1633","v":0}]
[null,1111165705,40180,"Туалет Trixie д/котів Classic з рамкою синій/білий пластик 37х15х47см","Менше 10","Туалети для котів",401.46,522,0,{"$f":"G1634*I1634","v":0}]
[null,1111165777,40278,"Туалет Trixie д/котів Vico закритий пластик фіолетов/білий 40х40х56см","Більше 10","Туалети для котів",723.12,940,0,{"$f":"G1635*I1635","v":0}]
[null,12866,6256,"Туалет Trixie для гризунів кутовий з лопаткою пластиковий 14x8x11см","Менше 10","Туалети для гризунів",120.3,156,0,{"$f":"G1636*I1636","v":0}]
[null,9731,6254,"Туалет Trixie для гризунів кутовий пластиковий 16x7x12см","Більше 100","Туалети для гризунів",30.78,40,0,{"$f":"G1637*I1637","v":0}]
[null,1111113000,62551,"Туалет Trixie для гризунів кутовий пластиковий 36х21х30см","Більше 10","Туалети для гризунів",120.3,156,0,{"$f":"G1638*I1638","v":0}]
[null,1111165723,"40279*****","Туалет Trixie для котів Vico закритий пластик зелений/білий 40х40х56см","Більше 10","Туалети для котів",883.31,1111,0,{"$f":"G1639*I1639","v":0}]
[null,1111127519,23415,"Туалет Trixie для цуценят під пелюшку пластиковий 49x41см","Більше 10","Туалети для собак",486.78,633,0,{"$f":"G1640*I1640","v":0}]
[null,1111127520,23416,"Туалет Trixie для цуценят під пелюшку пластиковий 65х55см","Менше 10","Туалети для собак",1128.72,1467,0,{"$f":"G1641*I1641","v":0}]
[null,1111183754,40175,"Туалет Trixie Прімо XXL з бортиками 56х25х71 см синьо-білий Арт40175","Менше 10","Туалети для котів",1085.94,1412,0,{"$f":"G1642*I1642","v":0}]
[null,1111183757,40210,"Туалет-будиночок Trixie Віко 40х40х56см антрацит сіро-зелений Арт40210","Менше 10","Туалети для котів",723.12,940,0,{"$f":"G1643*I1643","v":0}]
[null,1111150588,40341,"Туалет-будиночок Trixie Віко з напівпрозор верх 40х40х56см блакит-біл","Менше 10","Туалети для котів",1207.74,1570,0,{"$f":"G1644*I1644","v":0}]
[null,1111183756,40177,"Туалет-будиночок Trixie Прімо XXL Топ 56х47х71см блак-білий Арт40177","Менше 10","Туалети для котів",1610.34,2093,0,{"$f":"G1645*I1645","v":0}]
[null,1111134905,6130,"Тунель Trixie для гризунів Natural Living дерев_яний 20см/ 6см","Більше 10","Обладнання для гризунів",160.86000000000001,209,0,{"$f":"G1646*I1646","v":0}]
[null,1111117659,6131,"Тунель Trixie для гризунів Natural Living дерев_яний 30см/7см","Менше 10","Обладнання для гризунів",260.16000000000003,338,0,{"$f":"G1647*I1647","v":0}]
[null,1111130641,62796,"Тунель Trixie для гризунів для гри пластиковий бірюзовий Арт62796","Менше 10","Обладнання для гризунів",160.86000000000001,209,0,{"$f":"G1648*I1648","v":0}]
[null,1111183786,60770,"Тунель Trixie для гризунів з сіном і корою 6,5 х 20 см 25 г Арт60770","Менше 10","Обладнання для гризунів",436.38,567,0,{"$f":"G1649*I1649","v":0}]
[null,1111137485,4305,"Тунель Trixie для котів ігровий нейлоновий 3х22х50см","Більше 10","Іграшки для котів",637.79999999999995,829,0,{"$f":"G1650*I1650","v":0}]
[null,1111115586,4301,"Тунель Trixie для котів ігровий текстиль 25х50см","Менше 10","Іграшки для котів",373.44,485,0,{"$f":"G1651*I1651","v":0}]
[null,1111114747,4302,"Тунель Trixie для котів ігровий текстиль 30х115см","Менше 10","Іграшки для котів",486.78,633,0,{"$f":"G1652*I1652","v":0}]
[null,1111127080,6910,"Тунель-гамак Trixie для тхора з тканини 20х45см","Більше 10","Обладнання для гризунів",194.46,253,0,{"$f":"G1653*I1653","v":0}]
[null,1111183762,41310,"Указка Trixie для котів світлодіодна з малюнком миші 11 см Арт41310","Більше 10","Іграшки для котів",260.16000000000003,338,0,{"$f":"G1654*I1654","v":0}]
[null,1111185417,"24449*****","Фільтр Trixie Spare filter для фонтану арт24448 12 шт арт24449","Менше 10","Миски та годівниці для собак",146.88,191,0,{"$f":"G1655*I1655","v":0}]
[null,1111170422,24445,"Фільтр Trixie д/котів д/автоматичної поїлки-фонтану змінний 24444 6шт","Менше 10","Поїлки автоматичні для котів",44.76,58,0,{"$f":"G1656*I1656","v":0}]
[null,1111170424,24447,"Фільтр Trixie д/котів д/автоматичної поїлки-фонтану змінний 24446 2шт","Менше 10","Поїлки автоматичні для котів",54.6,71,0,{"$f":"G1657*I1657","v":0}]
[null,1111126382,40350,"Фільтр Trixie для котячого туалету 40284/40286/40342/40345","Менше 10","Аксесуари для котячих туалетів",79.5,103,0,{"$f":"G1658*I1658","v":0}]
[null,1111185416,"24448*****","Фонтан Trixie Vital Dome для соб 1,5 л 20х10х20см сіро-білий арт24448","Менше 10","Миски та годівниці для собак",2474.2199999999998,3216,0,{"$f":"G1659*I1659","v":0}]
[null,1111183734,24462,"Фонтан Trixie автоматичний 2 реж 1л 20х12х23см біло-блакитний Арт24462","Менше 10","Миски та годівниці для собак",1317.54,1713,0,{"$f":"G1660*I1660","v":0}]
[null,1111121011,30123,"Хустка Trixie для собак світловідбиваюча L-XL жовта 43-60 см Арт30123","Більше 10","Одяг для собак",181.86,236,0,{"$f":"G1661*I1661","v":0}]
[null,1111121010,30122,"Хустка Trixie для собак світловідбиваюча S-M жовта 29-42 см Арт30122","Більше 10","Одяг для собак",134.28,175,0,{"$f":"G1662*I1662","v":0}]
[null,1111138458,29197,"Шампунь Trixie Two in one для собак з кондиціонером 250мл","Більше 100","Догляд та гігієна для собак",144.06,187,0,{"$f":"G1663*I1663","v":0}]
[null,13423,2908,"Шампунь Trixie для котів 250мл","Більше 100","Догляд та гігієна для котів",144.06,187,0,{"$f":"G1664*I1664","v":0}]
[null,1111132995,29191,"Шампунь Trixie для котів для довгої шерсті 250мл","Більше 100","Догляд та гігієна для котів",144.06,187,0,{"$f":"G1665*I1665","v":0}]
[null,12380,2907,"Шампунь Trixie для котів та собак нейтральний 250мл","Більше 100","Догляд та гігієна для котів",144.06,187,0,{"$f":"G1666*I1666","v":0}]
[null,1111167886,25393,"Шампунь Trixie для собак від бліх кліщів та комарів 250мл","Більше 10","Догляд та гігієна для собак",348.3,453,0,{"$f":"G1667*I1667","v":0}]
[null,9728,2914,"Шампунь Trixie для собак для білої шерсті 250мл","Більше 100","Догляд та гігієна для собак",144.06,187,0,{"$f":"G1668*I1668","v":0}]
[null,1111119471,2911,"Шампунь Trixie для собак для довгої шерсті 1л","Більше 10","Догляд та гігієна для собак",325.92,424,0,{"$f":"G1669*I1669","v":0}]
[null,9922,2901,"Шампунь Trixie для собак для довгої шерсті 250мл","Більше 10","Догляд та гігієна для собак",144.06,187,0,{"$f":"G1670*I1670","v":0}]
[null,1111132057,2921,"Шампунь Trixie для собак для довгої шерсті від ковтунів 250мл","Більше 10","Догляд та гігієна для собак",144.06,187,0,{"$f":"G1671*I1671","v":0}]
[null,12663,2898,"Шампунь Trixie для собак для довгої шерсті з алое вера 250мл","Більше 100","Догляд та гігієна для собак",144.06,187,0,{"$f":"G1672*I1672","v":0}]
[null,1111146935,29194,"Шампунь Trixie для собак для довгої шерсті з апельсином 250мл","Більше 100","Догляд та гігієна для собак",144.06,187,0,{"$f":"G1673*I1673","v":0}]
[null,1111115314,2905,"Шампунь Trixie для собак для довгої шерсті з кокосовою олією 250мл","Більше 100","Догляд та гігієна для собак",144.06,187,0,{"$f":"G1674*I1674","v":0}]
[null,1111134782,29192,"Шампунь Trixie для собак для довгої шерсті з маслом жожоба 250мл","Більше 10","Догляд та гігієна для собак",144.06,187,0,{"$f":"G1675*I1675","v":0}]
[null,1291,2899,"Шампунь Trixie для собак для довгої шерсті з медом 250мл","Більше 10","Догляд та гігієна для собак",144.06,187,0,{"$f":"G1676*I1676","v":0}]
[null,1111114673,2904,"Шампунь Trixie для собак для довгої шерсті протилупи 250мл","Більше 10","Догляд та гігієна для собак",144.06,187,0,{"$f":"G1677*I1677","v":0}]
[null,9727,2915,"Шампунь Trixie для собак для чорної шерсті 250мл","Більше 10","Догляд та гігієна для собак",144.06,187,0,{"$f":"G1678*I1678","v":0}]
[null,1111119470,2910,"Шампунь Trixie для собак з оліями макадамії та обліпихи 1л","Менше 10","Догляд та гігієна для собак",325.92,424,0,{"$f":"G1679*I1679","v":0}]
[null,1111137774,29195,"Шампунь Trixie для собак з оліями макадамії та обліпихи 250мл","Більше 10","Догляд та гігієна для собак",144.06,187,0,{"$f":"G1680*I1680","v":0}]
[null,11731,2945,"Шампунь Trixie для собак з чуттєвою шкірою олія чайного дерева 250мл","Більше 10","Догляд та гігієна для собак",144.06,187,0,{"$f":"G1681*I1681","v":0}]
[null,11941,2942,"Шампунь Trixie для собак зволожуючий з екстрактом олії мелії 250мл","Більше 10","Догляд та гігієна для собак",144.06,187,0,{"$f":"G1682*I1682","v":0}]
[null,1292,2900,"Шампунь Trixie для собак трав_яний 250мл","Більше 10","Догляд та гігієна для собак",144.06,187,0,{"$f":"G1683*I1683","v":0}]
[null,1111114574,2906,"Шампунь Trixie для цуценят  для шерсті 250мл","Більше 100","Догляд та гігієна для собак",144.06,187,0,{"$f":"G1684*I1684","v":0}]
[null,1111119474,2916,"Шампунь Trixie для цуценят для шерсті 1л","Більше 10","Догляд та гігієна для собак",325.92,424,0,{"$f":"G1685*I1685","v":0}]
[null,1111183701,2897,"Шампунь Trixie з алоє вера 1 л Арт2897","Менше 10","Догляд та гігієна для котів",325.92,424,0,{"$f":"G1686*I1686","v":0}]
[null,5681,29181,"Шампунь Trixie сухий для собак для шерсті 100г","Більше 100","Догляд та гігієна для котів",120.3,156,0,{"$f":"G1687*I1687","v":0}]
[null,1111128596,29182,"Шампунь Trixie сухий для собак для шерсті 200г","Більше 10","Догляд та гігієна для котів",181.86,236,0,{"$f":"G1688*I1688","v":0}]
[null,1111114675,2903,"Шампунь-кондиціонер Trixie д/собак від заплут/шерсть олія мелії 250мл","Більше 10","Догляд та гігієна для собак",144.06,187,0,{"$f":"G1689*I1689","v":0}]
[null,1111146290,29410,"Шампунь-спрей Trixie сухий для собак для шерсті 230мл","Більше 10","Догляд та гігієна для собак",209.82,273,0,{"$f":"G1690*I1690","v":0}]
[null,1111127528,41893,"Шлейка з повідцем Trixie для велик/котів Good Luck нейлон 34-57см/13мм","Менше 10","Амуніція для котів",458.76,596,0,{"$f":"G1691*I1691","v":0}]
[null,1111140958,61514,"Шлейка з повідцем Trixie для велик/кролика Soft м_яка нейлон 25-40см","Менше 10","Амуніція для гризунів",282.54000000000002,367,0,{"$f":"G1692*I1692","v":0}]
[null,1111124107,"41894*****","Шлейка з повідцем Trixie для котів Skull нейлон 27-45 cм/10мм","Менше 10","Амуніція для котів",216.06,268,0,{"$f":"G1693*I1693","v":0}]
[null,9937,4188,"Шлейка з повідцем Trixie для котів нейлон 27-45см/10мм","Більше 10","Амуніція для котів",204.24,265,0,{"$f":"G1694*I1694","v":0}]
[null,11471,4142,"Шлейка з повідцем Trixie для котів принт з котами нейлон 27-45см/10мм","Менше 10","Амуніція для котів",274.14,356,0,{"$f":"G1695*I1695","v":0}]
[null,9602,4184,"Шлейка з повідцем Trixie для котів світловідбив нейлон 22-42см/10мм","Більше 100","Амуніція для котів",146.88,191,0,{"$f":"G1696*I1696","v":0}]
[null,1111115132,4182,"Шлейка з повідцем Trixie для кошенят нейлон 19-31см/8мм","Більше 10","Амуніція для котів",181.86,236,0,{"$f":"G1697*I1697","v":0}]
[null,1111122236,61513,"Шлейка з повідцем Trixie для кролика Soft м_яка нейлон 25-32см","Менше 10","Амуніція для гризунів",255.96,333,0,{"$f":"G1698*I1698","v":0}]
[null,1111115560,6263,"Шлейка з повідцем Trixie для кролика з морквинами нейлон 25-44см/10мм","Менше 10","Амуніція для гризунів",274.14,356,0,{"$f":"G1699*I1699","v":0}]
[null,1111119437,6265,"Шлейка з повідцем Trixie для мал/кроликів малюнок нейлон 20-33см/8мм","Менше 10","Амуніція для гризунів",243.36,316,0,{"$f":"G1700*I1700","v":0}]
[null,1111122235,61512,"Шлейка з повідцем Trixie для морських свинок Soft м_яка нейлон 18-25см","Більше 10","Амуніція для гризунів",223.8,291,0,{"$f":"G1701*I1701","v":0}]
[null,1111185223,1969916,"Шлея Trixie CityStyle H-harness для соб L–XL 75–120см зелен арт1969916","Менше 10","Амуніція для собак",1074.18,1396,0,{"$f":"G1702*I1702","v":0}]
[null,1111185474,1969919,"Шлея Trixie CityStyle H-harness для соб L–XL 75–120см сіра арт1969919","Менше 10","Амуніція для собак",1074.18,1396,0,{"$f":"G1703*I1703","v":0}]
[null,1111185222,1969901,"Шлея Trixie CityStyle H-harness для соб L–XL 75–120см чорна арт1969901","Менше 10","Амуніція для собак",1074.18,1396,0,{"$f":"G1704*I1704","v":0}]
[null,1111185221,1969816,"Шлея Trixie CityStyle H-harness для соб M–L 52–75см зелена арт1969816","Менше 10","Амуніція для собак",920.34,1196,0,{"$f":"G1705*I1705","v":0}]
[null,1111185473,1969819,"Шлея Trixie CityStyle H-harness для соб M–L 52–75см сіра арт1969819","Менше 10","Амуніція для собак",920.34,1196,0,{"$f":"G1706*I1706","v":0}]
[null,1111185220,1969801,"Шлея Trixie CityStyle H-harness для соб M–L 52–75см чорна арт1969801","Менше 10","Амуніція для собак",920.34,1196,0,{"$f":"G1707*I1707","v":0}]
[null,1111185219,1969716,"Шлея Trixie CityStyle H-harness для соб S–M 42–60см зелена арт1969716","Менше 10","Амуніція для собак",766.5,996,0,{"$f":"G1708*I1708","v":0}]
[null,1111185472,1969719,"Шлея Trixie CityStyle H-harness для соб S–M 42–60см сіра арт1969719","Менше 10","Амуніція для собак",766.5,996,0,{"$f":"G1709*I1709","v":0}]
[null,1111185217,1969616,"Шлея Trixie CityStyle H-harness для соб XS–S 30–44см зелена арт1969616","Менше 10","Амуніція для собак",612.66,796,0,{"$f":"G1710*I1710","v":0}]
[null,1111185216,1969601,"Шлея Trixie CityStyle H-harness для соб XS–S 30–44см чорн арт1969601","Менше 10","Амуніція для собак",612.66,796,0,{"$f":"G1711*I1711","v":0}]
[null,1111185205,162532,"Шлея Trixie Comfort для соб м_як XXS–XS 28–40см 15мм син-зел арт162532","Менше 10","Амуніція для собак",520.32000000000005,676,0,{"$f":"G1712*I1712","v":0}]
[null,1111185210,162735,"Шлея Trixie Comfort для соб м_яка S 33–50см 20мм рожева арт162735","Менше 10","Амуніція для собак",674.16,876,0,{"$f":"G1713*I1713","v":0}]
[null,1111185209,162732,"Шлея Trixie Comfort для соб м_яка S 33–50см 20мм син-зел арт162732","Менше 10","Амуніція для собак",674.16,876,0,{"$f":"G1714*I1714","v":0}]
[null,1111185211,162832,"Шлея Trixie Comfort для соб м_яка S–M 35–60см 20мм син-зелен арт162832","Менше 10","Амуніція для собак",766.5,996,0,{"$f":"G1715*I1715","v":0}]
[null,1111185208,162635,"Шлея Trixie Comfort для соб м_яка XS–S 30–45см 15мм рожева арт162635","Менше 10","Амуніція для собак",581.88,756,0,{"$f":"G1716*I1716","v":0}]
[null,1111185207,162632,"Шлея Trixie Comfort для соб м_яка XS–S 30–45см 15мм син-зел арт162632","Менше 10","Амуніція для собак",581.88,756,0,{"$f":"G1717*I1717","v":0}]
[null,1111185206,162535,"Шлея Trixie Comfort для соб м_яка XXS–XS 28–40см 15мм рожева арт162535","Менше 10","Амуніція для собак",520.32000000000005,676,0,{"$f":"G1718*I1718","v":0}]
[null,1111185406,204931,"Шлея Trixie Premium H-harness для соб L 60–87см бордова арт204931","Менше 10","Амуніція для собак",551.1,716,0,{"$f":"G1719*I1719","v":0}]
[null,1111185408,204936,"Шлея Trixie Premium H-harness для соб L 60–87см пісочна арт204936","Менше 10","Амуніція для собак",551.1,716,0,{"$f":"G1720*I1720","v":0}]
[null,1111185407,204934,"Шлея Trixie Premium H-harness для соб L 60–87см світло-зелен арт204934","Менше 10","Амуніція для собак",551.1,716,0,{"$f":"G1721*I1721","v":0}]
[null,1111185386,203531,"Шлея Trixie Premium H-harness для соб L–XL 75–120см бордова арт203531","Менше 10","Амуніція для собак",612.66,796,0,{"$f":"G1722*I1722","v":0}]
[null,1111185297,1997428,"Шлея Trixie Premium для соб трекінг L 70–85см аква-графіт арт1997428","Менше 10","Амуніція для собак",1153.92,1500,0,{"$f":"G1723*I1723","v":0}]
[null,1111185299,1997429,"Шлея Trixie Premium для соб трекінг L 70–85см оранж-сіра арт1997429","Менше 10","Амуніція для собак",1153.92,1500,0,{"$f":"G1724*I1724","v":0}]
[null,1111185300,1997435,"Шлея Trixie Premium для соб трекінг L 70–85см рож-сіра арт1997435","Менше 10","Амуніція для собак",1153.92,1500,0,{"$f":"G1725*I1725","v":0}]
[null,1111185298,1997432,"Шлея Trixie Premium для соб трекінг L 70–85см синьо-сіра арт1997432","Менше 10","Амуніція для собак",1153.92,1500,0,{"$f":"G1726*I1726","v":0}]
[null,1111185289,1997228,"Шлея Trixie Premium для соб трекінг M 53–64см аква-графіт арт1997228","Менше 10","Амуніція для собак",920.34,1196,0,{"$f":"G1727*I1727","v":0}]
[null,1111185291,1997229,"Шлея Trixie Premium для соб трекінг M 53–64см оранж-сіра арт1997229","Менше 10","Амуніція для собак",920.34,1196,0,{"$f":"G1728*I1728","v":0}]
[null,1111185292,1997235,"Шлея Trixie Premium для соб трекінг M 53–64см рож-сіра арт1997235","Менше 10","Амуніція для собак",920.34,1196,0,{"$f":"G1729*I1729","v":0}]
[null,1111185290,1997232,"Шлея Trixie Premium для соб трекінг M 53–64см синьо-сіра арт1997232","Менше 10","Амуніція для собак",920.34,1196,0,{"$f":"G1730*I1730","v":0}]
[null,1111185293,1997328,"Шлея Trixie Premium для соб трекінг M–L 62–74см аква-графіт арт1997328","Менше 10","Амуніція для собак",1074.18,1396,0,{"$f":"G1731*I1731","v":0}]
[null,1111185295,1997329,"Шлея Trixie Premium для соб трекінг M–L 62–74см оранж-сіра арт1997329","Менше 10","Амуніція для собак",1074.18,1396,0,{"$f":"G1732*I1732","v":0}]
[null,1111185296,1997335,"Шлея Trixie Premium для соб трекінг M–L 62–74см рож-сіра арт1997335","Менше 10","Амуніція для собак",1074.18,1396,0,{"$f":"G1733*I1733","v":0}]
[null,1111185294,1997332,"Шлея Trixie Premium для соб трекінг M–L 62–74см синьо-сіра арт1997332","Менше 10","Амуніція для собак",1074.18,1396,0,{"$f":"G1734*I1734","v":0}]
[null,1111185281,1997028,"Шлея Trixie Premium для соб трекінг S 36–44см аква-графіт арт1997028","Менше 10","Амуніція для собак",766.5,996,0,{"$f":"G1735*I1735","v":0}]
[null,1111185283,1997029,"Шлея Trixie Premium для соб трекінг S 36–44см оранж-сіра арт1997029","Менше 10","Амуніція для собак",766.5,996,0,{"$f":"G1736*I1736","v":0}]
[null,1111185282,1997032,"Шлея Trixie Premium для соб трекінг S 36–44см синьо-сіра арт1997032","Менше 10","Амуніція для собак",766.5,996,0,{"$f":"G1737*I1737","v":0}]
[null,1111185285,1997128,"Шлея Trixie Premium для соб трекінг S–M 44–53см аква-графіт арт1997128","Менше 10","Амуніція для собак",920.34,1196,0,{"$f":"G1738*I1738","v":0}]
[null,1111185287,1997129,"Шлея Trixie Premium для соб трекінг S–M 44–53см оранж-сіра арт1997129","Менше 10","Амуніція для собак",920.34,1196,0,{"$f":"G1739*I1739","v":0}]
[null,1111185288,1997135,"Шлея Trixie Premium для соб трекінг S–M 44–53см рож-сіра арт1997135","Менше 10","Амуніція для собак",920.34,1196,0,{"$f":"G1740*I1740","v":0}]
[null,1111185286,1997132,"Шлея Trixie Premium для соб трекінг S–M 44–53см синьо-сіра арт1997132","Менше 10","Амуніція для собак",920.34,1196,0,{"$f":"G1741*I1741","v":0}]
[null,1111185301,1997528,"Шлея Trixie Premium для соб трекінг XL 80–97см аква-графіт арт1997528","Менше 10","Амуніція для собак",1261.6199999999999,1640,0,{"$f":"G1742*I1742","v":0}]
[null,1111185303,1997529,"Шлея Trixie Premium для соб трекінг XL 80–97см оранж-сіра арт1997529","Менше 10","Амуніція для собак",1261.6199999999999,1640,0,{"$f":"G1743*I1743","v":0}]
[null,1111185304,1997535,"Шлея Trixie Premium для соб трекінг XL 80–97см рож-сіра арт1997535","Менше 10","Амуніція для собак",1261.6199999999999,1640,0,{"$f":"G1744*I1744","v":0}]
[null,1111185302,1997532,"Шлея Trixie Premium для соб трекінг XL 80–97см синьо-сіра арт1997532","Менше 10","Амуніція для собак",1261.6199999999999,1640,0,{"$f":"G1745*I1745","v":0}]
[null,1111185276,1996928,"Шлея Trixie Premium для соб трекінг XS–S 32–38см аква-граф арт1996928","Менше 10","Амуніція для собак",766.5,996,0,{"$f":"G1746*I1746","v":0}]
[null,1111185279,1996934,"Шлея Trixie Premium для соб трекінг XS–S 32–38см блакит-сір арт1996934","Менше 10","Амуніція для собак",766.5,996,0,{"$f":"G1747*I1747","v":0}]
[null,1111185280,1996935,"Шлея Trixie Premium для соб трекінг XS–S 32–38см рожев-сіра арт1996935","Менше 10","Амуніція для собак",766.5,996,0,{"$f":"G1748*I1748","v":0}]
[null,1111185278,1996932,"Шлея Trixie Premium для соб трекінг XS–S 32–38см синьо-сіра арт1996932","Менше 10","Амуніція для собак",766.5,996,0,{"$f":"G1749*I1749","v":0}]
[null,1111185400,204136,"Шлея Trixie Premium для соб туристич L 60–100см пісочна арт204136","Менше 10","Амуніція для собак",674.16,876,0,{"$f":"G1750*I1750","v":0}]
[null,1111185399,204132,"Шлея Trixie Premium для соб туристич L 60–100см синьо-зелена арт204132","Менше 10","Амуніція для собак",674.16,876,0,{"$f":"G1751*I1751","v":0}]
[null,1111185402,204236,"Шлея Trixie Premium для соб туристич L–XL 70–110см пісочна арт204236","Менше 10","Амуніція для собак",674.16,876,0,{"$f":"G1752*I1752","v":0}]
[null,1111185401,204232,"Шлея Trixie Premium для соб туристич L–XL 70–110см син-зелен арт204232","Менше 10","Амуніція для собак",674.16,876,0,{"$f":"G1753*I1753","v":0}]
[null,1111185396,203936,"Шлея Trixie Premium для соб туристич M 45–80см пісочна арт203936","Менше 10","Амуніція для собак",612.66,796,0,{"$f":"G1754*I1754","v":0}]
[null,1111185395,203932,"Шлея Trixie Premium для соб туристич M 45–80см синьо-зелена арт203932","Менше 10","Амуніція для собак",612.66,796,0,{"$f":"G1755*I1755","v":0}]
[null,1111185398,204036,"Шлея Trixie Premium для соб туристич M–L 50–90см пісочна арт204036","Менше 10","Амуніція для собак",612.66,796,0,{"$f":"G1756*I1756","v":0}]
[null,1111185397,204032,"Шлея Trixie Premium для соб туристич M–L 50–90см синьо-зелен арт204032","Менше 10","Амуніція для собак",612.66,796,0,{"$f":"G1757*I1757","v":0}]
[null,1111185392,203736,"Шлея Trixie Premium для соб туристич S 35–65см пісочна арт203736","Менше 10","Амуніція для собак",458.76,596,0,{"$f":"G1758*I1758","v":0}]
[null,1111185391,203732,"Шлея Trixie Premium для соб туристич S 35–65см синьо-зелена арт203732","Менше 10","Амуніція для собак",458.76,596,0,{"$f":"G1759*I1759","v":0}]
[null,1111185394,203836,"Шлея Trixie Premium для соб туристич S–M 40–70см пісочна арт203836","Менше 10","Амуніція для собак",489.54,636,0,{"$f":"G1760*I1760","v":0}]
[null,1111185393,203832,"Шлея Trixie Premium для соб туристич S–M 40–70см синьо-зелен арт203832","Менше 10","Амуніція для собак",489.54,636,0,{"$f":"G1761*I1761","v":0}]
[null,1111185390,203636,"Шлея Trixie Premium для соб туристич XS–S 30–55см пісочна арт203636","Менше 10","Амуніція для собак",397.26,516,0,{"$f":"G1762*I1762","v":0}]
[null,1111185389,203632,"Шлея Trixie Premium для соб туристич XS–S 30–55см син-зелен арт203632","Менше 10","Амуніція для собак",397.26,516,0,{"$f":"G1763*I1763","v":0}]
[null,1111147144,203303,"Шлея Trixie Premium для собак червона S–M 42–60 см х 15 мм арт203303","Більше 10","Амуніція для собак",304.92,396,0,{"$f":"G1764*I1764","v":0}]
[null,1111134297,12232,"Шлея Trixie д/собак SilverReflect лапки світловідбив S-M 49-65см/20мм","Більше 10","Амуніція для собак",458.76,596,0,{"$f":"G1765*I1765","v":0}]
[null,1111183711,13094,"Шлея Trixie для собак L-XL 75-100 см х 25 мм чорна Арт13094","Більше 10","Амуніція для собак",1000.08,1300,0,{"$f":"G1766*I1766","v":0}]
[null,1111183710,13093,"Шлея Trixie для собак M-L 50-75 см х 20 мм чорна Арт13093","Більше 10","Амуніція для собак",766.5,996,0,{"$f":"G1767*I1767","v":0}]
[null,1111183709,13092,"Шлея Trixie для собак S-M 40-65 см х 15 мм чорна Арт13092","Більше 10","Амуніція для собак",612.66,796,0,{"$f":"G1768*I1768","v":0}]
[null,1111147048,16278,"Шлея Trixie для собак Soft м_яка нейлон фуксія S 33-50см/20мм","Менше 10","Амуніція для собак",674.16,876,0,{"$f":"G1769*I1769","v":0}]
[null,1111147052,16288,"Шлея Trixie для собак Soft м_яка нейлон фуксія S-M 35-60см/15мм","Менше 10","Амуніція для собак",766.5,996,0,{"$f":"G1770*I1770","v":0}]
[null,1111147044,16268,"Шлея Trixie для собак Soft м_яка нейлон фуксія XS-S 35-45см/15мм","Менше 10","Амуніція для собак",581.88,756,0,{"$f":"G1771*I1771","v":0}]
[null,1111147036,16248,"Шлея Trixie для собак Soft м_яка нейлон фуксія XXS-XS 25-35см/15мм","Менше 10","Амуніція для собак",458.76,596,0,{"$f":"G1772*I1772","v":0}]
[null,1111147040,16258,"Шлея Trixie для собак Soft м_яка нейлон фуксія XXS-XS 28-40см/15мм","Менше 10","Амуніція для собак",520.32000000000005,676,0,{"$f":"G1773*I1773","v":0}]
[null,1111147033,16243,"Шлея Trixie для собак Soft м_яка нейлон червона XXS-XS 25-35см/15мм","Менше 10","Амуніція для собак",458.76,596,0,{"$f":"G1774*I1774","v":0}]
[null,1111134841,13004,"Шлея Trixie для собак тренувальна L чорна Арт13004","Більше 10","Амуніція для собак",139.86000000000001,182,0,{"$f":"G1775*I1775","v":0}]
[null,1111134842,13005,"Шлея Trixie для собак тренувальна L-XL чорна Арт13005","Менше 10","Амуніція для собак",152.46,198,0,{"$f":"G1776*I1776","v":0}]
[null,1111134840,13003,"Шлея Trixie для собак тренувальна M чорна Арт13003","Більше 10","Амуніція для собак",127.32,165,0,{"$f":"G1777*I1777","v":0}]
[null,1111183801,1997301,"Шлея Trixie Преміум трекінг M–L 62–74смх25мм чорний-графіт Арт1997301","Менше 10","Амуніція для собак",1074.18,1396,0,{"$f":"G1778*I1778","v":0}]
[null,1111183802,1997401,"Шлея Trixie Преміум трекінгова L 70–85смх25мм чорний-графіт Арт1997401","Менше 10","Амуніція для собак",1153.92,1500,0,{"$f":"G1779*I1779","v":0}]
[null,1111162640,15564,"Шлея з повідцем Trixie цуцен S–M 26–34см х 10мм 2м світл-бузк Арт15564","Менше 10","Амуніція для собак",366.48,476,0,{"$f":"G1780*I1780","v":0}]
[null,1111150757,203516,"Шлея-вісімка Trixie д/собак Premium Н-подібн графіт L-XL 75-120см/25мм","Менше 10","Амуніція для собак",612.66,796,0,{"$f":"G1781*I1781","v":0}]
[null,1111150750,203416,"Шлея-вісімка Trixie д/собак Premium Н-подібна графіт M-L 52-75см/20мм","Менше 10","Амуніція для собак",397.26,516,0,{"$f":"G1782*I1782","v":0}]
[null,1111150747,203316,"Шлея-вісімка Trixie д/собак Premium Н-подібна графіт S-M 42-60см/15мм","Менше 10","Амуніція для собак",304.92,396,0,{"$f":"G1783*I1783","v":0}]
[null,1111150767,203616,"Шлея-вісімка Trixie д/собак Premium туристич графіт XS-S 30-40см/15мм","Менше 10","Амуніція для собак",397.26,516,0,{"$f":"G1784*I1784","v":0}]
[null,1111147185,"204203 /20423","Шлея-вісімка Trixie д/собак Premium туристич червон L-XL 70-110см/25мм","Менше 10","Амуніція для собак",674.16,876,0,{"$f":"G1785*I1785","v":0}]
[null,1111148884,"203803 /20383","Шлея-вісімка Trixie д/собак Premium туристич червона S-M 40-70см/20мм","Менше 10","Амуніція для собак",489.54,636,0,{"$f":"G1786*I1786","v":0}]
[null,1111150762,203611,"Шлея-вісімка Trixie д/собак Premium туристичн фуксія XS-S 30-55см/15мм","Менше 10","Амуніція для собак",397.26,516,0,{"$f":"G1787*I1787","v":0}]
[null,1111150807,204016,"Шлея-вісімка Trixie д/собак Premium туристична графіт M-L 50-80см/25мм","Менше 10","Амуніція для собак",612.66,796,0,{"$f":"G1788*I1788","v":0}]
[null,1111150777,203716,"Шлея-вісімка Trixie д/собак Premium туристична графіт S 35-65см/20мм","Менше 10","Амуніція для собак",458.76,596,0,{"$f":"G1789*I1789","v":0}]
[null,1111148869,"203902 /20392","Шлея-вісімка Trixie д/собак Premium туристична синя M 45-80см/25мм","Менше 10","Амуніція для собак",612.66,796,0,{"$f":"G1790*I1790","v":0}]
[null,1111150802,204011,"Шлея-вісімка Trixie д/собак Premium туристична фуксія M-L 50-90см/25мм","Менше 10","Амуніція для собак",612.66,796,0,{"$f":"G1791*I1791","v":0}]
[null,1111148877,"203703 /20373","Шлея-вісімка Trixie д/собак Premium туристична червона S 35-65см/20мм","Менше 10","Амуніція для собак",458.76,596,0,{"$f":"G1792*I1792","v":0}]
[null,1111148868,"203901 /20391","Шлея-вісімка Trixie д/собак Premium туристична чорна M 45-80см/25мм","Менше 10","Амуніція для собак",612.66,796,0,{"$f":"G1793*I1793","v":0}]
[null,1111150856,204616,"Шлея-петля Trixie для собак Premium нейлон графітова L 65-80см/25мм","Менше 10","Амуніція для собак",551.1,716,0,{"$f":"G1794*I1794","v":0}]
[null,1111150849,204516,"Шлея-петля Trixie для собак Premium нейлон графітова M 50-65см/20мм","Більше 10","Амуніція для собак",397.26,516,0,{"$f":"G1795*I1795","v":0}]
[null,1111150839,204411,"Шлея-петля Trixie для собак Premium нейлон фуксія S 40-50см/15мм","Менше 10","Амуніція для собак",304.92,396,0,{"$f":"G1796*I1796","v":0}]
[null,1111155695,204603,"Шлея-петля Trixie для собак Premium нейлон червона L 65-80см/25мм","Менше 10","Амуніція для собак",551.1,716,0,{"$f":"G1797*I1797","v":0}]
[null,1111150536,204503,"Шлея-петля Trixie для собак Premium нейлон червона M 50-65см/20мм","Більше 10","Амуніція для собак",397.26,516,0,{"$f":"G1798*I1798","v":0}]
[null,1111150533,204403,"Шлея-петля Trixie для собак Premium нейлон червона S 40-50см/15мм","Більше 10","Амуніція для собак",304.92,396,0,{"$f":"G1799*I1799","v":0}]
[null,1111148889,204601,"Шлея-петля Trixie для собак Premium нейлон чорна L 65-80см/25мм","Менше 10","Амуніція для собак",551.1,716,0,{"$f":"G1800*I1800","v":0}]
[null,1111148897,204701,"Шлея-петля Trixie для собак Premium нейлон чорна XL 80-100см/25мм","Менше 10","Амуніція для собак",612.66,796,0,{"$f":"G1801*I1801","v":0}]
[null,12129,2330,"Щітка Trixie д/котів з металев/зубчиками гумова з петлею д/рук 8х13см","Більше 10","Догляд та гігієна для собак",151.08000000000001,196,0,{"$f":"G1802*I1802","v":0}]
[null,9746,2333,"Щітка Trixie д/котів масажна з шипами гумова з петлею для рук 9см/13см","Більше 10","Догляд та гігієна для собак",226.62,295,0,{"$f":"G1803*I1803","v":0}]
[null,1111183731,24153,"Щітка Trixie для котів двухстороння нейлонові і дротяні щетинки 6*19см","Менше 10","Догляд та гігієна для собак",423.84,551,0,{"$f":"G1804*I1804","v":0}]
[null,12274,2336,"Щітка Trixie для котів масажна з шипами гумова з петлею для рук 8х13см","Менше 10","Догляд та гігієна для собак",226.62,295,0,{"$f":"G1805*I1805","v":0}]
[null,1111145746,23126,"Щітка Trixie для котів пластик 7*16см","Менше 10","Догляд та гігієна для котів",292.32,380,0,{"$f":"G1806*I1806","v":0}]
[null,1111125832,24131,"Щітка Trixie для котів пластик металева щетина 7*16см","Більше 10","Догляд та гігієна для собак",292.32,380,0,{"$f":"G1807*I1807","v":0}]
[null,1111183723,23133,"Щітка Trixie для котів рожево-чорна пластик 19см","Більше 10","Догляд та гігієна для котів",120.3,156,0,{"$f":"G1808*I1808","v":0}]
[null,1111113773,2301,"Щітка-пуходерка Trixie д/собак м_яка гумов/ручкою та кульками 10х17см","Більше 100","Догляд та гігієна для собак",120.3,156,0,{"$f":"G1809*I1809","v":0}]
[null,1111125835,24141,"Щітка-пуходерка Trixie д/собак м_яка пластик/ручкою та кульками 7х16см","Більше 10","Догляд та гігієна для собак",325.92,424,0,{"$f":"G1810*I1810","v":0}]
[null,1111125833,24132,"Щітка-пуходерка Trixie для собак м_яка з пластиковою ручкою 10х17см","Більше 10","Догляд та гігієна для собак",325.92,424,0,{"$f":"G1811*I1811","v":0}]
[null,1111125834,24133,"Щітка-пуходерка Trixie для собак м_яка з пластиковою ручкою 12х20см","Більше 10","Догляд та гігієна для собак",391.62,509,0,{"$f":"G1812*I1812","v":0}]
[null,1111165536,24057,"Щітка-пуходерка Trixie для собак м_яка пластик/метал 12х16см","Більше 10","Догляд та гігієна для собак",260.16000000000003,338,0,{"$f":"G1813*I1813","v":0}]
[null,1111165535,24055,"Щітка-пуходерка Trixie для собак м_яка пластик/метал 7х16см","Більше 10","Догляд та гігієна для собак",194.46,253,0,{"$f":"G1814*I1814","v":0}]
[null,1111165623,24056,"Щітка-пуходерка Trixie для собак м_яка пластик/метал 9х16см","Більше 10","Догляд та гігієна для собак",226.62,295,0,{"$f":"G1815*I1815","v":0}]
[null,1111150261,24155,"Щітка-пуходерка Trixie для собак м_яка пластикова 19см","Більше 100","Догляд та гігієна для собак",120.3,156,0,{"$f":"G1816*I1816","v":0}]
[null,2182,2354,"Щітка-пуходерка Trixie м_яка з дерев/ручкою і пластик/гребінцем 9х13см","Більше 10","Догляд та гігієна для собак",134.28,175,0,{"$f":"G1817*I1817","v":0}]
[null,1111183788,60890,"Ясла для сіна Trixie висячі з кришкою метал 13х18х12см чорні Арт60890","Більше 10","Обладнання для гризунів",120.3,156,0,{"$f":"G1818*I1818","v":0}]
[null,1111183789,"60982*****","Ясла для сіна Trixie стоячі дерево 15 х 11 х 15 см чорні Арт60982","Менше 10","Обладнання для гризунів",176.28,229,0,{"$f":"G1819*I1819","v":0}]

{"sheet":"Tropical","index":56,"n_rows":34,"n_cols":10,"rows_kept":34,"cut":false,"hidden":false,"merged":[]}
[]
[null,null,null,null,null,null,"suziria.ua"]
[null,null,null,null,null,null,"0 800 21 82 99"]
[null,null,null,null,null,null,"feedback@suziria.ua"]
[]
["Зображення","Код","Артикул","Номенклатура","Наявність","Категорія","Ціна опт.","Ціна РРЦ","Замовлення, шт.","Сума, грн."]
[null,null,null,null,null,null,null,null,null,{"$f":"СУММ(J8:J34)","v":{"$error":"#NAME?"}}]
[null,1111174059,"13011_ord","Бальзам Tropical Ophtalvit-A Chelonia д/рептилій догляд за шкірою 15мл","Менше 10","Засоби догляду для тераріумів",403.86,545,0,{"$f":"G8*I8","v":0}]
[null,1111182158,"34305_ord","Засіб для акваріума  Bacto-Active 250мл","Менше 10","Засоби для догляду за акваріумом",485.34,655,0,{"$f":"G9*I9","v":0}]
[null,1111182156,"34065_ord","Засіб для акваріума Antychlor 250мл","Менше 10","Кондиціонери для води",420.6,568,0,{"$f":"G10*I10","v":0}]
[null,1111182157,"34015_ord","Засіб для акваріума Esklarin 250мл","Менше 10","Кондиціонери для води",420.6,568,0,{"$f":"G11*I11","v":0}]
[null,1111182154,"34115_ord","Засіб для ставка Antychlor Pond 250мл","Менше 10","Засоби для догляду за ставком",378.66,511,0,{"$f":"G12*I12","v":0}]
[null,1111182155,"33148_ord","Засіб для ставка Blue Guard Pond 2л","Менше 10","Засоби для догляду за ставком",3605.58,4868,0,{"$f":"G13*I13","v":0}]
[null,1111129777,"11363_ord","Корм Tropical Biorept W для водоплавних черепах гранули 30г","Менше 10","Корм сухий для черепах та рептилій",103.08,140,0,{"$f":"G14*I14","v":0}]
[null,1111130533,"11364_ord","Корм Tropical Biorept W для водоплавних черепах гранули 75г","Менше 10","Корм сухий для черепах та рептилій",207.3,280,0,{"$f":"G15*I15","v":0}]
[null,1111111133,"74419_ord","Корм Tropical Bio-Vit д/травоїдних акваріумн/риб пластівці 4кг","Менше 10","Корм сухий для акваріумних риб",4602.66,6213,0,{"$f":"G16*I16","v":0}]
[null,1111131044,"63726_ord","Корм Tropical Cichlid Red Green Medium Sticks д/цихлід палички 1л/360г","Менше 10","Корм сухий для акваріумних риб",741.78,1001,0,{"$f":"G17*I17","v":0}]
[null,1111131054,"60474_ord","Корм Tropical Goldfish Color Pellet д/золотих рибок гранули 90г/250мл","Менше 10","Корм сухий для акваріумних риб",225.3,303,0,{"$f":"G18*I18","v":0}]
[null,1111129380,"66428_ord","Корм Tropical Green Algae Wafers д/травоїд/дон/риб пластівці 5л/2,25кг","Менше 10","Корм сухий для акваріумних риб",3954.42,5337,0,{"$f":"G19*I19","v":0}]
[null,1111138231,77005,"Корм Tropical Ichtio-Vit для всіх акваріумних риб пластівці 100г/500мл","Менше 10","Корм сухий для акваріумних риб",261.24,354,0,{"$f":"G20*I20","v":0}]
[null,12568,"407_ordСПЕЦЦЕНА","Корм Tropical Ichtio-Vit для всіх акваріумних риб пластівці 120г","Менше 10","Корм сухий для акваріумних риб",314.04000000000002,423,0,{"$f":"G21*I21","v":0}]
[null,1111143005,"40352_ord","Корм Tropical Koi Goldfish Colour Sticks д/ставк/риб палички 4кг/50л","Менше 10","Корм сухий для ставкових риб",2137.8000000000002,2885,0,{"$f":"G22*I22","v":0}]
[null,1111143140,"40656_ord","Корм Tropical Koi Goldfish Colour Sticks д/ставк/риб палички 800г/10л","Менше 10","Корм сухий для ставкових риб",562.02,759,0,{"$f":"G23*I23","v":0}]
[null,1111113194,"74431_ord","Корм Tropical Ovo-Vit для всіх акваріумних риб пластівці 12г","Більше 10","Корм сухий для акваріумних риб",52.74,72,0,{"$f":"G24*I24","v":0}]
[null,1111143139,"40311_ord","Корм Tropical Pond Sticks Mixed для ставкових риб пластівці 4кг/50л","Менше 10","Корм сухий для ставкових риб",2137.8000000000002,2885,0,{"$f":"G25*I25","v":0}]
[null,1111130540,"61401_ord","Корм Tropical Supervit Granulat для акваріумних риб гранули 10г","Менше 10","Корм сухий для акваріумних риб",42,57,0,{"$f":"G26*I26","v":0}]
[null,1111130541,"61421_ord","Корм Tropical Supervit Mini Granulat для акваріумних риб гранули 10г","Менше 10","Корм сухий для акваріумних риб",43.2,59,0,{"$f":"G27*I27","v":0}]
[null,1111111134,"74429_ord","Корм Tropical Tropical для всіх акваріумних риб пластівці 21л/4кг","Менше 10","Корм сухий для акваріумних риб",4602.66,6213,0,{"$f":"G28*I28","v":0}]
[null,1111130537,60463,"Корм Tropical Welsi Gran для акваріумних донних риб гранули 65г/100мл","Менше 10","Корм сухий для акваріумних риб",165.42,223,0,{"$f":"G29*I29","v":0}]
[null,1111171131,"61618_ord","Корм для дискусів D-50 Plus у вигляді грануляту 2,2кг/5л арт.61618","Менше 10","Корм сухий для акваріумних риб",2810.52,3794,0,{"$f":"G30*I30","v":0}]
[null,1111182152,"63558_ord","Корм для риб Tropical  Red Mico Colour Sticks 1,7кг","Менше 10","Корм сухий для акваріумних риб",4045.86,5462,0,{"$f":"G31*I31","v":0}]
[null,13109,34301,"Препарат Tropical Bacto Active д/акваріума запуск/підгот/середов 30мл","Менше 10","Кондиціонери для води",118.68,160,0,{"$f":"G32*I32","v":0}]
[null,1111137678,"32181_ord","Препарат Tropical CMF д/риб для лікування від бактерій та грибів 30мл","Більше 10","Препарати для лікування риб",145.08000000000001,196,0,{"$f":"G33*I33","v":0}]
[null,1111181358,"34335_ord","Препарат Tropical Supreme д/підгот.водопровід.води алоє концент.250мл","Менше 10","Засоби для догляду за акваріумом",420.6,568,0,{"$f":"G34*I34","v":0}]

{"sheet":"True Fresh","index":57,"n_rows":25,"n_cols":10,"rows_kept":25,"cut":false,"hidden":false,"merged":[]}
[]
[null,null,null,null,null,null,"suziria.ua"]
[null,null,null,null,null,null,"0 800 21 82 99"]
[null,null,null,null,null,null,"feedback@suziria.ua"]
[]
["Зображення","Код","Артикул","Номенклатура","Наявність","Категорія","Ціна опт.","Ціна РРЦ","Замовлення, шт.","Сума, грн."]
[null,null,null,null,null,null,null,null,null,{"$f":"СУММ(J8:J25)","v":{"$error":"#NAME?"}}]
[null,1111166053,171548,"Carnilove True Fresh Beef for Adult dogs д/собак з яловичиною 1,4кг","Менше 10","Корм сухий для собак",726.72,1126,0,{"$f":"G8*I8","v":0}]
[null,1111167496,171549,"Carnilove True Fresh Beef for Adult dogs д/собак з яловичиною 4кг","Більше 10","Корм сухий для собак",1807.61,2802,0,{"$f":"G9*I9","v":0}]
[null,1111174830,172164,"Carnilove True Fresh Cat Fresh Chicken для дорослих котів курка 4,8кг","Менше 10","Корм сухий для котів",1676.76,2599,0,{"$f":"G10*I10","v":0}]
[null,1111174824,172157,"Carnilove True Fresh Cat Fresh Fish для дорослих котів риба 1,8кг","Більше 10","Корм сухий для котів",805.92,1249,0,{"$f":"G11*I11","v":0}]
[null,1111174825,172158,"Carnilove True Fresh Cat Fresh Fish для дорослих котів риба 4,8кг","Більше 10","Корм сухий для котів",1870.08,2899,0,{"$f":"G12*I12","v":0}]
[null,1111174826,172159,"Carnilove True Fresh Cat Fresh Turkey д/дорослих котів індичка 340г","Менше 10","Корм сухий для котів",199.35,309,0,{"$f":"G13*I13","v":0}]
[null,1111182588,172137,"Carnilove True Fresh Fish Adult Small Breed д/малих порід риба 4кг","Менше 10","Корм сухий для собак",1612.26,2499,0,{"$f":"G14*I14","v":0}]
[null,1111167494,171546,"Carnilove True Fresh Fish for Adult dogs д/собак усіх порід риба 4кг","Більше 10","Корм сухий для собак",1716.77,2661,0,{"$f":"G15*I15","v":0}]
[null,1111167493,171544,"Carnilove True Fresh Turkey for Adult dogs д/собак з індичкою 11,4 кг","Більше 10","Корм сухий для собак",3804.94,5898,0,{"$f":"G16*I16","v":0}]
[null,1111167492,171543,"Carnilove True Fresh Turkey for Adult dogs д/собак з індичкою 4 кг","Більше 10","Корм сухий для собак",1716.77,2661,0,{"$f":"G17*I17","v":0}]
[null,1111182584,172074,"Carnilove True Fresh Turkey Puppy д/цуценят індичка 1,4кг","Немає в наявності","Корм сухий для собак",644.52,999,0,{"$f":"G18*I18","v":0}]
[null,1111204652,172162,"ТЕРМ 08.25 Carnilove True Fresh Cat Fresh Chicken дорос/кот курка 340г","Менше 10","Корм сухий для котів",99.72,0,0,{"$f":"G19*I19","v":0}]
[null,1111205740,172162,"ТЕРМ 09.25 Carnilove True Fresh Cat Fresh Chicken дорос/кот курка 340г","Менше 10","Корм сухий для котів",99.72,0,0,{"$f":"G20*I20","v":0}]
[null,1111207465,171542,"ТЕРМ 10.25 Carnilove True Fresh Turkey for Adult dogs з індичкою 1,4кг","Менше 10","Корм сухий для собак",343.26,0,0,{"$f":"G21*I21","v":0}]
[null,1111205627,172159,"ТЕРМ. 09.25 Carnilove True Fresh Cat FreshTurkey доросл/кот індик 340г","Менше 10","Корм сухий для котів",99.72,0,0,{"$f":"G22*I22","v":0}]
[null,1111206355,171548,"ТЕРМ. 10.25 Carnilove True Fresh Beef for Adult dogs яловичина 1,4кг","Менше 10","Корм сухий для собак",363.36,0,0,{"$f":"G23*I23","v":0}]
[null,1111206780,172156,"ТЕРМ. 10.25 Carnilove True Fresh Cat Fresh Fish доросл/коти риба 340г","Менше 10","Корм сухий для котів",109.38,0,0,{"$f":"G24*I24","v":0}]
[null,1111207860,172156,"ТЕРМ.11.25.Корм сухий Carnilove True Fresh Cat Fresh Fish для дорослих","Менше 10","Корм сухий для котів",109.38,0,0,{"$f":"G25*I25","v":0}]

{"sheet":"Vitakraft","index":58,"n_rows":65,"n_cols":10,"rows_kept":65,"cut":false,"hidden":false,"merged":[]}
[]
[null,null,null,null,null,null,"suziria.ua"]
[null,null,null,null,null,null,"0 800 21 82 99"]
[null,null,null,null,null,null,"feedback@suziria.ua"]
[]
["Зображення","Код","Артикул","Номенклатура","Наявність","Категорія","Ціна опт.","Ціна РРЦ","Замовлення, шт.","Сума, грн."]
[null,null,null,null,null,null,null,null,null,{"$f":"СУММ(J8:J65)","v":{"$error":"#NAME?"}}]
[null,1111117212,25782,"Vitakraft Fit Bits для декоративних гризунів овочі/люцерна 500г","Більше 10","Ласощі для гризунів",327.24,459,0,{"$f":"G8*I8","v":0}]
[null,6562,21289,"Vitakraft Kracker Original Almonds Fig для австрал папуг фрукт 2шт/уп","Більше 10","Ласощі для птахів",208.74,293,0,{"$f":"G9*I9","v":0}]
[null,6280,"21264 /26231","Vitakraft Kracker Original Apricot Fig для папуг з фруктами 2 шт","Менше 10","Ласощі для птахів",94.08,130,0,{"$f":"G10*I10","v":0}]
[null,1111112226,25062,"Vitakraft Kracker Original Calci Fit крекер для шиншил кальцій 2шт","Більше 10","Ласощі для гризунів",126.84,180,0,{"$f":"G11*I11","v":0}]
[null,6276,"21294 Vitakraft","Vitakraft Kracker Original Feather Care для ара в період линьки 2шт","Більше 10","Ласощі для птахів",189.78,267,0,{"$f":"G12*I12","v":0}]
[null,1111112071,21224,"Vitakraft Kracker Original Feather Care для папуг при линьці 2шт","Більше 10","Ласощі для птахів",96.48,135,0,{"$f":"G13*I13","v":0}]
[null,1111117993,25155,"Vitakraft Kracker Original Frucht Flakes для морських свинок фрукт 2шт","Більше 10","Ласощі для гризунів",110.34,155,0,{"$f":"G14*I14","v":0}]
[null,1111117991,25140,"Vitakraft Kracker Original Spelt Apple для щурів зерно/фрукти 2шт","Більше 10","Ласощі для гризунів",125.64,175,0,{"$f":"G15*I15","v":0}]
[null,1111121124,"25227 Vitakraft","Vitakraft Kracker Original Trio-Mix для кроликів овочі/горіх/ягоди 2шт","Більше 10","Ласощі для гризунів",162.54,230,0,{"$f":"G16*I16","v":0}]
[null,1893,21231,"Vitakraft Kracker Original Trio-Mix для папуг мед/фрукти/яйця 3шт","Більше 100","Ласощі для птахів",114.06,160,0,{"$f":"G17*I17","v":0}]
[null,1111117988,"21339/18105","Вітамінізована добавка Vitakraft д/вел/серед/папуг під час линьки 25г","Більше 10","Вітаміни та мінерали для птахів",35.64,50,0,{"$f":"G18*I18","v":0}]
[null,1111117987,"21311 Vitakraft","Вітамінізована добавка Vitakraft д/хвил/екзот/папуг під час линьки 20г","Більше 100","Вітаміни та мінерали для птахів",24.3,35,0,{"$f":"G19*I19","v":0}]
[null,7405,21644,"Корм Viatkraft Australian для середніх австралійських папуг 750 г","Більше 10","Корм для птахів",346.14,486,0,{"$f":"G20*I20","v":0}]
[null,7398,21640,"Корм Vitakraft African для великих африканських папуг для жако 750г","Більше 10","Корм для птахів",313.14,437,0,{"$f":"G21*I21","v":0}]
[null,10054,21641,"Корм Vitakraft African для середніх африканських папуг 750 г","Менше 10","Корм для птахів",329.82,462,0,{"$f":"G22*I22","v":0}]
[null,7397,21643,"Корм Vitakraft Amazonian для великих амазонських папуг 750 г","Менше 10","Корм для птахів",338.52,475,0,{"$f":"G23*I23","v":0}]
[null,1111143687,"31462/33758","Корм Vitakraft Emotion Beauty Selection д/шиншил для шкіри/шерсті 600г","Більше 100","Корм для гризунів",326.52,457,0,{"$f":"G24*I24","v":0}]
[null,1111143685,"31458/33753","Корм Vitakraft Emotion д/декоративних гризунів і морських свинок 600г","Більше 10","Корм для гризунів",326.52,457,0,{"$f":"G25*I25","v":0}]
[null,1111143688,"31464/33761 Vitakraft","Корм Vitakraft Emotion для декоративних гризунів та дегу 600 г","Більше 100","Корм для гризунів",319.74,448,0,{"$f":"G26*I26","v":0}]
[null,1111142798,"31455/33745","Корм Vitakraft Emotion для декоративних гризунів та кроликів 600 г","Більше 10","Корм для гризунів",324.89999999999998,455,0,{"$f":"G27*I27","v":0}]
[null,1111114822,"18102/21444","Корм Vitakraft Menu для хвилястих папуг 1кг","Більше 100","Корм для птахів",232.14,323,0,{"$f":"G28*I28","v":0}]
[null,13105,"21441/10619","Корм Vitakraft Menu для хвилястих папуг 500г","Більше 100","Корм для птахів",132.36000000000001,187,0,{"$f":"G29*I29","v":0}]
[null,1111119041,25246,"Корм Vitakraft Pellets для декоративних кроликів 1кг","Більше 100","Корм для гризунів",240.72,337,0,{"$f":"G30*I30","v":0}]
[null,311999,25076,"Корм Vitakraft Pellets для шиншил1 кг","Більше 100","Корм для гризунів",137.04,193,0,{"$f":"G31*I31","v":0}]
[null,1111111810,"10645-29219","Корм Vitakraft Premium Menu Vital д/декоративних гризунів/кроликів 1кг","Більше 10","Корм для гризунів",293.64,411,0,{"$f":"G32*I32","v":0}]
[null,1111111809,"18121/29220/25582","Корм Vitakraft Premium Menu Vital для морських свинок 1кг","Більше 100","Корм для гризунів",287.16000000000003,401,0,{"$f":"G33*I33","v":0}]
[null,1111111808,"10646/25583","Корм Vitakraft Premium Menu Vital для морських свинок 400г","Більше 10","Корм для гризунів",117.42,165,0,{"$f":"G34*I34","v":0}]
[null,1111121971,25311,"Корм Vitakraft Premium Menu Vital для морських свинок 600г","Більше 10","Корм для гризунів",246.18,344,0,{"$f":"G35*I35","v":0}]
[null,6081,"21003/10621","Корм Vitakraft Premium Menu Vital для німф 1кг","Більше 100","Корм для птахів",252.6,354,0,{"$f":"G36*I36","v":0}]
[null,1111111811,"29222/25585//10647","Корм Vitakraft Premium Menu Vital для хом_яків 400г","Більше 100","Корм для гризунів",116.7,164,0,{"$f":"G37*I37","v":0}]
[null,11740,"25326 /25847","Корм Vitakraft Premium Menu Vital для шиншил 600г","Менше 10","Корм для гризунів",253.14,355,0,{"$f":"G38*I38","v":0}]
[null,1111112174,21318,"Корм Vitakraft Premium Menu для амадин 500г","Більше 10","Корм для птахів",152.76,213,0,{"$f":"G39*I39","v":0}]
[null,1111117983,25542,"Корм Vitakraft Premium Menu для декоративних гризунів та кроликів 3 кг","Більше 10","Корм для гризунів",655.14,918,0,{"$f":"G40*I40","v":0}]
[null,1111145733,21450,"Корм Vitakraft Premium Menu для декоративних папуг і канарок 1 кг","Більше 10","Корм для птахів",259.98,364,0,{"$f":"G41*I41","v":0}]
[null,1111119052,25314,"Корм Vitakraft Special для декоративних гризунів та кроликів 600г","Більше 10","Корм для гризунів",250.92,352,0,{"$f":"G42*I42","v":0}]
[null,1111119069,25692,"Корм Vitakraft Vita Verde Nature Mix д/гризунів подорожн/конюшина 70г","Більше 10","Корм для гризунів",172.38,243,0,{"$f":"G43*I43","v":0}]
[null,1111166859,"28813*****","Ласощі Vitakraft Crispy Crunch подушечки д/котів д/зубів з м_ятою 60г","Більше 10","Ласощі для котів",99.54,138,0,{"$f":"G44*I44","v":0}]
[null,1111111806,21221,"Ласощі Vitakraft Kracker Original д/канарок під час линьки 60г/2шт","Більше 10","Ласощі для птахів",68.099999999999994,95,0,{"$f":"G45*I45","v":0}]
[null,7409,21265,"Ласощі Vitakraft Kracker крекер д/канарок під час линьки яйце 60г/2шт","Більше 10","Ласощі для птахів",78.239999999999995,110,0,{"$f":"G46*I46","v":0}]
[null,12148,21237,"Ласощі Vitakraft Kracker крекер д/хвил/папуг інжир/ківі/банан 90г/3шт","Більше 10","Ласощі для птахів",120.48,171,0,{"$f":"G47*I47","v":0}]
[null,1111117992,25154,"Ласощі Vitakraft Kracker крекер д/хом_яків фрукти/пластівці 112г/2шт","Більше 10","Ласощі для гризунів",106.68,149,0,{"$f":"G48*I48","v":0}]
[null,1111121111,21117,"Ласощі Vitakraft VITA Nature Red Foxtail Millet для птахів чумиза 80г","Більше 10","Ласощі для птахів",132.66,186,0,{"$f":"G49*I49","v":0}]
[null,1111166870,"36726/28823*****","Ласощі Vitakraft Yums подушечки для котів з лососем та Омега-3 40г","Більше 10","Ласощі для котів",115.02,162,0,{"$f":"G50*I50","v":0}]
[null,1892,11003,"Наповнювач Vitakraft Sandy Mineralsand для кліток птахів пісок 2 кг","Менше 10","Предмети гігієни для птахів",199.56,281,0,{"$f":"G51*I51","v":0}]
[null,9817,"15523-11007","Наповнювач Vitakraft Sandy для кліток птахів пісок 2,5 кг","Менше 10","Предмети гігієни для птахів",130.32,183,0,{"$f":"G52*I52","v":0}]
[null,9819,15010,"Наповнювач Vitakraft Sandy пісок для шиншил 1кг","Більше 10","Догляд та гігієна для гризунів",236.1,332,0,{"$f":"G53*I53","v":0}]
[null,1111208536,21640,"ТЕРМ 04.26 ПОРВ Корм Vitakraft African велик/африкан/папуг/жако 750г","Менше 10","Корм для птахів",156.6,0,0,{"$f":"G54*I54","v":0}]
[null,1111208354,21643,"ТЕРМ 08.26 ПОРВ Корм Vitakraft Amazonian д/велик.амазонськ.папуг 750г","Менше 10","Корм для птахів",169.26,0,0,{"$f":"G55*I55","v":0}]
[null,1111205205,25311,"ТЕРМ. 05.26, ПОРВ. Корм Vitakraft Premium Menu Vital для декоративних","Менше 10","Корм для гризунів",123.12,0,0,{"$f":"G56*I56","v":0}]
[null,1111208152,"25326 /25847","ТЕРМ. 06.26. ПОРВ. Корм Vitakraft Premium Menu Vital для шиншил 600 г","Менше 10","Корм для гризунів",126.6,0,0,{"$f":"G57*I57","v":0}]
[null,1111204288,"18102/21444","ТЕРМ. 07.26, ПОРВ. Корм Vitakraft Menu для хвилястих папуг 1кг","Менше 10","Корм для птахів",116.1,0,0,{"$f":"G58*I58","v":0}]
[null,1111204504,"10645-29219","ТЕРМ. 08.25 Корм Vitakraft Premium Menu Vital декор.гризун/кролик 1кг","Менше 10","Корм для гризунів",146.82,0,0,{"$f":"G59*I59","v":0}]
[null,1111201854,"28815*****","ТЕРМ. 08.25 Ласощі Vitakraft Crispy Crunch подушечки/котів лосось 60г","Більше 10","Ласощі для котів",47.4,0,0,{"$f":"G60*I60","v":0}]
[null,1111201681,"28814*****","ТЕРМ. 08.25 Ласощі Vitakraft Crispy Crunch подушечки/котів птиця 60г","Менше 10","Ласощі для котів",47.4,0,0,{"$f":"G61*I61","v":0}]
[null,1111203926,"10645-29219","ТЕРМ. 10.25 Корм Vitakraft Premium Menu Vital декор.гризун/кролик 1кг","Більше 10","Корм для гризунів",146.82,0,0,{"$f":"G62*I62","v":0}]
[null,1111204207,"10645-29219","ТЕРМ. 10.25, ПОРВ. Корм Vitakraft Premium Menu Vital дек.гриз/крол 1кг","Менше 10","Корм для гризунів",146.82,0,0,{"$f":"G63*I63","v":0}]
[null,1111206457,35291,"ТЕРМ. 11.25 Vitakraft Poésie Délice pouch для кошенят індичка 85г","Більше 10","Корм вологий для котів",24.9,0,0,{"$f":"G64*I64","v":0}]
[null,1111208279,25246,"ТЕРМ.09.26.НЕ ТОВ.ВИГ.Корм Vitakraft Pellets для декоративних кроликів","Менше 10","Корм для гризунів",120.36,0,0,{"$f":"G65*I65","v":0}]

{"sheet":"WahoPet","index":59,"n_rows":16,"n_cols":10,"rows_kept":16,"cut":false,"hidden":false,"merged":[]}
[]
[null,null,null,null,null,null,"suziria.ua"]
[null,null,null,null,null,null,"0 800 21 82 99"]
[null,null,null,null,null,null,"feedback@suziria.ua"]
[]
["Зображення","Код","Артикул","Номенклатура","Наявність","Категорія","Ціна опт.","Ціна РРЦ","Замовлення, шт.","Сума, грн."]
[null,null,null,null,null,null,null,null,null,{"$f":"СУММ(J8:J16)","v":{"$error":"#NAME?"}}]
[null,1111169755,"WA00002","Килимок-годівниця WahoPet для собак Сова силіконова жовта","Менше 10","Килимки для собак",301.08,421,0,{"$f":"G8*I8","v":0}]
[null,1111169754,"WA00001","Килимок-годівниця WahoPet для собак Сова силіконова зелена","Менше 10","Килимки для собак",301.08,347,0,{"$f":"G9*I9","v":0}]
[null,1111172304,"WA00018","Миска WahoPet д/кот д/повільн годування з рибками пластикова блакитна","Менше 10","Миски для котів",201,260,0,{"$f":"G10*I10","v":0}]
[null,1111172305,"WA00019*****","Миска WahoPet д/кот д/повільн годування з рибками пластикова помаранч","Менше 10","Миски для котів",182.7,237,0,{"$f":"G11*I11","v":0}]
[null,1111172303,"WA00017","Миска WahoPet для собак для повільного годування пластикова блакитна","Менше 10","Миски та годівниці для собак",219.6,285,0,{"$f":"G12*I12","v":0}]
[null,1111169759,"WA00006*****","Миска-лабіринт WahoPet д/соб д/повіл годування зірка пластик коричнева","Менше 10","Миски та годівниці для собак",224.76,315,0,{"$f":"G13*I13","v":0}]
[null,1111169758,"WA00005*****","Миска-лабіринт WahoPet д/соб д/повіл годування зірка пластикова жовта","Менше 10","Миски та годівниці для собак",224.76,315,0,{"$f":"G14*I14","v":0}]
[null,1111169762,"WA00009*****","Миска-лабіринт WahoPet д/соб д/повільн годування пластикова коричнева","Менше 10","Миски та годівниці для собак",223.32,291,0,{"$f":"G15*I15","v":0}]
[null,1111169761,"WA00008","Миска-лабіринт WahoPet д/соб д/повільного годування пластикова зелена","Менше 10","Миски та годівниці для собак",223.32,291,0,{"$f":"G16*I16","v":0}]

{"sheet":"Yalute","index":60,"n_rows":29,"n_cols":10,"rows_kept":29,"cut":false,"hidden":false,"merged":[]}
[]
[null,null,null,null,null,null,"suziria.ua"]
[null,null,null,null,null,null,"0 800 21 82 99"]
[null,null,null,null,null,null,"feedback@suziria.ua"]
[]
["Зображення","Код","Артикул","Номенклатура","Наявність","Категорія","Ціна опт.","Ціна РРЦ","Замовлення, шт.","Сума, грн."]
[null,null,null,null,null,null,null,null,null,{"$f":"СУММ(J8:J29)","v":{"$error":"#NAME?"}}]
[null,1111170840,"CH-130*****","Ласощі Yalute д/котів Chicken and Codfish Dices кубики курка/тріск 50г","Менше 10","Ласощі для котів",50.46,71,0,{"$f":"G8*I8","v":0}]
[null,1111170830,"DU-43*****","Ласощі Yalute д/собак Bone Shape of Duck and Banana качка і банан 100г","Більше 10","Ласощі для собак",95.46,135,0,{"$f":"G9*I9","v":0}]
[null,1111170834,"YLT-042*****","Ласощі Yalute д/собак Salmon and Oats in Heart Shape лосось/овес 100г","Менше 10","Ласощі для собак",95.46,135,0,{"$f":"G10*I10","v":0}]
[null,1111170835,"YLT-043*****","Ласощі Yalute д/собак Salmon Vegetable in Heart Shape лосос/овочі 100г","Менше 10","Ласощі для собак",95.46,135,0,{"$f":"G11*I11","v":0}]
[null,1111170829,"DU-05B*****","Ласощі Yalute для собак Baked duck strip запечені качині полоски 100г","Більше 10","Ласощі для собак",95.46,135,0,{"$f":"G12*I12","v":0}]
[null,1111170831,"DU-44*****","Ласощі Yalute для собак Bone Shape of Duck and Apple качка/яблуко 100г","Більше 10","Ласощі для собак",95.46,135,0,{"$f":"G13*I13","v":0}]
[null,1111170828,"CH-072*****","Ласощі Yalute для собак Chicken and Duck Fillets філе курки/качки 100г","Менше 10","Ласощі для собак",95.46,135,0,{"$f":"G14*I14","v":0}]
[null,1111170837,"RA-15*****","Ласощі Yalute для собак Rabbit and Apple Bit кролик і яблуко 100г","Більше 10","Ласощі для собак",90.06,126,0,{"$f":"G15*I15","v":0}]
[null,1111170832,"FI-61*****","Ласощі Yalute для собак Salmon Cloud Shape хмаринки з лосося 100г","Менше 10","Ласощі для собак",117.12,165,0,{"$f":"G16*I16","v":0}]
[null,1111170833,"FI-40*****","Ласощі Yalute для собак Salmon Fillets філе лосося 100г","Більше 10","Ласощі для собак",90.06,126,0,{"$f":"G17*I17","v":0}]
[null,1111203076,"CH-130","ТЕРМ 09.25 Ласощі Yalute кот Chicken and CodfishDices куб кур/тріск 50","Більше 100","Ласощі для котів",25,0,0,{"$f":"G18*I18","v":0}]
[null,1111203075,"FI-46","ТЕРМ. 09.25 Ласощі Yalute д/кот Salmon Short Sticks палички лосось 50г","Більше 100","Ласощі для котів",21.66,0,0,{"$f":"G19*I19","v":0}]
[null,1111202495,"CH-113","ТЕРМ. 09.25 Ласощі Yalute д/кот Short Chicken Slices шмат.курки 50г","Більше 10","Ласощі для котів",29.28,0,0,{"$f":"G20*I20","v":0}]
[null,1111203079,"FI-60","ТЕРМ. 09.25 Ласощі Yalute д/кот Tuna Short Sticks палички тунець 50г","Більше 100","Ласощі для котів",21.66,0,0,{"$f":"G21*I21","v":0}]
[null,1111202985,"DU-44","ТЕРМ. 09.25 Ласощі Yalute д/соб BoneShape of Duck andApple качк/ябл100","Менше 10","Ласощі для собак",40,0,0,{"$f":"G22*I22","v":0}]
[null,1111203054,"RA-15","ТЕРМ. 09.25 Ласощі Yalute д/соб Rabbit and Apple Bit кролик/яблуко100г","Менше 10","Ласощі для собак",40,0,0,{"$f":"G23*I23","v":0}]
[null,1111202889,"RA-31*****","ТЕРМ. 09.25 Ласощі Yalute д/соб Rabbit/Banana Chips кролик/банан 100г","Менше 10","Ласощі для собак",40,0,0,{"$f":"G24*I24","v":0}]
[null,1111203072,"YLT-043","ТЕРМ. 09.25 Ласощі Yalute д/собак Salmon Vegetable in Heart Shape 100г","Менше 10","Ласощі для собак",40,0,0,{"$f":"G25*I25","v":0}]
[null,1111203074,"CH-070","ТЕРМ. 09.25 Ласощі Yalute для котів Chicken Dices кубики курка 50г","Більше 100","Ласощі для котів",23.88,0,0,{"$f":"G26*I26","v":0}]
[null,1111203078,"FI-50*****","ТЕРМ. 09.25 Ласощі Yalute для котів Salmon Dices кубики з лосося 50г","Більше 100","Ласощі для котів",21.66,0,0,{"$f":"G27*I27","v":0}]
[null,1111203077,"FI-40","ТЕРМ. 09.25 Ласощі Yalute для собак Salmon Fillets філе лосося 100г","Більше 10","Ласощі для собак",40,0,0,{"$f":"G28*I28","v":0}]
[null,1111202834,"FI-61","ТЕРМ. 09.25 Ласощі Yalute соб Salmon Cloud Shape хмаринки лосось 100г","Менше 10","Ласощі для собак",50,0,0,{"$f":"G29*I29","v":0}]

{"sheet":"Yee","index":61,"n_rows":29,"n_cols":10,"rows_kept":29,"cut":false,"hidden":false,"merged":[]}
[]
[null,null,null,null,null,null,"suziria.ua"]
[null,null,null,null,null,null,"0 800 21 82 99"]
[null,null,null,null,null,null,"feedback@suziria.ua"]
[]
["Зображення","Код","Артикул","Номенклатура","Наявність","Категорія","Ціна опт.","Ціна РРЦ","Замовлення, шт.","Сума, грн."]
[null,null,null,null,null,null,null,null,null,{"$f":"СУММ(J8:J29)","v":{"$error":"#NAME?"}}]
[null,1111176700,"YEE-994","Адаптер Yee із вилкою європейського стандарту","Більше 10",null,24,35,0,{"$f":"G8*I8","v":0}]
[null,1111176675,"YES-100B","Компресор Yee д/акваріума акумуляторний з USB кабелем 1,5 Вт","Більше 10","Компресори і помпи для акваріума",660.24,925,0,{"$f":"G9*I9","v":0}]
[null,1111176676,"YES-200A","Компресор Yee д/акваріума акумуляторний з USB кабелем 3 Вт","Менше 10","Компресори і помпи для акваріума",781.26,1093,0,{"$f":"G10*I10","v":0}]
[null,1111176677,"YTZ-300","Компресор Yee д/акваріума безшумний 3 Вт","Менше 10","Компресори і помпи для акваріума",181.74,255,0,{"$f":"G11*I11","v":0}]
[null,1111176678,"YTZ-212","Компресор Yee д/акваріума з двома виходами 3,5 Вт","Більше 10","Компресори і помпи для акваріума",470.76,658,0,{"$f":"G12*I12","v":0}]
[null,1111176679,"YEE-2034","Компресор Yee д/акваріума з двома виходами 6 Вт","Більше 10","Компресори і помпи для акваріума",550.98,771,0,{"$f":"G13*I13","v":0}]
[null,1111176687,"YEE-3002","Обігрівач Yee д/акваріума YGH-100 скляний 24,5см 100 Вт","Менше 10","Обігрівачі для акваріума",291.24,407,0,{"$f":"G14*I14","v":0}]
[null,1111176688,"YEE-3003","Обігрівач Yee д/акваріума YGH-200 скляний 28,5см 200 Вт","Більше 10","Обігрівачі для акваріума",294.12,412,0,{"$f":"G15*I15","v":0}]
[null,1111176681,"YEE-3007","Обігрівач Yee д/акваріума YSH-100 металевий 30см 100 Вт","Менше 10","Обігрівачі для акваріума",364.38,509,0,{"$f":"G16*I16","v":0}]
[null,1111176682,"YEE-3008","Обігрівач Yee д/акваріума YSH-200 металевий 30см 200 Вт","Більше 10","Обігрівачі для акваріума",373.86,524,0,{"$f":"G17*I17","v":0}]
[null,1111176683,"YEE-3005","Обігрівач Yee д/акваріума YSH-25 металевий 19см 25 Вт","Більше 10",null,352.2,492,0,{"$f":"G18*I18","v":0}]
[null,1111176684,"YEE-3009","Обігрівач Yee д/акваріума YSH-300 металевий 38см 300 Вт","Більше 10","Обігрівачі для акваріума",375.18,525,0,{"$f":"G19*I19","v":0}]
[null,1111176685,"YEE-3010","Обігрівач Yee д/акваріума YSH-500 металевий 38см 500 Вт","Більше 10","Обігрівачі для акваріума",376.5,527,0,{"$f":"G20*I20","v":0}]
[null,1111176669,"TN-K200","Світильник Yee д/акваріума світлодіодний 18см 5 Вт","Більше 10","Освітлення для акваріумів",259.44,362,0,{"$f":"G21*I21","v":0}]
[null,1111176674,"NLS-003","Світильник Yee д/акваріума світлодіодний з USB кабелем 3,5 Вт","Більше 10",null,320.88,449,0,{"$f":"G22*I22","v":0}]
[null,1111176672,"NKD-010","Світильник Yee д/акваріума світлодіодний з USB кабелем білий 5 Вт","Більше 10","Освітлення для акваріумів",463.02,648,0,{"$f":"G23*I23","v":0}]
[null,1111176691,"YEE-3631","Фільтр Yee аерліфтний синій","Менше 10","Фільтри для акваріумів",125.4,175,0,{"$f":"G24*I24","v":0}]
[null,1111185619,"YBL-5400F","Фільтр Yee д/акваріума внутрішній 1000 л/год 20 Вт","Більше 10","Фільтри для акваріумів",440.52,616,0,{"$f":"G25*I25","v":0}]
[null,1111176696,"YJY-900","Фільтр Yee д/акваріума внутрішній 1200 л/год 25 Вт","Менше 10","Фільтри для акваріумів",419.46,587,0,{"$f":"G26*I26","v":0}]
[null,1111176693,"YJY-500","Фільтр Yee д/акваріума внутрішній 500 л/год 6 Вт","Більше 10","Фільтри для акваріумів",300.72000000000003,421,0,{"$f":"G27*I27","v":0}]
[null,1111176694,"YJY-600","Фільтр Yee д/акваріума внутрішній 600 л/год 15 Вт","Менше 10","Фільтри для акваріумів",334.56,468,0,{"$f":"G28*I28","v":0}]
[null,1111176697,"NkKD-003","Фільтр Yee д/акваріума навісний 250 л/год 2,5 Вт","Більше 10","Фільтри для акваріумів",256.68,359,0,{"$f":"G29*I29","v":0}]

{"sheet":"Без бренда","index":62,"n_rows":23,"n_cols":10,"rows_kept":23,"cut":false,"hidden":false,"merged":[]}
[]
[null,null,null,null,null,null,"suziria.ua"]
[null,null,null,null,null,null,"0 800 21 82 99"]
[null,null,null,null,null,null,"feedback@suziria.ua"]
[]
["Зображення","Код","Артикул","Номенклатура","Наявність","Категорія","Ціна опт.","Ціна РРЦ","Замовлення, шт.","Сума, грн."]
[null,null,null,null,null,null,null,null,null,{"$f":"СУММ(J8:J23)","v":{"$error":"#NAME?"}}]
[null,1111175249,"PR243217*****","Аксесуар Pet Fashion Deer для собак M-L","Більше 10","Одяг для собак",216.97,292.91000000000003,0,{"$f":"G8*I8","v":0}]
[null,1111175250,"PR243216*****","Аксесуар Pet Fashion Deer для собак XS-S","Менше 10","Одяг для собак",216.88,292.79000000000002,0,{"$f":"G9*I9","v":0}]
[null,1111175244,"PR243222*****","Костюм  Din  XS","Менше 10",null,870.34,1174.97,0,{"$f":"G10*I10","v":0}]
[null,1111175243,"PR243223*****","Костюм  Din  XS-2","Менше 10",null,937.56,1265.7,0,{"$f":"G11*I11","v":0}]
[null,1111175223,"PR243243*****","Костюм Pet Fashion LOLA для собак бузковий S арт PR243243","Менше 10","Одяг для собак",729.48,984.8,0,{"$f":"G12*I12","v":0}]
[null,1111175222,"PR243244*****","Костюм Pet Fashion LOLA для собак бузковий S2 арт PR243244","Більше 10","Одяг для собак",888.83,1199.92,0,{"$f":"G13*I13","v":0}]
[null,1111175225,"PR243241*****","Костюм Pet Fashion LOLA для собак бузковий XS арт PR243241","Менше 10","Одяг для собак",634.57000000000005,856.67,0,{"$f":"G14*I14","v":0}]
[null,1111175221,"PR243245*****","Костюм Pet Fashion LOLA для собак бузковий М арт PR243245","Менше 10","Одяг для собак",876.71,1183.56,0,{"$f":"G15*I15","v":0}]
[null,1111175227,"PR243239*****","Костюм Pet Fashion ZHAN для собак синій S арт PR243239","Менше 10","Одяг для собак",765.01,1032.77,0,{"$f":"G16*I16","v":0}]
[null,1111175229,"PR243237*****","Костюм Pet Fashion ZHAN для собак синій XS арт PR243237","Більше 10","Одяг для собак",711.42,960,0,{"$f":"G17*I17","v":0}]
[null,1111175226,"PR243240*****","Костюм Pet Fashion ZHAN для собак синій М арт PR243240","Більше 10","Одяг для собак",894.62,1207.74,0,{"$f":"G18*I18","v":0}]
[null,1111175258,"PR243208*****","Попона Pet Fashion Santa для собак зелена M","Більше 10","Одяг для собак",534.66,764,0,{"$f":"G19*I19","v":0}]
[null,1111175259,"PR243207*****","Попона Pet Fashion Santa для собак зелена S","Більше 10","Одяг для собак",441.6,631,0,{"$f":"G20*I20","v":0}]
[null,1111175261,"PR243205*****","Попона Pet Fashion Santa для собак зелена XS","Більше 10","Одяг для собак",407.7,583,0,{"$f":"G21*I21","v":0}]
[null,1111175260,"PR243206*****","Попона Pet Fashion Santa для собак зелена XS-2","Більше 10","Одяг для собак",428.82,613,0,{"$f":"G22*I22","v":0}]
[null,1111175239,"PR243227*****","Шапка Pet Fashion Bubo для собак хакі S","Менше 10","Одяг для собак",142.86000000000001,192.86,0,{"$f":"G23*I23","v":0}]

{"sheet":"ЕкоВет, фітокомплекси","index":63,"n_rows":22,"n_cols":10,"rows_kept":22,"cut":false,"hidden":false,"merged":[]}
[]
[null,null,null,null,null,null,"suziria.ua"]
[null,null,null,null,null,null,"0 800 21 82 99"]
[null,null,null,null,null,null,"feedback@suziria.ua"]
[]
["Зображення","Код","Артикул","Номенклатура","Наявність","Категорія","Ціна опт.","Ціна РРЦ","Замовлення, шт.","Сума, грн."]
[null,null,null,null,null,null,null,null,null,{"$f":"СУММ(J8:J22)","v":{"$error":"#NAME?"}}]
[null,1111155030,"PR241110_1уп (4пип)","Краплі Provet ЕКОВЕТ д/котів/малих порід собак репелент 4піпетки/0,5мл","Більше 10","Антипаразитарні препарати для котів",155.76,218,0,{"$f":"G8*I8","v":0}]
[null,1111155031,"PR241111_1уп.(4пип)","Краплі Provet ЕКОВЕТ д/середніх порід собак репелент 4піпетки/1мл","Більше 10","Антипаразитарні препарати для собак",159.9,224,0,{"$f":"G9*I9","v":0}]
[null,1111155035,"PR241115*****","Нашийник Provet ЕКОВЕТ для котів і собак малих порід репелентний 35 см","Більше 10","Антипаразитарні препарати для котів",95.94,134,0,{"$f":"G10*I10","v":0}]
[null,1111155033,"PR241113","Спрей Provet ЕКОВЕТ для котів і собак репелентний 100мл","Більше 10","Антипаразитарні препарати для котів",140.88,197,0,{"$f":"G11*I11","v":0}]
[null,1111155034,"PR241114","Спрей Provet ЕКОВЕТ для котів і собак репелентний 250мл","Більше 10","Антипаразитарні препарати для котів",273.89999999999998,383,0,{"$f":"G12*I12","v":0}]
[null,1111160839,"PR241753*****","Фітокомплекс Provet КІТ ВОРКІТ д/котів/собак д/корекції поведінки 20мл","Більше 10","Корекція поведінки для котів",80.52,113,0,{"$f":"G13*I13","v":0}]
[null,1111159466,"PR241369","Фітокомплекс Provet ФІТОВИТ д/котів вивед/шерсті сечовив/сист 100т/72г","Більше 10","Вітаміни для котів",89.28,125,0,{"$f":"G14*I14","v":0}]
[null,1111159468,"PR241376","Фітокомплекс Provet ФІТОВИТ д/котів д/сечовидільної системи 100таб/72г","Більше 10","Вітаміни для котів",85.86,120,0,{"$f":"G15*I15","v":0}]
[null,1111159467,"PR241368","Фітокомплекс Provet ФІТОВИТ д/котів нерв/імун/сечовив/система 100т/72г","Більше 10","Вітаміни для котів",87.72,123,0,{"$f":"G16*I16","v":0}]
[null,1111159469,"PR241375","Фітокомплекс Provet ФІТОВИТ д/котів шерсть/сечовив/система 100таб/72г","Більше 10","Вітаміни для котів",85.86,120,0,{"$f":"G17*I17","v":0}]
[null,1111159470,"PR241374","Фітокомплекс Provet ФІТОВИТ д/собак д/зміцн/зубів/кісток 100табл/112г","Більше 10","Вітаміни для собак",96.18,135,0,{"$f":"G18*I18","v":0}]
[null,1111159471,"PR241373","Фітокомплекс Provet ФІТОВИТ д/собак зміцн/віднов/суглобів 100табл/112г","Більше 10","Вітаміни для собак",222.12,310,0,{"$f":"G19*I19","v":0}]
[null,1111159473,"PR241371","Фітокомплекс Provet ФІТОВИТ для собак для травної системи 100таб/112г","Більше 10","Вітаміни для собак",93.9,132,0,{"$f":"G20*I20","v":0}]
[null,1111159472,"PR241372","Фітокомплекс Provet ФІТОВИТ для собак для шерсті 100табл/112г","Більше 10","Вітаміни для собак",93.9,132,0,{"$f":"G21*I21","v":0}]
[null,1111159474,"PR241370","Фітокомплекс Provet ФІТОВИТ для собак протиалергічний 100табл/112г","Більше 10","Вітаміни для собак",93.9,132,0,{"$f":"G22*I22","v":0}]

{"sheet":"Природа","index":64,"n_rows":522,"n_cols":10,"rows_kept":522,"cut":false,"hidden":false,"merged":[]}
[]
[null,null,null,null,null,null,"suziria.ua"]
[null,null,null,null,null,null,"0 800 21 82 99"]
[null,null,null,null,null,null,"feedback@suziria.ua"]
[]
["Зображення","Код","Артикул","Номенклатура","Наявність","Категорія","Ціна опт.","Ціна РРЦ","Замовлення, шт.","Сума, грн."]
[null,null,null,null,null,null,null,null,null,{"$f":"СУММ(J8:J522)","v":{"$error":"#NAME?"}}]
[null,1111205653,"PR241975","БЕЗ ПІДКЛАДКИ, НЕТОВ.В. Сумка-переноска Природа Константа для котів та","Менше 10","Сумки, переноски та посуд для подорожей з собаками",459.78,0,0,{"$f":"G8*I8","v":0}]
[null,1111188404,"PR241867","БРАК ПІДСТАВКИ Набір мисок Природа Етно для котів та собак 200 мл","Менше 10","Миски та годівниці для собак",364,0,0,{"$f":"G9*I9","v":0}]
[null,1111161525,"PR241892","Будинок-лежак Природа Comfort 1 для котів та собак 32х31х28см","Більше 10","Спальні місця для собак",467.28,631,0,{"$f":"G10*I10","v":0}]
[null,1111161526,"PR241891","Будинок-лежак Природа Comfort 2 для котів та собак 35х34х31см","Більше 10","Спальні місця для собак",547.26,739,0,{"$f":"G11*I11","v":0}]
[null,1111161527,"PR241890","Будинок-лежак Природа Comfort 3 д/котів/собак бязь/поролон 40х40х37см","Більше 10","Спальні місця для собак",618.72,835,0,{"$f":"G12*I12","v":0}]
[null,1111161528,"PR241889","Будинок-лежак Природа Comfort 4 для котів та собак 44х43х40см","Менше 10","Спальні місця для собак",746.52,1008,0,{"$f":"G13*I13","v":0}]
[null,1111161523,"PR241888","Будинок-лежак Природа Cube для котів та собак бязь/поролон 39х38х35см","Більше 10","Спальні місця для собак",713.64,963,0,{"$f":"G14*I14","v":0}]
[null,1111161524,"PR241899","Будинок-лежак Природа Lord д/котів/собак 36х36х32см","Більше 100","Спальні місця для собак",536.04,724,0,{"$f":"G15*I15","v":0}]
[null,1111161521,"PR241898","Будинок-лежак Природа Yurt д/котів/собак 38х38х26см","Більше 10","Спальні місця для собак",563.4,761,0,{"$f":"G16*I16","v":0}]
[null,1111162301,"PR241956","Будиночок Природа для гризунів 13х13х13см","Менше 10","Обладнання для гризунів",76.680000000000007,104,0,{"$f":"G17*I17","v":0}]
[null,8932,"PR740804","Будиночок Природа для птахів великий 24x17x17см","Менше 10","Обладнання для птахів",308.16000000000003,416,0,{"$f":"G18*I18","v":0}]
[null,10399,"PR740805","Будиночок Природа для птахів малий 13x11x11см","Більше 10","Обладнання для птахів",98.16,132,0,{"$f":"G19*I19","v":0}]
[null,11005,"PR740806","Будиночок Природа для птахів середній 13x15x16см","Більше 10","Обладнання для птахів",176.76,239,0,{"$f":"G20*I20","v":0}]
[null,1111140383,"PR240277","Будиночок Природа для хом_яка 13x10x7,5см","Більше 100","Обладнання для гризунів",45.12,62,0,{"$f":"G21*I21","v":0}]
[null,1111144192,"PR001198","Будиночок Природа Мрія для кролика 30x22x18см","Більше 10","Обладнання для гризунів",432.84,583,0,{"$f":"G22*I22","v":0}]
[null,1111143417,"PR001193","Будиночок Природа Мрія для морскої свинки 25x15x13см","Більше 10","Обладнання для гризунів",260.64,351,0,{"$f":"G23*I23","v":0}]
[null,1111143416,"PR001192","Будиночок Природа Мрія для хом_яка 13,5x13x15см","Більше 10","Обладнання для гризунів",148.44,201,0,{"$f":"G24*I24","v":0}]
[null,1111115299,"PR740810","Будиночок-переноска Природа для тваринок 17x8x9см","Більше 100","Обладнання для гризунів",7.14,9,0,{"$f":"G25*I25","v":0}]
[null,1111133768,"PR740811","Будиночок-переноска Природа для тваринок макси 25x15x17см","Більше 100","Обладнання для гризунів",22.38,30,0,{"$f":"G26*I26","v":0}]
[null,1111186192,"PR243927*****","Вишиванка Maryana S","Більше 10","Одяг для собак",760.56,1087.6300000000001,0,{"$f":"G27*I27","v":0}]
[null,1111186194,"PR243931*****","Вишиванка Maryana XS","Менше 10","Одяг для собак",720.66,1030.53,0,{"$f":"G28*I28","v":0}]
[null,1111186193,"PR243928*****","Вишиванка Maryana XS2","Більше 10","Одяг для собак",747.72,1069.23,0,{"$f":"G29*I29","v":0}]
[null,1111186195,"PR243933*****","Вишиванка Maryana XXS","Більше 10","Одяг для собак",709.08,1013.95,0,{"$f":"G30*I30","v":0}]
[null,1111186188,"PR243932*****","Вишиванка Ostap S","Більше 10","Одяг для собак",739.08,1057,0,{"$f":"G31*I31","v":0}]
[null,1111186190,"PR243926*****","Вишиванка Ostap XS","Менше 10","Одяг для собак",626.46,895.82,0,{"$f":"G32*I32","v":0}]
[null,1111186189,"PR243930*****","Вишиванка Ostap XS2","Більше 10","Одяг для собак",657.96,940.84,0,{"$f":"G33*I33","v":0}]
[null,1111186191,"PR243929*****","Вишиванка Ostap XXS","Більше 10","Одяг для собак",612.29999999999995,875.6,0,{"$f":"G34*I34","v":0}]
[null,5154,"PR240125","Вітаміни Природа Пір_їнка д/дріб/сер/птахів під час линьки насіння 20г","Більше 100","Вітаміни та мінерали для птахів",9.18,14,0,{"$f":"G35*I35","v":0}]
[null,5153,"PR240126*****","Вітаміни Природа Юніор д/мол/дріб/сер папуг мультивітамін насіння 20г","Більше 100","Вітаміни та мінерали для птахів",9.18,14,0,{"$f":"G36*I36","v":0}]
[null,1111134306,"PR240222","Гігієнічний пояс Природа для кобелів розмір M","Менше 10","Одяг для собак",246.84,333,0,{"$f":"G37*I37","v":0}]
[null,1111134305,"PR240223","Гігієнічний пояс Природа для кобелів розмір S","Менше 10","Одяг для собак",205.44,277,0,{"$f":"G38*I38","v":0}]
[null,1111134217,"PR240224","Гігієнічний пояс Природа для кобелів розмір XS","Менше 10","Одяг для собак",190.74,258,0,{"$f":"G39*I39","v":0}]
[null,6315,"PR240225","Гігієнічні труси Природа 1 для собак утеплені 25-30см","Більше 10","Одяг для собак",90.54,124,0,{"$f":"G40*I40","v":0}]
[null,6316,"PR240226","Гігієнічні труси Природа 2 для собак утеплені 30-36см","Більше 10","Одяг для собак",92.52,125,0,{"$f":"G41*I41","v":0}]
[null,6319,"PR240229","Гігієнічні труси Природа 5 для собак утеплені 48-55см","Більше 10","Одяг для собак",105.84,145,0,{"$f":"G42*I42","v":0}]
[null,6320,"PR240230","Гігієнічні труси Природа 6 для собак утеплені 55-62см","Менше 10","Одяг для собак",111.12,150,0,{"$f":"G43*I43","v":0}]
[null,1111113084,"PR740824","Годівниця Природа для птахів з кріпленням закрита 75мл","Більше 100","Обладнання для птахів",20.52,27,0,{"$f":"G44*I44","v":0}]
[null,7136,"PR740823","Годівничка Природа для папуг з кріпленням 100мл","Більше 100","Обладнання для птахів",8.0399999999999991,11,0,{"$f":"G45*I45","v":0}]
[null,1111112029,"PR740825*****","Годівничка-поїлка Природа для гризунів 18x11см","Менше 10","Обладнання для гризунів",190.08,257,0,{"$f":"G46*I46","v":0}]
[null,1111125111,"PR740759","Десерт Природа Фієста Кульки для гризунів 70г/3шт","Більше 100","Ласощі для гризунів",32.520000000000003,48,0,{"$f":"G47*I47","v":0}]
[null,1111186378,"PR243949","Дощовик Marlie для собак S","Більше 10","Одяг для собак",758.94,1085,0,{"$f":"G48*I48","v":0}]
[null,1111186374,"PR243946","Дощовик Marlie для собак S2","Менше 10","Одяг для собак",833.52,1192,0,{"$f":"G49*I49","v":0}]
[null,1111186375,"PR243942","Дощовик Marlie для собак S3","Менше 10","Одяг для собак",886.44,1268,0,{"$f":"G50*I50","v":0}]
[null,1111186379,"PR243950","Дощовик Marlie для собак SМ","Більше 10","Одяг для собак",790.02,1130,0,{"$f":"G51*I51","v":0}]
[null,1111186373,"PR243945","Дощовик Marlie для собак М2","Більше 10","Одяг для собак",883.14,1263,0,{"$f":"G52*I52","v":0}]
[null,1111186376,"PR243943","Дощовик Marlie для собак М3","Менше 10","Одяг для собак",896.88,1283,0,{"$f":"G53*I53","v":0}]
[null,1111186377,"PR243944","Дощовик Marlie для собак МL","Більше 10","Одяг для собак",832.68,1191,0,{"$f":"G54*I54","v":0}]
[null,1111186371,"PR243948","Дощовик Marlie для собак такса S","Більше 10","Одяг для собак",857.82,1227,0,{"$f":"G55*I55","v":0}]
[null,1111186369,"PR243953","Дощовик Marlie для собак такса S2","Більше 10","Одяг для собак",933.9,1336,0,{"$f":"G56*I56","v":0}]
[null,1111186370,"PR243951","Дощовик Marlie для собак такса М","Більше 10","Одяг для собак",964.44,1379,0,{"$f":"G57*I57","v":0}]
[null,1111186372,"PR243947","Дощовик Marlie для собак такса ХS","Більше 10","Одяг для собак",831.54,1189,0,{"$f":"G58*I58","v":0}]
[null,1111156592,"PR241234","Дряпка Вежа бежева","Більше 10","Дряпки для котів",1684.98,2191,0,{"$f":"G59*I59","v":0}]
[null,1111156591,"PR241235","Дряпка Вежа сіра","Менше 10","Дряпки для котів",1684.98,2191,0,{"$f":"G60*I60","v":0}]
[null,1111118775,"PR740296","Дряпка Природа Д04 Лапка з чотирма бубонами для котів 37x37x67см","Більше 10","Дряпки для котів",619.67999999999995,806,0,{"$f":"G61*I61","v":0}]
[null,1111171263,"PR242960","Дряпка Природа Д051 для котів з аркою 38x50x65см","Більше 10","Дряпки для котів",1624.2,2111,0,{"$f":"G62*I62","v":0}]
[null,1111151669,"PR740305","Дряпка Природа Д1 для котів з будкою 32x32x65см","Більше 10","Дряпки для котів",887.46,1154,0,{"$f":"G63*I63","v":0}]
[null,1111114066,"PR740306","Дряпка Природа Д1 для котів з будкою 32x32x65см","Більше 10","Дряпки для котів",829.74,1079,0,{"$f":"G64*I64","v":0}]
[null,1111114017,"PR740310","Дряпка Природа Д11 для котів з великою будкою 36x36x65см","Більше 10","Дряпки для котів",941.04,1223,0,{"$f":"G65*I65","v":0}]
[null,1111151673,"PR740313","Дряпка Природа Д11у для котів кутова з будкою 39x39x65см","Більше 10","Дряпки для котів",1125.96,1463,0,{"$f":"G66*I66","v":0}]
[null,5755,"PR740314","Дряпка Природа Д11у для котів кутова з будкою 39x39x65см","Більше 10","Дряпки для котів",1084.6199999999999,1410,0,{"$f":"G67*I67","v":0}]
[null,1111171264,"PR242961","Дряпка Природа Д23 для котів з будиночком 36x36x115см","Менше 10","Дряпки для котів",2094.36,2723,0,{"$f":"G68*I68","v":0}]
[null,1111151686,"PR740341","Дряпка Природа ДУ для котів настінна кутова 41см","Менше 10","Дряпки для котів",554.88,721,0,{"$f":"G69*I69","v":0}]
[null,1111163192,"PR242069","Дряпка Природа Лофт для котів 10х10х70-80см","Менше 10","Дряпки для котів",600.36,781,0,{"$f":"G70*I70","v":0}]
[null,1111163193,"PR242068","Дряпка Природа Марсель для котів 40х45,5х54,5см","Менше 10","Дряпки для котів",1084.56,1410,0,{"$f":"G71*I71","v":0}]
[null,1111141433,"PR240375","Дряпка Природа Мишка-стовпчик для котів 36х36х52cм","Більше 10","Дряпки для котів",646.44000000000005,839,0,{"$f":"G72*I72","v":0}]
[null,1111170981,"PR242958","Дряпка Природа Мімі Мікс 36x36x64см","Більше 10","Дряпки для котів",385.98,440,0,{"$f":"G73*I73","v":0}]
[null,1111151654,"PR740260","Дряпка Природа Містечко 2 для котів 108х49х122см","Менше 10","Дряпки для котів",2986.32,3882,0,{"$f":"G74*I74","v":0}]
[null,1111151631,"PR740263","Дряпка Природа Містечко для котів кутова 55х56х117см","Більше 10","Дряпки для котів",3082.92,4008,0,{"$f":"G75*I75","v":0}]
[null,1111151680,"PR740328","Дряпка Природа Містечко містечко для котів большая 99x49x125см","Менше 10","Дряпки для котів",3879.24,5237,0,{"$f":"G76*I76","v":0}]
[null,1111200195,"PR244264","Дряпка Природа Саванна з барабаном капучино 38x38x90 см PR244264","Більше 10","Дряпки для котів",1636.02,2127,0,{"$f":"G77*I77","v":0}]
[null,1111203852,"PR244301","Дряпка стовпчик Природа Мімі Brown для котів 36x36x66 см PR244301","Більше 10","Дряпки для котів",376.44,565,0,{"$f":"G78*I78","v":0}]
[null,1111203853,"PR244300","Дряпка стовпчик Природа Мімі Grey для котів 36x36x66 см PR244300","Більше 10","Дряпки для котів",376.44,565,0,{"$f":"G79*I79","v":0}]
[null,1111170980,"PR242957","Дряпка-стовпчик Природа Фелікс МІКС для котів 36х36х54см","Більше 10","Дряпки для котів",499.02,649,0,{"$f":"G80*I80","v":0}]
[null,1111186103,"PR243894","Жилет Chip для собак SM","Менше 10","Одяг для собак",833.16,1191,0,{"$f":"G81*I81","v":0}]
[null,1111186094,"PR243882","Жилет Chip для собак такса M","Більше 10","Одяг для собак",956.52,1368,0,{"$f":"G82*I82","v":0}]
[null,1111186095,"PR243884","Жилет Chip для собак такса S","Більше 10","Одяг для собак",884.46,1265,0,{"$f":"G83*I83","v":0}]
[null,1111183596,"PR243846*****","Іграшка  Золота рибка для котів","Більше 10","Іграшки для котів",100.86,135,0,{"$f":"G84*I84","v":0}]
[null,1111183593,"PR243842*****","Іграшка  Крабик+ кільце для котів","Більше 10","Іграшки для котів",80.819999999999993,109,0,{"$f":"G85*I85","v":0}]
[null,1111183594,"PR243841*****","Іграшка  Морська зірка для собак","Більше 10","Іграшки для собак",137.28,185,0,{"$f":"G86*I86","v":0}]
[null,1111183595,"PR243843*****","Іграшка  Морський коник для собак","Більше 10","Іграшки для собак",117.84,159,0,{"$f":"G87*I87","v":0}]
[null,1111135840,"PR240255","Іграшка Природа Гірлянда для папуг із дзвіночком 22см","Більше 10","Іграшки для птахів",21.78,31,0,{"$f":"G88*I88","v":0}]
[null,1111138611,"PR240256","Іграшка Природа Гойдалка для папуг з дзвіночком 12х19см","Більше 100","Іграшки для птахів",15.3,19,0,{"$f":"G89*I89","v":0}]
[null,1111138570,"PR000990","Іграшка Природа Гойдалка для папуг з дзвіночком 12х19см 5шт","Більше 10","Іграшки для птахів",88.44,118,0,{"$f":"G90*I90","v":0}]
[null,1111137841,"PR240260","Іграшка Природа Драбинка для папуг 6х22см","Більше 10","Іграшки для птахів",10.26,14,0,{"$f":"G91*I91","v":0}]
[null,1111135839,"PR000962","Іграшка Природа Драбинка для папуг 6х22см 5шт","Більше 10","Іграшки для птахів",51.9,69,0,{"$f":"G92*I92","v":0}]
[null,1111137840,"PR240258","Іграшка Природа Драбинка для папуг з дзвіночком та намистом 6х22см","Більше 100","Іграшки для птахів",11.58,15,0,{"$f":"G93*I93","v":0}]
[null,1111137828,"PR000967","Іграшка Природа Драбинка для папуг з дзвіночком та намистом 6х22см 5шт","Менше 10","Іграшки для птахів",77.16,104,0,{"$f":"G94*I94","v":0}]
[null,7657,"PR240374","Іграшка Природа Каченя для кота з мотузочками на резинці 5см","Більше 10","Іграшки для котів",50.22,68,0,{"$f":"G95*I95","v":0}]
[null,1111173414,"PR243079","Іграшка Природа Кісточка для собак велика 15х16х7см","Більше 10","Іграшки для собак",49.68,66,0,{"$f":"G96*I96","v":0}]
[null,1111135838,"PR240257","Іграшка Природа Кулька для птахів з дзвіночком 7см","Більше 100","Іграшки для птахів",16.260000000000002,21,0,{"$f":"G97*I97","v":0}]
[null,1111135832,"PR240254","Іграшка Природа Кулька-дзвоник для кота 4,5см","Більше 100","Іграшки для котів",7.8,12,0,{"$f":"G98*I98","v":0}]
[null,1111173419,"PR243074","Іграшка Природа Курочка з повсті для котів 6х5см","Більше 10","Іграшки для котів",40.86,56,0,{"$f":"G99*I99","v":0}]
[null,1111173418,"PR243075","Іграшка Природа Мишка шкряботушка для котів 8,5х5см","Більше 10","Іграшки для котів",44.1,60,0,{"$f":"G100*I100","v":0}]
[null,1111152782,"PR000888","Іграшка Природа Мишка Шустрик для кота 10x4см 30шт","Менше 10","Іграшки для котів",669.36,904,0,{"$f":"G101*I101","v":0}]
[null,1111143832,"PR240443","Іграшка Природа Паличка для кота з пір_ям на резинці 50см","Більше 100","Іграшки для котів",66.959999999999994,90,0,{"$f":"G102*I102","v":0}]
[null,1111173417,"PR243076","Іграшка Природа Пантофля для собак 15х7см","Більше 10","Іграшки для собак",56.28,75,0,{"$f":"G103*I103","v":0}]
[null,1111173416,"PR243077","Іграшка Природа Пантофля з канатом для собак 24х15х7см","Більше 10","Іграшки для собак",45.24,61,0,{"$f":"G104*I104","v":0}]
[null,1111173423,"PR243070","Іграшка Природа Хвіст для собак 50x13см","Більше 10","Іграшки для собак",168.72,228,0,{"$f":"G105*I105","v":0}]
[null,1111173420,"PR243073","Іграшка-вудка Природа Рибка на магніті для котів 9х15см","Більше 10","Іграшки для котів",117.06,159,0,{"$f":"G106*I106","v":0}]
[null,1111135693,"PR240259","Іграшка-кільця Природа Олімпійка для папуг 32см","Більше 100","Іграшки для птахів",17.88,24,0,{"$f":"G107*I107","v":0}]
[null,1111167040,"PR242527","Кігтеточка Природа Д00 ДЖУТ стовпчик для котів 53см","Більше 100","Дряпки для котів",339.48,441,0,{"$f":"G108*I108","v":0}]
[null,1111151662,"PR740280","Кігтеточка Природа ДО1 д/котів 36х36х67см","Більше 10","Дряпки для котів",510.96,664,0,{"$f":"G109*I109","v":0}]
[null,1111114198,"PR740282","Кігтеточка Природа ДО1 д/котів 36х36х67см","Більше 10","Дряпки для котів",496.08,645,0,{"$f":"G110*I110","v":0}]
[null,1111151664,"PR740293","Кігтеточка Природа ДО4 д/котів стовпчик з чотирма бубонами 36х36х67см","Більше 10","Дряпки для котів",593.64,772,0,{"$f":"G111*I111","v":0}]
[null,1111114031,"PR740292","Кігтеточка Природа ДО4 д/котів стовпчик з чотирма бубонами 36х36х67см","Більше 10","Дряпки для котів",564.96,735,0,{"$f":"G112*I112","v":0}]
[null,1111170979,"PR242956","Кігтеточка Природа ДОО Джут Мікс д/котів 32х32х52см","Більше 10","Дряпки для котів",339.42,441,0,{"$f":"G113*I113","v":0}]
[null,1111151660,"PR740277","Кігтеточка Природа ДОО стовпчик д/котів 32х32х52см","Більше 10","Дряпки для котів",443.88,576,0,{"$f":"G114*I114","v":0}]
[null,1111167044,"PR242523","Кігтеточка Природа Мімі стовпчик для/котів 36x36x64см","Більше 10","Дряпки для котів",425.4,553,0,{"$f":"G115*I115","v":0}]
[null,1111159087,"PR241494","Клітка для птахів Природа Арка коричнева 44x27x65см","Більше 10","Обладнання для птахів",1138.5,1480,0,{"$f":"G116*I116","v":0}]
[null,1111159086,"PR241495","Клітка Природа Арка велика для птахів блакитна 44x27x75см","Більше 10","Обладнання для птахів",1408.5,1831,0,{"$f":"G117*I117","v":0}]
[null,1111159093,"PR241490","Клітка Природа Ауріка д/дрібних декоративн птахів фіолетова 44x27x64см","Менше 10","Обладнання для птахів",1137.78,1480,0,{"$f":"G118*I118","v":0}]
[null,1111159107,"PR241486","Клітка Природа Белла д/дрібних декоративн птахів хромована 37x25x37см","Немає в наявності","Обладнання для птахів",898.32,1167,0,{"$f":"G119*I119","v":0}]
[null,1111159127,"PR241531","Клітка Природа Гоша д/дрібн/гризунів з колесом біла/зелена 44x27x50см","Менше 10","Обладнання для гризунів",1027.6199999999999,1336,0,{"$f":"G120*I120","v":0}]
[null,1111159112,"PR241482","Клітка Природа Ізабель 1 д/дрібн/декоратив/птахів хромована 44x27x61см","Менше 10","Обладнання для птахів",1228.44,1597,0,{"$f":"G121*I121","v":0}]
[null,1111159134,"PR241527","Клітка Природа Кролик міні для гризунів біла/зелена 44x27x30см","Менше 10","Обладнання для гризунів",912.36,1186,0,{"$f":"G122*I122","v":0}]
[null,1111159148,"PR241523","Клітка Природа Нюра д/дрібн/гризунів будинок біла/фіолетова 44x27x59см","Більше 10","Обладнання для гризунів",1266.8399999999999,1647,0,{"$f":"G123*I123","v":0}]
[null,8777,"PR740817","Колесо Природа для хом_яків 14см","Більше 10","Обладнання для гризунів",31.14,41,0,{"$f":"G124*I124","v":0}]
[null,1111139129,"PR240264","Колесо-барабан Природа для хом_яків з кріпленням 14см","Більше 100","Обладнання для гризунів",24.12,34,0,{"$f":"G125*I125","v":0}]
[null,1111186402,"PR243975","Комбінезон Den для собак S","Більше 10","Одяг для собак",923.34,1321,0,{"$f":"G126*I126","v":0}]
[null,1111186397,"PR243967","Комбінезон Den для собак S2","Більше 10","Одяг для собак",1005.3,1438,0,{"$f":"G127*I127","v":0}]
[null,1111186399,"PR243972","Комбінезон Den для собак S3","Більше 10","Одяг для собак",1091.3399999999999,1560,0,{"$f":"G128*I128","v":0}]
[null,1111186403,"PR243974","Комбінезон Den для собак SМ","Більше 10","Одяг для собак",934.2,1336,0,{"$f":"G129*I129","v":0}]
[null,1111186391,"PR243957","Комбінезон Den для собак коргі XL","Більше 10","Одяг для собак",1081.32,1546,0,{"$f":"G130*I130","v":0}]
[null,1111186398,"PR243971","Комбінезон Den для собак М2","Більше 10","Одяг для собак",1077.06,1540,0,{"$f":"G131*I131","v":0}]
[null,1111186400,"PR243973","Комбінезон Den для собак М3","Більше 10","Одяг для собак",1090.44,1559,0,{"$f":"G132*I132","v":0}]
[null,1111186401,"PR243977","Комбінезон Den для собак МL","Більше 10","Одяг для собак",995.88,1424,0,{"$f":"G133*I133","v":0}]
[null,1111186395,"PR243969","Комбінезон Den для собак такса S","Більше 10","Одяг для собак",1034.6400000000001,1479,0,{"$f":"G134*I134","v":0}]
[null,1111186393,"PR243960","Комбінезон Den для собак такса S2","Більше 10","Одяг для собак",1088.58,1557,0,{"$f":"G135*I135","v":0}]
[null,1111186396,"PR243966","Комбінезон Den для собак такса XS","Більше 10","Одяг для собак",979.62,1401,0,{"$f":"G136*I136","v":0}]
[null,1111186394,"PR243964","Комбінезон Den для собак такса М","Більше 10","Одяг для собак",1125.06,1609,0,{"$f":"G137*I137","v":0}]
[null,1111186413,"PR243987","Комбінезон Milly дівчинка для собак S","Більше 10","Одяг для собак",891.78,1275,0,{"$f":"G138*I138","v":0}]
[null,1111186410,"PR243985","Комбінезон Milly дівчинка для собак S2","Більше 10","Одяг для собак",1024.74,1465,0,{"$f":"G139*I139","v":0}]
[null,1111186411,"PR243983","Комбінезон Milly дівчинка для собак S3","Більше 10","Одяг для собак",1056.24,1510,0,{"$f":"G140*I140","v":0}]
[null,1111186414,"PR243986","Комбінезон Milly дівчинка для собак SМ","Більше 10","Одяг для собак",945.72,1352,0,{"$f":"G141*I141","v":0}]
[null,1111186405,"PR243979","Комбінезон Milly дівчинка для собак коргі L","Більше 10","Одяг для собак",1047.72,1498,0,{"$f":"G142*I142","v":0}]
[null,1111186404,"PR243976","Комбінезон Milly дівчинка для собак коргі XL","Більше 10","Одяг для собак",1084.08,1550,0,{"$f":"G143*I143","v":0}]
[null,1111186412,"PR243984","Комбінезон Milly дівчинка для собак МL","Більше 10","Одяг для собак",1017.36,1455,0,{"$f":"G144*I144","v":0}]
[null,1111186406,"PR243978","Комбінезон Milly дівчинка для собак такса  S2","Більше 10","Одяг для собак",1115.3399999999999,1595,0,{"$f":"G145*I145","v":0}]
[null,1111186409,"PR243981","Комбінезон Milly дівчинка для собак такса  XS","Більше 10","Одяг для собак",993.06,1420,0,{"$f":"G146*I146","v":0}]
[null,1111186407,"PR243982","Комбінезон Milly дівчинка для собак такса  М","Більше 10","Одяг для собак",1146.3599999999999,1639,0,{"$f":"G147*I147","v":0}]
[null,1111186408,"PR243980","Комбінезон Milly дівчинка для собак такса S","Більше 10","Одяг для собак",1058.6400000000001,1514,0,{"$f":"G148*I148","v":0}]
[null,1111186392,"PR243959","Комбінезон для собак коргі Den L","Більше 10","Одяг для собак",1197.6600000000001,1712,0,{"$f":"G149*I149","v":0}]
[null,23648,"PR740117","Корм Природа Аквабазіс для акваріумних риб 10г","Більше 100","Корм сухий для акваріумних риб",10.26,14,0,{"$f":"G150*I150","v":0}]
[null,1111126588,"PR740095","Корм Природа Аквабаланс для всеїдних акваріумних риб 10г","Більше 100","Корм сухий для акваріумних риб",10.26,14,0,{"$f":"G151*I151","v":0}]
[null,23652,"PR740119","Корм Природа Аквавіт для декоративних риб 10г","Більше 10","Корм сухий для акваріумних риб",10.26,14,0,{"$f":"G152*I152","v":0}]
[null,1111114418,"PR740121","Корм Природа Акваінтенсив для молодих риб 10г","Більше 100","Корм сухий для акваріумних риб",10.26,14,0,{"$f":"G153*I153","v":0}]
[null,1111114419,"PR740120","Корм Природа Акваколор для яскраво-забарвлених риб 10г","Більше 100","Корм сухий для акваріумних риб",10.26,14,0,{"$f":"G154*I154","v":0}]
[null,5015,"PR740111","Корм Природа Аквамікс для декоративних риб 10г","Більше 10","Корм сухий для акваріумних риб",10.26,14,0,{"$f":"G155*I155","v":0}]
[null,23651,"PR740118","Корм Природа Аквамін для акваріумних риб 10г","Більше 10","Корм сухий для акваріумних риб",10.26,14,0,{"$f":"G156*I156","v":0}]
[null,5027,"PR740112","Корм Природа Акваплант для рослиноїдних риб 10г","Більше 100","Корм сухий для акваріумних риб",10.26,14,0,{"$f":"G157*I157","v":0}]
[null,5028,"PR740113","Корм Природа Акварубін для яскраво-забарвлених риб 10г","Більше 100","Корм сухий для акваріумних риб",10.26,14,0,{"$f":"G158*I158","v":0}]
[null,1111126590,"PR740093","Корм Природа Акватропік для акваріумних риб 10г","Більше 10","Корм сухий для акваріумних риб",10.26,14,0,{"$f":"G159*I159","v":0}]
[null,1111145397,"PR240464","Корм Природа Біовіт Актив д/дорослих акваріумних риб пластинчатий 10г","Більше 100","Корм сухий для акваріумних риб",16.86,22,0,{"$f":"G160*I160","v":0}]
[null,1111145398,"PR240465","Корм Природа Біовіт Базіс для акваріумних риб пластинчатий 10г","Більше 100","Корм сухий для акваріумних риб",16.440000000000001,22,0,{"$f":"G161*I161","v":0}]
[null,1111145400,"PR240467","Корм Природа Біовіт Золоті рибки д/риб виду коропові гранульований 10г","Більше 100","Корм сухий для акваріумних риб",16.62,22,0,{"$f":"G162*I162","v":0}]
[null,1111145396,"PR240463","Корм Природа Біовіт Плант для травоїдних риб пластинчатий 10г","Більше 100","Корм сухий для акваріумних риб",16.86,22,0,{"$f":"G163*I163","v":0}]
[null,1111145404,"PR240469","Корм Природа Біовіт Сомики д/донних акваріумних риб гранульований 25 г","Більше 100","Корм сухий для акваріумних риб",33.18,43,0,{"$f":"G164*I164","v":0}]
[null,1111145402,"PR240471","Корм Природа Біовіт Супербаланс д/яскр/забарвлен риб гранульований 25г","Більше 100","Корм сухий для акваріумних риб",25.8,34,0,{"$f":"G165*I165","v":0}]
[null,1111145399,"PR240466","Корм Природа Біовіт Универсал д/цихлід/яскраво/забарвл риб пластин 10г","Більше 100","Корм сухий для акваріумних риб",16.739999999999998,22,0,{"$f":"G166*I166","v":0}]
[null,1111145401,"PR240468","Корм Природа Біовіт Цихліди д/цихлід/яскраво-забарвл риб гранульов 25г","Більше 100","Корм сухий для акваріумних риб",31.68,41,0,{"$f":"G167*I167","v":0}]
[null,1111145403,"PR240470","Корм Природа Біовіт Черепашки д/прісноводних черепах гранульований 25г","Більше 100","Корм сухий для черепах та рептилій",28.44,37,0,{"$f":"G168*I168","v":0}]
[null,10775,"PR740115","Корм Природа Гамарус д/акваріумних риб/черепах натуральний сухий 10г","Більше 100","Корм сухий для акваріумних риб",11.16,14,0,{"$f":"G169*I169","v":0}]
[null,1111159559,"PR241565","Корм Природа Гранулят для всіх видів гризунів 500г","Більше 100","Корм для гризунів",53.28,75,0,{"$f":"G170*I170","v":0}]
[null,1111159560,"PR241564","Корм Природа Гранулят для шиншил 500г","Більше 100","Корм для гризунів",65.28,91,0,{"$f":"G171*I171","v":0}]
[null,1111167098,"PR242528","Корм Природа для вуличних птахів 500г","Більше 100","Корм для птахів",35.46,50,0,{"$f":"G172*I172","v":0}]
[null,1111155093,"PR241079","Корм Природа Екзотик д/екзотичних птахів 500г","Більше 100","Корм для птахів",48.96,69,0,{"$f":"G173*I173","v":0}]
[null,1111112826,"PR740147","Корм Природа Жако повнораціонний вітамінізований для великих папуг 1кг","Більше 100","Корм для птахів",121.74,172,0,{"$f":"G174*I174","v":0}]
[null,1111155094,"PR241078","Корм Природа Канарка д/канарок/екзотичних/птахів 500г","Більше 100","Корм для птахів",47.7,67,0,{"$f":"G175*I175","v":0}]
[null,1111169853,"PR242909","Корм Природа Коктейль Ара для великих папуг 850 г","Більше 10","Корм для птахів",100.08,141,0,{"$f":"G176*I176","v":0}]
[null,1111158782,"PR241341 КАРТОН","Корм Природа Коктейль д/хвиляст/папуг лугові трави/насіння льону 500г","Більше 100","Корм для птахів",60.18,84,0,{"$f":"G177*I177","v":0}]
[null,1111153824,"PR241028","Корм Природа Коктейль для хвилястих папуг фруктовий 500г","Більше 100","Корм для птахів",69.48,98,0,{"$f":"G178*I178","v":0}]
[null,1111153846,"PR241029","Корм Природа Коктейль Екзотик для екзотичних птахів 500г","Більше 100","Корм для птахів",70.86,99,0,{"$f":"G179*I179","v":0}]
[null,1111148081,"PR740032 Картон","Корм Природа Коктейль Канарка для канарок і декоративних птахів 500г","Більше 100","Корм для птахів",75.3,106,0,{"$f":"G180*I180","v":0}]
[null,1111148082,"PR740042 Картон","Корм Природа Коктейль Корела д/середніх папуг 500г","Більше 100","Корм для птахів",73.5,102,0,{"$f":"G181*I181","v":0}]
[null,1111145600,"PR740044 КАРТОН","Корм Природа Коктейль Кролик для декоративних кроликів 500г","Більше 100","Корм для гризунів",73.319999999999993,102,0,{"$f":"G182*I182","v":0}]
[null,1111145601,"PR740043 КАРТОН","Корм Природа Коктейль Пацючок для пацюків 500 г","Більше 100","Корм для гризунів",80.7,112,0,{"$f":"G183*I183","v":0}]
[null,1111145599,"PR740030 Картон","Корм Природа Коктейль Суперменю д/хвилястих папуг 500г","Більше 100","Корм для птахів",67.86,95,0,{"$f":"G184*I184","v":0}]
[null,1111146903,"PR740046","Корм Природа Коктейль Хом_ячок д/хом_ячків/інших дрібних гризунів 500г","Більше 100","Корм для гризунів",75.36,105,0,{"$f":"G185*I185","v":0}]
[null,1111145395,"PR240462","Корм Природа Колор д/яскраво/забарвлених акваріум риб пластинчатий 10г","Більше 100","Корм сухий для акваріумних риб",16.86,22,0,{"$f":"G186*I186","v":0}]
[null,1111155091,"PR241081","Корм Природа Корела Йод для середніх птахів 500г","Більше 100","Корм для птахів",38.340000000000003,54,0,{"$f":"G187*I187","v":0}]
[null,1111155098,"PR241074","Корм Природа Кролик Біотин для довгошерстих кролів 500г","Більше 100","Корм для гризунів",32.700000000000003,47,0,{"$f":"G188*I188","v":0}]
[null,1111155097,"PR241075","Корм Природа Кролик д/декоративних кролів/інших домашніх гризунів 500г","Більше 100","Корм для гризунів",32.700000000000003,47,0,{"$f":"G189*I189","v":0}]
[null,5026,"PR740116","Корм Природа Мальок для мальків риб 10г","Більше 10","Корм сухий для акваріумних риб",10.26,14,0,{"$f":"G190*I190","v":0}]
[null,1111155100,"PR241069","Корм Природа Морська свинка Біотин для морських свинок 500г","Більше 100","Корм для гризунів",32.700000000000003,47,0,{"$f":"G191*I191","v":0}]
[null,1111155099,"PR241071","Корм Природа Морська свинка для морських свинок 500г","Більше 100","Корм для гризунів",32.700000000000003,47,0,{"$f":"G192*I192","v":0}]
[null,1111155092,"PR241080","Корм Природа Німфа для середніх птахів 500г","Більше 100","Корм для птахів",38.4,53,0,{"$f":"G193*I193","v":0}]
[null,1111155089,"PR241083","Корм Природа Папужка Енергіяд/хвилястих папуг 500г","Більше 100","Корм для птахів",41.46,58,0,{"$f":"G194*I194","v":0}]
[null,1111155085,"PR241087","Корм Природа Папужка Йод д/хвилястих папуг 500г","Більше 100","Корм для птахів",41.46,58,0,{"$f":"G195*I195","v":0}]
[null,1111155088,"PR241084","Корм Природа Папужка Йод ехінацея д/хвилястих папуг 500г","Більше 100","Корм для птахів",41.46,58,0,{"$f":"G196*I196","v":0}]
[null,1111155086,"PR241086","Корм Природа Папужка Йод кокос д/хвилястих папуг 500г","Більше 100","Корм для птахів",41.46,58,0,{"$f":"G197*I197","v":0}]
[null,1111155087,"PR241085","Корм Природа Папужка Йод колор д/хвилястих папуг 500г","Більше 100","Корм для птахів",41.46,58,0,{"$f":"G198*I198","v":0}]
[null,1111155090,"PR241082","Корм Природа Папужка Юніор д/молодих/хвилястих/папуг 500г","Більше 100","Корм для птахів",43.02,60,0,{"$f":"G199*I199","v":0}]
[null,1111155103,"PR241073","Корм Природа Пацючок для декоративних пацюків 500 г","Більше 100","Корм для гризунів",32.64,46,0,{"$f":"G200*I200","v":0}]
[null,1111135847,"PR740081","Корм Природа Раціон д/середніх папуг повноцінний вітамінізований 1,5кг","Більше 100","Корм для птахів",98.1,138,0,{"$f":"G201*I201","v":0}]
[null,1111135843,"PR740083","Корм Природа Раціон для дрібних гризунів 1,5кг","Більше 100","Корм для гризунів",77.14,108,0,{"$f":"G202*I202","v":0}]
[null,1111135842,"PR740084","Корм Природа Раціон для середніх гризунів 1,5кг","Більше 100","Корм для гризунів",77.150000000000006,107.7,0,{"$f":"G203*I203","v":0}]
[null,1111135844,"PR740085","Корм Природа Раціон для шиншил 1,5кг","Більше 10","Корм для гризунів",95.57,134,0,{"$f":"G204*I204","v":0}]
[null,1111135846,"PR740082","Корм Природа Раціон Мультивітамін йод для хвилястих папуг 1,5кг","Більше 100","Корм для птахів",90.74,127.38,0,{"$f":"G205*I205","v":0}]
[null,1111126589,"PR740094","Корм Природа Супермікс для яскраво-забарвлених риб 10г","Більше 10","Корм сухий для акваріумних риб",10.26,14,0,{"$f":"G206*I206","v":0}]
[null,1111159311,"PR241387","Корм Природа Фиеста Кролик д/кроликів 600г","Більше 100","Корм для гризунів",61.56,86,0,{"$f":"G207*I207","v":0}]
[null,1111159306,"PR241389","Корм Природа Фієста Африка д/великих папуг 600г","Більше 100","Корм для птахів",75.180000000000007,106,0,{"$f":"G208*I208","v":0}]
[null,1111159302,"PR241383","Корм Природа Фієста д/хвилястих папуг фруктовий 600г","Більше 100","Корм для птахів",61.44,85,0,{"$f":"G209*I209","v":0}]
[null,1111159312,"PR241378","Корм Природа Фієста Дегу д/дегу/домашніх/гризунів 600г","Більше 100","Корм для гризунів",85.56,121,0,{"$f":"G210*I210","v":0}]
[null,1111159303,"PR241381","Корм Природа Фієста Енергія для хвилястих папуг 600г","Більше 100","Корм для птахів",61.02,85,0,{"$f":"G211*I211","v":0}]
[null,1111159304,"PR241388","Корм Природа Фієста Йод д/хвилястих папуг 600г","Більше 100","Корм для птахів",59.64,83,0,{"$f":"G212*I212","v":0}]
[null,1111159309,"PR241386","Корм Природа Фієста Морська свинка д/морськ/свинок/домаш/гризунів 600г","Більше 100","Корм для гризунів",60.42,85,0,{"$f":"G213*I213","v":0}]
[null,1111159305,"PR241385","Корм Природа Фієста Німфа д/середніх папуг 600г","Більше 100","Корм для птахів",62.46,88,0,{"$f":"G214*I214","v":0}]
[null,1111159310,"PR241384","Корм Природа Фієста Пацючок д/пацючків/домаш/гризунів 600г","Більше 100","Корм для гризунів",61.44,86,0,{"$f":"G215*I215","v":0}]
[null,1111159307,"PR241382","Корм Природа Фієста Хом_ячок д/хом_яків 600г","Більше 100","Корм для гризунів",60.48,85,0,{"$f":"G216*I216","v":0}]
[null,1111159308,"PR241380","Корм Природа Фієста Шиншилка д/шиншил/домашніх гризунів 600г","Більше 100","Корм для гризунів",66.48,94,0,{"$f":"G217*I217","v":0}]
[null,1111155101,"PR241070","Корм Природа Хом_ячок д/хом_яків та дрібних декоративних гризунів 500г","Більше 100","Корм для гризунів",32.64,46,0,{"$f":"G218*I218","v":0}]
[null,1111155102,"PR241072","Корм Природа Хом_ячок Колор ензим д/хом_яків/дрібн/декор/гризунів 500г","Більше 100","Корм для гризунів",34.5,49,0,{"$f":"G219*I219","v":0}]
[null,1111155096,"PR241076","Корм Природа Шиншилка для шиншил 500г","Більше 100","Корм для гризунів",42,58,0,{"$f":"G220*I220","v":0}]
[null,1111155095,"PR241077","Корм Природа Шиншилка Колор ензим для шиншил 500г","Більше 100","Корм для гризунів",39.9,56,0,{"$f":"G221*I221","v":0}]
[null,1111174675,"PR242794*****","Костюм Pet Fashion PF Style для собак M","Менше 10","Одяг для собак",661.44,892.95,0,{"$f":"G222*I222","v":0}]
[null,7714,"PR740012","Крейда Природа для гризунів з морськими мушлями 18г","Більше 100","Вітаміни та мінерали для гризунів",9.6,14,0,{"$f":"G223*I223","v":0}]
[null,7717,"PR740011","Крейда Природа для середніх папуг з морськими мушлями 18г","Більше 100","Вітаміни та мінерали для птахів",9.6,14,0,{"$f":"G224*I224","v":0}]
[null,7712,"PR740010","Крейда Природа для хвилястих папуг з морськими мушлями 18г","Більше 100","Вітаміни та мінерали для птахів",9.6,14,0,{"$f":"G225*I225","v":0}]
[null,1111134706,"PR740830","Куля Природа для гризунів прогулянкова діаметром 19см","Більше 10","Іграшки для гризунів",126.9,171,0,{"$f":"G226*I226","v":0}]
[null,1111140262,"PR240278","Куля-міні Природа для гризунів бігова на підставці d 13см","Більше 10","Іграшки для гризунів",157.08000000000001,212,0,{"$f":"G227*I227","v":0}]
[null,1111130424,"PR740233","Ласощі Колосок Природа Фієста д/середніх папуг мультивітамин 100г/2шт","Більше 100","Ласощі для птахів",28.32,51,0,{"$f":"G228*I228","v":0}]
[null,1111137106,"PR740160","Ласощі Природа Десерт Асорті для гризунів 100г","Більше 100","Ласощі для гризунів",35.340000000000003,53,0,{"$f":"G229*I229","v":0}]
[null,1111137112,"PR740161","Ласощі Природа Десерт Асорті для папуг 100г","Більше 100","Ласощі для птахів",34.26,51,0,{"$f":"G230*I230","v":0}]
[null,1111160923,"PR241775","Ласощі Природа Десерт для собак качка 100г","Більше 100","Ласощі для собак",28.92,39,0,{"$f":"G231*I231","v":0}]
[null,1111160924,"PR241774*****","Ласощі Природа Десерт для собак качка 550г","Більше 10","Ласощі для собак",112.86,153,0,{"$f":"G232*I232","v":0}]
[null,1111132673,"PR740173*****","Ласощі Природа Десерт для собак мікс 550г","Більше 100","Ласощі для собак",112.86,153,0,{"$f":"G233*I233","v":0}]
[null,1111141551,"PR240344","Ласощі Природа Десерт для собак молочний 100г","Більше 10","Ласощі для собак",28.62,40,0,{"$f":"G234*I234","v":0}]
[null,1111142128,"PR240348","Ласощі Природа Десерт для собак сирний коктейль 100г","Більше 100","Ласощі для собак",28.62,39,0,{"$f":"G235*I235","v":0}]
[null,1111132676,"PR740185*****","Ласощі Природа Десерт для собак сирний коктейль 550г","Більше 10","Ласощі для собак",112.86,153,0,{"$f":"G236*I236","v":0}]
[null,1111142395,"PR240347","Ласощі Природа Десерт для собак яєчний 100г","Більше 100","Ласощі для собак",28.62,39,0,{"$f":"G237*I237","v":0}]
[null,1111132678,"PR740183*****","Ласощі Природа Десерт для собак яєчний 550г","Більше 10","Ласощі для собак",112.86,153,0,{"$f":"G238*I238","v":0}]
[null,1111141379,"PR240340","Ласощі Природа Десерт для собак яловичина-бекон 100г","Більше 100","Ласощі для собак",28.62,39,0,{"$f":"G239*I239","v":0}]
[null,1111132671,"PR740163*****","Ласощі Природа Десерт для собак яловичина-бекон 550г","Більше 10","Ласощі для собак",112.86,153,0,{"$f":"G240*I240","v":0}]
[null,1111137498,"PR740159","Ласощі Природа Десерт мікс Асорті д/гризунів шарик/трубоч/тарталет 70г","Більше 100","Ласощі для гризунів",30.42,44,0,{"$f":"G241*I241","v":0}]
[null,1111129866,"PR740156","Ласощі Природа Десерт Мікс Гарбузик для гризунів 40г","Більше 100","Ласощі для гризунів",44.64,65,0,{"$f":"G242*I242","v":0}]
[null,1111141181,"PR240343","Ласощі Природа Десерт Мікс для собак 100г","Більше 100","Ласощі для собак",28.62,39,0,{"$f":"G243*I243","v":0}]
[null,1111129881,"PR740158","Ласощі Природа Десерт-мікс Яблучко для гризунів асорті 50г","Більше 100","Ласощі для гризунів",39.96,58,0,{"$f":"G244*I244","v":0}]
[null,1111138531,"PR240095","Ласощі Природа Коктейль колосок д/хвил/папуг гібіскус/чумиза/кокос 90г","Більше 100","Ласощі для птахів",39.36,61,0,{"$f":"G245*I245","v":0}]
[null,1111113900,"PR740027","Ласощі Природа Колосок д/хвилястих папуг лугові трави1 40г","Більше 100","Ласощі для птахів",30.72,49,0,{"$f":"G246*I246","v":0}]
[null,7414,"PR740026","Ласощі Природа Колосок д/хвилястих папуг фруктовий 140г","Більше 100","Ласощі для птахів",30.72,49,0,{"$f":"G247*I247","v":0}]
[null,22714,"PR740019","Ласощі Природа Колосок для гризунів бісквіт 140г","Більше 100","Ласощі для гризунів",30.78,49,0,{"$f":"G248*I248","v":0}]
[null,7527,"PR740052","Ласощі Природа Колосок для гризунів горіховий140г","Більше 100","Ласощі для гризунів",31.74,50,0,{"$f":"G249*I249","v":0}]
[null,7490,"PR740050","Ласощі Природа Колосок для гризунів медовий 140г","Більше 100","Ласощі для гризунів",31.98,50,0,{"$f":"G250*I250","v":0}]
[null,22713,"PR740018","Ласощі Природа Колосок для гризунів мультівітамін 140г","Більше 100","Ласощі для гризунів",31.74,50,0,{"$f":"G251*I251","v":0}]
[null,7512,"PR740051","Ласощі Природа Колосок для гризунів овочевий 140г","Більше 100","Ласощі для гризунів",31.68,50,0,{"$f":"G252*I252","v":0}]
[null,9785,"PR740057","Ласощі Природа Колосок для гризунів фруктовий 140 г","Більше 100","Ласощі для гризунів",31.74,50,0,{"$f":"G253*I253","v":0}]
[null,1111113899,"PR740054","Ласощі Природа Колосок для екзотичних птахів лугові трави 140г/2шт","Більше 10","Ласощі для птахів",32.340000000000003,50,0,{"$f":"G254*I254","v":0}]
[null,7395,"PR740049","Ласощі Природа Колосок для середніх папуг медовий 140г","Немає в наявності","Ласощі для птахів",32.340000000000003,50,0,{"$f":"G255*I255","v":0}]
[null,1111115869,"PR740001","Ласощі Природа Колосок для середніх папуг мультифруктовий 140г","Більше 100","Ласощі для птахів",32.340000000000003,50,0,{"$f":"G256*I256","v":0}]
[null,22639,"PR740021","Ласощі Природа Колосок для хвилястих папуг вітамініз корм бісквіт 140г","Більше 100","Ласощі для птахів",30.72,49,0,{"$f":"G257*I257","v":0}]
[null,9776,"PR740025","Ласощі Природа Колосок для хвилястих папуг горіховий 140г","Більше 100","Ласощі для птахів",30.72,49,0,{"$f":"G258*I258","v":0}]
[null,7428,"PR740022","Ласощі Природа Колосок для хвилястих папуг корм медовий 140г","Більше 100","Ласощі для птахів",30.72,49,0,{"$f":"G259*I259","v":0}]
[null,22640,"PR740020","Ласощі Природа Колосок для хвилястих папуг мультивітамін 140г","Більше 100","Ласощі для птахів",30.72,49,0,{"$f":"G260*I260","v":0}]
[null,1111156058,"PR241257","Ласощі Природа Колосок для хвилястих папуг мультизлак 140г","Більше 100","Ласощі для птахів",30.72,49,0,{"$f":"G261*I261","v":0}]
[null,9777,"PR740023","Ласощі Природа Колосок для хвилястих папуг овочевий 140г","Більше 100","Ласощі для птахів",30.72,49,0,{"$f":"G262*I262","v":0}]
[null,1111138532,"PR240094","Ласощі Природа Колосок Коктейль д/хв/папуг сафлора/ліс ягода/кокос 90г","Більше 100","Ласощі для птахів",40.74,63,0,{"$f":"G263*I263","v":0}]
[null,1111138269,"PR240101","Ласощі Природа Колосок Коктейль д/шиншил луг трав/трав/горіх/мінер 90г","Більше 100","Ласощі для гризунів",40.56,63,0,{"$f":"G264*I264","v":0}]
[null,1111138268,"PR240100","Ласощі Природа Колосок Коктейль для гризунів мультивітам/кокос/мед 90г","Більше 100","Ласощі для гризунів",40.56,63,0,{"$f":"G265*I265","v":0}]
[null,1111138267,"PR240099","Ласощі Природа Колосок Коктейль для гризунів фрукти/горіхи/кокос 90г","Більше 100","Ласощі для гризунів",40.619999999999997,63,0,{"$f":"G266*I266","v":0}]
[null,1111117448,"PR740005","Ласощі Природа Колосок Максі для шиншил фруктовий 210г/2шт","Більше 100","Ласощі для гризунів",50.4,79,0,{"$f":"G267*I267","v":0}]
[null,1111125107,"PR740152","Ласощі Природа Фієста Гранулят овочевий для гризунів асорті 100г","Більше 100","Ласощі для гризунів",29.82,43,0,{"$f":"G268*I268","v":0}]
[null,1111125106,"PR740153","Ласощі Природа Фієста Гранулят трав_яний для гризунів асорті 100г","Більше 10","Ласощі для гризунів",29.82,43,0,{"$f":"G269*I269","v":0}]
[null,1111125105,"PR740154","Ласощі Природа Фієста Гранулят Фруктово-трав_яний для гризунів 100г","Більше 100","Ласощі для гризунів",29.82,43,0,{"$f":"G270*I270","v":0}]
[null,1111130417,"PR740227","Ласощі Природа Фієста Колосок д/гризунів медовий 100г/2шт","Більше 10","Ласощі для гризунів",30.24,46,0,{"$f":"G271*I271","v":0}]
[null,1111130427,"PR740230","Ласощі Природа Фієста Колосок д/хвиляст/папуг мультивітамін 100г/2шт","Більше 100","Ласощі для птахів",32.58,51,0,{"$f":"G272*I272","v":0}]
[null,1111130420,"PR740228","Ласощі Природа Фієста Колосок для гризунів горіховий 100г/2шт","Більше 100","Ласощі для гризунів",32.46,50,0,{"$f":"G273*I273","v":0}]
[null,1111130421,"PR740226","Ласощі Природа Фієста Колосок для гризунів лугові трави 100г/2шт","Менше 10","Ласощі для гризунів",29.94,46,0,{"$f":"G274*I274","v":0}]
[null,1111130419,"PR740229","Ласощі Природа Фієста Колосок для гризунів мультивітамін 100г","Більше 100","Ласощі для гризунів",28.26,50,0,{"$f":"G275*I275","v":0}]
[null,1111130418,"PR740235","Ласощі Природа Фієста Колосок для гризунів мультифрукт 100г/2шт","Більше 100","Ласощі для гризунів",30.6,47,0,{"$f":"G276*I276","v":0}]
[null,1111130416,"PR740225","Ласощі Природа Фієста Колосок для гризунів овочевий 100г/2шт","Більше 100","Ласощі для гризунів",32.58,51,0,{"$f":"G277*I277","v":0}]
[null,1111130425,"PR740231","Ласощі Природа Фієста Колосок для хвилястих папуг горіховий 100г/2шт","Більше 100","Ласощі для птахів",30.18,46,0,{"$f":"G278*I278","v":0}]
[null,1111130426,"PR740232","Ласощі Природа Фієста Колосок для хвилястого папуги фруктовий 100г/2шт","Більше 100","Ласощі для птахів",26.28,46,0,{"$f":"G279*I279","v":0}]
[null,1111130422,"PR740236","Ласощі Природа Фієста Колосок для шиншил трави та мінерали 100г/2 шт","Більше 10","Ласощі для гризунів",28.26,50,0,{"$f":"G280*I280","v":0}]
[null,1111137367,"PR740148","Ласощі Природа Фієста Печиво Палички для гризунів асорті 100г","Більше 100","Ласощі для гризунів",28.92,42,0,{"$f":"G281*I281","v":0}]
[null,1111137368,"PR740149","Ласощі Природа Фієста Печиво Сердечко для гризунів асорті 100г","Більше 100","Ласощі для гризунів",29.82,43,0,{"$f":"G282*I282","v":0}]
[null,1111158662,"PR241409","Ласощі Природа Яблуко та буряк трав_яні снеки для гризунів 60г","Більше 100","Ласощі для гризунів",37.200000000000003,58,0,{"$f":"G283*I283","v":0}]
[null,1111185777,"PR243868*****","Лежак ASKOLD синій 4 (80*60*13)","Більше 10","Спальні місця для собак",1174.56,1586,0,{"$f":"G284*I284","v":0}]
[null,1111185778,"PR243867","Лежак ASKOLD синій 5 (102*76*14)","Більше 10","Спальні місця для собак",1920.15,2592,0,{"$f":"G285*I285","v":0}]
[null,1111185779,"PR243866*****","Лежак ASKOLD теракотовий 4 (80*60*13)","Менше 10","Спальні місця для собак",1174.54,1586,0,{"$f":"G286*I286","v":0}]
[null,1111185780,"PR243865*****","Лежак ASKOLD теракотовий 5 (102*76*14)","Менше 10","Спальні місця для собак",2016.18,2722,0,{"$f":"G287*I287","v":0}]
[null,1111168661,"PR242859","Лежак Природа Berry для котів та собак 60х50х18см","Більше 10","Спальні місця для котів",530.04,716,0,{"$f":"G288*I288","v":0}]
[null,1111173128,"PR243069","Лежак Природа Buddy для котів і собак 50х40х12см","Більше 10","Спальні місця для собак",332.88,449,0,{"$f":"G289*I289","v":0}]
[null,1111170230,"PR242919","Лежак Природа Coral 2 для собак 57х47х27см","Більше 10","Спальні місця для собак",475.38,642,0,{"$f":"G290*I290","v":0}]
[null,1111170231,"PR242920","Лежак Природа Coral 3 для собак 66х57х29см","Більше 10","Спальні місця для собак",617.28,833,0,{"$f":"G291*I291","v":0}]
[null,1111173943,"PR243089","Лежак Природа Green для котів і собак 50х40х13см","Менше 10","Спальні місця для собак",366.18,494,0,{"$f":"G292*I292","v":0}]
[null,1111162532,"PR241981","Лежак Природа Kokos 1 для собак 48х38х18см","Більше 10","Спальні місця для собак",374.82,506,0,{"$f":"G293*I293","v":0}]
[null,1111162533,"PR241980","Лежак Природа Kokos 2 для собак 54х44х20см","Більше 10","Спальні місця для собак",466.44,630,0,{"$f":"G294*I294","v":0}]
[null,1111162534,"PR241979","Лежак Природа Kokos 3 для собак 64х50х22см","Більше 10","Спальні місця для собак",547.55999999999995,739,0,{"$f":"G295*I295","v":0}]
[null,1111160929,"PR241776","Лежак Природа Labyrinth 1 для собак 40х25х20см","Менше 10","Спальні місця для собак",308.33999999999997,416,0,{"$f":"G296*I296","v":0}]
[null,1111160930,"PR241777","Лежак Природа Labyrinth 2 для собак 50х40х20см","Більше 10","Спальні місця для собак",455.88,615,0,{"$f":"G297*I297","v":0}]
[null,1111160931,"PR241778","Лежак Природа Labyrinth 3 для собак 65х45х20см","Більше 10","Спальні місця для собак",662.64,895,0,{"$f":"G298*I298","v":0}]
[null,1111173941,"PR243091","Лежак Природа Laki для котів і собак 52х38х13см","Менше 10","Спальні місця для собак",364.08,492,0,{"$f":"G299*I299","v":0}]
[null,1111160985,"PR241784","Лежак Природа Lux 1 для собак 40х30х17см","Більше 10","Спальні місця для собак",274.38,370,0,{"$f":"G300*I300","v":0}]
[null,1111160986,"PR241783","Лежак Природа Lux 2 для собак 52х36х20см","Більше 10","Спальні місця для собак",388.5,519,0,{"$f":"G301*I301","v":0}]
[null,1111160987,"PR241782","Лежак Природа Lux 3 для собак 62х44х22см","Більше 10","Спальні місця для собак",597.54,807,0,{"$f":"G302*I302","v":0}]
[null,1111160988,"PR241781","Лежак Природа Lux 4 для собак 57х79х24см","Більше 10","Спальні місця для собак",768.9,1038,0,{"$f":"G303*I303","v":0}]
[null,1111160989,"PR241780","Лежак Природа Lux 5 для собак 86x62x27см","Більше 10","Спальні місця для собак",901.98,1203,0,{"$f":"G304*I304","v":0}]
[null,1111173944,"PR243088","Лежак Природа Michael для котів та собак 52х40х12см","Більше 10","Спальні місця для собак",364.08,491,0,{"$f":"G305*I305","v":0}]
[null,1111172842,"PR243063","Лежак Природа Print 1 для котів та собак 50х40х12см","Більше 100","Спальні місця для собак",257.22000000000003,347,0,{"$f":"G306*I306","v":0}]
[null,1111172843,"PR243062","Лежак Природа Print 2 для котів та собак 60х52х14см","Більше 10","Спальні місця для собак",339.78,459,0,{"$f":"G307*I307","v":0}]
[null,1111172844,"PR243061","Лежак Природа Print 3 для котів та собак 82х64х16см","Більше 10","Спальні місця для собак",500.82,676,0,{"$f":"G308*I308","v":0}]
[null,1111168662,"PR242858","Лежак Природа Ricky 2 для котів та собак 50х40х16см","Більше 10","Спальні місця для котів",424.2,573,0,{"$f":"G309*I309","v":0}]
[null,1111168663,"PR242857","Лежак Природа Ricky 3 для котів та собак 62х48х18см","Більше 10","Спальні місця для котів",564.84,763,0,{"$f":"G310*I310","v":0}]
[null,1111173942,"PR243090","Лежак Природа Robert для котів та собак 52х38х13см","Більше 10","Спальні місця для собак",326.58,441,0,{"$f":"G311*I311","v":0}]
[null,1111173132,"PR243065","Лежак Природа Rocky для собак та котів кутовий 60х60х10см","Менше 10","Спальні місця для собак",438.84,592,0,{"$f":"G312*I312","v":0}]
[null,1111173130,"PR243067","Лежак Природа Skye для котів та собак 45х45х10см","Більше 100","Спальні місця для собак",244.08,330,0,{"$f":"G313*I313","v":0}]
[null,1111173131,"PR243066","Лежак Природа Tommy для котів та собак 50х50х10см","Більше 100","Спальні місця для собак",365.46,493,0,{"$f":"G314*I314","v":0}]
[null,1111162530,"PR241983","Лежак Природа Transformer 1 для собак 52х42х18см","Більше 10","Спальні місця для собак",516.05999999999995,697,0,{"$f":"G315*I315","v":0}]
[null,1111162531,"PR241982","Лежак Природа Transformer 2 для собак 54х66х20см","Більше 10","Спальні місця для собак",714.06,964,0,{"$f":"G316*I316","v":0}]
[null,22758,"PR740440","Лопатка д/гігієніч наповнювача Природа з отворами велика №2","Немає в наявності","Аксесуари для котячих туалетів",13.92,19,0,{"$f":"G317*I317","v":0}]
[null,23208,"PR740438","Лопатка Природа №1 з отворами для гранульованого наповнювача маленька","Більше 100","Аксесуари для котячих туалетів",8.2799999999999994,11,0,{"$f":"G318*I318","v":0}]
[null,1111114286,"PR740439","Лопатка Природа №1 з отворами для наповнювача маленька упаковка 10шт","Більше 10","Аксесуари для котячих туалетів",79.5,106,0,{"$f":"G319*I319","v":0}]
[null,1111119222,"PR740437","Лопатка Природа №3 з отворами для гранульованого наповнювача","Більше 100","Аксесуари для котячих туалетів",14.4,18,0,{"$f":"G320*I320","v":0}]
[null,1111197789,"PR441563","Матрас Природа  №1 Spayk для котів та собак (44*66*2)","Більше 100","Спальні місця для котів",184.02,267,0,{"$f":"G321*I321","v":0}]
[null,1111197790,"PR441556","Матрас Природа №2 Spayk для котів та собак (64*90*2)","Більше 100","Спальні місця для котів",258,374,0,{"$f":"G322*I322","v":0}]
[null,1111197791,"PR441549","Матрас Природа№3 Spayk для котів та собак (84*112*2)","Більше 100","Спальні місця для котів",364.02,528,0,{"$f":"G323*I323","v":0}]
[null,1111177032,"PR243390","Миска №0 0,12 л жовта","Більше 100","Миски для котів",10.199999999999999,13,0,{"$f":"G324*I324","v":0}]
[null,1111177033,"PR243389","Миска №0 0,12 л зелена","Більше 10","Миски для котів",10.199999999999999,13,0,{"$f":"G325*I325","v":0}]
[null,1111177031,"PR243391","Миска №0 0,12 л синя","Більше 10","Миски для котів",10.199999999999999,13,0,{"$f":"G326*I326","v":0}]
[null,1111177041,"PR243381","Миска №2 0,6 л зелена","Більше 10","Миски та годівниці для собак",23.94,32,0,{"$f":"G327*I327","v":0}]
[null,1111177044,"PR243378","Миска №4 2,0 л жовта","Більше 10","Миски та годівниці для собак",48.6,66,0,{"$f":"G328*I328","v":0}]
[null,1111177045,"PR243376","Миска №4 2,0 л зелена","Більше 10","Миски та годівниці для собак",48.6,66,0,{"$f":"G329*I329","v":0}]
[null,1111177043,"PR243379","Миска №4 2,0 л синя","Менше 10","Миски та годівниці для собак",48.6,66,0,{"$f":"G330*I330","v":0}]
[null,1111177042,"PR243380","Миска №4 2,0 л червона","Більше 10","Миски та годівниці для собак",48.6,66,0,{"$f":"G331*I331","v":0}]
[null,1111177048,"PR243374","Миска №5 2,4 л жовта","Менше 10","Миски та годівниці для собак",79.680000000000007,106,0,{"$f":"G332*I332","v":0}]
[null,1111177052,"PR243370","Миска №6 3,0 л жовта","Більше 10","Миски та годівниці для собак",92.28,125,0,{"$f":"G333*I333","v":0}]
[null,1111177053,"PR243369","Миска №6 3,0 л зелена","Більше 10","Миски та годівниці для собак",92.28,125,0,{"$f":"G334*I334","v":0}]
[null,1111177051,"PR243371","Миска №6 3,0 л синя","Більше 10","Миски та годівниці для собак",92.28,125,0,{"$f":"G335*I335","v":0}]
[null,1111177050,"PR243372","Миска №6 3,0 л червона","Більше 10","Миски та годівниці для собак",92.28,125,0,{"$f":"G336*I336","v":0}]
[null,1111177068,"PR243354","Миска для гризунів Лариска 0,1 л жовта","Більше 10","Обладнання для гризунів",9.9600000000000009,13,0,{"$f":"G337*I337","v":0}]
[null,1111177067,"PR243355","Миска для гризунів Лариска 0,1 л синя","Більше 10","Обладнання для гризунів",9.9600000000000009,13,0,{"$f":"G338*I338","v":0}]
[null,1111177072,"PR243350","Миска для кота пласка 0,2 л жовта","Більше 10","Миски для котів",14.94,22,0,{"$f":"G339*I339","v":0}]
[null,1111177073,"PR243417","Миска для кота пласка 0,2 л зелена","Більше 10","Миски для котів",14.94,22,0,{"$f":"G340*I340","v":0}]
[null,1111177070,"PR243352","Миска для кота пласка 0,2 л червона","Більше 10","Миски для котів",14.94,22,0,{"$f":"G341*I341","v":0}]
[null,1111177076,"PR243346","Миска для перса 0,4 л жовта","Більше 10","Миски для котів",18.66,26,0,{"$f":"G342*I342","v":0}]
[null,1111177077,"PR243345","Миска для перса 0,4 л зелена","Більше 10","Миски для котів",18.66,26,0,{"$f":"G343*I343","v":0}]
[null,1111177075,"PR243347","Миска для перса 0,4 л синя","Більше 10","Миски для котів",18.66,26,0,{"$f":"G344*I344","v":0}]
[null,1111177074,"PR243348","Миска для перса 0,4 л червона","Більше 10","Миски для котів",18.66,26,0,{"$f":"G345*I345","v":0}]
[null,1111177080,"PR243342","Миска для спанієля 0,75 л жовта","Менше 10","Миски та годівниці для собак",31.38,41,0,{"$f":"G346*I346","v":0}]
[null,1111177081,"PR243341","Миска для спанієля 0,75 л зелена","Менше 10","Миски та годівниці для собак",31.38,41,0,{"$f":"G347*I347","v":0}]
[null,1111177079,"PR243343","Миска для спанієля 0,75 л синя","Менше 10","Миски та годівниці для собак",31.38,41,0,{"$f":"G348*I348","v":0}]
[null,1111177078,"PR243344","Миска для спанієля 0,75 л червона","Менше 10","Миски та годівниці для собак",31.38,41,0,{"$f":"G349*I349","v":0}]
[null,1111177084,"PR243338","Миска для хом_яків 0,05 л жовта","Більше 100","Обладнання для гризунів",6.54,10,0,{"$f":"G350*I350","v":0}]
[null,1111177085,"PR243337","Миска для хом_яків 0,05 л зелена","Більше 100","Обладнання для гризунів",6.54,10,0,{"$f":"G351*I351","v":0}]
[null,1111177083,"PR243339","Миска для хом_яків 0,05 л синя","Більше 100","Обладнання для гризунів",6.54,10,0,{"$f":"G352*I352","v":0}]
[null,1111177082,"PR243340","Миска для хом_яків 0,05 л червона","Більше 10","Обладнання для гризунів",6.54,10,0,{"$f":"G353*I353","v":0}]
[null,1111177008,"PR243414","Миска Модерн №0 0, 2л світло-блакитна","Більше 100","Миски для котів",12.54,18,0,{"$f":"G354*I354","v":0}]
[null,1111177006,"PR243416","Миска Модерн №0 0,2 л рожево-бежева","Більше 100","Миски для котів",12.54,18,0,{"$f":"G355*I355","v":0}]
[null,1111177007,"PR243415","Миска Модерн №0 0,2 л світло-бежева","Менше 10","Миски для котів",12.54,18,0,{"$f":"G356*I356","v":0}]
[null,1111177009,"PR243413","Миска Модерн №0 0,2 л світло-фіолетова","Більше 10","Миски для котів",12.54,18,0,{"$f":"G357*I357","v":0}]
[null,1111177010,"PR243412","Миска Модерн №1 0,3 л рожево-бежева","Більше 100","Миски для котів",16.62,23,0,{"$f":"G358*I358","v":0}]
[null,1111177011,"PR243411","Миска Модерн №1 0,3 л світло-бежева","Більше 10","Миски для котів",16.62,23,0,{"$f":"G359*I359","v":0}]
[null,1111177012,"PR243410","Миска Модерн №1 0,3 л світло-блакитна","Більше 100","Миски для котів",16.62,23,0,{"$f":"G360*I360","v":0}]
[null,1111177013,"PR243409","Миска Модерн №1 0,3 л світло-фіолетова","Більше 10","Миски для котів",16.62,23,0,{"$f":"G361*I361","v":0}]
[null,1111177027,"PR243395","Миска Модерн №1 Дует 0,4 л для котів світло-бежева","Більше 100","Миски для котів",22.8,30,0,{"$f":"G362*I362","v":0}]
[null,1111177028,"PR243394","Миска Модерн №1 Дует 0,4 л для котів світло-блакитна","Більше 100","Миски для котів",22.8,30,0,{"$f":"G363*I363","v":0}]
[null,1111177029,"PR243393","Миска Модерн №1 Дует 0,4 л для котів світло-фіолетова","Більше 10","Миски для котів",22.8,30,0,{"$f":"G364*I364","v":0}]
[null,1111177014,"PR243408","Миска Модерн №2 0,6 л рожево-бежева","Більше 10","Миски та годівниці для собак",27.48,37,0,{"$f":"G365*I365","v":0}]
[null,1111177015,"PR243407","Миска Модерн №2 0,6 л світло-бежева","Більше 10","Миски та годівниці для собак",27.48,37,0,{"$f":"G366*I366","v":0}]
[null,1111177016,"PR243406","Миска Модерн №2 0,6 л світло-блакитна","Більше 100","Миски та годівниці для собак",27.48,37,0,{"$f":"G367*I367","v":0}]
[null,1111177017,"PR243405","Миска Модерн №2 0,6 л світло-фіолетова","Більше 10","Миски та годівниці для собак",27.48,37,0,{"$f":"G368*I368","v":0}]
[null,1111177018,"PR243404","Миска Модерн №3 0,75 л рожево-бежева","Більше 10","Миски та годівниці для собак",34.380000000000003,46,0,{"$f":"G369*I369","v":0}]
[null,1111177019,"PR243403","Миска Модерн №3 0,75 л світло-бежева","Більше 10","Миски та годівниці для собак",34.380000000000003,46,0,{"$f":"G370*I370","v":0}]
[null,1111177020,"PR243402","Миска Модерн №3 0,75 л світло-блакитна","Більше 10","Миски та годівниці для собак",34.380000000000003,46,0,{"$f":"G371*I371","v":0}]
[null,1111177021,"PR243401","Миска Модерн №3 0,75 л світло-фіолетова","Більше 10","Миски та годівниці для собак",34.380000000000003,46,0,{"$f":"G372*I372","v":0}]
[null,1111177023,"PR243399","Миска Модерн №4 1,25 л світло-бежева","Більше 10","Миски та годівниці для собак",44.4,59,0,{"$f":"G373*I373","v":0}]
[null,1111177024,"PR243398","Миска Модерн №4 1,25 л світло-блакитна","Менше 10","Миски та годівниці для собак",44.4,59,0,{"$f":"G374*I374","v":0}]
[null,1111177025,"PR243397","Миска Модерн №4 1,25 л світло-фіолетова","Більше 10","Миски та годівниці для собак",44.4,59,0,{"$f":"G375*I375","v":0}]
[null,1111177056,"PR243366","Миска подвійна №0 0,075/0,125 л для котів жовта","Більше 10","Миски для котів",12.96,18,0,{"$f":"G376*I376","v":0}]
[null,1111177057,"PR243365","Миска подвійна №0 0,075/0,125 л для котів зелена","Більше 10","Миски для котів",12.96,18,0,{"$f":"G377*I377","v":0}]
[null,1111177061,"PR243361","Миска подвійна №1 0,15/0,27 л для котів зелена","Більше 10","Миски для котів",21.24,29,0,{"$f":"G378*I378","v":0}]
[null,1111177058,"PR243364","Миска подвійна №1 0,15/0,27 л для котів червона","Більше 10","Миски для котів",21.24,29,0,{"$f":"G379*I379","v":0}]
[null,1111177064,"PR243358","Миска подвійна №2 0,25/0,45 л для котів жовта","Більше 10","Миски для котів",30.42,40,0,{"$f":"G380*I380","v":0}]
[null,1111177065,"PR243357","Миска подвійна №2 0,25/0,45 л для котів зелена","Більше 100","Миски для котів",30.42,40,0,{"$f":"G381*I381","v":0}]
[null,1111177062,"PR243360","Миска подвійна №2 0,25/0,45 л для котів червона","Більше 10","Миски для котів",30.42,40,0,{"$f":"G382*I382","v":0}]
[null,265,"PR740461","Миска Природа №1 для котів подвійна 150/270мл","Більше 100","Миски для котів",21.24,29,0,{"$f":"G383*I383","v":0}]
[null,1111116369,"PR740015","Мінерал Природа для гризунів з зеленим яблуком 18г","Більше 100","Вітаміни та мінерали для гризунів",9.6,14,0,{"$f":"G384*I384","v":0}]
[null,1111116191,"PR740016","Мінерал Природа для гризунів з каротином 18г","Більше 100","Вітаміни та мінерали для гризунів",9.6,14,0,{"$f":"G385*I385","v":0}]
[null,1111116190,"PR740014","Мінерал Природа для середніх та хвилястих папуг з цитрусом 18г","Більше 100","Вітаміни та мінерали для птахів",9.6,14,0,{"$f":"G386*I386","v":0}]
[null,1111116162,"PR740013","Мінерал Природа для середніх та хвилястих папуг зелене яблуко 18г","Більше 100","Вітаміни та мінерали для птахів",9.6,14,0,{"$f":"G387*I387","v":0}]
[null,1111133896,"PR740061","Мінерал Природа Фієста Максі для гризунів бурячок 124г","Більше 100","Вітаміни та мінерали для гризунів",35.76,51,0,{"$f":"G388*I388","v":0}]
[null,1111133898,"PR740062","Мінерал Природа Фієста Максі для гризунів каротин та трави 124г","Більше 100","Вітаміни та мінерали для гризунів",35.76,51,0,{"$f":"G389*I389","v":0}]
[null,1111133897,"PR740063","Мінерал Природа Фієста Максі для гризунів мюслі 18г","Більше 100","Вітаміни та мінерали для гризунів",32.04,46,0,{"$f":"G390*I390","v":0}]
[null,1111133895,"PR740060","Мінерал Природа Фієста Максі для птахів мультифрукт 124г","Більше 100","Вітаміни та мінерали для птахів",32.04,46,0,{"$f":"G391*I391","v":0}]
[null,1111137941,"PR740416 натур 2,5кг","Наповнювач д/кот туалету Природа Sani Pet Універсальний деревин 2,5кг","Більше 100","Наповнювачі для котячих туалетів",51.48,67,0,{"$f":"G392*I392","v":0}]
[null,1111137942,"PR740415 натур 5кг","Наповнювач д/кот туалету Природа Sani Pet Універсальний деревинний 5кг","Більше 100","Наповнювачі для котячих туалетів",100.8,133,0,{"$f":"G393*I393","v":0}]
[null,1111149902,"PR240791 лимон 2,5кг","Наповнювач д/котяч туалету Природа Sani Pet Лимон деревинний 2,5кг","Більше 100","Наповнювачі для котячих туалетів",53.04,69,0,{"$f":"G394*I394","v":0}]
[null,1111149903,"PR240792 лимон 5кг","Наповнювач д/котяч туалету Природа Sani Pet Лимон деревинний 5кг","Більше 100","Наповнювачі для котячих туалетів",103.86,137,0,{"$f":"G395*I395","v":0}]
[null,1111149888,"PR240793 яблоко 2,5кг","Наповнювач д/котяч туалету Природа Sani Pet Яблуко деревинний 2,5кг","Більше 100","Наповнювачі для котячих туалетів",53.04,69,0,{"$f":"G396*I396","v":0}]
[null,1111149901,"PR240794 яблоко 5кг","Наповнювач д/котяч туалету Природа Sani Pet Яблуко деревинний 5кг","Більше 100","Наповнювачі для котячих туалетів",103.86,137,0,{"$f":"G397*I397","v":0}]
[null,1111125916,"PR240119","Наповнювач Природа Sani Pet Універсальний д/котяч/туалету дерев 10кг","Більше 100","Наповнювачі для котячих туалетів",194.28,253,0,{"$f":"G398*I398","v":0}]
[null,1111180854,"PR243573","Натуральні сушені ласощі д/собак Вим’я яловиче сушене 100г","Більше 100","Ласощі для собак",52.5,68,0,{"$f":"G399*I399","v":0}]
[null,1111180862,"PR243565","Натуральні сушені ласощі д/собак Вуха яловичі сушені 1 шт","Більше 10","Ласощі для собак",54.18,70,0,{"$f":"G400*I400","v":0}]
[null,1111180864,"PR243563","Натуральні сушені ласощі д/собак Жила станова яловича сушена 100г","Більше 10","Ласощі для собак",59.22,78,0,{"$f":"G401*I401","v":0}]
[null,1111180868,"PR243559","Натуральні сушені ласощі д/собак Лапи курячі сушені 100г","Більше 100","Ласощі для собак",42.9,57,0,{"$f":"G402*I402","v":0}]
[null,1111180860,"PR243567","Натуральні сушені ласощі д/собак Легені яловичі сушені 50г","Більше 10","Ласощі для собак",43.86,58,0,{"$f":"G403*I403","v":0}]
[null,1111180876,"PR243551","Натуральні сушені ласощі д/собак Мікс яловичий сушений 100г","Більше 10","Ласощі для собак",53.1,68,0,{"$f":"G404*I404","v":0}]
[null,1111180856,"PR243571","Натуральні сушені ласощі д/собак Печінка яловича сушена 100г","Більше 10","Ласощі для собак",54.84,70,0,{"$f":"G405*I405","v":0}]
[null,1111180848,"PR243579","Натуральні сушені ласощі д/собак Рубець яловичий сушений 50г","Більше 10","Ласощі для собак",40.56,53,0,{"$f":"G406*I406","v":0}]
[null,1111180850,"PR243577","Натуральні сушені ласощі д/собак Рубець яловичий сушений слайсами 50г","Більше 10","Ласощі для собак",35.58,46,0,{"$f":"G407*I407","v":0}]
[null,1111180852,"PR243575","Натуральні сушені ласощі д/собак Стравохід яловичий сушений 100г","Більше 10","Ласощі для собак",99.6,130,0,{"$f":"G408*I408","v":0}]
[null,1111180846,"PR243581","Натуральні сушені ласощі д/собак Трахея яловича сушена рублена 50г","Більше 100","Ласощі для собак",35.64,46,0,{"$f":"G409*I409","v":0}]
[null,1111180870,"PR243557","Натуральні сушені ласощі д/собак Шия куряча сушена 100г","Більше 10","Ласощі для собак",69.06,90,0,{"$f":"G410*I410","v":0}]
[null,1111180874,"PR243553","Натуральні сушені ласощі д/собак Шлунок качиний сушений слайсами 100г","Більше 10","Ласощі для собак",75.540000000000006,98,0,{"$f":"G411*I411","v":0}]
[null,1111180872,"PR243555","Натуральні сушені ласощі д/собак Шлунок курячий сушений слайсами 100г","Більше 100","Ласощі для собак",108.24,140,0,{"$f":"G412*I412","v":0}]
[null,1111203953,"PR740263","НЕМАЄ ВЕРХНЬОЇ ЧАСТИНИ Дряпка Природа Містечко для котів кутова 55х56х","Менше 10","Дряпки для котів",1541.46,0,0,{"$f":"G413*I413","v":0}]
[null,1111198625,"PR740327*****","НТВ, ЗЛАМАН БАРАБАН Дряпка Природа Д22 д/котів з барабаном 36x36x107см","Менше 10","Дряпки для котів",806.94,0,0,{"$f":"G414*I414","v":0}]
[null,1111193992,"PR740263","НТВ. ДЕТ.ІНШ.КОЛ Дряпка Природа Містечко для котів кутова 55х56х117см","Менше 10","Дряпки для котів",1541.46,0,0,{"$f":"G415*I415","v":0}]
[null,7666,"PR240253","Перекладина Природа для декоративних птахів 22см","Більше 100","Обладнання для птахів",8.6999999999999993,11,0,{"$f":"G416*I416","v":0}]
[null,1111160228,"PR001077","Піддон Природа для клітки гризунів великий бежевий 44х27см","Менше 10","Обладнання для гризунів",156.06,203,0,{"$f":"G417*I417","v":0}]
[null,1111160229,"PR001078","Піддон Природа для клітки гризунів великий зелений 44х27см","Менше 10","Обладнання для гризунів",156.06,203,0,{"$f":"G418*I418","v":0}]
[null,1111160227,"PR001076","Піддон Природа для клітки гризунів великий світло-блакитний 44х27см","Менше 10","Обладнання для гризунів",156.06,203,0,{"$f":"G419*I419","v":0}]
[null,1111160226,"PR001075","Піддон Природа для клітки гризунів великий фіолетовий 44х27см","Менше 10","Обладнання для гризунів",156.06,203,0,{"$f":"G420*I420","v":0}]
[null,1111160236,"PR001085","Піддон Природа для кліток гризунів малий бежевий 30x20см","Менше 10","Обладнання для гризунів",45.66,59,0,{"$f":"G421*I421","v":0}]
[null,1111160235,"PR001084","Піддон Природа для кліток гризунів малий світло-блакитний 30x20см","Менше 10","Обладнання для гризунів",45.66,59,0,{"$f":"G422*I422","v":0}]
[null,1111160234,"PR001083","Піддон Природа для кліток гризунів малий фіолетовий 30x20см","Менше 10","Обладнання для гризунів",45.66,59,0,{"$f":"G423*I423","v":0}]
[null,1111160233,"PR001082","Піддон Природа для кліток гризунів середній зелений 37x25см","Менше 10","Обладнання для гризунів",73.680000000000007,96,0,{"$f":"G424*I424","v":0}]
[null,1111160231,"PR001080","Піддон Природа для кліток гризунів середній світло-блакитний 37x25см","Менше 10","Обладнання для гризунів",73.680000000000007,96,0,{"$f":"G425*I425","v":0}]
[null,1111160230,"PR001079","Піддон Природа для кліток гризунів середній фіолетовий 37x25см","Менше 10","Обладнання для гризунів",73.680000000000007,96,0,{"$f":"G426*I426","v":0}]
[null,8699,"PR740413","Підставка під миски Природа для собак 2x1,8л/19см висота 50см","Менше 10","Миски та годівниці для собак",1055.58,1425,0,{"$f":"G427*I427","v":0}]
[null,8665,"PR740414","Підставка під миски Природа для собак 2x2,8л/23см висота 50см","Менше 10","Миски та годівниці для собак",1092.72,1475,0,{"$f":"G428*I428","v":0}]
[null,1111115711,"PR740893","Підставка Природа ПО під акваріум овальна без дверей чорна 80х35х70см","Менше 10","Підставки та піддони",2685.36,3760,0,{"$f":"G429*I429","v":0}]
[null,7160,"PR740858","Підставка Природа ПО під акваріум овальна з дверима чорна 150х50х70см","Менше 10","Підставки та піддони",6089.82,8526,0,{"$f":"G430*I430","v":0}]
[null,1111115797,"PR740880","Підставка Природа ПО під акваріум овальна з дверима чорна 60х30х70см","Менше 10","Підставки та піддони",2015.52,2821,0,{"$f":"G431*I431","v":0}]
[null,1111115698,"PR740895","Підставка Природа ПО під акваріум овальна з дверима чорна 80х35х70см","Менше 10","Підставки та піддони",3412.44,4779,0,{"$f":"G432*I432","v":0}]
[null,1111115612,"PR740899","Підставка Природа ПП під акваріум пряма без дверей чорна 80x35x70см","Менше 10","Підставки та піддони",2509.92,3514,0,{"$f":"G433*I433","v":0}]
[null,1111115682,"PR740846","Підставка Природа ПП під акваріум пряма з дверима чорна 100x40x70см","Менше 10","Підставки та піддони",3750.9,5251,0,{"$f":"G434*I434","v":0}]
[null,1111115687,"PR740854","Підставка Природа ПП під акваріум пряма з дверима чорна 120x40x70см","Менше 10","Підставки та піддони",4521.0600000000004,6329,0,{"$f":"G435*I435","v":0}]
[null,1111115645,"PR740872","Підставка Природа ПП під акваріум пряма з дверима чорна 50х30x70см","Менше 10","Підставки та піддони",1927.8,2699,0,{"$f":"G436*I436","v":0}]
[null,1111115644,"PR740885","Підставка Природа ПП під акваріум пряма з дверима чорна 60х30х70см","Менше 10","Підставки та піддони",1970.64,2758,0,{"$f":"G437*I437","v":0}]
[null,1111160180,"PR241685","Пісок Природа для гризунів та шиншил 1кг","Більше 100","Догляд та гігієна для гризунів",33.24,46,0,{"$f":"G438*I438","v":0}]
[null,1111160178,"PR241687","Пісок Природа для декоративних птахів 1000г","Більше 100","Предмети гігієни для птахів",32.520000000000003,52,0,{"$f":"G439*I439","v":0}]
[null,1111173133,"PR243064","Подушка-матрац Природа Oliver для собак та котів 80х60х10см","Більше 10","Спальні місця для собак",287.76,389,0,{"$f":"G440*I440","v":0}]
[null,1111173129,"PR243068","Подушка-матрац Природа Ostin для собак та котів 80х60х10см","Більше 10","Спальні місця для собак",259.38,350,0,{"$f":"G441*I441","v":0}]
[null,1111139917,"PR240265","Поїлка Природа для гризунів автоматична 300мл","Більше 10","Обладнання для гризунів",76.38,105,0,{"$f":"G442*I442","v":0}]
[null,1111133737,"PR740828","Поїлка Природа для гризунів автоматична 60мл","Більше 100","Обладнання для гризунів",63.18,87,0,{"$f":"G443*I443","v":0}]
[null,8278,"PR740829","Поїлка Природа для декоративних птахів 60мл","Більше 100","Обладнання для птахів",12,17,0,{"$f":"G444*I444","v":0}]
[null,1111186389,"PR243961","Попона Max для собак S","Більше 10","Одяг для собак",754.5,1079,0,{"$f":"G445*I445","v":0}]
[null,1111186384,"PR243970","Попона Max для собак S2","Більше 10","Одяг для собак",854.04,1221,0,{"$f":"G446*I446","v":0}]
[null,1111186386,"PR243968","Попона Max для собак S3","Більше 10","Одяг для собак",871.92,1247,0,{"$f":"G447*I447","v":0}]
[null,1111186390,"PR243958","Попона Max для собак SМ","Більше 10","Одяг для собак",791.1,1131,0,{"$f":"G448*I448","v":0}]
[null,1111186385,"PR243965","Попона Max для собак М2","Більше 10","Одяг для собак",996.84,1426,0,{"$f":"G449*I449","v":0}]
[null,1111186387,"PR243963","Попона Max для собак М3","Більше 10","Одяг для собак",900.6,1288,0,{"$f":"G450*I450","v":0}]
[null,1111186388,"PR243962","Попона Max для собак МL","Більше 10","Одяг для собак",918.36,1313,0,{"$f":"G451*I451","v":0}]
[null,1111186382,"PR243954","Попона Max для собак такса S","Більше 10","Одяг для собак",895.92,1281,0,{"$f":"G452*I452","v":0}]
[null,1111186380,"PR243955","Попона Max для собак такса S2","Більше 10","Одяг для собак",924.36,1322,0,{"$f":"G453*I453","v":0}]
[null,1111186381,"PR243952","Попона Max для собак такса М","Більше 10","Одяг для собак",921.36,1318,0,{"$f":"G454*I454","v":0}]
[null,1111186383,"PR243956","Попона Max для собак такса ХS","Більше 10","Одяг для собак",795.24,1137,0,{"$f":"G455*I455","v":0}]
[null,1111198617,"PR241975","ПОРВ. СІТКА Сумка-переноска Природа Константа для котів та собак 40х28","Менше 10","Сумки, переноски та посуд для подорожей з собаками",459.78,0,0,{"$f":"G456*I456","v":0}]
[null,1111205999,"PR241976","ПОРВ.Сумка-переноска Природа Basic 3 для котів та собак 42х32х24 см","Менше 10","Сумки, переноски та посуд для подорожей з собаками",444.84,0,0,{"$f":"G457*I457","v":0}]
[null,1111186032,"PR243913*****","Светр Sam персиковий для собак, L","Більше 10","Одяг для собак",633.96,910,0,{"$f":"G458*I458","v":0}]
[null,1111186033,"PR243914*****","Светр Sam персиковий для собак, M","Більше 10","Одяг для собак",609.72,875,0,{"$f":"G459*I459","v":0}]
[null,1111186035,"PR243918*****","Светр Sam персиковий для собак, XS","Менше 10","Одяг для собак",569.22,817,0,{"$f":"G460*I460","v":0}]
[null,1111186036,"PR243920*****","Светр Sam персиковий для собак, XXS","Менше 10","Одяг для собак",561.12,805,0,{"$f":"G461*I461","v":0}]
[null,1111186037,"PR243923*****","Светр Sam сірий для собак, L","Більше 10","Одяг для собак",633.96,910,0,{"$f":"G462*I462","v":0}]
[null,1111186038,"PR243921*****","Светр Sam сірий для собак, M","Менше 10","Одяг для собак",609.72,875,0,{"$f":"G463*I463","v":0}]
[null,1111186039,"PR243922*****","Светр Sam сірий для собак, S","Більше 10","Одяг для собак",588.72,845,0,{"$f":"G464*I464","v":0}]
[null,1111186040,"PR243924*****","Светр Sam сірий для собак, XS","Менше 10","Одяг для собак",569.22,817,0,{"$f":"G465*I465","v":0}]
[null,1111186086,"PR243874","Светр в_язаний Rich для собак M2","Більше 10","Одяг для собак",547.55999999999995,783,0,{"$f":"G466*I466","v":0}]
[null,1111186088,"PR243879","Светр в_язаний Rich для собак M3","Більше 10","Одяг для собак",567.24,811,0,{"$f":"G467*I467","v":0}]
[null,1111186091,"PR243887","Светр в_язаний Rich для собак S","Більше 10","Одяг для собак",517.79999999999995,740,0,{"$f":"G468*I468","v":0}]
[null,1111186087,"PR243877","Светр в_язаний Rich для собак S2","Більше 10","Одяг для собак",533.82000000000005,763,0,{"$f":"G469*I469","v":0}]
[null,1111186089,"PR243878","Светр в_язаний Rich для собак S3","Більше 10","Одяг для собак",545.16,780,0,{"$f":"G470*I470","v":0}]
[null,1111186092,"PR243886","Светр в_язаний Rich для собак SM","Більше 10","Одяг для собак",522.41999999999996,747,0,{"$f":"G471*I471","v":0}]
[null,1111186081,"PR243875","Светр в_язаний Rich для собак коргі L","Більше 10","Одяг для собак",576.36,824,0,{"$f":"G472*I472","v":0}]
[null,1111186080,"PR243876","Светр в_язаний Rich для собак коргі XL","Більше 10","Одяг для собак",592.38,847,0,{"$f":"G473*I473","v":0}]
[null,1111186083,"PR243872","Светр в_язаний Rich для собак такса M","Більше 10","Одяг для собак",576.36,824,0,{"$f":"G474*I474","v":0}]
[null,1111186084,"PR243870","Светр в_язаний Rich для собак такса S","Більше 10","Одяг для собак",545.22,780,0,{"$f":"G475*I475","v":0}]
[null,1111186082,"PR243873","Светр в_язаний Rich для собак такса S2","Менше 10","Одяг для собак",545.22,780,0,{"$f":"G476*I476","v":0}]
[null,1111186085,"PR243871","Светр в_язаний Rich для собак такса XS","Більше 10","Одяг для собак",529.26,757,0,{"$f":"G477*I477","v":0}]
[null,1111140748,"PR240339","Сіно лугове Природа М_ята для гризунів 200г","Більше 100","Корм для гризунів",29.94,42,0,{"$f":"G478*I478","v":0}]
[null,1111140749,"PR240338","Сіно лугове Природа Польовий мікс для гризунів 200г","Більше 10","Корм для гризунів",29.94,42,0,{"$f":"G479*I479","v":0}]
[null,1111140421,"PR240335","Сіно лугове Природа Фруктово-овочеве для гризунів 200г","Більше 100","Корм для гризунів",29.94,42,0,{"$f":"G480*I480","v":0}]
[null,1111208544,"PR740825*****","СКОЛ Годівничка-поїлка Природа для гризунів 18x11 см","Менше 10","Обладнання для гризунів",95.04,0,0,{"$f":"G481*I481","v":0}]
[null,1111176060,"PR243275","Сумка-переноска Природа Bag для собак 40х28х20см","Менше 10","Сумки, переноски та посуд для подорожей з собаками",603.12,814,0,{"$f":"G482*I482","v":0}]
[null,1111162536,"PR241977","Сумка-переноска Природа Basic 2 для котів та собак 41х30х26см","Менше 10","Сумки, переноски та посуд для подорожей з собаками",827.34,1117,0,{"$f":"G483*I483","v":0}]
[null,1111162537,"PR241976","Сумка-переноска Природа Basic 3 для котів та собак 42х32х24см","Менше 10","Сумки, переноски та посуд для подорожей з собаками",889.68,1201,0,{"$f":"G484*I484","v":0}]
[null,1111176061,"PR243274","Сумка-переноска Природа Fabi для собак 38х26х20см","Більше 10","Сумки, переноски та посуд для подорожей з собаками",824.58,1113,0,{"$f":"G485*I485","v":0}]
[null,1111206160,"PR240335","ТЕРМ 04.26 ПОРВ Сіно лугове Природа Фруктово-овочеве гризун 200г","Немає в наявності","Корм для гризунів",14.28,0,0,{"$f":"G486*I486","v":0}]
[null,1111206088,"PR740159","ТЕРМ 09.26 БИТ Природа Десерт мікс Асорті д/гриз.шарик/трубоч/тарт.70г","Менше 10","Ласощі для гризунів",14.46,0,0,{"$f":"G487*I487","v":0}]
[null,1111205725,"PR241685","ТЕРМ. 02.27, ПОРВ. Пісок Природа для гризунів та шиншил 1кг","Менше 10","Догляд та гігієна для гризунів",16.62,0,0,{"$f":"G488*I488","v":0}]
[null,1111208578,"PR240122","ТЕРМ. 03.27, ПОМ’ЯТ. Трава швидкозростаюча Природа для котів мікс 70г","Менше 10","Вітаміни для котів",11.76,0,0,{"$f":"G489*I489","v":0}]
[null,1111205573,"PR241685","ТЕРМ. 03.27, ПОРВ. Пісок Природа для гризунів та шиншил 1кг","Менше 10","Догляд та гігієна для гризунів",16.62,0,0,{"$f":"G490*I490","v":0}]
[null,1111206524,"PR240339","ТЕРМ. 04.26, ПОРВ. Сіно лугове Природа М’ята для гризунів 200г","Менше 10","Корм для гризунів",15,0,0,{"$f":"G491*I491","v":0}]
[null,1111206156,"PR240338","ТЕРМ. 04.26, ПОРВ. Сіно лугове Природа Польовий мікс для гризунів 200г","Менше 10","Корм для гризунів",15,0,0,{"$f":"G492*I492","v":0}]
[null,1111207260,"PR241685","ТЕРМ. 04.27, ПОРВ. Пісок Природа для гризунів та шиншил 1кг","Менше 10","Догляд та гігієна для гризунів",16.62,0,0,{"$f":"G493*I493","v":0}]
[null,1111207469,"PR241687","ТЕРМ. 05.27, ПОРВ. Пісок Природа для декоративних птахів 1000г","Менше 10","Предмети гігієни для птахів",14.76,0,0,{"$f":"G494*I494","v":0}]
[null,1111202392,"PR740159","ТЕРМ. 07.26, БИТ. Ласощі Природа ДесертМіксАсорт гриз шар/труб/тарт 70","Менше 10","Ласощі для гризунів",15.24,0,0,{"$f":"G495*I495","v":0}]
[null,1111207362,"PR740159","ТЕРМ. 10.26, БИТ. Ласощі Природа Десерт мікс Асорті шар/труб/тарт 70г","Менше 10","Ласощі для гризунів",15.24,0,0,{"$f":"G496*I496","v":0}]
[null,1111208160,"PR740084","ТЕРМ. 11.26, ПОРВ. Корм Природа Раціон для середніх гризунів 1,5 кг","Немає в наявності","Корм для гризунів",38.58,0,0,{"$f":"G497*I497","v":0}]
[null,1111208145,"PR243555","ТЕРМ. 12.25 Натуральні сушені ласощі для собак Шлунок курячий сушений","Менше 10","Ласощі для собак",54.12,0,0,{"$f":"G498*I498","v":0}]
[null,1111207683,"PR740111","ТЕРМ.03.27.ПОРВ.УП.Корм Природа Аквамікс для декоративних риб 10 г, Об","Менше 10","Корм сухий для акваріумних риб",5.16,0,0,{"$f":"G499*I499","v":0}]
[null,1111207684,"PR740115","ТЕРМ.03.27.ПОРВ.УП.Корм сухий натуральний Природа Гамарус для акваріум","Менше 10","Корм сухий для акваріумних риб",5.58,0,0,{"$f":"G500*I500","v":0}]
[null,1111208275,"PR240462","ТЕРМ.05.28.ПОРВ.Корм Природа Біовіт Колор для яскраво-забарвлених аква","Менше 10","Корм сухий для акваріумних риб",8.4600000000000009,0,0,{"$f":"G501*I501","v":0}]
[null,1111207586,"PR740183*****","ТЕРМ.07.25.Ласощі Природа Десерт для собак яєчний 550 г, Обмежено прид","Менше 10","Ласощі для собак",56.46,0,0,{"$f":"G502*I502","v":0}]
[null,1111208569,"PR243581","ТЕРМ.12.25 Натуральні сушені лас д/соб Трахея ялов суш рубл50г","Більше 100","Ласощі для собак",17.82,0,0,{"$f":"G503*I503","v":0}]
[null,1854,"PR740064","Тирса Природа для гризунів гігієнічний наповнювач деревинна 900г","Більше 100","Наповнювачі для гризунів",47.7,67,0,{"$f":"G504*I504","v":0}]
[null,1111158663,"PR241408","Трав_яні снеки Природа для гризунів календула та морква 60г","Більше 100","Ласощі для гризунів",37.200000000000003,58,0,{"$f":"G505*I505","v":0}]
[null,1111160922,"PR241768","Трав_яні снеки Природа для гризунів кокос та яблуко 60г","Більше 100","Ласощі для гризунів",37.200000000000003,58,0,{"$f":"G506*I506","v":0}]
[null,1111160921,"PR241769","Трав_яні снеки Природа для гризунів м_ята та яблуко 60г","Більше 100","Ласощі для гризунів",37.200000000000003,58,0,{"$f":"G507*I507","v":0}]
[null,1111158661,"PR241410","Трав_яні снеки Природа для гризунів ромашка та груша 60г","Більше 100","Ласощі для гризунів",37.200000000000003,58,0,{"$f":"G508*I508","v":0}]
[null,7096,"PR240123","Трава швидкозростаюча Природа для котів 70г","Більше 100","Вітаміни для котів",23.46,30,0,{"$f":"G509*I509","v":0}]
[null,1111136584,"PR240122","Трава швидкозростаюча Природа для котів мікс 70г","Більше 100","Вітаміни для котів",23.46,30,0,{"$f":"G510*I510","v":0}]
[null,1111160621,"PR241698","Туалет Природа Comfort L д/котів 49х39х15см","Більше 100","Туалети для котів",236.46,318,0,{"$f":"G511*I511","v":0}]
[null,1111160622,"PR241739","Туалет Природа Comfort L для котів 49х39х15см","Більше 10","Туалети для котів",236.46,318,0,{"$f":"G512*I512","v":0}]
[null,1111160623,"PR241740","Туалет Природа Comfort L для котів 49х39х15см","Більше 10","Туалети для котів",236.46,318,0,{"$f":"G513*I513","v":0}]
[null,1111160624,"PR241741","Туалет Природа Comfort L для котів 49х39х15см","Більше 10","Туалети для котів",236.46,318,0,{"$f":"G514*I514","v":0}]
[null,1111160625,"PR241699","Туалет Природа Comfort M д/котів 41х30х13,5см","Менше 10","Туалети для котів",182.76,248,0,{"$f":"G515*I515","v":0}]
[null,1111160626,"PR241736","Туалет Природа Comfort M для котів 41х30х13,5см","Менше 10","Туалети для котів",182.76,248,0,{"$f":"G516*I516","v":0}]
[null,1111160627,"PR241737","Туалет Природа Comfort M для котів 41х30х13,5см","Більше 100","Туалети для котів",182.76,248,0,{"$f":"G517*I517","v":0}]
[null,1111113280,"PR740434","Туалет Природа Доллі для котів 31x42x11см","Більше 100","Туалети для котів",88.62,121,0,{"$f":"G518*I518","v":0}]
[null,2096,"PR740443","Туалет Природа з сіткою для котів  36,5х27,5х5,5см","Більше 100","Туалети для котів",99.9,134,0,{"$f":"G519*I519","v":0}]
[null,1111115442,"PR740435","Туалет Природа Маркіз з рамкою для котів 42,5х31,5х13см","Більше 100","Туалети для котів",119.88,163,0,{"$f":"G520*I520","v":0}]
[null,11360,"PR740436","Туалет Природа Міні для котів 37х25,5х5,6см","Більше 100","Туалети для котів",58.2,79,0,{"$f":"G521*I521","v":0}]
[null,1111162300,"PR241957","Тунель Природа для гризунів 17х8х6см","Більше 10","Обладнання для гризунів",60.9,82,0,{"$f":"G522*I522","v":0}]

{"sheet":"Профілайн","index":65,"n_rows":20,"n_cols":10,"rows_kept":20,"cut":false,"hidden":false,"merged":[]}
[]
[null,null,null,null,null,null,"suziria.ua"]
[null,null,null,null,null,null,"0 800 21 82 99"]
[null,null,null,null,null,null,"feedback@suziria.ua"]
[]
["Зображення","Код","Артикул","Номенклатура","Наявність","Категорія","Ціна опт.","Ціна РРЦ","Замовлення, шт.","Сума, грн."]
[null,null,null,null,null,null,null,null,null,{"$f":"СУММ(J8:J20)","v":{"$error":"#NAME?"}}]
[null,1111166062,"PR242203","Шампунь Provet ПРОФІЛАЙН для довгошерстих котів з кератином 300мл","Більше 10","Догляд та гігієна для котів",106.68,149.33000000000001,0,{"$f":"G8*I8","v":0}]
[null,1111166063,"PR242202","Шампунь Provet ПРОФІЛАЙН для довгошерстих собак з кератином 300мл","Більше 100","Догляд та гігієна для собак",106.68,149.33000000000001,0,{"$f":"G9*I9","v":0}]
[null,1111172227,"PR242888","Шампунь Provet ПРОФІЛАЙН для довгошерстих собак з кератином 3л","Менше 10","Догляд та гігієна для собак",649.02,908.6,0,{"$f":"G10*I10","v":0}]
[null,1111166058,"PR242207","Шампунь Provet ПРОФІЛАЙН для котів антибактеріальний 300мл","Більше 100","Догляд та гігієна для котів",106.68,149.33000000000001,0,{"$f":"G11*I11","v":0}]
[null,1111166060,"PR242205","Шампунь Provet ПРОФІЛАЙН для котів глибоке очищення з алое 300мл","Більше 10","Догляд та гігієна для котів",106.68,149.33000000000001,0,{"$f":"G12*I12","v":0}]
[null,1111172226,"PR242889","Шампунь Provet ПРОФІЛАЙН для котів та собак глибоке очищення з алое 3л","Менше 10","Догляд та гігієна для собак",649.02,908.6,0,{"$f":"G13*I13","v":0}]
[null,1111166066,"PR242199","Шампунь Provet ПРОФІЛАЙН для кошенят з ромашкою 300мл","Більше 100","Догляд та гігієна для котів",121.5,170.05,0,{"$f":"G14*I14","v":0}]
[null,1111166057,"PR242208","Шампунь Provet ПРОФІЛАЙН для собак антибактеріальний 300мл","Більше 100","Догляд та гігієна для собак",106.68,149.33000000000001,0,{"$f":"G15*I15","v":0}]
[null,1111166059,"PR242206","Шампунь Provet ПРОФІЛАЙН для собак гіпоалергенний 300мл","Більше 100","Догляд та гігієна для собак",106.68,149.33000000000001,0,{"$f":"G16*I16","v":0}]
[null,1111172225,"PR242890","Шампунь Provet ПРОФІЛАЙН для собак гіпоалергенний 3л","Більше 10","Догляд та гігієна для собак",649.02,908.6,0,{"$f":"G17*I17","v":0}]
[null,1111166061,"PR242204","Шампунь Provet ПРОФІЛАЙН для собак з білою та світлою шерстю 300мл","Більше 100","Догляд та гігієна для собак",106.68,149.33000000000001,0,{"$f":"G18*I18","v":0}]
[null,1111166064,"PR242201","Шампунь Provet ПРОФІЛАЙН для тхорів та гризунів 300мл","Більше 10","Догляд та гігієна для тхорів",122.16,170.96,0,{"$f":"G19*I19","v":0}]
[null,1111166065,"PR242200","Шампунь Provet ПРОФІЛАЙН для цуценят з ромашкою 300мл","Більше 100","Догляд та гігієна для собак",121.5,170.05,0,{"$f":"G20*I20","v":0}]

{"sheet":"Розница Бадди","index":66,"n_rows":8,"n_cols":10,"rows_kept":8,"cut":false,"hidden":false,"merged":[]}
[]
[null,null,null,null,null,null,"suziria.ua"]
[null,null,null,null,null,null,"0 800 21 82 99"]
[null,null,null,null,null,null,"feedback@suziria.ua"]
[]
["Зображення","Код","Артикул","Номенклатура","Наявність","Категорія","Ціна опт.","Ціна РРЦ","Замовлення, шт.","Сума, грн."]
[null,null,null,null,null,null,null,null,null,{"$f":"СУММ(J8:J8)","v":{"$error":"#NAME?"}}]
[null,1111168903,"25249*****","Миска Trixie Slow Feed для собак з нержавіючої сталі кругова 1,4л 21см","Більше 10","Миски та годівниці для собак",469,633,0,{"$f":"G8*I8","v":0}]

{"sheet":"Стоп","index":67,"n_rows":49,"n_cols":10,"rows_kept":49,"cut":false,"hidden":false,"merged":[]}
[]
[null,null,null,null,null,null,"suziria.ua"]
[null,null,null,null,null,null,"0 800 21 82 99"]
[null,null,null,null,null,null,"feedback@suziria.ua"]
[]
["Зображення","Код","Артикул","Номенклатура","Наявність","Категорія","Ціна опт.","Ціна РРЦ","Замовлення, шт.","Сума, грн."]
[null,null,null,null,null,null,null,null,null,{"$f":"СУММ(J8:J49)","v":{"$error":"#NAME?"}}]
[null,1111141380,"PR020069","Краплі Provet АКАРОСТОП д/котів/собак/кроликів акарицид/препарат 10мл","Більше 100","Антипаразитарні препарати для собак",37.86,53,0,{"$f":"G8*I8","v":0}]
[null,1111151581,"PR020026 _1уп.(6пип.)","Краплі Provet ІНСЕКТОСТОП д/котів/собак 4/6кг зовн/параз 6піпет/0,8мл","Більше 100","Антипаразитарні препарати для собак",71.400000000000006,100,0,{"$f":"G9*I9","v":0}]
[null,1111151582,"PR020027 _1 уп.(6пип.)","Краплі Provet ІНСЕКТОСТОП д/кошен/цуцен до 3кг зов/параз 6піпет/0,5мл","Більше 100","Антипаразитарні препарати для собак",67.14,94,0,{"$f":"G10*I10","v":0}]
[null,1111162044,"PR241746","Краплі Provet МЕГАСТОП д/котів 4/8кг зовн/внутр/паразит 1піпетка/1мл","Більше 100","Антипаразитарні препарати для котів",43.44,61,0,{"$f":"G11*I11","v":0}]
[null,1111151583,"PR020074_1уп.(4пип)","Краплі Provet МЕГАСТОП д/котів 4/8кг зовн/внутр/паразит 4піпетки/1мл","Більше 100","Антипаразитарні препарати для котів",148.68,208,0,{"$f":"G12*I12","v":0}]
[null,1111162043,"PR241747","Краплі Provet МЕГАСТОП д/котів до 4кг зовн/внут/паразит 1піпетка/0,5мл","Більше 100","Антипаразитарні препарати для котів",39.54,56,0,{"$f":"G13*I13","v":0}]
[null,1111151584,"PR020073_1уп.(4пип)","Краплі Provet МЕГАСТОП д/котів до 4кг зовн/внут/паразит 4піпетки/0,5мл","Більше 100","Антипаразитарні препарати для котів",136.5,191,0,{"$f":"G14*I14","v":0}]
[null,1111162047,"PR241743","Краплі Provet МЕГАСТОП д/собак 10/20кг зов/внут/паразит 1піпетка/2мл","Більше 10","Антипаразитарні препарати для собак",57.72,81,0,{"$f":"G15*I15","v":0}]
[null,1111151585,"PR020077_1уп.(4пип)","Краплі Provet МЕГАСТОП д/собак 10/20кг зов/внут/паразит 4піпетки/2мл","Більше 100","Антипаразитарні препарати для собак",197.64,276,0,{"$f":"G16*I16","v":0}]
[null,1111162048,"PR241742","Краплі Provet МЕГАСТОП д/собак 20/30кг зов/внут/паразит 1піпетка/3мл","Більше 100","Антипаразитарні препарати для собак",64.86,91,0,{"$f":"G17*I17","v":0}]
[null,1111151586,"PR020078_1уп.(4пип)","Краплі Provet МЕГАСТОП д/собак 20/30кг зов/внут/паразит 4піпетки/3мл","Більше 100","Антипаразитарні препарати для собак",224.04,313,0,{"$f":"G18*I18","v":0}]
[null,1111162046,"PR241744","Краплі Provet МЕГАСТОП д/собак 4/10кг зов/внут/паразит 1піпетка/1мл","Більше 100","Антипаразитарні препарати для собак",50.94,72,0,{"$f":"G19*I19","v":0}]
[null,1111151587,"PR020076_1уп(4пип)","Краплі Provet МЕГАСТОП д/собак 4/10кг зов/внут/паразит 4піпетки/1мл","Більше 100","Антипаразитарні препарати для собак",169.68,237,0,{"$f":"G20*I20","v":0}]
[null,1111162045,"PR241745","Краплі Provet МЕГАСТОП д/собак до 4кг зов/внут/паразит 1піпетка/0,5мл","Більше 10","Антипаразитарні препарати для собак",38.880000000000003,58,0,{"$f":"G21*I21","v":0}]
[null,1111151588,"PR020075_1уп (4пип)","Краплі Provet МЕГАСТОП д/собак до 4кг зов/внут/паразит 4піпетки/0,5мл","Більше 100","Антипаразитарні препарати для собак",145.08000000000001,203,0,{"$f":"G22*I22","v":0}]
[null,1111180395,"PR242513","Краплі Provet МЕГАСТОП УЛЬТРА д/котів та тхорів до 4кг 4піпет по 0,4мл","Більше 100","Антипаразитарні препарати для котів",142.32,232,0,{"$f":"G23*I23","v":0}]
[null,1111180396,"PR242512","Краплі Provet МЕГАСТОП УЛЬТРА для котів 4-8кг 4 піпетки по 0,8мл","Більше 100","Антипаразитарні препарати для котів",190.5,296,0,{"$f":"G24*I24","v":0}]
[null,1111180399,"PR242505","Краплі Provet МЕГАСТОП УЛЬТРА для собак 10-25кг 4 піпетки по 2,5мл","Більше 10","Антипаразитарні препарати для собак",287.39999999999998,402,0,{"$f":"G25*I25","v":0}]
[null,1111180400,"PR242504","Краплі Provet МЕГАСТОП УЛЬТРА для собак 25-40кг 4 піпетки по 4мл","Більше 10","Антипаразитарні препарати для собак",442.32,619,0,{"$f":"G26*I26","v":0}]
[null,1111180398,"PR242506","Краплі Provet МЕГАСТОП УЛЬТРА для собак 4-10кг 4 піпетки по 1мл","Більше 100","Антипаразитарні препарати для собак",209.88,310,0,{"$f":"G27*I27","v":0}]
[null,1111180397,"PR242507","Краплі Provet МЕГАСТОП УЛЬТРА для собак до 4кг 4 піпетки по 0,4мл","Більше 10","Антипаразитарні препарати для собак",154.5,252,0,{"$f":"G28*I28","v":0}]
[null,1111138350,"PR020030","Краплі Provet МІКОСТОП для котів та собак протигрибковий препарат 10мл","Більше 10","Антипаразитарні препарати для собак",36,51,0,{"$f":"G29*I29","v":0}]
[null,1111164730,"PR241915_1уп.(1пип)","Краплі Provet МОКСІСТОП д/котів 4/10кг антигельмінтик 1піпетка 1мл","Більше 100","Антипаразитарні препарати для котів",93,130,0,{"$f":"G30*I30","v":0}]
[null,1111164729,"PR241916_1уп.(1пип)","Краплі Provet МОКСІСТОП д/котів до 4кг антигельмінтик 1піпетка/0,4мл","Більше 100","Антипаразитарні препарати для котів",68.52,96,0,{"$f":"G31*I31","v":0}]
[null,1111164732,"PR241918_1уп.(1пип)","Краплі Provet МОКСІСТОП д/собак 4/10кг антигельмінтик 1піпетка/1мл","Більше 10","Антипаразитарні препарати для собак",114.96,161,0,{"$f":"G32*I32","v":0}]
[null,1111164731,"PR241919_1уп.(1пип)","Краплі Provet МОКСІСТОП д/собак до 4кг антигельмінтик 1піпетка/0,4мл","Більше 10","Антипаразитарні препарати для собак",93.78,131,0,{"$f":"G33*I33","v":0}]
[null,1111143955,"PR020117","Нашийник Provet STOP-Біо для собак репелент 70 см","Більше 100","Антипаразитарні препарати для собак",50.94,72,0,{"$f":"G34*I34","v":0}]
[null,1111143953,"PR020119","Нашийник Provet ІНСЕКТОСТОП д/котів/собак дріб/порід інсектоакар 35 см","Більше 100","Антипаразитарні препарати для котів",37.200000000000003,52,0,{"$f":"G35*I35","v":0}]
[null,1111143954,"PR020120","Нашийник Provet ІНСЕКТОСТОП для собак інсектоакарицид 70 см","Більше 100","Антипаразитарні препарати для собак",50.16,70,0,{"$f":"G36*I36","v":0}]
[null,1111140834,"PR240978","Спрей Provet ІНСЕКТОСТОП для котів та собак інсектоакарицид 100мл","Більше 100","Антипаразитарні препарати для котів",114.3,160,0,{"$f":"G37*I37","v":0}]
[null,1111140835,"PR240979","Спрей Provet ІНСЕКТОСТОП для котів та собак інсектоакарицид 250мл","Більше 10","Антипаразитарні препарати для котів",209.34,293,0,{"$f":"G38*I38","v":0}]
[null,1111138351,"PR020031","Спрей Provet МІКОСТОП для котів та собак протигрибковий препарат 30мл","Більше 100","Антипаразитарні препарати для собак",71.22,100,0,{"$f":"G39*I39","v":0}]
[null,1111138260,"PR020029","Суспензия Provet СЕКССТОП Краплі д/котів/собак регул/статев/активн 2мл","Більше 100","Корекція поведінки для котів",38.58,54,0,{"$f":"G40*I40","v":0}]
[null,1111138259,"PR020028","Суспензія Provet ПРАЗІСТОП для котів собак антигельмінтик 5мл","Більше 100","Антипаразитарні препарати для собак",44.34,62,0,{"$f":"G41*I41","v":0}]
[null,1111164728,"PR241913_1уп.(2табл.)","Таблетки Provet МОКСІСТОП МАКСІ д/собак 10/20кг антигельмінт 2штх500мг","Більше 10","Антипаразитарні препарати для собак",150.47999999999999,210,0,{"$f":"G42*I42","v":0}]
[null,1111164727,"PR241914_1уп.(2табл.)","Таблетки Provet МОКСІСТОП МІДІ д/собак 4/10кг антигельмінтик 2штх120мг","Більше 10","Антипаразитарні препарати для собак",119.52,167,0,{"$f":"G43*I43","v":0}]
[null,1111164726,"PR241920_1уп.(2табл.)","Таблетки Provet МОКСІСТОП МІНІ д/кот/собак до 4кг антигельм 2штх120мг","Більше 10","Антипаразитарні препарати для котів",90.84,127,0,{"$f":"G44*I44","v":0}]
[null,1111163329,"PR241756_1уп.(10таб)","Таблетки Provet ПРАЗІСТОП для котів та собак антигельмінтик 10 шт","Більше 100","Антипаразитарні препарати для котів",80.94,113,0,{"$f":"G45*I45","v":0}]
[null,1111180402,"PR242503","Таблетки Provet ПРАЗІСТОП УЛЬТРА для собак 2 табл","Більше 10","Антипаразитарні препарати для собак",64.62,91,0,{"$f":"G46*I46","v":0}]
[null,1111180403,"PR242959_1блист.(10таб)","Таблетки Provet СЕКСТОП д/собак та котів 10 таблеток","Більше 100","Корекція поведінки для котів",32.04,45,0,{"$f":"G47*I47","v":0}]
[null,1111204600,"PR241918_1уп.(1пип)","ТЕРМ 10.25 Краплі PROVET Моксістоп собак 4/10кг антигельмінт 1піп/1мл","Менше 10","Антипаразитарні препарати для собак",64.260000000000005,0,0,{"$f":"G48*I48","v":0}]
[null,1111204599,"PR241919_1уп.(1пип)","ТЕРМ 10.25 Краплі PROVET Моксістоп собак/4кг антигельмінтик 1піп/0,4мл","Менше 10","Антипаразитарні препарати для собак",50.7,0,0,{"$f":"G49*I49","v":0}]

{"sheet":"Загальне замовлення","index":68,"n_rows":4815,"n_cols":10,"rows_kept":4815,"cut":false,"hidden":false,"merged":[]}
[]
[null,null,null,null,null,null,"suziria.ua"]
[null,null,null,null,null,null,"0 800 21 82 99"]
[null,null,null,null,null,null,"feedback@suziria.ua"]
[]
["Зображення","Код","Артикул","Номенклатура","Наявність","Категорія","Ціна опт.","Ціна РРЦ","Замовлення, шт.","Сума, грн."]
[null,null,null,null,null,null,null,null,null,{"$f":"СУММ(J8:J4815)","v":{"$error":"#NAME?"}}]
[null,1111135196,"660891 /115540*****","8in1 Excel Calcium для собак кормова добавка Кальцій 880 табл 400 г","Більше 10","Вітаміни для собак",1308.42,1766,{"$f":"'8in1'!I$8","v":0},{"$f":"'8in1'!J$8","v":0}]
[null,1111149426,"680234/6993 USA","8in1 NM ADV Cat SO Elimin Spray д/усунен плям/запахів кот лимон 946мл","Більше 100","Засоби для догляду за будинком з котами",720.06,1051,{"$f":"'8in1'!I$9","v":0},{"$f":"'8in1'!J$9","v":0}]
[null,1111149414,"680104/7016 USA","8in1 NM ADV Dog StainOdor Elimin Spray д/усун плям/зап собак 946 мл","Більше 100","Засоби для догляду за будинком з собаками",720.06,1040,{"$f":"'8in1'!I$10","v":0},{"$f":"'8in1'!J$10","v":0}]
[null,1111150121,"680443/680142/6947 USA","8in1 NM Advanced Cat SO Foam д/усунен плям/запах посил формула 518мл","Більше 10","Засоби для догляду за будинком з котами",516.12,762,{"$f":"'8in1'!I$11","v":0},{"$f":"'8in1'!J$11","v":0}]
[null,1111156830,"680398/1707 USA","8in1 NM Cat Orange Oxy Spray д/усунен плям і запахів від котів 709мл","Менше 10","Засоби для догляду за будинком з котами",552.17999999999995,819,{"$f":"'8in1'!I$12","v":0},{"$f":"'8in1'!J$12","v":0}]
[null,1111149419,"680476/680418/680067 USA","8in1 NM Cat Urine Destroyer Pour для усунення запахів сечі котів 946мл","Менше 10","Засоби для догляду за будинком з котами",657.66,861,{"$f":"'8in1'!I$13","v":0},{"$f":"'8in1'!J$13","v":0}]
[null,1111158238,"680397 USA","8in1 NM Dog Oxy Formula Spray д/усунення плям/запахів собак 946 мл","Більше 10","Засоби для догляду за будинком з собаками",630.6,941,{"$f":"'8in1'!I$14","v":0},{"$f":"'8in1'!J$14","v":0}]
[null,1111149411,"680005/6962 USA","8in1 NM Dog StainOdor Remover Spray д/усунення плям/запах собак 709мл","Більше 10","Засоби для догляду за будинком з собаками",531.24,762,{"$f":"'8in1'!I$15","v":0},{"$f":"'8in1'!J$15","v":0}]
[null,1111156829,"680520USA","8in1 NM Hard Floor Cleaner DASO Rem д/усунен плям/зап д/підлог 709мл","Більше 100","Засоби для догляду за будинком з собаками",575.82000000000005,842,{"$f":"'8in1'!I$16","v":0},{"$f":"'8in1'!J$16","v":0}]
[null,1111114528,"680514/680309","8in1 NM Housebreaking Spray д/цуценят привч до туалету спрей 236 мл","Більше 100","Корекція поведінки для собак",324.83999999999997,475,{"$f":"'8in1'!I$17","v":0},{"$f":"'8in1'!J$17","v":0}]
[null,1111131666,"680513/680287","8in1 NM JFC No More Spraying для котів від повторних міток спрей 709мл","Більше 10","Засоби для догляду за будинком з котами",633.05999999999995,932,{"$f":"'8in1'!I$18","v":0},{"$f":"'8in1'!J$18","v":0}]
[null,1111136392,"680205 /5552  USA","8in1 NM Litter Box Odor Destr д/усунення запаху котячого туалету 709мл","Більше 10","Засоби для догляду за будинком з котами",466.44,655,{"$f":"'8in1'!I$19","v":0},{"$f":"'8in1'!J$19","v":0}]
[null,1111137653,"680508/680219 /5558  USA","8in1 NM No More Marking Trig Sprау для собак від повторних міток 709мл","Більше 10","Корекція поведінки для котів",657.42,947,{"$f":"'8in1'!I$20","v":0},{"$f":"'8in1'!J$20","v":0}]
[null,1111201787,661823,"Вітаміни Excel Brewers Yeast д/соб і кот пивні дріжджі/часник 140шт","Більше 100","Вітаміни для собак",206.52,279,{"$f":"'8in1'!I$21","v":0},{"$f":"'8in1'!J$21","v":0}]
[null,1111201790,661833,"Вітаміни Excel Brewers Yeast д/соб і кот пивні дріжджі/часник 1430шт","Більше 100","Вітаміни для собак",1454.7,1964,{"$f":"'8in1'!I$22","v":0},{"$f":"'8in1'!J$22","v":0}]
[null,1111201788,661819,"Вітаміни Excel Brewers Yeast д/соб і кот пивні дріжджі/часник 260шт","Більше 100","Вітаміни для собак",337.2,457,{"$f":"'8in1'!I$23","v":0},{"$f":"'8in1'!J$23","v":0}]
[null,1111201789,661829,"Вітаміни Excel Brewers Yeast д/соб і кот пивні дріжджі/часник 780шт","Більше 10","Вітаміни для собак",872.64,1178,{"$f":"'8in1'!I$24","v":0},{"$f":"'8in1'!J$24","v":0}]
[null,1111201791,661824,"Вітаміни Excel Brewers Yeast д/собак вел/пор шкір/шерс дріжд/часн 80шт","Більше 100","Вітаміни для собак",349.68,471,{"$f":"'8in1'!I$25","v":0},{"$f":"'8in1'!J$25","v":0}]
[null,1111201811,661826,"Вітаміни Excel Calcium д/цуценят/дор/собак зуби/кістки кальцій 155шт","Більше 100","Вітаміни для собак",285.36,386,{"$f":"'8in1'!I$26","v":0},{"$f":"'8in1'!J$26","v":0}]
[null,1111131654,"660473 /109402*****","Вітаміни Excel Calcium д/цуценят/дор/собак зуби/кістки кальцій 155шт","Більше 100","Вітаміни для собак",285.36,386,{"$f":"'8in1'!I$27","v":0},{"$f":"'8in1'!J$27","v":0}]
[null,1111201795,661832,"Вітаміни Excel Calcium для собак кормова добавка Кальцій 1700шт","Менше 10","Вітаміни для собак",2338.56,3157,{"$f":"'8in1'!I$28","v":0},{"$f":"'8in1'!J$28","v":0}]
[null,1111201813,661831,"Вітаміни Excel Glucosamine MSM д/цуценят/дорос/собак для суглобів 55шт","Більше 10","Вітаміни для собак",677.58,916,{"$f":"'8in1'!I$29","v":0},{"$f":"'8in1'!J$29","v":0}]
[null,1111201812,661827,"Вітаміни Excel Glucosamine д/цуцен/доросл/собак для суглобів 55шт","Більше 10","Вітаміни для собак",605.94000000000005,817,{"$f":"'8in1'!I$30","v":0},{"$f":"'8in1'!J$30","v":0}]
[null,1111201796,661828,"Вітаміни Excel Glucosamine для собак Глюкозамін 110шт","Більше 10","Вітаміни для собак",1016.82,1372,{"$f":"'8in1'!I$31","v":0},{"$f":"'8in1'!J$31","v":0}]
[null,1111201810,661825,"Вітаміни Excel Multi Vit Small Breed д/собак дріб/пор мультивітам 70шт","Більше 100","Вітаміни для собак",393.3,531,{"$f":"'8in1'!I$32","v":0},{"$f":"'8in1'!J$32","v":0}]
[null,1111201793,661821,"Вітаміни Excel Multi Vit-Adult д/дор/собак здор/роз мультивітамін 70шт","Більше 100","Вітаміни для собак",393.3,531,{"$f":"'8in1'!I$33","v":0},{"$f":"'8in1'!J$33","v":0}]
[null,1111201794,661822,"Вітаміни Excel Multi Vitamin Senior д/літніх собак мультивітамін 70шт","Більше 100","Вітаміни для собак",392.28,530,{"$f":"'8in1'!I$34","v":0},{"$f":"'8in1'!J$34","v":0}]
[null,1111201792,661820,"Вітаміни Excel Multi Vit-Puppy д/цуценят здор/розв мультивітамін 100шт","Більше 100","Вітаміни для собак",345.54,466,{"$f":"'8in1'!I$35","v":0},{"$f":"'8in1'!J$35","v":0}]
[null,1111150461,"680321/7006 USA","Гігієнічний засіб 8in1 Pro-Sense д/соб і котів для вух лосьйон 118 мл","Менше 10","Догляд та гігієна для собак",403.26,573,{"$f":"'8in1'!I$36","v":0},{"$f":"'8in1'!J$36","v":0}]
[null,1111180894,680519,"Дезодоруючий спрей Natures miracle Aloe Rain 709мл","Більше 10","Засоби для догляду за будинком з собаками",421.56,620,{"$f":"'8in1'!I$37","v":0},{"$f":"'8in1'!J$37","v":0}]
[null,1111180893,680518,"Дезодоруючий спрей Natures miracle Lavender 709мл","Більше 10","Засоби для догляду за будинком з собаками",421.56,620,{"$f":"'8in1'!I$38","v":0},{"$f":"'8in1'!J$38","v":0}]
[null,1111161388,"661617/151821/661509СПЕЦ","Дешеддер 8in1 Perfect Coat для вичісування собак розмір L 10 см","Менше 10","Догляд та гігієна для собак",616.74,956,{"$f":"'8in1'!I$39","v":0},{"$f":"'8in1'!J$39","v":0}]
[null,1111161386,"661615/151753/661507СПЕЦ","Дешеддер 8in1 Perfect Coat для вичісування собак розмір S 4,5 см","Менше 10","Догляд та гігієна для собак",518.28,803,{"$f":"'8in1'!I$40","v":0},{"$f":"'8in1'!J$40","v":0}]
[null,1111161387,"661616/151791/661508СПЕЦ","Дешеддер 8in1 Perfect Coat для вичісування собак розмір М 6,5 см","Менше 10","Догляд та гігієна для собак",554.1,859,{"$f":"'8in1'!I$41","v":0},{"$f":"'8in1'!J$41","v":0}]
[null,1111161389,"661618/151869/661510СПЕЦ","Дешеддер 8in1 Perfect Coat для котів для вичісування 4,5см","Більше 10","Догляд та гігієна для котів",518.28,803,{"$f":"'8in1'!I$42","v":0},{"$f":"'8in1'!J$42","v":0}]
[null,1111149424,"680442/680135/6946 USA","Засіб 8in1 Nature_s Miracle для собак видалення плям та запахів 518мл","Більше 100","Засоби для догляду за будинком з собаками",516.12,762,{"$f":"'8in1'!I$43","v":0},{"$f":"'8in1'!J$43","v":0}]
[null,1111123510,"660293 /102250","Пелюшки 8in1 Training Pads для собак 56х56 см 14 шт","Більше 10","Пелюшки, підгузки для собак",388.92,545,{"$f":"'8in1'!I$44","v":0},{"$f":"'8in1'!J$44","v":0}]
[null,1111123511,"660296 /102281","Пелюшки 8in1 Training Pads для собак з целюлози 56x56см 30шт","Більше 10","Пелюшки, підгузки для собак",726.3,1016,{"$f":"'8in1'!I$45","v":0},{"$f":"'8in1'!J$45","v":0}]
[null,1111197314,"680539USA","Шампунь-кондиціонер 8in1 NM д/собак гіпоалергенний 473 мл","Більше 10","Догляд та гігієна для собак",459.9,676,{"$f":"'8in1'!I$46","v":0},{"$f":"'8in1'!J$46","v":0}]
[null,1111197313,"680538USA","Шампунь-кондиціонер 8in1 NM д/цуценят з аром бавовни 473 мл","Більше 10","Догляд та гігієна для собак",459.9,676,{"$f":"'8in1'!I$47","v":0},{"$f":"'8in1'!J$47","v":0}]
[null,1111197311,"680537USA","Шампунь-кондиціонер 8in1 NN д/собак з аром вівс мол та фіст 473 мл","Більше 10","Догляд та гігієна для собак",459.9,676,{"$f":"'8in1'!I$48","v":0},{"$f":"'8in1'!J$48","v":0}]
[null,1111171484,"AM-83706","Carny Adult Beef Chicken Duck hearts д/кот ялович/курка/кач/серця 200г","Більше 100","Корм вологий для котів",85.68,120,{"$f":"Animonda!I$8","v":0},{"$f":"Animonda!J$8","v":0}]
[null,1111171489,"AM-83701","Carny Adult Beef Codfish with Parsley roots дор/коти ялов/тріска 200г","Більше 10","Корм вологий для котів",85.68,120,{"$f":"Animonda!I$9","v":0},{"$f":"Animonda!J$9","v":0}]
[null,1111171497,"AM-83717","Carny Adult Beef Codfish with Parsley roots дор/коти ялов/тріска 400г","Менше 10","Корм вологий для котів",125.46,176,{"$f":"Animonda!I$10","v":0},{"$f":"Animonda!J$10","v":0}]
[null,1111171485,"AM-83708","Carny Adult Beef Turkey Shrimps консерва д/кот ялов/індич/кревет 200г","Більше 100","Корм вологий для котів",85.68,120,{"$f":"Animonda!I$11","v":0},{"$f":"Animonda!J$11","v":0}]
[null,1111171488,"AM-83700","Carny Adult Beef Venison with Cowberries д/котів ялов/олен/брусн 200г","Більше 100","Корм вологий для котів",85.68,120,{"$f":"Animonda!I$12","v":0},{"$f":"Animonda!J$12","v":0}]
[null,1111171522,"AM-82732","GranCarno Adult Beef Chicken консерва д/доросл/собак ялович/курка 400г","Більше 10","Корм вологий для собак",127.92,179,{"$f":"Animonda!I$13","v":0},{"$f":"Animonda!J$13","v":0}]
[null,1111171531,"AM-82804","GranCarno Adult with Duck консерва для дорослих собак з качкою 800г","Більше 10","Корм вологий для собак",224.22,314,{"$f":"Animonda!I$14","v":0},{"$f":"Animonda!J$14","v":0}]
[null,1111171480,"AM-83051","Vom Feinsten Adult Turkey Trout консерва для котів індичка/форель 100г","Більше 100","Корм вологий для котів",53.4,74,{"$f":"Animonda!I$15","v":0},{"$f":"Animonda!J$15","v":0}]
[null,1111171475,"AM-83262","Vom Feinsten Adult with Chicken Beef Carrots кіт курка/ялов/морк 100г","Більше 100","Корм вологий для котів",45.96,65,{"$f":"Animonda!I$16","v":0},{"$f":"Animonda!J$16","v":0}]
[null,1111171469,"AM-83306","Vom Feinsten Adult with Chicken Seafood д/котів курка/морепродукт 100г","Більше 100","Корм вологий для котів",45.96,65,{"$f":"Animonda!I$17","v":0},{"$f":"Animonda!J$17","v":0}]
[null,1111171477,"AM-83113","Vom Feinsten Adult with Chicken Yoghurt centre кіт курка/йогурт 100г","Більше 10","Корм вологий для котів",47.64,67,{"$f":"Animonda!I$18","v":0},{"$f":"Animonda!J$18","v":0}]
[null,1111171478,"AM-83037","Vom Feinsten Adult with rabbit консерва д/котів крол/верш/соус 100г","Більше 100","Корм вологий для котів",48.06,67,{"$f":"Animonda!I$19","v":0},{"$f":"Animonda!J$19","v":0}]
[null,1111171479,"AM-83360","Vom Feinsten Adult with Turkey in Tomato sauce кіт инд/томат/соус 100г","Більше 100","Корм вологий для котів",45.96,65,{"$f":"Animonda!I$20","v":0},{"$f":"Animonda!J$20","v":0}]
[null,1111186681,82479,"Корм GranCarno Adult Beef/Deer+Apple конс д/соб ялов олен ябл 400 г","Більше 100","Корм вологий для собак",143.52000000000001,179,{"$f":"Animonda!I$21","v":0},{"$f":"Animonda!J$21","v":0}]
[null,1111183505,82484,"Корм GranCarno Adult Deer with Apple конс д/соб з олениною і ябл. 800г","Більше 10","Корм вологий для собак",211.5,296,{"$f":"Animonda!I$22","v":0},{"$f":"Animonda!J$22","v":0}]
[null,1111183503,82475,"Корм GranCarno Junior Turkey конс. д/цуцз інд 800г","Більше 10","Корм вологий для собак",211.5,296,{"$f":"Animonda!I$23","v":0},{"$f":"Animonda!J$23","v":0}]
[null,1111183502,82474,"Корм GranCarno JuniorTurkey конс. д/цуц з інд 400г","Більше 10","Корм вологий для собак",127.44,179,{"$f":"Animonda!I$24","v":0},{"$f":"Animonda!J$24","v":0}]
[null,1111189901,82483,"Корм GranCarno конс. д/соб з дичиною 800 г арт.82483","Більше 100","Корм вологий для собак",217.8,299,{"$f":"Animonda!I$25","v":0},{"$f":"Animonda!J$25","v":0}]
[null,1111171490,"AM-83707","Корм вологий Carny Adult Beef для котів з яловичиною 200г","Більше 10","Корм вологий для котів",85.68,120,{"$f":"Animonda!I$26","v":0},{"$f":"Animonda!J$26","v":0}]
[null,1111204253,"82436_К","Корм вологий GranCarno д/соб яловичина, буряк, ожина, кульбаба 400г","Більше 10","Корм вологий для собак",127.44,179,{"$f":"Animonda!I$27","v":0},{"$f":"Animonda!J$27","v":0}]
[null,1111204259,"83112_К","Корм вологий Vom Feinsten  д/котів індиче серце з молочним центром 150","Більше 10","Корм вологий для котів",59.82,84,{"$f":"Animonda!I$28","v":0},{"$f":"Animonda!J$28","v":0}]
[null,1111204262,"83448_К","Корм вологий Vom Feinsten  д/кошенят яловичина 100г","Більше 100","Корм вологий для котів",45.96,65,{"$f":"Animonda!I$29","v":0},{"$f":"Animonda!J$29","v":0}]
[null,1111207541,"AM-82310","ТЕРМ 07.25 ПОМ’ЯТ Vom Feinsten Adult with Turkey duck соб інд/кач 150г","Більше 10","Корм вологий для собак",29.94,0,{"$f":"Animonda!I$30","v":0},{"$f":"Animonda!J$30","v":0}]
[null,1111207540,"AM-82620","ТЕРМ 09.25 ПОМЯТ Vom Feinsten Junior with Beef Poultry конс ял/пт 150г","Більше 10","Корм вологий для собак",29.94,0,{"$f":"Animonda!I$31","v":0},{"$f":"Animonda!J$31","v":0}]
[null,1111207476,"AM-83037","ТЕРМ. 04.26, ПОМ’ЯТ. VomFeinsten Adult with rabbit конс/кот крол 100г","Менше 10","Корм вологий для котів",24.06,0,{"$f":"Animonda!I$32","v":0},{"$f":"Animonda!J$32","v":0}]
[null,1111206350,"UT82988","ТЕРМ. 04.26, ПОМ’ЯТ. Корм Vom Feinsten конс  д/соб індичка/сир 150г","Менше 10","Корм вологий для собак",30.06,0,{"$f":"Animonda!I$33","v":0},{"$f":"Animonda!J$33","v":0}]
[null,1111204108,"82310UT/82336","ТЕРМ. 09.25 Animonda Vom Feinsten sauce Adt Turkey інд/кач 150г","Більше 10","Корм вологий для собак",26.28,0,{"$f":"Animonda!I$34","v":0},{"$f":"Animonda!J$34","v":0}]
[null,1111206458,"82321_К","ТЕРМ. 11.25 Корм вологий Vom Feinsten Senior яловичина та курка 150г","Більше 10","Корм вологий для собак",29.94,0,{"$f":"Animonda!I$35","v":0},{"$f":"Animonda!J$35","v":0}]
[null,1111206716,"82967_К","ТЕРМ.11.25.Корм вологий Vom Feinsten  д/соб птиця та паста 150г","Більше 100","Корм вологий для собак",29.94,0,{"$f":"Animonda!I$36","v":0},{"$f":"Animonda!J$36","v":0}]
[null,1111207685,"AM-82610","ТЕРМ.11.25.ПОМ'ЯТ.Корм вологий Vom Feinsten Adult with Poultry Veal дл","Більше 10","Корм вологий для собак",29.94,0,{"$f":"Animonda!I$37","v":0},{"$f":"Animonda!J$37","v":0}]
[null,1111112730,"12516*****","Carbolit 62,5л / 25кг * 4mm pellets гранул. актив. вугілля","Менше 10","Аксесуари для обладнання",3100,4340,{"$f":"'Aqua Medic'!I$8","v":0},{"$f":"'Aqua Medic'!J$8","v":0}]
[null,10577,"415.00*****","Плитка-распределит.15х15","Менше 10","Аксесуари для обладнання",88.14,0,{"$f":"'Aqua Medic'!I$9","v":0},{"$f":"'Aqua Medic'!J$9","v":0}]
[null,1111139146,"122979 / 114958 /113229","Акваріум Aquael Shrimp Set Smart для креветок прямий білий 19л","Менше 10","Акваріуми та акваріумні комплекти",4072.2,5700,{"$f":"Aquael!I$8","v":0},{"$f":"Aquael!J$8","v":0}]
[null,1111139141,"122977 /114956 /113228","Акваріум Aquael Smart Day Night для креветок білий прямий 10л","Менше 10","Акваріуми та акваріумні комплекти",3941.82,5519,{"$f":"Aquael!I$9","v":0},{"$f":"Aquael!J$9","v":0}]
[null,1111139147,"122980 / 114959 /113226","Акваріум Aquael Smart Day Night для креветок чорний прямий 30л","Менше 10","Акваріуми та акваріумні комплекти",4334.82,6068,{"$f":"Aquael!I$10","v":0},{"$f":"Aquael!J$10","v":0}]
[null,1111123670,"303091 /2369","Акваріум Aquael круглий d-23см 5л","Менше 10","Акваріуми та акваріумні комплекти",738.96,1035,{"$f":"Aquael!I$11","v":0},{"$f":"Aquael!J$11","v":0}]
[null,1111161652,"124533 /122730","Акваріумний комплект Aquael Leddy Day Night з балкою прямий білий 54л","Менше 10","Акваріуми та акваріумні комплекти",5051.88,7073,{"$f":"Aquael!I$12","v":0},{"$f":"Aquael!J$12","v":0}]
[null,1111161651,"124532 /122743","Акваріумний комплект Aquael Leddy Day Night з балкою прямий чорний 54л","Менше 10","Акваріуми та акваріумні комплекти",4860.66,6805,{"$f":"Aquael!I$13","v":0},{"$f":"Aquael!J$13","v":0}]
[null,1111145647,114549,"Вісь Aquael д/ротора нова/мод Turbo/Circulator/PFN кераміч 1500/2000л","Менше 10","Аксесуари для обладнання",135.18,189,{"$f":"Aquael!I$14","v":0},{"$f":"Aquael!J$14","v":0}]
[null,1111171626,122663,"Вісь Aquael для ротора ULTRAMAX/ULTRA/UNIPUMP керамічна 1000/1500л","Менше 10","Аксесуари для обладнання",205.38,288,{"$f":"Aquael!I$15","v":0},{"$f":"Aquael!J$15","v":0}]
[null,1111142248,"113903 /198226","Вкладиш Aquael для внутрішнього фільтра FAN-mikro Plus губка 2шт","Менше 10","Фільтри для акваріумів",123.96,173,{"$f":"Aquael!I$16","v":0},{"$f":"Aquael!J$16","v":0}]
[null,1111123699,"106612 /53969","Вкладиш Aquael для фільтра BioCeraMax Ultrapro 1200 керам/кільця 1л","Менше 10","Фільтри для акваріумів",488.94,685,{"$f":"Aquael!I$17","v":0},{"$f":"Aquael!J$17","v":0}]
[null,1111123568,"106615 /5399","Вкладиш Aquael для фільтра CarboMax Plus активоване вугілля 2шт 1л","Більше 10","Фільтри для акваріумів",393.66,551,{"$f":"Aquael!I$18","v":0},{"$f":"Aquael!J$18","v":0}]
[null,1111123662,106616,"Вкладиш Aquael для фільтра ZeoMax Plus цеоліт 1л","Менше 10","Фільтри для акваріумів",262.68,369,{"$f":"Aquael!I$19","v":0},{"$f":"Aquael!J$19","v":0}]
[null,1111142190,"113904 /198233 Standart","Вкладиш Aquael до внутрішнього фільтру Fan Mini Plus губка 2шт","Менше 10","Фільтри для акваріумів",141.66,198,{"$f":"Aquael!I$20","v":0},{"$f":"Aquael!J$20","v":0}]
[null,1111142189,"113905 /198240","Вкладиш Aquael до внутрішнього фільтру FAN-1 Plus губка 2шт","Більше 10","Фільтри для акваріумів",180,252,{"$f":"Aquael!I$21","v":0},{"$f":"Aquael!J$21","v":0}]
[null,1111142193,"113906 /198257","Вкладиш Aquael до внутрішнього фільтру FAN-2 Plus губка 2шт","Більше 10","Фільтри для акваріумів",243.18,340,{"$f":"Aquael!I$22","v":0},{"$f":"Aquael!J$22","v":0}]
[null,1111142249,"113907 /198264","Вкладиш Aquael до внутрішнього фільтру FAN-3 Plus губка 2шт","Менше 10","Фільтри для акваріумів",296.33999999999997,415,{"$f":"Aquael!I$23","v":0},{"$f":"Aquael!J$23","v":0}]
[null,1111123698,"106611 /53952","Вкладыш Aquael для фільтра BioCeraMax 600 керамічні кільця 1л","Більше 10","Фільтри для акваріумів",341.76,479,{"$f":"Aquael!I$24","v":0},{"$f":"Aquael!J$24","v":0}]
[null,1111147578,114043,"Ґрунт Aquael гравій натуральний 1,4-2мм 2кг","Більше 10","Грунти для акваріума",91.5,128,{"$f":"Aquael!I$25","v":0},{"$f":"Aquael!J$25","v":0}]
[null,1111147582,"115468 /246276","Ґрунт Aquael гравій натуральний 3-5мм 10кг","Менше 10","Грунти для акваріума",459.78,644,{"$f":"Aquael!I$26","v":0},{"$f":"Aquael!J$26","v":0}]
[null,1111147579,114044,"Ґрунт Aquael гравій натуральний 3-5мм 2кг","Більше 10","Грунти для акваріума",91.5,128,{"$f":"Aquael!I$27","v":0},{"$f":"Aquael!J$27","v":0}]
[null,1111147580,114045,"Ґрунт Aquael гравій натуральний 5-10мм 2кг","Більше 100","Грунти для акваріума",91.5,128,{"$f":"Aquael!I$28","v":0},{"$f":"Aquael!J$28","v":0}]
[null,1111147581,"131305/246271","Ґрунт Aquael для акваріума гравій базальтовий 2-4мм 10кг","Менше 10","Грунти для акваріума",459.6,644,{"$f":"Aquael!I$29","v":0},{"$f":"Aquael!J$29","v":0}]
[null,1111147576,114040,"Ґрунт Aquael для акваріума гравій базальтовий 2-4мм 2кг","Більше 10","Грунти для акваріума",91.5,128,{"$f":"Aquael!I$30","v":0},{"$f":"Aquael!J$30","v":0}]
[null,1111147585,"131304/246274","Ґрунт Aquael для акваріума гравій доломітовий 2-4мм 10кг","Більше 10","Грунти для акваріума",459.78,644,{"$f":"Aquael!I$31","v":0},{"$f":"Aquael!J$31","v":0}]
[null,1111147577,114042,"Ґрунт Aquael для акваріума гравій доломітовий 2-4мм 2кг","Більше 10","Грунти для акваріума",91.5,128,{"$f":"Aquael!I$32","v":0},{"$f":"Aquael!J$32","v":0}]
[null,1111147584,115113,"Ґрунт Aquael для акваріума кварцовий 1,5-5мм 2кг","Більше 10","Грунти для акваріума",91.5,128,{"$f":"Aquael!I$33","v":0},{"$f":"Aquael!J$33","v":0}]
[null,1111128588,"102068_ord","Двигун FZN- 2","Менше 10","Аксесуари для обладнання",884.4,1238,{"$f":"Aquael!I$34","v":0},{"$f":"Aquael!J$34","v":0}]
[null,1111148078,"249285 /246310_ord","Декорація Aquael Black quartz rock каміння кварц 20кг","Менше 10","Декорації для акваріума",2828.7,3961,{"$f":"Aquael!I$35","v":0},{"$f":"Aquael!J$35","v":0}]
[null,1111145933,"253065/246311_ord","Декорація Aquael для акваріума Коріння дерев натуральний 8-10кг","Менше 10","Декорації для акваріума",11879.58,16632,{"$f":"Aquael!I$36","v":0},{"$f":"Aquael!J$36","v":0}]
[null,4192,"100500 /0026","Комплект Aquael для розпилення води Sprinkler L 350/650","Менше 10","Аксесуари для обладнання",288.06,402,{"$f":"Aquael!I$37","v":0},{"$f":"Aquael!J$37","v":0}]
[null,1111138636,"113118_ord","Компресор АР-100 PLUS NEW","Менше 10","Компресори і помпи для акваріума",680.28,951,{"$f":"Aquael!I$38","v":0},{"$f":"Aquael!J$38","v":0}]
[null,1111138635,"113119_ord","Компресор АРR-150 PLUS NEW","Більше 10","Компресори і помпи для акваріума",792.96,1110,{"$f":"Aquael!I$39","v":0},{"$f":"Aquael!J$39","v":0}]
[null,22488,109733,"Контейнер Aquael для внутрішнього фільтра Turbo Filter 500","Менше 10","Аксесуари для обладнання",486.3,680,{"$f":"Aquael!I$40","v":0},{"$f":"Aquael!J$40","v":0}]
[null,13347,"100891 /0288","Корпус Aquael для внутрішнього фільтра FAN-1 Plus","Менше 10","Аксесуари для обладнання",233.1,327,{"$f":"Aquael!I$41","v":0},{"$f":"Aquael!J$41","v":0}]
[null,11040,"101174 /0290","Корпус Aquael для внутрішнього фільтра FAN-3 Plus","Менше 10","Аксесуари для обладнання",365.34,511,{"$f":"Aquael!I$42","v":0},{"$f":"Aquael!J$42","v":0}]
[null,6642,100413,"Корпус Aquael для внутрішнього фільтра FAN-mini Plus","Менше 10","Аксесуари для обладнання",188.28,264,{"$f":"Aquael!I$43","v":0},{"$f":"Aquael!J$43","v":0}]
[null,1111117445,"101648_ord","Корпус Aquael кварцовий для стерилізатора Sterilizer AS-5Вт","Менше 10","Аксесуари для обладнання",819.96,1149,{"$f":"Aquael!I$44","v":0},{"$f":"Aquael!J$44","v":0}]
[null,1111118778,"200171 /941240_ord","Лампа UV-C 11 Вт Philips/Osram","Менше 10","Освітлення для акваріумів",2009.7,2814,{"$f":"Aquael!I$45","v":0},{"$f":"Aquael!J$45","v":0}]
[null,1111163649,"123636*****","Модуль Aquael Retrofit LED Day Night Sunny J освітлювальн 17Вт 92,5см","Менше 10","Освітлення для акваріумів",1902.37,2759,{"$f":"Aquael!I$46","v":0},{"$f":"Aquael!J$46","v":0}]
[null,1111163180,"113536_ord","Набір кришок до акваріумного комплекту Glossy 100","Менше 10","Кришки для акваріума",1928.22,2699,{"$f":"Aquael!I$47","v":0},{"$f":"Aquael!J$47","v":0}]
[null,1111153509,121217,"Обігрівач Aquael Platinum Heater 100 д/акваріума 60-100л 100Вт 24,5см","Більше 10","Обігрівачі для акваріума",773.64,1463,{"$f":"Aquael!I$48","v":0},{"$f":"Aquael!J$48","v":0}]
[null,1111153502,121218,"Обігрівач Aquael Platinum Heater 150 д/акваріума 90-150л 150Вт 28,5см","Більше 10","Обігрівачі для акваріума",933.12,1306,{"$f":"Aquael!I$49","v":0},{"$f":"Aquael!J$49","v":0}]
[null,1111153508,121214,"Обігрівач Aquael Platinum Heater 25 для акваріума 10-25л 25Вт 20,5см","Менше 10","Обігрівачі для акваріума",818.04,1146,{"$f":"Aquael!I$50","v":0},{"$f":"Aquael!J$50","v":0}]
[null,1111153506,121221,"Обігрівач Aquael Platinum Heater 300 д/акваріума 250-300л 300Вт 36,0см","Більше 10","Обігрівачі для акваріума",1153.8,1616,{"$f":"Aquael!I$51","v":0},{"$f":"Aquael!J$51","v":0}]
[null,1111153808,121215,"Обігрівач Aquael Platinum Heater 50 для акваріума 15-50л 50Вт 36,0см","Більше 10","Обігрівачі для акваріума",716.28,1355,{"$f":"Aquael!I$52","v":0},{"$f":"Aquael!J$52","v":0}]
[null,1111153505,121216,"Обігрівач Aquael Platinum Heater 75 для акваріума 35-75л 75Вт 22,5см","Менше 10","Обігрівачі для акваріума",834.54,1168,{"$f":"Aquael!I$53","v":0},{"$f":"Aquael!J$53","v":0}]
[null,1111153507,"129614/115512_ord","Обігрівач Aquael Ultra Heater 50 для акваріума 15-50л 50Вт 16,3см","Менше 10","Обігрівачі для акваріума",1328.52,1861,{"$f":"Aquael!I$54","v":0},{"$f":"Aquael!J$54","v":0}]
[null,1111162574,"130412_ord","Обігрівач Aquael д/акваріуму Flow Heater проточний/сист/регулюв 500Вт","Менше 10","Обігрівачі для акваріума",3442.5,4820,{"$f":"Aquael!I$55","v":0},{"$f":"Aquael!J$55","v":0}]
[null,1111131840,222876,"Очищувач Aquael для ґрунту GV10 S 26см","Більше 10","Аксесуари для акваріума",390.78,547,{"$f":"Aquael!I$56","v":0},{"$f":"Aquael!J$56","v":0}]
[null,1111147575,"115466 /246273","Пісок Aquael для акваріума кварцевий 0,1-0,3мм 10кг","Менше 10","Грунти для акваріума",459.78,644,{"$f":"Aquael!I$57","v":0},{"$f":"Aquael!J$57","v":0}]
[null,1111147583,115112,"Пісок Aquael для акваріума кварцевий 0,4-1,2мм 2кг","Більше 10","Грунти для акваріума",91.5,128,{"$f":"Aquael!I$58","v":0},{"$f":"Aquael!J$58","v":0}]
[null,13100,"109436 /102809 /1100_ord","Помпа Aquael для фонтану AquaJet PFN 1500","Менше 10","Обладнання для ставка",3117.48,4365,{"$f":"Aquael!I$59","v":0},{"$f":"Aquael!J$59","v":0}]
[null,1111164836,"115028_ord","Помпа Aquael для фонтану PFN-6000 ECO 6000л/год","Менше 10","Обладнання для ставка",8134.32,11387,{"$f":"Aquael!I$60","v":0},{"$f":"Aquael!J$60","v":0}]
[null,1111117174,"100491 /1448","Присоски Aquael для кріплення акваріумного обладнання 24мм 4шт","Більше 10","Аксесуари для обладнання",180,252,{"$f":"Aquael!I$61","v":0},{"$f":"Aquael!J$61","v":0}]
[null,1111117172,"100492 /1449","Присоски Aquael для кріплення акваріумного обладнання 36мм 4 шт","Більше 10","Аксесуари для обладнання",213.66,298,{"$f":"Aquael!I$62","v":0},{"$f":"Aquael!J$62","v":0}]
[null,1111135239,109726,"Ротор Aquael до внутрішнього фільтру Circulator/Turbo Filter 1500","Менше 10","Аксесуари для обладнання",553.32000000000005,775,{"$f":"Aquael!I$63","v":0},{"$f":"Aquael!J$63","v":0}]
[null,1111118016,"101241 /3244","Ротор Aquael до внутрішнього фільтру FAN-mini Plus / FAN-1 Plus","Менше 10","Аксесуари для обладнання",164.7,231,{"$f":"Aquael!I$64","v":0},{"$f":"Aquael!J$64","v":0}]
[null,1111137478,109725,"Ротор д/внутрішнього фільтра Aquael Circulator 1000/Turbo Filter 1000","Менше 10","Аксесуари для обладнання",183,255,{"$f":"Aquael!I$65","v":0},{"$f":"Aquael!J$65","v":0}]
[null,1111171625,"121796_ord","Ротор для зовнішнього фільтра Aquael Ultramax 2000","Менше 10","Аксесуари для обладнання",632.1,885,{"$f":"Aquael!I$66","v":0},{"$f":"Aquael!J$66","v":0}]
[null,1111182162,"124227_ord","Світильник для акваріума LEDDY TUBE MINI 3 W","Менше 10","Освітлення для акваріумів",634.14,888,{"$f":"Aquael!I$67","v":0},{"$f":"Aquael!J$67","v":0}]
[null,1111145596,245268,"Термометр Aquael для акваріума з присоскою скляний 6см","Більше 10","Аксесуари для акваріума",115.14,161,{"$f":"Aquael!I$68","v":0},{"$f":"Aquael!J$68","v":0}]
[null,1111125378,"101103_ord","Трубка перфорована Aquael універсальна L=61 UNI","Менше 10","Аксесуари для обладнання",71.28,100,{"$f":"Aquael!I$69","v":0},{"$f":"Aquael!J$69","v":0}]
[null,1111131253,109182,"Фільтр Aquael внутрішн д/акваріума Circulator помпа 1000л/год/150-250л","Менше 10","Фільтри для акваріумів",1147.56,2172,{"$f":"Aquael!I$70","v":0},{"$f":"Aquael!J$70","v":0}]
[null,1111131254,109183,"Фільтр Aquael внутрішн д/акваріума Circulator помпа 1500л/год/250-350л","Менше 10","Фільтри для акваріумів",1839.54,2576,{"$f":"Aquael!I$71","v":0},{"$f":"Aquael!J$71","v":0}]
[null,1111131255,"109184_ord","Фільтр Aquael внутрішн д/акваріума Circulator помпа 2000л/год/350-500л","Менше 10","Фільтри для акваріумів",2233.2600000000002,3126,{"$f":"Aquael!I$72","v":0},{"$f":"Aquael!J$72","v":0}]
[null,1111131252,109181,"Фільтр Aquael внутрішній д/акваріума Circulator помпа 500л/год на 150л","Більше 10","Фільтри для акваріумів",799.8,1513,{"$f":"Aquael!I$73","v":0},{"$f":"Aquael!J$73","v":0}]
[null,1111114157,"101786 /3068","Фільтр Aquael внутрішній для акваріума Fan Mini Plus 260л/год 30-60л","Більше 10","Фільтри для акваріумів",743.64,1041,{"$f":"Aquael!I$74","v":0},{"$f":"Aquael!J$74","v":0}]
[null,1111114158,"102368 /3069","Фільтр Aquael внутрішній для акваріума Fan-1 Plus 320л/год на 60-100л","Більше 10","Фільтри для акваріумів",861.66,1206,{"$f":"Aquael!I$75","v":0},{"$f":"Aquael!J$75","v":0}]
[null,1111115429,"102369 /3070","Фільтр Aquael внутрішній для акваріума Fan-2 Plus 450л/год на 100-150л","Більше 10","Фільтри для акваріумів",1160.94,1625,{"$f":"Aquael!I$76","v":0},{"$f":"Aquael!J$76","v":0}]
[null,6870,"102370 /3071","Фільтр Aquael внутрішній для акваріума Fan-3 Plus 700л/год на 150-250л","Більше 10","Фільтри для акваріумів",1399.32,1959,{"$f":"Aquael!I$77","v":0},{"$f":"Aquael!J$77","v":0}]
[null,1111114823,"107621 /3067","Фільтр Aquael внутрішній для акваріума FAN-mikro Plus 250л/год на 30л","Більше 10","Фільтри для акваріумів",712.38,998,{"$f":"Aquael!I$78","v":0},{"$f":"Aquael!J$78","v":0}]
[null,1111130156,"107715 /111121","Фільтр Aquael внутрішній для акваріума Pat-Mini 400л/год на 120л","Більше 10","Фільтри для акваріумів",678.72,950,{"$f":"Aquael!I$79","v":0},{"$f":"Aquael!J$79","v":0}]
[null,1111159616,120665,"Фільтр Aquael д/аквариума префіл Ultramax 1500 15Вт 1500л/год 250-450л","Менше 10","Фільтри для акваріумів",10401.18,14561,{"$f":"Aquael!I$80","v":0},{"$f":"Aquael!J$80","v":0}]
[null,1111131636,109403,"Фільтр Aquael д/акваріума внутрішній Turbo Filter 1000л/год 150-250л","Менше 10","Фільтри для акваріумів",1719.78,2408,{"$f":"Aquael!I$81","v":0},{"$f":"Aquael!J$81","v":0}]
[null,1111131637,109404,"Фільтр Aquael д/акваріума внутрішній Turbo Filter 1500л/год 250-350л","Більше 10","Фільтри для акваріумів",2203.14,3084,{"$f":"Aquael!I$82","v":0},{"$f":"Aquael!J$82","v":0}]
[null,1111132013,109405,"Фільтр Aquael д/акваріума внутрішній Turbo Filter 2000л/год 350-500л","Менше 10","Фільтри для акваріумів",2586.7199999999998,3620,{"$f":"Aquael!I$83","v":0},{"$f":"Aquael!J$83","v":0}]
[null,1111131642,109401,"Фільтр Aquael для акваріума внутрішній Turbo Filter 500л/год до 150л","Більше 10","Фільтри для акваріумів",1198.68,1678,{"$f":"Aquael!I$84","v":0},{"$f":"Aquael!J$84","v":0}]
[null,1111138546,113175,"Фільтр Aquael для акваріума зовнішній Versamax-mini 230л/год на 10-40л","Менше 10","Фільтри для акваріумів",815.04,1140,{"$f":"Aquael!I$85","v":0},{"$f":"Aquael!J$85","v":0}]
[null,1111133345,109441,"Фільтр Aquael для акваріума зовнішнього Multikani 800л/год 20-320л","Менше 10","Фільтри для акваріумів",3267.18,4574,{"$f":"Aquael!I$86","v":0},{"$f":"Aquael!J$86","v":0}]
[null,9326,"102576 /0604_ord","Фільтр Aquael для ставка Klarjet 15000 Filter Set до 15000л","Менше 10","Обладнання для ставка",21741.599999999999,30438,{"$f":"Aquael!I$87","v":0},{"$f":"Aquael!J$87","v":0}]
[null,1111133271,"100241_ord","Штуцер Aquael для стерилизатора Sterilizer PS-15W/PS-30W/PS-55W","Менше 10","Аксесуари для обладнання",226.2,317,{"$f":"Aquael!I$88","v":0},{"$f":"Aquael!J$88","v":0}]
[null,1111182071,"G-605180","Дезодорант Biokat_s Active Pearls для кот туал з актив вугіллям 700мл","Більше 10","Наповнювачі для котячих туалетів",244.2,330,{"$f":"Biokats!I$8","v":0},{"$f":"Biokats!J$8","v":0}]
[null,1111142261,"G-605159А","Дезодорант Biokat_s для кот туалету DEO Baby powder 700г арт 605159","Менше 10","Засоби для догляду за будинком з котами",334.32,452,{"$f":"Biokats!I$9","v":0},{"$f":"Biokats!J$9","v":0}]
[null,1111147228,"G-605173","Дезодорант Biokat_s для кот туалету DEO Cotton blossom 700г арт 605173","Менше 10","Засоби для догляду за будинком з котами",334.32,452,{"$f":"Biokats!I$10","v":0},{"$f":"Biokats!J$10","v":0}]
[null,1111142259,"G-605135","Дезодорант Biokat_s для кот. туалету DEO Spring 700г арт 605135","Менше 10","Засоби для догляду за будинком з котами",334.32,452,{"$f":"Biokats!I$11","v":0},{"$f":"Biokats!J$11","v":0}]
[null,1111138101,"G-75.64","Наповнювач Biokats д/кот/туалету Bianco Fresh бентоніт 0,25/5,0мм 10кг","Більше 10","Наповнювачі для котячих туалетів",756.84,984,{"$f":"Biokats!I$12","v":0},{"$f":"Biokats!J$12","v":0}]
[null,1111138102,"G-75.65","Наповнювач Biokats д/кот/туалету Bianco Fresh бентоніт 0,25/5,0мм 5кг","Більше 10","Наповнювачі для котячих туалетів",429.72,559,{"$f":"Biokats!I$13","v":0},{"$f":"Biokats!J$13","v":0}]
[null,1111134391,"G-613307/614458","Наповнювач Biokats д/кот/туалету Classic 3in1 бентонітовий 0,1/5мм 10л","Більше 100","Наповнювачі для котячих туалетів",412.92,537,{"$f":"Biokats!I$14","v":0},{"$f":"Biokats!J$14","v":0}]
[null,1111161000,"G-613789","Наповнювач Biokats д/кот/туалету Classic 3in1 бентонітовий 0,1/5мм 18л","Більше 10","Наповнювачі для котячих туалетів",772.5,1004,{"$f":"Biokats!I$15","v":0},{"$f":"Biokats!J$15","v":0}]
[null,1111161001,"G-613796","Наповнювач Biokats д/кот/туалету Classic Fresh 3in1 бентон 0,1/5мм 18л","Менше 10","Наповнювачі для котячих туалетів",911.7,1185,{"$f":"Biokats!I$16","v":0},{"$f":"Biokats!J$16","v":0}]
[null,1111147022,"G-617220/613413","Наповнювач Biokats д/котяч/туалету Classic Fresh 3in1 бентонітов 10кг","Більше 10","Наповнювачі для котячих туалетів",467.7,607,{"$f":"Biokats!I$17","v":0},{"$f":"Biokats!J$17","v":0}]
[null,1111145220,"G-613253","Наповнювач Biokats д/котячого туалету Diamond Classic бентонітовий 8л","Більше 10","Наповнювачі для котячих туалетів",718.92,935,{"$f":"Biokats!I$18","v":0},{"$f":"Biokats!J$18","v":0}]
[null,1111145221,"G-613260","Наповнювач Biokats д/котячого туалету Diamond Fresh бентонітовий 8л","Більше 10","Наповнювачі для котячих туалетів",739.74,963,{"$f":"Biokats!I$19","v":0},{"$f":"Biokats!J$19","v":0}]
[null,1111183200,"G-613925","Наповнювач Biokats для котяч туал Micro Fresh бентоніт 6л арт.613925","Більше 10","Наповнювачі для котячих туалетів",390.18,507,{"$f":"Biokats!I$20","v":0},{"$f":"Biokats!J$20","v":0}]
[null,1111206038,"G-613789","ПОРВ 16кг Наповнювач Biokats кот/туалет Classic 3in1 бент 0,1/5мм 18л","Менше 10","Наповнювачі для котячих туалетів",351.12,0,{"$f":"Biokats!I$21","v":0},{"$f":"Biokats!J$21","v":0}]
[null,1111162364,"171298/0822","Brit Care Cat Activity Support д/вуличних/котів індичка/курка 2кг","Більше 10","Корм сухий для котів",728.76,949,{"$f":"'Brit Care'!I$8","v":0},{"$f":"'Brit Care'!J$8","v":0}]
[null,1111162365,"171299/0839","Brit Care Cat Activity Support д/вуличних/котів індичка/курка 400г","Більше 100","Корм сухий для котів",181.62,236,{"$f":"'Brit Care'!I$9","v":0},{"$f":"'Brit Care'!J$9","v":0}]
[null,1111162363,"171297/0815","Brit Care Cat Adult Activity Support д/вуличн котів індичка/курка 7кг","Більше 10","Корм сухий для котів",2288.4,2976,{"$f":"'Brit Care'!I$10","v":0},{"$f":"'Brit Care'!J$10","v":0}]
[null,1111162367,"171302/0853","Brit Care Cat GF Indoor Anti-stress д/доросл/домашніх котів курка 2кг","Більше 10","Корм сухий для котів",728.76,949,{"$f":"'Brit Care'!I$11","v":0},{"$f":"'Brit Care'!J$11","v":0}]
[null,1111162368,"171303/0860","Brit Care Cat GF Indoor Anti-stress д/доросл/домашніх котів курка 400г","Більше 100","Корм сухий для котів",181.62,236,{"$f":"'Brit Care'!I$12","v":0},{"$f":"'Brit Care'!J$12","v":0}]
[null,1111175078,172542,"Brit Care Cat GF Kitten Digestion Immunity д/кошенят лосось 2кг","Більше 10","Корм сухий для котів",729.96,949,{"$f":"'Brit Care'!I$13","v":0},{"$f":"'Brit Care'!J$13","v":0}]
[null,1111175077,172541,"Brit Care Cat GF Kitten Digestion Immunity д/кошенят лосось 400г","Більше 100","Корм сухий для котів",196.92,256,{"$f":"'Brit Care'!I$14","v":0},{"$f":"'Brit Care'!J$14","v":0}]
[null,1111175079,172543,"Brit Care Cat GF Kitten Digestion Immunity д/кошенят лосось 7кг","Більше 10","Корм сухий для котів",2290.1999999999998,2976,{"$f":"'Brit Care'!I$15","v":0},{"$f":"'Brit Care'!J$15","v":0}]
[null,1111162349,"171278/0679","Brit Care Cat GF Kitten д/кошен д/здоров/розвитку курка/індичка 2кг","Більше 100","Корм сухий для котів",652.26,849,{"$f":"'Brit Care'!I$16","v":0},{"$f":"'Brit Care'!J$16","v":0}]
[null,1111162350,"171279/0686","Brit Care Cat GF Kitten д/кошен д/здоров/розвитку курка/індичка 400г","Більше 100","Корм сухий для котів",160.13999999999999,209,{"$f":"'Brit Care'!I$17","v":0},{"$f":"'Brit Care'!J$17","v":0}]
[null,1111162348,"171277/0662","Brit Care Cat GF Kitten д/кошенят д/здор/розвитку індичка/курка 7кг","Більше 10","Корм сухий для котів",2139.7800000000002,2784,{"$f":"'Brit Care'!I$18","v":0},{"$f":"'Brit Care'!J$18","v":0}]
[null,1111162366,"171301/0846","Brit Care Cat Grain Free Indoor Anti-stress д/дор/дом котів курка 7кг","Більше 10","Корм сухий для котів",2288.4,2976,{"$f":"'Brit Care'!I$19","v":0},{"$f":"'Brit Care'!J$19","v":0}]
[null,1111162370,"171306/0884","Brit Care Cat Haircare Healthy Shiny Coat д/дор/котів лосось/курка 2кг","Більше 10","Корм сухий для котів",728.76,949,{"$f":"'Brit Care'!I$20","v":0},{"$f":"'Brit Care'!J$20","v":0}]
[null,1111162369,"171305/0877","Brit Care Cat Haircare Healthy Shiny Coat д/дор/котів лосось/курка 7кг","Більше 100","Корм сухий для котів",2288.4,2976,{"$f":"'Brit Care'!I$21","v":0},{"$f":"'Brit Care'!J$21","v":0}]
[null,1111162371,"171307/0891","Brit Care Cat Haircare Healthy Shiny Coat д/котів лосось/курка 400г","Більше 100","Корм сухий для котів",181.62,236,{"$f":"'Brit Care'!I$22","v":0},{"$f":"'Brit Care'!J$22","v":0}]
[null,1111167491,171963,"Brit Care Cat Insect д/дорос/котів харчова/непернос комахи/риба 2кг","Більше 100","Корм сухий для котів",728.34,949,{"$f":"'Brit Care'!I$23","v":0},{"$f":"'Brit Care'!J$23","v":0}]
[null,1111167490,171962,"Brit Care Cat Insect д/дорос/котів харчова/непернос комахи/риба 400г","Більше 100","Корм сухий для котів",188.4,247,{"$f":"'Brit Care'!I$24","v":0},{"$f":"'Brit Care'!J$24","v":0}]
[null,1111180885,101052,"Brit Care Cat Kitten філе в соусі д/кошенят з індичкою пауч 85 г","Більше 100","Корм вологий для котів",43.26,57,{"$f":"'Brit Care'!I$25","v":0},{"$f":"'Brit Care'!J$25","v":0}]
[null,1111180882,101046,"Brit Care Cat Kitten філе в соусі д/кошенят з лососем пауч 85 г","Більше 100","Корм вологий для котів",42.48,56,{"$f":"'Brit Care'!I$26","v":0},{"$f":"'Brit Care'!J$26","v":0}]
[null,1111162373,"171310/0914","Brit Care Cat Large Power Vitality д/котів велик/порід качка/курка 2кг","Більше 10","Корм сухий для котів",728.76,949,{"$f":"'Brit Care'!I$27","v":0},{"$f":"'Brit Care'!J$27","v":0}]
[null,1111163841,"100532/0549","Brit Care Cat Pouch Sterilised шмат в желе д/дор/каст/кот утка/інд 85г","Більше 100","Корм вологий для котів",43.26,57,{"$f":"'Brit Care'!I$28","v":0},{"$f":"'Brit Care'!J$28","v":0}]
[null,1111163844,"100536/0587","Brit Care Cat Pouch філе в желе д/дорослих/котів тріска/форель 85г","Більше 10","Корм вологий для котів",43.26,57,{"$f":"'Brit Care'!I$29","v":0},{"$f":"'Brit Care'!J$29","v":0}]
[null,1111162663,"100530/0525","Brit Care Cat Pouch філе в соусі д/дорослих котів лосось 85г","Більше 100","Корм вологий для котів",43.26,57,{"$f":"'Brit Care'!I$30","v":0},{"$f":"'Brit Care'!J$30","v":0}]
[null,1111163843,"100535/0570","Brit Care Cat Pouch шматки в желе д/дор котів індичка/креветка 85г","Більше 100","Корм вологий для котів",43.26,57,{"$f":"'Brit Care'!I$31","v":0},{"$f":"'Brit Care'!J$31","v":0}]
[null,1111163842,"100533/0556","Brit Care Cat Pouch шматки в желе д/дорослих котів тунець 85г","Більше 100","Корм вологий для котів",43.26,57,{"$f":"'Brit Care'!I$32","v":0},{"$f":"'Brit Care'!J$32","v":0}]
[null,1111163845,"100537/0594","Brit Care Cat Pouch шматки в желе для кошенят лосось 85г","Більше 100","Корм вологий для котів",43.26,57,{"$f":"'Brit Care'!I$33","v":0},{"$f":"'Brit Care'!J$33","v":0}]
[null,1111162376,"171314/0945","Brit Care Cat Senior Weight Control д/котів/похилого/віку курка 2кг","Більше 10","Корм сухий для котів",728.76,949,{"$f":"'Brit Care'!I$34","v":0},{"$f":"'Brit Care'!J$34","v":0}]
[null,1111162351,"171281/0693","Brit Care Cat Sensitive д/котів чутливе/травлавлення індичка/лосос 7кг","Більше 100","Корм сухий для котів",2289.36,2976,{"$f":"'Brit Care'!I$35","v":0},{"$f":"'Brit Care'!J$35","v":0}]
[null,1111162352,"171282/0709","Brit Care Cat Sensitive д/котів чутливе/травлення індичка/лосось 2кг","Більше 100","Корм сухий для котів",729.42,949,{"$f":"'Brit Care'!I$36","v":0},{"$f":"'Brit Care'!J$36","v":0}]
[null,1111162353,"171283/0716","Brit Care Cat Sensitive д/котів чутливе/травлення індичка/лосось 400г","Більше 100","Корм сухий для котів",194.28,253,{"$f":"'Brit Care'!I$37","v":0},{"$f":"'Brit Care'!J$37","v":0}]
[null,1111176212,111901,"Brit Care Cat Snack Calming ласощі д/котів підтр/нерв/систем курка 50г","Більше 100","Ласощі для котів",84.24,109,{"$f":"'Brit Care'!I$38","v":0},{"$f":"'Brit Care'!J$38","v":0}]
[null,1111158248,"111263/1371","Brit Care Cat Snack Dental ласощі д/котів здор/зубів/ясен індичка 50г","Більше 100","Ласощі для котів",84.24,109,{"$f":"'Brit Care'!I$39","v":0},{"$f":"'Brit Care'!J$39","v":0}]
[null,1111176213,111902,"Brit Care Cat Snack Digestion ласощі д/котів підтр/травлен тунець 50г","Більше 100","Ласощі для котів",84.24,109,{"$f":"'Brit Care'!I$40","v":0},{"$f":"'Brit Care'!J$40","v":0}]
[null,1111158250,"111265/1395","Brit Care Cat Snack Hairball ласощі д/котів виведення шерсті качка 50г","Більше 100","Ласощі для котів",84.24,109,{"$f":"'Brit Care'!I$41","v":0},{"$f":"'Brit Care'!J$41","v":0}]
[null,1111158249,"111264/1388","Brit Care Cat Snack Shiny Hair ласощі д/котів шкіра/шерсть лосось 50г","Більше 100","Ласощі для котів",84.24,109,{"$f":"'Brit Care'!I$42","v":0},{"$f":"'Brit Care'!J$42","v":0}]
[null,1111176209,111269,"Brit Care Cat Snack Superfruits Chicken ласощі для котів курка 100г","Більше 100","Ласощі для котів",99.54,130,{"$f":"'Brit Care'!I$43","v":0},{"$f":"'Brit Care'!J$43","v":0}]
[null,1111180641,100653,"Brit Care Cat Snack Superfruits Herring д/котів оселедець 100 г","Більше 100","Ласощі для котів",99.96,130,{"$f":"'Brit Care'!I$44","v":0},{"$f":"'Brit Care'!J$44","v":0}]
[null,1111180640,100652,"Brit Care Cat Snack Superfruits Insect д/котів комахи 100 г","Більше 100","Ласощі для котів",99.96,130,{"$f":"'Brit Care'!I$45","v":0},{"$f":"'Brit Care'!J$45","v":0}]
[null,1111176208,111268,"Brit Care Cat Snack Superfruits Kitten ласощі для кошенят курка 100г","Більше 100","Ласощі для котів",99.54,130,{"$f":"'Brit Care'!I$46","v":0},{"$f":"'Brit Care'!J$46","v":0}]
[null,1111180639,100651,"Brit Care Cat Snack Superfruits Lamb д/котів ягня 100 г","Більше 100","Ласощі для котів",99.96,130,{"$f":"'Brit Care'!I$47","v":0},{"$f":"'Brit Care'!J$47","v":0}]
[null,1111176210,111270,"Brit Care Cat Snack Superfruits Salmon ласощі д/стер/котів лосось 100г","Більше 100","Ласощі для котів",99.54,130,{"$f":"'Brit Care'!I$48","v":0},{"$f":"'Brit Care'!J$48","v":0}]
[null,1111176211,111900,"Brit Care Cat Snack Urinary ласощі д/котів здор/сеч/систем індичка 50г","Більше 100","Ласощі для котів",84.24,109,{"$f":"'Brit Care'!I$49","v":0},{"$f":"'Brit Care'!J$49","v":0}]
[null,1111162358,"171290/0761","Brit Care Cat Sterilized Sensitive д/стеріз/кот чут/травл кролик 2кг","Більше 100","Корм сухий для котів",729.9,949,{"$f":"'Brit Care'!I$50","v":0},{"$f":"'Brit Care'!J$50","v":0}]
[null,1111162359,"171291/0778","Brit Care Cat Sterilized Sensitive д/стеріз/кот чут/травл кролик 400г","Більше 100","Корм сухий для котів",189.24,248,{"$f":"'Brit Care'!I$51","v":0},{"$f":"'Brit Care'!J$51","v":0}]
[null,1111162355,"171286/0730","Brit Care Cat Sterilized Urinary Health д/стерилізов котів курка 2кг","Більше 100","Корм сухий для котів",728.76,949,{"$f":"'Brit Care'!I$52","v":0},{"$f":"'Brit Care'!J$52","v":0}]
[null,1111162356,"171287/0747","Brit Care Cat Sterilized Urinary Health д/стерилізов котів курка 400г","Більше 100","Корм сухий для котів",181.62,236,{"$f":"'Brit Care'!I$53","v":0},{"$f":"'Brit Care'!J$53","v":0}]
[null,1111162361,"171294/0792","Brit Care Cat Sterilized Weight д/стер/котів зайв/вага качк/індич 2кг","Більше 100","Корм сухий для котів",728.76,949,{"$f":"'Brit Care'!I$54","v":0},{"$f":"'Brit Care'!J$54","v":0}]
[null,1111162362,"171295/0808","Brit Care Cat Sterilized Weight д/стер/котів зайв/вага качк/індич 400г","Більше 100","Корм сухий для котів",181.62,236,{"$f":"'Brit Care'!I$55","v":0},{"$f":"'Brit Care'!J$55","v":0}]
[null,1111162360,"171293/0785","Brit Care Cat Sterilized д/стер/котів надмірна/вага качка/індичка 7кг","Більше 100","Корм сухий для котів",2288.4,2976,{"$f":"'Brit Care'!I$56","v":0},{"$f":"'Brit Care'!J$56","v":0}]
[null,1111162354,"171285/0723","Brit Care Cat Sterilized д/стерліз/котів чутливе/травлення курка 7кг","Більше 100","Корм сухий для котів",2288.4,2976,{"$f":"'Brit Care'!I$57","v":0},{"$f":"'Brit Care'!J$57","v":0}]
[null,1111175084,101050,"Brit Care Cat Sterilized філе в соусі д/стер. котів кролик 85г","Більше 100","Корм вологий для котів",42.48,56,{"$f":"'Brit Care'!I$58","v":0},{"$f":"'Brit Care'!J$58","v":0}]
[null,1111175083,101044,"Brit Care Cat Sterilized філе в соусі д/стер. котів лосось/тунець 85г","Більше 100","Корм вологий для котів",42.48,56,{"$f":"'Brit Care'!I$59","v":0},{"$f":"'Brit Care'!J$59","v":0}]
[null,1111180881,101045,"Brit Care Cat філе в соусі д/стерилізованих котів з індичкою пауч 85 г","Більше 100","Корм вологий для котів",42.48,56,{"$f":"'Brit Care'!I$60","v":0},{"$f":"'Brit Care'!J$60","v":0}]
[null,1111180880,101043,"Brit Care Cat філе в соусі д/стерилізованих котів з качкою пауч 85 г","Менше 10","Корм вологий для котів",42.48,56,{"$f":"'Brit Care'!I$61","v":0},{"$f":"'Brit Care'!J$61","v":0}]
[null,1111162357,"171289/0754","Brit Care CatSterilized Sensitive д/стер/котів чутлив/травл кролик 7кг","Більше 100","Корм сухий для котів",2395.56,3114,{"$f":"'Brit Care'!I$62","v":0},{"$f":"'Brit Care'!J$62","v":0}]
[null,1111173383,172203,"Brit Care Dog Adult Large Breed д/дорос/собак великих/порід лосось 3кг","Більше 100","Корм сухий для собак",889.02,1156,{"$f":"'Brit Care'!I$63","v":0},{"$f":"'Brit Care'!J$63","v":0}]
[null,1111173384,172204,"Brit Care Dog GF Adult Large Breed д/дорос/собак вел/порід лосось 12кг","Більше 100","Корм сухий для собак",3229.68,4199,{"$f":"'Brit Care'!I$64","v":0},{"$f":"'Brit Care'!J$64","v":0}]
[null,1111173379,172198,"Brit Care Dog GF Adult д/дор/собак малих/середніх/порід лосось 12кг","Більше 100","Корм сухий для собак",3228.84,4199,{"$f":"'Brit Care'!I$65","v":0},{"$f":"'Brit Care'!J$65","v":0}]
[null,1111173377,172196,"Brit Care Dog GF Adult д/доросл/собак малих/середніх/порід лосось 1кг","Більше 100","Корм сухий для собак",313.62,408,{"$f":"'Brit Care'!I$66","v":0},{"$f":"'Brit Care'!J$66","v":0}]
[null,1111173378,172197,"Brit Care Dog GF Adult д/доросл/собак малих/середніх/порід лосось 3кг","Більше 100","Корм сухий для собак",896.94,1168,{"$f":"'Brit Care'!I$67","v":0},{"$f":"'Brit Care'!J$67","v":0}]
[null,1111173380,172199,"Brit Care Dog GF Junior Large Breed д/мол/собак велик/порід лосось 1кг","Більше 10","Корм сухий для собак",317.04000000000002,413,{"$f":"'Brit Care'!I$68","v":0},{"$f":"'Brit Care'!J$68","v":0}]
[null,1111173381,172200,"Brit Care Dog GF Junior Large Breed д/мол/собак велик/порід лосось 3кг","Більше 10","Корм сухий для собак",889.26,1156,{"$f":"'Brit Care'!I$69","v":0},{"$f":"'Brit Care'!J$69","v":0}]
[null,1111173382,172201,"Brit Care Dog GF Junior Large Breed д/молод/собак вел/порід лосос 12кг","Більше 10","Корм сухий для собак",3228.96,4199,{"$f":"'Brit Care'!I$70","v":0},{"$f":"'Brit Care'!J$70","v":0}]
[null,1111173376,172195,"Brit Care Dog GF Puppy для цуценят лосось 12кг","Більше 10","Корм сухий для собак",3229.2,4199,{"$f":"'Brit Care'!I$71","v":0},{"$f":"'Brit Care'!J$71","v":0}]
[null,1111173374,172193,"Brit Care Dog GF Puppy для цуценят лосось 1кг","Більше 100","Корм сухий для собак",315.18,412,{"$f":"'Brit Care'!I$72","v":0},{"$f":"'Brit Care'!J$72","v":0}]
[null,1111173375,172194,"Brit Care Dog GF Puppy для цуценят лосось 3кг","Більше 10","Корм сухий для собак",898.8,1168,{"$f":"'Brit Care'!I$73","v":0},{"$f":"'Brit Care'!J$73","v":0}]
[null,1111173387,172207,"Brit Care Dog GF Senior and Light д/старіючих/собак лосось 12кг","Більше 10","Корм сухий для собак",3230.7,4199,{"$f":"'Brit Care'!I$74","v":0},{"$f":"'Brit Care'!J$74","v":0}]
[null,1111173385,172205,"Brit Care Dog GF Senior and Light д/старіючих/собак лосось 1кг","Більше 10","Корм сухий для собак",314.33999999999997,408,{"$f":"'Brit Care'!I$75","v":0},{"$f":"'Brit Care'!J$75","v":0}]
[null,1111173386,172206,"Brit Care Dog GF Senior and Light д/старіючих/собак лосось 3кг","Більше 10","Корм сухий для собак",885.96,1154,{"$f":"'Brit Care'!I$76","v":0},{"$f":"'Brit Care'!J$76","v":0}]
[null,1111173389,172209,"Brit Care Dog GF Sensitive д/собак чутливе травлення оленина 3кг","Більше 100","Корм сухий для собак",1106.3399999999999,1439,{"$f":"'Brit Care'!I$77","v":0},{"$f":"'Brit Care'!J$77","v":0}]
[null,1111173388,172208,"Brit Care Dog GF Sensitive д/собак чутливе травленням оленина 1кг","Більше 100","Корм сухий для собак",441.24,576,{"$f":"'Brit Care'!I$78","v":0},{"$f":"'Brit Care'!J$78","v":0}]
[null,1111173390,172210,"Brit Care Dog GF Sensitive д/собак чутливе/травлення оленина 12кг","Більше 100","Корм сухий для собак",4037.34,5249,{"$f":"'Brit Care'!I$79","v":0},{"$f":"'Brit Care'!J$79","v":0}]
[null,1111173367,172221,"Brit Care Dog Hypoallergenic Adult Large Breed д/собак вел/п ягня 3кг","Більше 100","Корм сухий для собак",807.96,1051,{"$f":"'Brit Care'!I$80","v":0},{"$f":"'Brit Care'!J$80","v":0}]
[null,1111173368,172222,"Brit Care Dog Hypoallergenic Adult Large Breed д/собак ягня 12кг","Більше 100","Корм сухий для собак",2825.4,3674,{"$f":"'Brit Care'!I$81","v":0},{"$f":"'Brit Care'!J$81","v":0}]
[null,1111173360,172214,"Brit Care Dog Hypoallergenic Adult Medium Breed д/собак ягня 1кг","Більше 100","Корм сухий для собак",281.94,366,{"$f":"'Brit Care'!I$82","v":0},{"$f":"'Brit Care'!J$82","v":0}]
[null,1111173361,172215,"Brit Care Dog Hypoallergenic Adult Medium Breed д/собак ягня 3кг","Більше 100","Корм сухий для собак",806.82,1049,{"$f":"'Brit Care'!I$83","v":0},{"$f":"'Brit Care'!J$83","v":0}]
[null,1111173365,172219,"Brit Care Dog Hypoallergenic Junior Large Breed д/собак ягня 12кг","Більше 100","Корм сухий для собак",2824.92,3672,{"$f":"'Brit Care'!I$84","v":0},{"$f":"'Brit Care'!J$84","v":0}]
[null,1111173363,172217,"Brit Care Dog Hypoallergenic Junior д/цуц/молод/соб вел/пор ягня 1кг","Більше 10","Корм сухий для собак",283.38,370,{"$f":"'Brit Care'!I$85","v":0},{"$f":"'Brit Care'!J$85","v":0}]
[null,1111173364,172218,"Brit Care Dog Hypoallergenic Junior д/цуц/молод/соб велик/пор ягня 3кг","Більше 100","Корм сухий для собак",804.78,1049,{"$f":"'Brit Care'!I$86","v":0},{"$f":"'Brit Care'!J$86","v":0}]
[null,1111173357,172211,"Brit Care Dog Hypoallergenic Puppy д/цуценят гіпоалергенний ягня 1кг","Більше 100","Корм сухий для собак",265.2,345,{"$f":"'Brit Care'!I$87","v":0},{"$f":"'Brit Care'!J$87","v":0}]
[null,1111173359,172213,"Brit Care Dog Hypoallergenic Puppy к/сух для цуценят ягня 12кг","Більше 100","Корм сухий для собак",2582.6999999999998,3359,{"$f":"'Brit Care'!I$88","v":0},{"$f":"'Brit Care'!J$88","v":0}]
[null,1111173358,172212,"Brit Care Dog Hypoallergenic Puppy к/сух для цуценят ягня 3кг","Більше 100","Корм сухий для собак",766.02,996,{"$f":"'Brit Care'!I$89","v":0},{"$f":"'Brit Care'!J$89","v":0}]
[null,1111173369,172223,"Brit Care Dog Hypoallergenic Weight Loss д/собак зайва/вага кролик 1кг","Більше 10","Корм сухий для собак",317.58,413,{"$f":"'Brit Care'!I$90","v":0},{"$f":"'Brit Care'!J$90","v":0}]
[null,1111173370,172224,"Brit Care Dog Hypoallergenic Weight Loss д/собак зайва/вага кролик 3кг","Більше 10","Корм сухий для собак",886.2,1154,{"$f":"'Brit Care'!I$91","v":0},{"$f":"'Brit Care'!J$91","v":0}]
[null,1111173373,172228,"Brit Care Dog Hypoallergenic д/виставкових/собак лосось/оселедець 12кг","Більше 100","Корм сухий для собак",3229.38,4199,{"$f":"'Brit Care'!I$92","v":0},{"$f":"'Brit Care'!J$92","v":0}]
[null,1111173372,172227,"Brit Care Dog Hypoallergenic д/виставкових/собак лосось/оселедець 3кг","Менше 10","Корм сухий для собак",982.74,1279,{"$f":"'Brit Care'!I$93","v":0},{"$f":"'Brit Care'!J$93","v":0}]
[null,1111173366,172220,"Brit Care Dog Hypoallergenic д/дорослих/собак великих/порід ягня 1кг","Більше 10","Корм сухий для собак",281.76,368,{"$f":"'Brit Care'!I$94","v":0},{"$f":"'Brit Care'!J$94","v":0}]
[null,1111173362,172216,"Brit Care Dog Hypoallergenic д/собак середніх/порід ягня 12кг","Більше 100","Корм сухий для собак",2824.44,3674,{"$f":"'Brit Care'!I$95","v":0},{"$f":"'Brit Care'!J$95","v":0}]
[null,1111170891,"XMASS_100824*****","Brit Care Dog Mono різдвяна консерви короп і картопл салат д/соб 400г","Більше 100","Корм вологий для собак",126.6,167,{"$f":"'Brit Care'!I$96","v":0},{"$f":"'Brit Care'!J$96","v":0}]
[null,1111173356,172192,"Brit Care Dog Sustainable Activity д/активних/собак курка/комахи 12кг","Менше 10","Корм сухий для собак",2663.82,3464,{"$f":"'Brit Care'!I$97","v":0},{"$f":"'Brit Care'!J$97","v":0}]
[null,1111171949,172172,"Brit Care Dog Sustainable Adult Small Breed д/собак курка/комахи 1кг","Більше 100","Корм сухий для собак",268.44,351,{"$f":"'Brit Care'!I$98","v":0},{"$f":"'Brit Care'!J$98","v":0}]
[null,1111173353,172173,"Brit Care Dog Sustainable Adult Small Breed д/собак курка/комахи 3кг","Більше 10","Корм сухий для собак",765.84,996,{"$f":"'Brit Care'!I$99","v":0},{"$f":"'Brit Care'!J$99","v":0}]
[null,1111173354,"172174*****","Brit Care Dog Sustainable Adult Small Breed д/собак курка/комахи 7кг","Більше 10","Корм сухий для собак",1792.74,2331,{"$f":"'Brit Care'!I$100","v":0},{"$f":"'Brit Care'!J$100","v":0}]
[null,1111173607,172171,"Brit Care Dog Sustainable Puppy д/цуценят курка/комахи 12кг","Менше 10","Корм сухий для собак",2543.4,3306,{"$f":"'Brit Care'!I$101","v":0},{"$f":"'Brit Care'!J$101","v":0}]
[null,1111173606,172170,"Brit Care Dog Sustainable Puppy д/цуценят курка/комахи 3кг","Більше 10","Корм сухий для собак",685.92,891,{"$f":"'Brit Care'!I$102","v":0},{"$f":"'Brit Care'!J$102","v":0}]
[null,1111174833,172189,"Brit Care Dog Sustainable Sensitive д/собак чут/травл риба/комах 12кг","Більше 10","Корм сухий для собак",3985.74,5182,{"$f":"'Brit Care'!I$103","v":0},{"$f":"'Brit Care'!J$103","v":0}]
[null,1111174831,172187,"Brit Care Dog Sustainable Sensitive д/собак чутл/трав риба/комахи 1кг","Більше 10","Корм сухий для собак",425.64,554,{"$f":"'Brit Care'!I$104","v":0},{"$f":"'Brit Care'!J$104","v":0}]
[null,1111174832,172188,"Brit Care Dog Sustainable Sensitive д/собак чутл/трав риба/комахи 3кг","Більше 10","Корм сухий для собак",1049.0999999999999,1364,{"$f":"'Brit Care'!I$105","v":0},{"$f":"'Brit Care'!J$105","v":0}]
[null,1111173612,172182,"Brit Care Dog Sustainable д/дорос/собак великих/порід курка/комаха 3кг","Більше 10","Корм сухий для собак",767.16,996,{"$f":"'Brit Care'!I$106","v":0},{"$f":"'Brit Care'!J$106","v":0}]
[null,1111171950,172175,"Brit Care Dog Sustainable д/дорос/собак середн/порід курка/комахи 1кг","Більше 10","Корм сухий для собак",251.94,328,{"$f":"'Brit Care'!I$107","v":0},{"$f":"'Brit Care'!J$107","v":0}]
[null,1111173609,172176,"Brit Care Dog Sustainable д/дорос/собак середн/порід курка/комахи 3кг","Більше 10","Корм сухий для собак",709.92,923,{"$f":"'Brit Care'!I$108","v":0},{"$f":"'Brit Care'!J$108","v":0}]
[null,1111173613,172183,"Brit Care Dog Sustainable д/собак великих/порід курка/комахи 12кг","Більше 10","Корм сухий для собак",2663.58,3464,{"$f":"'Brit Care'!I$109","v":0},{"$f":"'Brit Care'!J$109","v":0}]
[null,1111173610,172177,"Brit Care Dog Sustainable д/собак середніх/порід курка/комахи 12кг","Більше 10","Корм сухий для собак",2664.54,3464,{"$f":"'Brit Care'!I$110","v":0},{"$f":"'Brit Care'!J$110","v":0}]
[null,1111173371,172225,"Brit Care Dog Weight Loss д/собак зайва/вага кролик 12кг","Більше 10","Корм сухий для собак",3228.42,4199,{"$f":"'Brit Care'!I$111","v":0},{"$f":"'Brit Care'!J$111","v":0}]
[null,1111180649,111425,"Brit Care Functional Snack Antiparasitic ласощі д/собак лосось 150г","Більше 100","Ласощі для собак",168.42,219,{"$f":"'Brit Care'!I$112","v":0},{"$f":"'Brit Care'!J$112","v":0}]
[null,1111180647,111422,"Brit Care Functional Snack Antistress ласощі д/собак креветка 150г","Більше 100","Ласощі для собак",168.42,219,{"$f":"'Brit Care'!I$113","v":0},{"$f":"'Brit Care'!J$113","v":0}]
[null,1111158243,"111418/9949","Brit Care Functional Snack Dental ласощі д/собак оленина/розмарин 150г","Більше 100","Ласощі для собак",168.42,219,{"$f":"'Brit Care'!I$114","v":0},{"$f":"'Brit Care'!J$114","v":0}]
[null,1111158247,"111424/0006","Brit Care Functional Snack Endurance ласощі д/собак ягня/банан 150г","Більше 100","Ласощі для собак",168.42,219,{"$f":"'Brit Care'!I$115","v":0},{"$f":"'Brit Care'!J$115","v":0}]
[null,1111158246,"111421/9970","Brit Care Functional Snack Immunity ласощі д/собак комахи/імбир 150г","Більше 100","Ласощі для собак",168.42,219,{"$f":"'Brit Care'!I$116","v":0},{"$f":"'Brit Care'!J$116","v":0}]
[null,1111158244,"111419/9956","Brit Care Functional Snack Light ласощі д/собак кролик 150г","Більше 100","Ласощі для собак",168.42,219,{"$f":"'Brit Care'!I$117","v":0},{"$f":"'Brit Care'!J$117","v":0}]
[null,1111180648,111423,"Brit Care Functional Snack Mineral Ham ласощі д/цуценят шинка 150г","Більше 100","Ласощі для собак",168.42,219,{"$f":"'Brit Care'!I$118","v":0},{"$f":"'Brit Care'!J$118","v":0}]
[null,1111158242,"111417/9932","Brit Care Functional Snack Mobility ласощі д/собак кальмар 150г","Більше 100","Ласощі для собак",168.42,219,{"$f":"'Brit Care'!I$119","v":0},{"$f":"'Brit Care'!J$119","v":0}]
[null,1111180650,111426,"Brit Care Functional Snack Recovery ласощі д/собак оселедець 150г","Більше 100","Ласощі для собак",168.42,219,{"$f":"'Brit Care'!I$120","v":0},{"$f":"'Brit Care'!J$120","v":0}]
[null,1111158245,"111420/9963","Brit Care Functional Snack Skin Coat ласощі д/собак криль/кокос 150г","Більше 100","Ласощі для собак",168.42,219,{"$f":"'Brit Care'!I$121","v":0},{"$f":"'Brit Care'!J$121","v":0}]
[null,1111148813,"170771/0114","Brit Care GF Mini Adult Lamb д/дорослих собак малих порід ягня 400г","Більше 100","Корм сухий для собак",184.32,240,{"$f":"'Brit Care'!I$122","v":0},{"$f":"'Brit Care'!J$122","v":0}]
[null,1111148824,"170782/0220","Brit Care GF Mini Hair and Skin д/дор/собак догл/шкіра/шерс лос/ос 2кг","Більше 100","Корм сухий для собак",705.36,918,{"$f":"'Brit Care'!I$123","v":0},{"$f":"'Brit Care'!J$123","v":0}]
[null,1111148825,"170783/0237","Brit Care GF Mini Hair Skin д/собак малих порід лосось/оселедець 400г","Більше 100","Корм сухий для собак",186.18,243,{"$f":"'Brit Care'!I$124","v":0},{"$f":"'Brit Care'!J$124","v":0}]
[null,1111148816,"170774/0145","Brit Care GF Mini Puppy Lamb д/цуцен/молод/собак малих порід ягня 400г","Більше 100","Корм сухий для собак",200.22,259,{"$f":"'Brit Care'!I$125","v":0},{"$f":"'Brit Care'!J$125","v":0}]
[null,1111148817,"170775/0152","Brit Care GF Mini Puppy Lamb д/цуцен/собак малих/порід ягня 7кг","Більше 10","Корм сухий для собак",2481.7800000000002,3227,{"$f":"'Brit Care'!I$126","v":0},{"$f":"'Brit Care'!J$126","v":0}]
[null,1111148823,"170781/0213","Brit Care GF Mini Yorkshire д/йоркшерський/тер_єрів лосось/тунець 7кг","Більше 10","Корм сухий для собак",2275.8000000000002,2960,{"$f":"'Brit Care'!I$127","v":0},{"$f":"'Brit Care'!J$127","v":0}]
[null,1111148822,"170780/0206","Brit Care GF Mini Yorkshire корм/сух д/йорк/тер_є лосось/тунець 400г","Більше 100","Корм сухий для собак",183.24,239,{"$f":"'Brit Care'!I$128","v":0},{"$f":"'Brit Care'!J$128","v":0}]
[null,1111148819,"170777/0176","Brit Care GF Sensitive д/собак малих порід чутлив/травл оленина 400г","Більше 100","Корм сухий для собак",202.14,265,{"$f":"'Brit Care'!I$129","v":0},{"$f":"'Brit Care'!J$129","v":0}]
[null,1111148828,"170786/1074","Brit Care GF Sterilised д/дор/собак мал/порід зайва/вага крол/лос 400г","Більше 100","Корм сухий для собак",202.14,265,{"$f":"'Brit Care'!I$130","v":0},{"$f":"'Brit Care'!J$130","v":0}]
[null,1111148826,"170784/0244","Brit Care Hair Skin д/собак малих/порід догл/шкір/шер лосось/осел 7кг","Більше 10","Корм сухий для собак",2223.84,2891,{"$f":"'Brit Care'!I$131","v":0},{"$f":"'Brit Care'!J$131","v":0}]
[null,1111176556,172649,"Brit Care Hypoallergenic Small Breed д/дор/собак мал/порід з ягням 1кг","Більше 100","Корм сухий для собак",304.86,398,{"$f":"'Brit Care'!I$132","v":0},{"$f":"'Brit Care'!J$132","v":0}]
[null,1111176557,172650,"Brit Care Hypoallergenic Small Breed д/дор/собак мал/порід з ягням 3кг","Більше 100","Корм сухий для собак",886.56,1154,{"$f":"'Brit Care'!I$133","v":0},{"$f":"'Brit Care'!J$133","v":0}]
[null,1111176558,172651,"Brit Care Hypoallergenic Small Breed д/дор/собак мал/порід з ягням 7кг","Більше 100","Корм сухий для собак",1936.56,2519,{"$f":"'Brit Care'!I$134","v":0},{"$f":"'Brit Care'!J$134","v":0}]
[null,1111196081,173213,"Brit Care Mini Raw Delights Beef корм д/собак мал.порід яловичина 2кг","Більше 10","Корм сухий для собак",1145.4000000000001,1489,{"$f":"'Brit Care'!I$135","v":0},{"$f":"'Brit Care'!J$135","v":0}]
[null,1111196082,173214,"Brit Care Mini Raw Delights Turkey корм д/собак мал.порід індичка 2кг","Більше 10","Корм сухий для собак",1130.04,1469,{"$f":"'Brit Care'!I$136","v":0},{"$f":"'Brit Care'!J$136","v":0}]
[null,1111162668,"100913/100218/4432","Brit Care Mini філе в соусі д/дор/собак малих/порід кролик/лосось 85г","Більше 100","Корм вологий для собак",50.67,65,{"$f":"'Brit Care'!I$137","v":0},{"$f":"'Brit Care'!J$137","v":0}]
[null,1111162667,"100912/100217/4425","Brit Care Mini філе в соусі д/дорос/собак малих/порід курка/тунець 85г","Більше 100","Корм вологий для собак",50.67,65,{"$f":"'Brit Care'!I$138","v":0},{"$f":"'Brit Care'!J$138","v":0}]
[null,1111162670,"100915/100220/4456","Brit Care Mini філе в соусі д/дорослих собак малих/порід дичина 85г","Більше 100","Корм вологий для собак",50.67,65,{"$f":"'Brit Care'!I$139","v":0},{"$f":"'Brit Care'!J$139","v":0}]
[null,1111162665,"100910/100215/4401","Brit Care Mini філе в соусі д/дорослих собак ягня 85г","Більше 10","Корм вологий для собак",50.67,65,{"$f":"'Brit Care'!I$140","v":0},{"$f":"'Brit Care'!J$140","v":0}]
[null,1111162666,"100911/100216/4418","Brit Care Mini філе в соусі д/цуценят ягня 85 г","Немає в наявності","Корм вологий для собак",50.67,65,{"$f":"'Brit Care'!I$141","v":0},{"$f":"'Brit Care'!J$141","v":0}]
[null,1111151335,"100858/100072/0274","Brit Care Pate and Meat консерва д/доросл/собак яловичина/індичка 400г","Більше 100","Корм вологий для собак",114.24,149,{"$f":"'Brit Care'!I$142","v":0},{"$f":"'Brit Care'!J$142","v":0}]
[null,1111151337,"100865/100074/0298","Brit Care Pate and Meat консерва д/дорослих собак індичка 400г","Більше 100","Корм вологий для собак",114.24,149,{"$f":"'Brit Care'!I$143","v":0},{"$f":"'Brit Care'!J$143","v":0}]
[null,1111151338,"100860/100075/0304","Brit Care Pate and Meat консерва д/дорослих собак качка 400г","Більше 100","Корм вологий для собак",114.24,149,{"$f":"'Brit Care'!I$144","v":0},{"$f":"'Brit Care'!J$144","v":0}]
[null,1111151339,"100863/100076/0311","Brit Care Pate and Meat консерва д/дорослих собак кролик 400г","Більше 100","Корм вологий для собак",114.24,149,{"$f":"'Brit Care'!I$145","v":0},{"$f":"'Brit Care'!J$145","v":0}]
[null,1111151336,"100859/100073/0281","Brit Care Pate and Meat консерва д/дорослих собак курка 400г","Більше 100","Корм вологий для собак",114.24,149,{"$f":"'Brit Care'!I$146","v":0},{"$f":"'Brit Care'!J$146","v":0}]
[null,1111151334,"100864/100071/0267","Brit Care Pate and Meat консерва д/дорослих собак лосось 400г","Більше 100","Корм вологий для собак",114.24,149,{"$f":"'Brit Care'!I$147","v":0},{"$f":"'Brit Care'!J$147","v":0}]
[null,1111151341,"100866/100078/0328","Brit Care Pate and Meat консерва д/дорослих собак оленина 400г","Більше 100","Корм вологий для собак",114.24,149,{"$f":"'Brit Care'!I$148","v":0},{"$f":"'Brit Care'!J$148","v":0}]
[null,1111151340,"100861/100077/0441","Brit Care Pate and Meat консерва д/дорослих собак ягня 400г","Більше 100","Корм вологий для собак",114.24,149,{"$f":"'Brit Care'!I$149","v":0},{"$f":"'Brit Care'!J$149","v":0}]
[null,1111151342,"100862/100079/0335","Brit Care Pate and Meat консерва д/цуценят курка/індичка 400г","Більше 100","Корм вологий для собак",114.24,149,{"$f":"'Brit Care'!I$150","v":0},{"$f":"'Brit Care'!J$150","v":0}]
[null,1111148820,"170778/0183","Brit Care Sensitive д/собак малих/порід чутливе/травлення оленина 7кг","Менше 10","Корм сухий для собак",2622.24,3410,{"$f":"'Brit Care'!I$151","v":0},{"$f":"'Brit Care'!J$151","v":0}]
[null,1111182592,101058,"Brit Care Soup Tuna д/котів суп з тунцем 75 г","Більше 100","Корм вологий для котів",39.479999999999997,51,{"$f":"'Brit Care'!I$152","v":0},{"$f":"'Brit Care'!J$152","v":0}]
[null,1111182591,101057,"Brit Care Soup Turkey д/котів суп з індичкою 75 г","Більше 100","Корм вологий для котів",39.479999999999997,51,{"$f":"'Brit Care'!I$153","v":0},{"$f":"'Brit Care'!J$153","v":0}]
[null,1111145210,"101117 /442868","Brit Care лососева олія вітаміни д/собак д/покращення/шерсті/шкіри 1л","Більше 10","Вітаміни для собак",974.28,1268,{"$f":"'Brit Care'!I$154","v":0},{"$f":"'Brit Care'!J$154","v":0}]
[null,1111180884,101048,"Brit Care філе в соусі д/стерилізованих котів набір паучів 12 х 85 г","Більше 10","Корм вологий для котів",443.58,577,{"$f":"'Brit Care'!I$155","v":0},{"$f":"'Brit Care'!J$155","v":0}]
[null,1111174806,112105,"Brit Dental Stick Calm ласощі д/собак заспокійливі 7шт/251г","Більше 100","Ласощі для собак",158.76,207,{"$f":"'Brit Care'!I$156","v":0},{"$f":"'Brit Care'!J$156","v":0}]
[null,1111174805,112104,"Brit Dental Stick Immuno ласощі д/собак д/імунітету 7шт/251г","Більше 100","Ласощі для собак",158.76,207,{"$f":"'Brit Care'!I$157","v":0},{"$f":"'Brit Care'!J$157","v":0}]
[null,1111174804,112103,"Brit Dental Stick Mobility ласощі д/собак д/здор/суглобів 7шт/251г","Більше 100","Ласощі для собак",158.76,207,{"$f":"'Brit Care'!I$158","v":0},{"$f":"'Brit Care'!J$158","v":0}]
[null,1111174803,112102,"Brit Dental Stick Teeth/Gums ласощі д/собак д/зубів/ясен 7шт/251г","Більше 100","Ласощі для собак",158.76,207,{"$f":"'Brit Care'!I$159","v":0},{"$f":"'Brit Care'!J$159","v":0}]
[null,1111151065,"100832/100054/9735","Brit Mono Protein Beef and Rice консерва д/собак яловичина/рис 400г","Більше 100","Корм вологий для собак",126.6,167,{"$f":"'Brit Care'!I$160","v":0},{"$f":"'Brit Care'!J$160","v":0}]
[null,1111151068,"100831/100057/9766","Brit Mono Protein Beef консерва д/собак яловичина 400г","Більше 100","Корм вологий для собак",126.6,167,{"$f":"'Brit Care'!I$161","v":0},{"$f":"'Brit Care'!J$161","v":0}]
[null,1111151064,"100833/100053/9728","Brit Mono Protein Lamb and Rice консерва д/собак ягня/рис 400г","Більше 100","Корм вологий для собак",126.6,167,{"$f":"'Brit Care'!I$162","v":0},{"$f":"'Brit Care'!J$162","v":0}]
[null,1111151069,"100834/100058/9773","Brit Mono Protein Lamb консерва д/собак ягня 400г","Більше 100","Корм вологий для собак",126.6,167,{"$f":"'Brit Care'!I$163","v":0},{"$f":"'Brit Care'!J$163","v":0}]
[null,1111151071,"100835/100061/9797","Brit Mono Protein Rabbit консерва д/собак кролик 400г","Більше 100","Корм вологий для собак",126.6,167,{"$f":"'Brit Care'!I$164","v":0},{"$f":"'Brit Care'!J$164","v":0}]
[null,1111151066,"100836/100055/9742","Brit Mono Protein Tuna and Sweet Potato консерва д/соб тун/бат 400г","Більше 100","Корм вологий для собак",126.6,164,{"$f":"'Brit Care'!I$165","v":0},{"$f":"'Brit Care'!J$165","v":0}]
[null,1111151067,"100837/100056/9759","Brit Mono Protein Turkey Sweet Potato консерва д/собак інд/батат 400г","Більше 100","Корм вологий для собак",126.6,167,{"$f":"'Brit Care'!I$166","v":0},{"$f":"'Brit Care'!J$166","v":0}]
[null,1111151070,"100838/100060/9780","Brit Mono Protein Turkey консерва д/собак індичка 400г","Більше 100","Корм вологий для собак",126.6,167,{"$f":"'Brit Care'!I$167","v":0},{"$f":"'Brit Care'!J$167","v":0}]
[null,1111176193,"112131*****","Brit Raw Treat Digestion ласощі д/собак покращ/травлен курка 40г","Більше 10","Ласощі для собак",158.76,238,{"$f":"'Brit Care'!I$168","v":0},{"$f":"'Brit Care'!J$168","v":0}]
[null,1111176195,"112133*****","Brit Raw Treat Immunity ласощі д/собак міц/імунітет ягня/курка 40г","Менше 10","Ласощі для собак",158.76,238,{"$f":"'Brit Care'!I$169","v":0},{"$f":"'Brit Care'!J$169","v":0}]
[null,1111180674,112187,"Brit Raw Treat Kitten ласощі д/кошенят з куркою і лососем 40 г","Менше 10","Ласощі для котів",181.32,271,{"$f":"'Brit Care'!I$170","v":0},{"$f":"'Brit Care'!J$170","v":0}]
[null,1111180678,112191,"Brit Raw Treat Sensitive ласощі д/котів з індичкою 40 г","Менше 10","Ласощі для котів",181.32,271,{"$f":"'Brit Care'!I$171","v":0},{"$f":"'Brit Care'!J$171","v":0}]
[null,1111176194,"112132*****","Brit Raw Treat Skin/Coat ласощі д/собак здор/шкір/шерс риба /курка 40г","Більше 10","Ласощі для собак",158.76,238,{"$f":"'Brit Care'!I$172","v":0},{"$f":"'Brit Care'!J$172","v":0}]
[null,1111176196,"112134*****","Brit Raw Treat Urinary ласощі д/собак здоров/сеч/системи індичка 40г","Більше 10","Ласощі для собак",158.76,238,{"$f":"'Brit Care'!I$173","v":0},{"$f":"'Brit Care'!J$173","v":0}]
[null,1111144270,"101115/2844","Care Brit лососева олія вітаміни д/собак покращен/шерсть/шкіра 250мл","Більше 10","Вітаміни для собак",624.72,813,{"$f":"'Brit Care'!I$174","v":0},{"$f":"'Brit Care'!J$174","v":0}]
[null,13260,"101116/2851","Care Brit лососева олія вітаміни д/собак покращен/шерсть/шкіра 500мл","Більше 10","Вітаміни для собак",742.68,967,{"$f":"'Brit Care'!I$175","v":0},{"$f":"'Brit Care'!J$175","v":0}]
[null,1111194998,172219,"БЕЗ ТЕРМ. Brit Care Dog Hypoallergenic Junior Large Breed ягня 12кг","Немає в наявності","Корм сухий для собак",1412.46,0,{"$f":"'Brit Care'!I$176","v":0},{"$f":"'Brit Care'!J$176","v":0}]
[null,1111194029,"172181*****","БЕЗ ТЕРМ. Brit Care Sustainable Adult соб/велик курка/комахи 1кг","Менше 10","Корм сухий для собак",57.24,0,{"$f":"'Brit Care'!I$177","v":0},{"$f":"'Brit Care'!J$177","v":0}]
[null,1111198844,"172181*****","БЕЗ ТЕРМ. ПОРВ. Brit Care Sustainable Adult соб/велик курка/комахи 1кг","Менше 10","Корм сухий для собак",114.42,0,{"$f":"'Brit Care'!I$178","v":0},{"$f":"'Brit Care'!J$178","v":0}]
[null,1111174817,112058,"Вітаміни Brit Vitamins Calm для собак д/нервової системи 150 г","Менше 10","Вітаміни для собак",507.72,685,{"$f":"'Brit Care'!I$179","v":0},{"$f":"'Brit Care'!J$179","v":0}]
[null,1111174816,112057,"Вітаміни Brit Vitamins Mobility д/собак д/суглобів та кісток 150 г","Менше 10","Вітаміни для собак",592.5,800,{"$f":"'Brit Care'!I$180","v":0},{"$f":"'Brit Care'!J$180","v":0}]
[null,1111174820,112061,"Вітаміни Brit Vitamins Multivitamin д/собак д/здоров_я та імуніт 150 г","Менше 10","Вітаміни для собак",507.72,685,{"$f":"'Brit Care'!I$181","v":0},{"$f":"'Brit Care'!J$181","v":0}]
[null,1111174821,112062,"Вітаміни Brit Vitamins Probiotic д/собак нормалізація травлення 150 г","Менше 10","Вітаміни для собак",592.5,800,{"$f":"'Brit Care'!I$182","v":0},{"$f":"'Brit Care'!J$182","v":0}]
[null,1111174818,112059,"Вітаміни Brit Vitamins Puppy д/цуценят д/здоров росту/розвитку 150 г","Менше 10","Вітаміни для собак",592.5,800,{"$f":"'Brit Care'!I$183","v":0},{"$f":"'Brit Care'!J$183","v":0}]
[null,1111204088,"VAFO_55007","НАБІР Корм сухий Brit Care Grain Free Mini Puppy Lamb 2 кг+400г","Більше 100",null,768.78,999,{"$f":"'Brit Care'!I$184","v":0},{"$f":"'Brit Care'!J$184","v":0}]
[null,1111204454,"170774/0145","ТЕРМ 08.26 ПОРВ Brit Care GF Mini Puppy Lamb цуцен/малих/пор ягня 400г","Менше 10","Корм сухий для собак",50.1,0,{"$f":"'Brit Care'!I$185","v":0},{"$f":"'Brit Care'!J$185","v":0}]
[null,1111204224,112134,"ТЕРМ 09.25 Brit Raw Treat Urinary ласощі/соб здоров/сеч/систем інд 40г","Більше 10","Ласощі для собак",50.04,0,{"$f":"'Brit Care'!I$186","v":0},{"$f":"'Brit Care'!J$186","v":0}]
[null,1111208292,172189,"ТЕРМ 10.25 Brit Care Dog Sustainable Sensitive чут/трав риб/комах 12кг","Немає в наявності","Корм сухий для собак",1992.9,0,{"$f":"'Brit Care'!I$187","v":0},{"$f":"'Brit Care'!J$187","v":0}]
[null,1111208429,172187,"ТЕРМ 10.25 Brit Care Dog Sustainable Sensitive чут/трав риба/комах 1кг","Менше 10","Корм сухий для собак",212.82,0,{"$f":"'Brit Care'!I$188","v":0},{"$f":"'Brit Care'!J$188","v":0}]
[null,1111208516,"170783/0237","ТЕРМ 10.25Brit Care GF Mini Hair Skin д/соб.мал.порід лосось/осел.400г","Менше 10","Корм сухий для собак",93.12,0,{"$f":"'Brit Care'!I$189","v":0},{"$f":"'Brit Care'!J$189","v":0}]
[null,1111207595,"100536/0587","ТЕРМ 11.25 Brit Care Cat Pouch філе в желе дорос/кот тріска/форель 85г","Менше 10","Корм вологий для котів",21.66,0,{"$f":"'Brit Care'!I$190","v":0},{"$f":"'Brit Care'!J$190","v":0}]
[null,1111207219,"112133*****","ТЕРМ 11.25 Brit Raw Treat Immunity ласощі соб/міц/імуніт ягня/курк 40г","Менше 10","Ласощі для собак",79.38,0,{"$f":"'Brit Care'!I$191","v":0},{"$f":"'Brit Care'!J$191","v":0}]
[null,1111207528,172221,"ТЕРМ 12.25 Brit Care Dog Hypoallergenic Adult Large Breed ягня 3кг","Немає в наявності","Корм сухий для собак",403.98,0,{"$f":"'Brit Care'!I$192","v":0},{"$f":"'Brit Care'!J$192","v":0}]
[null,1111198655,172217,"ТЕРМ. 05.26 ПОРВ. Brit Care Dog Hypoallergenic Junior вел/пор ягня 1кг","Менше 10","Корм сухий для собак",141.72,0,{"$f":"'Brit Care'!I$193","v":0},{"$f":"'Brit Care'!J$193","v":0}]
[null,1111202685,"172181*****","ТЕРМ. 08.25 Brit Care Sustainable Adult соб/велик курка/комахи 1кг","Менше 10","Корм сухий для собак",114.42,0,{"$f":"'Brit Care'!I$194","v":0},{"$f":"'Brit Care'!J$194","v":0}]
[null,1111203859,172544,"ТЕРМ. 09.25 Brit Care Cat GF Sterilized Immunity стер/кот свинина 400г","Менше 10","Корм сухий для котів",79.02,0,{"$f":"'Brit Care'!I$195","v":0},{"$f":"'Brit Care'!J$195","v":0}]
[null,1111206480,172201,"ТЕРМ. 09.25 Brit Care Dog GF Junior Large Breed мол/соб/вел лосос 12кг","Немає в наявності","Корм сухий для собак",1614.48,0,{"$f":"'Brit Care'!I$196","v":0},{"$f":"'Brit Care'!J$196","v":0}]
[null,1111207270,172176,"ТЕРМ. 09.26, ПОРВ. Корм сухий Brit Care Dog Sustainable Adult Medium B","Менше 10","Корм сухий для собак",354.96,0,{"$f":"'Brit Care'!I$197","v":0},{"$f":"'Brit Care'!J$197","v":0}]
[null,1111208577,171963,"ТЕРМ. 10.25 Brit Care Cat Insect дор/кот харч/непернос комахи/риба 2кг","Менше 10","Корм сухий для котів",364.2,0,{"$f":"'Brit Care'!I$198","v":0},{"$f":"'Brit Care'!J$198","v":0}]
[null,1111208430,171962,"ТЕРМ. 10.25 Brit Care Cat Insect харч/неперн комахи/риба 400г","Менше 10","Корм сухий для котів",94.2,0,{"$f":"'Brit Care'!I$199","v":0},{"$f":"'Brit Care'!J$199","v":0}]
[null,1111205737,172195,"ТЕРМ. 10.25 Brit Care Dog GF Puppy для цуценят лосось 12кг","Немає в наявності","Корм сухий для собак",1472.94,0,{"$f":"'Brit Care'!I$200","v":0},{"$f":"'Brit Care'!J$200","v":0}]
[null,1111205739,172219,"ТЕРМ. 10.25 Brit Care Dog Hypoallergenic Junior Large Breed ягня 12кг","Немає в наявності","Корм сухий для собак",1294.32,0,{"$f":"'Brit Care'!I$201","v":0},{"$f":"'Brit Care'!J$201","v":0}]
[null,1111208432,172175,"ТЕРМ. 10.25 Brit Care Dog Sustainable середн/порід курка/комахи 1кг","Менше 10","Корм сухий для собак",126,0,{"$f":"'Brit Care'!I$202","v":0},{"$f":"'Brit Care'!J$202","v":0}]
[null,1111205638,111426,"ТЕРМ. 10.25 Brit Care Functional Snack Recovery ласощі соб оселед 150г","Більше 10","Ласощі для собак",84.24,0,{"$f":"'Brit Care'!I$203","v":0},{"$f":"'Brit Care'!J$203","v":0}]
[null,1111208431,"170782/0220","ТЕРМ. 10.25 Brit Care GF Mini Hair/Skin соб/догл/шкіра/шерс лос/ос 2кг","Менше 10","Корм сухий для собак",352.68,0,{"$f":"'Brit Care'!I$204","v":0},{"$f":"'Brit Care'!J$204","v":0}]
[null,1111206782,"170773/0138","ТЕРМ. 10.25 Brit Care GF Mini Puppy Lamb цуцен/молод/соб/малих ягн 2кг","Менше 10","Корм сухий для собак",392.1,0,{"$f":"'Brit Care'!I$205","v":0},{"$f":"'Brit Care'!J$205","v":0}]
[null,1111207849,"170779/0190","ТЕРМ. 10.25 Brit Care GF Mini Yorkshire дор/йорк/тер'єр лосос/тунц 2кг","Менше 10","Корм сухий для собак",351.78,0,{"$f":"'Brit Care'!I$206","v":0},{"$f":"'Brit Care'!J$206","v":0}]
[null,1111206351,112133,"ТЕРМ. 10.25 Brit Raw Treat Immunity ласощі соб/зміц/імуні ягн/курк 40г","Більше 10","Ласощі для собак",79.38,0,{"$f":"'Brit Care'!I$207","v":0},{"$f":"'Brit Care'!J$207","v":0}]
[null,1111205631,"171283/0716","ТЕРМ. 10.25 Корм сухий Brit Care Cat Grain Free Sensitive HDigestion D","Менше 10","Корм сухий для котів",97.14,0,{"$f":"'Brit Care'!I$208","v":0},{"$f":"'Brit Care'!J$208","v":0}]
[null,1111205632,111901,"ТЕРМ. 10.25 Функціональні ласощі Brit Care Cat Snack Calming для котів","Менше 10","Ласощі для котів",42.12,0,{"$f":"'Brit Care'!I$209","v":0},{"$f":"'Brit Care'!J$209","v":0}]
[null,1111208580,111900,"ТЕРМ. 10.25 Функціональні ласощі Brit Care Cat Snack Urinary для котів","Менше 10","Ласощі для котів",42.12,0,{"$f":"'Brit Care'!I$210","v":0},{"$f":"'Brit Care'!J$210","v":0}]
[null,1111207796,"170777/0176","ТЕРМ. 10.26, ПОРВ. Корм сухий Brit Care Grain Free Mini Sensitive для ","Менше 10","Корм сухий для собак",101.1,0,{"$f":"'Brit Care'!I$211","v":0},{"$f":"'Brit Care'!J$211","v":0}]
[null,1111206729,"100914/100219/4449","ТЕРМ. 11.25 Brit Care Mini філе соус дор/соб/міні лосось/оселедець 85г","Більше 10","Корм вологий для собак",15,0,{"$f":"'Brit Care'!I$212","v":0},{"$f":"'Brit Care'!J$212","v":0}]
[null,1111207267,"100912/100217/4425","ТЕРМ. 11.25 Brit Care Mini філе/соус дорос/собак/міні курка/тунець 85г","Більше 10","Корм вологий для собак",25.38,0,{"$f":"'Brit Care'!I$213","v":0},{"$f":"'Brit Care'!J$213","v":0}]
[null,1111208625,"100835/100061/9797","ТЕРМ.03.28.ПОМ'ЯТ.Корм вологий Brit Mono Protein Rabbit для собак з кр","Менше 10","Корм вологий для собак",63.3,0,{"$f":"'Brit Care'!I$214","v":0},{"$f":"'Brit Care'!J$214","v":0}]
[null,1111205981,"170774/0145","ТЕРМ.05.26БРАК ПАЙКИ BritCareMini PuppyLa д/цуц/мол/соб мал пор яг400г","Менше 10","Корм сухий для собак",100.14,0,{"$f":"'Brit Care'!I$215","v":0},{"$f":"'Brit Care'!J$215","v":0}]
[null,1111206461,"100532/0549","ТЕРМ.09.25.Корм вологий Brit Care Cat Pouch Sterilised для дорослих ка","Більше 10","Корм вологий для котів",21.66,0,{"$f":"'Brit Care'!I$216","v":0},{"$f":"'Brit Care'!J$216","v":0}]
[null,1111205734,172205,"ТЕРМ.10.25 Brit Care Dog GF Senior and Light д/старіючих/соб лос1кг","Менше 10","Корм сухий для собак",157.19999999999999,0,{"$f":"'Brit Care'!I$217","v":0},{"$f":"'Brit Care'!J$217","v":0}]
[null,1111206230,172175,"ТЕРМ.10.26.ПОРВ.Корм сухий Brit Care Dog Sustainable Adult Medium Bree","Менше 10","Корм сухий для собак",126,0,{"$f":"'Brit Care'!I$218","v":0},{"$f":"'Brit Care'!J$218","v":0}]
[null,1111153752,"100158/3886*****","Brit Fresh Beef Pumpkin консерва д/дорос/собак яловичина/гарбуз 400 г","Більше 10","Корм вологий для собак",149.04,197,{"$f":"'Brit Fresh'!I$8","v":0},{"$f":"'Brit Fresh'!J$8","v":0}]
[null,1111153741,170989,"Brit Fresh Chicken/Potato Adult д/дорослих/собак курка/картопля 12кг","Менше 10","Корм сухий для собак",2826.42,3674,{"$f":"'Brit Fresh'!I$9","v":0},{"$f":"'Brit Fresh'!J$9","v":0}]
[null,1111153740,"170988 /0724","Brit Fresh Chicken/Potato Puppy д/цуцен всіх/порід курк/картопля 2,5кг","Менше 10","Корм сухий для собак",677.4,882,{"$f":"'Brit Fresh'!I$10","v":0},{"$f":"'Brit Fresh'!J$10","v":0}]
[null,1111153739,170987,"Brit Fresh Chicken/Potato Puppy д/цуцен всіх/порід курка/картопля 12кг","Менше 10","Корм сухий для собак",2825.76,3674,{"$f":"'Brit Fresh'!I$11","v":0},{"$f":"'Brit Fresh'!J$11","v":0}]
[null,1111153742,"170990/0748","Brit Fresh Chicken/Potato д/дор/собак всех/пород курка/картопля 2,5кг","Менше 10","Корм сухий для собак",685.38,891,{"$f":"'Brit Fresh'!I$12","v":0},{"$f":"'Brit Fresh'!J$12","v":0}]
[null,1111153750,"170998/0823","Brit Fresh Duck/Millet Active Run and Work д/собак качка/пшоно 2,5кг","Більше 10","Корм сухий для собак",726.42,944,{"$f":"'Brit Fresh'!I$13","v":0},{"$f":"'Brit Fresh'!J$13","v":0}]
[null,1111153749,"170997/30816","Brit Fresh Duck/Millet Active Run Work д/дорос/собак качка/пшоно 12кг","Більше 10","Корм сухий для собак",3068.4,3989,{"$f":"'Brit Fresh'!I$14","v":0},{"$f":"'Brit Fresh'!J$14","v":0}]
[null,1111153745,"170993/530779","Brit Fresh Fish/Pumpkin д/собак вел/порід м_язи/сугл риба/гарбуз 12кг","Більше 10","Корм сухий для собак",2905.5,3779,{"$f":"'Brit Fresh'!I$15","v":0},{"$f":"'Brit Fresh'!J$15","v":0}]
[null,1111153746,"170994 /0786","Brit Fresh Fish/Pumpkin д/собак вел/порід м_язи/сугл риба/гарбуз 2,5кг","Менше 10","Корм сухий для собак",725.64,944,{"$f":"'Brit Fresh'!I$16","v":0},{"$f":"'Brit Fresh'!J$16","v":0}]
[null,1111153747,170995,"Brit Fresh Turkey Pea д/дорослих/собак зайва/вага індичка/горох 12кг","Більше 10","Корм сухий для собак",2825.88,3674,{"$f":"'Brit Fresh'!I$17","v":0},{"$f":"'Brit Fresh'!J$17","v":0}]
[null,1111153748,"170996 /0809","Brit Fresh Turkey/Pea д/собак похил/вік зайва/вага індичка/горох 2,5кг","Більше 10","Корм сухий для собак",684.54,891,{"$f":"'Brit Fresh'!I$18","v":0},{"$f":"'Brit Fresh'!J$18","v":0}]
[null,1111153751,"100157/3879*****","Brit Fresh Turkey/Peas консерва д/дорослих собак індичка/горох 400г","Менше 10","Корм вологий для собак",149.04,197,{"$f":"'Brit Fresh'!I$19","v":0},{"$f":"'Brit Fresh'!J$19","v":0}]
[null,1111168378,200260019,"Наповнювач Brit Fresh для котячого туалету Excellent бентонітовий 10кг","Більше 100","Наповнювачі для котячих туалетів",460.44,599,{"$f":"'Brit Fresh'!I$20","v":0},{"$f":"'Brit Fresh'!J$20","v":0}]
[null,1111168377,200260018,"Наповнювач Brit Fresh для котячого туалету Excellent бентонітовий 5кг","Більше 100","Наповнювачі для котячих туалетів",267.24,349,{"$f":"'Brit Fresh'!I$21","v":0},{"$f":"'Brit Fresh'!J$21","v":0}]
[null,1111207431,"170988 /0724","ТЕРМ 12.25 Brit Fresh Chicken/Potato Puppy д/цуцен курк/картопля 2,5кг","Менше 10","Корм сухий для собак",338.7,0,{"$f":"'Brit Fresh'!I$22","v":0},{"$f":"'Brit Fresh'!J$22","v":0}]
[null,1111208186,"170996 /0809","ТЕРМ. 07.26, ПОРВ. Корм сухий Brit Fresh Turkey/Pea Fit and Slim для с","Менше 10","Корм сухий для собак",342.3,0,{"$f":"'Brit Fresh'!I$23","v":0},{"$f":"'Brit Fresh'!J$23","v":0}]
[null,1111167469,171850,"Brit Premium by Nature Cat Kitten д/кошенят від 1 до 12 міс курка 800г","Менше 10","Корм сухий для котів",189.6,247,{"$f":"'Brit Premium'!I$8","v":0},{"$f":"'Brit Premium'!J$8","v":0}]
[null,1111167470,171858,"Brit Premium by Nature Cat Kitten д/кошенят з куркою 1,5кг","Більше 100","Корм сухий для котів",319.38,417,{"$f":"'Brit Premium'!I$9","v":0},{"$f":"'Brit Premium'!J$9","v":0}]
[null,1111167468,171842,"Brit Premium by Nature Cat Kitten д/кошенят з куркою 300г","Більше 100","Корм сухий для котів",98.16,128,{"$f":"'Brit Premium'!I$10","v":0},{"$f":"'Brit Premium'!J$10","v":0}]
[null,1111167472,171849,"Brit Premium by Nature Cat Sensitive д/котів з чутл травл ягня 300г","Більше 100","Корм сухий для котів",101.16,132,{"$f":"'Brit Premium'!I$11","v":0},{"$f":"'Brit Premium'!J$11","v":0}]
[null,1111167473,171865,"Brit Premium by Nature Cat Sensitive д/котів з чутлив травл ягня 1,5кг","Більше 100","Корм сухий для котів",335.04,436,{"$f":"'Brit Premium'!I$12","v":0},{"$f":"'Brit Premium'!J$12","v":0}]
[null,1111167474,171873,"Brit Premium by Nature Cat Sensitive д/котів з чутлив травл ягня 8кг","Більше 100","Корм сухий для котів",1628.1,2119,{"$f":"'Brit Premium'!I$13","v":0},{"$f":"'Brit Premium'!J$13","v":0}]
[null,1111167477,171862,"Brit Premium by Nature Cat Sterilised д/стерил кот з куркою 1,5кг","Більше 100","Корм сухий для котів",320.7,417,{"$f":"'Brit Premium'!I$14","v":0},{"$f":"'Brit Premium'!J$14","v":0}]
[null,1111167475,171846,"Brit Premium by Nature Cat Sterilised д/стерил кот з куркою 300г","Більше 100","Корм сухий для котів",99.78,131,{"$f":"'Brit Premium'!I$15","v":0},{"$f":"'Brit Premium'!J$15","v":0}]
[null,1111167476,171854,"Brit Premium by Nature Cat Sterilised д/стерил кот з куркою 800г","Більше 10","Корм сухий для котів",201.66,264,{"$f":"'Brit Premium'!I$16","v":0},{"$f":"'Brit Premium'!J$16","v":0}]
[null,1111167478,171870,"Brit Premium by Nature Cat Sterilised д/стерил котів з куркою 8кг","Більше 100","Корм сухий для котів",1629.18,2119,{"$f":"'Brit Premium'!I$17","v":0},{"$f":"'Brit Premium'!J$17","v":0}]
[null,1111167485,171855,"Brit Premium by Nature Cat Sterilized Lamb д/стерил кот з ягням 800г","Більше 10","Корм сухий для котів",201.66,264,{"$f":"'Brit Premium'!I$18","v":0},{"$f":"'Brit Premium'!J$18","v":0}]
[null,1111167484,171847,"Brit Premium by Nature Cat Sterilized Lamb д/стерил котів з ягням 300г","Більше 100","Корм сухий для котів",99.78,131,{"$f":"'Brit Premium'!I$19","v":0},{"$f":"'Brit Premium'!J$19","v":0}]
[null,1111167487,171871,"Brit Premium by Nature Cat Sterilized Lamb д/стерил котів з ягням 8кг","Більше 100","Корм сухий для котів",1629.18,2119,{"$f":"'Brit Premium'!I$20","v":0},{"$f":"'Brit Premium'!J$20","v":0}]
[null,1111167482,171864,"Brit Premium by Nature Cat Sterilized Salmon д/стерил кот лосось 1,5кг","Більше 100","Корм сухий для котів",320.7,417,{"$f":"'Brit Premium'!I$21","v":0},{"$f":"'Brit Premium'!J$21","v":0}]
[null,1111167480,171848,"Brit Premium by Nature Cat Sterilized Salmon д/стерил кот лосось 300г","Більше 100","Корм сухий для котів",99.78,131,{"$f":"'Brit Premium'!I$22","v":0},{"$f":"'Brit Premium'!J$22","v":0}]
[null,1111167481,171856,"Brit Premium by Nature Cat Sterilized Salmon д/стерил кот лосось 800г","Більше 10","Корм сухий для котів",201.66,264,{"$f":"'Brit Premium'!I$23","v":0},{"$f":"'Brit Premium'!J$23","v":0}]
[null,1111167483,171872,"Brit Premium by Nature Cat Sterilized Salmon д/стерил котів лосось 8кг","Більше 100","Корм сухий для котів",1629.18,2119,{"$f":"'Brit Premium'!I$24","v":0},{"$f":"'Brit Premium'!J$24","v":0}]
[null,1111167486,171863,"Brit Premium by Nature CatSterilized Lamb д/стерил кот з ягням 1,5кг","Більше 100","Корм сухий для котів",320.7,417,{"$f":"'Brit Premium'!I$25","v":0},{"$f":"'Brit Premium'!J$25","v":0}]
[null,1111159941,"100408/8553","Brit Premium by Nature k д/собак з індичкою і печінкою 400г","Більше 100","Корм вологий для собак",94.08,123,{"$f":"'Brit Premium'!I$26","v":0},{"$f":"'Brit Premium'!J$26","v":0}]
[null,1111159942,"100410/8577","Brit Premium by Nature k д/собак з індичкою та печінкою 800г","Більше 100","Корм вологий для собак",167.76,205,{"$f":"'Brit Premium'!I$27","v":0},{"$f":"'Brit Premium'!J$27","v":0}]
[null,1111159939,"100405/8522","Brit Premium by Nature k д/собак з куркою та серцем 400г","Більше 100","Корм вологий для собак",94.08,123,{"$f":"'Brit Premium'!I$28","v":0},{"$f":"'Brit Premium'!J$28","v":0}]
[null,1111159940,"100407/8546","Brit Premium by Nature k д/собак з куркою та серцем 800г","Більше 100","Корм вологий для собак",157.68,205,{"$f":"'Brit Premium'!I$29","v":0},{"$f":"'Brit Premium'!J$29","v":0}]
[null,1111159945,"100414/8614","Brit Premium by Nature k д/собак з ягням та гречкою 400г","Більше 100","Корм вологий для собак",94.08,123,{"$f":"'Brit Premium'!I$30","v":0},{"$f":"'Brit Premium'!J$30","v":0}]
[null,1111159943,"100411/8584","Brit Premium by Nature k д/собак з яловичиною і тельбухами 400г","Більше 100","Корм вологий для собак",94.08,123,{"$f":"'Brit Premium'!I$31","v":0},{"$f":"'Brit Premium'!J$31","v":0}]
[null,1111159944,"100413/8607","Brit Premium by Nature k д/собак з яловичиною і тельбухами 800г","Більше 100","Корм вологий для собак",157.68,205,{"$f":"'Brit Premium'!I$32","v":0},{"$f":"'Brit Premium'!J$32","v":0}]
[null,1111142138,"100270 /505982","Brit Premium Cat Beef StewandPeas pouch д/котів яловичина/горошок 100г","Більше 100","Корм вологий для котів",24.6,32,{"$f":"'Brit Premium'!I$33","v":0},{"$f":"'Brit Premium'!J$33","v":0}]
[null,1111167458,171859,"Brit Premium Cat by Nature Adult Chicken д/дорослих котів курка 1,5кг","Більше 100","Корм сухий для котів",306.06,401,{"$f":"'Brit Premium'!I$34","v":0},{"$f":"'Brit Premium'!J$34","v":0}]
[null,1111167456,171843,"Brit Premium Cat by Nature Adult Chicken д/дорослих котів курка 300г","Більше 100","Корм сухий для котів",97.98,128,{"$f":"'Brit Premium'!I$35","v":0},{"$f":"'Brit Premium'!J$35","v":0}]
[null,1111167459,171867,"Brit Premium Cat by Nature Adult Chicken д/дорослих котів курка 8кг","Більше 100","Корм сухий для котів",1547.94,2013,{"$f":"'Brit Premium'!I$36","v":0},{"$f":"'Brit Premium'!J$36","v":0}]
[null,1111167457,171851,"Brit Premium Cat by Nature Adult Chicken д/дорослих/котів курка 800г","Більше 10","Корм сухий для котів",189.6,247,{"$f":"'Brit Premium'!I$37","v":0},{"$f":"'Brit Premium'!J$37","v":0}]
[null,1111167460,171844,"Brit Premium Cat by Nature Adult Salmon д/дорослих котів лосось 300г","Більше 100","Корм сухий для котів",101.16,132,{"$f":"'Brit Premium'!I$38","v":0},{"$f":"'Brit Premium'!J$38","v":0}]
[null,1111167461,171852,"Brit Premium Cat by Nature Adult Salmon д/дорослих котів лосось 800кг","Менше 10","Корм сухий для котів",192.03,251,{"$f":"'Brit Premium'!I$39","v":0},{"$f":"'Brit Premium'!J$39","v":0}]
[null,1111167463,171868,"Brit Premium Cat by Nature Adult Salmon д/дорослих котів лосось 8кг","Більше 100","Корм сухий для котів",1629.06,2119,{"$f":"'Brit Premium'!I$40","v":0},{"$f":"'Brit Premium'!J$40","v":0}]
[null,1111167462,171860,"Brit Premium Cat by Nature Adult Salmon д/дорослих/котів лосось 1,5кг","Більше 100","Корм сухий для котів",320.27999999999997,417,{"$f":"'Brit Premium'!I$41","v":0},{"$f":"'Brit Premium'!J$41","v":0}]
[null,1111167466,171861,"Brit Premium Cat by Nature Indoor д/доросл/домашніх котів курица 1,5кг","Більше 100","Корм сухий для котів",304.68,397,{"$f":"'Brit Premium'!I$42","v":0},{"$f":"'Brit Premium'!J$42","v":0}]
[null,1111167464,171845,"Brit Premium Cat by Nature Indoor д/дорослих/домашніх котів курка 300г","Більше 100","Корм сухий для котів",91.75,121,{"$f":"'Brit Premium'!I$43","v":0},{"$f":"'Brit Premium'!J$43","v":0}]
[null,1111167465,171853,"Brit Premium Cat by Nature Indoor д/дорослих/домашніх котів курка 800г","Більше 10","Корм сухий для котів",180.59,235,{"$f":"'Brit Premium'!I$44","v":0},{"$f":"'Brit Premium'!J$44","v":0}]
[null,1111167467,171869,"Brit Premium Cat by Nature Indoor д/дорослих/домашніх котів курка 8кг","Менше 10","Корм сухий для котів",1547.94,2013,{"$f":"'Brit Premium'!I$45","v":0},{"$f":"'Brit Premium'!J$45","v":0}]
[null,1111142141,"100273 /506019","Brit Premium Cat ChickenandTurkey pouch д/котів курка/індичка 100г","Більше 100","Корм вологий для котів",24.6,32,{"$f":"'Brit Premium'!I$46","v":0},{"$f":"'Brit Premium'!J$46","v":0}]
[null,1111142140,"100272 /506002","Brit Premium Cat Cod Fish pouch для котів з тріскою 100 г","Більше 100","Корм вологий для котів",24.6,32,{"$f":"'Brit Premium'!I$47","v":0},{"$f":"'Brit Premium'!J$47","v":0}]
[null,1111142415,"100276 /506248","Brit Premium Cat Fish Plate pouches набір д/кот тріск/лос/фор 100г/4шт","Більше 10","Корм вологий для котів",99.12,125,{"$f":"'Brit Premium'!I$48","v":0},{"$f":"'Brit Premium'!J$48","v":0}]
[null,1111142142,"100274 /506026","Brit Premium Cat Kitten Chicken Chunks pouch д/кошенят курка 100г","Більше 100","Корм вологий для котів",24.6,32,{"$f":"'Brit Premium'!I$49","v":0},{"$f":"'Brit Premium'!J$49","v":0}]
[null,1111142144,"100277 /506262","Brit Premium Cat Meat Plate pouches набір паучів д/котів 4шт х 100г","Більше 100","Корм вологий для котів",99.12,125,{"$f":"'Brit Premium'!I$50","v":0},{"$f":"'Brit Premium'!J$50","v":0}]
[null,1111178695,111832,"Brit Premium Cat pouch 100 g печінка для стерилізованих котів","Більше 100","Корм вологий для котів",24.6,32,{"$f":"'Brit Premium'!I$51","v":0},{"$f":"'Brit Premium'!J$51","v":0}]
[null,1111178694,111831,"Brit Premium Cat pouch 100 g ягнятина для стерилізованих котів","Більше 100","Корм вологий для котів",24.6,32,{"$f":"'Brit Premium'!I$52","v":0},{"$f":"'Brit Premium'!J$52","v":0}]
[null,1111178696,111833,"Brit Premium Cat pouch 100г лосось для стерилізованих котів","Більше 100","Корм вологий для котів",24.6,32,{"$f":"'Brit Premium'!I$53","v":0},{"$f":"'Brit Premium'!J$53","v":0}]
[null,1111142143,"100275 /506033","Brit Premium Cat Sterilised Chicken Slices pouch д/стер кот курка 100г","Більше 100","Корм вологий для котів",24.6,32,{"$f":"'Brit Premium'!I$54","v":0},{"$f":"'Brit Premium'!J$54","v":0}]
[null,1111178697,111834,"Brit Premium Cat Набір паучів д/стерилізованих котів 4 смаки 100gх12шт","Більше 10","Корм вологий для котів",294.06,369,{"$f":"'Brit Premium'!I$55","v":0},{"$f":"'Brit Premium'!J$55","v":0}]
[null,1111196080,112284,"Brit Premium Dental Snacks L ласощі д/cобак вел.порід з колагеном 250г","Більше 10","Ласощі для собак",148.86000000000001,186,{"$f":"'Brit Premium'!I$56","v":0},{"$f":"'Brit Premium'!J$56","v":0}]
[null,1111196079,112283,"Brit Premium Dental Snacks M ласощі д/cобак сер.порід з колагеном 180г","Більше 100","Ласощі для собак",135.24,169,{"$f":"'Brit Premium'!I$57","v":0},{"$f":"'Brit Premium'!J$57","v":0}]
[null,1111150965,"170827/6468","Brit Premium Dog Adult L д/дор собак великих порід з куркою 15кг","Більше 100","Корм сухий для собак",1767.66,2299,{"$f":"'Brit Premium'!I$58","v":0},{"$f":"'Brit Premium'!J$58","v":0}]
[null,1111150963,"170825/6444","Brit Premium Dog Adult L д/дор собак великих порід з куркою 3кг","Більше 10","Корм сухий для собак",422.17,549,{"$f":"'Brit Premium'!I$59","v":0},{"$f":"'Brit Premium'!J$59","v":0}]
[null,1111150964,"170826/6451","Brit Premium Dog Adult L д/собак вел порід вагою 25-45кг курка 8кг","Більше 100","Корм сухий для собак",883.81,1149,{"$f":"'Brit Premium'!I$60","v":0},{"$f":"'Brit Premium'!J$60","v":0}]
[null,1111150954,"170816/6352","Brit Premium Dog Adult M д/дор собак середніх порід з куркою 3кг","Більше 100","Корм сухий для собак",403.5,525,{"$f":"'Brit Premium'!I$61","v":0},{"$f":"'Brit Premium'!J$61","v":0}]
[null,1111150956,"170818/6376","Brit Premium Dog Adult M д/дор собак середніх порід курка 15кг","Більше 100","Корм сухий для собак",1615.14,2099,{"$f":"'Brit Premium'!I$62","v":0},{"$f":"'Brit Premium'!J$62","v":0}]
[null,1111150953,"170815/6345","Brit Premium Dog Adult M д/собак сер порід вагою 10-25кг курка 1кг","Більше 100","Корм сухий для собак",190.4,248,{"$f":"'Brit Premium'!I$63","v":0},{"$f":"'Brit Premium'!J$63","v":0}]
[null,1111150955,"170817/6369","Brit Premium Dog Adult M д/собак сер порід вагою 10-25кг курка 8кг","Більше 100","Корм сухий для собак",845.12,1099,{"$f":"'Brit Premium'!I$64","v":0},{"$f":"'Brit Premium'!J$64","v":0}]
[null,1111150947,"170809/6284","Brit Premium Dog Adult S д/собак дрібн порід вагою 1-10кг курка 1кг","Більше 100","Корм сухий для собак",250.08,326,{"$f":"'Brit Premium'!I$65","v":0},{"$f":"'Brit Premium'!J$65","v":0}]
[null,1111150948,"170810/6291","Brit Premium Dog Adult S д/собак дрібн порід вагою 1-10кг курка 3кг","Більше 10","Корм сухий для собак",534.48,695,{"$f":"'Brit Premium'!I$66","v":0},{"$f":"'Brit Premium'!J$66","v":0}]
[null,1111150949,"170811/6307","Brit Premium Dog Adult S д/собак дрібн порід вагою 1-10кг курка 8кг","Більше 100","Корм сухий для собак",1296.54,1679,{"$f":"'Brit Premium'!I$67","v":0},{"$f":"'Brit Premium'!J$67","v":0}]
[null,1111150973,"170833/6529","Brit Premium Dog Adult XL д/собак гіган порід вагою 45-90кг курка 15кг","Більше 100","Корм сухий для собак",2075.04,2699,{"$f":"'Brit Premium'!I$68","v":0},{"$f":"'Brit Premium'!J$68","v":0}]
[null,1111150972,"170832/6512","Brit Premium Dog Adult XL д/собак гігант порід 45-90кг з куркою 3кг","Більше 10","Корм сухий для собак",515.82000000000005,672,{"$f":"'Brit Premium'!I$69","v":0},{"$f":"'Brit Premium'!J$69","v":0}]
[null,1111150962,"170824/6437","Brit Premium Dog Junior L д/цуцен/мол соб вел порід 25-45кг курка 15кг","Більше 100","Корм сухий для собак",1917.54,2399,{"$f":"'Brit Premium'!I$70","v":0},{"$f":"'Brit Premium'!J$70","v":0}]
[null,1111150961,"170823/6420","Brit Premium Dog Junior L д/цуцен/мол соб вел порід 25-45кг курка 3кг","Більше 10","Корм сухий для собак",469.88,612,{"$f":"'Brit Premium'!I$71","v":0},{"$f":"'Brit Premium'!J$71","v":0}]
[null,1111150952,"170814/6338","Brit Premium Dog Junior M д/цуц і молод соб середніх порід курка 15кг","Більше 10","Корм сухий для собак",1998.78,2499,{"$f":"'Brit Premium'!I$72","v":0},{"$f":"'Brit Premium'!J$72","v":0}]
[null,1111150950,"170812/6314","Brit Premium Dog Junior M д/цуцен і молодих соб середн порід курка 1кг","Більше 10","Корм сухий для собак",186.92,245,{"$f":"'Brit Premium'!I$73","v":0},{"$f":"'Brit Premium'!J$73","v":0}]
[null,1111150951,"170813/6321","Brit Premium Dog Junior M д/цуцен/мол соб сер порід 10-25кг курка 3кг","Більше 10","Корм сухий для собак",486.87,634,{"$f":"'Brit Premium'!I$74","v":0},{"$f":"'Brit Premium'!J$74","v":0}]
[null,1111150946,"170805/6246","Brit Premium Dog Junior S д/мол соб дрібн пор 1-12міс 1-10кг курка 8кг","Менше 10","Корм сухий для собак",1158.43,1499,{"$f":"'Brit Premium'!I$75","v":0},{"$f":"'Brit Premium'!J$75","v":0}]
[null,1111150971,"170831/6505","Brit Premium Dog Junior XL д/цуц і мол соб гігант 45-90кг курка 15кг","Менше 10","Корм сухий для собак",2074.92,2699,{"$f":"'Brit Premium'!I$76","v":0},{"$f":"'Brit Premium'!J$76","v":0}]
[null,1111150945,"170807/6260","Brit Premium Dog JuniorS д/мол соб дріб порід 1-12міс 1-10кг курка 3кг","Більше 10","Корм сухий для собак",556.05999999999995,723,{"$f":"'Brit Premium'!I$77","v":0},{"$f":"'Brit Premium'!J$77","v":0}]
[null,1111150968,"170830/6499","Brit Premium Dog JuniorXL д/цуц і мол соб гігант пор 45-90кг курка 3кг","Менше 10","Корм сухий для собак",491.28,640,{"$f":"'Brit Premium'!I$78","v":0},{"$f":"'Brit Premium'!J$78","v":0}]
[null,1111150975,"170841/6604","Brit Premium Dog Light д/собак з надмірною вагою з індичкою 15кг","Більше 100","Корм сухий для собак",1538.16,1999,{"$f":"'Brit Premium'!I$79","v":0},{"$f":"'Brit Premium'!J$79","v":0}]
[null,1111150974,"170839/6581","Brit Premium Dog Light д/собак з надмірною вагою з індичкою 3кг","Більше 10","Корм сухий для собак",431.34,562,{"$f":"'Brit Premium'!I$80","v":0},{"$f":"'Brit Premium'!J$80","v":0}]
[null,1111150967,"170829/6482","Brit Premium Dog Senior L+XL д/соб похил віку вел/гіган пор курка 15кг","Менше 10","Корм сухий для собак",2151.7800000000002,2799,{"$f":"'Brit Premium'!I$81","v":0},{"$f":"'Brit Premium'!J$81","v":0}]
[null,1111150958,"170820/6390","Brit Premium Dog Senior S+M д/собак дрібн/сер порід 1-25кг курка 3кг","Більше 10","Корм сухий для собак",447.63,582,{"$f":"'Brit Premium'!I$82","v":0},{"$f":"'Brit Premium'!J$82","v":0}]
[null,1111150976,"170842/6611","Brit Premium Dog Sensitive Lamb д/собак з чутливим травленням ягня 1кг","Більше 100","Корм сухий для собак",200.73,260,{"$f":"'Brit Premium'!I$83","v":0},{"$f":"'Brit Premium'!J$83","v":0}]
[null,1111150977,"170843/6628","Brit Premium Dog Sensitive Lamb д/собак з чутливим травленням ягня 3кг","Більше 100","Корм сухий для собак",648.96,844,{"$f":"'Brit Premium'!I$84","v":0},{"$f":"'Brit Premium'!J$84","v":0}]
[null,1111150979,"170845/6642","Brit Premium Dog Sensitive Lamb д/собак чутливе травлення з ягням 15кг","Більше 100","Корм сухий для собак",2691,3499,{"$f":"'Brit Premium'!I$85","v":0},{"$f":"'Brit Premium'!J$85","v":0}]
[null,1111150981,"170848/6673","Brit Premium Dog Sport д/собак з високими витратами енергії курка 15кг","Більше 100","Корм сухий для собак",1845.24,2399,{"$f":"'Brit Premium'!I$86","v":0},{"$f":"'Brit Premium'!J$86","v":0}]
[null,1111150980,"170847/6666","Brit Premium Dog Sport д/собак з високими витратами енергії курка 3кг","Більше 10","Корм сухий для собак",537.6,699,{"$f":"'Brit Premium'!I$87","v":0},{"$f":"'Brit Premium'!J$87","v":0}]
[null,1111185861,101242,"Brit Premium Fillets in Gravy Beef д/соб мал порід яловичина 85г","Більше 100","Корм вологий для собак",31.2,39,{"$f":"'Brit Premium'!I$88","v":0},{"$f":"'Brit Premium'!J$88","v":0}]
[null,1111185851,"101135*****","Brit Premium Fillets in Gravy Chicken д/кошенят філе в соусі курка 85г","Більше 10","Корм вологий для котів",33.18,42,{"$f":"'Brit Premium'!I$89","v":0},{"$f":"'Brit Premium'!J$89","v":0}]
[null,1111185860,101241,"Brit Premium Fillets in Gravy Chicken д/соб мал порід курка 85г","Більше 100","Корм вологий для собак",31.2,39,{"$f":"'Brit Premium'!I$90","v":0},{"$f":"'Brit Premium'!J$90","v":0}]
[null,1111185858,"101144*****","Brit Premium Fillets in Gravy Duck д/стерил котів в соусі качка 85г","Більше 10","Корм вологий для котів",33.18,42,{"$f":"'Brit Premium'!I$91","v":0},{"$f":"'Brit Premium'!J$91","v":0}]
[null,1111185850,"101134*****","Brit Premium Fillets in Gravy Family Plate д/котів 12шт x 85г","Більше 10","Корм вологий для котів",345.9,439,{"$f":"'Brit Premium'!I$92","v":0},{"$f":"'Brit Premium'!J$92","v":0}]
[null,1111185863,101244,"Brit Premium Fillets in Gravy Lamb д/соб мал порід ягня 85г","Більше 100","Корм вологий для собак",31.2,39,{"$f":"'Brit Premium'!I$93","v":0},{"$f":"'Brit Premium'!J$93","v":0}]
[null,1111185857,101143,"Brit Premium Fillets in Gravy Lamb д/стерил котів в соусі ягня 85г","Більше 100","Корм вологий для котів",33.18,42,{"$f":"'Brit Premium'!I$94","v":0},{"$f":"'Brit Premium'!J$94","v":0}]
[null,1111185864,101245,"Brit Premium Fillets in Gravy Multipack д/соб мал порід 12шт х 85г","Більше 10","Корм вологий для собак",374.4,468,{"$f":"'Brit Premium'!I$95","v":0},{"$f":"'Brit Premium'!J$95","v":0}]
[null,1111185855,101141,"Brit Premium Fillets in Gravy Salmon д/стерил котів в соусі лосось 85г","Більше 10","Корм вологий для котів",33.18,42,{"$f":"'Brit Premium'!I$96","v":0},{"$f":"'Brit Premium'!J$96","v":0}]
[null,1111185849,"101132*****","Brit Premium Fillets in Gravy Tuna д/котів філе в соусі тунець 85г","Більше 100","Корм вологий для котів",33.18,42,{"$f":"'Brit Premium'!I$97","v":0},{"$f":"'Brit Premium'!J$97","v":0}]
[null,1111185848,"101131*****","Brit Premium Fillets in Gravy Turkey д/котів філе в соусі індичка 85г","Більше 100","Корм вологий для котів",33.18,42,{"$f":"'Brit Premium'!I$98","v":0},{"$f":"'Brit Premium'!J$98","v":0}]
[null,1111185862,101243,"Brit Premium Fillets in Gravy Turkey д/цуценят мал порід індичка 85г","Більше 100","Корм вологий для собак",31.2,39,{"$f":"'Brit Premium'!I$99","v":0},{"$f":"'Brit Premium'!J$99","v":0}]
[null,1111185852,"101136*****","Brit Premium Fillets in Jelly Chicken д/котів філе в желе курка 85г","Більше 100","Корм вологий для котів",33.18,42,{"$f":"'Brit Premium'!I$100","v":0},{"$f":"'Brit Premium'!J$100","v":0}]
[null,1111185854,"101140*****","Brit Premium Fillets in Jelly Family Plate д/котів 12шт x 85г","Більше 100","Корм вологий для котів",345.9,439,{"$f":"'Brit Premium'!I$101","v":0},{"$f":"'Brit Premium'!J$101","v":0}]
[null,1111185853,"101138*****","Brit Premium Fillets in Jelly Salmon д/котів філе в желе лосось 85г","Більше 100","Корм вологий для котів",33.18,42,{"$f":"'Brit Premium'!I$102","v":0},{"$f":"'Brit Premium'!J$102","v":0}]
[null,1111142139,"100271 /505999","Brit Premium SalmonandTrout pouch д/котів з лососем та фореллю 100г","Більше 100","Корм вологий для котів",24.6,32,{"$f":"'Brit Premium'!I$103","v":0},{"$f":"'Brit Premium'!J$103","v":0}]
[null,1111196076,112280,"Brit Premium Snacks Beef ласощі д/cобак яловичина і яблука 180г","Більше 100","Ласощі для собак",135.24,169,{"$f":"'Brit Premium'!I$104","v":0},{"$f":"'Brit Premium'!J$104","v":0}]
[null,1111196075,112279,"Brit Premium Snacks Chicken ласощі д/cобак курка і малина 180г","Більше 10","Ласощі для собак",135.24,169,{"$f":"'Brit Premium'!I$105","v":0},{"$f":"'Brit Premium'!J$105","v":0}]
[null,1111196078,112282,"Brit Premium Snacks Lamb ласощі д/cобак ягням і обліпиха 180г","Більше 100","Ласощі для собак",135.24,169,{"$f":"'Brit Premium'!I$106","v":0},{"$f":"'Brit Premium'!J$106","v":0}]
[null,1111196077,112281,"Brit Premium Snacks Salmon ласощі д/cобак лосось і кроп 180г","Більше 10","Ласощі для собак",135.24,169,{"$f":"'Brit Premium'!I$107","v":0},{"$f":"'Brit Premium'!J$107","v":0}]
[null,1111178698,111835,"Brit Premium White fish for Kitten 100г біла риба для кошенят","Більше 100","Корм вологий для котів",24.6,32,{"$f":"'Brit Premium'!I$108","v":0},{"$f":"'Brit Premium'!J$108","v":0}]
[null,1111208144,171849,"БЕЗ ТЕРМ. Корм сухий Brit Premium by Nature Cat Sensitive для котів із","Менше 10","Корм сухий для котів",50.58,0,{"$f":"'Brit Premium'!I$109","v":0},{"$f":"'Brit Premium'!J$109","v":0}]
[null,1111204591,171847,"ТЕРМ 04.26 ПОРВ Brit Premium by Nature Cat Sterilized Lamb кот ягня 30","Менше 10","Корм сухий для котів",49.02,0,{"$f":"'Brit Premium'!I$110","v":0},{"$f":"'Brit Premium'!J$110","v":0}]
[null,1111206407,171844,"ТЕРМ 09.25 Brit Premium Cat by Nature Adult Salmon дор/кот лосось 300г","Менше 10","Корм сухий для котів",49.02,0,{"$f":"'Brit Premium'!I$111","v":0},{"$f":"'Brit Premium'!J$111","v":0}]
[null,1111208522,"100270 /505982","ТЕРМ 10.25 Brit Premium Cat Beef StewandPeas pouch ялович/горошок 100г","Менше 10","Корм вологий для котів",12.3,0,{"$f":"'Brit Premium'!I$112","v":0},{"$f":"'Brit Premium'!J$112","v":0}]
[null,1111205619,171845,"ТЕРМ 10.25 Brit Premium Cat by Nature Indoor дор/домаш/кот курка 300","Більше 10","Корм сухий для котів",45.9,0,{"$f":"'Brit Premium'!I$113","v":0},{"$f":"'Brit Premium'!J$113","v":0}]
[null,1111206783,"111250/524*****","ТЕРМ 10.25 Brit Premium Cat Chicken Fillets Gravy pouch курка/соус 85г","Більше 10","Корм вологий для котів",15.12,0,{"$f":"'Brit Premium'!I$114","v":0},{"$f":"'Brit Premium'!J$114","v":0}]
[null,1111206784,"111240/463*****","ТЕРМ 10.25 Brit Premium Cat Chicken Fillets Jelly pouch курка желе 85г","Більше 10","Корм вологий для котів",15.12,0,{"$f":"'Brit Premium'!I$115","v":0},{"$f":"'Brit Premium'!J$115","v":0}]
[null,1111205748,"111242/487*****","ТЕРМ 10.25 Brit Premium Cat Salmon Fillets Jelly pouch лосось желе 85г","Більше 10","Корм вологий для котів",15.12,0,{"$f":"'Brit Premium'!I$116","v":0},{"$f":"'Brit Premium'!J$116","v":0}]
[null,1111207452,171844,"ТЕРМ 12.25 Brit Premium Cat by Nature Adult Salmon дор/кот лосось 300г","Менше 10","Корм сухий для котів",50.58,0,{"$f":"'Brit Premium'!I$117","v":0},{"$f":"'Brit Premium'!J$117","v":0}]
[null,1111207106,171849,"ТЕРМ. 05.26, ПОРВ. Корм сухий Brit Premium by Nature Cat Sensitive для","Менше 10","Корм сухий для котів",50.58,0,{"$f":"'Brit Premium'!I$118","v":0},{"$f":"'Brit Premium'!J$118","v":0}]
[null,1111203816,111831,"ТЕРМ. 08.25 Brit Premium Cat pouch 100g ягнятин д/стерилізованих котів","Більше 100","Корм вологий для котів",12.3,0,{"$f":"'Brit Premium'!I$119","v":0},{"$f":"'Brit Premium'!J$119","v":0}]
[null,1111205620,171849,"ТЕРМ. 09.25 Brit Premium by Nature Cat Sensitive чут/трав ягн 300г","Менше 10","Корм сухий для котів",49.02,0,{"$f":"'Brit Premium'!I$120","v":0},{"$f":"'Brit Premium'!J$120","v":0}]
[null,1111204882,171847,"ТЕРМ. 09.25 Brit Premium by Nature Cat Sterilized Lamb кот ягня 300г","Менше 10","Корм сухий для котів",49.02,0,{"$f":"'Brit Premium'!I$121","v":0},{"$f":"'Brit Premium'!J$121","v":0}]
[null,1111206791,"170813/6321","ТЕРМ. 09.25 Brit Premium Dog Junior M цуц/мол/соб/сер 10-25кг курк 3кг","Менше 10","Корм сухий для собак",243.48,0,{"$f":"'Brit Premium'!I$122","v":0},{"$f":"'Brit Premium'!J$122","v":0}]
[null,1111205383,171843,"ТЕРМ. 10.25 Brit Premium Cat by Nature Adult Chicken дор/кот курк 300г","Більше 100","Корм сухий для котів",49.02,0,{"$f":"'Brit Premium'!I$123","v":0},{"$f":"'Brit Premium'!J$123","v":0}]
[null,1111205747,"111252/548*****","ТЕРМ. 10.25 Brit Premium Cat Tuna Fillets Gravy pouch тунець/соус 85г","Більше 10","Корм вологий для котів",15.12,0,{"$f":"'Brit Premium'!I$124","v":0},{"$f":"'Brit Premium'!J$124","v":0}]
[null,1111206129,"170825/6444","ТЕРМ. 10.25 Brit Premium Dog Adult L дор/собак/великих курка 3кг","Менше 10","Корм сухий для собак",211.14,0,{"$f":"'Brit Premium'!I$125","v":0},{"$f":"'Brit Premium'!J$125","v":0}]
[null,1111205617,"170812/6314","ТЕРМ. 10.25 Brit Premium Dog Junior M цуцен/молод.соб/середн курка 1кг","Менше 10","Корм сухий для собак",93.48,0,{"$f":"'Brit Premium'!I$126","v":0},{"$f":"'Brit Premium'!J$126","v":0}]
[null,1111205618,171846,"ТЕРМ. 10.25 Корм сухий Brit Premium by Nature Cat Sterilised для стери","Менше 10","Корм сухий для котів",49.02,0,{"$f":"'Brit Premium'!I$127","v":0},{"$f":"'Brit Premium'!J$127","v":0}]
[null,1111208439,171847,"ТЕРМ. 10.25 Корм сухий Brit Premium by Nature Cat Sterilized Lamb для ","Менше 10","Корм сухий для котів",49.92,0,{"$f":"'Brit Premium'!I$128","v":0},{"$f":"'Brit Premium'!J$128","v":0}]
[null,1111208475,"170833/6529","ТЕРМ. 10.25, Brit Premium Dog Adult XL д/порід 45-90кг курка 15кг","Немає в наявності","Корм сухий для собак",1037.52,0,{"$f":"'Brit Premium'!I$129","v":0},{"$f":"'Brit Premium'!J$129","v":0}]
[null,1111207456,"170832/6512","ТЕРМ. 12.25 Brit Premium Dog Adult XL д/собак/гігант 45-90кг курка 3кг","Менше 10","Корм сухий для собак",257.94,0,{"$f":"'Brit Premium'!I$130","v":0},{"$f":"'Brit Premium'!J$130","v":0}]
[null,1111205841,171847,"ТЕРМ.11.25.ПОРВ.Корм сухий Brit Premium by Nature Cat Sterilized Lamb ","Менше 10","Корм сухий для котів",30,0,{"$f":"'Brit Premium'!I$131","v":0},{"$f":"'Brit Premium'!J$131","v":0}]
[null,1111204496,"100713/9863","01.28 БЕЗ ЕТ Brit VetDiets Cat Str конс д/кот при сечм_ян/хв 200г","Менше 10","Ветеринарна дієта для котів",41.94,0,{"$f":"'Brit VetDiets'!I$8","v":0},{"$f":"'Brit VetDiets'!J$8","v":0}]
[null,1111184988,"101115_1*****","Brit GF VD Care Sterilised для котів з лососем 85 г","Більше 100","Корм вологий для котів",53.1,66,{"$f":"'Brit VetDiets'!I$9","v":0},{"$f":"'Brit VetDiets'!J$9","v":0}]
[null,1111152755,"170969/528523","Brit GF VetDiet Cat Diabetes д/котів цукровий/діабет курка/горох 2кг","Більше 10","Корм сухий для котів",747.36,972,{"$f":"'Brit VetDiets'!I$10","v":0},{"$f":"'Brit VetDiets'!J$10","v":0}]
[null,1111152751,"170963/528424","Brit GF VetDiet Cat Gastrointestinal д/котів оселедець/лосось 2кг","Більше 100","Корм сухий для котів",831.12,1080,{"$f":"'Brit VetDiets'!I$11","v":0},{"$f":"'Brit VetDiets'!J$11","v":0}]
[null,1111152748,"170958/528332","Brit GF VetDiet Cat Renal д/котів захворювання/нирок яйце/горох 400г","Більше 100","Корм сухий для котів",217.02,281,{"$f":"'Brit VetDiets'!I$12","v":0},{"$f":"'Brit VetDiets'!J$12","v":0}]
[null,1111151944,"170943/8103","Brit GF VetDiet Dog Diabetes д/собак цукровий/діабет індичка/горох 2кг","Більше 10","Корм сухий для собак",629.70000000000005,819,{"$f":"'Brit VetDiets'!I$13","v":0},{"$f":"'Brit VetDiets'!J$13","v":0}]
[null,1111151946,"170945/8134","Brit GF VetDiet Dog Gastrointestinal д/собак поруш/травл осел/лос 2кг","Більше 100","Корм сухий для собак",670.44,872,{"$f":"'Brit VetDiets'!I$14","v":0},{"$f":"'Brit VetDiets'!J$14","v":0}]
[null,1111151935,"170952/528240","Brit GF VetDiet Dog Mobility д/собак здор/суглобів оселед/лосось 12кг","Менше 10","Корм сухий для собак",3999.72,5200,{"$f":"'Brit VetDiets'!I$15","v":0},{"$f":"'Brit VetDiets'!J$15","v":0}]
[null,1111151937,"170940/8066","Brit GF VetDiet Dog Obesity д/собак корекція/ваги ягня/індичка 12кг","Більше 10","Корм сухий для собак",3517.74,4573,{"$f":"'Brit VetDiets'!I$16","v":0},{"$f":"'Brit VetDiets'!J$16","v":0}]
[null,1111151938,"170941/8073","Brit GF VetDiet Dog Obesity д/собак корекція/ваги ягня/індичка 2кг","Більше 10","Корм сухий для собак",676.32,880,{"$f":"'Brit VetDiets'!I$17","v":0},{"$f":"'Brit VetDiets'!J$17","v":0}]
[null,1111151940,"170949/8196","Brit GF VetDiet Dog Renal д/собак ниркова/недостат яйце/горох 2кг","Більше 10","Корм сухий для собак",635.52,826,{"$f":"'Brit VetDiets'!I$18","v":0},{"$f":"'Brit VetDiets'!J$18","v":0}]
[null,1111151939,"170948/528189","Brit GF VetDiet Dog Renal д/собак ниркова/недостатн яйце/горох 12кг","Менше 10","Корм сухий для собак",3263.1,4244,{"$f":"'Brit VetDiets'!I$19","v":0},{"$f":"'Brit VetDiets'!J$19","v":0}]
[null,1111151941,"170950/528219","Brit GF VetDiet Dog Struvite д/собак сечокам/хвороба яйце/індичка 12кг","Більше 10","Корм сухий для собак",3286.44,4273,{"$f":"'Brit VetDiets'!I$20","v":0},{"$f":"'Brit VetDiets'!J$20","v":0}]
[null,1111151942,"170951/8226","Brit GF VetDiet Dog Struvite д/собак сечокам/хвороба яйце/індичка 2кг","Більше 10","Корм сухий для собак",637.44000000000005,830,{"$f":"'Brit VetDiets'!I$21","v":0},{"$f":"'Brit VetDiets'!J$21","v":0}]
[null,1111151949,"170938/8035","Brit GF VetDiet д/собак харчова/алергія лосось/горох 12кг","Більше 10","Корм сухий для собак",3733.44,4854,{"$f":"'Brit VetDiets'!I$22","v":0},{"$f":"'Brit VetDiets'!J$22","v":0}]
[null,1111152749,"170960/528370","Brit Grain Free VetDiet Cat Hypoallergenic д/котів лосось/горох 2кг","Більше 100","Корм сухий для котів",747.3,972,{"$f":"'Brit VetDiets'!I$23","v":0},{"$f":"'Brit VetDiets'!J$23","v":0}]
[null,1111152750,"170961/528387","Brit Grain Free VetDiet Cat Hypoallergenic д/котів лосось/горох 400г","Менше 10","Корм сухий для котів",200.76,260,{"$f":"'Brit VetDiets'!I$24","v":0},{"$f":"'Brit VetDiets'!J$24","v":0}]
[null,1111152747,"170957/528325","Brit Grain Free VetDiet Cat Renal д/котів захвор/нирок яйце/горох 2кг","Більше 10","Корм сухий для котів",830.34,1080,{"$f":"'Brit VetDiets'!I$25","v":0},{"$f":"'Brit VetDiets'!J$25","v":0}]
[null,1111152745,"170954/528271","Brit Grain Free VetDiet Cat Struvite д/котів сеч/хвор курка/горох 2кг","Більше 100","Корм сухий для котів",712.38,926,{"$f":"'Brit VetDiets'!I$26","v":0},{"$f":"'Brit VetDiets'!J$26","v":0}]
[null,1111152746,"170955/528288","Brit Grain Free VetDiet Cat Struvite д/котів сечокам_я/хвор курка 400г","Більше 100","Корм сухий для котів",187.62,243,{"$f":"'Brit VetDiets'!I$27","v":0},{"$f":"'Brit VetDiets'!J$27","v":0}]
[null,1111151950,"170939/8042","Brit Grain Free VetDiet Dog Hypoallergenic д/собак лосось/горох 2кг","Більше 100","Корм сухий для собак",713.28,928,{"$f":"'Brit VetDiets'!I$28","v":0},{"$f":"'Brit VetDiets'!J$28","v":0}]
[null,1111151945,"170944/528127","Brit Grain Free VetDiet д/собак порушен/травлен оселедець/лосось 12кг","Більше 10","Корм сухий для собак",3478.86,4523,{"$f":"'Brit VetDiets'!I$29","v":0},{"$f":"'Brit VetDiets'!J$29","v":0}]
[null,1111151947,"170946/528158","Brit Grain Free VetDiet д/собак хвороба/печінки яйце/горох 12кг","Більше 10","Корм сухий для собак",3439.92,4473,{"$f":"'Brit VetDiets'!I$30","v":0},{"$f":"'Brit VetDiets'!J$30","v":0}]
[null,1111151948,"170947/8165","Brit Grain Free VetDiet д/собак хвороба/печінки яйце/горох 2кг","Більше 10","Корм сухий для собак",662.7,863,{"$f":"'Brit VetDiets'!I$31","v":0},{"$f":"'Brit VetDiets'!J$31","v":0}]
[null,1111151943,"170942/528097","Brit Grain Free VetDiet д/собак цукровий/діабет індичка/горох 12кг","Більше 10","Корм сухий для собак",3234,4203,{"$f":"'Brit VetDiets'!I$32","v":0},{"$f":"'Brit VetDiets'!J$32","v":0}]
[null,1111152753,"170966/528479","Brit VetDiet Cat Obesity д/котів зайва/вага/ожиріння курка/горох 2кг","Більше 10","Корм сухий для котів",747.36,972,{"$f":"'Brit VetDiets'!I$33","v":0},{"$f":"'Brit VetDiets'!J$33","v":0}]
[null,1111151936,"170953/8257","Brit VetDiet Dog Mobility д/собак здор_я/суглоб оселедець/лосось 2 кг","Більше 10","Корм сухий для собак",756,984,{"$f":"'Brit VetDiets'!I$34","v":0},{"$f":"'Brit VetDiets'!J$34","v":0}]
[null,1111168652,100710,"Brit VetDiets Cat Diabetes консерви д/котів із цукровим діабетом 200г","Більше 100","Ветеринарна дієта для котів",106.86,135,{"$f":"'Brit VetDiets'!I$35","v":0},{"$f":"'Brit VetDiets'!J$35","v":0}]
[null,1111169971,100712,"Brit VetDiets Cat Gastrointestinal консерви д/кот при захвор/ШКТ 200г","Більше 100","Ветеринарна дієта для котів",83.88,106,{"$f":"'Brit VetDiets'!I$36","v":0},{"$f":"'Brit VetDiets'!J$36","v":0}]
[null,1111168651,100711,"Brit VetDiets Cat Obesity консерви д/котів при надмірній вазі 200г","Менше 10","Ветеринарна дієта для котів",106.86,135,{"$f":"'Brit VetDiets'!I$37","v":0},{"$f":"'Brit VetDiets'!J$37","v":0}]
[null,1111166665,"100714/9870","Brit VetDiets Cat Renal консерви д/котів з нирков/недостатністю 200г","Більше 100","Ветеринарна дієта для котів",84.84,106,{"$f":"'Brit VetDiets'!I$38","v":0},{"$f":"'Brit VetDiets'!J$38","v":0}]
[null,1111166664,"100713/9863","Brit VetDiets Cat Struvite консерви д/котів при сечокам_ян/хвороб 200г","Більше 100","Ветеринарна дієта для котів",83.88,106,{"$f":"'Brit VetDiets'!I$39","v":0},{"$f":"'Brit VetDiets'!J$39","v":0}]
[null,1111168806,100287,"Brit VetDiets Dog Gastrointestinal консерви д/соб при захвор/ШКТ 400г","Більше 100","Ветеринарні дієти для собак",178.98,232,{"$f":"'Brit VetDiets'!I$40","v":0},{"$f":"'Brit VetDiets'!J$40","v":0}]
[null,1111166669,"100275/6030","Brit VetDiets Dog Hepatic консерви д/собак із захворюван/печінки 400г","Більше 100","Ветеринарні дієти для собак",178.98,232,{"$f":"'Brit VetDiets'!I$41","v":0},{"$f":"'Brit VetDiets'!J$41","v":0}]
[null,1111166668,"100271/5996","Brit VetDiets Dog Joint Mobility консерви д/собак здоров_я суглоб 400г","Менше 10","Ветеринарні дієти для собак",178.98,232,{"$f":"'Brit VetDiets'!I$42","v":0},{"$f":"'Brit VetDiets'!J$42","v":0}]
[null,1111168648,100267,"Brit VetDiets Dog Renal консерви д/собак з нирков/недостатністю 400г","Більше 100","Ветеринарні дієти для собак",178.98,232,{"$f":"'Brit VetDiets'!I$43","v":0},{"$f":"'Brit VetDiets'!J$43","v":0}]
[null,1111166670,"100279/6078","Brit VetDiets Dog Struvite консерви д/собак при сечокам_ян/хвороб 400г","Більше 100","Ветеринарні дієти для собак",178.98,232,{"$f":"'Brit VetDiets'!I$44","v":0},{"$f":"'Brit VetDiets'!J$44","v":0}]
[null,1111168649,100291,"Brit VetDiets Recovery консерви д/соб/кіт для віднов післ/хвороб 400г","Менше 10","Ветеринарні дієти для собак",178.98,232,{"$f":"'Brit VetDiets'!I$45","v":0},{"$f":"'Brit VetDiets'!J$45","v":0}]
[null,1111208543,100712,"БЕЗ ТЕРМ. ПОМ'ЯТ Корм вологий Brit Grain Veterinary Diets Gastrointest","Менше 10","Ветеринарна дієта для котів",41.94,0,{"$f":"'Brit VetDiets'!I$46","v":0},{"$f":"'Brit VetDiets'!J$46","v":0}]
[null,1111207266,"170955/528288","БЕЗ ТЕРМ. ПОРВ. УП. Корм сухий Brit Grain Free VetDiet Cat Struvite дл","Менше 10","Корм сухий для котів",93.84,0,{"$f":"'Brit VetDiets'!I$47","v":0},{"$f":"'Brit VetDiets'!J$47","v":0}]
[null,1111208427,"170955/528288","БЕЗ ТЕРМ.Корм сухий Brit Grain Free VetDiet Cat Struvite для котів з с","Менше 10","Корм сухий для котів",93.84,0,{"$f":"'Brit VetDiets'!I$48","v":0},{"$f":"'Brit VetDiets'!J$48","v":0}]
[null,1111183203,"101114_1","Паучі Brit GF VD Gastrointestinal для котів з ягням 85г","Більше 100","Корм вологий для котів",53.1,66,{"$f":"'Brit VetDiets'!I$49","v":0},{"$f":"'Brit VetDiets'!J$49","v":0}]
[null,1111183204,"101116_1*****","Паучі Brit GF VD Recovery для котів з лососем 85г","Більше 100","Корм вологий для котів",53.1,66,{"$f":"'Brit VetDiets'!I$50","v":0},{"$f":"'Brit VetDiets'!J$50","v":0}]
[null,1111183202,"101113_1","Паучі Brit GF VD Renal для котів з лососем 85г","Більше 100","Корм вологий для котів",53.1,66,{"$f":"'Brit VetDiets'!I$51","v":0},{"$f":"'Brit VetDiets'!J$51","v":0}]
[null,1111183205,"101117_1","Паучі Brit GF VD Urinary and Stress Relief для котів з індичкою 85г","Більше 100","Корм вологий для котів",53.1,66,{"$f":"'Brit VetDiets'!I$52","v":0},{"$f":"'Brit VetDiets'!J$52","v":0}]
[null,1111207047,100710,"ТЕРМ 03.27 ПОРВ.ЕТИК Brit VetDiets Cat Diabetes консерв цукр/діаб 200г","Менше 10","Ветеринарна дієта для котів",44.46,0,{"$f":"'Brit VetDiets'!I$53","v":0},{"$f":"'Brit VetDiets'!J$53","v":0}]
[null,1111206337,"170955/528288","ТЕРМ 09.25 Brit Grain Free VetDiet Cat Struvite сечокам/хвор курк 400г","Менше 10","Корм сухий для котів",93.84,0,{"$f":"'Brit VetDiets'!I$54","v":0},{"$f":"'Brit VetDiets'!J$54","v":0}]
[null,1111207046,100711,"ТЕРМ 11.27 ПОРВ.ЕТИК Brit VetDiets Cat Obesity консерви надм/вага 200г","Менше 10","Ветеринарна дієта для котів",44.46,0,{"$f":"'Brit VetDiets'!I$55","v":0},{"$f":"'Brit VetDiets'!J$55","v":0}]
[null,1111196757,100267,"ТЕРМ. 05.27, ПОМ_ЯТ Вологий корм Brit  для дорослих собак з хронічною","Менше 10","Ветеринарні дієти для собак",89.52,0,{"$f":"'Brit VetDiets'!I$56","v":0},{"$f":"'Brit VetDiets'!J$56","v":0}]
[null,1111205719,"170970/528530","ТЕРМ. 06.26, ПОРВ. Корм сухий Brit Grain Free VetDiet Cat Diabetes для","Менше 10","Корм сухий для котів",48.96,0,{"$f":"'Brit VetDiets'!I$57","v":0},{"$f":"'Brit VetDiets'!J$57","v":0}]
[null,1111205749,"101116_1","ТЕРМ. 10.25 Паучі Brit GF VD Recovery для котів з лососем 85г","Більше 10","Корм вологий для котів",26.58,0,{"$f":"'Brit VetDiets'!I$58","v":0},{"$f":"'Brit VetDiets'!J$58","v":0}]
[null,1111206732,"170958/528332","ТЕРМ. 11.25 Brit GF VetDiet Cat Renal захворюван/нирок яйце/горох 400г","Менше 10","Корм сухий для котів",108.54,0,{"$f":"'Brit VetDiets'!I$59","v":0},{"$f":"'Brit VetDiets'!J$59","v":0}]
[null,1111206708,"170952/528240","ТЕРМ.09.25.Корм сухий Brit Grain Free VetDiets Dog Mobility для собак ","Немає в наявності","Корм сухий для собак",1815.66,0,{"$f":"'Brit VetDiets'!I$60","v":0},{"$f":"'Brit VetDiets'!J$60","v":0}]
[null,1111187085,112289,"Brit Vitamins Biotin SkinandCoat д/собак д/шкіри та шерсті 60 таблеток","Більше 10","Вітаміни для собак",532.62,719,{"$f":"'Brit Vitamins'!I$8","v":0},{"$f":"'Brit Vitamins'!J$8","v":0}]
[null,1111187086,112290,"Brit Vitamins Digestion для собак для травлення 60 таблеток","Більше 10","Вітаміни для собак",621.48,839,{"$f":"'Brit Vitamins'!I$9","v":0},{"$f":"'Brit Vitamins'!J$9","v":0}]
[null,1111187088,112291,"Brit Vitamins Immunity Booster для собак для імунітету 60 таблеток","Більше 10","Вітаміни для собак",739.98,999,{"$f":"'Brit Vitamins'!I$10","v":0},{"$f":"'Brit Vitamins'!J$10","v":0}]
[null,1111141106,"128501 AD","Canina Barfer Best Junior для собак на натуральному годуванні 350 г","Менше 10","Вітаміни для собак",718.26,933,{"$f":"Canina!I$8","v":0},{"$f":"Canina!J$8","v":0}]
[null,1111151482,"128518 AD","Canina Barfer Best Junior для собак на натуральному годуванні 850 г","Менше 10","Вітаміни для собак",1597.5,2077,{"$f":"Canina!I$9","v":0},{"$f":"Canina!J$9","v":0}]
[null,1111141107,"228058 AD","Canina Barfer Best для котів на натуральному годуванні порошок 180 г","Менше 10","Вітаміни для котів",576.66,750,{"$f":"Canina!I$10","v":0},{"$f":"Canina!J$10","v":0}]
[null,1111126298,"128051 AD","Canina Barfers Best для дорослих собак на натуральному годуванні 180 г","Більше 10","Вітаміни для собак",478.86,623,{"$f":"Canina!I$11","v":0},{"$f":"Canina!J$11","v":0}]
[null,1111121976,"101122 AD*****","Canina Biotin Forte Tabletten д/собак інтенсив д/шерсті 2 кг 600 табл","Менше 10","Вітаміни для собак",8544.24,11108,{"$f":"Canina!I$12","v":0},{"$f":"Canina!J$12","v":0}]
[null,1111111957,"101108 AD","Canina Biotin Forte Tabletten д/собак інтенсив д/шерсті 200 г 60 табл","Менше 10","Вітаміни для собак",1556.88,2023,{"$f":"Canina!I$13","v":0},{"$f":"Canina!J$13","v":0}]
[null,1111111961,"120314 AD","Canina Caniletten віт-мін комплекс для дорослих собак 1 кг 500 табл","Менше 10","Вітаміни для собак",1482.72,1928,{"$f":"Canina!I$14","v":0},{"$f":"Canina!J$14","v":0}]
[null,1111121982,"120321 AD","Canina Caniletten віт-мін комплекс для дорослих собак 2 кг 1000 табл","Менше 10","Вітаміни для собак",2647.26,3442,{"$f":"Canina!I$15","v":0},{"$f":"Canina!J$15","v":0}]
[null,1111111958,"110001 /101001 AD","Canina Canivita д/кот і соб універсал зі швидким ефектом тонік 100 мл","Більше 10","Вітаміни для собак",477,620,{"$f":"Canina!I$16","v":0},{"$f":"Canina!J$16","v":0}]
[null,1111111983,"201525 AD","Canina Cat-Fell O.K. д/кот з пробл шерсті біотин/мікроел 50 г 100 табл","Більше 10","Вітаміни для котів",341.7,444,{"$f":"Canina!I$17","v":0},{"$f":"Canina!J$17","v":0}]
[null,1111111985,"220939 AD","Canina Cat-Mineral Tabs віт-мінерал комплекс для котів 150 г 300 табл","Менше 10","Вітаміни для котів",694.2,903,{"$f":"Canina!I$18","v":0},{"$f":"Canina!J$18","v":0}]
[null,1111116348,"130900 AD*****","Canina Dog Fell Gel для собак з проблемами шерсті Біотин і Цинк 100 мл","Менше 10","Вітаміни для собак",753.12,980,{"$f":"Canina!I$19","v":0},{"$f":"Canina!J$19","v":0}]
[null,1111111965,"101306 AD","Canina Fell O.K. вітамін комп д/собак Біотин д/шерсті 250 г 125 табл","Менше 10","Вітаміни для собак",750.48,977,{"$f":"Canina!I$20","v":0},{"$f":"Canina!J$20","v":0}]
[null,1111111963,"130016 Canina","Canina Hefe д/соб вітамін В дріжджові табл з ензимами 800 г 992 табл","Менше 10","Вітаміни для собак",1314.54,1708,{"$f":"Canina!I$21","v":0},{"$f":"Canina!J$21","v":0}]
[null,1111111966,"112036 AD","Canina Herz-Vital мін комп д/собак та котів для підтримки серця 100 мл","Менше 10","Вітаміни для собак",821.58,1069,{"$f":"Canina!I$22","v":0},{"$f":"Canina!J$22","v":0}]
[null,1111111967,"112050 AD","Canina Herz-Vital мін комп д/собак та котів для підтримки серця 250 мл","Менше 10","Вітаміни для собак",1365.24,1775,{"$f":"Canina!I$23","v":0},{"$f":"Canina!J$23","v":0}]
[null,1111116895,"230815 AD","Canina Katzenmilch замінник молока для кошенят сухе молоко 450 г","Менше 10","Корм сухий для котів",778.2,1011,{"$f":"Canina!I$24","v":0},{"$f":"Canina!J$24","v":0}]
[null,1111112179,"140305 AD","Canina Ohren-Balsam гігієн засіб д/соб і котів для вух бальзам 100 мл","Менше 10","Догляд та гігієна для собак",432.96,562,{"$f":"Canina!I$25","v":0},{"$f":"Canina!J$25","v":0}]
[null,1111140519,"723027 AD","Canina Petvital Arthro-Tabletten д/соб і кот д/суглобів 180 г 180 табл","Менше 10","Вітаміни для собак",1821.18,2368,{"$f":"Canina!I$26","v":0},{"$f":"Canina!J$26","v":0}]
[null,1111111977,"723003 AD","Canina Petvital Arthro-Tabletten д/соб і кот д/суглобів 60 г 60 табл","Менше 10","Вітаміни для собак",753.12,980,{"$f":"Canina!I$27","v":0},{"$f":"Canina!J$27","v":0}]
[null,1111121627,"702008 AD","Canina Petvital Biotin-Tabs для собак і котів Біотин 100 г 50 табл.","Менше 10","Вітаміни для собак",694.2,903,{"$f":"Canina!I$28","v":0},{"$f":"Canina!J$28","v":0}]
[null,1111111992,"712106 AD","Canina PetVital Energy-Gel для собак для швидкого відновлення 100 мл","Менше 10","Вітаміни для собак",576.66,750,{"$f":"Canina!I$29","v":0},{"$f":"Canina!J$29","v":0}]
[null,1111111970,"130504 AD","Canina Seealgen д/соб і котів д/шерсті з мор водоростями 225 г 220табл","Більше 10","Вітаміни для собак",554.46,721,{"$f":"Canina!I$30","v":0},{"$f":"Canina!J$30","v":0}]
[null,1111111971,"130511 AD","Canina Seealgen д/соб і котів д/шерсті з мор водоростями 750 г 730табл","Менше 10","Вітаміни для собак",1303.5,1694,{"$f":"Canina!I$31","v":0},{"$f":"Canina!J$31","v":0}]
[null,1111140518,"127078 AD","Canina Senior Vital мінеральний комплекс д/собак старше 7 років 250 г","Менше 10","Вітаміни для собак",921.66,1198,{"$f":"Canina!I$32","v":0},{"$f":"Canina!J$32","v":0}]
[null,1111111972,"110100 AD","Canina V25 Vitamintabletten вітамін комплекс для собак 100 г 30 табл","Менше 10","Вітаміни для собак",550.44000000000005,716,{"$f":"Canina!I$33","v":0},{"$f":"Canina!J$33","v":0}]
[null,1111111974,"110117 AD","Canina V25 Vitamintabletten вітамін комплекс для собак 200 г 60 табл","Менше 10","Вітаміни для собак",815.16,1061,{"$f":"Canina!I$34","v":0},{"$f":"Canina!J$34","v":0}]
[null,6414,110124,"Canina V25 Vitamintabletten вітамін комплекс для собак 700 г 210 табл","Менше 10","Вітаміни для собак",2179.86,2834,{"$f":"Canina!I$35","v":0},{"$f":"Canina!J$35","v":0}]
[null,1111112183,"120765 AD","Canina Welpenkalk мін комплекс д/цуценят і молод собак 1 кг 1000табл","Менше 10","Вітаміни для собак",2084.04,2710,{"$f":"Canina!I$36","v":0},{"$f":"Canina!J$36","v":0}]
[null,1111111975,"120741 AD","Canina Welpenkalk мін комплекс д/цуценят і молодих собак 150 г 150табл","Менше 10","Вітаміни для собак",576.66,750,{"$f":"Canina!I$37","v":0},{"$f":"Canina!J$37","v":0}]
[null,1111111976,"120758 AD","Canina Welpenkalk мін комплекс д/цуценят і молодих собак 350 г 350табл","Менше 10","Вітаміни для собак",828.42,1076,{"$f":"Canina!I$38","v":0},{"$f":"Canina!J$38","v":0}]
[null,1111145090,"140503 AD","Canina Winter Pfotenbalsam для лап д/собак і котів бальзам 100 мл","Менше 10","Догляд та гігієна для собак",593.34,772,{"$f":"Canina!I$39","v":0},{"$f":"Canina!J$39","v":0}]
[null,1111111987,"210329 AD","Вітамінний комплекс Canina Cat-Vitamin Tabs для котів 125 г 250 табл.","Менше 10","Вітаміни для котів",575.1,748,{"$f":"Canina!I$40","v":0},{"$f":"Canina!J$40","v":0}]
[null,1111111986,"210312 AD","Вітамінний комплекс Canina Cat-Vitamin Tabs для котів 50 г 100 табл.","Менше 10","Вітаміни для котів",341.7,444,{"$f":"Canina!I$41","v":0},{"$f":"Canina!J$41","v":0}]
[null,1111198564,"723003 AD","ТЕРМ 07.25Canina Petvital Arthro-Tabletten д/соб/кот д/сугл.60г 60табл","Більше 10","Вітаміни для собак",358.62,0,{"$f":"Canina!I$42","v":0},{"$f":"Canina!J$42","v":0}]
[null,1111208340,"723317 AD","ТЕРМ 12.25 Canina Petvital GAG д/сугл глюкоз./екстр мідій 180г 180табл","Менше 10","Вітаміни для собак",944.82,0,{"$f":"Canina!I$43","v":0},{"$f":"Canina!J$43","v":0}]
[null,1111207052,"142316 AD","ТЕРМ. 02.27, НЕ ПОВНИЙ ОБ'ЄМ Гігієнічний засіб Canina Dog Stop Forte д","Менше 10","Корекція поведінки для собак",273.89999999999998,0,{"$f":"Canina!I$44","v":0},{"$f":"Canina!J$44","v":0}]
[null,1111200538,"130702 AD*****","ТЕРМ. 08.25 Замінник молока Canina Welpenmilch д/собак сухе молоко 150","Менше 10","Корм сухий для собак",236.22,0,{"$f":"Canina!I$45","v":0},{"$f":"Canina!J$45","v":0}]
[null,1111206453,"723003 AD","ТЕРМ. 11.25 Canina Petvital Arthro-Tabletten д/суглобів 60 г 60 табл","Менше 10","Вітаміни для собак",376.56,0,{"$f":"Canina!I$46","v":0},{"$f":"Canina!J$46","v":0}]
[null,1111145078,"150824/8983","Carnilove Adult Lamb and Wild Boar д/собак з ягням і дик кабаном 1,5кг","Більше 10","Корм сухий для собак",521.52,849,{"$f":"Carnilove!I$8","v":0},{"$f":"Carnilove!J$8","v":0}]
[null,1111145079,"150817/8921","Carnilove Adult Lamb and Wild Boar д/собак з ягням і дик кабаном 12кг","Більше 10","Корм сухий для собак",3544.5,5499,{"$f":"Carnilove!I$9","v":0},{"$f":"Carnilove!J$9","v":0}]
[null,1111145083,"150821/8945","Carnilove Adult Large Breed Salmon Turkey д/соб вел пор лос/індич 12кг","Менше 10","Корм сухий для собак",3287.64,5099,{"$f":"Carnilove!I$10","v":0},{"$f":"Carnilove!J$10","v":0}]
[null,1111145080,"150827/8891","Carnilove Adult Raindeer д/собак з північним оленем 1,5 кг","Немає в наявності","Корм сухий для собак",599.74,999,{"$f":"Carnilove!I$11","v":0},{"$f":"Carnilove!J$11","v":0}]
[null,1111145081,"150820/8884","Carnilove Adult Raindeer д/собак з північним оленем 12 кг","Менше 10","Корм сухий для собак",3994.5,6199,{"$f":"Carnilove!I$12","v":0},{"$f":"Carnilove!J$12","v":0}]
[null,1111153876,"100410/ 527175","Carnilove Cat Crunchy Salmon ласощі д/котів здор/зубів лосос/м_ята 50г","Більше 100","Ласощі для котів",78.72,124,{"$f":"Carnilove!I$13","v":0},{"$f":"Carnilove!J$13","v":0}]
[null,1111145067,"170194/2263","Carnilove Cat Energy and Outdoor д/активн котів з північн оленем 400г","Більше 100","Корм сухий для котів",212.59,331,{"$f":"Carnilove!I$14","v":0},{"$f":"Carnilove!J$14","v":0}]
[null,1111145066,"170200/2256","Carnilove Cat Energy and Outdoor д/активн котів з північним оленем 2кг","Більше 10","Корм сухий для котів",773.46,1199,{"$f":"Carnilove!I$15","v":0},{"$f":"Carnilove!J$15","v":0}]
[null,1111145058,"170191/2355","Carnilove Cat Hairball Controll д/котів д/вивед шерст качка/фазан 400г","Більше 100","Корм сухий для котів",212.25,348,{"$f":"Carnilove!I$16","v":0},{"$f":"Carnilove!J$16","v":0}]
[null,1111145059,"170203/2331","Carnilove Cat Hairball Controll д/котів д/вивед шерсті качка/фазан 6кг","Немає в наявності","Корм сухий для котів",1934.65,2999,{"$f":"Carnilove!I$17","v":0},{"$f":"Carnilove!J$17","v":0}]
[null,1111145057,"170197/2348","Carnilove Cat Hairball Controll д/котів для вивед шерс качка/фазан 2кг","Менше 10","Корм сухий для котів",741.96,1149,{"$f":"Carnilove!I$18","v":0},{"$f":"Carnilove!J$18","v":0}]
[null,1111145069,"170196/2225","Carnilove Cat Kitten для кошенят з лососем та індичкою 2 кг","Більше 10","Корм сухий для котів",741.96,1149,{"$f":"Carnilove!I$19","v":0},{"$f":"Carnilove!J$19","v":0}]
[null,1111145070,"170190/2232","Carnilove Cat Kitten для кошенят з лососем та індичкою 400 г","Більше 100","Корм сухий для котів",212.77,348,{"$f":"Carnilove!I$20","v":0},{"$f":"Carnilove!J$20","v":0}]
[null,1111145071,"170202/2218","Carnilove Cat Kitten для кошенят з лососем та індичкою 6 кг","Більше 10","Корм сухий для котів",1934.65,2999,{"$f":"Carnilove!I$21","v":0},{"$f":"Carnilove!J$21","v":0}]
[null,1111145061,"170195/2775","Carnilove Cat Large Breed д/котів великих порід качка/індичка 400г","Більше 10","Корм сухий для котів",212.25,348,{"$f":"Carnilove!I$22","v":0},{"$f":"Carnilove!J$22","v":0}]
[null,1111145074,"170204/2270","Carnilove Cat Sensitive and Long Hair д/котів чутл травл з лососем 6кг","Немає в наявності","Корм сухий для котів",2127.5300000000002,3299,{"$f":"Carnilove!I$23","v":0},{"$f":"Carnilove!J$23","v":0}]
[null,1111145073,"170192/2294","Carnilove Cat Sensitive and Long Hair д/котів чутл травл лосось 400г","Більше 100","Корм сухий для котів",212.59,331,{"$f":"Carnilove!I$24","v":0},{"$f":"Carnilove!J$24","v":0}]
[null,1111153874,"111376/7212","Carnilove Cat Snack Chicken ласощі д/котів здоров/сечов/шлях курка 50г","Більше 100","Ласощі для котів",78.72,124,{"$f":"Carnilove!I$25","v":0},{"$f":"Carnilove!J$25","v":0}]
[null,1111153875,"111377/7236","Carnilove Cat Snack Sardine ласощі д/котів з чутлив/травл сардина 50г","Більше 100","Ласощі для котів",78.72,124,{"$f":"Carnilove!I$26","v":0},{"$f":"Carnilove!J$26","v":0}]
[null,1111145064,"170193/2324","Carnilove Cat Sterilised д/стерил котів з ягням і диким кабаном 400г","Більше 100","Корм сухий для котів",212.25,348,{"$f":"Carnilove!I$27","v":0},{"$f":"Carnilove!J$27","v":0}]
[null,1111145063,"170199/2317","Carnilove Cat Sterilised д/стерил котів ягнятина/дикий кабан 2кг","Більше 100","Корм сухий для котів",741.96,1149,{"$f":"Carnilove!I$28","v":0},{"$f":"Carnilove!J$28","v":0}]
[null,1111145065,"170205/2300","Carnilove Cat Sterilised д/стерил котів ягнятина/дикий кабан 6кг","Більше 100","Корм сухий для котів",1934.65,2999,{"$f":"Carnilove!I$29","v":0},{"$f":"Carnilove!J$29","v":0}]
[null,1111153871,"100405/7250","Carnilove Dog Crunchy Snack Lamb ласощі д/собак ягня/журавлина 200г","Більше 100","Ласощі для собак",143.58000000000001,217,{"$f":"Carnilove!I$30","v":0},{"$f":"Carnilove!J$30","v":0}]
[null,1111153868,"100409/8875","Carnilove Dog Crunchy Snack Mackerel ласощі д/собак скумбр/малина 200г","Більше 100","Ласощі для собак",143.58000000000001,217,{"$f":"Carnilove!I$31","v":0},{"$f":"Carnilove!J$31","v":0}]
[null,1111153867,"100408/8851","Carnilove Dog Crunchy Snack Salmon ласощі д/собак лосось/чорниця 200г","Більше 100","Ласощі для собак",143.58000000000001,217,{"$f":"Carnilove!I$32","v":0},{"$f":"Carnilove!J$32","v":0}]
[null,1111150029,"100134/529230","Carnilove Dog k консерви д/собак з качкою і фазаном 400г","Більше 100","Корм вологий для собак",169.56,229,{"$f":"Carnilove!I$33","v":0},{"$f":"Carnilove!J$33","v":0}]
[null,1111148556,"100132/529278","Carnilove Dog k консерви д/собак з лососем та індичкою 400г","Більше 100","Корм вологий для собак",169.56,229,{"$f":"Carnilove!I$34","v":0},{"$f":"Carnilove!J$34","v":0}]
[null,1111150032,"100133/529292","Carnilove Dog k консерви д/собак з північним оленем 400г","Більше 100","Корм вологий для собак",169.56,229,{"$f":"Carnilove!I$35","v":0},{"$f":"Carnilove!J$35","v":0}]
[null,1111150030,"100131/529315","Carnilove Dog k консерви д/собак з ягням і кабаном 400г","Більше 100","Корм вологий для собак",169.56,229,{"$f":"Carnilove!I$36","v":0},{"$f":"Carnilove!J$36","v":0}]
[null,1111154401,"111374/7335","Carnilove Dog Semi Moist Carp Thyme ласощі для собак короп/тимьян 200г","Більше 100","Ласощі для собак",134.22,217,{"$f":"Carnilove!I$37","v":0},{"$f":"Carnilove!J$37","v":0}]
[null,1111154400,"111373/7311","Carnilove Dog Semi Moist Duck ласощі для собак качка/розмарин 200г","Більше 100","Ласощі для собак",134.22,217,{"$f":"Carnilove!I$38","v":0},{"$f":"Carnilove!J$38","v":0}]
[null,1111154402,"111375/7359","Carnilove Dog Semi Moist Quail ласощі для собак перепел/орегано 200г","Більше 100","Ласощі для собак",134.22,217,{"$f":"Carnilove!I$39","v":0},{"$f":"Carnilove!J$39","v":0}]
[null,1111154398,"111371/8899","Carnilove Dog Semi Moist Sardines ласощі д/собак сардина/часник 200г","Більше 100","Ласощі для собак",134.22,217,{"$f":"Carnilove!I$40","v":0},{"$f":"Carnilove!J$40","v":0}]
[null,1111154399,"111372/8912","Carnilove Dog Semi Moist Trout Dill ласощі для собак форель/кріп 200г","Більше 100","Ласощі для собак",134.22,217,{"$f":"Carnilove!I$41","v":0},{"$f":"Carnilove!J$41","v":0}]
[null,1111153665,"170871/7533","Carnilove Fresh Carp and Trout for Adult dogs д/соб короп/форель 1,5кг","Менше 10","Корм сухий для собак",620.36,949,{"$f":"Carnilove!I$42","v":0},{"$f":"Carnilove!J$42","v":0}]
[null,1111152301,"170878/7465","Carnilove Fresh Carp Trout Steril Adult д/стерил кот короп/форель 6кг","Більше 10","Корм сухий для котів",2221.1799999999998,3399,{"$f":"Carnilove!I$43","v":0},{"$f":"Carnilove!J$43","v":0}]
[null,1111153670,"170877/7441","Carnilove Fresh Carp Trout Steril Cats д/стерил котів короп/форель 2кг","Більше 10","Корм сухий для котів",838.2,1349,{"$f":"Carnilove!I$44","v":0},{"$f":"Carnilove!J$44","v":0}]
[null,1111152299,"170875/7410","Carnilove Fresh Chicken Rabbit Adult cats д/котів курка/кролик 6 кг","Більше 10","Корм сухий для котів",2220.9899999999998,3399,{"$f":"Carnilove!I$45","v":0},{"$f":"Carnilove!J$45","v":0}]
[null,1111153661,"170867/7502","Carnilove Fresh Chicken Rabbit Adult dogs д/собак курка/кролик 1,5кг","Більше 10","Корм сухий для собак",621.54999999999995,999,{"$f":"Carnilove!I$46","v":0},{"$f":"Carnilove!J$46","v":0}]
[null,1111153667,"170873/7373","Carnilove Fresh Chicken Rabbit for Adult cats д/кот курка/кролик 400г","Більше 100","Корм сухий для котів",227.56,348,{"$f":"Carnilove!I$47","v":0},{"$f":"Carnilove!J$47","v":0}]
[null,1111153668,"170874/7397","Carnilove Fresh Chicken Rabbit for Adult Cats д/котів курка/кролик 2кг","Більше 10","Корм сухий для котів",880.56,1349,{"$f":"Carnilove!I$48","v":0},{"$f":"Carnilove!J$48","v":0}]
[null,1111153663,"170869/7472","Carnilove Fresh Ostrich Lamb Small Breed д/дрібн соб страус/ягня 1,5кг","Більше 100","Корм сухий для собак",633.19000000000005,969,{"$f":"Carnilove!I$49","v":0},{"$f":"Carnilove!J$49","v":0}]
[null,1111153664,"170870/7496","Carnilove Fresh Ostrich Lamb Small Breed д/соб дрібн страус/баран 6кг","Більше 10","Корм сухий для собак",2220.12,3399,{"$f":"Carnilove!I$50","v":0},{"$f":"Carnilove!J$50","v":0}]
[null,1111150031,"100130/529254","Carnilove Puppy k консерви д/цуценят з лососем та індичкою 400г","Більше 100","Корм вологий для собак",169.56,229,{"$f":"Carnilove!I$51","v":0},{"$f":"Carnilove!J$51","v":0}]
[null,1111145084,"150823/8853","Carnilove Puppy Large Breed Salmon Turkey д/цуц вел пор лос/інд 1,5кг","Більше 10","Корм сухий для собак",521.28,849,{"$f":"Carnilove!I$52","v":0},{"$f":"Carnilove!J$52","v":0}]
[null,1111145085,"150816/8846","Carnilove Puppy Large Breed Salmon Turkey д/цуц вел пор лос/індич 12кг","Менше 10","Корм сухий для собак",3349.98,5199,{"$f":"Carnilove!I$53","v":0},{"$f":"Carnilove!J$53","v":0}]
[null,1111145087,"150815/8822","Carnilove Puppy Salmon and Turkey д/цуценят з лососем та індичкою 12кг","Більше 10","Корм сухий для собак",3351.3,5199,{"$f":"Carnilove!I$54","v":0},{"$f":"Carnilove!J$54","v":0}]
[null,1111145086,"150822/8839","Carnilove Puppy Salmon and Turkey д/цуценят лосось/індичка 1,5кг","Більше 10","Корм сухий для собак",513.9,799,{"$f":"Carnilove!I$55","v":0},{"$f":"Carnilove!J$55","v":0}]
[null,1111207854,"170873/7373","ТЕРМ 10.25 Carnilove Fresh Chicken Rabbit for Adult cats кур/крол 400г","Менше 10","Корм сухий для котів",113.82,0,{"$f":"Carnilove!I$56","v":0},{"$f":"Carnilove!J$56","v":0}]
[null,1111206950,"170193/2324","ТЕРМ 10.26 ПОРВ Carnilove Cat Sterilised стери/кот ягня/дик.кабан 400г","Менше 10","Корм сухий для котів",106.14,0,{"$f":"Carnilove!I$57","v":0},{"$f":"Carnilove!J$57","v":0}]
[null,1111208510,"170871/7533","ТЕРМ 12.25 Carnilove FreshCarp/Trout for Adult dogs короп/форель 1,5кг","Менше 10","Корм сухий для собак",310.2,0,{"$f":"Carnilove!I$58","v":0},{"$f":"Carnilove!J$58","v":0}]
[null,1111207535,"170190/2232","ТЕРМ. 08.25 Корм сухий Carnilove Cat Kitten для кошенят з лососем та і","Більше 10","Корм сухий для котів",106.44,0,{"$f":"Carnilove!I$59","v":0},{"$f":"Carnilove!J$59","v":0}]
[null,1111206395,"170873/7373","ТЕРМ. 09.25 Корм сухий Carnilove Fresh Chicken and Rabbit Gourmand for","Менше 10","Корм сухий для котів",113.82,0,{"$f":"Carnilove!I$60","v":0},{"$f":"Carnilove!J$60","v":0}]
[null,1111206779,"170190/2232","ТЕРМ. 10.25 Carnilove Cat Kitten д/кошенят з лососем та індичкою 400г","Менше 10","Корм сухий для котів",106.44,0,{"$f":"Carnilove!I$61","v":0},{"$f":"Carnilove!J$61","v":0}]
[null,1111208023,"170192/2294","ТЕРМ. 10.25 Carnilove Cat Sensitive and Hair чутл травл лосось 400г","Менше 10","Корм сухий для котів",106.32,0,{"$f":"Carnilove!I$62","v":0},{"$f":"Carnilove!J$62","v":0}]
[null,1111205635,"111371/8899","ТЕРМ. 10.25 Carnilove Dog Semi Moist Sardines ласощ соб сард/часн 200г","Менше 10","Ласощі для собак",67.14,0,{"$f":"Carnilove!I$63","v":0},{"$f":"Carnilove!J$63","v":0}]
[null,1111207855,"170200/2256","ТЕРМ. 11.25 Carnilove Cat Energy/Outdoor акт/котів північний олень 2кг","Немає в наявності","Корм сухий для котів",386.76,0,{"$f":"Carnilove!I$64","v":0},{"$f":"Carnilove!J$64","v":0}]
[null,1111208511,"150824/8983","ТЕРМ. 12.25 Carnilove Adult Lamb/Wild Boar д/соб ягня/дик.кабан 1,5кг","Менше 10","Корм сухий для собак",260.76,0,{"$f":"Carnilove!I$65","v":0},{"$f":"Carnilove!J$65","v":0}]
[null,1111207856,"170198/2287","ТЕРМ.10.25.Корм сухий Carnilove Cat Sensitive and Long Hair для довгош","Немає в наявності","Корм сухий для котів",386.76,0,{"$f":"Carnilove!I$66","v":0},{"$f":"Carnilove!J$66","v":0}]
[null,1111208300,"170876/7427","ТЕРМ.10.25.Корм сухий Carnilove Fresh Carp and Trout для дорослих стер","Менше 10","Корм сухий для котів",113.76,0,{"$f":"Carnilove!I$67","v":0},{"$f":"Carnilove!J$67","v":0}]
[null,1111205723,"JRS324092/0922","ВАГА 3,5 КГ Наповнювач Cat’s Best для котячого туалету Original деревн","Менше 10","Наповнювачі для котячих туалетів",229.86,0,{"$f":"'Cats Best'!I$8","v":0},{"$f":"'Cats Best'!J$8","v":0}]
[null,1111201827,"JRS319116/1163","ВАГА 4,5 КГ Наповнювач Cat’s Best для котячого туалету Original деревн","Менше 10","Наповнювачі для котячих туалетів",331.08,0,{"$f":"'Cats Best'!I$9","v":0},{"$f":"'Cats Best'!J$9","v":0}]
[null,1111149476,"JRS321742/7429","Наповнювач Cat_s Best д/котячого туалету Smart Pellets деревн 20л/10кг","Більше 10","Наповнювачі для котячих туалетів",1565.82,2115,{"$f":"'Cats Best'!I$10","v":0},{"$f":"'Cats Best'!J$10","v":0}]
[null,1111117838,"JRS300084/0847","Наповнювач Cat_s Best для домашніх тварин Universal деревний 20л/11кг","Менше 10","Наповнювачі для котячих туалетів",632.1,854,{"$f":"'Cats Best'!I$11","v":0},{"$f":"'Cats Best'!J$11","v":0}]
[null,12547,"JRS300047/0472","Наповнювач Cat_s Best для домашніх тварин Universal деревний 40л/22кг","Менше 10","Наповнювачі для котячих туалетів",1185.1199999999999,1600,{"$f":"'Cats Best'!I$12","v":0},{"$f":"'Cats Best'!J$12","v":0}]
[null,1111111114,"JRS300062/0625","Наповнювач Cat_s Best для домашніх тварин Universal деревний 7л/4кг","Менше 10","Наповнювачі для котячих туалетів",323.27999999999997,436,{"$f":"'Cats Best'!I$13","v":0},{"$f":"'Cats Best'!J$13","v":0}]
[null,1111134732,"JRS321309/3094","Наповнювач Cat_s Best для котячого туалету Original деревн 40л/17,2кг","Більше 10","Наповнювачі для котячих туалетів",2284.08,3084,{"$f":"'Cats Best'!I$14","v":0},{"$f":"'Cats Best'!J$14","v":0}]
[null,1111148528,"JRS324092/0922","Наповнювач Cat_s Best для котячого туалету Original деревний 10л/4,3кг","Більше 10","Наповнювачі для котячих туалетів",459.72,621,{"$f":"'Cats Best'!I$15","v":0},{"$f":"'Cats Best'!J$15","v":0}]
[null,1111134421,"JRS318669/6695","Наповнювач Cat_s Best для котячого туалету Original деревний 20л/8,6кг","Більше 10","Наповнювачі для котячих туалетів",1221.1199999999999,1647,{"$f":"'Cats Best'!I$16","v":0},{"$f":"'Cats Best'!J$16","v":0}]
[null,1111117839,"JRS300086/0861","Наповнювач Cat_s Best для котячого туалету Original деревний 5л/2,1кг","Більше 100","Наповнювачі для котячих туалетів",337.62,456,{"$f":"'Cats Best'!I$17","v":0},{"$f":"'Cats Best'!J$17","v":0}]
[null,1111150983,"JRS319116/1163","Наповнювач Cat’s Best д/котячого туалету Original дерев 10 та 2л/5,2кг","Більше 10","Наповнювачі для котячих туалетів",695.28,940,{"$f":"'Cats Best'!I$18","v":0},{"$f":"'Cats Best'!J$18","v":0}]
[null,1111149475,"JRS300088/0885","Наповнювач Cat’s Best д/котячого туалету Smart Pellets деревн 10л/5кг","Більше 10","Наповнювачі для котячих туалетів",826.02,1115,{"$f":"'Cats Best'!I$19","v":0},{"$f":"'Cats Best'!J$19","v":0}]
[null,12548,"JRS300046/0465","Наповнювач Cat’s Best для домашніх тварин Universal деревний 10л/5,5кг","Більше 10","Наповнювачі для котячих туалетів",402.24,543,{"$f":"'Cats Best'!I$20","v":0},{"$f":"'Cats Best'!J$20","v":0}]
[null,1111201291,"JRS300086/0861","НЕТОВ.В. Наповнювач Cat’s Best для котячого туалету Original деревний ","Менше 10","Наповнювачі для котячих туалетів",160.80000000000001,0,{"$f":"'Cats Best'!I$21","v":0},{"$f":"'Cats Best'!J$21","v":0}]
[null,1111206948,"JRS319116/1163","ПОРВ 4,6кг Наповнювач Cat’s Best кот/туал Original дерев 10та2л/5,2кг","Менше 10","Наповнювачі для котячих туалетів",347.64,0,{"$f":"'Cats Best'!I$22","v":0},{"$f":"'Cats Best'!J$22","v":0}]
[null,1111203602,"JRS300088/0885","ПОРВ. ВАГА 4,5кг Наповнювач Cat’s Best Smart Pellets деревн 10л/5кг","Менше 10","Наповнювачі для котячих туалетів",393.36,0,{"$f":"'Cats Best'!I$23","v":0},{"$f":"'Cats Best'!J$23","v":0}]
[null,1111173939,"JRS3318898","Наповнювач Chipsi для гризунів Зелене яблуко тирса 15л/1кг","Більше 10","Наповнювачі для гризунів",110.64,150,{"$f":"Chipsi!I$8","v":0},{"$f":"Chipsi!J$8","v":0}]
[null,1111114658,"JRS300082/0823","Наповнювач Chipsi для гризунів Зелене яблуко тирса 60л/3,2кг","Більше 10","Наповнювачі для гризунів",237.06,320,{"$f":"Chipsi!I$9","v":0},{"$f":"Chipsi!J$9","v":0}]
[null,1111173937,"JRS3318874","Наповнювач Chipsi для гризунів Класік гігієнічний тирса 15л/1кг","Більше 10","Наповнювачі для гризунів",103.5,140,{"$f":"Chipsi!I$10","v":0},{"$f":"Chipsi!J$10","v":0}]
[null,12546,"JRS300070/0700","Наповнювач Chipsi для гризунів Класік гігієнічний тирса 60л/3,2кг","Більше 10","Наповнювачі для гризунів",258.60000000000002,350,{"$f":"Chipsi!I$11","v":0},{"$f":"Chipsi!J$11","v":0}]
[null,1111173938,"JRS3318881","Наповнювач Chipsi для гризунів Цитрус гігієнічний тирса 15л/1кг","Більше 10","Наповнювачі для гризунів",110.64,150,{"$f":"Chipsi!I$12","v":0},{"$f":"Chipsi!J$12","v":0}]
[null,12551,"10л/0427","Наповнювач Chipsi для дрібних тварин Mais кукурудзяний 10л","Менше 10","Наповнювачі для гризунів",445.38,601,{"$f":"Chipsi!I$13","v":0},{"$f":"Chipsi!J$13","v":0}]
[null,1111147743,"850544/А140","Гребінець Chris Christensen Wood Pin прямокутний 20мм","Менше 10","Інструменти для грумінгу",2389.14,3106,{"$f":"'Chris Christensen'!I$8","v":0},{"$f":"'Chris Christensen'!J$8","v":0}]
[null,1111132713,"841050/79","Кондиціонер Chris Christensen After Bath 3,8л","Менше 10","Косметика для тварин",3427.14,4455,{"$f":"'Chris Christensen'!I$9","v":0},{"$f":"'Chris Christensen'!J$9","v":0}]
[null,1111132725,"841047/061","Кондиціонер Chris Christensen Day to Day д/соб/котів дог/шкір/шер 3,8л","Менше 10","Косметика для тварин",4014.18,5220,{"$f":"'Chris Christensen'!I$10","v":0},{"$f":"'Chris Christensen'!J$10","v":0}]
[null,1111132729,"841054/205/005","Кондиціонер Chris Christensen Spectrum One соб/кот густ/жорс/шерс 3,8л","Менше 10","Косметика для тварин",4196.28,5455,{"$f":"'Chris Christensen'!I$11","v":0},{"$f":"'Chris Christensen'!J$11","v":0}]
[null,1111132726,"841051/087","Кондиціонер Chris Christensen Spectrum Ten д/соб/кот шовк/шерсті 473мл","Менше 10","Косметика для тварин",1438.92,1871,{"$f":"'Chris Christensen'!I$12","v":0},{"$f":"'Chris Christensen'!J$12","v":0}]
[null,1111132727,"841052/088","Кондиціонер Chris Christensen Spectrum Ten д/соб/кот шовк/шерсть 3,8л","Менше 10","Косметика для тварин",4396.08,5715,{"$f":"'Chris Christensen'!I$13","v":0},{"$f":"'Chris Christensen'!J$13","v":0}]
[null,1111180916,844880,"Кондиціонер Chris Christensen д/собак та котів Ice on Ice 3,8л","Менше 10","Косметика для тварин",4406.04,5728,{"$f":"'Chris Christensen'!I$14","v":0},{"$f":"'Chris Christensen'!J$14","v":0}]
[null,1111180917,849092,"Кондиціонер Chris Christensen д/собак та котів Miracle Repair 3,8л","Менше 10","Косметика для тварин",5187.24,6743,{"$f":"'Chris Christensen'!I$15","v":0},{"$f":"'Chris Christensen'!J$15","v":0}]
[null,1111181008,841499,"Кондиціонер Chris Christensen д/собак та котів Smartrinse De-Shed 3,8л","Менше 10","Косметика для тварин",4582.32,5957,{"$f":"'Chris Christensen'!I$16","v":0},{"$f":"'Chris Christensen'!J$16","v":0}]
[null,1111164831,"849076/TNTC16","Кондиціонер Chris Christensen для тварин Thick N Thicker 473мл","Менше 10","Косметика для тварин",2159.52,2808,{"$f":"'Chris Christensen'!I$17","v":0},{"$f":"'Chris Christensen'!J$17","v":0}]
[null,1111184461,841498,"Кондіціонер  для собак Chris Christensen Smartrinse De-Shed  473ml","Менше 10",null,642.95000000000005,1299,{"$f":"'Chris Christensen'!I$18","v":0},{"$f":"'Chris Christensen'!J$18","v":0}]
[null,1111126641,"048 /05-243-1","Лосьйон Chris Christensen Mystic Ear для вух 236мл","Менше 10","Косметика для тварин",1203,1563,{"$f":"'Chris Christensen'!I$19","v":0},{"$f":"'Chris Christensen'!J$19","v":0}]
[null,1111132749,"845024/049/ Скл.048","Лосьйон Chris Christensen Mystic Ear для вух 3,8л","Менше 10","Косметика для тварин",4228.8599999999997,5498,{"$f":"'Chris Christensen'!I$20","v":0},{"$f":"'Chris Christensen'!J$20","v":0}]
[null,1111132734,"844806/089","Маска Chris Christensen Spectrum Ten для собак/котів шовк/шерс 473мл","Менше 10","Косметика для тварин",1600.86,2081,{"$f":"'Chris Christensen'!I$21","v":0},{"$f":"'Chris Christensen'!J$21","v":0}]
[null,1111180922,"860635*****","Ножиці Chris Christensen д/грум. Adalynn Rose 7 Chunky Blender","Менше 10","Ножниці для грумінгу",16695,21704,{"$f":"'Chris Christensen'!I$22","v":0},{"$f":"'Chris Christensen'!J$22","v":0}]
[null,1111180923,"860636*****","Ножиці Chris Christensen д/грум. Adalynn Rose 7 округлі","Менше 10","Ножниці для грумінгу",7451.76,9687,{"$f":"'Chris Christensen'!I$23","v":0},{"$f":"'Chris Christensen'!J$23","v":0}]
[null,1111180921,"860634*****","Ножиці Chris Christensen д/грум. Adalynn Rose 7 шир.золоті","Менше 10","Ножниці для грумінгу",16024.74,20832,{"$f":"'Chris Christensen'!I$24","v":0},{"$f":"'Chris Christensen'!J$24","v":0}]
[null,1111180925,"860638*****","Ножиці Chris Christensen д/грум. Adalynn Rose 7 шир.срібні","Менше 10","Ножниці для грумінгу",7451.76,9687,{"$f":"'Chris Christensen'!I$25","v":0},{"$f":"'Chris Christensen'!J$25","v":0}]
[null,1111180920,"860633*****","Ножиці Chris Christensen д/грум. Adalynn Rose 8 округлі","Менше 10","Ножниці для грумінгу",16024.74,20832,{"$f":"'Chris Christensen'!I$26","v":0},{"$f":"'Chris Christensen'!J$26","v":0}]
[null,1111180919,"860630*****","Ножиці Chris Christensen для грумінгу Adalynn Rose 7 прямі","Менше 10","Ножниці для грумінгу",13357.86,17365,{"$f":"'Chris Christensen'!I$27","v":0},{"$f":"'Chris Christensen'!J$27","v":0}]
[null,1111180924,"860637*****","Ножиці Chris Christensen для грумінгу Adalynn Rose 8","Менше 10","Ножниці для грумінгу",7451.76,9687,{"$f":"'Chris Christensen'!I$28","v":0},{"$f":"'Chris Christensen'!J$28","v":0}]
[null,1111180914,849061,"Парфуми Chris Christensen Smart Scents Cherry and Oats 473мл","Менше 10","Косметика для тварин",1361.76,1770,{"$f":"'Chris Christensen'!I$29","v":0},{"$f":"'Chris Christensen'!J$29","v":0}]
[null,1111180913,849060,"Парфуми Chris Christensen Smart Scents Tropical Breeze 473мл","Менше 10","Косметика для тварин",1361.76,1770,{"$f":"'Chris Christensen'!I$30","v":0},{"$f":"'Chris Christensen'!J$30","v":0}]
[null,1111149688,"849067/284","Парфуми Chris Christensen для тварин Brooklynn_s Sweet_Sassy 473мл","Менше 10","Косметика для тварин",1153.98,1500,{"$f":"'Chris Christensen'!I$31","v":0},{"$f":"'Chris Christensen'!J$31","v":0}]
[null,1111147690,"849074/PUMPGAL*****","Помпа для галонів Chris Christensen д/грум. пластикова","Менше 10","Інструменти для грумінгу",354.96,462,{"$f":"'Chris Christensen'!I$32","v":0},{"$f":"'Chris Christensen'!J$32","v":0}]
[null,1111181007,850592,"Пухоредка Chris Christensen д/собак та котів велика G коралова","Менше 10","Інструменти для грумінгу",6369.06,8280,{"$f":"'Chris Christensen'!I$33","v":0},{"$f":"'Chris Christensen'!J$33","v":0}]
[null,1111132731,"841058/64","Рідкий шовк Chris Christensen Silk Spirits для собак для шерсті 236мл","Менше 10","Косметика для тварин",1518.9,1975,{"$f":"'Chris Christensen'!I$34","v":0},{"$f":"'Chris Christensen'!J$34","v":0}]
[null,1111147775,"827042/SP03*****","Розпилювач Chris Christensen пластиковий 300мл","Менше 10","Інструменти для грумінгу",962.52,1251,{"$f":"'Chris Christensen'!I$35","v":0},{"$f":"'Chris Christensen'!J$35","v":0}]
[null,1111137616,"844244/122 /скл 004","Спрей Chris Christensen Precious Drop д/собак/котів шовк/шерсть 473 мл","Менше 10","Косметика для тварин",1219.68,1586,{"$f":"'Chris Christensen'!I$36","v":0},{"$f":"'Chris Christensen'!J$36","v":0}]
[null,1111139176,"844240/125/1019","Спрей Chris Christensen для тварин Just Divine для розчісування 473мл","Менше 10","Косметика для тварин",1155.48,1503,{"$f":"'Chris Christensen'!I$37","v":0},{"$f":"'Chris Christensen'!J$37","v":0}]
[null,1111132721,38,"Шампунь Chris Christensen Black on Black для чорної шерсті 1,9л","Менше 10","Косметика для тварин",2825.58,3673,{"$f":"'Chris Christensen'!I$38","v":0},{"$f":"'Chris Christensen'!J$38","v":0}]
[null,1111132714,"841031/032","Шампунь Chris Christensen Clean Start д/собак/котів догляд/шерсть 3,8л","Менше 10","Косметика для тварин",3693.06,4801,{"$f":"'Chris Christensen'!I$39","v":0},{"$f":"'Chris Christensen'!J$39","v":0}]
[null,1111132715,"841033/058","Шампунь Chris Christensen Day to Day д/собак/котів догляд/шерсть 3,8л","Менше 10","Косметика для тварин",4014.18,5220,{"$f":"'Chris Christensen'!I$40","v":0},{"$f":"'Chris Christensen'!J$40","v":0}]
[null,1111139159,"841414/231 /1037","Шампунь Chris Christensen Smart Wash Jungle Apple д/соб/котів ябл 3,8л","Менше 10","Косметика для тварин",4183.9799999999996,5439,{"$f":"'Chris Christensen'!I$41","v":0},{"$f":"'Chris Christensen'!J$41","v":0}]
[null,1111132716,"841034/201/ Скл.001","Шампунь Chris Christensen Spectrum One д/соб/кот густ/жорс/шерс 473мл","Менше 10","Косметика для тварин",1320.54,1717,{"$f":"'Chris Christensen'!I$42","v":0},{"$f":"'Chris Christensen'!J$42","v":0}]
[null,1111132717,"841035/202/ Скл.002","Шампунь Chris Christensen Spectrum One д/соб/кот д/густ/жорс/шерс 3,8л","Менше 10","Косметика для тварин",4166.6400000000003,5417,{"$f":"'Chris Christensen'!I$43","v":0},{"$f":"'Chris Christensen'!J$43","v":0}]
[null,1111132719,"841037/071/ Скл.082","Шампунь Chris Christensen Spectrum Ten д/собак/котів д/шовк/шерс 3,8л","Менше 10","Косметика для тварин",3796.62,4936,{"$f":"'Chris Christensen'!I$44","v":0},{"$f":"'Chris Christensen'!J$44","v":0}]
[null,1111129338,"841040/035-1 /Скл. 046","Шампунь Chris Christensen White on White д/собак/котів відбілювач 3,8л","Менше 10","Косметика для тварин",5467.8,7109,{"$f":"'Chris Christensen'!I$45","v":0},{"$f":"'Chris Christensen'!J$45","v":0}]
[null,1111180929,849069,"Шампунь Chris Christensen д/собак та котів Miracle Moisture 3,8л","Менше 10","Косметика для тварин",5249.4,6824,{"$f":"'Chris Christensen'!I$46","v":0},{"$f":"'Chris Christensen'!J$46","v":0}]
[null,1111180931,849090,"Шампунь Chris Christensen д/собак та котів Miracle Repair 3,8л","Менше 10","Косметика для тварин",4993.1400000000003,6491,{"$f":"'Chris Christensen'!I$47","v":0},{"$f":"'Chris Christensen'!J$47","v":0}]
[null,1111180926,841497,"Шампунь Chris Christensen д/собак та котів Smartwash50 De-Shed 3,8л","Менше 10","Косметика для тварин",4668.0600000000004,6068,{"$f":"'Chris Christensen'!I$48","v":0},{"$f":"'Chris Christensen'!J$48","v":0}]
[null,1111206361,245023,"ЗЛАМ. ПАЛИЧКА Іграшка Comfy для котів М'яч на паличці з дзвоником дере","Менше 10","Іграшки для котів",67.739999999999995,0,{"$f":"Comfy!I$8","v":0},{"$f":"Comfy!J$8","v":0}]
[null,1111137300,"112161*****","Наповнювач Comfy д/котячого туалету гігієнічний деревинний Pinokio 7л","Менше 10","Наповнювачі для котячих туалетів",396.78,535,{"$f":"Comfy!I$9","v":0},{"$f":"Comfy!J$9","v":0}]
[null,1111199215,245029,"НЕМА ЗВУКУ Іграшка Comfy кот Миша звук/пластик 6см/уп 90шт","Менше 10","Іграшки для котів",1075.5,0,{"$f":"Comfy!I$10","v":0},{"$f":"Comfy!J$10","v":0}]
[null,1111171672,"10111Ку","Cookie Everyday для дорослих собак усіх порід субпродукти 10 кг","Більше 100","Корм сухий для собак",636.84,754,{"$f":"Cookie!I$8","v":0},{"$f":"Cookie!J$8","v":0}]
[null,1111171674,"10113Ку","Cookie with Beef для дорослих собак з яловичиною 10кг","Немає в наявності","Корм сухий для собак",752.28,863,{"$f":"Cookie!I$9","v":0},{"$f":"Cookie!J$9","v":0}]
[null,1111171673,"10112Ку","Cookie with Chicken для дорослих собак з куркою 10кг","Більше 10","Корм сухий для собак",752.28,863,{"$f":"Cookie!I$10","v":0},{"$f":"Cookie!J$10","v":0}]
[null,1111130513,"0002.008/R4444","Кондиціонер Crown Royale Condition Plus д/собак/котів догл/шерс 236мл","Менше 10","Косметика для тварин",738.48,961,{"$f":"'Crown Royale'!I$8","v":0},{"$f":"'Crown Royale'!J$8","v":0}]
[null,1111129328,"0001.128/01411","Кондиціонер Crown Royale Condition Plus д/собак/котів догл/шерсть 3,8л","Менше 10","Косметика для тварин",4020.72,5228,{"$f":"'Crown Royale'!I$9","v":0},{"$f":"'Crown Royale'!J$9","v":0}]
[null,1111130514,"0002.128/R1111","Шампунь Crown Royale Biovite 1 д/котів/собак д/шовковис/шерсті 237мл","Менше 10","Косметика для тварин",738.48,961,{"$f":"'Crown Royale'!I$10","v":0},{"$f":"'Crown Royale'!J$10","v":0}]
[null,1111129325,1011,"Шампунь Crown Royale Biovite 1 д/собак/котів д/шовковист/шерсті 3,8л","Менше 10","Косметика для тварин",3765.36,4896,{"$f":"'Crown Royale'!I$11","v":0},{"$f":"'Crown Royale'!J$11","v":0}]
[null,1111129327,"0005.128/01015","Шампунь Crown Royale Biovite 3 д/собак/котів д/густ/жорстк шерсті 3,8л","Менше 10","Косметика для тварин",4020.72,5228,{"$f":"'Crown Royale'!I$12","v":0},{"$f":"'Crown Royale'!J$12","v":0}]
[null,1111130512,"0007.008/ 02000","Шампунь Crown Royale Deep Cleansing д/собак/котів суперочищуючий 237мл","Менше 10","Косметика для тварин",820.56,1108,{"$f":"'Crown Royale'!I$13","v":0},{"$f":"'Crown Royale'!J$13","v":0}]
[null,1111130509,"0007.128/04000","Шампунь Crown Royale Deep Cleansing д/собак/котів суперочищуючий 3,8л","Менше 10","Косметика для тварин",2707.8,3523,{"$f":"'Crown Royale'!I$14","v":0},{"$f":"'Crown Royale'!J$14","v":0}]
[null,1111162745,"AM311355CS*****","Декор  Anemone , силікон","Менше 10","Декорації для акваріума",1697.68,2376,{"$f":"Deming!I$8","v":0},{"$f":"Deming!J$8","v":0}]
[null,1111162749,"AM311051DB*****","Декор  Корал-віяло , силікон","Більше 10","Декорації для акваріума",256.98,360,{"$f":"Deming!I$9","v":0},{"$f":"Deming!J$9","v":0}]
[null,1111162748,"AM311132DB*****","Декор  Корал-горгонарія","Більше 10","Декорації для акваріума",358.23,501,{"$f":"Deming!I$10","v":0},{"$f":"Deming!J$10","v":0}]
[null,1111162758,"AM003101PB*****","Декор  Риба-крилатка  S, силікон","Більше 10","Декорації для акваріума",237.52,333,{"$f":"Deming!I$11","v":0},{"$f":"Deming!J$11","v":0}]
[null,1111165858,"AM311150PB*****","Декорація Deming Акропора Glowing для акваріума силіконова 9х8см","Менше 10","Декорації для акваріума",350.44,491,{"$f":"Deming!I$12","v":0},{"$f":"Deming!J$12","v":0}]
[null,1111165860,"AM311186PB*****","Декорація Deming Діскосома для акваріума силіконова 11х8см","Менше 10","Декорації для акваріума",414.69,581,{"$f":"Deming!I$13","v":0},{"$f":"Deming!J$13","v":0}]
[null,1111165861,"AM311172PB*****","Декорація Deming Корал-серіатопора д/акваріума силіконова 10,5х7х14см","Менше 10","Декорації для акваріума",547.07000000000005,765,{"$f":"Deming!I$14","v":0},{"$f":"Deming!J$14","v":0}]
[null,1111165862,"AM311156PT*****","Декорація Deming Медуза для акваріума силіконова 7х7х9см","Менше 10","Декорації для акваріума",397.17,555,{"$f":"Deming!I$15","v":0},{"$f":"Deming!J$15","v":0}]
[null,1111162771,"AM309266SB*****","Рослина  Апоногетон L , силіконова","Більше 10","Декорації для акваріума",358.23,501,{"$f":"Deming!I$16","v":0},{"$f":"Deming!J$16","v":0}]
[null,1111162777,"AM309505PT*****","Рослина  Блікса , силіконова","Більше 10","Декорації для акваріума",321.24,451,{"$f":"Deming!I$17","v":0},{"$f":"Deming!J$17","v":0}]
[null,1111165887,"AM209111PT*****","Рослина Deming Актинії для акваріума силіконова 13х8,5см","Більше 10","Декорації для акваріума",434.16,608,{"$f":"Deming!I$18","v":0},{"$f":"Deming!J$18","v":0}]
[null,1111165879,"AM309263SB*****","Рослина Deming Апоногетон мадагаскарський д/акваріума силікон 14х4,5см","Більше 10","Декорації для акваріума",208.31,291,{"$f":"Deming!I$19","v":0},{"$f":"Deming!J$19","v":0}]
[null,1111165877,"AM309043SB*****","Рослина Deming Валліснерія для акваріума силіконова 15х19см","Менше 10","Декорації для акваріума",256.98,360,{"$f":"Deming!I$20","v":0},{"$f":"Deming!J$20","v":0}]
[null,1111165872,"AM309493SB*****","Рослина Deming Гігрофіла для акваріума силіконова 12х20см","Менше 10","Декорації для акваріума",286.19,401,{"$f":"Deming!I$21","v":0},{"$f":"Deming!J$21","v":0}]
[null,1111165873,"AM309059SB*****","Рослина Deming Ейхорнія для акваріума силіконова 17х19,5см","Менше 10","Декорації для акваріума",332.91,467,{"$f":"Deming!I$22","v":0},{"$f":"Deming!J$22","v":0}]
[null,1111165875,"AM309482SB*****","Рослина Deming Композиція папоротей для акваріума силіконова 11х19см","Менше 10","Декорації для акваріума",321.24,451,{"$f":"Deming!I$23","v":0},{"$f":"Deming!J$23","v":0}]
[null,1111165881,"AM311332SB*****","Рослина Deming Ламінарія для акваріума силіконова 14х10см","Менше 10","Декорації для акваріума",358.23,501,{"$f":"Deming!I$24","v":0},{"$f":"Deming!J$24","v":0}]
[null,1111165876,"AM309455SB*****","Рослина Deming Людвігія для акваріума силіконова 11х18см","Менше 10","Декорації для акваріума",260.88,366,{"$f":"Deming!I$25","v":0},{"$f":"Deming!J$25","v":0}]
[null,1111165874,"AM309501SB*****","Рослина Deming Папороть для акваріума силіконова 10,5х18см","Менше 10","Декорації для акваріума",293.98,413,{"$f":"Deming!I$26","v":0},{"$f":"Deming!J$26","v":0}]
[null,1111165885,"AM311302PT*****","Рослина Deming Підводний бутон для акваріума силіконова 10х17см","Більше 10","Декорації для акваріума",490.61,688,{"$f":"Deming!I$27","v":0},{"$f":"Deming!J$27","v":0}]
[null,1111165867,"AM309313SB*****","Рослина Deming Ротала для акваріума силіконова 18х6,5см","Менше 10","Декорації для акваріума",256.98,360,{"$f":"Deming!I$28","v":0},{"$f":"Deming!J$28","v":0}]
[null,1111165870,"AM309322SB*****","Рослина Deming Таїландська папороть для акваріума силіконова 24х6см","Менше 10","Декорації для акваріума",321.24,451,{"$f":"Deming!I$29","v":0},{"$f":"Deming!J$29","v":0}]
[null,1111195728,126025,"Кондиціонер Dezynadog д/видал ковтунів сплутаної пошкод шерсті 5л","Менше 10","Косметика для тварин",2516.88,3398,{"$f":"Dezynadog!I$8","v":0},{"$f":"Dezynadog!J$8","v":0}]
[null,1111195731,126055,"Кондиціонер Dezynadog живильний зволож віднов шерсть д/всіх порід 5л","Менше 10","Косметика для тварин",3795.84,5124,{"$f":"Dezynadog!I$9","v":0},{"$f":"Dezynadog!J$9","v":0}]
[null,1111195732,126051,"Кондиціонер Dezynadog живильний зволож віднов шерсть д/всіх порід450мл","Менше 10","Косметика для тварин",716.22,967,{"$f":"Dezynadog!I$10","v":0},{"$f":"Dezynadog!J$10","v":0}]
[null,1111195853,126086,"Кондиціонер Dezynadog розплут очищ кондиціонує  кучеряву шерсть 450мл","Менше 10","Косметика для тварин",719.1,971,{"$f":"Dezynadog!I$11","v":0},{"$f":"Dezynadog!J$11","v":0}]
[null,1111195733,126087,"Кондиціонер Dezynadog розплут очищ кондиціонує  кучеряву шерсть 5л","Менше 10","Косметика для тварин",5643.66,7619,{"$f":"Dezynadog!I$12","v":0},{"$f":"Dezynadog!J$12","v":0}]
[null,1111195730,126011,"Кондиціонер ополіскувач Dezynadog д/об_єму щільності шерсті 5л","Менше 10","Косметика для тварин",3214.98,4340,{"$f":"Dezynadog!I$13","v":0},{"$f":"Dezynadog!J$13","v":0}]
[null,1111195746,860507,"Ножиці грумерські Dezynadog прямі для стрижки собак 7,5 дюймів","Менше 10","Ножниці для грумінгу",4374.12,5905,{"$f":"Dezynadog!I$14","v":0},{"$f":"Dezynadog!J$14","v":0}]
[null,1111195744,860503,"Ножиці грумерські Dezynadog прямі для стрижки собак 8 дюймів","Менше 10","Ножниці для грумінгу",4265.6400000000003,5759,{"$f":"Dezynadog!I$15","v":0},{"$f":"Dezynadog!J$15","v":0}]
[null,1111195749,860510,"Ножиці грумерські Dezynadog прямі для стрижки собак для лівші 7 дюймів","Менше 10","Ножниці для грумінгу",4265.6400000000003,5759,{"$f":"Dezynadog!I$16","v":0},{"$f":"Dezynadog!J$16","v":0}]
[null,1111195750,860511,"Ножиці грумерські Dezynadog прямі для стрижки собак для лівші 8 дюймів","Менше 10","Ножниці для грумінгу",4444.1400000000003,6000,{"$f":"Dezynadog!I$17","v":0},{"$f":"Dezynadog!J$17","v":0}]
[null,1111195745,860504,"Ножиці грумерські Dezynadog філірувальні для стрижки собак 6,5 дюймів","Менше 10","Ножниці для грумінгу",4444.1400000000003,6000,{"$f":"Dezynadog!I$18","v":0},{"$f":"Dezynadog!J$18","v":0}]
[null,1111195748,860509,"Ножиці грумерські Dezynadog філірувальні для стрижки собак 7 дюймів","Менше 10","Ножниці для грумінгу",3721.2,5024,{"$f":"Dezynadog!I$19","v":0},{"$f":"Dezynadog!J$19","v":0}]
[null,1111195752,123091,"Пуходерка Dezynadog д/важкодоступних місць д/цуценят та малих порід","Менше 10","Інструменти для грумінгу",419.52,566,{"$f":"Dezynadog!I$20","v":0},{"$f":"Dezynadog!J$20","v":0}]
[null,1111195753,123100,"Пуходерка Dezynadog м_яка середнього розміру усуває ковтуни","Менше 10","Інструменти для грумінгу",419.52,566,{"$f":"Dezynadog!I$21","v":0},{"$f":"Dezynadog!J$21","v":0}]
[null,1111195751,123090,"Пуходерка-слікер Dezynadog велика д/кучерявої шерсті розплутує ковтуни","Менше 10","Інструменти для грумінгу",482.28,651,{"$f":"Dezynadog!I$22","v":0},{"$f":"Dezynadog!J$22","v":0}]
[null,1111195754,123089,"Пуходерка-слікер Dezynadog серед розміру д/різних порід і типів шерсті","Менше 10","Інструменти для грумінгу",419.52,566,{"$f":"Dezynadog!I$23","v":0},{"$f":"Dezynadog!J$23","v":0}]
[null,1111195737,126089,"Спрей Dezynadog д/розплут ковтунів вузлів д/шерсті породи Doodle 1л","Менше 10","Косметика для тварин",1393.02,1881,{"$f":"Dezynadog!I$24","v":0},{"$f":"Dezynadog!J$24","v":0}]
[null,1111197968,126088,"Спрей Dezynadog д/розплут ковтунів вузлів д/шерсті породи Doodle 250мл","Менше 10","Косметика для тварин",562.14,759,{"$f":"Dezynadog!I$25","v":0},{"$f":"Dezynadog!J$25","v":0}]
[null,1111195736,126072,"Спрей Dezynadog кондиціонує підвищує керованість і контроль н/шерстю5л","Менше 10","Косметика для тварин",6305.76,8513,{"$f":"Dezynadog!I$26","v":0},{"$f":"Dezynadog!J$26","v":0}]
[null,1111195741,152027,"Спрей-парфум Dezynadog ноти лимону бергамоту з відтінками жасмину500мл","Менше 10","Косметика для тварин",1440.6,1945,{"$f":"Dezynadog!I$27","v":0},{"$f":"Dezynadog!J$27","v":0}]
[null,1111195738,126076,"Спрей-сироватка Dezynadog д/блиску кондиціонує шерсть з протеїном 1л","Менше 10","Косметика для тварин",1618.32,2185,{"$f":"Dezynadog!I$28","v":0},{"$f":"Dezynadog!J$28","v":0}]
[null,1111195739,126074,"Спрей-сироватка Dezynadog д/блиску кондиціонує шерсть з протеїном250мл","Менше 10","Косметика для тварин",594.05999999999995,802,{"$f":"Dezynadog!I$29","v":0},{"$f":"Dezynadog!J$29","v":0}]
[null,1111195851,125061,"Шампунь Dezynadog глиб очищ бруд шерсті аромат Пармської Фіалки 500мл","Менше 10","Косметика для тварин",542.28,732,{"$f":"Dezynadog!I$30","v":0},{"$f":"Dezynadog!J$30","v":0}]
[null,1111195722,125062,"Шампунь Dezynadog глибоке очищ бруд шерсті аромат Пармської Фіалки 5л","Менше 10","Косметика для тварин",2461.38,3323,{"$f":"Dezynadog!I$31","v":0},{"$f":"Dezynadog!J$31","v":0}]
[null,1111195724,125010,"Шампунь Dezynadog д/лікування сухої свербляч шкіри пошкод шерсті 500мл","Менше 10","Косметика для тварин",542.28,732,{"$f":"Dezynadog!I$32","v":0},{"$f":"Dezynadog!J$32","v":0}]
[null,1111195723,125003,"Шампунь Dezynadog д/лікування сухої свербляч шкіри пошкод шерсті 5л","Менше 10","Косметика для тварин",2707.92,3656,{"$f":"Dezynadog!I$33","v":0},{"$f":"Dezynadog!J$33","v":0}]
[null,1111195718,125038,"Шампунь Dezynadog д/посил кольору білих срібних і кольоров порід 5л","Менше 10","Косметика для тварин",2582.52,3486,{"$f":"Dezynadog!I$34","v":0},{"$f":"Dezynadog!J$34","v":0}]
[null,1111195713,125019,"Шампунь Dezynadog д/стрижених порід зміцнює додає об_єм шерсті5л","Менше 10","Косметика для тварин",2461.38,3323,{"$f":"Dezynadog!I$35","v":0},{"$f":"Dezynadog!J$35","v":0}]
[null,1111195720,125055,"Шампунь Dezynadog д/сухої пошкод шерсті в/ковтунів довгошер порід 5л","Менше 10","Косметика для тварин",2540.94,3430,{"$f":"Dezynadog!I$36","v":0},{"$f":"Dezynadog!J$36","v":0}]
[null,1111195721,125056,"Шампунь Dezynadog д/сухої пошкод шерсті в/ковтунів довгошер порід500мл","Менше 10","Косметика для тварин",579.84,783,{"$f":"Dezynadog!I$37","v":0},{"$f":"Dezynadog!J$37","v":0}]
[null,1111195726,125047,"Шампунь Dezynadog інтенсив живильн очищує освітлює відновлюючий 500мл","Менше 10","Косметика для тварин",716.22,967,{"$f":"Dezynadog!I$38","v":0},{"$f":"Dezynadog!J$38","v":0}]
[null,1111195725,125048,"Шампунь Dezynadog інтенсив живильн очищує освітлює відновлюючий 5л","Менше 10","Косметика для тварин",3036.66,4099,{"$f":"Dezynadog!I$39","v":0},{"$f":"Dezynadog!J$39","v":0}]
[null,1111195717,125011,"Шампунь Dezynadog лікувальн заспок д/всіх тип шерсті з репел дією500мл","Менше 10","Косметика для тварин",542.28,732,{"$f":"Dezynadog!I$40","v":0},{"$f":"Dezynadog!J$40","v":0}]
[null,1111195716,125034,"Шампунь Dezynadog лікувальн заспок д/всіх тип шерсті з репелен дією 5л","Менше 10","Косметика для тварин",2582.52,3486,{"$f":"Dezynadog!I$41","v":0},{"$f":"Dezynadog!J$41","v":0}]
[null,1111195715,125033,"Шампунь Dezynadog посил кольору чорн/тем-корич шерсті усіх порід 500мл","Менше 10","Косметика для тварин",542.28,732,{"$f":"Dezynadog!I$42","v":0},{"$f":"Dezynadog!J$42","v":0}]
[null,1111195714,125023,"Шампунь Dezynadog посил кольору чорн/тем-корич шерсті усіх порід 5л","Менше 10","Косметика для тварин",2582.52,3486,{"$f":"Dezynadog!I$43","v":0},{"$f":"Dezynadog!J$43","v":0}]
[null,1111195727,126085,"Шампунь Dezynadog розплут знежирює кондиц шерсть д/каркулевих порід 5л","Менше 10","Косметика для тварин",4615.38,6231,{"$f":"Dezynadog!I$44","v":0},{"$f":"Dezynadog!J$44","v":0}]
[null,1111169979,920048,"Наповнювач Essence для котячого туалету тофу/вугілля гранули 1/4мм 6л","Більше 100","Наповнювачі для котячих туалетів",290.76,393,{"$f":"Essence!I$8","v":0},{"$f":"Essence!J$8","v":0}]
[null,1111169976,920017,"Наповнювач гігієнічний Essence д/кот/туалет зелен/чай гранула 2мм 6л","Більше 100","Наповнювачі для котячих туалетів",290.76,393,{"$f":"Essence!I$9","v":0},{"$f":"Essence!J$9","v":0}]
[null,1111169977,920024,"Наповнювач гігієнічний Essence д/кот/туалета лаванда гранула 2мм 6л","Більше 100","Наповнювачі для котячих туалетів",290.76,393,{"$f":"Essence!I$10","v":0},{"$f":"Essence!J$10","v":0}]
[null,1111169978,920031,"Наповнювач гігієнічний Essence д/котяч/туалету з тофу гранула 3мм 6л","Більше 100","Наповнювачі для котячих туалетів",290.76,393,{"$f":"Essence!I$11","v":0},{"$f":"Essence!J$11","v":0}]
[null,1111116367,"PT2477_ord","Гігрометр для тераріуму електронний","Менше 10","Обладнання для тераріума",1307.6400000000001,1831,{"$f":"ExoTerra!I$8","v":0},{"$f":"ExoTerra!J$8","v":0}]
[null,1111113352,"PT2812","Годівниця Hagen для тераріумних тварин Exo Terra Feeding Dish M 12см","Менше 10","Аксесуари для тераріума",504.48,705,{"$f":"ExoTerra!I$9","v":0},{"$f":"ExoTerra!J$9","v":0}]
[null,1111113351,"PT2811","Годівниця Hagen для тераріумних тварин Exo Terra Feeding Dish S 9см","Менше 10","Обладнання для тераріума",287.88,402,{"$f":"ExoTerra!I$10","v":0},{"$f":"ExoTerra!J$10","v":0}]
[null,1111162213,"PT3167_ord","Декорація Exo Terra для тераріума Eagle Knight схованка пластикова","Менше 10","Декорації для тераріуму",827.88,1160,{"$f":"ExoTerra!I$11","v":0},{"$f":"ExoTerra!J$11","v":0}]
[null,1111153489,"PT3156****","Декорація ExoTerra Tiki S для тераріумів сховище/поїлка/миска пластик","Менше 10","Декорації для тераріуму",1333.32,1867,{"$f":"ExoTerra!I$12","v":0},{"$f":"ExoTerra!J$12","v":0}]
[null,1111153490,"PT3157****","Декорація Tiki (3в1 схованка, поїлка і миска) велика","Менше 10","Декорації для тераріуму",1849.62,2590,{"$f":"ExoTerra!I$13","v":0},{"$f":"ExoTerra!J$13","v":0}]
[null,1111162211,"PT3165_ord","Декорація д/тераріума ExoTerra Calendar Stone камінь схованка маленька","Менше 10","Декорації для тераріуму",362.4,543,{"$f":"ExoTerra!I$14","v":0},{"$f":"ExoTerra!J$14","v":0}]
[null,1111160431,"PT2840_ord","Декорація для тераріума Exo Terra Dinosaur World поїлка 11х14х11 см","Менше 10","Декорації для тераріуму",462.3,647,{"$f":"ExoTerra!I$15","v":0},{"$f":"ExoTerra!J$15","v":0}]
[null,1111141543,"PT2841_ord","Декорація для тераріума Exo Terra Dinosaur World поїлка 17,5х16х17 см","Менше 10","Декорації для тераріуму",1023.18,1435,{"$f":"ExoTerra!I$16","v":0},{"$f":"ExoTerra!J$16","v":0}]
[null,1111148445,"PT2015","Обігрівач ExoTerra д/тераріумів д/пустел/тварин килимком 4Вт 10х12,5см","Менше 10","Освітлення та обігрів",812.46,1136,{"$f":"ExoTerra!I$17","v":0},{"$f":"ExoTerra!J$17","v":0}]
[null,12356,"PT2002_ord","Обігрівач ExoTerra для тераріумних тварин гарячий камінь 10Вт 15x15см","Менше 10","Освітлення та обігрів",1525.86,2137,{"$f":"ExoTerra!I$18","v":0},{"$f":"ExoTerra!J$18","v":0}]
[null,1111112570,"PT2000_ord","Обігрівач ExoTerra для тераріумних тварин гарячий камінь 5Вт 15x10см","Менше 10","Освітлення та обігрів",1413.54,1977,{"$f":"ExoTerra!I$19","v":0},{"$f":"ExoTerra!J$19","v":0}]
[null,1111162993,"PT2017_ord","Обігрівач ExoTerrа для тераріумів для пустельних тварин плоский 16Вт","Менше 10","Освітлення та обігрів",1169.04,1638,{"$f":"ExoTerra!I$20","v":0},{"$f":"ExoTerra!J$20","v":0}]
[null,1111120238,"PT2052","Плафон ExoTerra Glow Light для ламп обігріву в тераріум метал 14см","Менше 10","Обладнання для тераріума",1034.82,1449,{"$f":"ExoTerra!I$21","v":0},{"$f":"ExoTerra!J$21","v":0}]
[null,1111162214,"PT3168****","Поїлка ExoTerra для рептилій Aztec Frog","Менше 10","Обладнання для тераріума",329.82,465,{"$f":"ExoTerra!I$22","v":0},{"$f":"ExoTerra!J$22","v":0}]
[null,1111113354,"PT2801","Поїлка ExoTerra для тераріумних тварин мала S 9см","Менше 10","Обладнання для тераріума",256.62,359,{"$f":"ExoTerra!I$23","v":0},{"$f":"ExoTerra!J$23","v":0}]
[null,1111113355,"PT2802","Поїлка ExoTerra для тераріумних тварин середня M 12см","Менше 10","Обладнання для тераріума",299.10000000000002,417,{"$f":"ExoTerra!I$24","v":0},{"$f":"ExoTerra!J$24","v":0}]
[null,1111143875,"PT2492****","Поїлка з помпою Exo Terra рослина велика","Менше 10","Обладнання для тераріума",2458.23,3442,{"$f":"ExoTerra!I$25","v":0},{"$f":"ExoTerra!J$25","v":0}]
[null,1111141547,"PT2912","Поїлка-водоспад ExoTerra для тераріумних тварин Waterfall M середня","Менше 10","Обладнання для тераріума",2123.52,2973,{"$f":"ExoTerra!I$26","v":0},{"$f":"ExoTerra!J$26","v":0}]
[null,1111204467,"PT2130_ord","ПОРВ.УП.Лампа ночная  А19/75W д/террар","Менше 10","Обладнання для тераріума",110.34,0,{"$f":"ExoTerra!I$27","v":0},{"$f":"ExoTerra!J$27","v":0}]
[null,1111113376,"PT3032","Рослина ExoTerra Abutilon Silk д/тераріума пластик текстиль 15x32x4см","Менше 10","Декорації для тераріуму",249.72,350,{"$f":"ExoTerra!I$28","v":0},{"$f":"ExoTerra!J$28","v":0}]
[null,1111122336,"PT2991_ord","Рослина ExoTerra Spider Orchid для тераріуму пластик 6,5x45x5см","Менше 10","Декорації для тераріуму",751.62,1053,{"$f":"ExoTerra!I$29","v":0},{"$f":"ExoTerra!J$29","v":0}]
[null,1111112572,"PT3040","Рослина ExoTerra д/тераріуму Ficus Silk пластик текстиль середня 40см","Менше 10","Декорації для тераріуму",464.76,648,{"$f":"ExoTerra!I$30","v":0},{"$f":"ExoTerra!J$30","v":0}]
[null,1111116240,"PT3085","Рослина ExoTerra для тераріуму Jungle Vine Лоза S","Менше 10","Декорації для тераріуму",376.98,526,{"$f":"ExoTerra!I$31","v":0},{"$f":"ExoTerra!J$31","v":0}]
[null,1111121417,"PT2226","Світильник ExoTerra д/тераріумів Compact top ультрафіол/ламп 45х9х20см","Менше 10","Освітлення та обігрів",1844.64,2584,{"$f":"ExoTerra!I$32","v":0},{"$f":"ExoTerra!J$32","v":0}]
[null,1111121418,"PT2227","Світильник ExoTerra д/тераріумів Compact top ультрафіол/ламп 60х9х20см","Менше 10","Освітлення та обігрів",2913.9,4082,{"$f":"ExoTerra!I$33","v":0},{"$f":"ExoTerra!J$33","v":0}]
[null,1111121220,"PT2775","Субстрат ExoTerra для тераріумних тварин Coco Husk 7л","Більше 10","Наповнювачі та субстрати для тераріума",135.72,188,{"$f":"ExoTerra!I$34","v":0},{"$f":"ExoTerra!J$34","v":0}]
[null,1111121412,"PT2613","Тераріум ExoTerra д/екзот/тварин Natural Terrarium скляний 90x45x45см","Менше 10","Тераріуми",14850.96,20791,{"$f":"ExoTerra!I$35","v":0},{"$f":"ExoTerra!J$35","v":0}]
[null,22312,"PT2465","Термометр ExoTerra для тераріумів механічний пластиковий","Менше 10","Аксесуари для тераріума",208.8,293,{"$f":"ExoTerra!I$36","v":0},{"$f":"ExoTerra!J$36","v":0}]
[null,1111113981,"PT2455_ord","Термометр ExoTerra для тераріуму рідкокристалічний чорний","Менше 10","Обладнання для тераріума",172.14,242,{"$f":"ExoTerra!I$37","v":0},{"$f":"ExoTerra!J$37","v":0}]
[null,1111208459,"1264 Украина","БЕЗ БІРКИ Губка для внутрішнього фільтра пряма крупнопориста 10х10х20 ","Менше 10","Аксесуари для обладнання",36.42,0,{"$f":"'Filter sponge Ukr'!I$8","v":0},{"$f":"'Filter sponge Ukr'!J$8","v":0}]
[null,1111142358,"1264 Украина","Губка для внутрішнього фільтра пряма крупнопориста 10х10х20см","Більше 10","Аксесуари для обладнання",72.84,103,{"$f":"'Filter sponge Ukr'!I$9","v":0},{"$f":"'Filter sponge Ukr'!J$9","v":0}]
[null,1111143465,"1301 Украина","Губка для внутрішнього фільтра пряма крупнопориста 10х15х20см","Більше 10","Аксесуари для обладнання",59.94,84,{"$f":"'Filter sponge Ukr'!I$10","v":0},{"$f":"'Filter sponge Ukr'!J$10","v":0}]
[null,1111144188,"1226 Украина","Губка для внутрішнього фільтра пряма крупнопориста 9х15см","Більше 10","Аксесуари для обладнання",47.64,66,{"$f":"'Filter sponge Ukr'!I$11","v":0},{"$f":"'Filter sponge Ukr'!J$11","v":0}]
[null,1111144189,"1219 Украина","Губка для внутрішнього фільтра пряма крупнопориста рифлена 9х15см","Більше 10","Аксесуари для обладнання",59.94,84,{"$f":"'Filter sponge Ukr'!I$12","v":0},{"$f":"'Filter sponge Ukr'!J$12","v":0}]
[null,1111152114,"12111 BLACK Flexi","Контейнер Flexi для рулетки Vario MultiBox чорний пластик 7х5см","Більше 100","Амуніція для собак",234.12,305,{"$f":"Flexi!I$8","v":0},{"$f":"Flexi!J$8","v":0}]
[null,1111148008,"Cat RED Flexi","Повідець-рулетка Flexi д/котів New Classic Cat трос червона XS 3м/ 8кг","Менше 10","Амуніція для котів",402.6,522,{"$f":"Flexi!I$9","v":0},{"$f":"Flexi!J$9","v":0}]
[null,10353,"FL 030004","Повідець-рулетка Flexi д/собак Neon Giant стрічка чорна XL 8м/від50кг","Менше 10","Амуніція для собак",1902,2473,{"$f":"Flexi!I$10","v":0},{"$f":"Flexi!J$10","v":0}]
[null,1111148215,"11723 RED Flexi","Повідець-рулетка Flexi д/собак New Classic стрічка червона L 5м/ 50кг","Більше 10","Амуніція для собак",865.8,1126,{"$f":"Flexi!I$11","v":0},{"$f":"Flexi!J$11","v":0}]
[null,1111147890,"11823 RED Flexi","Повідець-рулетка Flexi д/собак New Classic стрічка червона XS 3м/12кг","Більше 10","Амуніція для собак",528.29999999999995,687,{"$f":"Flexi!I$12","v":0},{"$f":"Flexi!J$12","v":0}]
[null,1111161956,"FL 043615*****","Повідець-рулетка Flexi д/собак New Comfort стрічка блакитна M 5м/25кг","Менше 10","Амуніція для собак",877.92,1142,{"$f":"Flexi!I$13","v":0},{"$f":"Flexi!J$13","v":0}]
[null,1111162157,"FL 043516*****","Повідець-рулетка Flexi д/собак New Comfort стрічка блакитна S 5м/15кг","Менше 10","Амуніція для собак",724.62,942,{"$f":"Flexi!I$14","v":0},{"$f":"Flexi!J$14","v":0}]
[null,1111161946,"FL 043424*****","Повідець-рулетка Flexi д/собак New Comfort стрічка червона XS 3м/12кг","Менше 10","Амуніція для собак",607.74,791,{"$f":"Flexi!I$15","v":0},{"$f":"Flexi!J$15","v":0}]
[null,1111139914,"Cat PINK Flexi*****","Повідець-рулетка Flexi для котів New Classic Cat трос рожева XS 3м/8кг","Менше 10","Амуніція для котів",402.6,522,{"$f":"Flexi!I$16","v":0},{"$f":"Flexi!J$16","v":0}]
[null,1111147987,"Cat BLUE Flexi*****","Повідець-рулетка Flexi для котів New Classic Cat трос синя XS 3м/ 8кг","Менше 10","Амуніція для котів",402.6,522,{"$f":"Flexi!I$17","v":0},{"$f":"Flexi!J$17","v":0}]
[null,1111147026,"Cat BLACK Flexi","Повідець-рулетка Flexi для котів New Classic Cat трос чорна XS 3м/ 8кг","Більше 10","Амуніція для котів",402.6,522,{"$f":"Flexi!I$18","v":0},{"$f":"Flexi!J$18","v":0}]
[null,1111161942,"FL 034125","Повідець-рулетка Flexi для собак Black Design стрічка зелена L 5м/50кг","Менше 10","Амуніція для собак",794.1,1033,{"$f":"Flexi!I$19","v":0},{"$f":"Flexi!J$19","v":0}]
[null,1111162167,"FL 034026","Повідець-рулетка Flexi для собак Black Design стрічка зелена M 5м/25кг","Більше 10","Амуніція для собак",705.9,918,{"$f":"Flexi!I$20","v":0},{"$f":"Flexi!J$20","v":0}]
[null,1111161936,"FL 033920","Повідець-рулетка Flexi для собак Black Design стрічка зелена S 5м/15кг","Більше 10","Амуніція для собак",593.4,771,{"$f":"Flexi!I$21","v":0},{"$f":"Flexi!J$21","v":0}]
[null,1111161937,"FL 033913","Повідець-рулетка Flexi для собак Black Design стрічка рожева S 5м/15кг","Менше 10","Амуніція для собак",593.4,771,{"$f":"Flexi!I$22","v":0},{"$f":"Flexi!J$22","v":0}]
[null,1111161941,"FL 034132","Повідець-рулетка Flexi для собак Black Design стрічка синя L 5м/50кг","Менше 10","Амуніція для собак",794.1,1033,{"$f":"Flexi!I$23","v":0},{"$f":"Flexi!J$23","v":0}]
[null,1111162166,"FL 034033","Повідець-рулетка Flexi для собак Black Design стрічка синя M 5м/25кг","Менше 10","Амуніція для собак",705.9,918,{"$f":"Flexi!I$24","v":0},{"$f":"Flexi!J$24","v":0}]
[null,1111162165,"FL 033937","Повідець-рулетка Flexi для собак Black Design стрічка синя S 5м/15кг","Більше 10","Амуніція для собак",593.4,771,{"$f":"Flexi!I$25","v":0},{"$f":"Flexi!J$25","v":0}]
[null,1111161939,"FL 034101","Повідець-рулетка Flexi для собак Black Design стрічка чорна L 5м/50кг","Менше 10","Амуніція для собак",794.1,1033,{"$f":"Flexi!I$26","v":0},{"$f":"Flexi!J$26","v":0}]
[null,1111162168,"FL 034002","Повідець-рулетка Flexi для собак Black Design стрічка чорна M 5м/25кг","Більше 10","Амуніція для собак",705.9,918,{"$f":"Flexi!I$27","v":0},{"$f":"Flexi!J$27","v":0}]
[null,1111161934,"FL 033425","Повідець-рулетка Flexi для собак Black Design трос зелена M 5м/20кг","Більше 10","Амуніція для собак",538.26,701,{"$f":"Flexi!I$28","v":0},{"$f":"Flexi!J$28","v":0}]
[null,1111161931,"FL 033326","Повідець-рулетка Flexi для собак Black Design трос зелена S 5м/12кг","Більше 10","Амуніція для собак",467.64,608,{"$f":"Flexi!I$29","v":0},{"$f":"Flexi!J$29","v":0}]
[null,1111161926,"FL 033227","Повідець-рулетка Flexi для собак Black Design трос зелена XS 3м/8кг","Менше 10","Амуніція для собак",401.46,521,{"$f":"Flexi!I$30","v":0},{"$f":"Flexi!J$30","v":0}]
[null,1111162163,"FL 033418","Повідець-рулетка Flexi для собак Black Design трос рожева M 5м/20кг","Менше 10","Амуніція для собак",538.26,701,{"$f":"Flexi!I$31","v":0},{"$f":"Flexi!J$31","v":0}]
[null,1111161932,"FL 033319","Повідець-рулетка Flexi для собак Black Design трос рожева S 5м/12кг","Менше 10","Амуніція для собак",467.64,608,{"$f":"Flexi!I$32","v":0},{"$f":"Flexi!J$32","v":0}]
[null,1111161928,"FL 033210","Повідець-рулетка Flexi для собак Black Design трос рожева XS 3м/8кг","Більше 10","Амуніція для собак",401.46,521,{"$f":"Flexi!I$33","v":0},{"$f":"Flexi!J$33","v":0}]
[null,1111161930,"FL 033333","Повідець-рулетка Flexi для собак Black Design трос синя S 5м/12кг","Більше 10","Амуніція для собак",467.64,608,{"$f":"Flexi!I$34","v":0},{"$f":"Flexi!J$34","v":0}]
[null,1111161925,"FL 033234","Повідець-рулетка Flexi для собак Black Design трос синя XS 3м/8кг","Менше 10","Амуніція для собак",401.46,521,{"$f":"Flexi!I$35","v":0},{"$f":"Flexi!J$35","v":0}]
[null,1111162164,"FL 033401","Повідець-рулетка Flexi для собак Black Design трос чорна M 5м/20кг","Менше 10","Амуніція для собак",538.26,701,{"$f":"Flexi!I$36","v":0},{"$f":"Flexi!J$36","v":0}]
[null,1111161929,"FL 033302","Повідець-рулетка Flexi для собак Black Design трос чорна S 5м/12кг","Менше 10","Амуніція для собак",467.64,608,{"$f":"Flexi!I$37","v":0},{"$f":"Flexi!J$37","v":0}]
[null,1111161924,"FL 033203","Повідець-рулетка Flexi для собак Black Design трос чорна XS 3м/8кг","Більше 10","Амуніція для собак",401.46,521,{"$f":"Flexi!I$38","v":0},{"$f":"Flexi!J$38","v":0}]
[null,1111131992,"20929 BLACK Flexi","Повідець-рулетка Flexi для собак Neon Giant стрічка чорна L 8м/50кг","Менше 10","Амуніція для собак",1791.18,2330,{"$f":"Flexi!I$39","v":0},{"$f":"Flexi!J$39","v":0}]
[null,1111149661,"11716 PINK Flexi*****","Повідець-рулетка Flexi для собак New Classic стрічка рожева M 5м/ 25кг","Менше 10","Амуніція для собак",791.88,1030,{"$f":"Flexi!I$40","v":0},{"$f":"Flexi!J$40","v":0}]
[null,1111147886,"11836 PINK Flexi","Повідець-рулетка Flexi для собак New Classic стрічка рожева S 5м/ 15кг","Менше 10","Амуніція для собак",628.67999999999995,818,{"$f":"Flexi!I$41","v":0},{"$f":"Flexi!J$41","v":0}]
[null,1111147889,"11826 PINK Flexi","Повідець-рулетка Flexi для собак New Classic стрічка рожева XS 3м/12кг","Менше 10","Амуніція для собак",528.29999999999995,687,{"$f":"Flexi!I$42","v":0},{"$f":"Flexi!J$42","v":0}]
[null,1111148216,"11722 BLUE Flexi","Повідець-рулетка Flexi для собак New Classic стрічка синя L 5м/ 50кг","Менше 10","Амуніція для собак",865.8,1126,{"$f":"Flexi!I$43","v":0},{"$f":"Flexi!J$43","v":0}]
[null,1111148633,"11732 BLUE Flexi*****","Повідець-рулетка Flexi для собак New Classic стрічка синя L 8м/ 50кг","Менше 10","Амуніція для собак",1172.4000000000001,1525,{"$f":"Flexi!I$44","v":0},{"$f":"Flexi!J$44","v":0}]
[null,1111148219,"11712 BLUE Flexi","Повідець-рулетка Flexi для собак New Classic стрічка синя M 5м/ 25кг","Менше 10","Амуніція для собак",791.88,1030,{"$f":"Flexi!I$45","v":0},{"$f":"Flexi!J$45","v":0}]
[null,1111147887,"11832 BLUE Flexi","Повідець-рулетка Flexi для собак New Classic стрічка синя S 5м/ 15кг","Менше 10","Амуніція для собак",628.67999999999995,818,{"$f":"Flexi!I$46","v":0},{"$f":"Flexi!J$46","v":0}]
[null,1111147891,"11822 BLUE Flexi","Повідець-рулетка Flexi для собак New Classic стрічка синя XS 3м/ 12кг","Менше 10","Амуніція для собак",528.29999999999995,687,{"$f":"Flexi!I$47","v":0},{"$f":"Flexi!J$47","v":0}]
[null,1111148632,"11733 RED Flexi*****","Повідець-рулетка Flexi для собак New Classic стрічка червона L 8м/50кг","Менше 10","Амуніція для собак",1172.4000000000001,1439,{"$f":"Flexi!I$48","v":0},{"$f":"Flexi!J$48","v":0}]
[null,1111148218,"11713 RED Flexi","Повідець-рулетка Flexi для собак New Classic стрічка червона M 5м/25кг","Менше 10","Амуніція для собак",791.88,1030,{"$f":"Flexi!I$49","v":0},{"$f":"Flexi!J$49","v":0}]
[null,1111139748,"11833 RED Flexi","Повідець-рулетка Flexi для собак New Classic стрічка червона S 5м/15кг","Більше 10","Амуніція для собак",628.67999999999995,818,{"$f":"Flexi!I$50","v":0},{"$f":"Flexi!J$50","v":0}]
[null,1111148217,"11721 BLACK Flexi","Повідець-рулетка Flexi для собак New Classic стрічка чорна L 5м/ 50кг","Менше 10","Амуніція для собак",865.8,1126,{"$f":"Flexi!I$51","v":0},{"$f":"Flexi!J$51","v":0}]
[null,1111148634,"11731 BLACK Flexi","Повідець-рулетка Flexi для собак New Classic стрічка чорна L 8м/ 50кг","Більше 10","Амуніція для собак",1172.4000000000001,1525,{"$f":"Flexi!I$52","v":0},{"$f":"Flexi!J$52","v":0}]
[null,1111148220,"11711 BLACK Flexi","Повідець-рулетка Flexi для собак New Classic стрічка чорна M 5м/ 25кг","Більше 10","Амуніція для собак",791.88,1030,{"$f":"Flexi!I$53","v":0},{"$f":"Flexi!J$53","v":0}]
[null,1111147888,"11831 BLACK Flexi","Повідець-рулетка Flexi для собак New Classic стрічка чорна S 5м/ 15кг","Більше 10","Амуніція для собак",628.67999999999995,818,{"$f":"Flexi!I$54","v":0},{"$f":"Flexi!J$54","v":0}]
[null,1111139745,"11821 BLACK Flexi","Повідець-рулетка Flexi для собак New Classic стрічка чорна XS 3м/ 12кг","Більше 10","Амуніція для собак",528.29999999999995,687,{"$f":"Flexi!I$55","v":0},{"$f":"Flexi!J$55","v":0}]
[null,1111147898,"11796 PINK Flexi*****","Повідець-рулетка Flexi для собак New Classic трос рожева M 5м/ 20кг","Менше 10","Амуніція для собак",553.67999999999995,720,{"$f":"Flexi!I$56","v":0},{"$f":"Flexi!J$56","v":0}]
[null,1111147894,"11786 PINK Flexi","Повідець-рулетка Flexi для собак New Classic трос рожева S 5м/ 12кг","Менше 10","Амуніція для собак",477.6,622,{"$f":"Flexi!I$57","v":0},{"$f":"Flexi!J$57","v":0}]
[null,1111139746,"11806 PINK Flexi*****","Повідець-рулетка Flexi для собак New Classic трос рожева S 8м/ 12кг","Менше 10","Амуніція для собак",748.92,975,{"$f":"Flexi!I$58","v":0},{"$f":"Flexi!J$58","v":0}]
[null,1111147369,"11776 PINK Flexi","Повідець-рулетка Flexi для собак New Classic трос рожева XS 3м/ 8кг","Менше 10","Амуніція для собак",402.6,522,{"$f":"Flexi!I$59","v":0},{"$f":"Flexi!J$59","v":0}]
[null,1111148013,"11812 BLUE Flexi*****","Повідець-рулетка Flexi для собак New Classic трос синя M 8м/ 20кг","Менше 10","Амуніція для собак",804.06,1046,{"$f":"Flexi!I$60","v":0},{"$f":"Flexi!J$60","v":0}]
[null,1111147892,"11782 BLUE Flexi","Повідець-рулетка Flexi для собак New Classic трос синя S 5м/ 12кг","Більше 10","Амуніція для собак",477.6,622,{"$f":"Flexi!I$61","v":0},{"$f":"Flexi!J$61","v":0}]
[null,1111148009,"11802 BLUE Flexi","Повідець-рулетка Flexi для собак New Classic трос синя S 8м/ 12кг","Менше 10","Амуніція для собак",748.92,975,{"$f":"Flexi!I$62","v":0},{"$f":"Flexi!J$62","v":0}]
[null,1111147368,"11772 BLUE Flexi","Повідець-рулетка Flexi для собак New Classic трос синя XS 3м/ 8кг","Більше 10","Амуніція для собак",402.6,522,{"$f":"Flexi!I$63","v":0},{"$f":"Flexi!J$63","v":0}]
[null,1111139750,"11793 RED Flexi","Повідець-рулетка Flexi для собак New Classic трос червона M 5м/ 20кг","Менше 10","Амуніція для собак",553.67999999999995,721,{"$f":"Flexi!I$64","v":0},{"$f":"Flexi!J$64","v":0}]
[null,1111139747,"11813 RED Flexi*****","Повідець-рулетка Flexi для собак New Classic трос червона M 8м/ 20кг","Менше 10","Амуніція для собак",804.06,1046,{"$f":"Flexi!I$65","v":0},{"$f":"Flexi!J$65","v":0}]
[null,1111148010,"11803 RED Flexi*****","Повідець-рулетка Flexi для собак New Classic трос червона S 8м/ 12кг","Менше 10","Амуніція для собак",748.92,975,{"$f":"Flexi!I$66","v":0},{"$f":"Flexi!J$66","v":0}]
[null,1111147900,"11791 BLACK Flexi","Повідець-рулетка Flexi для собак New Classic трос чорна M 5м/ 20кг","Менше 10","Амуніція для собак",553.67999999999995,721,{"$f":"Flexi!I$67","v":0},{"$f":"Flexi!J$67","v":0}]
[null,1111148014,"11811 BLACK Flexi","Повідець-рулетка Flexi для собак New Classic трос чорна M 8м/ 20кг","Менше 10","Амуніція для собак",804.06,1046,{"$f":"Flexi!I$68","v":0},{"$f":"Flexi!J$68","v":0}]
[null,1111139751,"11781 BLACK Flexi","Повідець-рулетка Flexi для собак New Classic трос чорна S 5м/ 12кг","Більше 10","Амуніція для собак",477.6,622,{"$f":"Flexi!I$69","v":0},{"$f":"Flexi!J$69","v":0}]
[null,1111148011,"11801 BLACK Flexi","Повідець-рулетка Flexi для собак New Classic трос чорна S 8м/ 12кг","Менше 10","Амуніція для собак",748.92,975,{"$f":"Flexi!I$70","v":0},{"$f":"Flexi!J$70","v":0}]
[null,1111139752,"11771 BLACK Flexi","Повідець-рулетка Flexi для собак New Classic трос чорна XS 3м/ 8кг","Більше 10","Амуніція для собак",402.6,522,{"$f":"Flexi!I$71","v":0},{"$f":"Flexi!J$71","v":0}]
[null,1111161954,"FL 043509*****","Повідець-рулетка Flexi для собак New Comfort стрічка рожева S 5м/ 15кг","Менше 10","Амуніція для собак",724.62,942,{"$f":"Flexi!I$72","v":0},{"$f":"Flexi!J$72","v":0}]
[null,1111162159,"FL 043714*****","Повідець-рулетка Flexi для собак New Comfort стрічка синя L 5м/ 60кг","Менше 10","Амуніція для собак",1331.22,1732,{"$f":"Flexi!I$73","v":0},{"$f":"Flexi!J$73","v":0}]
[null,1111162588,"FL 043813*****","Повідець-рулетка Flexi для собак New Comfort стрічка синя L 8м/ 50кг","Менше 10","Амуніція для собак",1415.1,1840,{"$f":"Flexi!I$74","v":0},{"$f":"Flexi!J$74","v":0}]
[null,1111161953,"FL 043530","Повідець-рулетка Flexi для собак New Comfort стрічка синя S 5м/ 15кг","Менше 10","Амуніція для собак",724.62,942,{"$f":"Flexi!I$75","v":0},{"$f":"Flexi!J$75","v":0}]
[null,1111161945,"FL 043431*****","Повідець-рулетка Flexi для собак New Comfort стрічка синя XS 3м/ 12кг","Менше 10","Амуніція для собак",607.74,791,{"$f":"Flexi!I$76","v":0},{"$f":"Flexi!J$76","v":0}]
[null,1111162160,"FL 043707*****","Повідець-рулетка Flexi для собак New Comfort стрічка червона L 5м/60кг","Менше 10","Амуніція для собак",1331.22,1732,{"$f":"Flexi!I$77","v":0},{"$f":"Flexi!J$77","v":0}]
[null,1111162161,"FL 043806*****","Повідець-рулетка Flexi для собак New Comfort стрічка червона L 8м/50кг","Менше 10","Амуніція для собак",1415.1,1840,{"$f":"Flexi!I$78","v":0},{"$f":"Flexi!J$78","v":0}]
[null,1111161955,"FL 043622*****","Повідець-рулетка Flexi для собак New Comfort стрічка червона M 5м/25кг","Менше 10","Амуніція для собак",877.92,1142,{"$f":"Flexi!I$79","v":0},{"$f":"Flexi!J$79","v":0}]
[null,1111161923,"FL 043523*****","Повідець-рулетка Flexi для собак New Comfort стрічка червона S 5м/15кг","Менше 10","Амуніція для собак",724.62,942,{"$f":"Flexi!I$80","v":0},{"$f":"Flexi!J$80","v":0}]
[null,1111161957,"FL 043721","Повідець-рулетка Flexi для собак New Comfort стрічка чорна L 5м/ 60кг","Менше 10","Амуніція для собак",1331.22,1732,{"$f":"Flexi!I$81","v":0},{"$f":"Flexi!J$81","v":0}]
[null,1111162158,"FL 043646","Повідець-рулетка Flexi для собак New Comfort стрічка чорна M 5м/ 25кг","Менше 10","Амуніція для собак",877.92,1142,{"$f":"Flexi!I$82","v":0},{"$f":"Flexi!J$82","v":0}]
[null,1111161952,"FL 043547","Повідець-рулетка Flexi для собак New Comfort стрічка чорна S 5м/ 15кг","Менше 10","Амуніція для собак",724.62,942,{"$f":"Flexi!I$83","v":0},{"$f":"Flexi!J$83","v":0}]
[null,1111162156,"FL 043448*****","Повідець-рулетка Flexi для собак New Comfort стрічка чорна XS 3м/ 12кг","Менше 10","Амуніція для собак",607.74,790,{"$f":"Flexi!I$84","v":0},{"$f":"Flexi!J$84","v":0}]
[null,1111148214,"FL 031711","Повідець-рулетка Flexi для собак New Neon стрічка жовта L 5м/ 50кг","Менше 10","Амуніція для собак",1031.22,1341,{"$f":"Flexi!I$85","v":0},{"$f":"Flexi!J$85","v":0}]
[null,1111148213,"FL 031704","Повідець-рулетка Flexi для собак New Neon стрічка жовта M 5м/ 25кг","Менше 10","Амуніція для собак",931.98,1211,{"$f":"Flexi!I$86","v":0},{"$f":"Flexi!J$86","v":0}]
[null,1111184869,"A14771_ord","Адаптер Fluval для світильника у акваріумі Flex 57л","Менше 10","Обладнання для акваріума",854.16,1196,{"$f":"Fluval!I$8","v":0},{"$f":"Fluval!J$8","v":0}]
[null,1111124727,"A20207","Кільце Hagen д/фільтрів Fluval FХ5/FX6 ущільнювальне д/моторн/блоку","Менше 10","Аксесуари для обладнання",144.36000000000001,202,{"$f":"Fluval!I$9","v":0},{"$f":"Fluval!J$9","v":0}]
[null,7091,"A20038","Кільце Hagen до фільтра Fluval 105/205 - 106/206 ущільнююче","Менше 10","Аксесуари для обладнання",238.62,334,{"$f":"Fluval!I$10","v":0},{"$f":"Fluval!J$10","v":0}]
[null,1111147834,"A20204_ord","Кришка Hagen для корпуса зовнішнього фільтра Fluval FX6 пластик","Менше 10","Аксесуари для обладнання",1559.1,2183,{"$f":"Fluval!I$11","v":0},{"$f":"Fluval!J$11","v":0}]
[null,8099,"A20156","Кришка Hagen для ротора зовнішн/фільтра Fluval 304/305/404/405 пластик","Менше 10","Аксесуари для обладнання",316.8,443,{"$f":"Fluval!I$12","v":0},{"$f":"Fluval!J$12","v":0}]
[null,11303,"A20136","Кришка Hagen для ротора зовнішнього фільтра Fluval 204/205 пластик","Менше 10","Аксесуари для обладнання",433.92,607,{"$f":"Fluval!I$13","v":0},{"$f":"Fluval!J$13","v":0}]
[null,1111174254,"A20095","Набір запчастин Fluval для фільтру FL 207","Менше 10","Аксесуари для обладнання",1202.22,1683,{"$f":"Fluval!I$14","v":0},{"$f":"Fluval!J$14","v":0}]
[null,1111174255,"A20096","Набір запчастин Fluval для фільтру FL 307","Менше 10","Аксесуари для обладнання",1378.92,1931,{"$f":"Fluval!I$15","v":0},{"$f":"Fluval!J$15","v":0}]
[null,1111162217,"A20053_ord","Патрубок Hagen для забору води для фільтрів A443/A446/A449","Менше 10","Аксесуари для обладнання",449.58,629,{"$f":"Fluval!I$16","v":0},{"$f":"Fluval!J$16","v":0}]
[null,1111151436,"15016_ord","Підставка для акваріума Fluval Flex 57 л біла","Менше 10","Підставки та піддони",3994.26,5591,{"$f":"Fluval!I$17","v":0},{"$f":"Fluval!J$17","v":0}]
[null,10228,"A20152","Ротор Hagen для зовнішнього фільтра Fluval 304/305 метал пластик","Менше 10","Аксесуари для обладнання",464.04,649,{"$f":"Fluval!I$18","v":0},{"$f":"Fluval!J$18","v":0}]
[null,10229,"A20172","Ротор Hagen для зовнішнього фільтра Fluval 404/405 метал пластик","Менше 10","Аксесуари для обладнання",458.94,643,{"$f":"Fluval!I$19","v":0},{"$f":"Fluval!J$19","v":0}]
[null,1111147822,"A20208","Ротор Hagen для зовнішнього фільтра Fluval FX4 метал пластик","Менше 10","Аксесуари для обладнання",1513.98,2119,{"$f":"Fluval!I$20","v":0},{"$f":"Fluval!J$20","v":0}]
[null,1111137338,"A20206","Ротор Hagen для зовнішнього фільтра Fluval FX5/FX6 метал пластик","Менше 10","Аксесуари для обладнання",2376,3326,{"$f":"Fluval!I$21","v":0},{"$f":"Fluval!J$21","v":0}]
[null,1111140609,"A15233_ord","Ротор для внутрішнього фільтра Fluval U2 метал пластик","Менше 10","Аксесуари для обладнання",276.42,386,{"$f":"Fluval!I$22","v":0},{"$f":"Fluval!J$22","v":0}]
[null,11759,"A20010_ord","Трубка Fluval забору води для FL 106/206 пластик","Менше 10","Аксесуари для обладнання",553.86,776,{"$f":"Fluval!I$23","v":0},{"$f":"Fluval!J$23","v":0}]
[null,1111147835,"A20225_ord","Трубка Hagen для фільтру FL FX4/FX5/FX6 забору води пластик","Менше 10","Аксесуари для обладнання",442.08,620,{"$f":"Fluval!I$24","v":0},{"$f":"Fluval!J$24","v":0}]
[null,1111115096,"A20212","Ущільнююче кільіце Fluval д/фільтрів FX4/FX5/FX6","Менше 10","Аксесуари для обладнання",136.26,191,{"$f":"Fluval!I$25","v":0},{"$f":"Fluval!J$25","v":0}]
[null,1111135745,"A219","Фільтр Hagen Fluval FX6 д/акваріума зовнішн пласт/метал/гума до 1500л","Менше 10","Фільтри для акваріумів",21199.02,29680,{"$f":"Fluval!I$26","v":0},{"$f":"Fluval!J$26","v":0}]
[null,1111127613,"15110010*****","Клітка Fop Cristina для птахів з підставкою біла 66х45х84см","Менше 10","Обладнання для птахів",6377.88,8292,{"$f":"Fop!I$8","v":0},{"$f":"Fop!J$8","v":0}]
[null,1111143819,15270030,"Клітка Fop Ivonne для птахів оцинкована 66x45x60см","Менше 10","Обладнання для птахів",5123.7,6662,{"$f":"Fop!I$9","v":0},{"$f":"Fop!J$9","v":0}]
[null,1111129209,20030270,"Клітка Fop Junior Deluxe для гризунів укомплектована 42x34x22см","Менше 10","Обладнання для гризунів",949.08,1235,{"$f":"Fop!I$10","v":0},{"$f":"Fop!J$10","v":0}]
[null,1111148625,"10720011*****","Клітка Fop Lara Big Fun для птахів 40х27х51см","Менше 10","Обладнання для птахів",2559.48,3329,{"$f":"Fop!I$11","v":0},{"$f":"Fop!J$11","v":0}]
[null,1111148622,"10300030*****","Клітка Fop Olga для птахів оцинкована 59х36х66см","Менше 10","Обладнання для птахів",4229.04,5499,{"$f":"Fop!I$12","v":0},{"$f":"Fop!J$12","v":0}]
[null,3358,15200030,"Клітка Fop Tiffany для птахів оцинкована на колесах 72x55,5x123,5см","Менше 10","Обладнання для птахів",18453,23988,{"$f":"Fop!I$13","v":0},{"$f":"Fop!J$13","v":0}]
[null,1111148629,20790011,"Клітка Fop Zoe для гризунів укомплектована 45x27x20см","Менше 10","Обладнання для гризунів",1062.48,1381,{"$f":"Fop!I$14","v":0},{"$f":"Fop!J$14","v":0}]
[null,22581,"40151070*****","Кришка-перехідник Fop для тунелів кругла пластик поморанчева 40мм","Менше 10","Обладнання для гризунів",38.58,50,{"$f":"Fop!I$15","v":0},{"$f":"Fop!J$15","v":0}]
[null,1111158253,"691663 СПЕЦЦЕНА","Гребінець-щітка FURminator д/котів/собак 2стороння гум/ручка/зах/кульк","Менше 10","Інструменти для грумінгу",438,679,{"$f":"FURminator!I$8","v":0},{"$f":"FURminator!J$8","v":0}]
[null,1111161390,"691664 СПЕЦЦЕНА","Гребінь FURminator д/собак/котів з обертовими зубцями д/густої шерсті","Менше 10","Інструменти для грумінгу",418.08,648,{"$f":"FURminator!I$9","v":0},{"$f":"FURminator!J$9","v":0}]
[null,1111158255,"691669 СПЕЦЦЕНА","Колтуноріз FURminator для собак та котів регульований","Менше 10","Інструменти для грумінгу",687,1065,{"$f":"FURminator!I$10","v":0},{"$f":"FURminator!J$10","v":0}]
[null,1111156131,"691660СПЕЦЦЕНА","Фурмінатор FURminator для котів з довгою шерстю Long Hair розмір S","Більше 10","Інструменти для грумінгу",733.2,1137,{"$f":"FURminator!I$11","v":0},{"$f":"FURminator!J$11","v":0}]
[null,1111156130,"691659СПЕЦЦЕНА","Фурмінатор FURminator для котів з короткою шерстю Short Hair розмір S","Більше 10","Інструменти для грумінгу",733.2,1137,{"$f":"FURminator!I$12","v":0},{"$f":"FURminator!J$12","v":0}]
[null,1111156133,"691662СПЕЦЦЕНА","Фурмінатор FURminator для котів із довгою шерстю Long Hair розмір М/L","Більше 10","Інструменти для грумінгу",790.32,1225,{"$f":"FURminator!I$13","v":0},{"$f":"FURminator!J$13","v":0}]
[null,1111156132,"691661СПЕЦЦЕНА","Фурмінатор FURminator для котів із короткою шерстю Short Hair розмір L","Більше 10","Інструменти для грумінгу",790.32,1225,{"$f":"FURminator!I$14","v":0},{"$f":"FURminator!J$14","v":0}]
[null,1111156127,"691657СПЕЦЦЕНА","Фурмінатор FURminator для собак з довгою шерстю Long Hair розмір L","Більше 10","Інструменти для грумінгу",1100.28,1704,{"$f":"FURminator!I$15","v":0},{"$f":"FURminator!J$15","v":0}]
[null,1111156125,"691655СПЕЦЦЕНА","Фурмінатор FURminator для собак з довгою шерстю Long Hair розмір M","Менше 10","Інструменти для грумінгу",917.58,1423,{"$f":"FURminator!I$16","v":0},{"$f":"FURminator!J$16","v":0}]
[null,1111156123,"691654СПЕЦЦЕНА","Фурмінатор FURminator для собак з довгою шерстю Long Hair розмір S","Менше 10","Інструменти для грумінгу",733.2,1137,{"$f":"FURminator!I$17","v":0},{"$f":"FURminator!J$17","v":0}]
[null,1111156129,"691658СПЕЦЦЕНА","Фурмінатор FURminator для собак з довгою шерстю Long Hair розмір XL","Менше 10","Інструменти для грумінгу",1279.6199999999999,1982,{"$f":"FURminator!I$18","v":0},{"$f":"FURminator!J$18","v":0}]
[null,1111156121,"691693СПЕЦЦЕНА","Фурмінатор FURminator для собак з довгою шерстю Long Hair розмір XS","Менше 10","Інструменти для грумінгу",643.5,996,{"$f":"FURminator!I$19","v":0},{"$f":"FURminator!J$19","v":0}]
[null,1111156126,"92955FL/691656СПЕЦЦЕНА","Фурмінатор FURminator для собак з короткою шерстю Short Hair розмір L","Менше 10","Інструменти для грумінгу",1100.28,1704,{"$f":"FURminator!I$20","v":0},{"$f":"FURminator!J$20","v":0}]
[null,1111156122,"691653СПЕЦЦЕНА","Фурмінатор FURminator для собак з короткою шерстю Short Hair розмір S","Більше 10","Інструменти для грумінгу",733.2,1137,{"$f":"FURminator!I$21","v":0},{"$f":"FURminator!J$21","v":0}]
[null,1111156120,"691692СПЕЦЦЕНА","Фурмінатор FURminator для собак з короткою шерстю Short Hair розмір XS","Більше 10","Інструменти для грумінгу",643.5,996,{"$f":"FURminator!I$22","v":0},{"$f":"FURminator!J$22","v":0}]
[null,1111156124,"691665СПЕЦЦЕНА","Фурмінатор FURminator для собак з короткою шерстю Short Hair розмір М","Більше 10","Інструменти для грумінгу",917.58,1423,{"$f":"FURminator!I$23","v":0},{"$f":"FURminator!J$23","v":0}]
[null,1111156128,"691694СПЕЦЦЕНА*****","Фурмінатор FURminator для собак з короткою шерстю Short Hair розмір ХL","Менше 10","Інструменти для грумінгу",1279.6199999999999,1982,{"$f":"FURminator!I$24","v":0},{"$f":"FURminator!J$24","v":0}]
[null,1111158252,"691668 СПЕЦЦЕНА","Щітка FURminator для котів та собак для збору шерсті","Менше 10","Інструменти для грумінгу",579.05999999999995,898,{"$f":"FURminator!I$25","v":0},{"$f":"FURminator!J$25","v":0}]
[null,1111158254,"691715 СПЕЦЦЕНА*****","Щітка масажна FURminator для собак та котів гумова","Менше 10","Інструменти для грумінгу",291.72000000000003,454,{"$f":"FURminator!I$26","v":0},{"$f":"FURminator!J$26","v":0}]
[null,1111170987,"153184 СПЕЦЦЕНА","Щітка-пуходерка для собак та котів FURminator жорстка L20,5х9,5х1,5см","Менше 10","Інструменти для грумінгу",517.91999999999996,802,{"$f":"FURminator!I$27","v":0},{"$f":"FURminator!J$27","v":0}]
[null,1111165387,"2.210162/14800","Ласощі GimBi для гризунів Natural Delight з кульбабою та яблуком 100г","Менше 10","Ласощі для гризунів",206.1,310,{"$f":"GimBi!I$8","v":0},{"$f":"GimBi!J$8","v":0}]
[null,1111129443,"G-205069","Сено для грызунов 1кг GimBi","Більше 100","Корм для гризунів",148.56,224,{"$f":"GimBi!I$9","v":0},{"$f":"GimBi!J$9","v":0}]
[null,1111160189,"G-205151","Сіно GimBi для гризунів з тімофіївкою 500г","Менше 10","Корм для гризунів",238.62,357,{"$f":"GimBi!I$10","v":0},{"$f":"GimBi!J$10","v":0}]
[null,1111207191,"G-205069","ТЕРМ. 10.26, ПОРВ. Сіно для гризунів 1кг GimBi","Менше 10","Корм для гризунів",74.28,0,{"$f":"GimBi!I$11","v":0},{"$f":"GimBi!J$11","v":0}]
[null,1111183697,"G-427201","DUO PASTE Anti-hairboll GimCat д/котів з чутлив.травл мальт,курка 50г","Більше 100","Вітаміни для котів",221.58,311,{"$f":"GimCat!I$8","v":0},{"$f":"GimCat!J$8","v":0}]
[null,1111183698,"G-427218","DUO PASTE Anti-hairboll GimCat д/котів з чутлив.травл мальт,сир 50г","Більше 100","Вітаміни для котів",221.58,311,{"$f":"GimCat!I$9","v":0},{"$f":"GimCat!J$9","v":0}]
[null,1111183699,"G-421841","DUO PASTE Multi-vitamin GimCat д/котів 12вітамінів,сир 50г","Більше 10","Вітаміни для котів",232.86,327,{"$f":"GimCat!I$10","v":0},{"$f":"GimCat!J$10","v":0}]
[null,1111183700,"G-421858","DUO PASTE Multi-vitamin GimCat д/котів 12вітамінів,тунець 50г","Більше 10","Вітаміни для котів",232.86,327,{"$f":"GimCat!I$11","v":0},{"$f":"GimCat!J$11","v":0}]
[null,1111153594,"G-420653/420615","GimCat Every Day Dental вітаміни для котів для здоров_я зубів 40г","Більше 10","Вітаміни для котів",115.14,162,{"$f":"GimCat!I$12","v":0},{"$f":"GimCat!J$12","v":0}]
[null,1111138174,"G-417127/417943","GimCat Every Day Malt-Soft Paste Extra д/вивед. шерсті зі шлунку  200г","Більше 10","Вітаміни для котів",551.94000000000005,772,{"$f":"GimCat!I$13","v":0},{"$f":"GimCat!J$13","v":0}]
[null,667,"G-407531/417936","GimCat Every Day Malt-Soft Paste Extra паста д/котів д/вивед/шерс 100г","Більше 10","Вітаміни для котів",349.68,489,{"$f":"GimCat!I$14","v":0},{"$f":"GimCat!J$14","v":0}]
[null,2831,"G-407081/417912","GimCat Every Day Malt-Soft Paste Extra паста д/котів д/вивед/шерс 20г","Більше 100","Вітаміни для котів",124.8,174,{"$f":"GimCat!I$15","v":0},{"$f":"GimCat!J$15","v":0}]
[null,1111153596,"G-421681/418704","GimCat Every Day Multivitamin вітаміни д/котів д/підвищ/імунітету 40г","Більше 100","Вітаміни для котів",112.08,156,{"$f":"GimCat!I$16","v":0},{"$f":"GimCat!J$16","v":0}]
[null,1111123383,"G-407364/417929","GimCat Every Day Skin and Coat вітаміни д/котів д/вивод/шерсті 50г","Більше 100","Вітаміни для котів",221.7,311,{"$f":"GimCat!I$17","v":0},{"$f":"GimCat!J$17","v":0}]
[null,1111153593,"G-418711/419114","GimCat Every Day Skin and Coat вітаміни д/котів д/покращен/шерсті 40г","Більше 10","Вітаміни для котів",112.14,156,{"$f":"GimCat!I$18","v":0},{"$f":"GimCat!J$18","v":0}]
[null,1111150088,"G-417950/417462","GimCat Expert Line Gastro Intestinal вітаміни д/котів д/покр/трав 50г","Більше 10","Вітаміни для котів",313.98,440,{"$f":"GimCat!I$19","v":0},{"$f":"GimCat!J$19","v":0}]
[null,1111140716,"G-420844/420929/420448","GimCat Gimpet Kitten ласощі м_ясні палички для кошенят 3шт","Більше 100","Ласощі для котів",56.76,79,{"$f":"GimCat!I$20","v":0},{"$f":"GimCat!J$20","v":0}]
[null,1111140229,"G-418285/419336/419244","GimCat Nutri Pockets Dental вітамінні ласощі для котів для зубів 60г","Більше 100","Ласощі для котів",86.04,121,{"$f":"GimCat!I$21","v":0},{"$f":"GimCat!J$21","v":0}]
[null,1111138663,"G-419299/400730","GimCat Nutri Pockets витамінні ласощі д/котів д/імунітета лосось 60г","Більше 100","Ласощі для котів",86.04,121,{"$f":"GimCat!I$22","v":0},{"$f":"GimCat!J$22","v":0}]
[null,1111138659,"G-419251/400693/419169","GimCat Nutri Pockets вітамінні ласощі д/котів д/імунітета мультив 150г","Більше 100","Ласощі для котів",148.44,209,{"$f":"GimCat!I$23","v":0},{"$f":"GimCat!J$23","v":0}]
[null,1111138664,"G-419305/400747","GimCat Nutri Pockets д/котів д/виведення/шерсті яловичина/солод 60г","Більше 100","Ласощі для котів",92.94,130,{"$f":"GimCat!I$24","v":0},{"$f":"GimCat!J$24","v":0}]
[null,1111164085,"G-419183/419275","GimCat Nutri Pockets Кантрі мікс д/котів з качкою/яловичин/індич 150г","Більше 100","Ласощі для котів",148.44,209,{"$f":"GimCat!I$25","v":0},{"$f":"GimCat!J$25","v":0}]
[null,1111164086,"G-419220/419312","GimCat Nutri Pockets ласощі вітамінні д/котів з качкою/мультивітам 60г","Більше 100","Ласощі для котів",86.04,121,{"$f":"GimCat!I$26","v":0},{"$f":"GimCat!J$26","v":0}]
[null,1111164084,"G-419176/419268","GimCat Nutri Pockets Морський мікс ласощі вітамінні для котів 150г","Більше 100","Ласощі для котів",148.44,209,{"$f":"GimCat!I$27","v":0},{"$f":"GimCat!J$27","v":0}]
[null,1111148272,"G-413815 /900","GimCat Shiny Cat Filet консерва для котів з тунцем 70г","Більше 100","Корм вологий для котів",76.38,96,{"$f":"GimCat!I$28","v":0},{"$f":"GimCat!J$28","v":0}]
[null,1111140226,"G-412924 / 413761","GimCat Shiny Cat Filet консерва для котів з тунцем та анчоусом 70г","Більше 100","Корм вологий для котів",76.38,96,{"$f":"GimCat!I$29","v":0},{"$f":"GimCat!J$29","v":0}]
[null,1111140228,"G-412979 / 413792","GimCat Shiny Cat Filet консерва для котів курка/манго 70г","Більше 100","Корм вологий для котів",70.02,88,{"$f":"GimCat!I$30","v":0},{"$f":"GimCat!J$30","v":0}]
[null,1111148271,"G-413808/412887","GimCat Shiny Cat Filet консерва для котів курка/рис 70г","Більше 100","Корм вологий для котів",72.06,90,{"$f":"GimCat!I$31","v":0},{"$f":"GimCat!J$31","v":0}]
[null,1111160191,"G-414201","GimCat Shiny Cat Filet консерва для котів тунець/лосось/рис 70г","Більше 100","Корм вологий для котів",78.599999999999994,99,{"$f":"GimCat!I$32","v":0},{"$f":"GimCat!J$32","v":0}]
[null,1111146616,"G-414539/414577","GimCat Shiny Cat Superfood консерва д/котів з тунцем/цукіні 70г","Більше 100","Корм вологий для котів",76.260000000000005,97,{"$f":"GimCat!I$33","v":0},{"$f":"GimCat!J$33","v":0}]
[null,1111146614,"G-414515/414553","GimCat Shiny Cat Superfood консерва для котів курка/яблоко 70г","Більше 100","Корм вологий для котів",78.42,100,{"$f":"GimCat!I$34","v":0},{"$f":"GimCat!J$34","v":0}]
[null,1111153707,"G-414737","GimCat Shiny Cat Superfood консерва для котів тунець/гарбуз 70г","Більше 100","Корм вологий для котів",78.42,100,{"$f":"GimCat!I$35","v":0},{"$f":"GimCat!J$35","v":0}]
[null,1111148265,"G-413372/413259","GimCat Shiny Cat консерва д/котів з тунцем/креветками/мальтом 70г","Більше 100","Корм вологий для котів",77.760000000000005,98,{"$f":"GimCat!I$36","v":0},{"$f":"GimCat!J$36","v":0}]
[null,1111137996,"G-413112 /413310","GimCat Shiny Cat консерва для котів з куркою в желе 70г","Більше 100","Корм вологий для котів",66.180000000000007,83,{"$f":"GimCat!I$37","v":0},{"$f":"GimCat!J$37","v":0}]
[null,1111137993,"G-413082 /413280","GimCat Shiny Cat консерва для котів з тунцем в желе 70г","Більше 100","Корм вологий для котів",68.94,87,{"$f":"GimCat!I$38","v":0},{"$f":"GimCat!J$38","v":0}]
[null,1111137994,"G-413099 /413297","GimCat Shiny Cat консерва для котів з тунцем та креветками в желе 70г","Більше 100","Корм вологий для котів",68.94,87,{"$f":"GimCat!I$39","v":0},{"$f":"GimCat!J$39","v":0}]
[null,1111137995,"G-413105 /413303","GimCat Shiny Cat консерва для котів з тунцем та куркою в желе 70г","Більше 100","Корм вологий для котів",68.94,87,{"$f":"GimCat!I$40","v":0},{"$f":"GimCat!J$40","v":0}]
[null,1111148267,"G-414317 /195","GimCat Shiny Cat консерва для котів з тунцем та лососем в желе 70г","Більше 100","Корм вологий для котів",68.94,87,{"$f":"GimCat!I$41","v":0},{"$f":"GimCat!J$41","v":0}]
[null,1111146346,"G-412948/413587","GimCat Shiny Cat консерва для котів курка/папайя 70г","Більше 100","Корм вологий для котів",69.3,87,{"$f":"GimCat!I$42","v":0},{"$f":"GimCat!J$42","v":0}]
[null,1111148266,"G-414300/414188","GimCat Shiny Cat консерва для котів тунець/сир 70г","Більше 100","Корм вологий для котів",69.3,87,{"$f":"GimCat!I$43","v":0},{"$f":"GimCat!J$43","v":0}]
[null,1111146624,"G-420967/420578","GimCat Superfood Duo-Sticks ласощі для котів курка/лісові ягоди 3шт/5г","Більше 100","Ласощі для котів",62.58,87,{"$f":"GimCat!I$44","v":0},{"$f":"GimCat!J$44","v":0}]
[null,1111146623,"G-420950/420561","GimCat Superfood Duo-Sticks ласощі палички д/котів з ялов/яблуками 3шт","Більше 10","Ласощі для котів",62.58,87,{"$f":"GimCat!I$45","v":0},{"$f":"GimCat!J$45","v":0}]
[null,1111141917,"Gimborn","GimCat ласощі Вітамінний мікс для котів мультивітамін 12шт","Більше 100","Вітаміни для котів",19.62,27,{"$f":"GimCat!I$46","v":0},{"$f":"GimCat!J$46","v":0}]
[null,1111130024,"G-420905/420530","GimCat ласощі м_ясні палички для котів з індичкою та кроликом 4шт","Більше 100","Ласощі для котів",79.92,111,{"$f":"GimCat!I$47","v":0},{"$f":"GimCat!J$47","v":0}]
[null,1111145480,"G-420868/400761","GimCat ласощі палички для котів з м_ясом птиці 4шт по 5г","Більше 100","Ласощі для котів",83.88,117,{"$f":"GimCat!I$48","v":0},{"$f":"GimCat!J$48","v":0}]
[null,1111130023,"G-420912/420523/420820","GimCat ласощі палички для котів з ягням та куркою 4шт по 5г","Більше 100","Ласощі для котів",83.88,117,{"$f":"GimCat!I$49","v":0},{"$f":"GimCat!J$49","v":0}]
[null,1111184123,"G-419626","Nutri Pockets д/котів Рибні Лосось 60г","Більше 100","Ласощі для котів",86.04,121,{"$f":"GimCat!I$50","v":0},{"$f":"GimCat!J$50","v":0}]
[null,1111184124,"G-419633","Nutri Pockets д/котів Рибні Тунець 60г","Більше 100","Ласощі для котів",86.04,121,{"$f":"GimCat!I$51","v":0},{"$f":"GimCat!J$51","v":0}]
[null,1111183839,"G-401010","Вітаміни GimCat Cheese Biotin Paste для котів паста з біотином 100г","Більше 10","Вітаміни для котів",347.52,487,{"$f":"GimCat!I$52","v":0},{"$f":"GimCat!J$52","v":0}]
[null,1111152120,"G-421612/401324","Вітаміни GimCat Every Day Extra мультивітамінна паста для котів 100г","Більше 10","Вітаміни для котів",368.94,517,{"$f":"GimCat!I$53","v":0},{"$f":"GimCat!J$53","v":0}]
[null,1111138138,"G-401898/421643","Вітаміни GimCat Every Day Extra мультивітамінна паста для котів 200г","Більше 10","Вітаміни для котів",547.08000000000004,767,{"$f":"GimCat!I$54","v":0},{"$f":"GimCat!J$54","v":0}]
[null,1111152121,"G-401300/421605","Вітаміни GimCat Every Day Extra мультивітамінна паста для котів 50г","Більше 10","Вітаміни для котів",226.14,317,{"$f":"GimCat!I$55","v":0},{"$f":"GimCat!J$55","v":0}]
[null,1111160999,"G-426174","Вітаміни GimCat Every Day Kitten для кошенят таблетки 40 г","Більше 100","Вітаміни для котів",120.9,170,{"$f":"GimCat!I$56","v":0},{"$f":"GimCat!J$56","v":0}]
[null,1111161838,"G-427034/427065","Вітаміни GimCat Every Day Malt Tabs д/котів таблетки д/вив/шерсті 40г","Більше 10","Вітаміни для котів",118.56,168,{"$f":"GimCat!I$57","v":0},{"$f":"GimCat!J$57","v":0}]
[null,1111126502,"G-401027/421599","Вітаміни GimCat Every Day мультивітамінна паста для котів 100г","Більше 10","Вітаміни для котів",331.8,465,{"$f":"GimCat!I$58","v":0},{"$f":"GimCat!J$58","v":0}]
[null,1111152119,"G-421636/401881","Вітаміни GimCat Every Day мультивітамінна паста для котів 200г","Менше 10","Вітаміни для котів",540.54,757,{"$f":"GimCat!I$59","v":0},{"$f":"GimCat!J$59","v":0}]
[null,1111137838,"G-401423/421629","Вітаміни GimCat Every Day мультивітамінна паста для котів 50г","Більше 10","Вітаміни для котів",221.7,311,{"$f":"GimCat!I$60","v":0},{"$f":"GimCat!J$60","v":0}]
[null,1111151180,"G-426167/ 406787","Вітаміни GimCat Expert Line Kitten д/кошенят вітамінізована паста 50г","Більше 10","Вітаміни для котів",313.98,440,{"$f":"GimCat!I$61","v":0},{"$f":"GimCat!J$61","v":0}]
[null,1111169214,"G-421698","Вітаміни GimCat Expert Line Relax паста д/котів від стресу/тривоги 50г","Більше 10","Вітаміни для котів",313.98,440,{"$f":"GimCat!I$62","v":0},{"$f":"GimCat!J$62","v":0}]
[null,1111148644,"G-421667/421353/421124","Вітаміни GimCat Expert Line Senior д/старіючих котів паста 50г","Більше 10","Вітаміни для котів",313.98,440,{"$f":"GimCat!I$63","v":0},{"$f":"GimCat!J$63","v":0}]
[null,1111150087,"G-402192/402109","Вітаміни GimCat Expert Line Taurine Extra д/котів д/серця та зору 50г","Більше 10","Вітаміни для котів",317.10000000000002,443,{"$f":"GimCat!I$64","v":0},{"$f":"GimCat!J$64","v":0}]
[null,1111194548,"G-427348","Вітаміни GimCat д/дорослих котів д/вивед. грудок шерсті з мальтом 425г","Більше 100","Вітаміни для котів",842.28,1137,{"$f":"GimCat!I$65","v":0},{"$f":"GimCat!J$65","v":0}]
[null,1111194545,"G-419695","Вітаміни GimCat д/котів д/покращ. шерсті з маскарпоне та біотином 425г","Більше 100","Вітаміни для котів",752.64,1016,{"$f":"GimCat!I$66","v":0},{"$f":"GimCat!J$66","v":0}]
[null,1111194544,"G-419701","Вітаміни GimCat д/котів д/шерсті та шкіри з водоростями 425г","Більше 100","Вітаміни для котів",752.64,1016,{"$f":"GimCat!I$67","v":0},{"$f":"GimCat!J$67","v":0}]
[null,1111194547,"G-419671","Вітаміни GimCat д/котів із сиром і таурином 425г","Більше 100","Вітаміни для котів",842.28,1137,{"$f":"GimCat!I$68","v":0},{"$f":"GimCat!J$68","v":0}]
[null,1111194546,"G-419688","Вітаміни GimCat д/котів мультивітамін з куркою 425г","Більше 100","Вітаміни для котів",842.28,1137,{"$f":"GimCat!I$69","v":0},{"$f":"GimCat!J$69","v":0}]
[null,1111159298,"G-418742","Вітаміни GimCat таблетки Every Day для котів з кошачою м_ятою 40г","Більше 100","Ласощі для котів",106.68,149,{"$f":"GimCat!I$70","v":0},{"$f":"GimCat!J$70","v":0}]
[null,1111160187,"G-418735","Вітаміни GimCat таблетки Every Day для котів з молоком 40г","Більше 10","Ласощі для котів",112.02,156,{"$f":"GimCat!I$71","v":0},{"$f":"GimCat!J$71","v":0}]
[null,1111183838,"G-427270","Вітаміни GimCat таблетки Gras Bits для котів трав_яні кульки 425г пауч","Більше 10","Ласощі для котів",709.08,992,{"$f":"GimCat!I$72","v":0},{"$f":"GimCat!J$72","v":0}]
[null,1111183837,"G-419510","Вітаміни GimCat таблетки Kase Rollis для котів сирні кульки 425г пауч","Більше 100","Ласощі для котів",758.58,1062,{"$f":"GimCat!I$73","v":0},{"$f":"GimCat!J$73","v":0}]
[null,1111130025,"G-400778","Ласощі GimCat для котів палички з лососем та фореллю 4 шт по 5 г","Більше 100","Ласощі для котів",83.88,117,{"$f":"GimCat!I$74","v":0},{"$f":"GimCat!J$74","v":0}]
[null,1111194706,"G-422091","Ласощі GimCat для котів палички з лососем та форелю 10 шт по 5 г","Більше 10","Ласощі для котів",187.32,261,{"$f":"GimCat!I$75","v":0},{"$f":"GimCat!J$75","v":0}]
[null,1111194705,"G-420008*****","Ласощі GimCat для котів палички з м_ясом птиці 10 шт по 5 г","Більше 10","Ласощі для котів",187.32,261,{"$f":"GimCat!I$76","v":0},{"$f":"GimCat!J$76","v":0}]
[null,1111142195,"G-418728/418339","Ласощі GimCat для котів таблетки з комплексом вітамінів сирні 40г","Більше 100","Ласощі для котів",116.94,164,{"$f":"GimCat!I$77","v":0},{"$f":"GimCat!J$77","v":0}]
[null,1111198562,"G-421841","ТЕРМ 07.25 DUO PASTE Multi-vitamin Gim Cat д/котів 12вітам.,сир 50г","Більше 10","Вітаміни для котів",110.88,0,{"$f":"GimCat!I$78","v":0},{"$f":"GimCat!J$78","v":0}]
[null,1111198561,"G-401010","ТЕРМ 07.25 Вітам. GimCat Cheese Biotin Paste д/кот. паста з біот. 100г","Менше 10","Вітаміни для котів",165.48,0,{"$f":"GimCat!I$79","v":0},{"$f":"GimCat!J$79","v":0}]
[null,1111202827,"G-427041","ТЕРМ 09.25  GimCat Expert Line UT Balance д/кот. паста нир/сеч/шл 50г","Менше 10","Вітаміни для котів",149.52000000000001,0,{"$f":"GimCat!I$80","v":0},{"$f":"GimCat!J$80","v":0}]
[null,1111202870,"G-401898/421643","ТЕРМ 09.25Вітам.GimCat Every Day Extra мультивіт. паста для котів 200г","Більше 10","Вітаміни для котів",260.52,0,{"$f":"GimCat!I$81","v":0},{"$f":"GimCat!J$81","v":0}]
[null,1111204598,"G-421858","ТЕРМ 10.25 DUO PASTE Multi-vitamin GimCat д/кот.12вітамінів,тунець 50г","Більше 100","Вітаміни для котів",110.88,0,{"$f":"GimCat!I$82","v":0},{"$f":"GimCat!J$82","v":0}]
[null,1111208341,"G-401010","ТЕРМ 12.25Вітам.GimCat Cheese Biotin Paste д/кот. паста з біотин. 100г","Більше 10","Вітаміни для котів",173.76,0,{"$f":"GimCat!I$83","v":0},{"$f":"GimCat!J$83","v":0}]
[null,1111202671,"G-407364/417929","ТЕРМ. 04.26 ПОМ’ЯТ. GimCat EveryDay Skin and Coat вітам вивед/шерст50г","Немає в наявності","Вітаміни для котів",110.88,0,{"$f":"GimCat!I$84","v":0},{"$f":"GimCat!J$84","v":0}]
[null,1111208165,"G-407531/417936","ТЕРМ. 05.26, ПОРВ. Паста GimCat Every Day Malt-Soft Paste Extra для ко","Немає в наявності","Вітаміни для котів",174.84,0,{"$f":"GimCat!I$85","v":0},{"$f":"GimCat!J$85","v":0}]
[null,1111201228,"G-422374","ТЕРМ. 08.25 Адвент календар 2024 GimCat д/котів 550г","Менше 10","Вітаміни для котів",698.94,0,{"$f":"GimCat!I$86","v":0},{"$f":"GimCat!J$86","v":0}]
[null,1111208159,"G-407364/417929","ТЕРМ. 08.26, ПОРВ. Паста GimCat Every Day Malt-Soft Paste Extra для ко","Немає в наявності","Вітаміни для котів",110.88,0,{"$f":"GimCat!I$87","v":0},{"$f":"GimCat!J$87","v":0}]
[null,1111202824,"G-426167/ 406787","ТЕРМ. 09.25 Вітаміни GimCat Expert Line Kitten кошен вітамін.паста 50г","Більше 10","Вітаміни для котів",149.52000000000001,0,{"$f":"GimCat!I$88","v":0},{"$f":"GimCat!J$88","v":0}]
[null,1111206456,"G-427218","ТЕРМ. 11.25 DUO PASTE Anti-hairboll GimCat з чутл.травл мальт,сир 50г","Більше 10","Вітаміни для котів",110.82,0,{"$f":"GimCat!I$89","v":0},{"$f":"GimCat!J$89","v":0}]
[null,1111206454,"G-427041","ТЕРМ. 11.25 Вітаміни GimCat Expert Line UT Balance нирки/сеч/шл 50г","Більше 10","Вітаміни для котів",166.86,0,{"$f":"GimCat!I$90","v":0},{"$f":"GimCat!J$90","v":0}]
[null,1111208600,"G-401027/421599","ТЕРМ.12.25.Вітаміни GimCat Every Day мультивітамінна паста для котів д","Більше 10","Вітаміни для котів",165.9,0,{"$f":"GimCat!I$91","v":0},{"$f":"GimCat!J$91","v":0}]
[null,1111148275,"G-513164 /027","GimDog LD Pure Delight консерва д/собак мініат/порід курка/тунець 85г","Більше 100","Корм вологий для собак",65.28,82,{"$f":"GimDog!I$8","v":0},{"$f":"GimDog!J$8","v":0}]
[null,1111148274,"G-513157/513010","GimDog LD Pure Delight консерва д/собак мініатюрних порід тунець 85 г","Більше 100","Корм вологий для собак",65.28,82,{"$f":"GimDog!I$9","v":0},{"$f":"GimDog!J$9","v":0}]
[null,1111148273,"G-513140 /003","GimDog LD Pure Delight консерва для собак мініатюрних порід курка 85г","Більше 100","Корм вологий для собак",65.28,82,{"$f":"GimDog!I$10","v":0},{"$f":"GimDog!J$10","v":0}]
[null,1111152643,"G-2.504780*****","Кондиціонер GimDog Natural Solutions д/собак розплутуван/шерсті 200мл","Менше 10","Догляд та гігієна для собак",578.94000000000005,753,{"$f":"GimDog!I$11","v":0},{"$f":"GimDog!J$11","v":0}]
[null,1111152649,"G-2.504841","Лосьйон GimDog Natural Solutions для собак для очищення очей 50 мл","Менше 10","Догляд та гігієна для собак",446.1,580,{"$f":"GimDog!I$12","v":0},{"$f":"GimDog!J$12","v":0}]
[null,1111163477,"80202003013*****","Нашийник  HARLEM нейлон 1.0*20-30см чорний","Менше 10","Амуніція для собак",196.92,255,{"$f":"GimDog!I$13","v":0},{"$f":"GimDog!J$13","v":0}]
[null,1111163495,"80302004016*****","Нашийник GimDog д/собак Alfresco подвійн жовтий неопрен 28-40см/20мм","Менше 10","Амуніція для собак",342.54,445,{"$f":"GimDog!I$14","v":0},{"$f":"GimDog!J$14","v":0}]
[null,1111163498,"80302505116*****","Нашийник GimDog д/собак Alfresco подвійн жовтий неопрен 35-51см/25мм","Менше 10","Амуніція для собак",405.48,527,{"$f":"GimDog!I$15","v":0},{"$f":"GimDog!J$15","v":0}]
[null,1111163501,"80303206616*****","Нашийник GimDog д/собак Alfresco подвійн жовтий неопрен 42-66см/32мм","Більше 10","Амуніція для собак",496.44,644,{"$f":"GimDog!I$16","v":0},{"$f":"GimDog!J$16","v":0}]
[null,1111163496,"80302004019*****","Нашийник GimDog д/собак Alfresco подвійн помаран неопрен 28-40см/20мм","Менше 10","Амуніція для собак",342.54,445,{"$f":"GimDog!I$17","v":0},{"$f":"GimDog!J$17","v":0}]
[null,1111163499,"80302505119*****","Нашийник GimDog д/собак Alfresco подвійн помаран неопрен 35-51см/25мм","Менше 10","Амуніція для собак",405.48,527,{"$f":"GimDog!I$18","v":0},{"$f":"GimDog!J$18","v":0}]
[null,1111163502,"80303206619*****","Нашийник GimDog д/собак Alfresco подвійн помаран неопрен 42-66см/32мм","Менше 10","Амуніція для собак",496.44,644,{"$f":"GimDog!I$19","v":0},{"$f":"GimDog!J$19","v":0}]
[null,1111163494,"80302004013*****","Нашийник GimDog д/собак Alfresco подвійн чорний неопрен 28-40см/20мм","Менше 10","Амуніція для собак",342.54,445,{"$f":"GimDog!I$20","v":0},{"$f":"GimDog!J$20","v":0}]
[null,1111163497,"80302505113*****","Нашийник GimDog д/собак Alfresco подвійн чорний неопрен 35-51см/25мм","Менше 10","Амуніція для собак",405.48,527,{"$f":"GimDog!I$21","v":0},{"$f":"GimDog!J$21","v":0}]
[null,1111163500,"80303206613*****","Нашийник GimDog д/собак Alfresco подвійн чорний неопрен 42-66см/32мм","Менше 10","Амуніція для собак",496.44,644,{"$f":"GimDog!I$22","v":0},{"$f":"GimDog!J$22","v":0}]
[null,1111163481,"80202003012*****","Нашийник GimDog для собак Harlem блакитний неопрен 20-30см/10мм","Менше 10","Амуніція для собак",196.92,255,{"$f":"GimDog!I$23","v":0},{"$f":"GimDog!J$23","v":0}]
[null,1111163486,"80202504012*****","Нашийник GimDog для собак Harlem блакитний неопрен 25-40см/15мм","Менше 10","Амуніція для собак",236.64,307,{"$f":"GimDog!I$24","v":0},{"$f":"GimDog!J$24","v":0}]
[null,1111163490,"80203505112*****","Нашийник GimDog для собак Harlem блакитний неопрен 35-51см/20мм","Менше 10","Амуніція для собак",286.32,371,{"$f":"GimDog!I$25","v":0},{"$f":"GimDog!J$25","v":0}]
[null,1111163479,"80202003014*****","Нашийник GimDog для собак Harlem рожевий неопрен 20-30см/10мм","Менше 10","Амуніція для собак",196.92,255,{"$f":"GimDog!I$26","v":0},{"$f":"GimDog!J$26","v":0}]
[null,1111163484,"80202504014*****","Нашийник GimDog для собак Harlem рожевий неопрен 25-40см/15мм","Менше 10","Амуніція для собак",236.64,307,{"$f":"GimDog!I$27","v":0},{"$f":"GimDog!J$27","v":0}]
[null,1111163478,"80202003011*****","Нашийник GimDog для собак Harlem червоний неопрен 20-30см/10мм","Менше 10","Амуніція для собак",196.92,255,{"$f":"GimDog!I$28","v":0},{"$f":"GimDog!J$28","v":0}]
[null,1111163488,"80203505111*****","Нашийник GimDog для собак Harlem червоний неопрен 35-51см/20мм","Менше 10","Амуніція для собак",286.32,371,{"$f":"GimDog!I$29","v":0},{"$f":"GimDog!J$29","v":0}]
[null,1111163492,"80204606611*****","Нашийник GimDog для собак Harlem червоний неопрен 46-66см/25мм","Менше 10","Амуніція для собак",350.82,457,{"$f":"GimDog!I$30","v":0},{"$f":"GimDog!J$30","v":0}]
[null,1111163487,"80203505113*****","Нашийник GimDog для собак Harlem чорний неопрен 35-51см/20мм","Менше 10","Амуніція для собак",286.32,371,{"$f":"GimDog!I$31","v":0},{"$f":"GimDog!J$31","v":0}]
[null,1111163491,"80204606613*****","Нашийник GimDog для собак Harlem чорний неопрен 46-66см/25мм","Менше 10","Амуніція для собак",350.82,457,{"$f":"GimDog!I$32","v":0},{"$f":"GimDog!J$32","v":0}]
[null,1111163515,"80312012019*****","Повідець GimDog д/собак Alfresco помаранчевий неопрен/фліс 120см/20мм","Менше 10","Амуніція для собак",706.62,919,{"$f":"GimDog!I$33","v":0},{"$f":"GimDog!J$33","v":0}]
[null,1111163514,"80312012016*****","Повідець GimDog для собак Alfresco жовтий неопрен/фліс 120см/20мм","Менше 10","Амуніція для собак",706.62,919,{"$f":"GimDog!I$34","v":0},{"$f":"GimDog!J$34","v":0}]
[null,1111163517,"80312512016*****","Повідець GimDog для собак Alfresco жовтий неопрен/фліс 120см/25мм","Менше 10","Амуніція для собак",777.78,1011,{"$f":"GimDog!I$35","v":0},{"$f":"GimDog!J$35","v":0}]
[null,1111163513,"80312012013*****","Повідець GimDog для собак Alfresco чорний неопрен/фліс 120см/20мм","Менше 10","Амуніція для собак",706.62,919,{"$f":"GimDog!I$36","v":0},{"$f":"GimDog!J$36","v":0}]
[null,1111163516,"80312512013*****","Повідець GimDog для собак Alfresco чорний неопрен/фліс 120см/25мм","Більше 10","Амуніція для собак",777.78,1011,{"$f":"GimDog!I$37","v":0},{"$f":"GimDog!J$37","v":0}]
[null,1111163507,"80242012012*****","Повідець GimDog для собак Harlem блакитний неопрен 120см/20мм","Менше 10","Амуніція для собак",471.66,613,{"$f":"GimDog!I$38","v":0},{"$f":"GimDog!J$38","v":0}]
[null,1111163504,"80242012011*****","Повідець GimDog для собак Harlem червоний неопрен 120см/20мм","Менше 10","Амуніція для собак",471.66,613,{"$f":"GimDog!I$39","v":0},{"$f":"GimDog!J$39","v":0}]
[null,1111163509,"80242512011*****","Повідець GimDog для собак Harlem червоний неопрен 120см/25мм","Менше 10","Амуніція для собак",565.98,736,{"$f":"GimDog!I$40","v":0},{"$f":"GimDog!J$40","v":0}]
[null,1111163503,"80242012013*****","Повідець GimDog для собак Harlem чорний неопрен 120см/20мм","Менше 10","Амуніція для собак",471.66,613,{"$f":"GimDog!I$41","v":0},{"$f":"GimDog!J$41","v":0}]
[null,1111152640,"G-2.504759*****","Шампунь GimDog NaturalSolution д/цуценят липа/ромаш/мигдал/масло 250мл","Менше 10","Догляд та гігієна для собак",518.4,675,{"$f":"GimDog!I$42","v":0},{"$f":"GimDog!J$42","v":0}]
[null,1111163539,"080321505516*****","Шлея Alfresco Y неопрен 1.5*42 45-55см жовта","Менше 10","Амуніція для собак",620.22,931,{"$f":"GimDog!I$43","v":0},{"$f":"GimDog!J$43","v":0}]
[null,1111163545,"080323210019*****","Шлея Alfresco Y неопрен 3.2*75 80-100см помаранчева","Менше 10","Амуніція для собак",906.18,1360,{"$f":"GimDog!I$44","v":0},{"$f":"GimDog!J$44","v":0}]
[null,1111163544,"80323210013*****","Шлея GimDog для собак Alfresco Y чорна неопрен 80-100см/32мм","Менше 10","Амуніція для собак",1224.5999999999999,1592,{"$f":"GimDog!I$45","v":0},{"$f":"GimDog!J$45","v":0}]
[null,1111163546,"80332803216*****","Шлея GimDog для собак Alfresco жовта неопрен розмір XXS 28-32см","Менше 10","Амуніція для собак",685.14,890,{"$f":"GimDog!I$46","v":0},{"$f":"GimDog!J$46","v":0}]
[null,1111163555,"80334104419*****","Шлея GimDog для собак Alfresco помаранчева неопрен розмір M 41-44см","Менше 10","Амуніція для собак",797.64,1037,{"$f":"GimDog!I$47","v":0},{"$f":"GimDog!J$47","v":0}]
[null,1111163552,"80333704019*****","Шлея GimDog для собак Alfresco помаранчева неопрен розмір S 37-40см","Менше 10","Амуніція для собак",757.92,986,{"$f":"GimDog!I$48","v":0},{"$f":"GimDog!J$48","v":0}]
[null,1111163549,"80333403619*****","Шлея GimDog для собак Alfresco помаранчева неопрен розмір XS 34-36см","Менше 10","Амуніція для собак",695.04,903,{"$f":"GimDog!I$49","v":0},{"$f":"GimDog!J$49","v":0}]
[null,1111191984,"80334104411*****","Шлея GimDog для собак ALFRESCO червона сітка M арт 80334104411","Менше 10",null,920.94,1197,{"$f":"GimDog!I$50","v":0},{"$f":"GimDog!J$50","v":0}]
[null,1111191983,"80332803211*****","Шлея GimDog для собак ALFRESCO червона сітка XXS арт 80332803211","Менше 10",null,790.98,1028,{"$f":"GimDog!I$51","v":0},{"$f":"GimDog!J$51","v":0}]
[null,1111163556,"80334705013*****","Шлея GimDog для собак Alfresco чорна неопрен розмір L 47-50см","Менше 10","Амуніція для собак",853.92,1110,{"$f":"GimDog!I$52","v":0},{"$f":"GimDog!J$52","v":0}]
[null,1111163554,"80334104413*****","Шлея GimDog для собак Alfresco чорна неопрен розмір M 41-44см","Менше 10","Амуніція для собак",797.64,1037,{"$f":"GimDog!I$53","v":0},{"$f":"GimDog!J$53","v":0}]
[null,1111163534,"80261505512*****","Шлея GimDog для собак Harlem H блакитна нейлон 40-55см/15мм","Менше 10","Амуніція для собак",546.12,710,{"$f":"GimDog!I$54","v":0},{"$f":"GimDog!J$54","v":0}]
[null,1111163530,"80261004414*****","Шлея GimDog для собак Harlem H рожева нейлон 33-44см/10мм","Більше 10","Амуніція для собак",413.7,538,{"$f":"GimDog!I$55","v":0},{"$f":"GimDog!J$55","v":0}]
[null,1111163533,"80261505514*****","Шлея GimDog для собак Harlem H рожева нейлон 40-55см/15мм","Менше 10","Амуніція для собак",546.12,710,{"$f":"GimDog!I$56","v":0},{"$f":"GimDog!J$56","v":0}]
[null,1111163529,"80261004411*****","Шлея GimDog для собак Harlem H червона нейлон 33-44см/10мм","Менше 10","Амуніція для собак",413.7,538,{"$f":"GimDog!I$57","v":0},{"$f":"GimDog!J$57","v":0}]
[null,1111163532,"80261505511*****","Шлея GimDog для собак Harlem H червона нейлон 40-55см/15мм","Менше 10","Амуніція для собак",546.12,710,{"$f":"GimDog!I$58","v":0},{"$f":"GimDog!J$58","v":0}]
[null,1111163520,"80251004412*****","Шлея GimDog для собак Harlem X блакитна нейлон 32-44см/10мм","Менше 10","Амуніція для собак",373.98,487,{"$f":"GimDog!I$59","v":0},{"$f":"GimDog!J$59","v":0}]
[null,1111163523,"80251506312*****","Шлея GimDog для собак Harlem X блакитна нейлон 45-63см/15мм","Менше 10","Амуніція для собак",499.8,650,{"$f":"GimDog!I$60","v":0},{"$f":"GimDog!J$60","v":0}]
[null,1111163519,"80251004414*****","Шлея GimDog для собак Harlem X рожева нейлон 32-44см/10мм","Менше 10","Амуніція для собак",373.98,487,{"$f":"GimDog!I$61","v":0},{"$f":"GimDog!J$61","v":0}]
[null,1111163522,"80251506314*****","Шлея GimDog для собак Harlem X рожева нейлон 45-63см/15мм","Менше 10","Амуніція для собак",499.8,650,{"$f":"GimDog!I$62","v":0},{"$f":"GimDog!J$62","v":0}]
[null,1111163528,"80252509926*****","Шлея GimDog для собак Harlem X сіра нейлон 65-99см/25мм","Менше 10","Амуніція для собак",800.94,1042,{"$f":"GimDog!I$63","v":0},{"$f":"GimDog!J$63","v":0}]
[null,1111163518,"80251004411*****","Шлея GimDog для собак Harlem X червона нейлон 32-44см/10мм","Менше 10","Амуніція для собак",373.98,487,{"$f":"GimDog!I$64","v":0},{"$f":"GimDog!J$64","v":0}]
[null,1111163521,"80251506311*****","Шлея GimDog для собак Harlem X червона нейлон 45-63см/15мм","Менше 10","Амуніція для собак",499.8,650,{"$f":"GimDog!I$65","v":0},{"$f":"GimDog!J$65","v":0}]
[null,1111163525,"80252007711*****","Шлея GimDog для собак Harlem X червона нейлон 53-77см/20мм","Менше 10","Амуніція для собак",628.86,817,{"$f":"GimDog!I$66","v":0},{"$f":"GimDog!J$66","v":0}]
[null,1111163524,"80252007713*****","Шлея GimDog для собак Harlem X чорна нейлон 53-77см/20мм","Менше 10","Амуніція для собак",628.86,817,{"$f":"GimDog!I$67","v":0},{"$f":"GimDog!J$67","v":0}]
[null,1111163527,"80252509913*****","Шлея GimDog для собак Harlem X чорна нейлон 65-99см/25мм","Менше 10","Амуніція для собак",800.94,1042,{"$f":"GimDog!I$68","v":0},{"$f":"GimDog!J$68","v":0}]
[null,1111163535,"80262007011*****","Шлея HARLEM H 2.0 * 50-70 см, нейлон, червона","Менше 10","Амуніція для собак",685.14,890,{"$f":"GimDog!I$69","v":0},{"$f":"GimDog!J$69","v":0}]
[null,1111149839,"62700*****","Замки-з єднувачі для кл Habitrail Ovo для гризу 3 шт,пластик","Менше 10","Обладнання для гризунів",117.61,176,{"$f":"Habitrail!I$8","v":0},{"$f":"Habitrail!J$8","v":0}]
[null,1111163694,"A14763_ord","Лампа Hagen для акваріума змінна для FL FLEX 34 л LED Lamp Assembly","Менше 10","Аксесуари для обладнання",1231.6199999999999,1724,{"$f":"Hagen!I$8","v":0},{"$f":"Hagen!J$8","v":0}]
[null,1111175732,20840,"HalfHalf д/дорослих котів із яловичиною 2 кг","Більше 100","Корм сухий для котів",339.78,424,{"$f":"'Half&Half'!I$8","v":0},{"$f":"'Half&Half'!J$8","v":0}]
[null,1111175731,20956,"HalfHalf д/дорослих котів із яловичиною 300 г","Більше 100","Корм сухий для котів",62.04,78,{"$f":"'Half&Half'!I$9","v":0},{"$f":"'Half&Half'!J$9","v":0}]
[null,1111175733,20857,"HalfHalf д/дорослих котів із яловичиною 8 кг","Більше 10","Корм сухий для котів",1233.9000000000001,1542,{"$f":"'Half&Half'!I$10","v":0},{"$f":"'Half&Half'!J$10","v":0}]
[null,1111175746,20918,"HalfHalf д/дорослих котів качка/соус у формі пауча 100г","Більше 100","Корм вологий для котів",19.079999999999998,22.6,{"$f":"'Half&Half'!I$11","v":0},{"$f":"'Half&Half'!J$11","v":0}]
[null,1111175745,20901,"HalfHalf д/дорослих котів лосось/желе у формі пауча 100г","Більше 100","Корм вологий для котів",19.079999999999998,22.6,{"$f":"'Half&Half'!I$12","v":0},{"$f":"'Half&Half'!J$12","v":0}]
[null,1111175741,20772,"HalfHalf д/дорослих собак вел/порід із яловичиною 12 кг","Більше 10","Корм сухий для собак",1276.02,1531,{"$f":"'Half&Half'!I$13","v":0},{"$f":"'Half&Half'!J$13","v":0}]
[null,1111175740,20765,"HalfHalf д/дорослих собак вел/порід із яловичиною 2 кг","Більше 100","Корм сухий для собак",300.83999999999997,361,{"$f":"'Half&Half'!I$14","v":0},{"$f":"'Half&Half'!J$14","v":0}]
[null,1111175737,20734,"HalfHalf д/дорослих собак мал/порід із яловичиною 12 кг","Більше 10","Корм сухий для собак",1435.02,1722,{"$f":"'Half&Half'!I$15","v":0},{"$f":"'Half&Half'!J$15","v":0}]
[null,1111175736,20727,"HalfHalf д/дорослих собак мал/порід із яловичиною 2 кг","Більше 100","Корм сухий для собак",300.83999999999997,361,{"$f":"'Half&Half'!I$16","v":0},{"$f":"'Half&Half'!J$16","v":0}]
[null,1111175739,20758,"HalfHalf д/дорослих собак сер/порід із яловичиною 12 кг","Більше 10","Корм сухий для собак",1276.02,1531,{"$f":"'Half&Half'!I$17","v":0},{"$f":"'Half&Half'!J$17","v":0}]
[null,1111175738,20741,"HalfHalf д/дорослих собак сер/порід із яловичиною 2 кг","Більше 100","Корм сухий для собак",300.83999999999997,361,{"$f":"'Half&Half'!I$18","v":0},{"$f":"'Half&Half'!J$18","v":0}]
[null,1111175729,20826,"HalfHalf д/котів із чутливим травленям з індичкою 2 кг","Більше 100","Корм сухий для котів",355.98,445,{"$f":"'Half&Half'!I$19","v":0},{"$f":"'Half&Half'!J$19","v":0}]
[null,1111175728,20949,"HalfHalf д/котів із чутливим травленям з індичкою 300 г","Більше 100","Корм сухий для котів",68.22,85,{"$f":"'Half&Half'!I$20","v":0},{"$f":"'Half&Half'!J$20","v":0}]
[null,1111175730,20833,"HalfHalf д/котів із чутливим травленям з індичкою 8 кг","Більше 10","Корм сухий для котів",1292.6400000000001,1616,{"$f":"'Half&Half'!I$21","v":0},{"$f":"'Half&Half'!J$21","v":0}]
[null,1111175722,20925,"HalfHalf д/кошенят з яловичиною 300 г","Більше 100","Корм сухий для котів",53.64,67,{"$f":"'Half&Half'!I$22","v":0},{"$f":"'Half&Half'!J$22","v":0}]
[null,1111175724,20796,"HalfHalf д/кошенят з яловичиною 8 кг","Більше 10","Корм сухий для котів",1120.02,1400,{"$f":"'Half&Half'!I$23","v":0},{"$f":"'Half&Half'!J$23","v":0}]
[null,1111175742,20864,"HalfHalf д/кошенят індичка/желе у формі пауча 100г","Більше 100","Корм вологий для котів",19.079999999999998,22.6,{"$f":"'Half&Half'!I$24","v":0},{"$f":"'Half&Half'!J$24","v":0}]
[null,1111175726,20802,"HalfHalf д/стерил котів із яловичиною 2 кг","Більше 10","Корм сухий для котів",339.78,424,{"$f":"'Half&Half'!I$25","v":0},{"$f":"'Half&Half'!J$25","v":0}]
[null,1111175725,20932,"HalfHalf д/стерил котів із яловичиною 300 г","Більше 100","Корм сухий для котів",62.04,78,{"$f":"'Half&Half'!I$26","v":0},{"$f":"'Half&Half'!J$26","v":0}]
[null,1111175727,20819,"HalfHalf д/стерил котів із яловичиною 8 кг","Більше 10","Корм сухий для котів",1234.44,1544,{"$f":"'Half&Half'!I$27","v":0},{"$f":"'Half&Half'!J$27","v":0}]
[null,1111175743,20888,"HalfHalf д/стерил котів тунець/соус у формі пауча 100г","Більше 100","Корм вологий для котів",19.079999999999998,22.6,{"$f":"'Half&Half'!I$28","v":0},{"$f":"'Half&Half'!J$28","v":0}]
[null,1111175735,20710,"HalfHalf д/цуценят усіх порід  із яловичиною 12 кг","Більше 10","Корм сухий для собак",1361.22,1634,{"$f":"'Half&Half'!I$29","v":0},{"$f":"'Half&Half'!J$29","v":0}]
[null,1111175734,20703,"HalfHalf д/цуценят усіх порід  із яловичиною 2 кг","Більше 100","Корм сухий для собак",311.04000000000002,373,{"$f":"'Half&Half'!I$30","v":0},{"$f":"'Half&Half'!J$30","v":0}]
[null,1111199843,20727,"БЕЗ ТЕРМ. Корм сухий HalfHalf для дорослих собак маленьких порід із ял","Менше 10","Корм сухий для собак",143.28,0,{"$f":"'Half&Half'!I$31","v":0},{"$f":"'Half&Half'!J$31","v":0}]
[null,1111208623,31779,"БЕЗ ТЕРМ.Ласощі HalfHalf м ясні палички для собак, з куркою 100 г, Обм","Менше 10","Ласощі для собак",23.04,0,{"$f":"'Half&Half'!I$32","v":0},{"$f":"'Half&Half'!J$32","v":0}]
[null,1111175721,31885,"Ласощі HalfHalf м_ясна паличка для котів, з індичкою 5 г","Більше 100","Ласощі для котів",9.48,14,{"$f":"'Half&Half'!I$33","v":0},{"$f":"'Half&Half'!J$33","v":0}]
[null,1111175720,31892,"Ласощі HalfHalf м_ясна паличка для котів, з качкою 5 г","Більше 100","Ласощі для котів",9.48,14,{"$f":"'Half&Half'!I$34","v":0},{"$f":"'Half&Half'!J$34","v":0}]
[null,1111175718,31878,"Ласощі HalfHalf м_ясна паличка для кошенят, з індичкою 5 г","Немає в наявності","Ласощі для котів",9.48,14,{"$f":"'Half&Half'!I$35","v":0},{"$f":"'Half&Half'!J$35","v":0}]
[null,1111175708,31793,"Ласощі HalfHalf м_ясні кубики для собак, із куркою 100 г","Більше 100","Ласощі для собак",81.12,116,{"$f":"'Half&Half'!I$36","v":0},{"$f":"'Half&Half'!J$36","v":0}]
[null,1111175707,31786,"Ласощі HalfHalf м_ясні кубики для цуценят, з яловичиною 100 г","Більше 100","Ласощі для собак",81.12,116,{"$f":"'Half&Half'!I$37","v":0},{"$f":"'Half&Half'!J$37","v":0}]
[null,1111175709,31816,"Ласощі HalfHalf м_ясні монетки для собак з яловичиною 100 г","Більше 100","Ласощі для собак",81.12,116,{"$f":"'Half&Half'!I$38","v":0},{"$f":"'Half&Half'!J$38","v":0}]
[null,1111175710,31823,"Ласощі HalfHalf м_ясні монетки для собак із качкою 100 г","Більше 100","Ласощі для собак",81.12,116,{"$f":"'Half&Half'!I$39","v":0},{"$f":"'Half&Half'!J$39","v":0}]
[null,1111175712,31762,"Ласощі HalfHalf м_ясні палички для собак з яловичиною 100 г","Більше 100","Ласощі для собак",46.08,66,{"$f":"'Half&Half'!I$40","v":0},{"$f":"'Half&Half'!J$40","v":0}]
[null,1111175713,31779,"Ласощі HalfHalf м_ясні палички для собак, з куркою 100 г","Більше 100","Ласощі для собак",46.08,66,{"$f":"'Half&Half'!I$41","v":0},{"$f":"'Half&Half'!J$41","v":0}]
[null,1111175711,31755,"Ласощі HalfHalf м_ясні палички для цуценят, з індичкою 100 г","Більше 100","Ласощі для собак",46.08,66,{"$f":"'Half&Half'!I$42","v":0},{"$f":"'Half&Half'!J$42","v":0}]
[null,1111175715,31847,"Ласощі HalfHalf м_ясні смужечки для котів, із качкою 50 г","Більше 100","Ласощі для котів",52.14,75,{"$f":"'Half&Half'!I$43","v":0},{"$f":"'Half&Half'!J$43","v":0}]
[null,1111175714,31830,"Ласощі HalfHalf м_ясні смужечки для кошенят, з індичкою 50 г","Більше 100","Ласощі для котів",52.14,75,{"$f":"'Half&Half'!I$44","v":0},{"$f":"'Half&Half'!J$44","v":0}]
[null,1111175716,31861,"Ласощі HalfHalf м_ясні шматочки для котів, з яловичиною 50 г","Більше 100","Ласощі для котів",52.14,75,{"$f":"'Half&Half'!I$45","v":0},{"$f":"'Half&Half'!J$45","v":0}]
[null,1111175717,"31854 Half","Ласощі HalfHalf м_ясні шматочки для котів, із куркою 50 г","Більше 100","Ласощі для котів",52.14,75,{"$f":"'Half&Half'!I$46","v":0},{"$f":"'Half&Half'!J$46","v":0}]
[null,1111207053,20741,"ТЕРМ 08.26 ПОРВ HalfHalf д/дорослих собак сер/порід із яловичиною 2кг","Менше 10","Корм сухий для собак",150.41999999999999,0,{"$f":"'Half&Half'!I$47","v":0},{"$f":"'Half&Half'!J$47","v":0}]
[null,1111206743,20826,"ТЕРМ 08.26 ПОРВ Корм сухий HalfHalf д/котів чутл/травл індичка 2кг","Менше 10","Корм сухий для котів",178.02,0,{"$f":"'Half&Half'!I$48","v":0},{"$f":"'Half&Half'!J$48","v":0}]
[null,1111204216,31885,"ТЕРМ 09.25 Ласощі HalfHalf м_ясна паличка для котів, з індичкою 5 г","Менше 10","Ласощі для котів",4.74,0,{"$f":"'Half&Half'!I$49","v":0},{"$f":"'Half&Half'!J$49","v":0}]
[null,1111204629,20710,"ТЕРМ 10.25  HalfHalf д/цуценят усіх порід  із яловичиною 12 кг","Менше 10","Корм сухий для собак",680.64,0,{"$f":"'Half&Half'!I$50","v":0},{"$f":"'Half&Half'!J$50","v":0}]
[null,1111203081,31861,"ТЕРМ. 03.26, НЕТОВ.В. Ласощі HalfHalf для котів з яловичиною 50 г","Менше 10","Ласощі для котів",24.84,0,{"$f":"'Half&Half'!I$51","v":0},{"$f":"'Half&Half'!J$51","v":0}]
[null,1111200226,31830,"ТЕРМ. 04.26, ПОРВ. Ласощі HalfHalf для кошенят з індичкою 50 г","Менше 10","Ласощі для котів",24.84,0,{"$f":"'Half&Half'!I$52","v":0},{"$f":"'Half&Half'!J$52","v":0}]
[null,1111200291,20703,"ТЕРМ. 08.25 HalfHalf д/цуценят усіх порід із яловичиною 2кг","Більше 100","Корм сухий для собак",77.760000000000005,0,{"$f":"'Half&Half'!I$53","v":0},{"$f":"'Half&Half'!J$53","v":0}]
[null,1111200523,20765,"ТЕРМ. 08.25 HalfHalf доросл/собак/великих/порід яловичина 2кг","Більше 10","Корм сухий для собак",75.209999999999994,0,{"$f":"'Half&Half'!I$54","v":0},{"$f":"'Half&Half'!J$54","v":0}]
[null,1111200535,20727,"ТЕРМ. 08.25 HalfHalf доросл/собак/малих/порід яловичина 2кг","Більше 10","Корм сухий для собак",90.3,0,{"$f":"'Half&Half'!I$55","v":0},{"$f":"'Half&Half'!J$55","v":0}]
[null,1111200525,20802,"ТЕРМ. 08.25 Корм сухий HalfHalf д/стерилізованих котів яловичина 2кг","Немає в наявності","Корм сухий для котів",84.96,0,{"$f":"'Half&Half'!I$56","v":0},{"$f":"'Half&Half'!J$56","v":0}]
[null,1111200287,20789,"ТЕРМ. 08.25 Корм сухий HalfHalf для кошенят з яловичиною 2кг","Більше 100","Корм сухий для котів",82.95,0,{"$f":"'Half&Half'!I$57","v":0},{"$f":"'Half&Half'!J$57","v":0}]
[null,1111199036,20789,"ТЕРМ. 08.25 ПОШК.Корм сухий HalfHalf для кошенят з яловичиною 2 кг, Об","Менше 10","Корм сухий для котів",165.9,0,{"$f":"'Half&Half'!I$58","v":0},{"$f":"'Half&Half'!J$58","v":0}]
[null,1111206771,20956,"ТЕРМ. 08.26, ПОРВ. HalfHalf д/дорослих котів із яловичиною 300 г","Менше 10","Корм сухий для котів",31.02,0,{"$f":"'Half&Half'!I$59","v":0},{"$f":"'Half&Half'!J$59","v":0}]
[null,1111203740,31830,"ТЕРМ. 09.25 Ласощі HalfHalf для кошенят з індичкою 50 г","Менше 10","Ласощі для котів",26.1,0,{"$f":"'Half&Half'!I$60","v":0},{"$f":"'Half&Half'!J$60","v":0}]
[null,1111204173,31793,"ТЕРМ. 09.25 Ласощі HalfHalf для собак із куркою 100г","Менше 10","Ласощі для собак",40.56,0,{"$f":"'Half&Half'!I$61","v":0},{"$f":"'Half&Half'!J$61","v":0}]
[null,1111208542,31878,"ТЕРМ. 09.25 Ласощі HalfHalf м ясна паличка для кошенят, з індичкою 5 г","Менше 10","Ласощі для котів",4.74,0,{"$f":"'Half&Half'!I$62","v":0},{"$f":"'Half&Half'!J$62","v":0}]
[null,1111208449,20932,"ТЕРМ. 09.26, ПОРВ. HalfHalf д/стерил котів із яловичиною 300г","Менше 10","Корм сухий для котів",31.02,0,{"$f":"'Half&Half'!I$63","v":0},{"$f":"'Half&Half'!J$63","v":0}]
[null,1111207235,31755,"ТЕРМ. 09.26, ПОРВ. Ласощі HalfHalf м'ясні палички для цуценят, з індич","Менше 10","Ласощі для собак",23.04,0,{"$f":"'Half&Half'!I$64","v":0},{"$f":"'Half&Half'!J$64","v":0}]
[null,1111204274,20840,"ТЕРМ. 10.25 HalfHalf д/дорослих котів із яловичиною 2кг","Більше 10","Корм сухий для котів",169.92,0,{"$f":"'Half&Half'!I$65","v":0},{"$f":"'Half&Half'!J$65","v":0}]
[null,1111203839,20956,"ТЕРМ. 10.25 HalfHalf д/дорослих котів із яловичиною 300г","Більше 100","Корм сухий для котів",31.02,0,{"$f":"'Half&Half'!I$66","v":0},{"$f":"'Half&Half'!J$66","v":0}]
[null,1111203293,20734,"ТЕРМ. 10.25 HalfHalf д/дорослих собак малих/порід яловичина 12кг","Менше 10","Корм сухий для собак",430.56,0,{"$f":"'Half&Half'!I$67","v":0},{"$f":"'Half&Half'!J$67","v":0}]
[null,1111203841,20741,"ТЕРМ. 10.25 HalfHalf д/дорослих собак середн/порід яловичина 2кг","Більше 100","Корм сухий для собак",150.41999999999999,0,{"$f":"'Half&Half'!I$68","v":0},{"$f":"'Half&Half'!J$68","v":0}]
[null,1111205866,20758,"ТЕРМ. 10.25 HalfHalf д/дорослих/собак/середніх яловичина 12кг","Менше 10","Корм сухий для собак",638.04,0,{"$f":"'Half&Half'!I$69","v":0},{"$f":"'Half&Half'!J$69","v":0}]
[null,1111205857,20826,"ТЕРМ. 10.25 HalfHalf д/котів із чутливим травленям з індичкою 2 кг","Менше 10","Корм сухий для котів",178.02,0,{"$f":"'Half&Half'!I$70","v":0},{"$f":"'Half&Half'!J$70","v":0}]
[null,1111204176,20949,"ТЕРМ. 10.25 HalfHalf д/котів чутлив/травлення з індичкою 300г","Більше 100","Корм сухий для котів",34.14,0,{"$f":"'Half&Half'!I$71","v":0},{"$f":"'Half&Half'!J$71","v":0}]
[null,1111201876,20789,"ТЕРМ. 10.25 HalfHalf д/кошенят з яловичиною 2 кг","Більше 100","Корм сухий для котів",165.9,0,{"$f":"'Half&Half'!I$72","v":0},{"$f":"'Half&Half'!J$72","v":0}]
[null,1111201878,20703,"ТЕРМ. 10.25 HalfHalf д/цуценят усіх порід  із яловичиною 2кг","Більше 100","Корм сухий для собак",155.52000000000001,0,{"$f":"'Half&Half'!I$73","v":0},{"$f":"'Half&Half'!J$73","v":0}]
[null,1111203252,20765,"ТЕРМ. 10.25 HalfHalf доросл/собак/великих/порід яловичина 2кг","Менше 10","Корм сухий для собак",150.41999999999999,0,{"$f":"'Half&Half'!I$74","v":0},{"$f":"'Half&Half'!J$74","v":0}]
[null,1111203840,20727,"ТЕРМ. 10.25 HalfHalf доросл/собак/малих/порід яловичина 2кг","Більше 100","Корм сухий для собак",150.41999999999999,0,{"$f":"'Half&Half'!I$75","v":0},{"$f":"'Half&Half'!J$75","v":0}]
[null,1111203837,20802,"ТЕРМ. 10.25 Корм сухий HalfHalf д/стерилізованих котів яловичина 2кг","Більше 10","Корм сухий для котів",169.92,0,{"$f":"'Half&Half'!I$76","v":0},{"$f":"'Half&Half'!J$76","v":0}]
[null,1111197683,20932,"ТЕРМ. 10.25 Корм сухий HalfHalf д/стерилізованих/котів яловичина 300г","Більше 100","Корм сухий для котів",31.02,0,{"$f":"'Half&Half'!I$77","v":0},{"$f":"'Half&Half'!J$77","v":0}]
[null,1111203836,20925,"ТЕРМ. 10.25 Корм сухий HalfHalf для кошенят з яловичиною 300г","Більше 10","Корм сухий для котів",26.82,0,{"$f":"'Half&Half'!I$78","v":0},{"$f":"'Half&Half'!J$78","v":0}]
[null,1111208576,31823,"ТЕРМ. 10.25 Ласощі HalfHalf м ясні монетки для собак із качкою 100 г","Менше 10","Ласощі для собак",40.56,0,{"$f":"'Half&Half'!I$79","v":0},{"$f":"'Half&Half'!J$79","v":0}]
[null,1111206188,31861,"ТЕРМ. 10.25 Ласощі HalfHalf м_ясні кубики для котів, з яловичиною 50 г","Менше 10","Ласощі для котів",26.1,0,{"$f":"'Half&Half'!I$80","v":0},{"$f":"'Half&Half'!J$80","v":0}]
[null,1111199276,20956,"ТЕРМ. 10.25, ПОРВ. HalfHalf д/дорослих котів із яловичиною 300г","Менше 10","Корм сухий для котів",31.02,0,{"$f":"'Half&Half'!I$81","v":0},{"$f":"'Half&Half'!J$81","v":0}]
[null,1111199985,20949,"ТЕРМ. 10.25, ПОРВ. HalfHalf д/котів чутлив/травлення з індичкою 300г","Менше 10","Корм сухий для котів",34.14,0,{"$f":"'Half&Half'!I$82","v":0},{"$f":"'Half&Half'!J$82","v":0}]
[null,1111201890,20789,"ТЕРМ. 10.25, ПОРВ. HalfHalf д/кошенят з яловичиною 2 кг","Менше 10","Корм сухий для котів",165.9,0,{"$f":"'Half&Half'!I$83","v":0},{"$f":"'Half&Half'!J$83","v":0}]
[null,1111201823,20925,"ТЕРМ. 10.25, ПОРВ. HalfHalf д/кошенят з яловичиною 300 г","Менше 10","Корм сухий для котів",25.56,0,{"$f":"'Half&Half'!I$84","v":0},{"$f":"'Half&Half'!J$84","v":0}]
[null,1111198948,20932,"ТЕРМ. 10.25, ПОРВ. HalfHalf д/стерил котів із яловичиною 300г","Менше 10","Корм сухий для котів",31.02,0,{"$f":"'Half&Half'!I$85","v":0},{"$f":"'Half&Half'!J$85","v":0}]
[null,1111201891,20703,"ТЕРМ. 10.25, ПОРВ. HalfHalf д/цуценят усіх порід  із яловичиною 2 кг","Менше 10","Корм сухий для собак",148.13999999999999,0,{"$f":"'Half&Half'!I$86","v":0},{"$f":"'Half&Half'!J$86","v":0}]
[null,1111201698,20727,"ТЕРМ. 10.25, ПОРВ. HalfHalf доросл/собак/малих/порід яловичина 2кг","Менше 10","Корм сухий для собак",143.28,0,{"$f":"'Half&Half'!I$87","v":0},{"$f":"'Half&Half'!J$87","v":0}]
[null,1111201880,20703,"ТЕРМ. 10.25, ПОРВ. ВАГА 1,8кг HalfHalf цуценят/усіх яловичина 2кг","Менше 10","Корм сухий для собак",148.13999999999999,0,{"$f":"'Half&Half'!I$88","v":0},{"$f":"'Half&Half'!J$88","v":0}]
[null,1111197834,20741,"ТЕРМ. 10.25, ПОШК. HalfHalf д/дор собак сер/порід із яловичиною 2 кг","Менше 10","Корм сухий для собак",85.98,0,{"$f":"'Half&Half'!I$89","v":0},{"$f":"'Half&Half'!J$89","v":0}]
[null,1111204233,31847,"ТЕРМ.04.26.ПОРВ.Ласощі HalfHalf м_ясні смужечки для котів, із качкою 5","Менше 10","Ласощі для котів",24.84,0,{"$f":"'Half&Half'!I$90","v":0},{"$f":"'Half&Half'!J$90","v":0}]
[null,1111208622,31762,"ТЕРМ.06.26.ПОРВ.Ласощі HalfHalf м ясні палички для собак з яловичиною ","Менше 10","Ласощі для собак",23.04,0,{"$f":"'Half&Half'!I$91","v":0},{"$f":"'Half&Half'!J$91","v":0}]
[null,1111204936,20765,"ТЕРМ.08.26.ПОРВ.Корм сухий HalfHalf для дорослих собак великих порід і","Менше 10","Корм сухий для собак",150.41999999999999,0,{"$f":"'Half&Half'!I$92","v":0},{"$f":"'Half&Half'!J$92","v":0}]
[null,1111207843,20932,"ТЕРМ.08.26.ПОРВ.Корм сухий HalfHalf для стерилізованих котів із ялович","Менше 10","Корм сухий для котів",31.02,0,{"$f":"'Half&Half'!I$93","v":0},{"$f":"'Half&Half'!J$93","v":0}]
[null,1111208624,31779,"ТЕРМ.09.26.ПОРВ.Ласощі HalfHalf м ясні палички для собак, з куркою 100","Менше 10","Ласощі для собак",23.04,0,{"$f":"'Half&Half'!I$94","v":0},{"$f":"'Half&Half'!J$94","v":0}]
[null,1111203292,20833,"ТЕРМ.10.25.Корм сухий HalfHalf для котів із чутливим травленям з індич","Менше 10","Корм сухий для котів",452.46,0,{"$f":"'Half&Half'!I$95","v":0},{"$f":"'Half&Half'!J$95","v":0}]
[null,1111203291,20796,"ТЕРМ.10.25.Корм сухий HalfHalf для кошенят з яловичиною 8 кг","Більше 10","Корм сухий для котів",392.04,0,{"$f":"'Half&Half'!I$96","v":0},{"$f":"'Half&Half'!J$96","v":0}]
[null,1111208367,"31854 Half","ТЕРМ.10.25.Ласощі HalfHalf м ясні шматочки для котів, із куркою 50 г, ","Менше 10","Ласощі для котів",26.1,0,{"$f":"'Half&Half'!I$97","v":0},{"$f":"'Half&Half'!J$97","v":0}]
[null,1111198900,20956,"ТЕРМ.10.25.ПОРВ.УП.Корм сухий HalfHalf для дорослих котів із яловичино","Менше 10","Корм сухий для котів",29.58,0,{"$f":"'Half&Half'!I$98","v":0},{"$f":"'Half&Half'!J$98","v":0}]
[null,1111204976,"86720IPR","01.26 НЕТОВ ВИД Корм вет вол Integ Sens кот з харч.непер. з індич 85г","Менше 10","Ветеринарна дієта для котів",22.02,0,{"$f":"'INTEGRA PROTECT'!I$8","v":0},{"$f":"'INTEGRA PROTECT'!J$8","v":0}]
[null,1111197815,"86413IPR","07.26 ПОМЯТІ Корм ветвол IntegraIntes Tur інд д/собзахкишк/шл трак150г","Менше 10","Ветеринарні дієти для собак",40.44,0,{"$f":"'INTEGRA PROTECT'!I$9","v":0},{"$f":"'INTEGRA PROTECT'!J$9","v":0}]
[null,1111183673,"86689IPR*****","Корм вет вол Integra Diabete Rabbit д/котів при діабеті з крол 100г","Більше 10","Ветеринарна дієта для котів",63.96,86,{"$f":"'INTEGRA PROTECT'!I$10","v":0},{"$f":"'INTEGRA PROTECT'!J$10","v":0}]
[null,1111183672,"86688IPR*****","Корм вет вол Integra Diabete Salmon д/кот при діабеті з лососем 100г","Більше 10","Ветеринарна дієта для котів",63.96,86,{"$f":"'INTEGRA PROTECT'!I$11","v":0},{"$f":"'INTEGRA PROTECT'!J$11","v":0}]
[null,1111183690,"86718IPR","Корм вет вол Integra Diabetes кот при діабеті з індичкою 85г","Більше 10","Ветеринарна дієта для котів",43.98,60,{"$f":"'INTEGRA PROTECT'!I$12","v":0},{"$f":"'INTEGRA PROTECT'!J$12","v":0}]
[null,1111183664,"86414IPR","Корм вет вол Integra Intestinal Chicken кур д/соб кишк/шл трак 400г","Менше 10","Ветеринарні дієти для собак",146.69999999999999,198,{"$f":"'INTEGRA PROTECT'!I$13","v":0},{"$f":"'INTEGRA PROTECT'!J$13","v":0}]
[null,1111183680,"86875IPR","Корм вет вол Integra Intestinal кот захв киш/шлун тракт індичка 100г","Більше 10","Ветеринарна дієта для котів",63.96,86,{"$f":"'INTEGRA PROTECT'!I$14","v":0},{"$f":"'INTEGRA PROTECT'!J$14","v":0}]
[null,1111183691,"86716IPR","Корм вет вол Integra Intestinal кот при зах. Киш/шлункового тракту 85г","Більше 10","Ветеринарна дієта для котів",43.98,60,{"$f":"'INTEGRA PROTECT'!I$15","v":0},{"$f":"'INTEGRA PROTECT'!J$15","v":0}]
[null,1111183668,"86404IPR","Корм вет вол Integra Renal Beef ялов д/соб при хвор нирок 400г","Більше 10","Ветеринарні дієти для собак",146.69999999999999,198,{"$f":"'INTEGRA PROTECT'!I$16","v":0},{"$f":"'INTEGRA PROTECT'!J$16","v":0}]
[null,1111183667,"86402IPR","Корм вет вол Integra Renal Chicken кур д/собак при хвор нирок 400г","Більше 10","Ветеринарні дієти для собак",146.69999999999999,198,{"$f":"'INTEGRA PROTECT'!I$17","v":0},{"$f":"'INTEGRA PROTECT'!J$17","v":0}]
[null,1111183665,"86400IPR","Корм вет вол Integra Renal with Chicken курка д/соб хвор. нирок 150г","Менше 10","Ветеринарні дієти для собак",80.88,109,{"$f":"'INTEGRA PROTECT'!I$18","v":0},{"$f":"'INTEGRA PROTECT'!J$18","v":0}]
[null,1111183666,"86534IPR","Корм вет вол Integra Renal with Pork свин д/собак при хвор нирок 150г","Більше 10","Ветеринарні дієти для собак",80.88,109,{"$f":"'INTEGRA PROTECT'!I$19","v":0},{"$f":"'INTEGRA PROTECT'!J$19","v":0}]
[null,1111183681,"86803IPR","Корм вет вол Integra Renal кот при хвор нирок моно індичка 100г","Більше 10","Ветеринарна дієта для котів",63.96,86,{"$f":"'INTEGRA PROTECT'!I$20","v":0},{"$f":"'INTEGRA PROTECT'!J$20","v":0}]
[null,1111183682,"86616IPR","Корм вет вол Integra Renal кот при хвор нирок страва з качкою 100г","Більше 10","Ветеринарна дієта для котів",63.96,86,{"$f":"'INTEGRA PROTECT'!I$21","v":0},{"$f":"'INTEGRA PROTECT'!J$21","v":0}]
[null,1111183683,"86615IPR","Корм вет вол Integra Renal кот при хвор нирок страва з телятиною 100г","Більше 10","Ветеринарна дієта для котів",63.96,86,{"$f":"'INTEGRA PROTECT'!I$22","v":0},{"$f":"'INTEGRA PROTECT'!J$22","v":0}]
[null,1111183684,"86633IPR","Корм вет вол Integra Renal кот при хворобах нирок з телятиною 85г","Більше 10","Ветеринарна дієта для котів",43.98,60,{"$f":"'INTEGRA PROTECT'!I$23","v":0},{"$f":"'INTEGRA PROTECT'!J$23","v":0}]
[null,1111183670,"86539IPR","Корм вет вол Integra Sensitiv д/соб харч неперенос інд/пастер150г","Більше 10","Ветеринарні дієти для собак",80.88,109,{"$f":"'INTEGRA PROTECT'!I$24","v":0},{"$f":"'INTEGRA PROTECT'!J$24","v":0}]
[null,1111183669,"86538IPR","Корм вет вол Integra Sensitiv д/соб харч неперенос кур/пастер 150г","Більше 10","Ветеринарні дієти для собак",80.88,109,{"$f":"'INTEGRA PROTECT'!I$25","v":0},{"$f":"'INTEGRA PROTECT'!J$25","v":0}]
[null,1111183671,"86420IPR","Корм вет вол Integra Sensitiv д/соб харч неперенос ягня/пастер 400г","Більше 10","Ветеринарні дієти для собак",146.69999999999999,198,{"$f":"'INTEGRA PROTECT'!I$26","v":0},{"$f":"'INTEGRA PROTECT'!J$26","v":0}]
[null,1111183686,"86853IPR*****","Корм вет вол Integra Sensitiv кот з харч неперенос. Інд/карт 100г","Більше 10","Ветеринарна дієта для котів",63.96,86,{"$f":"'INTEGRA PROTECT'!I$27","v":0},{"$f":"'INTEGRA PROTECT'!J$27","v":0}]
[null,1111183688,"86696IPR*****","Корм вет вол Integra Sensitiv кот з харч. неперенос моно свинина 100г","Більше 10","Ветеринарна дієта для котів",63.96,86,{"$f":"'INTEGRA PROTECT'!I$28","v":0},{"$f":"'INTEGRA PROTECT'!J$28","v":0}]
[null,1111183687,"86695IPR","Корм вет вол Integra Sensitiv кот з харч.неперенос з інд 100г","Більше 10","Ветеринарна дієта для котів",63.96,86,{"$f":"'INTEGRA PROTECT'!I$29","v":0},{"$f":"'INTEGRA PROTECT'!J$29","v":0}]
[null,1111183685,"86851IPR","Корм вет вол Integra Sensitiv кот з харч.неперенос. ягня і рис 100г","Більше 10","Ветеринарна дієта для котів",63.96,86,{"$f":"'INTEGRA PROTECT'!I$30","v":0},{"$f":"'INTEGRA PROTECT'!J$30","v":0}]
[null,1111183689,"86720IPR","Корм вет вол Integra Sensitive кот з харч.неперенос. з індичкою 85г","Більше 10","Ветеринарна дієта для котів",43.98,60,{"$f":"'INTEGRA PROTECT'!I$31","v":0},{"$f":"'INTEGRA PROTECT'!J$31","v":0}]
[null,1111183679,"86613IPR","Корм вет вол Integra Urinary Oxalate кот пр оксалатах страва/ялов 100г","Більше 10","Ветеринарна дієта для котів",63.96,86,{"$f":"'INTEGRA PROTECT'!I$32","v":0},{"$f":"'INTEGRA PROTECT'!J$32","v":0}]
[null,1111183678,"86612IPR*****","Корм вет вол Integra Urinary Oxalate кот при оксалатах страва/кач100г","Більше 10","Ветеринарна дієта для котів",63.96,86,{"$f":"'INTEGRA PROTECT'!I$33","v":0},{"$f":"'INTEGRA PROTECT'!J$33","v":0}]
[null,1111183677,"86631IPR","Корм вет вол Integra Urinary Struvit кот сеч.кам хвор з ялов 85г","Менше 10","Ветеринарна дієта для котів",43.98,60,{"$f":"'INTEGRA PROTECT'!I$34","v":0},{"$f":"'INTEGRA PROTECT'!J$34","v":0}]
[null,1111183674,"86610IPR","Корм вет вол Integra Urinary Struvit кот сеч.кам хвор страва/кур 100г","Більше 10","Ветеринарна дієта для котів",63.96,86,{"$f":"'INTEGRA PROTECT'!I$35","v":0},{"$f":"'INTEGRA PROTECT'!J$35","v":0}]
[null,1111183675,"86611IPR","Корм вет вол Integra Urinary Struvit кот сеч.кам хвор страва/тел 100г","Менше 10","Ветеринарна дієта для котів",63.96,86,{"$f":"'INTEGRA PROTECT'!I$36","v":0},{"$f":"'INTEGRA PROTECT'!J$36","v":0}]
[null,1111183676,"86630IPR","Корм вет вол Integra Urinary Struvit кот сеч.кам хвор. з кур 85г","Більше 10","Ветеринарна дієта для котів",43.98,60,{"$f":"'INTEGRA PROTECT'!I$37","v":0},{"$f":"'INTEGRA PROTECT'!J$37","v":0}]
[null,1111205391,"86853IPR","ТЕРМ.03.26.ПОМ'ЯТ.Корм ветеринарний вологий Protect Sensitiv Turkey + ","Менше 10","Ветеринарна дієта для котів",31.98,0,{"$f":"'INTEGRA PROTECT'!I$38","v":0},{"$f":"'INTEGRA PROTECT'!J$38","v":0}]
[null,1111194470,"86695IPR","ТЕРМ.04.26МЯТА БАНКА Корм вет вол Integra Sens кот харч.непер/інд100г","Менше 10","Ветеринарна дієта для котів",31.98,0,{"$f":"'INTEGRA PROTECT'!I$39","v":0},{"$f":"'INTEGRA PROTECT'!J$39","v":0}]
[null,5720,"006139_ord","Клей для акваріумів силіконовий чорний 60мл","Менше 10","Аксесуари для акваріума",123.06,171,{"$f":"Jaba!I$8","v":0},{"$f":"Jaba!J$8","v":0}]
[null,1111143213,"25570/25370СПЕЦЦЕНА","Акваріум Juwel прямий Primo 70 LED чорний 61x44x31см 70л","Менше 10","Акваріуми та акваріумні комплекти",6317.88,8214,{"$f":"Juwel!I$8","v":0},{"$f":"Juwel!J$8","v":0}]
[null,1111162079,"46515СПЕЦЦЕНА_ord","Балка Juwel для акваріума освітлювальна Multilux LED 150см","Менше 10","Освітлення для акваріумів",8210.82,10673,{"$f":"Juwel!I$9","v":0},{"$f":"Juwel!J$9","v":0}]
[null,1111148243,"46507СПЕЦЦЕНА_ord","Балка Juwel для акваріума освітлювальна Multilux LED 70см","Менше 10","Освітлення для акваріумів",5032.4399999999996,6545,{"$f":"Juwel!I$10","v":0},{"$f":"Juwel!J$10","v":0}]
[null,4627,"88049СПЕЦЦЕНА","Вкладиш Juwel вата д/акваріума bioPad M д/внутр/фільтра Bioflow M 5 шт","Більше 10","Фільтри для акваріумів",72.06,93,{"$f":"Juwel!I$11","v":0},{"$f":"Juwel!J$11","v":0}]
[null,1111137687,"88108_ordСПЕЦЦЕНА","Вкладиш для фільтра активоване вугілля Carbax L (Standart)","Менше 10","Аксесуари для обладнання",746.76,1045,{"$f":"Juwel!I$12","v":0},{"$f":"Juwel!J$12","v":0}]
[null,1111119971,"89000СПЕЦЦЕНА","Годівниця Juwel для риб EasyFeed для акваріума автоматична","Менше 10","Аксесуари для акваріума",1444.74,1878,{"$f":"Juwel!I$13","v":0},{"$f":"Juwel!J$13","v":0}]
[null,1111135806,"85758_ord","Головка Juwel Eccoflow 1500л/год","Менше 10","Аксесуари для обладнання",2750.04,3850,{"$f":"Juwel!I$14","v":0},{"$f":"Juwel!J$14","v":0}]
[null,6323,"88059_ordСПЕЦЦЕНА","Губка Juwel вугільна д/акваріума bioCarb M д/внут/фільтр Bioflow M 2шт","Менше 10","Фільтри для акваріумів",240.96,350,{"$f":"Juwel!I$15","v":0},{"$f":"Juwel!J$15","v":0}]
[null,4628,"88050_ordСПЕЦЦЕНА","Губка Juwel груба д/акваріума bioPlus coarse M д/внут/фільтр Bioflow M","Більше 10","Фільтри для акваріумів",138.6,204,{"$f":"Juwel!I$16","v":0},{"$f":"Juwel!J$16","v":0}]
[null,1111111549,"88055_ordСПЕЦЦЕНА","Губка Juwel для акваріума Nitrax M для внутрішнього фільтра Bioflow M","Більше 10","Фільтри для акваріумів",193.86,280,{"$f":"Juwel!I$17","v":0},{"$f":"Juwel!J$17","v":0}]
[null,2907,"88051СПЕЦЦЕНА","Губка Juwel дрібнопор д/акваріума bioPlus fine M д/вн/фільтр Bioflow M","Більше 10","Фільтри для акваріумів",138.47999999999999,204,{"$f":"Juwel!I$18","v":0},{"$f":"Juwel!J$18","v":0}]
[null,11977,"90046СПЕЦЦЕНА_ord","Комплект трубок для акваріумов","Менше 10","Аксесуари для обладнання",163.86,229,{"$f":"Juwel!I$19","v":0},{"$f":"Juwel!J$19","v":0}]
[null,1111160684,"49200СПЕЦЦЕНА_ord","Кріплення Juwel для ламп PrimoLux 60/PrimoLux 80 арт.49200","Менше 10","Аксесуари для обладнання",124.2,161,{"$f":"Juwel!I$20","v":0},{"$f":"Juwel!J$20","v":0}]
[null,1111161644,"86812СПЕЦЦЕНА_ord","Лампа Juwel для акваріума LED Day світлодіодна 1200мм 9000К 21Вт","Менше 10","Освітлення для акваріумів",1324.32,1852,{"$f":"Juwel!I$21","v":0},{"$f":"Juwel!J$21","v":0}]
[null,1111161646,"86825СПЕЦЦЕНА_ord","Лампа Juwel для акваріума LED Nature світлодіодна 590мм 6500К 11Вт","Менше 10","Освітлення для акваріумів",794.64,1111,{"$f":"Juwel!I$22","v":0},{"$f":"Juwel!J$22","v":0}]
[null,1111161647,"86827СПЕЦЦЕНА_ord","Лампа Juwel для акваріума LED Nature світлодіодна 742мм 6500К 14Вт","Менше 10","Освітлення для акваріумів",980.04,1374,{"$f":"Juwel!I$23","v":0},{"$f":"Juwel!J$23","v":0}]
[null,1111114546,"93990СПЕЦЦЕНА_ord","Набір відкидних кришок Juwel для акваріума Rio 400 150х50см 3шт","Менше 10","Кришки для акваріума",1552.32,2253,{"$f":"Juwel!I$24","v":0},{"$f":"Juwel!J$24","v":0}]
[null,1111123470,"93968 СПЕЦЦЕНА_ord","Набір відкидних кришок Juwel для акваріума Vision 450 3шт","Менше 10","Кришки для акваріума",2277.84,3303,{"$f":"Juwel!I$25","v":0},{"$f":"Juwel!J$25","v":0}]
[null,1111170797,"89012_ord","Набір шнеків що подают Juwel для автоматичної годівниці SmartFeed","Менше 10","Аксесуари для обладнання",320.94,434,{"$f":"Juwel!I$26","v":0},{"$f":"Juwel!J$26","v":0}]
[null,1111132177,"50114/67400СПЕЦЦЕНА_ord","Підставка Juwel для акваріума Rio 180 LED 101x41x73см","Менше 10","Підставки та піддони",7528.56,9788,{"$f":"Juwel!I$27","v":0},{"$f":"Juwel!J$27","v":0}]
[null,1111111450,"85145_ordСПЕЦЦЕНА","Повітряний дифузор Juwel О2 OxyPlus","Менше 10","Аксесуари для обладнання",323.64,467,{"$f":"Juwel!I$28","v":0},{"$f":"Juwel!J$28","v":0}]
[null,1111137492,"85097СПЕЦЦЕНА_ord","Ротор Juwel для акваріума для помпи Eccoflow 1500","Менше 10","Аксесуари для обладнання",635.70000000000005,922,{"$f":"Juwel!I$29","v":0},{"$f":"Juwel!J$29","v":0}]
[null,1111123758,"85703_ordСПЕЦЦЕНА","Термометр електронний Juwel 3.0 для акваріума","Менше 10","Аксесуари для акваріума",1029.8399999999999,1441,{"$f":"Juwel!I$30","v":0},{"$f":"Juwel!J$30","v":0}]
[null,1111132194,"86262 2L_ord СПЕЦЦЕНА","Фон Juwel для акваріума Poster 2 L 100x50см","Менше 10","Декорації для акваріума",173.4,249,{"$f":"Juwel!I$31","v":0},{"$f":"Juwel!J$31","v":0}]
[null,1111171025,"TPR-837*****","Іграшка Kiwi Walker для собак Восьминіг блакитний 12 см","Менше 10","Іграшки для собак",378.19,492,{"$f":"'Kiwi Walker'!I$8","v":0},{"$f":"'Kiwi Walker'!J$8","v":0}]
[null,1111171024,"TPR-836*****","Іграшка Kiwi Walker для собак Восьминіг зелений 12 см","Менше 10","Іграшки для собак",378.19,492,{"$f":"'Kiwi Walker'!I$9","v":0},{"$f":"'Kiwi Walker'!J$9","v":0}]
[null,1111171026,"TPR-838*****","Іграшка Kiwi Walker для собак Восьминіг рожевий 12 см","Менше 10","Іграшки для собак",366.78,476,{"$f":"'Kiwi Walker'!I$10","v":0},{"$f":"'Kiwi Walker'!J$10","v":0}]
[null,1111171022,"TPR-829*****","Іграшка Kiwi Walker для собак Кільце блакитне 13 см","Менше 10","Іграшки для собак",272.29000000000002,354,{"$f":"'Kiwi Walker'!I$11","v":0},{"$f":"'Kiwi Walker'!J$11","v":0}]
[null,1111171021,"TPR-828*****","Іграшка Kiwi Walker для собак Кільце зелене 13 см","Менше 10","Іграшки для собак",272.29000000000002,354,{"$f":"'Kiwi Walker'!I$12","v":0},{"$f":"'Kiwi Walker'!J$12","v":0}]
[null,1111171023,"TPR-830*****","Іграшка Kiwi Walker для собак Кільце рожеве 13 см","Менше 10","Іграшки для собак",272.29000000000002,354,{"$f":"'Kiwi Walker'!I$13","v":0},{"$f":"'Kiwi Walker'!J$13","v":0}]
[null,1111171019,"LTX-013*****","Іграшка Kiwi Walker для собак Птах Ківі блакитний 8,5 см","Менше 10","Іграшки для собак",205.97,268,{"$f":"'Kiwi Walker'!I$14","v":0},{"$f":"'Kiwi Walker'!J$14","v":0}]
[null,1111171016,"LTX-002*****","Іграшка Kiwi Walker для собак Птах Ківі зелений 15,5 см","Менше 10","Іграшки для собак",428.23,557,{"$f":"'Kiwi Walker'!I$15","v":0},{"$f":"'Kiwi Walker'!J$15","v":0}]
[null,1111171018,"LTX-012*****","Іграшка Kiwi Walker для собак Птах Ківі зелений 8,5 см","Менше 10","Іграшки для собак",189.59,246,{"$f":"'Kiwi Walker'!I$16","v":0},{"$f":"'Kiwi Walker'!J$16","v":0}]
[null,1111171015,"LTX-001*****","Іграшка Kiwi Walker для собак Птах Ківі помаранчевий 15,5 см","Менше 10","Іграшки для собак",428.23,557,{"$f":"'Kiwi Walker'!I$17","v":0},{"$f":"'Kiwi Walker'!J$17","v":0}]
[null,1111171017,"LTX-011*****","Іграшка Kiwi Walker для собак Птах Ківі помаранчевий 8,5 см","Менше 10","Іграшки для собак",189.59,246,{"$f":"'Kiwi Walker'!I$18","v":0},{"$f":"'Kiwi Walker'!J$18","v":0}]
[null,1111171020,"LTX-015*****","Іграшка Kiwi Walker для собак Птах Ківі рожевий 8,5 см","Менше 10","Іграшки для собак",205.97,268,{"$f":"'Kiwi Walker'!I$19","v":0},{"$f":"'Kiwi Walker'!J$19","v":0}]
[null,1111153805,"22-038/KW Zone БЕЛЫЙ*****","Перехідник пласт. прямий нерегульований (50 шт.)","Менше 10","Аксесуари для акваріума",326.5,457,{"$f":"'KW-Zone'!I$8","v":0},{"$f":"'KW-Zone'!J$8","v":0}]
[null,1111146461,"PT1704****","Кварц колба д/УФ-лампи з ущіл кільц для PowerClearMulti РТ1815/РТ1816","Менше 10","Обладнання для ставка",300,1177.1600000000001,{"$f":"Laguna!I$8","v":0},{"$f":"Laguna!J$8","v":0}]
[null,1111120977,"PT1524****","Кварцева колба для УФ-лампи з ущільнюючими кільцями для PT1500/PT1502","Менше 10","Аксесуари для обладнання",337.08,943,{"$f":"Laguna!I$9","v":0},{"$f":"Laguna!J$9","v":0}]
[null,1111135729,"PT1525****","Кварцева колба для УФ-лампи з ущільнюючими кільцями для фільтра PT1504","Менше 10","Аксесуари для обладнання",300,1238.78,{"$f":"Laguna!I$10","v":0},{"$f":"Laguna!J$10","v":0}]
[null,1111112285,"PP503****","ANACHARIS 13 см пластикова рослина","Менше 10","Декорації для акваріума",78.92,110,{"$f":"Marina!I$8","v":0},{"$f":"Marina!J$8","v":0}]
[null,1111112270,"PP1205****","CARDAMINE 30 см пластикова рослина","Менше 10","Декорації для акваріума",240.7,337,{"$f":"Marina!I$9","v":0},{"$f":"Marina!J$9","v":0}]
[null,1111112296,"PP813****","HYGROPHILA 20 см пластикова рослина","Менше 10","Декорації для акваріума",121.85,171,{"$f":"Marina!I$10","v":0},{"$f":"Marina!J$10","v":0}]
[null,1111112300,"PP1213****","HYGROPHILA 30 см пластикова рослина","Менше 10","Декорації для акваріума",214.54,300,{"$f":"Marina!I$11","v":0},{"$f":"Marina!J$11","v":0}]
[null,1111122880,"A7510_ord","Кондиціонер Hagen Marina для води для черепах","Менше 10","Засоби догляду для тераріумів",63.84,97,{"$f":"Marina!I$12","v":0},{"$f":"Marina!J$12","v":0}]
[null,1111116119,"Nechay236128","Ґрунт Nechay Zoo для акваріума чорний дрібний (базальт) 2-5 мм 10 кг","Більше 10","Грунти для акваріума",222.6,334,{"$f":"'Nechay ZOO'!I$8","v":0},{"$f":"'Nechay ZOO'!J$8","v":0}]
[null,1111116270,"Nechay000080","Ґрунт Nechay Zoo для акваріума чорний середній 5-10 мм 10кг","Більше 10","Грунти для акваріума",222.6,334,{"$f":"'Nechay ZOO'!I$9","v":0},{"$f":"'Nechay ZOO'!J$9","v":0}]
[null,1111116998,"Nechay000035","Ґрунт Nechay Zoo для акваріума чорний середній 5-10 мм 2кг","Більше 10","Грунти для акваріума",56.7,84,{"$f":"'Nechay ZOO'!I$10","v":0},{"$f":"'Nechay ZOO'!J$10","v":0}]
[null,1111116122,"Nechay009360","Ґрунт Nechay Zoo для акваріума чорно-білий дрібний 2-5 мм 10 кг","Більше 10","Грунти для акваріума",222.6,334,{"$f":"'Nechay ZOO'!I$11","v":0},{"$f":"'Nechay ZOO'!J$11","v":0}]
[null,1111117630,"Nechay009353","Ґрунт Nechay Zoo для акваріума чорно-білий середній 5-10 мм 2 кг","Більше 10","Грунти для акваріума",65.459999999999994,97,{"$f":"'Nechay ZOO'!I$12","v":0},{"$f":"'Nechay ZOO'!J$12","v":0}]
[null,1111116997,"Nechay009339","Ґрунт Nechay Zoo Чорний Кристал для акваріума чорний дрібний 2-5мм 2кг","Більше 10","Грунти для акваріума",65.459999999999994,97,{"$f":"'Nechay ZOO'!I$13","v":0},{"$f":"'Nechay ZOO'!J$13","v":0}]
[null,1111117629,"Nechay000028","Грунт акваріумн. 10 кг білий середній (5-10 мм)","Менше 10","Грунти для акваріума",222.6,334,{"$f":"'Nechay ZOO'!I$14","v":0},{"$f":"'Nechay ZOO'!J$14","v":0}]
[null,1111118221,"Nechay019376","Грунт акваріумн. 10 кг рожевий (кварцит) дрібний","Менше 10","Грунти для акваріума",222.6,334,{"$f":"'Nechay ZOO'!I$15","v":0},{"$f":"'Nechay ZOO'!J$15","v":0}]
[null,1111116996,"Nechay009346","Грунт акваріумн. 2 кг чорно/білий дрібний (2-5 мм)","Більше 10","Грунти для акваріума",62.34,93,{"$f":"'Nechay ZOO'!I$16","v":0},{"$f":"'Nechay ZOO'!J$16","v":0}]
[null,1111195757,"Nechay000028","ПОРВ. Грунт аквар. 10 кг. белый средн.(5-10мм)","Менше 10","Грунти для акваріума",111.3,0,{"$f":"'Nechay ZOO'!I$17","v":0},{"$f":"'Nechay ZOO'!J$17","v":0}]
[null,1111189114,94035,"Вологий корм для котів Pet Chef з Індичкою 200 г","Більше 100","Корм вологий для котів",37.979999999999997,49,{"$f":"'Pet Chef'!I$8","v":0},{"$f":"'Pet Chef'!J$8","v":0}]
[null,1111189113,94042,"Вологий корм для котів Pet Chef з Яловичиною 200г","Більше 100","Корм вологий для котів",37.979999999999997,49,{"$f":"'Pet Chef'!I$9","v":0},{"$f":"'Pet Chef'!J$9","v":0}]
[null,1111189101,93588,"Вологий корм для котів Pet Chef з яловичиною 415г","Більше 100","Корм вологий для котів",58.02,75,{"$f":"'Pet Chef'!I$10","v":0},{"$f":"'Pet Chef'!J$10","v":0}]
[null,1111189100,93571,"Вологий корм для котів Pet Chef М_ясний мікс 415г","Більше 100","Корм вологий для котів",58.02,75,{"$f":"'Pet Chef'!I$11","v":0},{"$f":"'Pet Chef'!J$11","v":0}]
[null,1111189112,94059,"Вологий корм для котів Pet Chef М’ясний мікс 200г","Більше 100","Корм вологий для котів",37.979999999999997,49,{"$f":"'Pet Chef'!I$12","v":0},{"$f":"'Pet Chef'!J$12","v":0}]
[null,1111189102,93595,"Вологий корм для котів Pet Chef шматочки в желе з індичкою 415г","Немає в наявності","Корм вологий для котів",58.02,75,{"$f":"'Pet Chef'!I$13","v":0},{"$f":"'Pet Chef'!J$13","v":0}]
[null,1111189111,94066,"Вологий корм для котів Pet Chef шматочки в желе з куркою 200г","Більше 100","Корм вологий для котів",37.979999999999997,49,{"$f":"'Pet Chef'!I$14","v":0},{"$f":"'Pet Chef'!J$14","v":0}]
[null,1111189099,93564,"Вологий корм для котів Pet Chef шматочки в желе з куркою 415г","Більше 100","Корм вологий для котів",58.02,75,{"$f":"'Pet Chef'!I$15","v":0},{"$f":"'Pet Chef'!J$15","v":0}]
[null,1111189103,93601,"Вологий корм для собак Pet Chef з Індичкою 415г","Більше 100","Корм вологий для собак",58.02,75,{"$f":"'Pet Chef'!I$16","v":0},{"$f":"'Pet Chef'!J$16","v":0}]
[null,1111189110,93656,"Вологий корм для собак Pet Chef з куркою 800г","Більше 10","Корм вологий для собак",100.02,130,{"$f":"'Pet Chef'!I$17","v":0},{"$f":"'Pet Chef'!J$17","v":0}]
[null,1111189105,93618,"Вологий корм для собак Pet Chef з Яловичиною 415 г","Більше 100","Корм вологий для собак",58.02,75,{"$f":"'Pet Chef'!I$18","v":0},{"$f":"'Pet Chef'!J$18","v":0}]
[null,1111189104,93670,"Вологий корм для собак Pet Chef шматочки в желе з індичкою 800г","Більше 100","Корм вологий для собак",100.02,130,{"$f":"'Pet Chef'!I$19","v":0},{"$f":"'Pet Chef'!J$19","v":0}]
[null,1111189109,93663,"Вологий корм для собак Pet Chef шматочки в желе з куркою 415г","Більше 10","Корм вологий для собак",58.02,75,{"$f":"'Pet Chef'!I$20","v":0},{"$f":"'Pet Chef'!J$20","v":0}]
[null,1111189106,93632,"Вологий корм для собак Pet Chef шматочки в желе з яловичиною 800г","Більше 100","Корм вологий для собак",100.02,130,{"$f":"'Pet Chef'!I$21","v":0},{"$f":"'Pet Chef'!J$21","v":0}]
[null,1111189108,93649,"Вологий корм для собак Pet Chef шматочки в желе М_ясний мікс 800г","Більше 100","Корм вологий для собак",100.02,130,{"$f":"'Pet Chef'!I$22","v":0},{"$f":"'Pet Chef'!J$22","v":0}]
[null,1111194318,93625,"ТЕРМ. 10.27, ПОМ'ЯТ. Вологий корм для собак Pet Chef М'ясний мікс 415г","Менше 10","Корм вологий для собак",29.04,0,{"$f":"'Pet Chef'!I$23","v":0},{"$f":"'Pet Chef'!J$23","v":0}]
[null,1111182981,"PR243806*****","Аксесуар Imp червоний   XS-S","Менше 10",null,196.2,281,{"$f":"'Pet Fashion'!I$8","v":0},{"$f":"'Pet Fashion'!J$8","v":0}]
[null,1111182980,"PR243805*****","Аксесуар Imp червоний  M-L для собак","Менше 10",null,221.58,317,{"$f":"'Pet Fashion'!I$9","v":0},{"$f":"'Pet Fashion'!J$9","v":0}]
[null,1111163436,"PR242109*****","Бандана  WEEKEND , M-XL, принт","Більше 10","Одяг для собак",92,119,{"$f":"'Pet Fashion'!I$10","v":0},{"$f":"'Pet Fashion'!J$10","v":0}]
[null,1111163437,"PR242108*****","Бандана  WEEKEND , XS-S, принт","Менше 10","Одяг для собак",70,92,{"$f":"'Pet Fashion'!I$11","v":0},{"$f":"'Pet Fashion'!J$11","v":0}]
[null,1111171986,"PR243016*****","Бомбер Pet Fashion Grace для собак S","Менше 10","Одяг для собак",590.64,797,{"$f":"'Pet Fashion'!I$12","v":0},{"$f":"'Pet Fashion'!J$12","v":0}]
[null,1111171988,"PR243014*****","Бомбер Pet Fashion Grace для собак XS","Більше 10","Одяг для собак",512.59,692,{"$f":"'Pet Fashion'!I$13","v":0},{"$f":"'Pet Fashion'!J$13","v":0}]
[null,1111171987,"PR243015*****","Бомбер Pet Fashion Grace для собак XS-2","Менше 10","Одяг для собак",546.6,737.91,{"$f":"'Pet Fashion'!I$14","v":0},{"$f":"'Pet Fashion'!J$14","v":0}]
[null,1111171985,"PR243017*****","Бомбер Pet Fashion Grace для собак М","Більше 10","Одяг для собак",608.27,821.16,{"$f":"'Pet Fashion'!I$15","v":0},{"$f":"'Pet Fashion'!J$15","v":0}]
[null,1111171983,"PR243019*****","Бомбер Pet Fashion Spike для собак L","Більше 10","Одяг для собак",717.66,969,{"$f":"'Pet Fashion'!I$16","v":0},{"$f":"'Pet Fashion'!J$16","v":0}]
[null,1111171980,"PR243022*****","Бомбер Pet Fashion Spike для собак S","Менше 10","Одяг для собак",590.64,797,{"$f":"'Pet Fashion'!I$17","v":0},{"$f":"'Pet Fashion'!J$17","v":0}]
[null,1111171982,"PR243020*****","Бомбер Pet Fashion Spike для собак XS","Більше 10","Одяг для собак",538.26,727,{"$f":"'Pet Fashion'!I$18","v":0},{"$f":"'Pet Fashion'!J$18","v":0}]
[null,1111171984,"PR243018*****","Бомбер Pet Fashion Spike для собак блакитний XL арт PR243018","Менше 10","Одяг для собак",714.83,965.02,{"$f":"'Pet Fashion'!I$19","v":0},{"$f":"'Pet Fashion'!J$19","v":0}]
[null,1111171979,"PR243023*****","Бомбер Pet Fashion Spike для собак М","Менше 10","Одяг для собак",638.70000000000005,862,{"$f":"'Pet Fashion'!I$20","v":0},{"$f":"'Pet Fashion'!J$20","v":0}]
[null,1111162859,"PR242018*****","Борцовка  COOL , S","Менше 10","Одяг для собак",221,299,{"$f":"'Pet Fashion'!I$21","v":0},{"$f":"'Pet Fashion'!J$21","v":0}]
[null,1111162861,"PR242016*****","Борцовка  COOL , XS","Більше 10","Одяг для собак",195,263,{"$f":"'Pet Fashion'!I$22","v":0},{"$f":"'Pet Fashion'!J$22","v":0}]
[null,1111162860,"PR242017*****","Борцовка  COOL , XS-2","Менше 10","Одяг для собак",208,281,{"$f":"'Pet Fashion'!I$23","v":0},{"$f":"'Pet Fashion'!J$23","v":0}]
[null,1111165974,"PR242364*****","Борцовка  LITTLE HELPER   S","Більше 10","Одяг для собак",226,305,{"$f":"'Pet Fashion'!I$24","v":0},{"$f":"'Pet Fashion'!J$24","v":0}]
[null,1111165975,"PR242363*****","Борцовка  LITTLE HELPER  XS-2","Більше 10","Одяг для собак",222,299,{"$f":"'Pet Fashion'!I$25","v":0},{"$f":"'Pet Fashion'!J$25","v":0}]
[null,1111165973,"PR242365*****","Борцовка  LITTLE HELPER  М","Більше 10","Одяг для собак",245,331,{"$f":"'Pet Fashion'!I$26","v":0},{"$f":"'Pet Fashion'!J$26","v":0}]
[null,1111165978,"PR242360*****","Борцовка  PRESENT   S","Більше 10","Одяг для собак",226,305,{"$f":"'Pet Fashion'!I$27","v":0},{"$f":"'Pet Fashion'!J$27","v":0}]
[null,1111165979,"PR242359*****","Борцовка  PRESENT  XS-2","Більше 10","Одяг для собак",222,299,{"$f":"'Pet Fashion'!I$28","v":0},{"$f":"'Pet Fashion'!J$28","v":0}]
[null,1111165977,"PR242361*****","Борцовка  PRESENT  М","Більше 10","Одяг для собак",245,331,{"$f":"'Pet Fashion'!I$29","v":0},{"$f":"'Pet Fashion'!J$29","v":0}]
[null,1111162854,"PR242011*****","Борцовка  Puppy , S, м ята","Менше 10","Одяг для собак",212,287,{"$f":"'Pet Fashion'!I$30","v":0},{"$f":"'Pet Fashion'!J$30","v":0}]
[null,1111162851,"PR242014*****","Борцовка  Puppy , XS-2, жовта","Менше 10","Одяг для собак",208,281,{"$f":"'Pet Fashion'!I$31","v":0},{"$f":"'Pet Fashion'!J$31","v":0}]
[null,1111167895,"PR242721*****","Вітровка Pet Fashion Fresh для собак бежева XS","Менше 10","Одяг для собак",565.98,764,{"$f":"'Pet Fashion'!I$32","v":0},{"$f":"'Pet Fashion'!J$32","v":0}]
[null,1111167824,"PR242720*****","Вітровка Pet Fashion Fresh для собак бежева XS2","Менше 10","Одяг для собак",589.08000000000004,795,{"$f":"'Pet Fashion'!I$33","v":0},{"$f":"'Pet Fashion'!J$33","v":0}]
[null,1111167822,"PR242718*****","Вітровка Pet Fashion Fresh для собак бежева М","Менше 10","Одяг для собак",679.38,917,{"$f":"'Pet Fashion'!I$34","v":0},{"$f":"'Pet Fashion'!J$34","v":0}]
[null,1111205023,"PR244306","Вішалка для одягу Pet Fashion S2, M, M2, L (5 шт.),","Більше 10","Одяг для собак",65.040000000000006,0,{"$f":"'Pet Fashion'!I$35","v":0},{"$f":"'Pet Fashion'!J$35","v":0}]
[null,1111205024,"PR244305","Вішалка для одягу Pet Fashion XS2, S (5 шт.),","Менше 10","Одяг для собак",40.020000000000003,0,{"$f":"'Pet Fashion'!I$36","v":0},{"$f":"'Pet Fashion'!J$36","v":0}]
[null,1111205025,"PR244307","Вішалка для одягу Pet Fashion XXS, XS (5 шт.),","Менше 10","Одяг для собак",23.04,0,{"$f":"'Pet Fashion'!I$37","v":0},{"$f":"'Pet Fashion'!J$37","v":0}]
[null,1111180560,"PR243511*****","Дощовик Mustang L","Більше 10","Одяг для собак",1103,1489,{"$f":"'Pet Fashion'!I$38","v":0},{"$f":"'Pet Fashion'!J$38","v":0}]
[null,1111180563,"PR243508*****","Дощовик Mustang S2","Більше 10","Одяг для собак",1045,1411,{"$f":"'Pet Fashion'!I$39","v":0},{"$f":"'Pet Fashion'!J$39","v":0}]
[null,1111180559,"PR243512*****","Дощовик Mustang XL","Менше 10","Одяг для собак",1167,1575,{"$f":"'Pet Fashion'!I$40","v":0},{"$f":"'Pet Fashion'!J$40","v":0}]
[null,1111180562,"PR243509*****","Дощовик Mustang М","Менше 10","Одяг для собак",1047,1414,{"$f":"'Pet Fashion'!I$41","v":0},{"$f":"'Pet Fashion'!J$41","v":0}]
[null,1111180561,"PR243510*****","Дощовик Mustang М2","Більше 10","Одяг для собак",1083,1463,{"$f":"'Pet Fashion'!I$42","v":0},{"$f":"'Pet Fashion'!J$42","v":0}]
[null,1111180566,"PR243505*****","Дощовик Mustang ХS","Більше 100","Одяг для собак",765,1033,{"$f":"'Pet Fashion'!I$43","v":0},{"$f":"'Pet Fashion'!J$43","v":0}]
[null,1111180565,"PR243506*****","Дощовик Mustang ХS2","Менше 10","Одяг для собак",809,1092,{"$f":"'Pet Fashion'!I$44","v":0},{"$f":"'Pet Fashion'!J$44","v":0}]
[null,1111171808,"PR242988*****","Дощовик Pet Fashion Ariel для собак M","Менше 10","Одяг для собак",788.97,1065.1199999999999,{"$f":"'Pet Fashion'!I$45","v":0},{"$f":"'Pet Fashion'!J$45","v":0}]
[null,1111179022,"PR243452*****","Дощовик Pet Fashion Semmy морська хвиля капучіно M артPR243452","Менше 10","Одяг для собак",683,922,{"$f":"'Pet Fashion'!I$46","v":0},{"$f":"'Pet Fashion'!J$46","v":0}]
[null,1111179025,"PR243449*****","Дощовик Pet Fashion Semmy морська хвиля капучіно XS артPR243449","Менше 10","Одяг для собак",563,760,{"$f":"'Pet Fashion'!I$47","v":0},{"$f":"'Pet Fashion'!J$47","v":0}]
[null,1111171801,"PR242995*****","Дощовик Pet Fashion Silver для собак L","Менше 10","Одяг для собак",706,953.1,{"$f":"'Pet Fashion'!I$48","v":0},{"$f":"'Pet Fashion'!J$48","v":0}]
[null,1111171802,"PR242994*****","Дощовик Pet Fashion Silver для собак M","Більше 10","Одяг для собак",616.77,832.64,{"$f":"'Pet Fashion'!I$49","v":0},{"$f":"'Pet Fashion'!J$49","v":0}]
[null,1111171803,"PR242993*****","Дощовик Pet Fashion Silver для собак S","Більше 10","Одяг для собак",554.64,748.77,{"$f":"'Pet Fashion'!I$50","v":0},{"$f":"'Pet Fashion'!J$50","v":0}]
[null,1111171806,"PR242990*****","Дощовик Pet Fashion Silver для собак XS","Більше 10","Одяг для собак",471.6,636.66,{"$f":"'Pet Fashion'!I$51","v":0},{"$f":"'Pet Fashion'!J$51","v":0}]
[null,1111171805,"PR242991*****","Дощовик Pet Fashion Silver для собак XS-2","Більше 10","Одяг для собак",536.41999999999996,724.17,{"$f":"'Pet Fashion'!I$52","v":0},{"$f":"'Pet Fashion'!J$52","v":0}]
[null,1111180553,"PR243518*****","Дощовик Tina L дівчинка","Більше 10","Одяг для собак",1002,1353,{"$f":"'Pet Fashion'!I$53","v":0},{"$f":"'Pet Fashion'!J$53","v":0}]
[null,1111180556,"PR243515*****","Дощовик Tina S дівчинка","Більше 10","Одяг для собак",815,1100,{"$f":"'Pet Fashion'!I$54","v":0},{"$f":"'Pet Fashion'!J$54","v":0}]
[null,1111180555,"PR243516*****","Дощовик Tina S2 дівчинка","Менше 10","Одяг для собак",923,1246,{"$f":"'Pet Fashion'!I$55","v":0},{"$f":"'Pet Fashion'!J$55","v":0}]
[null,1111180552,"PR243519*****","Дощовик Tina XL дівчинка","Більше 10","Одяг для собак",1065,1438,{"$f":"'Pet Fashion'!I$56","v":0},{"$f":"'Pet Fashion'!J$56","v":0}]
[null,1111180554,"PR243517*****","Дощовик Tina М дівчинка","Більше 10","Одяг для собак",916,1236,{"$f":"'Pet Fashion'!I$57","v":0},{"$f":"'Pet Fashion'!J$57","v":0}]
[null,1111180558,"PR243513*****","Дощовик Tina ХS дівчинка","Більше 10","Одяг для собак",742,1002,{"$f":"'Pet Fashion'!I$58","v":0},{"$f":"'Pet Fashion'!J$58","v":0}]
[null,1111180547,"PR243524*****","Дублянка Black ХS","Менше 10","Одяг для собак",541.98,731,{"$f":"'Pet Fashion'!I$59","v":0},{"$f":"'Pet Fashion'!J$59","v":0}]
[null,1111171992,"PR243010*****","Жакет Pet Fashion Harry для собак коричневий XS2 арт PR243010","Менше 10","Одяг для собак",411.76,555.88,{"$f":"'Pet Fashion'!I$60","v":0},{"$f":"'Pet Fashion'!J$60","v":0}]
[null,1111181950,"PR243594*****","Жилет Grass M","Більше 100","Одяг для собак",804.36,1086,{"$f":"'Pet Fashion'!I$61","v":0},{"$f":"'Pet Fashion'!J$61","v":0}]
[null,1111181951,"PR243593*****","Жилет Grass S","Більше 100","Одяг для собак",693,936,{"$f":"'Pet Fashion'!I$62","v":0},{"$f":"'Pet Fashion'!J$62","v":0}]
[null,1111181953,"PR243591*****","Жилет Grass XS","Більше 100","Одяг для собак",622.74,841,{"$f":"'Pet Fashion'!I$63","v":0},{"$f":"'Pet Fashion'!J$63","v":0}]
[null,1111181952,"PR243592*****","Жилет Grass XS2","Більше 10","Одяг для собак",695.22,939,{"$f":"'Pet Fashion'!I$64","v":0},{"$f":"'Pet Fashion'!J$64","v":0}]
[null,1111182494,"PR243750","Жилет Hardy S2 для собак","Менше 10","Одяг для собак",711,960,{"$f":"'Pet Fashion'!I$65","v":0},{"$f":"'Pet Fashion'!J$65","v":0}]
[null,1111182490,"PR243745","Жилет Hardy XL для собак","Менше 10","Одяг для собак",824,1113,{"$f":"'Pet Fashion'!I$66","v":0},{"$f":"'Pet Fashion'!J$66","v":0}]
[null,1111182493,"PR243749","Жилет Hardy М для собак","Менше 10","Одяг для собак",710,959,{"$f":"'Pet Fashion'!I$67","v":0},{"$f":"'Pet Fashion'!J$67","v":0}]
[null,1111182492,"PR243746","Жилет Hardy М2 для собак","Менше 10","Одяг для собак",757,1022,{"$f":"'Pet Fashion'!I$68","v":0},{"$f":"'Pet Fashion'!J$68","v":0}]
[null,1111182497,"PR243754","Жилет Hardy ХS для собак","Менше 10","Одяг для собак",573,773,{"$f":"'Pet Fashion'!I$69","v":0},{"$f":"'Pet Fashion'!J$69","v":0}]
[null,1111166190,"PR242392*****","Жилет Pet Fashion Big Boss для собак червоний 4XL","Менше 10","Одяг для собак",817.66,1103.8399999999999,{"$f":"'Pet Fashion'!I$70","v":0},{"$f":"'Pet Fashion'!J$70","v":0}]
[null,1111166192,"PR242398","Жилет Pet Fashion Big Boss для собак чорний 2XL","Менше 10","Одяг для собак",811.8,1096,{"$f":"'Pet Fashion'!I$71","v":0},{"$f":"'Pet Fashion'!J$71","v":0}]
[null,1111166193,"PR242397","Жилет Pet Fashion Big Boss для собак чорний 3XL","Менше 10","Одяг для собак",841.38,1136,{"$f":"'Pet Fashion'!I$72","v":0},{"$f":"'Pet Fashion'!J$72","v":0}]
[null,1111166194,"PR242396","Жилет Pet Fashion Big Boss для собак чорний 4XL","Менше 10","Одяг для собак",899.46,1214,{"$f":"'Pet Fashion'!I$73","v":0},{"$f":"'Pet Fashion'!J$73","v":0}]
[null,1111166195,"PR242395","Жилет Pet Fashion Big Boss для собак чорний 5XL","Менше 10","Одяг для собак",969.18,1308,{"$f":"'Pet Fashion'!I$74","v":0},{"$f":"'Pet Fashion'!J$74","v":0}]
[null,1111166460,"PR242417","Жилет Pet Fashion E.Vest для собак морська хвиля L","Менше 10","Одяг для собак",705.06,952,{"$f":"'Pet Fashion'!I$75","v":0},{"$f":"'Pet Fashion'!J$75","v":0}]
[null,1111166464,"PR242413","Жилет Pet Fashion E.Vest для собак морська хвиля S","Менше 10","Одяг для собак",559.20000000000005,939,{"$f":"'Pet Fashion'!I$76","v":0},{"$f":"'Pet Fashion'!J$76","v":0}]
[null,1111166463,"PR242414","Жилет Pet Fashion E.Vest для собак морська хвиля SМ","Менше 10","Одяг для собак",599.96,809.95,{"$f":"'Pet Fashion'!I$77","v":0},{"$f":"'Pet Fashion'!J$77","v":0}]
[null,1111166459,"PR242418","Жилет Pet Fashion E.Vest для собак морська хвиля XL","Менше 10","Одяг для собак",820.86,1108,{"$f":"'Pet Fashion'!I$78","v":0},{"$f":"'Pet Fashion'!J$78","v":0}]
[null,1111166466,"PR242411","Жилет Pet Fashion E.Vest для собак морська хвиля XS","Більше 10","Одяг для собак",535.08000000000004,722.36,{"$f":"'Pet Fashion'!I$79","v":0},{"$f":"'Pet Fashion'!J$79","v":0}]
[null,1111166465,"PR242412","Жилет Pet Fashion E.Vest для собак морська хвиля XS-2","Менше 10","Одяг для собак",554.83000000000004,749.02,{"$f":"'Pet Fashion'!I$80","v":0},{"$f":"'Pet Fashion'!J$80","v":0}]
[null,1111166462,"PR242415","Жилет Pet Fashion E.Vest для собак морська хвиля М","Більше 10","Одяг для собак",622.62,840.53,{"$f":"'Pet Fashion'!I$81","v":0},{"$f":"'Pet Fashion'!J$81","v":0}]
[null,1111166461,"PR242416","Жилет Pet Fashion E.Vest для собак морська хвиля М2","Менше 10","Одяг для собак",700.28,945.38,{"$f":"'Pet Fashion'!I$82","v":0},{"$f":"'Pet Fashion'!J$82","v":0}]
[null,1111166444,"PR242433","Жилет Pet Fashion E.Vest для собак помаранчевий L","Менше 10","Одяг для собак",718.5,970,{"$f":"'Pet Fashion'!I$83","v":0},{"$f":"'Pet Fashion'!J$83","v":0}]
[null,1111166448,"PR242429","Жилет Pet Fashion E.Vest для собак помаранчевий S","Менше 10","Одяг для собак",608.64,822,{"$f":"'Pet Fashion'!I$84","v":0},{"$f":"'Pet Fashion'!J$84","v":0}]
[null,1111166447,"PR242430","Жилет Pet Fashion E.Vest для собак помаранчевий SМ","Більше 10","Одяг для собак",599.96,809.95,{"$f":"'Pet Fashion'!I$85","v":0},{"$f":"'Pet Fashion'!J$85","v":0}]
[null,1111166443,"PR242434","Жилет Pet Fashion E.Vest для собак помаранчевий XL","Менше 10","Одяг для собак",746.19,1007.36,{"$f":"'Pet Fashion'!I$86","v":0},{"$f":"'Pet Fashion'!J$86","v":0}]
[null,1111166450,"PR242427","Жилет Pet Fashion E.Vest для собак помаранчевий XS","Більше 10","Одяг для собак",535.08000000000004,722.36,{"$f":"'Pet Fashion'!I$87","v":0},{"$f":"'Pet Fashion'!J$87","v":0}]
[null,1111166449,"PR242428","Жилет Pet Fashion E.Vest для собак помаранчевий XS-2","Більше 10","Одяг для собак",554.83000000000004,749.02,{"$f":"'Pet Fashion'!I$88","v":0},{"$f":"'Pet Fashion'!J$88","v":0}]
[null,1111166445,"PR242432","Жилет Pet Fashion E.Vest для собак помаранчевий М2","Менше 10","Одяг для собак",700.28,945.38,{"$f":"'Pet Fashion'!I$89","v":0},{"$f":"'Pet Fashion'!J$89","v":0}]
[null,1111166436,"PR242441","Жилет Pet Fashion E.Vest для собак сірий L","Менше 10","Одяг для собак",671.48,906.5,{"$f":"'Pet Fashion'!I$90","v":0},{"$f":"'Pet Fashion'!J$90","v":0}]
[null,1111166440,"PR242437","Жилет Pet Fashion E.Vest для собак сірий S","Менше 10","Одяг для собак",579.61,782.47,{"$f":"'Pet Fashion'!I$91","v":0},{"$f":"'Pet Fashion'!J$91","v":0}]
[null,1111166439,"PR242438","Жилет Pet Fashion E.Vest для собак сірий SМ","Більше 10","Одяг для собак",599.96,809.95,{"$f":"'Pet Fashion'!I$92","v":0},{"$f":"'Pet Fashion'!J$92","v":0}]
[null,1111166435,"PR242442","Жилет Pet Fashion E.Vest для собак сірий XL","Менше 10","Одяг для собак",746.19,1007.36,{"$f":"'Pet Fashion'!I$93","v":0},{"$f":"'Pet Fashion'!J$93","v":0}]
[null,1111166442,"PR242435","Жилет Pet Fashion E.Vest для собак сірий XS","Менше 10","Одяг для собак",535.08000000000004,722.36,{"$f":"'Pet Fashion'!I$94","v":0},{"$f":"'Pet Fashion'!J$94","v":0}]
[null,1111166441,"PR242436","Жилет Pet Fashion E.Vest для собак сірий XS-2","Більше 10","Одяг для собак",554.83000000000004,749.02,{"$f":"'Pet Fashion'!I$95","v":0},{"$f":"'Pet Fashion'!J$95","v":0}]
[null,1111166438,"PR242439","Жилет Pet Fashion E.Vest для собак сірий М","Менше 10","Одяг для собак",622.62,840.53,{"$f":"'Pet Fashion'!I$96","v":0},{"$f":"'Pet Fashion'!J$96","v":0}]
[null,1111166437,"PR242440","Жилет Pet Fashion E.Vest для собак сірий М2","Менше 10","Одяг для собак",700.28,945.38,{"$f":"'Pet Fashion'!I$97","v":0},{"$f":"'Pet Fashion'!J$97","v":0}]
[null,1111166456,"PR242421","Жилет Pet Fashion E.Vest для собак фіолетовий S","Менше 10","Одяг для собак",579.61,782.47,{"$f":"'Pet Fashion'!I$98","v":0},{"$f":"'Pet Fashion'!J$98","v":0}]
[null,1111166455,"PR242422","Жилет Pet Fashion E.Vest для собак фіолетовий SМ","Більше 10","Одяг для собак",599.96,809.95,{"$f":"'Pet Fashion'!I$99","v":0},{"$f":"'Pet Fashion'!J$99","v":0}]
[null,1111166451,"PR242426","Жилет Pet Fashion E.Vest для собак фіолетовий XL","Менше 10","Одяг для собак",746.19,1007.36,{"$f":"'Pet Fashion'!I$100","v":0},{"$f":"'Pet Fashion'!J$100","v":0}]
[null,1111166458,"PR242419","Жилет Pet Fashion E.Vest для собак фіолетовий XS","Менше 10","Одяг для собак",535.08000000000004,722.36,{"$f":"'Pet Fashion'!I$101","v":0},{"$f":"'Pet Fashion'!J$101","v":0}]
[null,1111166457,"PR242420","Жилет Pet Fashion E.Vest для собак фіолетовий XS-2","Менше 10","Одяг для собак",554.83000000000004,749.02,{"$f":"'Pet Fashion'!I$102","v":0},{"$f":"'Pet Fashion'!J$102","v":0}]
[null,1111166454,"PR242423","Жилет Pet Fashion E.Vest для собак фіолетовий М","Менше 10","Одяг для собак",666.24,899,{"$f":"'Pet Fashion'!I$103","v":0},{"$f":"'Pet Fashion'!J$103","v":0}]
[null,1111166453,"PR242424","Жилет Pet Fashion E.Vest для собак фіолетовий М2","Менше 10","Одяг для собак",700.28,945.38,{"$f":"'Pet Fashion'!I$104","v":0},{"$f":"'Pet Fashion'!J$104","v":0}]
[null,1111166428,"PR242449","Жилет Pet Fashion E.Vest для собак червоний L","Менше 10","Одяг для собак",671.48,906.5,{"$f":"'Pet Fashion'!I$105","v":0},{"$f":"'Pet Fashion'!J$105","v":0}]
[null,1111166432,"PR242445","Жилет Pet Fashion E.Vest для собак червоний S","Більше 10","Одяг для собак",579.61,782.47,{"$f":"'Pet Fashion'!I$106","v":0},{"$f":"'Pet Fashion'!J$106","v":0}]
[null,1111166431,"PR242446","Жилет Pet Fashion E.Vest для собак червоний SМ","Менше 10","Одяг для собак",599.96,809.95,{"$f":"'Pet Fashion'!I$107","v":0},{"$f":"'Pet Fashion'!J$107","v":0}]
[null,1111166427,"PR242450","Жилет Pet Fashion E.Vest для собак червоний XL","Більше 10","Одяг для собак",783.54,1058,{"$f":"'Pet Fashion'!I$108","v":0},{"$f":"'Pet Fashion'!J$108","v":0}]
[null,1111166434,"PR242443","Жилет Pet Fashion E.Vest для собак червоний XS","Більше 10","Одяг для собак",535.08000000000004,722.36,{"$f":"'Pet Fashion'!I$109","v":0},{"$f":"'Pet Fashion'!J$109","v":0}]
[null,1111166433,"PR242444","Жилет Pet Fashion E.Vest для собак червоний XS-2","Більше 10","Одяг для собак",554.83000000000004,749.02,{"$f":"'Pet Fashion'!I$110","v":0},{"$f":"'Pet Fashion'!J$110","v":0}]
[null,1111166430,"PR242447","Жилет Pet Fashion E.Vest для собак червоний М","Менше 10","Одяг для собак",641.34,866,{"$f":"'Pet Fashion'!I$111","v":0},{"$f":"'Pet Fashion'!J$111","v":0}]
[null,1111166429,"PR242448","Жилет Pet Fashion E.Vest для собак червоний М2","Менше 10","Одяг для собак",700.28,945.38,{"$f":"'Pet Fashion'!I$112","v":0},{"$f":"'Pet Fashion'!J$112","v":0}]
[null,1111162550,"FLEECY сер-кр S","Жилет Pet Fashion Fleecy для собак сірий/червоний S","Більше 10","Одяг для собак",364.8,492.49,{"$f":"'Pet Fashion'!I$113","v":0},{"$f":"'Pet Fashion'!J$113","v":0}]
[null,1111162549,"FLEECY сер-кр M","Жилет Pet Fashion Fleecy для собак сірий/червоний М","Менше 10","Одяг для собак",413.41,558.11,{"$f":"'Pet Fashion'!I$114","v":0},{"$f":"'Pet Fashion'!J$114","v":0}]
[null,1111162551,"FLEECY сер-кр XS2","Жилет Pet Fashion Fleecy для собак сірий/червоний ХS2","Більше 10","Одяг для собак",357.79,483.01,{"$f":"'Pet Fashion'!I$115","v":0},{"$f":"'Pet Fashion'!J$115","v":0}]
[null,1111162546,"FLEECY кр-сер S*****","Жилет Pet Fashion Fleecy для собак червоний/сірий S","Більше 10","Одяг для собак",364.8,492.49,{"$f":"'Pet Fashion'!I$116","v":0},{"$f":"'Pet Fashion'!J$116","v":0}]
[null,1111162545,"FLEECY кр-сер M","Жилет Pet Fashion Fleecy для собак червоний/сірий М","Більше 10","Одяг для собак",413.41,558.11,{"$f":"'Pet Fashion'!I$117","v":0},{"$f":"'Pet Fashion'!J$117","v":0}]
[null,1111162547,"FLEECY кр-сер XS2","Жилет Pet Fashion Fleecy для собак червоний/сірий ХS2","Більше 10","Одяг для собак",357.79,483.01,{"$f":"'Pet Fashion'!I$118","v":0},{"$f":"'Pet Fashion'!J$118","v":0}]
[null,1111179017,"PR243457*****","Жилет Pet Fashion Kris блакитний капучіно M артPR243457","Менше 10","Одяг для собак",686,927,{"$f":"'Pet Fashion'!I$119","v":0},{"$f":"'Pet Fashion'!J$119","v":0}]
[null,1111160436,"Yellow vest L*****","Жилет Pet Fashion Yellow vest для собак L","Менше 10","Одяг для собак",425.67,575,{"$f":"'Pet Fashion'!I$120","v":0},{"$f":"'Pet Fashion'!J$120","v":0}]
[null,1111160437,"Yellow vest M*****","Жилет Pet Fashion Yellow vest для собак M","Менше 10","Одяг для собак",420.09,567,{"$f":"'Pet Fashion'!I$121","v":0},{"$f":"'Pet Fashion'!J$121","v":0}]
[null,1111160438,"Yellow vest S*****","Жилет Pet Fashion Yellow vest для собак S","Менше 10","Одяг для собак",361.7,488,{"$f":"'Pet Fashion'!I$122","v":0},{"$f":"'Pet Fashion'!J$122","v":0}]
[null,1111160439,"Yellow vest XS*****","Жилет Pet Fashion Yellow vest для собак XS","Більше 10","Одяг для собак",356.43,481,{"$f":"'Pet Fashion'!I$123","v":0},{"$f":"'Pet Fashion'!J$123","v":0}]
[null,1111166446,"PR242431","Жилет Pet Fashion Е.Vest для собак помаранчевий М","Більше 10","Одяг для собак",622.62,840.53,{"$f":"'Pet Fashion'!I$124","v":0},{"$f":"'Pet Fashion'!J$124","v":0}]
[null,1111160440,"Yellow vest L жф*****","Жилет+фліс  Warm Yellow vest   L","Менше 10","Одяг для собак",629.6,850,{"$f":"'Pet Fashion'!I$125","v":0},{"$f":"'Pet Fashion'!J$125","v":0}]
[null,1111160443,"Yellow vest XS жф*****","Жилет+фліс  Warm Yellow vest   XS","Більше 10","Одяг для собак",521.37,704,{"$f":"'Pet Fashion'!I$126","v":0},{"$f":"'Pet Fashion'!J$126","v":0}]
[null,1111173410,"PR243083","Іграшка Pet Fashion Кажан для собак зелений 15х23 см арт PR243083","Більше 10","Іграшки для собак",118.99,161,{"$f":"'Pet Fashion'!I$127","v":0},{"$f":"'Pet Fashion'!J$127","v":0}]
[null,1111173412,"PR243081","Іграшка Pet Fashion Кісточка з канатом для собак","Більше 10","Іграшки для собак",74.319999999999993,100,{"$f":"'Pet Fashion'!I$128","v":0},{"$f":"'Pet Fashion'!J$128","v":0}]
[null,1111173408,"PR243085","Іграшка Pet Fashion Коник для собак червоний 15х15 см арт PR243085","Більше 100","Іграшки для собак",112.46,152,{"$f":"'Pet Fashion'!I$129","v":0},{"$f":"'Pet Fashion'!J$129","v":0}]
[null,1111173413,"PR243080","Іграшка Pet Fashion Миша для котів","Більше 10","Іграшки для котів",67.45,91,{"$f":"'Pet Fashion'!I$130","v":0},{"$f":"'Pet Fashion'!J$130","v":0}]
[null,1111173409,"PR243084","Іграшка Pet Fashion Рибка для котів","Менше 10","Іграшки для котів",86.34,117,{"$f":"'Pet Fashion'!I$131","v":0},{"$f":"'Pet Fashion'!J$131","v":0}]
[null,1111173411,"PR243082","Іграшка Pet Fashion Саламандра для собак","Більше 10","Іграшки для котів",104.16,141,{"$f":"'Pet Fashion'!I$132","v":0},{"$f":"'Pet Fashion'!J$132","v":0}]
[null,1111179010,"PR243464*****","Кардиган Pet Fashion Denis жовтий S артPR243464","Менше 10","Одяг для собак",395,534,{"$f":"'Pet Fashion'!I$133","v":0},{"$f":"'Pet Fashion'!J$133","v":0}]
[null,1111179013,"PR243461*****","Кардиган Pet Fashion Denis жовтий S м’ятний артPR243461","Менше 10","Одяг для собак",397,536,{"$f":"'Pet Fashion'!I$134","v":0},{"$f":"'Pet Fashion'!J$134","v":0}]
[null,1111179015,"PR243459*****","Кардиган Pet Fashion Denis жовтий XS м’ятний артPR243459","Менше 10","Одяг для собак",351,474,{"$f":"'Pet Fashion'!I$135","v":0},{"$f":"'Pet Fashion'!J$135","v":0}]
[null,1111179011,"PR243463*****","Кардиган Pet Fashion Denis жовтий XS2 артPR243463","Менше 10","Одяг для собак",382,516,{"$f":"'Pet Fashion'!I$136","v":0},{"$f":"'Pet Fashion'!J$136","v":0}]
[null,1111197880,"PR 441709*****","Кепка Phil ТМ Pet Fashion для собак L, бабовна","Менше 10","Одяг для собак",307.32,439,{"$f":"'Pet Fashion'!I$137","v":0},{"$f":"'Pet Fashion'!J$137","v":0}]
[null,1111197881,"PR 441723*****","Кепка Phil ТМ Pet Fashion для собак M, бабовна","Більше 10","Одяг для собак",286.32,409,{"$f":"'Pet Fashion'!I$138","v":0},{"$f":"'Pet Fashion'!J$138","v":0}]
[null,1111197879,"PR 441662*****","Кепка Phil ТМ Pet Fashion для собак ХL, бабовна","Більше 10","Одяг для собак",321.3,459,{"$f":"'Pet Fashion'!I$139","v":0},{"$f":"'Pet Fashion'!J$139","v":0}]
[null,1111197917,"PR 442126*****","Кепка Tony ТМ Pet Fashion для собак L, бабовна","Менше 10","Одяг для собак",244.32,349,{"$f":"'Pet Fashion'!I$140","v":0},{"$f":"'Pet Fashion'!J$140","v":0}]
[null,1111197918,"PR 442096*****","Кепка Tony ТМ Pet Fashion для собак M, бабовна","Більше 10","Одяг для собак",223.32,319,{"$f":"'Pet Fashion'!I$141","v":0},{"$f":"'Pet Fashion'!J$141","v":0}]
[null,1111197916,"PR 442072*****","Кепка Tony ТМ Pet Fashion для собак ХL, бабовна","Більше 10","Одяг для собак",272.33999999999997,389,{"$f":"'Pet Fashion'!I$142","v":0},{"$f":"'Pet Fashion'!J$142","v":0}]
[null,1111122795,"PR240453*****","Ковпак Pet Fashion новорічний для собак M","Більше 10","Одяг для собак",162.51,219.38,{"$f":"'Pet Fashion'!I$143","v":0},{"$f":"'Pet Fashion'!J$143","v":0}]
[null,1111153406,"PR240454*****","Ковпак Pet Fashion новорічний для собак S","Більше 100","Одяг для собак",159.31,215.07,{"$f":"'Pet Fashion'!I$144","v":0},{"$f":"'Pet Fashion'!J$144","v":0}]
[null,1111153407,"PR240455*****","Ковпак Pet Fashion новорічний для собак XS","Більше 10","Одяг для собак",157.5,212.63,{"$f":"'Pet Fashion'!I$145","v":0},{"$f":"'Pet Fashion'!J$145","v":0}]
[null,1111165268,"PR242328*****","Комбінезон  AMAZE  M","Менше 10","Одяг для собак",694.64,937.76,{"$f":"'Pet Fashion'!I$146","v":0},{"$f":"'Pet Fashion'!J$146","v":0}]
[null,1111180536,"PR243533*****","Комбінезон  Cherry XL дівчинка","Менше 10","Одяг для собак",1458,1968,{"$f":"'Pet Fashion'!I$147","v":0},{"$f":"'Pet Fashion'!J$147","v":0}]
[null,1111165102,"PR242244*****","Комбінезон  PUZZLE   XS","Менше 10","Одяг для собак",658.59,889.09,{"$f":"'Pet Fashion'!I$148","v":0},{"$f":"'Pet Fashion'!J$148","v":0}]
[null,1111159499,"PR241634*****","Комбінезон  RAIN   S-2 такса","Менше 10","Одяг для собак",459.05,620,{"$f":"'Pet Fashion'!I$149","v":0},{"$f":"'Pet Fashion'!J$149","v":0}]
[null,1111159498,"PR241635*****","Комбінезон  RAIN  S такса","Менше 10","Одяг для собак",431.67,582.5,{"$f":"'Pet Fashion'!I$150","v":0},{"$f":"'Pet Fashion'!J$150","v":0}]
[null,1111180541,"PR243530*****","Комбінезон Cherry S2 дівчинка","Більше 10","Одяг для собак",1203,1624,{"$f":"'Pet Fashion'!I$151","v":0},{"$f":"'Pet Fashion'!J$151","v":0}]
[null,1111182511,"PR243770*****","Комбінезон EGO S2 зелений для собак","Менше 10","Одяг для собак",1009.98,1444,{"$f":"'Pet Fashion'!I$152","v":0},{"$f":"'Pet Fashion'!J$152","v":0}]
[null,1111167323,"PR242600","Комбінезон Pet Fashion Cold для собак бірюза 2XL","Менше 10","Одяг для собак",1089.78,1471,{"$f":"'Pet Fashion'!I$153","v":0},{"$f":"'Pet Fashion'!J$153","v":0}]
[null,1111167324,"PR242601","Комбінезон Pet Fashion Cold для собак бірюза 3XL","Менше 10","Одяг для собак",1189.44,1606,{"$f":"'Pet Fashion'!I$154","v":0},{"$f":"'Pet Fashion'!J$154","v":0}]
[null,1111167325,"PR242602","Комбінезон Pet Fashion Cold для собак бірюза 4XL","Менше 10","Одяг для собак",1237.02,1670,{"$f":"'Pet Fashion'!I$155","v":0},{"$f":"'Pet Fashion'!J$155","v":0}]
[null,1111167326,"PR242603","Комбінезон Pet Fashion Cold для собак бірюза 5XL","Більше 10","Одяг для собак",1355.04,1829,{"$f":"'Pet Fashion'!I$156","v":0},{"$f":"'Pet Fashion'!J$156","v":0}]
[null,1111167327,"PR242604","Комбінезон Pet Fashion Cold для собак бірюза 6XL","Менше 10","Одяг для собак",1382.7,1867,{"$f":"'Pet Fashion'!I$157","v":0},{"$f":"'Pet Fashion'!J$157","v":0}]
[null,1111167328,"PR242605","Комбінезон Pet Fashion Cold для собак бірюза 7XL","Більше 10","Одяг для собак",1529.04,2064,{"$f":"'Pet Fashion'!I$158","v":0},{"$f":"'Pet Fashion'!J$158","v":0}]
[null,1111167317,"PR242535","Комбінезон Pet Fashion Cold для собак бірюза L","Більше 10","Одяг для собак",807.32,1089.8800000000001,{"$f":"'Pet Fashion'!I$159","v":0},{"$f":"'Pet Fashion'!J$159","v":0}]
[null,1111167316,"PR242534","Комбінезон Pet Fashion Cold для собак бірюза M","Більше 10","Одяг для собак",699.58,944.43,{"$f":"'Pet Fashion'!I$160","v":0},{"$f":"'Pet Fashion'!J$160","v":0}]
[null,1111167314,"PR242532","Комбінезон Pet Fashion Cold для собак бірюза M2","Менше 10","Одяг для собак",743.53,1003.76,{"$f":"'Pet Fashion'!I$161","v":0},{"$f":"'Pet Fashion'!J$161","v":0}]
[null,1111167315,"PR242533","Комбінезон Pet Fashion Cold для собак бірюза ML","Більше 10","Одяг для собак",718.43,969.88,{"$f":"'Pet Fashion'!I$162","v":0},{"$f":"'Pet Fashion'!J$162","v":0}]
[null,1111167312,"PR242530","Комбінезон Pet Fashion Cold для собак бірюза S","Менше 10","Одяг для собак",586.83000000000004,792.22,{"$f":"'Pet Fashion'!I$163","v":0},{"$f":"'Pet Fashion'!J$163","v":0}]
[null,1111167313,"PR242531","Комбінезон Pet Fashion Cold для собак бірюза SM","Більше 10","Одяг для собак",693.54,936,{"$f":"'Pet Fashion'!I$164","v":0},{"$f":"'Pet Fashion'!J$164","v":0}]
[null,1111167322,"PR242599","Комбінезон Pet Fashion Cold для собак бірюза XL","Більше 10","Одяг для собак",858.3,1159,{"$f":"'Pet Fashion'!I$165","v":0},{"$f":"'Pet Fashion'!J$165","v":0}]
[null,1111167311,"PR242529","Комбінезон Pet Fashion Cold для собак бірюза XS","Більше 10","Одяг для собак",541.66999999999996,731.26,{"$f":"'Pet Fashion'!I$166","v":0},{"$f":"'Pet Fashion'!J$166","v":0}]
[null,1111167356,"PR242633","Комбінезон Pet Fashion COLD для собак пород такса сірий S2 артPR242633","Більше 10","Одяг для собак",753.36,1017,{"$f":"'Pet Fashion'!I$167","v":0},{"$f":"'Pet Fashion'!J$167","v":0}]
[null,1111167354,"PR242631","Комбінезон Pet Fashion COLD для собак пород такса сірий XS артPR242631","Менше 10","Одяг для собак",627.48,847,{"$f":"'Pet Fashion'!I$168","v":0},{"$f":"'Pet Fashion'!J$168","v":0}]
[null,1111167357,"PR242634","Комбінезон Pet Fashion COLD для собак породи такса сірий M артPR242634","Більше 10","Одяг для собак",785.76,1061,{"$f":"'Pet Fashion'!I$169","v":0},{"$f":"'Pet Fashion'!J$169","v":0}]
[null,1111167355,"PR242632","Комбінезон Pet Fashion COLD для собак породи такса сірий S артPR242632","Більше 10","Одяг для собак",678,915,{"$f":"'Pet Fashion'!I$170","v":0},{"$f":"'Pet Fashion'!J$170","v":0}]
[null,1111167359,"PR242636","Комбінезон Pet Fashion Cold для собак сірий 2XL","Менше 10","Одяг для собак",1089.78,1471,{"$f":"'Pet Fashion'!I$171","v":0},{"$f":"'Pet Fashion'!J$171","v":0}]
[null,1111167360,"PR242637","Комбінезон Pet Fashion Cold для собак сірий 3XL","Менше 10","Одяг для собак",1189.44,1606,{"$f":"'Pet Fashion'!I$172","v":0},{"$f":"'Pet Fashion'!J$172","v":0}]
[null,1111167361,"PR242638","Комбінезон Pet Fashion Cold для собак сірий 4XL","Більше 10","Одяг для собак",1237.02,1670,{"$f":"'Pet Fashion'!I$173","v":0},{"$f":"'Pet Fashion'!J$173","v":0}]
[null,1111167362,"PR242639","Комбінезон Pet Fashion COLD для собак сірий 5XL артPR242639","Більше 10","Одяг для собак",1355.04,1829,{"$f":"'Pet Fashion'!I$174","v":0},{"$f":"'Pet Fashion'!J$174","v":0}]
[null,1111167363,"PR242640","Комбінезон Pet Fashion COLD для собак сірий 6XL артPR242640","Більше 10","Одяг для собак",1382.7,1867,{"$f":"'Pet Fashion'!I$175","v":0},{"$f":"'Pet Fashion'!J$175","v":0}]
[null,1111167364,"PR242641","Комбінезон Pet Fashion COLD для собак сірий 7XL артPR242641","Більше 10","Одяг для собак",1529.04,2064,{"$f":"'Pet Fashion'!I$176","v":0},{"$f":"'Pet Fashion'!J$176","v":0}]
[null,1111167353,"PR242630","Комбінезон Pet Fashion Cold для собак сірий L","Менше 10","Одяг для собак",847.74,1144,{"$f":"'Pet Fashion'!I$177","v":0},{"$f":"'Pet Fashion'!J$177","v":0}]
[null,1111167352,"PR242629","Комбінезон Pet Fashion Cold для собак сірий M","Більше 10","Одяг для собак",734.58,992,{"$f":"'Pet Fashion'!I$178","v":0},{"$f":"'Pet Fashion'!J$178","v":0}]
[null,1111167351,"PR242628","Комбінезон Pet Fashion Cold для собак сірий ML","Більше 10","Одяг для собак",754.38,1018,{"$f":"'Pet Fashion'!I$179","v":0},{"$f":"'Pet Fashion'!J$179","v":0}]
[null,1111167348,"PR242625","Комбінезон Pet Fashion Cold для собак сірий S","Більше 10","Одяг для собак",616.20000000000005,832,{"$f":"'Pet Fashion'!I$180","v":0},{"$f":"'Pet Fashion'!J$180","v":0}]
[null,1111167349,"PR242626","Комбінезон Pet Fashion Cold для собак сірий SM","Більше 10","Одяг для собак",674.28,910,{"$f":"'Pet Fashion'!I$181","v":0},{"$f":"'Pet Fashion'!J$181","v":0}]
[null,1111167347,"PR242624","Комбінезон Pet Fashion Cold для собак сірий XS","Більше 10","Одяг для собак",568.79999999999995,768,{"$f":"'Pet Fashion'!I$182","v":0},{"$f":"'Pet Fashion'!J$182","v":0}]
[null,1111167341,"PR242618","Комбінезон Pet Fashion Cold для собак червоний 2XL","Більше 10","Одяг для собак",1089.78,1471,{"$f":"'Pet Fashion'!I$183","v":0},{"$f":"'Pet Fashion'!J$183","v":0}]
[null,1111167342,"PR242619","Комбінезон Pet Fashion Cold для собак червоний 3XL","Більше 10","Одяг для собак",1189.44,1606,{"$f":"'Pet Fashion'!I$184","v":0},{"$f":"'Pet Fashion'!J$184","v":0}]
[null,1111167343,"PR242620","Комбінезон Pet Fashion Cold для собак червоний 4XL","Менше 10","Одяг для собак",1237.02,1670,{"$f":"'Pet Fashion'!I$185","v":0},{"$f":"'Pet Fashion'!J$185","v":0}]
[null,1111167344,"PR242621","Комбінезон Pet Fashion Cold для собак червоний 5XL","Більше 10","Одяг для собак",1355.04,1829,{"$f":"'Pet Fashion'!I$186","v":0},{"$f":"'Pet Fashion'!J$186","v":0}]
[null,1111167345,"PR242622","Комбінезон Pet Fashion Cold для собак червоний 6XL","Більше 10","Одяг для собак",1448.52,1955,{"$f":"'Pet Fashion'!I$187","v":0},{"$f":"'Pet Fashion'!J$187","v":0}]
[null,1111167346,"PR242623","Комбінезон Pet Fashion Cold для собак червоний 7XL","Менше 10","Одяг для собак",1529.04,2064,{"$f":"'Pet Fashion'!I$188","v":0},{"$f":"'Pet Fashion'!J$188","v":0}]
[null,1111167335,"PR242612","Комбінезон Pet Fashion Cold для собак червоний L","Більше 10","Одяг для собак",847.74,1144,{"$f":"'Pet Fashion'!I$189","v":0},{"$f":"'Pet Fashion'!J$189","v":0}]
[null,1111167334,"PR242611","Комбінезон Pet Fashion Cold для собак червоний M","Більше 10","Одяг для собак",734.58,992,{"$f":"'Pet Fashion'!I$190","v":0},{"$f":"'Pet Fashion'!J$190","v":0}]
[null,1111167332,"PR242609","Комбінезон Pet Fashion Cold для собак червоний M2","Більше 10","Одяг для собак",780.72,1054,{"$f":"'Pet Fashion'!I$191","v":0},{"$f":"'Pet Fashion'!J$191","v":0}]
[null,1111167333,"PR242610","Комбінезон Pet Fashion Cold для собак червоний ML","Більше 10","Одяг для собак",754.38,1018,{"$f":"'Pet Fashion'!I$192","v":0},{"$f":"'Pet Fashion'!J$192","v":0}]
[null,1111167330,"PR242607","Комбінезон Pet Fashion Cold для собак червоний S","Більше 10","Одяг для собак",616.20000000000005,832,{"$f":"'Pet Fashion'!I$193","v":0},{"$f":"'Pet Fashion'!J$193","v":0}]
[null,1111167331,"PR242608","Комбінезон Pet Fashion Cold для собак червоний SM","Більше 10","Одяг для собак",674.28,910,{"$f":"'Pet Fashion'!I$194","v":0},{"$f":"'Pet Fashion'!J$194","v":0}]
[null,1111167340,"PR242617","Комбінезон Pet Fashion Cold для собак червоний XL","Менше 10","Одяг для собак",858.3,1159,{"$f":"'Pet Fashion'!I$195","v":0},{"$f":"'Pet Fashion'!J$195","v":0}]
[null,1111167329,"PR242606","Комбінезон Pet Fashion Cold для собак червоний XS","Більше 10","Одяг для собак",568.79999999999995,768,{"$f":"'Pet Fashion'!I$196","v":0},{"$f":"'Pet Fashion'!J$196","v":0}]
[null,1111167321,"PR242539","Комбінезон Pet Fashion Cold для такси бірюза M","Більше 10","Одяг для собак",748.32,1010.23,{"$f":"'Pet Fashion'!I$197","v":0},{"$f":"'Pet Fashion'!J$197","v":0}]
[null,1111167319,"PR242537","Комбінезон Pet Fashion Cold для такси бірюза S","Більше 10","Одяг для собак",645.71,871.7,{"$f":"'Pet Fashion'!I$198","v":0},{"$f":"'Pet Fashion'!J$198","v":0}]
[null,1111167320,"PR242538","Комбінезон Pet Fashion Cold для такси бірюза S2","Більше 10","Одяг для собак",717.47,968.59,{"$f":"'Pet Fashion'!I$199","v":0},{"$f":"'Pet Fashion'!J$199","v":0}]
[null,1111167318,"PR242536","Комбінезон Pet Fashion Cold для такси бірюза XS","Більше 10","Одяг для собак",597.54999999999995,806.7,{"$f":"'Pet Fashion'!I$200","v":0},{"$f":"'Pet Fashion'!J$200","v":0}]
[null,1111167339,"PR242616","Комбінезон Pet Fashion Cold для такси червоний M","Більше 10","Одяг для собак",785.76,1061,{"$f":"'Pet Fashion'!I$201","v":0},{"$f":"'Pet Fashion'!J$201","v":0}]
[null,1111167337,"PR242614","Комбінезон Pet Fashion Cold для такси червоний S","Більше 10","Одяг для собак",678,915,{"$f":"'Pet Fashion'!I$202","v":0},{"$f":"'Pet Fashion'!J$202","v":0}]
[null,1111167338,"PR242615","Комбінезон Pet Fashion Cold для такси червоний S2","Більше 10","Одяг для собак",753.36,1017,{"$f":"'Pet Fashion'!I$203","v":0},{"$f":"'Pet Fashion'!J$203","v":0}]
[null,1111167336,"PR242613","Комбінезон Pet Fashion Cold для такси червоний XS","Більше 10","Одяг для собак",627.48,847,{"$f":"'Pet Fashion'!I$204","v":0},{"$f":"'Pet Fashion'!J$204","v":0}]
[null,1111174496,"PR243141*****","Комбінезон Pet Fashion EGO для собак бежевий S2 арт PR243141","Менше 10","Одяг для собак",920.95,1243.28,{"$f":"'Pet Fashion'!I$205","v":0},{"$f":"'Pet Fashion'!J$205","v":0}]
[null,1111159491,"PR241643","Комбінезон Pet Fashion Rain для собак XS","Менше 10","Одяг для собак",351.6,475,{"$f":"'Pet Fashion'!I$206","v":0},{"$f":"'Pet Fashion'!J$206","v":0}]
[null,1111167395,"PR242573","Комбінезон Pet Fashion Rain для собак бірюза 2XL","Менше 10","Одяг для собак",930.84,1257,{"$f":"'Pet Fashion'!I$207","v":0},{"$f":"'Pet Fashion'!J$207","v":0}]
[null,1111167396,"PR242572","Комбінезон Pet Fashion Rain для собак бірюза 3XL","Більше 10","Одяг для собак",944.88,1275.5899999999999,{"$f":"'Pet Fashion'!I$208","v":0},{"$f":"'Pet Fashion'!J$208","v":0}]
[null,1111167397,"PR242556","Комбінезон Pet Fashion Rain для собак бірюза 4XL","Менше 10","Одяг для собак",993.32,1340.98,{"$f":"'Pet Fashion'!I$209","v":0},{"$f":"'Pet Fashion'!J$209","v":0}]
[null,1111167398,"PR242645","Комбінезон Pet Fashion Rain для собак бірюза 5XL","Менше 10","Одяг для собак",1092.06,1474,{"$f":"'Pet Fashion'!I$210","v":0},{"$f":"'Pet Fashion'!J$210","v":0}]
[null,1111167399,"PR242571","Комбінезон Pet Fashion Rain для собак бірюза 6XL","Більше 10","Одяг для собак",1179.5999999999999,1592,{"$f":"'Pet Fashion'!I$211","v":0},{"$f":"'Pet Fashion'!J$211","v":0}]
[null,1111167400,"PR242570","Комбінезон Pet Fashion Rain для собак бірюза 7XL","Менше 10","Одяг для собак",1221.57,1649.11,{"$f":"'Pet Fashion'!I$212","v":0},{"$f":"'Pet Fashion'!J$212","v":0}]
[null,1111167389,"PR242561","Комбінезон Pet Fashion Rain для собак бірюза L","Менше 10","Одяг для собак",689.87,931.32,{"$f":"'Pet Fashion'!I$213","v":0},{"$f":"'Pet Fashion'!J$213","v":0}]
[null,1111167388,"PR242574","Комбінезон Pet Fashion Rain для собак бірюза M","Менше 10","Одяг для собак",592.14,799.4,{"$f":"'Pet Fashion'!I$214","v":0},{"$f":"'Pet Fashion'!J$214","v":0}]
[null,1111167386,"PR242580","Комбінезон Pet Fashion Rain для собак бірюза M2","Менше 10","Одяг для собак",635.66999999999996,858.16,{"$f":"'Pet Fashion'!I$215","v":0},{"$f":"'Pet Fashion'!J$215","v":0}]
[null,1111167387,"PR242560","Комбінезон Pet Fashion Rain для собак бірюза ML","Менше 10","Одяг для собак",646.62,873,{"$f":"'Pet Fashion'!I$216","v":0},{"$f":"'Pet Fashion'!J$216","v":0}]
[null,1111167384,"PR242582","Комбінезон Pet Fashion Rain для собак бірюза S","Менше 10","Одяг для собак",525.12,709,{"$f":"'Pet Fashion'!I$217","v":0},{"$f":"'Pet Fashion'!J$217","v":0}]
[null,1111167385,"PR242581","Комбінезон Pet Fashion Rain для собак бірюза SM","Менше 10","Одяг для собак",587.76,793,{"$f":"'Pet Fashion'!I$218","v":0},{"$f":"'Pet Fashion'!J$218","v":0}]
[null,1111167394,"PR242576","Комбінезон Pet Fashion Rain для собак бірюза XL","Більше 10","Одяг для собак",751.98,1015,{"$f":"'Pet Fashion'!I$219","v":0},{"$f":"'Pet Fashion'!J$219","v":0}]
[null,1111167383,"PR242583","Комбінезон Pet Fashion Rain для собак бірюза XS","Менше 10","Одяг для собак",453.48,612.20000000000005,{"$f":"'Pet Fashion'!I$220","v":0},{"$f":"'Pet Fashion'!J$220","v":0}]
[null,1111167374,"PR242595","Комбінезон Pet Fashion RAIN для собак пород такса сірий S2 артPR242595","Менше 10","Одяг для собак",613.71,828.51,{"$f":"'Pet Fashion'!I$221","v":0},{"$f":"'Pet Fashion'!J$221","v":0}]
[null,1111167372,"PR242598","Комбінезон Pet Fashion RAIN для собак пород такса сірий XS артPR242598","Менше 10","Одяг для собак",557.4,752,{"$f":"'Pet Fashion'!I$222","v":0},{"$f":"'Pet Fashion'!J$222","v":0}]
[null,1111167375,"PR242593","Комбінезон Pet Fashion RAIN для собак породи такса сірий M артPR242593","Менше 10","Одяг для собак",623.17999999999995,841.29,{"$f":"'Pet Fashion'!I$223","v":0},{"$f":"'Pet Fashion'!J$223","v":0}]
[null,1111167373,"PR242644","Комбінезон Pet Fashion RAIN для собак породи такса сірий S артPR242644","Більше 10","Одяг для собак",605.64,818,{"$f":"'Pet Fashion'!I$224","v":0},{"$f":"'Pet Fashion'!J$224","v":0}]
[null,1111167377,"PR242590","Комбінезон Pet Fashion RAIN для собак сірий 2XL артPR242590","Більше 10","Одяг для собак",886.51,1196.79,{"$f":"'Pet Fashion'!I$225","v":0},{"$f":"'Pet Fashion'!J$225","v":0}]
[null,1111167378,"PR242588","Комбінезон Pet Fashion RAIN для собак сірий 3XL артPR242588","Менше 10","Одяг для собак",944.88,1275.5899999999999,{"$f":"'Pet Fashion'!I$226","v":0},{"$f":"'Pet Fashion'!J$226","v":0}]
[null,1111167379,"PR242587","Комбінезон Pet Fashion Rain для собак сірий 4XL","Менше 10","Одяг для собак",993.32,1340.98,{"$f":"'Pet Fashion'!I$227","v":0},{"$f":"'Pet Fashion'!J$227","v":0}]
[null,1111167380,"PR242586","Комбінезон Pet Fashion Rain для собак сірий 5XL","Менше 10","Одяг для собак",1060.2,1431.26,{"$f":"'Pet Fashion'!I$228","v":0},{"$f":"'Pet Fashion'!J$228","v":0}]
[null,1111167381,"PR242585","Комбінезон Pet Fashion RAIN для собак сірий 6XL артPR242585","Більше 10","Одяг для собак",1123.42,1516.62,{"$f":"'Pet Fashion'!I$229","v":0},{"$f":"'Pet Fashion'!J$229","v":0}]
[null,1111167382,"PR242584","Комбінезон Pet Fashion RAIN для собак сірий 7XL артPR242584","Менше 10","Одяг для собак",1221.57,1649.11,{"$f":"'Pet Fashion'!I$230","v":0},{"$f":"'Pet Fashion'!J$230","v":0}]
[null,1111167371,"PR242597","Комбінезон Pet Fashion RAIN для собак сірий L артPR242597","Більше 10","Одяг для собак",689.87,931.32,{"$f":"'Pet Fashion'!I$231","v":0},{"$f":"'Pet Fashion'!J$231","v":0}]
[null,1111167370,"PR242596","Комбінезон Pet Fashion RAIN для собак сірий M артPR242596","Менше 10","Одяг для собак",592.14,799.4,{"$f":"'Pet Fashion'!I$232","v":0},{"$f":"'Pet Fashion'!J$232","v":0}]
[null,1111167368,"PR242592","Комбінезон Pet Fashion Rain для собак сірий M2","Більше 10","Одяг для собак",635.66999999999996,858.16,{"$f":"'Pet Fashion'!I$233","v":0},{"$f":"'Pet Fashion'!J$233","v":0}]
[null,1111167369,"PR242594","Комбінезон Pet Fashion RAIN для собак сірий ML артPR242594","Більше 10","Одяг для собак",615.83000000000004,831.37,{"$f":"'Pet Fashion'!I$234","v":0},{"$f":"'Pet Fashion'!J$234","v":0}]
[null,1111167366,"PR242643","Комбінезон Pet Fashion Rain для собак сірий S","Більше 10","Одяг для собак",500.09,675.12,{"$f":"'Pet Fashion'!I$235","v":0},{"$f":"'Pet Fashion'!J$235","v":0}]
[null,1111167367,"PR242589","Комбінезон Pet Fashion Rain для собак сірий SM","Менше 10","Одяг для собак",587.76,793,{"$f":"'Pet Fashion'!I$236","v":0},{"$f":"'Pet Fashion'!J$236","v":0}]
[null,1111167376,"PR242591","Комбінезон Pet Fashion RAIN для собак сірий XL артPR242591","Менше 10","Одяг для собак",751.98,1015,{"$f":"'Pet Fashion'!I$237","v":0},{"$f":"'Pet Fashion'!J$237","v":0}]
[null,1111167365,"PR242642","Комбінезон Pet Fashion Rain для собак сірий XS","Менше 10","Одяг для собак",453.48,612.20000000000005,{"$f":"'Pet Fashion'!I$238","v":0},{"$f":"'Pet Fashion'!J$238","v":0}]
[null,1111167413,"PR242555","Комбінезон Pet Fashion Rain для собак червоний 2XL","Менше 10","Одяг для собак",1019.52,1376,{"$f":"'Pet Fashion'!I$239","v":0},{"$f":"'Pet Fashion'!J$239","v":0}]
[null,1111167414,"PR242554","Комбінезон Pet Fashion Rain для собак червоний 3XL","Більше 10","Одяг для собак",992.16,1339,{"$f":"'Pet Fashion'!I$240","v":0},{"$f":"'Pet Fashion'!J$240","v":0}]
[null,1111167415,"PR242552","Комбінезон Pet Fashion Rain для собак червоний 4XL","Більше 10","Одяг для собак",1023.12,1381,{"$f":"'Pet Fashion'!I$241","v":0},{"$f":"'Pet Fashion'!J$241","v":0}]
[null,1111167416,"PR242551","Комбінезон Pet Fashion Rain для собак червоний 5XL","Більше 10","Одяг для собак",1060.2,1431.26,{"$f":"'Pet Fashion'!I$242","v":0},{"$f":"'Pet Fashion'!J$242","v":0}]
[null,1111167417,"PR242550","Комбінезон Pet Fashion Rain для собак червоний 6XL","Менше 10","Одяг для собак",1179.5999999999999,1592,{"$f":"'Pet Fashion'!I$243","v":0},{"$f":"'Pet Fashion'!J$243","v":0}]
[null,1111167418,"PR242549","Комбінезон Pet Fashion Rain для собак червоний 7XL","Більше 10","Одяг для собак",1221.57,1649.11,{"$f":"'Pet Fashion'!I$244","v":0},{"$f":"'Pet Fashion'!J$244","v":0}]
[null,1111167407,"PR242563","Комбінезон Pet Fashion Rain для собак червоний L","Менше 10","Одяг для собак",689.87,931.32,{"$f":"'Pet Fashion'!I$245","v":0},{"$f":"'Pet Fashion'!J$245","v":0}]
[null,1111167406,"PR242564","Комбінезон Pet Fashion Rain для собак червоний M","Менше 10","Одяг для собак",592.14,799.4,{"$f":"'Pet Fashion'!I$246","v":0},{"$f":"'Pet Fashion'!J$246","v":0}]
[null,1111167404,"PR242566","Комбінезон Pet Fashion Rain для собак червоний M2","Більше 10","Одяг для собак",667.5,901,{"$f":"'Pet Fashion'!I$247","v":0},{"$f":"'Pet Fashion'!J$247","v":0}]
[null,1111167405,"PR242565","Комбінезон Pet Fashion Rain для собак червоний ML","Менше 10","Одяг для собак",615.83000000000004,831.37,{"$f":"'Pet Fashion'!I$248","v":0},{"$f":"'Pet Fashion'!J$248","v":0}]
[null,1111167402,"PR242568","Комбінезон Pet Fashion Rain для собак червоний S","Менше 10","Одяг для собак",500.09,675.12,{"$f":"'Pet Fashion'!I$249","v":0},{"$f":"'Pet Fashion'!J$249","v":0}]
[null,1111167403,"PR242567","Комбінезон Pet Fashion Rain для собак червоний SM","Менше 10","Одяг для собак",559.74,755.65,{"$f":"'Pet Fashion'!I$250","v":0},{"$f":"'Pet Fashion'!J$250","v":0}]
[null,1111167412,"PR242557","Комбінезон Pet Fashion Rain для собак червоний XL","Менше 10","Одяг для собак",716.14,966.79,{"$f":"'Pet Fashion'!I$251","v":0},{"$f":"'Pet Fashion'!J$251","v":0}]
[null,1111167401,"PR242569","Комбінезон Pet Fashion Rain для собак червоний XS","Менше 10","Одяг для собак",476.16,643,{"$f":"'Pet Fashion'!I$252","v":0},{"$f":"'Pet Fashion'!J$252","v":0}]
[null,1111167391,"PR242579","Комбінезон Pet Fashion Rain для такси бірюза S","Більше 10","Одяг для собак",605.64,818,{"$f":"'Pet Fashion'!I$253","v":0},{"$f":"'Pet Fashion'!J$253","v":0}]
[null,1111167392,"PR242578","Комбінезон Pet Fashion Rain для такси бірюза S2","Більше 10","Одяг для собак",632.16,853,{"$f":"'Pet Fashion'!I$254","v":0},{"$f":"'Pet Fashion'!J$254","v":0}]
[null,1111167411,"PR242558","Комбінезон Pet Fashion Rain для такси червоний M","Менше 10","Одяг для собак",623.17999999999995,841.29,{"$f":"'Pet Fashion'!I$255","v":0},{"$f":"'Pet Fashion'!J$255","v":0}]
[null,1111167409,"PR242562","Комбінезон Pet Fashion Rain для такси червоний S","Більше 10","Одяг для собак",576.78,778.65,{"$f":"'Pet Fashion'!I$256","v":0},{"$f":"'Pet Fashion'!J$256","v":0}]
[null,1111167410,"PR242559","Комбінезон Pet Fashion Rain для такси червоний S2","Більше 10","Одяг для собак",644.4,870,{"$f":"'Pet Fashion'!I$257","v":0},{"$f":"'Pet Fashion'!J$257","v":0}]
[null,1111167408,"PR242553","Комбінезон Pet Fashion Rain для такси червоний XS","Менше 10","Одяг для собак",568.26,767,{"$f":"'Pet Fashion'!I$258","v":0},{"$f":"'Pet Fashion'!J$258","v":0}]
[null,1111182498,"PR243757*****","Комбінезон Сharlie L для собак","Менше 10","Одяг для собак",1342.02,1919,{"$f":"'Pet Fashion'!I$259","v":0},{"$f":"'Pet Fashion'!J$259","v":0}]
[null,1111182499,"PR243760*****","Комбінезон Сharlie М для собак","Менше 10","Одяг для собак",1195.02,1709,{"$f":"'Pet Fashion'!I$260","v":0},{"$f":"'Pet Fashion'!J$260","v":0}]
[null,1111163438,"PR242107*****","Комірець  BRIGHT , S-M","Більше 10","Одяг для собак",137,178,{"$f":"'Pet Fashion'!I$261","v":0},{"$f":"'Pet Fashion'!J$261","v":0}]
[null,1111163439,"PR242106*****","Комірець  BRIGHT , XS-XS2","Більше 10","Одяг для собак",124,161,{"$f":"'Pet Fashion'!I$262","v":0},{"$f":"'Pet Fashion'!J$262","v":0}]
[null,1111167420,"PR242547*****","Комірець BRIGHT S-M","Менше 10","Одяг для собак",153,214,{"$f":"'Pet Fashion'!I$263","v":0},{"$f":"'Pet Fashion'!J$263","v":0}]
[null,1111167421,"PR242546*****","Комірець BRIGHT XS-XS2","Менше 10","Одяг для собак",153.72,216,{"$f":"'Pet Fashion'!I$264","v":0},{"$f":"'Pet Fashion'!J$264","v":0}]
[null,1111174489,"PR243148*****","Костюм  LEAF  зелениий  L","Менше 10","Одяг для собак",859.22,1159.95,{"$f":"'Pet Fashion'!I$265","v":0},{"$f":"'Pet Fashion'!J$265","v":0}]
[null,1111182480,"PR243764*****","Костюм Berry L для собак","Більше 10","Одяг для собак",983.27,1330,{"$f":"'Pet Fashion'!I$266","v":0},{"$f":"'Pet Fashion'!J$266","v":0}]
[null,1111182482,"PR243761*****","Костюм Berry S для собак","Менше 10","Одяг для собак",772.67,1045,{"$f":"'Pet Fashion'!I$267","v":0},{"$f":"'Pet Fashion'!J$267","v":0}]
[null,1111182484,"PR243758*****","Костюм Berry ХS для собак","Менше 10","Одяг для собак",656.02,888,{"$f":"'Pet Fashion'!I$268","v":0},{"$f":"'Pet Fashion'!J$268","v":0}]
[null,1111182483,"PR243759*****","Костюм Berry ХS2 для собак","Більше 10","Одяг для собак",748.58,1013,{"$f":"'Pet Fashion'!I$269","v":0},{"$f":"'Pet Fashion'!J$269","v":0}]
[null,1111174490,"PR243147*****","Костюм LEAF зелений  М","Менше 10","Одяг для собак",778.3,1050.7,{"$f":"'Pet Fashion'!I$270","v":0},{"$f":"'Pet Fashion'!J$270","v":0}]
[null,1111182521,"PR243784*****","Костюм Locky S2 для собак","Менше 10","Одяг для собак",973.02,1392,{"$f":"'Pet Fashion'!I$271","v":0},{"$f":"'Pet Fashion'!J$271","v":0}]
[null,1111182519,"PR243786*****","Костюм Locky М2 для собак","Менше 10","Одяг для собак",1051.98,1504,{"$f":"'Pet Fashion'!I$272","v":0},{"$f":"'Pet Fashion'!J$272","v":0}]
[null,1111182525,"PR243789*****","Костюм Locky ХХS для собак","Менше 10","Одяг для собак",736.98,1054,{"$f":"'Pet Fashion'!I$273","v":0},{"$f":"'Pet Fashion'!J$273","v":0}]
[null,1111168390,"PR242740*****","Костюм Pet Fashion Alf для собак бежевий M арт PR242740","Більше 10","Одяг для собак",647,874,{"$f":"'Pet Fashion'!I$274","v":0},{"$f":"'Pet Fashion'!J$274","v":0}]
[null,1111168389,"PR242739*****","Костюм Pet Fashion Alf для собак бежевий S арт PR242739","Менше 10","Одяг для собак",546,737,{"$f":"'Pet Fashion'!I$275","v":0},{"$f":"'Pet Fashion'!J$275","v":0}]
[null,1111168830,"PR242886*****","Костюм Pet Fashion Judy для собак пудровий M","Менше 10","Одяг для собак",830.86,1121.6600000000001,{"$f":"'Pet Fashion'!I$276","v":0},{"$f":"'Pet Fashion'!J$276","v":0}]
[null,1111174148,"PR242763*****","Костюм Pet Fashion TENDER для собак біло-блакитний M арт PR242763","Менше 10","Одяг для собак",933.24,1259.8800000000001,{"$f":"'Pet Fashion'!I$277","v":0},{"$f":"'Pet Fashion'!J$277","v":0}]
[null,1111174147,"PR242764*****","Костюм Pet Fashion TENDER для собак біло-блакитний S арт PR242764","Менше 10","Одяг для собак",825.06,1113.83,{"$f":"'Pet Fashion'!I$278","v":0},{"$f":"'Pet Fashion'!J$278","v":0}]
[null,1111164689,"PR242215*****","Костюм SPELL  S","Менше 10","Одяг для собак",358,483,{"$f":"'Pet Fashion'!I$279","v":0},{"$f":"'Pet Fashion'!J$279","v":0}]
[null,1111164692,"PR242212*****","Костюм SPELL  XS","Менше 10","Одяг для собак",337,455,{"$f":"'Pet Fashion'!I$280","v":0},{"$f":"'Pet Fashion'!J$280","v":0}]
[null,1111182967,"PR243799*****","Костюм Xmas S для собак","Менше 10",null,446.52,639,{"$f":"'Pet Fashion'!I$281","v":0},{"$f":"'Pet Fashion'!J$281","v":0}]
[null,1111182969,"PR243796*****","Костюм Xmas XS для собак","Менше 10",null,412.92,590,{"$f":"'Pet Fashion'!I$282","v":0},{"$f":"'Pet Fashion'!J$282","v":0}]
[null,1111182968,"PR243797*****","Костюм Xmas XS2 для собак","Менше 10",null,434.64,622,{"$f":"'Pet Fashion'!I$283","v":0},{"$f":"'Pet Fashion'!J$283","v":0}]
[null,1111182966,"PR243801*****","Костюм Xmas М для собак","Більше 10",null,517.86,741,{"$f":"'Pet Fashion'!I$284","v":0},{"$f":"'Pet Fashion'!J$284","v":0}]
[null,1111182486,"PR243755*****","Костюм дівчинка Alisa M для собак","Більше 10","Одяг для собак",1329.72,1799,{"$f":"'Pet Fashion'!I$285","v":0},{"$f":"'Pet Fashion'!J$285","v":0}]
[null,1111182487,"PR243751*****","Костюм дівчинка Alisa S для собак","Менше 10","Одяг для собак",1090.6099999999999,1476,{"$f":"'Pet Fashion'!I$286","v":0},{"$f":"'Pet Fashion'!J$286","v":0}]
[null,1111182489,"PR243747*****","Костюм дівчинка Alisa XS для собак","Більше 10","Одяг для собак",931.41,1260,{"$f":"'Pet Fashion'!I$287","v":0},{"$f":"'Pet Fashion'!J$287","v":0}]
[null,1111182488,"PR243748*****","Костюм дівчинка Alisa XS2 для собак","Більше 10","Одяг для собак",1016.67,1376,{"$f":"'Pet Fashion'!I$288","v":0},{"$f":"'Pet Fashion'!J$288","v":0}]
[null,1111182518,"PR243781*****","Костюм дівчинка Twiddy ХS для собак","Менше 10","Одяг для собак",807,1154,{"$f":"'Pet Fashion'!I$289","v":0},{"$f":"'Pet Fashion'!J$289","v":0}]
[null,1111195187,"PR441488","Лежак BRIG для собак кавовий, 58*48*20","Більше 10","Спальні місця для собак",730.38,986,{"$f":"'Pet Fashion'!I$290","v":0},{"$f":"'Pet Fashion'!J$290","v":0}]
[null,1111166419,"PR242408*****","Лежак Pet Fashion Bond №1 для собак ліловий 60х50х18 см","Менше 10","Спальні місця для собак",1217.77,1643.99,{"$f":"'Pet Fashion'!I$291","v":0},{"$f":"'Pet Fashion'!J$291","v":0}]
[null,1111166421,"PR242406","Лежак Pet Fashion Bond №1 для собак сірий 60х50х18 см","Менше 10","Спальні місця для собак",1278.6600000000001,1726,{"$f":"'Pet Fashion'!I$292","v":0},{"$f":"'Pet Fashion'!J$292","v":0}]
[null,1111166420,"PR242407*****","Лежак Pet Fashion Bond №2 для собак ліловий 78х60х20 см","Більше 10","Спальні місця для собак",1675.76,2262.2800000000002,{"$f":"'Pet Fashion'!I$293","v":0},{"$f":"'Pet Fashion'!J$293","v":0}]
[null,1111160858,"PR241767","Лежак Pet Fashion Bosphorus 1 для собак 60х53х18 см","Менше 10","Спальні місця для собак",854.52,1153.5999999999999,{"$f":"'Pet Fashion'!I$294","v":0},{"$f":"'Pet Fashion'!J$294","v":0}]
[null,1111160859,"PR241766","Лежак Pet Fashion Bosphorus 2 для собак 82х65х18 см","Менше 10","Спальні місця для собак",1335.41,1802.8,{"$f":"'Pet Fashion'!I$295","v":0},{"$f":"'Pet Fashion'!J$295","v":0}]
[null,1111160860,"PR241765","Лежак Pet Fashion Bosphorus 3 для собак 95х78х24 см","Більше 10","Спальні місця для собак",2003.88,2705,{"$f":"'Pet Fashion'!I$296","v":0},{"$f":"'Pet Fashion'!J$296","v":0}]
[null,1111171996,"PR243006","Лежак Pet Fashion Denver №2 для собак сірий 78х60х20 см","Більше 10","Спальні місця для собак",1481.52,2000,{"$f":"'Pet Fashion'!I$297","v":0},{"$f":"'Pet Fashion'!J$297","v":0}]
[null,1111164245,"PR242135","Лежак Pet Fashion Molly №1 для собак і котів пісочний 52х40х17 см","Більше 10","Спальні місця для собак",953.28,1287,{"$f":"'Pet Fashion'!I$298","v":0},{"$f":"'Pet Fashion'!J$298","v":0}]
[null,1111164247,"PR242133","Лежак Pet Fashion Molly №1 для собак і котів фіолетовий 52х40х17 см","Більше 10","Спальні місця для собак",953.28,1287,{"$f":"'Pet Fashion'!I$299","v":0},{"$f":"'Pet Fashion'!J$299","v":0}]
[null,1111164246,"PR242134","Лежак Pet Fashion Molly №2 для собак і котів пісочний 62х50х19 см","Менше 10","Спальні місця для собак",1196.46,1615,{"$f":"'Pet Fashion'!I$300","v":0},{"$f":"'Pet Fashion'!J$300","v":0}]
[null,1111164248,"PR242132","Лежак Pet Fashion Molly №2 для собак і котів фіолетовий 62х50х19 см","Менше 10","Спальні місця для собак",1196.46,1615,{"$f":"'Pet Fashion'!I$301","v":0},{"$f":"'Pet Fashion'!J$301","v":0}]
[null,1111160863,"PR241757*****","Лежак Pet Fashion Prime для собак 66х52х24 см","Більше 10","Спальні місця для собак",1516,2047,{"$f":"'Pet Fashion'!I$302","v":0},{"$f":"'Pet Fashion'!J$302","v":0}]
[null,1111160861,"PR241760*****","Лежак Pet Fashion Simon 1 для собак 52х42х18 см","Менше 10","Спальні місця для собак",996.56,1345.36,{"$f":"'Pet Fashion'!I$303","v":0},{"$f":"'Pet Fashion'!J$303","v":0}]
[null,1111160862,"PR241759*****","Лежак Pet Fashion Simon 2 для собак 66х54х20 см","Менше 10","Спальні місця для собак",1468.93,1983.06,{"$f":"'Pet Fashion'!I$304","v":0},{"$f":"'Pet Fashion'!J$304","v":0}]
[null,1111160997,"PR241789","Лежак Pet Fashion Soft для собак і котів сірий 48х48х17 см","Більше 10","Спальні місця для собак",916.5,1237,{"$f":"'Pet Fashion'!I$305","v":0},{"$f":"'Pet Fashion'!J$305","v":0}]
[null,1111160975,"PR241788","Лежак SOFT  (48*48*17) рожевий","Більше 10","Спальні місця для собак",829.26,1120,{"$f":"'Pet Fashion'!I$306","v":0},{"$f":"'Pet Fashion'!J$306","v":0}]
[null,9136,"PR240115*****","Намордник Природа №2 для пуделя м_який","Менше 10","Амуніція для собак",78.36,110,{"$f":"'Pet Fashion'!I$307","v":0},{"$f":"'Pet Fashion'!J$307","v":0}]
[null,8938,"PR240117*****","Намордник Природа №4 для дога м_який","Менше 10","Амуніція для собак",87.96,123,{"$f":"'Pet Fashion'!I$308","v":0},{"$f":"'Pet Fashion'!J$308","v":0}]
[null,8939,"PR240118*****","Намордник Природа №5 для ротвейлера м_який","Менше 10","Амуніція для собак",91.92,129,{"$f":"'Pet Fashion'!I$309","v":0},{"$f":"'Pet Fashion'!J$309","v":0}]
[null,1111195204,"PR441419*****","Панама Pet Fashion Rob для соб бавовна фіксатор бірюз ХL арт PR441419","Більше 10","Одяг для собак",391.32,559,{"$f":"'Pet Fashion'!I$310","v":0},{"$f":"'Pet Fashion'!J$310","v":0}]
[null,1111195190,"PR441334","Плед Pet Fashion Bliss 1 для соб і кот карт 70,5х55,5 см арт PR441334","Менше 10","Спальні місця для собак",283.7,339,{"$f":"'Pet Fashion'!I$311","v":0},{"$f":"'Pet Fashion'!J$311","v":0}]
[null,1111195188,"PR441396","Плед Pet Fashion Bliss 1 для соб і кот пудра 86х67,5 см арт PR441396","Менше 10","Спальні місця для собак",326.45,399,{"$f":"'Pet Fashion'!I$312","v":0},{"$f":"'Pet Fashion'!J$312","v":0}]
[null,1111161844,"PR241904*****","Плед Pet Fashion Bliss 1 для собак і котів м_ята 77х60 см","Менше 10","Спальні місця для собак",333.77,451,{"$f":"'Pet Fashion'!I$313","v":0},{"$f":"'Pet Fashion'!J$313","v":0}]
[null,1111195191,"PR441310","Плед Pet Fashion Bliss 2 для соб і кот карт 70,5х94 см арт PR441310","Менше 10","Спальні місця для собак",387.8,469,{"$f":"'Pet Fashion'!I$314","v":0},{"$f":"'Pet Fashion'!J$314","v":0}]
[null,1111195189,"PR441358","Плед Pet Fashion Bliss 2 для соб і кот пудра 68х114,6 см арт PR441358","Більше 10","Спальні місця для собак",435.3,519,{"$f":"'Pet Fashion'!I$315","v":0},{"$f":"'Pet Fashion'!J$315","v":0}]
[null,1111176044,"PR243291","Попона Pet Fashion Roy для собак малиновий/сірий 2XL","Більше 10","Одяг для собак",701.32,946.78,{"$f":"'Pet Fashion'!I$316","v":0},{"$f":"'Pet Fashion'!J$316","v":0}]
[null,1111176045,"PR243290","Попона Pet Fashion Roy для собак малиновий/сірий 3XL","Більше 10","Одяг для собак",751.46,1014.47,{"$f":"'Pet Fashion'!I$317","v":0},{"$f":"'Pet Fashion'!J$317","v":0}]
[null,1111176046,"PR243289","Попона Pet Fashion Roy для собак малиновий/сірий 4XL","Більше 10","Одяг для собак",845.53,1141.46,{"$f":"'Pet Fashion'!I$318","v":0},{"$f":"'Pet Fashion'!J$318","v":0}]
[null,1111176047,"PR243288","Попона Pet Fashion Roy для собак малиновий/сірий 5XL","Більше 10","Одяг для собак",885.95,1196.03,{"$f":"'Pet Fashion'!I$319","v":0},{"$f":"'Pet Fashion'!J$319","v":0}]
[null,1111176048,"PR243287","Попона Pet Fashion Roy для собак малиновий/сірий 6XL","Більше 10","Одяг для собак",1078.2,1456,{"$f":"'Pet Fashion'!I$320","v":0},{"$f":"'Pet Fashion'!J$320","v":0}]
[null,1111176049,"PR243286","Попона Pet Fashion Roy для собак малиновий/сірий 7XL","Більше 10","Одяг для собак",1132.8900000000001,1529.4,{"$f":"'Pet Fashion'!I$321","v":0},{"$f":"'Pet Fashion'!J$321","v":0}]
[null,1111176043,"PR243292","Попона Pet Fashion Roy для собак малиновий/сірий XL","Більше 10","Одяг для собак",652.45000000000005,880.81,{"$f":"'Pet Fashion'!I$322","v":0},{"$f":"'Pet Fashion'!J$322","v":0}]
[null,1111176051,"PR243284","Попона Pet Fashion Roy для собак хакі/гірчиця 2XL","Більше 10","Одяг для собак",736.44,994,{"$f":"'Pet Fashion'!I$323","v":0},{"$f":"'Pet Fashion'!J$323","v":0}]
[null,1111176052,"PR243283","Попона Pet Fashion Roy для собак хакі/гірчиця 3XL","Менше 10","Одяг для собак",804.06,1085,{"$f":"'Pet Fashion'!I$324","v":0},{"$f":"'Pet Fashion'!J$324","v":0}]
[null,1111176053,"PR243282","Попона Pet Fashion Roy для собак хакі/гірчиця 4XL","Менше 10","Одяг для собак",845.53,1141.46,{"$f":"'Pet Fashion'!I$325","v":0},{"$f":"'Pet Fashion'!J$325","v":0}]
[null,1111176054,"PR243281","Попона Pet Fashion Roy для собак хакі/гірчиця 5XL","Менше 10","Одяг для собак",930.3,1256,{"$f":"'Pet Fashion'!I$326","v":0},{"$f":"'Pet Fashion'!J$326","v":0}]
[null,1111176055,"PR243280","Попона Pet Fashion Roy для собак хакі/гірчиця 6XL","Більше 10","Одяг для собак",1026.8599999999999,1386.25,{"$f":"'Pet Fashion'!I$327","v":0},{"$f":"'Pet Fashion'!J$327","v":0}]
[null,1111176056,"PR243279","Попона Pet Fashion Roy для собак хакі/гірчиця 7 XL","Більше 10","Одяг для собак",1132.8900000000001,1529.4,{"$f":"'Pet Fashion'!I$328","v":0},{"$f":"'Pet Fashion'!J$328","v":0}]
[null,1111176050,"PR243285","Попона Pet Fashion Roy для собак хакі/гірчиця XL","Менше 10","Одяг для собак",685.08,925,{"$f":"'Pet Fashion'!I$329","v":0},{"$f":"'Pet Fashion'!J$329","v":0}]
[null,1111181939,"PR243605*****","Светр Fur  S","Більше 10","Одяг для собак",330,446,{"$f":"'Pet Fashion'!I$330","v":0},{"$f":"'Pet Fashion'!J$330","v":0}]
[null,1111181938,"PR243606*****","Светр Fur  М","Більше 10","Одяг для собак",389,525,{"$f":"'Pet Fashion'!I$331","v":0},{"$f":"'Pet Fashion'!J$331","v":0}]
[null,1111181937,"PR243607*****","Светр Fur L","Більше 10","Одяг для собак",422,570,{"$f":"'Pet Fashion'!I$332","v":0},{"$f":"'Pet Fashion'!J$332","v":0}]
[null,1111181931,"PR243613*****","Светр Happy L","Більше 10","Одяг для собак",643,868,{"$f":"'Pet Fashion'!I$333","v":0},{"$f":"'Pet Fashion'!J$333","v":0}]
[null,1111181932,"PR243612*****","Светр Happy M","Менше 10","Одяг для собак",633,854,{"$f":"'Pet Fashion'!I$334","v":0},{"$f":"'Pet Fashion'!J$334","v":0}]
[null,1111181933,"PR243611*****","Светр Happy S","Більше 10","Одяг для собак",564,762,{"$f":"'Pet Fashion'!I$335","v":0},{"$f":"'Pet Fashion'!J$335","v":0}]
[null,1111181930,"PR243614*****","Светр Happy XL","Більше 10","Одяг для собак",663,896,{"$f":"'Pet Fashion'!I$336","v":0},{"$f":"'Pet Fashion'!J$336","v":0}]
[null,1111181935,"PR243609*****","Светр Happy XS","Менше 10","Одяг для собак",535,723,{"$f":"'Pet Fashion'!I$337","v":0},{"$f":"'Pet Fashion'!J$337","v":0}]
[null,1111181934,"PR243610*****","Светр Happy XS2","Менше 10","Одяг для собак",554,748,{"$f":"'Pet Fashion'!I$338","v":0},{"$f":"'Pet Fashion'!J$338","v":0}]
[null,1111181936,"PR243608*****","Светр Happy XXS","Менше 10","Одяг для собак",525,709,{"$f":"'Pet Fashion'!I$339","v":0},{"$f":"'Pet Fashion'!J$339","v":0}]
[null,1111181944,"PR243600*****","Светр для кота Tim  S","Більше 10","Одяг і аксесуари для котів",299,403,{"$f":"'Pet Fashion'!I$340","v":0},{"$f":"'Pet Fashion'!J$340","v":0}]
[null,1111181943,"PR243601*****","Светр для кота Tim  М","Більше 10","Одяг і аксесуари для котів",317,428,{"$f":"'Pet Fashion'!I$341","v":0},{"$f":"'Pet Fashion'!J$341","v":0}]
[null,1111181942,"PR243602*****","Светр для кота Tim L","Більше 10","Одяг і аксесуари для котів",322,434,{"$f":"'Pet Fashion'!I$342","v":0},{"$f":"'Pet Fashion'!J$342","v":0}]
[null,1111182971,"PR243792*****","Светр плетений Winter L для собак","Більше 10",null,569.46,814,{"$f":"'Pet Fashion'!I$343","v":0},{"$f":"'Pet Fashion'!J$343","v":0}]
[null,1111182972,"PR243793*****","Светр плетений Winter M для собак","Менше 10",null,559.86,801,{"$f":"'Pet Fashion'!I$344","v":0},{"$f":"'Pet Fashion'!J$344","v":0}]
[null,1111182973,"PR243794*****","Светр плетений Winter S для собак","Менше 10",null,491.94,703,{"$f":"'Pet Fashion'!I$345","v":0},{"$f":"'Pet Fashion'!J$345","v":0}]
[null,1111182975,"PR243800*****","Светр плетений Winter XS для собак","Менше 10",null,470.34,673,{"$f":"'Pet Fashion'!I$346","v":0},{"$f":"'Pet Fashion'!J$346","v":0}]
[null,1111182974,"PR243798*****","Светр плетений Winter XS2 для собак","Менше 10",null,482.34,690,{"$f":"'Pet Fashion'!I$347","v":0},{"$f":"'Pet Fashion'!J$347","v":0}]
[null,1111182970,"PR243795*****","Светр плетений Winter ХL для собак","Менше 10",null,583.86,835,{"$f":"'Pet Fashion'!I$348","v":0},{"$f":"'Pet Fashion'!J$348","v":0}]
[null,1111159520,"Ститч XS*****","Сорочка  Стітч  XS","Більше 10","Одяг для собак",178.47,240.93,{"$f":"'Pet Fashion'!I$349","v":0},{"$f":"'Pet Fashion'!J$349","v":0}]
[null,1111159519,"Феникс XS*****","Сорочка  Фенікс  XS","Більше 10","Одяг для собак",212.46,287,{"$f":"'Pet Fashion'!I$350","v":0},{"$f":"'Pet Fashion'!J$350","v":0}]
[null,1111176063,"PR243272*****","Сумка-переноска Pet Fashion Linen для собак 38х32х22 см","Менше 10","Сумки, переноски та посуд для подорожей з собаками",1054.5899999999999,1423.69,{"$f":"'Pet Fashion'!I$351","v":0},{"$f":"'Pet Fashion'!J$351","v":0}]
[null,1111162539,"PR241974","Сумка-переноска Pet Fashion Vesta для собак і котів 38х22х22 см","Більше 10","Сумки, переноски та посуд для подорожей з собаками",1125.5999999999999,1519.56,{"$f":"'Pet Fashion'!I$352","v":0},{"$f":"'Pet Fashion'!J$352","v":0}]
[null,1111182985,"PR243811*****","Толстовка Halloween  XS для собак","Менше 10",null,259.8,372,{"$f":"'Pet Fashion'!I$353","v":0},{"$f":"'Pet Fashion'!J$353","v":0}]
[null,1111182982,"PR243808*****","Толстовка Halloween  М для собак","Менше 10",null,349.92,500,{"$f":"'Pet Fashion'!I$354","v":0},{"$f":"'Pet Fashion'!J$354","v":0}]
[null,1111182983,"PR243810*****","Толстовка Halloween S для собак","Менше 10",null,303.54000000000002,434,{"$f":"'Pet Fashion'!I$355","v":0},{"$f":"'Pet Fashion'!J$355","v":0}]
[null,1111182984,"PR243809*****","Толстовка Halloween XS2  для собак","Менше 10",null,298.8,427,{"$f":"'Pet Fashion'!I$356","v":0},{"$f":"'Pet Fashion'!J$356","v":0}]
[null,1111172179,"PR243030*****","Толстовка Pet Fashion Bim для собак S","Менше 10","Одяг для собак",409.79,553.21,{"$f":"'Pet Fashion'!I$357","v":0},{"$f":"'Pet Fashion'!J$357","v":0}]
[null,1111171974,"PR243028*****","Толстовка Pet Fashion Bim для собак XS","Менше 10","Одяг для собак",374.39,505.42,{"$f":"'Pet Fashion'!I$358","v":0},{"$f":"'Pet Fashion'!J$358","v":0}]
[null,1111172178,"PR243031*****","Толстовка Pet Fashion BIM для собак сіро-рожева М арт PR243031","Менше 10","Одяг для собак",450.13,607.66999999999996,{"$f":"'Pet Fashion'!I$359","v":0},{"$f":"'Pet Fashion'!J$359","v":0}]
[null,1111179001,"PR243473*****","Толстовка Pet Fashion Miley коричнева M артPR243473","Менше 10","Одяг для собак",448,605,{"$f":"'Pet Fashion'!I$360","v":0},{"$f":"'Pet Fashion'!J$360","v":0}]
[null,1111182979,"PR243804*****","Толстовка Tinsel  XS для собак","Менше 10",null,348.72,499,{"$f":"'Pet Fashion'!I$361","v":0},{"$f":"'Pet Fashion'!J$361","v":0}]
[null,1111182976,"PR243802*****","Толстовка Tinsel  М для собак","Менше 10",null,445.14,637,{"$f":"'Pet Fashion'!I$362","v":0},{"$f":"'Pet Fashion'!J$362","v":0}]
[null,1111182977,"PR243807*****","Толстовка Tinsel S для собак","Менше 10",null,404.28,578,{"$f":"'Pet Fashion'!I$363","v":0},{"$f":"'Pet Fashion'!J$363","v":0}]
[null,1111182978,"PR243803*****","Толстовка Tinsel XS2 для собак","Менше 10",null,386.1,552,{"$f":"'Pet Fashion'!I$364","v":0},{"$f":"'Pet Fashion'!J$364","v":0}]
[null,1111178747,"PR243436*****","Футбока Rose S девочка","Більше 10","Одяг для собак",273,369,{"$f":"'Pet Fashion'!I$365","v":0},{"$f":"'Pet Fashion'!J$365","v":0}]
[null,1111178748,"PR243435*****","Футбока Rose XS2 дівчинка","Менше 10","Одяг для собак",259,350,{"$f":"'Pet Fashion'!I$366","v":0},{"$f":"'Pet Fashion'!J$366","v":0}]
[null,1111172859,"PR243046*****","Футболка Ivanko M2","Менше 10","Одяг для собак",288,388.33,{"$f":"'Pet Fashion'!I$367","v":0},{"$f":"'Pet Fashion'!J$367","v":0}]
[null,1111195213,"PR441495*****","Футболка Pet Fashion Flora для соб трикот біл з квітк XS арт PR441495","Більше 10","Одяг для собак",307.32,439,{"$f":"'Pet Fashion'!I$368","v":0},{"$f":"'Pet Fashion'!J$368","v":0}]
[null,1111195212,"PR441518*****","Футболка Pet Fashion Flora для соб трикот біл з квітк XS2 арт PR441518","Більше 10","Одяг для собак",328.32,469,{"$f":"'Pet Fashion'!I$369","v":0},{"$f":"'Pet Fashion'!J$369","v":0}]
[null,1111195214,"PR441501*****","Футболка Pet Fashion Flora для соб трикот біл з квітк XХS арт PR441501","Більше 10","Одяг для собак",279.3,399,{"$f":"'Pet Fashion'!I$370","v":0},{"$f":"'Pet Fashion'!J$370","v":0}]
[null,1111195209,"PR441457*****","Футболка Pet Fashion Flora для соб трикотаж біл з квітк L арт PR441457","Більше 10","Одяг для собак",363.3,519,{"$f":"'Pet Fashion'!I$371","v":0},{"$f":"'Pet Fashion'!J$371","v":0}]
[null,1111195211,"PR441525*****","Футболка Pet Fashion Flora для соб трикотаж біл з квітк S арт PR441525","Більше 10","Одяг для собак",342.3,489,{"$f":"'Pet Fashion'!I$372","v":0},{"$f":"'Pet Fashion'!J$372","v":0}]
[null,1111195210,"PR441471*****","Футболка Pet Fashion Flora для соб трикотаж біл з квітк М арт PR441457","Більше 10","Одяг для собак",349.32,499,{"$f":"'Pet Fashion'!I$373","v":0},{"$f":"'Pet Fashion'!J$373","v":0}]
[null,1111195194,"PR441259*****","Футболка Pet Fashion Jessica трикотаж жов S арт PR441259","Більше 10","Одяг для собак",342.3,489,{"$f":"'Pet Fashion'!I$374","v":0},{"$f":"'Pet Fashion'!J$374","v":0}]
[null,1111195195,"PR441273*****","Футболка Pet Fashion Jessica трикотаж жов XS2 арт PR441273","Менше 10","Одяг для собак",328.32,469,{"$f":"'Pet Fashion'!I$375","v":0},{"$f":"'Pet Fashion'!J$375","v":0}]
[null,1111195192,"PR441280*****","Футболка Pet Fashion Jessica трикотаж жовт L арт PR441280","Менше 10","Одяг для собак",363.3,519,{"$f":"'Pet Fashion'!I$376","v":0},{"$f":"'Pet Fashion'!J$376","v":0}]
[null,1111195198,"PR441327*****","Футболка Pet Fashion Oscar для собак трикотаж блакит L арт PR441327","Більше 10","Одяг для собак",363.3,519,{"$f":"'Pet Fashion'!I$377","v":0},{"$f":"'Pet Fashion'!J$377","v":0}]
[null,1111195200,"PR441365*****","Футболка Pet Fashion Oscar для собак трикотаж блакит S арт PR441365","Більше 10","Одяг для собак",342.3,489,{"$f":"'Pet Fashion'!I$378","v":0},{"$f":"'Pet Fashion'!J$378","v":0}]
[null,1111195202,"PR441389*****","Футболка Pet Fashion Oscar для собак трикотаж блакит XS арт PR441389","Більше 10","Одяг для собак",307.32,439,{"$f":"'Pet Fashion'!I$379","v":0},{"$f":"'Pet Fashion'!J$379","v":0}]
[null,1111195201,"PR441372*****","Футболка Pet Fashion Oscar для собак трикотаж блакит XS2 арт PR441372","Більше 10","Одяг для собак",328.32,469,{"$f":"'Pet Fashion'!I$380","v":0},{"$f":"'Pet Fashion'!J$380","v":0}]
[null,1111195203,"PR441402*****","Футболка Pet Fashion Oscar для собак трикотаж блакит XХS PR41402","Менше 10","Одяг для собак",279.3,399,{"$f":"'Pet Fashion'!I$381","v":0},{"$f":"'Pet Fashion'!J$381","v":0}]
[null,1111195199,"PR441341*****","Футболка Pet Fashion Oscar для собак трикотаж блакит М арт PR441341","Більше 10","Одяг для собак",349.32,499,{"$f":"'Pet Fashion'!I$382","v":0},{"$f":"'Pet Fashion'!J$382","v":0}]
[null,1111180572,"PR243499*****","Худі Home М дівчинка","Більше 10","Одяг для собак",473,638,{"$f":"'Pet Fashion'!I$383","v":0},{"$f":"'Pet Fashion'!J$383","v":0}]
[null,1111165365,"PR242336","Худі Pet Fashion Snoodie для собак сіра M","Більше 10","Одяг для собак",571.74,771.86,{"$f":"'Pet Fashion'!I$384","v":0},{"$f":"'Pet Fashion'!J$384","v":0}]
[null,1111165367,"PR242333","Худі Pet Fashion Snoodie для собак сіра S","Менше 10","Одяг для собак",531.86,718.01,{"$f":"'Pet Fashion'!I$385","v":0},{"$f":"'Pet Fashion'!J$385","v":0}]
[null,1111165368,"PR242334","Худі Pet Fashion Snoodie для собак сіра SM","Більше 10","Одяг для собак",574.44000000000005,775,{"$f":"'Pet Fashion'!I$386","v":0},{"$f":"'Pet Fashion'!J$386","v":0}]
[null,1111165357,"PR242340","Худі Pet Fashion Snoodie для собак червона M","Більше 10","Одяг для собак",600.36,810,{"$f":"'Pet Fashion'!I$387","v":0},{"$f":"'Pet Fashion'!J$387","v":0}]
[null,1111165358,"PR242339","Худі Pet Fashion Snoodie для собак червона M2","Менше 10","Одяг для собак",637.15,860.15,{"$f":"'Pet Fashion'!I$388","v":0},{"$f":"'Pet Fashion'!J$388","v":0}]
[null,1111165359,"PR242337","Худі Pet Fashion Snoodie для собак червона S","Менше 10","Одяг для собак",553.14,747,{"$f":"'Pet Fashion'!I$389","v":0},{"$f":"'Pet Fashion'!J$389","v":0}]
[null,1111165360,"PR242338","Худі Pet Fashion Snoodie для собак червона SM","Більше 10","Одяг для собак",568.98,768,{"$f":"'Pet Fashion'!I$390","v":0},{"$f":"'Pet Fashion'!J$390","v":0}]
[null,1111165361,"PR242344","Худі Pet Fashion Snoodie для собак чорна M","Менше 10","Одяг для собак",600.36,810,{"$f":"'Pet Fashion'!I$391","v":0},{"$f":"'Pet Fashion'!J$391","v":0}]
[null,1111165363,"PR242341","Худі Pet Fashion Snoodie для собак чорна S","Більше 10","Одяг для собак",558.48,754,{"$f":"'Pet Fashion'!I$392","v":0},{"$f":"'Pet Fashion'!J$392","v":0}]
[null,1111165364,"PR242342","Худі Pet Fashion Snoodie для собак чорна SM","Менше 10","Одяг для собак",563.52,761,{"$f":"'Pet Fashion'!I$393","v":0},{"$f":"'Pet Fashion'!J$393","v":0}]
[null,1111165277,"PR242319*****","Шапка  PARTY  зима S","Більше 10","Одяг для собак",204.37,275.91000000000003,{"$f":"'Pet Fashion'!I$394","v":0},{"$f":"'Pet Fashion'!J$394","v":0}]
[null,1111165278,"PR242318*****","Шапка  PARTY  зима XS","Більше 10","Одяг для собак",200.09,270.12,{"$f":"'Pet Fashion'!I$395","v":0},{"$f":"'Pet Fashion'!J$395","v":0}]
[null,1111165971,"PR242357*****","Шарф Pet Fashion Happy для собак M-XL","Більше 10","Одяг для собак",163.91,221.28,{"$f":"'Pet Fashion'!I$396","v":0},{"$f":"'Pet Fashion'!J$396","v":0}]
[null,1111165972,"PR242356*****","Шарф Pet Fashion Happy для собак XS-S","Більше 10","Одяг для собак",154.6,208.72,{"$f":"'Pet Fashion'!I$397","v":0},{"$f":"'Pet Fashion'!J$397","v":0}]
[null,1111197866,"PR 441716*****","Шлея Monika ТМ Pet Fashion для собак S, лен","Більше 10","Одяг для собак",510.3,729,{"$f":"'Pet Fashion'!I$398","v":0},{"$f":"'Pet Fashion'!J$398","v":0}]
[null,1111197868,"PR 441686*****","Шлея Monika ТМ Pet Fashion для собак XS, лен","Більше 10","Одяг для собак",440.34,629,{"$f":"'Pet Fashion'!I$399","v":0},{"$f":"'Pet Fashion'!J$399","v":0}]
[null,1111197867,"PR 441693*****","Шлея Monika ТМ Pet Fashion для собак XS2, лен","Більше 10","Одяг для собак",475.32,679,{"$f":"'Pet Fashion'!I$400","v":0},{"$f":"'Pet Fashion'!J$400","v":0}]
[null,1111197869,"PR 441679*****","Шлея Monika ТМ Pet Fashion для собак ХXS, льон","Більше 10","Одяг для собак",405.3,579,{"$f":"'Pet Fashion'!I$401","v":0},{"$f":"'Pet Fashion'!J$401","v":0}]
[null,1111197872,"PR 441624*****","Шлея Ross ТМ Pet Fashion для собак  XS, льон","Більше 10","Одяг для собак",440.34,629,{"$f":"'Pet Fashion'!I$402","v":0},{"$f":"'Pet Fashion'!J$402","v":0}]
[null,1111197873,"PR 441617*****","Шлея Ross ТМ Pet Fashion для собак  ХXS, льон","Більше 10","Одяг для собак",405.3,579,{"$f":"'Pet Fashion'!I$403","v":0},{"$f":"'Pet Fashion'!J$403","v":0}]
[null,1111197870,"PR 441655*****","Шлея Ross ТМ Pet Fashion для собак S, льон","Більше 10","Одяг для собак",503.34,719,{"$f":"'Pet Fashion'!I$404","v":0},{"$f":"'Pet Fashion'!J$404","v":0}]
[null,1111197871,"PR 441648*****","Шлея Ross ТМ Pet Fashion для собак XS2, льон","Більше 10","Одяг для собак",475.32,679,{"$f":"'Pet Fashion'!I$405","v":0},{"$f":"'Pet Fashion'!J$405","v":0}]
[null,1111178742,"PR243441*****","Шлея-костюм Patrik S","Менше 10","Одяг для собак",466,628,{"$f":"'Pet Fashion'!I$406","v":0},{"$f":"'Pet Fashion'!J$406","v":0}]
[null,1111180401,"PR243475","Краплі Provet PROFILINE KІП КАЛМ для котів та собак 10мл","Більше 100","Корекція поведінки для котів",108.24,153,{"$f":"PROFILINE!I$8","v":0},{"$f":"PROFILINE!J$8","v":0}]
[null,1111145713,"170572/7763*****","Profine Cat Derma д/довгошерстих котів з лососем і рисом 2 кг","Менше 10","Корм сухий для котів",486.48,633,{"$f":"Profine!I$8","v":0},{"$f":"Profine!J$8","v":0}]
[null,1111145717,"170569/7732*****","Profine Cat Indoor д/котів, що живуть у приміщенні, ягня/рис 2кг","Менше 10","Корм сухий для котів",530.88,692,{"$f":"Profine!I$9","v":0},{"$f":"Profine!J$9","v":0}]
[null,1111145721,"170575/7794*****","Profine Cat Light д/котів з надмірною вагою з індичкою та рисом 2 кг","Більше 10","Корм сухий для котів",471.72,615,{"$f":"Profine!I$10","v":0},{"$f":"Profine!J$10","v":0}]
[null,1111145724,"170565/7695*****","Profine Cat Original Adult д/котів усіх порід з куркою та рисом 300 г","Більше 10","Корм сухий для котів",110.1,145,{"$f":"Profine!I$11","v":0},{"$f":"Profine!J$11","v":0}]
[null,1111145729,"170563/7671*****","Profine Cat Sterilised д/стерилізованих котів з куркою та рисом 2 кг","Менше 10","Корм сухий для котів",486.48,633,{"$f":"Profine!I$12","v":0},{"$f":"Profine!J$12","v":0}]
[null,1111145727,"170562/7664*****","Profine Cat Sterilised д/стерилізованих котів з куркою та рисом 300 г","Більше 10","Корм сухий для котів",116.52,152,{"$f":"Profine!I$13","v":0},{"$f":"Profine!J$13","v":0}]
[null,1111150394,"100813/100010/4051*****","Profine Dog k консерви д/собак з куркою та курячою печінкою 400г","Більше 100","Корм вологий для собак",127.62,167,{"$f":"Profine!I$14","v":0},{"$f":"Profine!J$14","v":0}]
[null,1111150393,"100812/100008/4037*****","Profine Dog k консерви д/собак з яловичиною та яловичою печінкою 400г","Немає в наявності","Корм вологий для собак",127.62,167,{"$f":"Profine!I$15","v":0},{"$f":"Profine!J$15","v":0}]
[null,1111150397,"100816/100016/4112*****","Profine Dog k консерви для собак з олениною та куркою 400 г","Немає в наявності","Корм вологий для собак",127.62,167,{"$f":"Profine!I$16","v":0},{"$f":"Profine!J$16","v":0}]
[null,1111175204,"PR243159","Вітаміни Provet PROFILINE д/котів ГАГ комплекс суглоби/зв_язки 180таб","Більше 10","Вітаміни для котів",225.3,315,{"$f":"ProVET!I$8","v":0},{"$f":"ProVET!J$8","v":0}]
[null,1111175196,"PR243167","Вітаміни Provet PROFILINE д/котів УРІНАРІ КОМПЛ сечовивід/сист 180таб","Більше 10","Вітаміни для котів",210.54,294,{"$f":"ProVET!I$9","v":0},{"$f":"ProVET!J$9","v":0}]
[null,1111175200,"PR243163","Вітаміни Provet PROFILINE д/кошен вагіт/лакт котів комплекс 180таб","Більше 10","Вітаміни для котів",162.18,227,{"$f":"ProVET!I$10","v":0},{"$f":"ProVET!J$10","v":0}]
[null,1111175197,"PR243166","Вітаміни Provet PROFILINE д/собак ВІТАЛІТІ комплекс протиалерг 100таб","Більше 10","Вітаміни для собак",193.74,271,{"$f":"ProVET!I$11","v":0},{"$f":"ProVET!J$11","v":0}]
[null,1111175198,"PR243165","Вітаміни Provet PROFILINE д/собак ГАГ комплекс суглоби/зв_язки 100таб","Більше 10","Вітаміни для собак",233.7,327,{"$f":"ProVET!I$12","v":0},{"$f":"ProVET!J$12","v":0}]
[null,1111175199,"PR243164","Вітаміни Provet PROFILINE д/собак КАЛЬЦІЙ комплекс кістки/зуби 100таб","Більше 10","Вітаміни для собак",176.88,247,{"$f":"ProVET!I$13","v":0},{"$f":"ProVET!J$13","v":0}]
[null,1111175194,"PR243169","Вітаміни Provet PROFILINE д/собак МАКСІ комплекс сер/вел/пород 100таб","Більше 10","Вітаміни для собак",214.74,300,{"$f":"ProVET!I$14","v":0},{"$f":"ProVET!J$14","v":0}]
[null,1111175195,"PR243168","Вітаміни Provet PROFILINE д/собак МІНІ комплекс дрібних порід 100таб","Більше 10","Вітаміни для собак",212.64,297,{"$f":"ProVET!I$15","v":0},{"$f":"ProVET!J$15","v":0}]
[null,1111175203,"PR243160","Вітаміни Provet PROFILINE для котів АКТИВ комплекс для шерсті 180таб","Більше 10","Вітаміни для котів",216.9,303,{"$f":"ProVET!I$16","v":0},{"$f":"ProVET!J$16","v":0}]
[null,1111175202,"PR243161","Вітаміни Provet PROFILINE для котів БІОТИН комплекс для шерсті 180таб","Більше 10","Вітаміни для котів",170.58,238,{"$f":"ProVET!I$17","v":0},{"$f":"ProVET!J$17","v":0}]
[null,1111175193,"PR243170","Вітаміни Provet PROFILINE для котів ТАУРИН комплекс 180таб","Більше 10","Вітаміни для котів",162.18,227,{"$f":"ProVET!I$18","v":0},{"$f":"ProVET!J$18","v":0}]
[null,1111175201,"PR243162","Вітаміни Provet PROFILINE для собак БІОТИН комплекс для шерсті 100таб","Більше 10","Вітаміни для собак",181.08,253,{"$f":"ProVET!I$19","v":0},{"$f":"ProVET!J$19","v":0}]
[null,1111175173,"PR243111","Краплі Provet PROFILINE д/котів до 4кг інсектоакарицид 4піпет по 0,5мл","Більше 100","Антипаразитарні препарати для котів",191.34,268,{"$f":"ProVET!I$20","v":0},{"$f":"ProVET!J$20","v":0}]
[null,1111175177,"PR243103","Краплі Provet PROFILINE д/собак 10-20кг інсектоакарицид4 піпет по 2мл","Більше 100","Антипаразитарні препарати для собак",272.16000000000003,381,{"$f":"ProVET!I$21","v":0},{"$f":"ProVET!J$21","v":0}]
[null,1111175183,"PR243106","Краплі Provet PROFILINE д/собак 20-40кг інсектоакарицид 1піпет 3мл","Більше 100","Антипаразитарні препарати для собак",116.46,163,{"$f":"ProVET!I$22","v":0},{"$f":"ProVET!J$22","v":0}]
[null,1111175178,"PR243102","Краплі Provet PROFILINE д/собак 20-40кг інсектоакарицид 4 піпет по 3мл","Більше 100","Антипаразитарні препарати для собак",334.08,467,{"$f":"ProVET!I$23","v":0},{"$f":"ProVET!J$23","v":0}]
[null,1111175176,"PR243104","Краплі Provet PROFILINE д/собак 4-10кг інсектоакарицид 4 піпет по 1мл","Більше 100","Антипаразитарні препарати для собак",217.14,304,{"$f":"ProVET!I$24","v":0},{"$f":"ProVET!J$24","v":0}]
[null,1111175175,"PR243105","Краплі Provet PROFILINE д/собак до 4кг інсектоакарицид 4піпет по 0,5мл","Більше 100","Антипаразитарні препарати для собак",194.22,272,{"$f":"ProVET!I$25","v":0},{"$f":"ProVET!J$25","v":0}]
[null,1111175179,"PR243112","Краплі Provet PROFILINE для котів 4-8кг інсектоакарицид 1піпет 1мл","Більше 100","Антипаразитарні препарати для котів",67.14,94,{"$f":"ProVET!I$26","v":0},{"$f":"ProVET!J$26","v":0}]
[null,1111175174,"PR243110","Краплі Provet PROFILINE для котів 4-8кг інсектоакарицид 4 піпет по 1мл","Більше 100","Антипаразитарні препарати для котів",210.24,294,{"$f":"ProVET!I$27","v":0},{"$f":"ProVET!J$27","v":0}]
[null,1111175180,"PR243113","Краплі Provet PROFILINE для котів до 4кг інсектоакарицид 1піпет 0,5мл","Більше 100","Антипаразитарні препарати для котів",56.82,80,{"$f":"ProVET!I$28","v":0},{"$f":"ProVET!J$28","v":0}]
[null,1111175182,"PR243107","Краплі Provet PROFILINE для собак 10-20кг інсектоакарицид1піпет 2мл","Більше 100","Антипаразитарні препарати для собак",92.04,129,{"$f":"ProVET!I$29","v":0},{"$f":"ProVET!J$29","v":0}]
[null,1111175184,"PR243108","Краплі Provet PROFILINE для собак 4-10кг інсектоакарицид 1піпет 1мл","Більше 100","Антипаразитарні препарати для собак",67.14,94,{"$f":"ProVET!I$30","v":0},{"$f":"ProVET!J$30","v":0}]
[null,1111175181,"PR243109","Краплі Provet PROFILINE для собак до 4кг інсектоакарицид 1піпет 0,5мл","Більше 10","Антипаразитарні препарати для собак",58.56,82,{"$f":"ProVET!I$31","v":0},{"$f":"ProVET!J$31","v":0}]
[null,1111190960,"PR244010","Лосьйон Provet SOFTVET для гігієни вух котів і собак 15мл","Більше 100","Догляд та гігієна для собак",51.96,73,{"$f":"ProVET!I$32","v":0},{"$f":"ProVET!J$32","v":0}]
[null,1111190962,"PR244007","Лосьйон Provet SOFTVET для гігієни очей котів і собак 15мл","Більше 100","Догляд та гігієна для собак",51.96,73,{"$f":"ProVET!I$33","v":0},{"$f":"ProVET!J$33","v":0}]
[null,1111190964,"PR244017","Лосьйон Provet SOFTVET для гігієни очей котів і собак 300мл","Більше 10","Догляд та гігієна для собак",159.30000000000001,223,{"$f":"ProVET!I$34","v":0},{"$f":"ProVET!J$34","v":0}]
[null,1111190963,"PR244008","Лосьйон Provet SOFTVETдля гігієни очей котів і собак 30мл","Більше 100","Догляд та гігієна для собак",76.08,107,{"$f":"ProVET!I$35","v":0},{"$f":"ProVET!J$35","v":0}]
[null,1111175186,"PR243096","Нашийник Provet PROFILINE д/котів і собак інсектоакарицид корал 35 см","Більше 100","Антипаразитарні препарати для собак",105.72,148,{"$f":"ProVET!I$36","v":0},{"$f":"ProVET!J$36","v":0}]
[null,1111175187,"PR243095","Нашийник Provet PROFILINE д/котів і собак інсектоакарицид фуксія 35см","Більше 100","Антипаразитарні препарати для собак",105.72,148,{"$f":"ProVET!I$37","v":0},{"$f":"ProVET!J$37","v":0}]
[null,1111175185,"PR243097","Нашийник Provet PROFILINE д/котів/собак інсектоакарицид зелений 35 см","Більше 100","Антипаразитарні препарати для собак",105.72,148,{"$f":"ProVET!I$38","v":0},{"$f":"ProVET!J$38","v":0}]
[null,1111175188,"PR243094","Нашийник Provet PROFILINE д/котів/собак інсектоакарицид фіолет 35 см","Більше 100","Антипаразитарні препарати для собак",105.72,148,{"$f":"ProVET!I$39","v":0},{"$f":"ProVET!J$39","v":0}]
[null,1111175192,"PR243098","Нашийник Provet PROFILINE д/собак вел/порід інсектоакарицид фіол70 см","Більше 10","Антипаразитарні препарати для собак",134.52000000000001,188,{"$f":"ProVET!I$40","v":0},{"$f":"ProVET!J$40","v":0}]
[null,1111175190,"PR243100","Нашийник Provet PROFILINE д/собак д/великих порід інсектоакарицид 70см","Більше 10","Антипаразитарні препарати для собак",134.52000000000001,188,{"$f":"ProVET!I$41","v":0},{"$f":"ProVET!J$41","v":0}]
[null,1111175191,"PR243099","Нашийник Provet PROFILINE д/собак д/великих порід інсектоакарицид 70см","Більше 10","Антипаразитарні препарати для собак",134.52000000000001,188,{"$f":"ProVET!I$42","v":0},{"$f":"ProVET!J$42","v":0}]
[null,1111193676,"PR244115","Нашийник Provet SOFTVET БІО для котів та собак дрібних порід репелентн","Більше 100","Антипаразитарні препарати для котів",35.700000000000003,51,{"$f":"ProVET!I$43","v":0},{"$f":"ProVET!J$43","v":0}]
[null,1111193678,"PR244116","Нашийник Provet SOFTVET для котів та собак дрібних порід заспокійливий","Більше 10","Антипаразитарні препарати для котів",95.4,134,{"$f":"ProVET!I$44","v":0},{"$f":"ProVET!J$44","v":0}]
[null,1111193680,"PR244120","Нашийник Provet SOFTVET для котів та собак дрібних порід репелентний","Більше 100",null,95.94,134,{"$f":"ProVET!I$45","v":0},{"$f":"ProVET!J$45","v":0}]
[null,1111175206,"PR243086","Спрей Provet PROFILINE для котів та собак інсектоакарицид 30мл","Більше 10","Антипаразитарні препарати для котів",86.82,122,{"$f":"ProVET!I$46","v":0},{"$f":"ProVET!J$46","v":0}]
[null,1111190966,"PR244014","Спрей Provet SOFTVET відлякувач від місць не призначених для туалету д","Більше 100",null,131.69999999999999,184,{"$f":"ProVET!I$47","v":0},{"$f":"ProVET!J$47","v":0}]
[null,1111190970,"PR244020","Спрей Provet SOFTVET привчання до туалету для котів 250мл","Більше 10",null,131.69999999999999,184,{"$f":"ProVET!I$48","v":0},{"$f":"ProVET!J$48","v":0}]
[null,1111175205,"PR243087","Суспензія Provet PROFILINE КОКЦИД д/котів/собак антигельмінтик 5,0мл","Більше 10","Антипаразитарні препарати для котів",90.9,127,{"$f":"ProVET!I$49","v":0},{"$f":"ProVET!J$49","v":0}]
[null,1111208601,"PR243167","ТЕРМ.02.26.Вітаміни Provet PROFILINE для котів УРІНАРІ комплекс для по","Більше 10","Вітаміни для котів",105.3,0,{"$f":"ProVET!I$50","v":0},{"$f":"ProVET!J$50","v":0}]
[null,1111207599,"PR243167","ТЕРМ.07.25.Вітаміни Provet PROFILINE для котів УРІНАРІ комплекс для по","Менше 10","Вітаміни для котів",105.3,0,{"$f":"ProVET!I$51","v":0},{"$f":"ProVET!J$51","v":0}]
[null,1111207597,"PR243163","ТЕРМ.09.25.Вітаміни Provet PROFILINE для кошенят та котів вагітних та ","Менше 10","Вітаміни для котів",81.12,0,{"$f":"ProVET!I$52","v":0},{"$f":"ProVET!J$52","v":0}]
[null,1111207596,"PR243168","ТЕРМ.10.25.Вітаміни Provet PROFILINE для собак МІНІ комплекс дрібних п","Менше 10","Вітаміни для собак",106.32,0,{"$f":"ProVET!I$53","v":0},{"$f":"ProVET!J$53","v":0}]
[null,1111207841,"PR243159","ТЕРМ.12.25.Вітаміни Provet PROFILINE для котів ГАГ комплекс для суглоб","Більше 10","Вітаміни для котів",112.68,0,{"$f":"ProVET!I$54","v":0},{"$f":"ProVET!J$54","v":0}]
[null,1111192757,"PR244049","Фітокомплекс Provet SOFTVET д/кот антистрес та нормаліз нерв сист 100т","Більше 10","Вітаміни для котів",207,290,{"$f":"ProVET!I$55","v":0},{"$f":"ProVET!J$55","v":0}]
[null,1111192758,"PR244048","Фітокомплекс Provet SOFTVET д/соб антистрес та нормаліз нерв сист 100т","Більше 10","Вітаміни для собак",216,302,{"$f":"ProVET!I$56","v":0},{"$f":"ProVET!J$56","v":0}]
[null,1111190958,"PR244013","Фітокомплекс Provet SOFTVET покращення функції сечовивідної системи 20","Більше 10",null,79.8,112,{"$f":"ProVET!I$57","v":0},{"$f":"ProVET!J$57","v":0}]
[null,11070,"PR740574_ord","Акваріум Природа кутовий 57x57x45 см 85л","Менше 10","Акваріуми та акваріумні комплекти",2975.04,3867.53,{"$f":"'ProVET аква'!I$8","v":0},{"$f":"'ProVET аква'!J$8","v":0}]
[null,9356,"PR740575_ord","Акваріум Природа кутовий 70x70x50 см 142 л","Менше 10","Акваріуми та акваріумні комплекти",5361.78,6970.27,{"$f":"'ProVET аква'!I$9","v":0},{"$f":"'ProVET аква'!J$9","v":0}]
[null,11025,"PR740556 (506401)","Акваріум Природа овальний 100х40х50 см 190 л","Менше 10","Акваріуми та акваріумні комплекти",5097.84,6627,{"$f":"'ProVET аква'!I$10","v":0},{"$f":"'ProVET аква'!J$10","v":0}]
[null,10400,"PR740557","Акваріум Природа овальний 120x40x50 см 220 л","Менше 10","Акваріуми та акваріумні комплекти",5877.33,7641,{"$f":"'ProVET аква'!I$11","v":0},{"$f":"'ProVET аква'!J$11","v":0}]
[null,8523,"PR740558_ord","Акваріум Природа овальний 150x50x60 см 400 л","Менше 10","Акваріуми та акваріумні комплекти",13286.19,17272,{"$f":"'ProVET аква'!I$12","v":0},{"$f":"'ProVET аква'!J$12","v":0}]
[null,1111112596,"PR740546","Акваріум Природа овальний 40x25x25 см 24 л","Менше 10","Акваріуми та акваріумні комплекти",972,1263.5999999999999,{"$f":"'ProVET аква'!I$13","v":0},{"$f":"'ProVET аква'!J$13","v":0}]
[null,1111113082,"PR740547","Акваріум Природа овальний 40x25x34 см 32 л","Менше 10","Акваріуми та акваріумні комплекти",1028.52,1337.06,{"$f":"'ProVET аква'!I$14","v":0},{"$f":"'ProVET аква'!J$14","v":0}]
[null,5884,"PR740549","Акваріум Природа овальний 50x30x30 см 40 л","Менше 10","Акваріуми та акваріумні комплекти",1183.5,1538.53,{"$f":"'ProVET аква'!I$15","v":0},{"$f":"'ProVET аква'!J$15","v":0}]
[null,10974,"PR740550","Акваріум Природа овальний 50x30x40 см 52 л","Менше 10","Акваріуми та акваріумні комплекти",1467,1907.04,{"$f":"'ProVET аква'!I$16","v":0},{"$f":"'ProVET аква'!J$16","v":0}]
[null,5885,"PR740551","Акваріум Природа овальний 60x30x30 см 54 л","Менше 10","Акваріуми та акваріумні комплекти",1421.16,1847.45,{"$f":"'ProVET аква'!I$17","v":0},{"$f":"'ProVET аква'!J$17","v":0}]
[null,10975,"PR740552","Акваріум Природа овальний 60x30x40 см 60 л","Менше 10","Акваріуми та акваріумні комплекти",1678.62,2182.1999999999998,{"$f":"'ProVET аква'!I$18","v":0},{"$f":"'ProVET аква'!J$18","v":0}]
[null,5886,"PR740554","Акваріум Природа овальний 80x35x40 см 100 л","Менше 10","Акваріуми та акваріумні комплекти",2823.66,3670.69,{"$f":"'ProVET аква'!I$19","v":0},{"$f":"'ProVET аква'!J$19","v":0}]
[null,10976,"PR740555","Акваріум Природа овальний 80x35x45 см 110 л","Менше 10","Акваріуми та акваріумні комплекти",3098.76,4028.36,{"$f":"'ProVET аква'!I$20","v":0},{"$f":"'ProVET аква'!J$20","v":0}]
[null,6970,"PR740570","Акваріум Природа прямий 100x40x50 см 200 л","Менше 10","Акваріуми та акваріумні комплекти",5049.4399999999996,6565,{"$f":"'ProVET аква'!I$21","v":0},{"$f":"'ProVET аква'!J$21","v":0}]
[null,1111133642,"PR740571_ord","Акваріум Природа прямий 100x40x60 см 235л","Менше 10","Акваріуми та акваріумні комплекти",6225.84,8094,{"$f":"'ProVET аква'!I$22","v":0},{"$f":"'ProVET аква'!J$22","v":0}]
[null,6969,"PR740572","Акваріум Природа прямий 120x40x50 см 240 л","Менше 10","Акваріуми та акваріумні комплекти",5843.44,7596,{"$f":"'ProVET аква'!I$23","v":0},{"$f":"'ProVET аква'!J$23","v":0}]
[null,7257,"PR740573_ord","Акваріум Природа прямий 150x50x60 см 450 л","Менше 10","Акваріуми та акваріумні комплекти",11466.64,14907,{"$f":"'ProVET аква'!I$24","v":0},{"$f":"'ProVET аква'!J$24","v":0}]
[null,4666,"PR740559","Акваріум Природа прямий 36x23x27 см 22 л","Менше 10","Акваріуми та акваріумні комплекти",635.65,826,{"$f":"'ProVET аква'!I$25","v":0},{"$f":"'ProVET аква'!J$25","v":0}]
[null,7859,"PR740560","Акваріум Природа прямий 40x25x34 см 34 л","Менше 10","Акваріуми та акваріумні комплекти",856.01,1113,{"$f":"'ProVET аква'!I$26","v":0},{"$f":"'ProVET аква'!J$26","v":0}]
[null,4649,"PR740562","Акваріум Природа прямий 50x30x36 см 54 л","Менше 10","Акваріуми та акваріумні комплекти",1048.79,1363,{"$f":"'ProVET аква'!I$27","v":0},{"$f":"'ProVET аква'!J$27","v":0}]
[null,6728,"PR740563","Акваріум Природа прямий 50x30x40 см 60 л","Менше 10","Акваріуми та акваріумні комплекти",1221.27,1588,{"$f":"'ProVET аква'!I$28","v":0},{"$f":"'ProVET аква'!J$28","v":0}]
[null,5560,"PR740564","Акваріум Природа прямий 60x30x36 см 65л","Менше 10","Акваріуми та акваріумні комплекти",1398.48,1818,{"$f":"'ProVET аква'!I$29","v":0},{"$f":"'ProVET аква'!J$29","v":0}]
[null,6727,"PR740565","Акваріум Природа прямий 60x30x42 см 72 л","Менше 10","Акваріуми та акваріумні комплекти",1642.75,2136,{"$f":"'ProVET аква'!I$30","v":0},{"$f":"'ProVET аква'!J$30","v":0}]
[null,4807,"PR740567","Акваріум Природа прямий 80x35x42 см 112 л","Менше 10","Акваріуми та акваріумні комплекти",2376.81,3089,{"$f":"'ProVET аква'!I$31","v":0},{"$f":"'ProVET аква'!J$31","v":0}]
[null,5206,"PR740568","Акваріум Природа прямий 80x35x50 см 140 л","Менше 10","Акваріуми та акваріумні комплекти",2844.25,3698,{"$f":"'ProVET аква'!I$32","v":0},{"$f":"'ProVET аква'!J$32","v":0}]
[null,1111133643,"PR740569","Акваріум Природа прямий 80x35x60 см 170 л","Менше 10","Акваріуми та акваріумні комплекти",4344.82,5648,{"$f":"'ProVET аква'!I$33","v":0},{"$f":"'ProVET аква'!J$33","v":0}]
[null,1111160197,"PR241673","Акваріумний комплект Природа Міні-куб 22х22х22 см 9,5л","Менше 10","Акваріуми та акваріумні комплекти",2070,2691,{"$f":"'ProVET аква'!I$34","v":0},{"$f":"'ProVET аква'!J$34","v":0}]
[null,1111160537,"PR241735","Акваріумний комплект Природа Неон Led овальний 40x25x34 см 32 л","Більше 10","Акваріуми та акваріумні комплекти",2310.12,3003.1,{"$f":"'ProVET аква'!I$35","v":0},{"$f":"'ProVET аква'!J$35","v":0}]
[null,1111160539,"PR241733","Акваріумний комплект Природа Неон Led овальний 50x30x40 см 52 л","Менше 10","Акваріуми та акваріумні комплекти",2980.14,3874.19,{"$f":"'ProVET аква'!I$36","v":0},{"$f":"'ProVET аква'!J$36","v":0}]
[null,1111160541,"PR241731","Акваріумний комплект Природа Неон Led овальний 60х30х40 см 62 л","Менше 10","Акваріуми та акваріумні комплекти",3075.3,3997.87,{"$f":"'ProVET аква'!I$37","v":0},{"$f":"'ProVET аква'!J$37","v":0}]
[null,1111160538,"PR241734","Акваріумний комплект Природа Неон Led прямий 40х25х34 см 34 л","Менше 10","Акваріуми та акваріумні комплекти",2170.1999999999998,2821.23,{"$f":"'ProVET аква'!I$38","v":0},{"$f":"'ProVET аква'!J$38","v":0}]
[null,1111160540,"PR241732","Акваріумний комплект Природа Неон Led прямий 50х30х36 см 54 л","Менше 10","Акваріуми та акваріумні комплекти",2634.48,3424.78,{"$f":"'ProVET аква'!I$39","v":0},{"$f":"'ProVET аква'!J$39","v":0}]
[null,1111160542,"PR241730","Акваріумний комплект Природа Неон Led прямий 60x30x42 см 72 л","Менше 10","Акваріуми та акваріумні комплекти",3299.76,4289.66,{"$f":"'ProVET аква'!I$40","v":0},{"$f":"'ProVET аква'!J$40","v":0}]
[null,1111160543,"PR241729","Акваріумний комплект Природа Скалярія Led овальний 40х25х34 см 32 л","Менше 10","Акваріуми та акваріумні комплекти",2764.32,3593.62,{"$f":"'ProVET аква'!I$41","v":0},{"$f":"'ProVET аква'!J$41","v":0}]
[null,1111160545,"PR241727","Акваріумний комплект Природа Скалярія Led овальний 50х40х30 см 52 л","Менше 10","Акваріуми та акваріумні комплекти",3413.76,4437.83,{"$f":"'ProVET аква'!I$42","v":0},{"$f":"'ProVET аква'!J$42","v":0}]
[null,1111160544,"PR241728","Акваріумний комплект Природа Скалярія Led прямий 40х25х34 см 34 л","Менше 10","Акваріуми та акваріумні комплекти",2524.14,3281.36,{"$f":"'ProVET аква'!I$43","v":0},{"$f":"'ProVET аква'!J$43","v":0}]
[null,1111160546,"PR241726","Акваріумний комплект Природа Скалярія Led прямий 50x30x36 см 54 л","Менше 10","Акваріуми та акваріумні комплекти",2921.88,3798.38,{"$f":"'ProVET аква'!I$44","v":0},{"$f":"'ProVET аква'!J$44","v":0}]
[null,1111160547,"PR241725","Акваріумний набір Природа Скалярія Led овальний 60x30x40 см 62 л","Менше 10","Акваріуми та акваріумні комплекти",3548.34,4612.8100000000004,{"$f":"'ProVET аква'!I$45","v":0},{"$f":"'ProVET аква'!J$45","v":0}]
[null,1111162260,"PR241955_ord","Кришка-світильник Природа Led Light для акваріума кутова 57х57 см","Менше 10","Кришки для акваріума",1814.4,2358.7199999999998,{"$f":"'ProVET аква'!I$46","v":0},{"$f":"'ProVET аква'!J$46","v":0}]
[null,1111162475,"PR241958","Кришка-світильник Природа Led Light для акваріума кутова 70х70 см","Менше 10","Кришки для акваріума",1860.72,2418.91,{"$f":"'ProVET аква'!I$47","v":0},{"$f":"'ProVET аква'!J$47","v":0}]
[null,1111162963,"PR242007_ord","Кришка-світильник Природа Led Light для акваріума кутова 89х89 см","Менше 10","Кришки для акваріума",2175,2827.5,{"$f":"'ProVET аква'!I$48","v":0},{"$f":"'ProVET аква'!J$48","v":0}]
[null,1111159078,"PR241460","Кришка-світильник Природа Led Light для акваріума овальна 100х40 см","Менше 10","Кришки для акваріума",2793.78,3632.16,{"$f":"'ProVET аква'!I$49","v":0},{"$f":"'ProVET аква'!J$49","v":0}]
[null,1111159080,"PR241458","Кришка-світильник Природа Led Light для акваріума овальна 120x40 см","Менше 10","Кришки для акваріума",2895.06,3763.2,{"$f":"'ProVET аква'!I$50","v":0},{"$f":"'ProVET аква'!J$50","v":0}]
[null,1111159082,"PR241456","Кришка-світильник Природа Led Light для акваріума овальна 150x50 см","Менше 10","Кришки для акваріума",3755.04,4880.96,{"$f":"'ProVET аква'!I$51","v":0},{"$f":"'ProVET аква'!J$51","v":0}]
[null,1111162200,"PR241939","Кришка-світильник Природа Led Light для акваріума овальна 40х25 см","Менше 10","Кришки для акваріума",907.2,1181.5999999999999,{"$f":"'ProVET аква'!I$52","v":0},{"$f":"'ProVET аква'!J$52","v":0}]
[null,1111163638,"PR241937","Кришка-світильник Природа Led Light для акваріума овальна 50х30 см","Менше 10","Кришки для акваріума",1125.5999999999999,1463.84,{"$f":"'ProVET аква'!I$53","v":0},{"$f":"'ProVET аква'!J$53","v":0}]
[null,1111162326,"PR241935","Кришка-світильник Природа Led Light для акваріума овальна 60х30 см","Менше 10","Кришки для акваріума",1416.6,1841.28,{"$f":"'ProVET аква'!I$54","v":0},{"$f":"'ProVET аква'!J$54","v":0}]
[null,1111164462,"PR241933","Кришка-світильник Природа Led Light для акваріума овальна 80х35 см","Менше 10","Кришки для акваріума",1959.6,2546.88,{"$f":"'ProVET аква'!I$55","v":0},{"$f":"'ProVET аква'!J$55","v":0}]
[null,1111159077,"PR241461","Кришка-світильник Природа Led Light для акваріума пряма 100x40 см","Менше 10","Кришки для акваріума",2794.44,3632.16,{"$f":"'ProVET аква'!I$56","v":0},{"$f":"'ProVET аква'!J$56","v":0}]
[null,1111159079,"PR241459","Кришка-світильник Природа Led Light для акваріума пряма 120x40 см","Менше 10","Кришки для акваріума",2895.24,3764.32,{"$f":"'ProVET аква'!I$57","v":0},{"$f":"'ProVET аква'!J$57","v":0}]
[null,1111159081,"PR241457","Кришка-світильник Природа Led Light для акваріума пряма 150x50 см","Менше 10","Кришки для акваріума",3754.8,4880.96,{"$f":"'ProVET аква'!I$58","v":0},{"$f":"'ProVET аква'!J$58","v":0}]
[null,1111162199,"PR241940","Кришка-світильник Природа Led Light для акваріума пряма 40х25 см","Менше 10","Кришки для акваріума",907.2,1180.48,{"$f":"'ProVET аква'!I$59","v":0},{"$f":"'ProVET аква'!J$59","v":0}]
[null,1111163637,"PR241938","Кришка-світильник Природа Led Light для акваріума пряма 50х30 см","Менше 10","Кришки для акваріума",1125.5999999999999,1463.84,{"$f":"'ProVET аква'!I$60","v":0},{"$f":"'ProVET аква'!J$60","v":0}]
[null,1111162325,"PR241936","Кришка-світильник Природа Led Light для акваріума пряма 60х30 см","Менше 10","Кришки для акваріума",1416.6,1841.28,{"$f":"'ProVET аква'!I$61","v":0},{"$f":"'ProVET аква'!J$61","v":0}]
[null,1111164461,"PR241934","Кришка-світильник Природа Led Light для акваріума пряма 80х35 см","Менше 10","Кришки для акваріума",1959.6,2546.88,{"$f":"'ProVET аква'!I$62","v":0},{"$f":"'ProVET аква'!J$62","v":0}]
[null,1111113909,"PR740687","Кришка-світильник Природа для акваріума кругла 21,5 см","Менше 10","Кришки для акваріума",459,596.16,{"$f":"'ProVET аква'!I$63","v":0},{"$f":"'ProVET аква'!J$63","v":0}]
[null,1111113166,"PR740677","Кришка-світильник Природа для акваріума овальна 40х25 см","Менше 10","Кришки для акваріума",510.6,664.2,{"$f":"'ProVET аква'!I$64","v":0},{"$f":"'ProVET аква'!J$64","v":0}]
[null,1111135983,"PR740685","Кришка-світильник Природа для акваріума овальна 60х30 см","Менше 10","Кришки для акваріума",803.34,1044.3599999999999,{"$f":"'ProVET аква'!I$65","v":0},{"$f":"'ProVET аква'!J$65","v":0}]
[null,1111111519,"PR740681","Кришка-світильник Природа для акваріума пряма 40х25 см","Менше 10","Кришки для акваріума",510.6,664.2,{"$f":"'ProVET аква'!I$66","v":0},{"$f":"'ProVET аква'!J$66","v":0}]
[null,1111136683,"PR740686","Кришка-світильник Природа для акваріума пряма 60х30 см","Менше 10","Кришки для акваріума",803.34,1044.3599999999999,{"$f":"'ProVET аква'!I$67","v":0},{"$f":"'ProVET аква'!J$67","v":0}]
[null,1111113632,"PR740626_ord","Піддон під акваріум Природа овальний 150x50х3 см","Менше 10","Підставки та піддони",1400.64,1821.12,{"$f":"'ProVET аква'!I$68","v":0},{"$f":"'ProVET аква'!J$68","v":0}]
[null,1111113627,"PR740615","Піддон під акваріум Природа прямий 100x40х2,9 см","Менше 10","Підставки та піддони",826.38,1074.08,{"$f":"'ProVET аква'!I$69","v":0},{"$f":"'ProVET аква'!J$69","v":0}]
[null,1111114513,"PR740632_ord","Піддон Природа під акваріум кутовий 57x57х2,2 см","Менше 10","Підставки та піддони",595.86,774.59,{"$f":"'ProVET аква'!I$70","v":0},{"$f":"'ProVET аква'!J$70","v":0}]
[null,1111114514,"PR740635","Піддон Природа під акваріум кутовий 70x70х2,5 см","Менше 10","Підставки та піддони",703.8,914.94,{"$f":"'ProVET аква'!I$71","v":0},{"$f":"'ProVET аква'!J$71","v":0}]
[null,1111113628,"PR740609","Піддон Природа під акваріум овальний 100x40х2,9 см","Менше 10","Підставки та піддони",826.38,1074.08,{"$f":"'ProVET аква'!I$72","v":0},{"$f":"'ProVET аква'!J$72","v":0}]
[null,1111113630,"PR740620","Піддон Природа під акваріум овальний 120x40х2,7 см","Менше 10","Підставки та піддони",950.52,1235.3599999999999,{"$f":"'ProVET аква'!I$73","v":0},{"$f":"'ProVET аква'!J$73","v":0}]
[null,1111163640,"PR242070","Піддон Природа під акваріум овальний 50х30 см","Менше 10","Підставки та піддони",222.54,289.8,{"$f":"'ProVET аква'!I$74","v":0},{"$f":"'ProVET аква'!J$74","v":0}]
[null,1111162620,"PR241959","Піддон Природа під акваріум овальний 60×30 см","Менше 10","Підставки та піддони",234.6,304.75,{"$f":"'ProVET аква'!I$75","v":0},{"$f":"'ProVET аква'!J$75","v":0}]
[null,1111113626,"PR740529","Піддон Природа під акваріум овальний 80x35х2,8 см","Менше 10","Підставки та піддони",417.48,542.69000000000005,{"$f":"'ProVET аква'!I$76","v":0},{"$f":"'ProVET аква'!J$76","v":0}]
[null,1111162202,"PR241941","Піддон Природа під акваріум овальний новий 40х25 см","Менше 10","Підставки та піддони",159.54,207.35,{"$f":"'ProVET аква'!I$77","v":0},{"$f":"'ProVET аква'!J$77","v":0}]
[null,1111113629,"PR740623","Піддон Природа під акваріум прямий 120x40х2,7 см","Менше 10","Підставки та піддони",950.52,1235.3599999999999,{"$f":"'ProVET аква'!I$78","v":0},{"$f":"'ProVET аква'!J$78","v":0}]
[null,1111113631,"PR740629_ord","Піддон Природа під акваріум прямий 150x50х3 см","Менше 10","Підставки та піддони",1400.64,1821.12,{"$f":"'ProVET аква'!I$79","v":0},{"$f":"'ProVET аква'!J$79","v":0}]
[null,1111163639,"PR242071","Піддон Природа під акваріум прямий 50х30х2,5 см","Менше 10","Підставки та піддони",222.54,289.8,{"$f":"'ProVET аква'!I$80","v":0},{"$f":"'ProVET аква'!J$80","v":0}]
[null,1111162619,"PR241960","Піддон Природа під акваріум прямий 60х30х2,5 см","Менше 10","Підставки та піддони",234.6,304.75,{"$f":"'ProVET аква'!I$81","v":0},{"$f":"'ProVET аква'!J$81","v":0}]
[null,1111113625,"PR740535","Піддон Природа під акваріум прямий 80x35х2,8 см","Менше 10","Підставки та піддони",417.48,542.69000000000005,{"$f":"'ProVET аква'!I$82","v":0},{"$f":"'ProVET аква'!J$82","v":0}]
[null,1111162201,"PR241942","Піддон Природа під акваріум прямий новий 40х25 см","Менше 10","Підставки та піддони",159.54,207.35,{"$f":"'ProVET аква'!I$83","v":0},{"$f":"'ProVET аква'!J$83","v":0}]
[null,10111,"PR740602_ord","Тераріум Природа для рептилій плазунів та комах скляний 60x35x40 см","Менше 10","Тераріуми",4715.04,6129.5,{"$f":"'ProVET аква'!I$84","v":0},{"$f":"'ProVET аква'!J$84","v":0}]
[null,1111126466,"PR740445","Туалет для собак великий 55x57 см","Менше 10","Туалети для собак",685.74,891,{"$f":"'ProVET аква'!I$85","v":0},{"$f":"'ProVET аква'!J$85","v":0}]
[null,1111125064,"PR740446","Туалет для собак малий 40х55 см","Менше 10","Туалети для собак",542.16,704.55,{"$f":"'ProVET аква'!I$86","v":0},{"$f":"'ProVET аква'!J$86","v":0}]
[null,6627,"PR740200","Шампунь Барсік для котів репелентний від бліх та кліщів 15мл","Більше 10","Догляд та гігієна для котів",7.62,14,{"$f":"'ProVET економ'!I$8","v":0},{"$f":"'ProVET економ'!J$8","v":0}]
[null,7757,"PR740199","Шампунь Барсік для котів репелентний від бліх та кліщів 250мл","Більше 10","Догляд та гігієна для котів",42.12,58.97,{"$f":"'ProVET економ'!I$9","v":0},{"$f":"'ProVET економ'!J$9","v":0}]
[null,4849,"PR740206","Шампунь Джессі для довгошерстих собак репелентний 15мл","Більше 10","Догляд та гігієна для собак",7.62,14,{"$f":"'ProVET економ'!I$10","v":0},{"$f":"'ProVET економ'!J$10","v":0}]
[null,7751,"PR740205","Шампунь Джессі для довгошерстих собак репелентний 250мл","Більше 100","Догляд та гігієна для собак",42.12,58.97,{"$f":"'ProVET економ'!I$11","v":0},{"$f":"'ProVET економ'!J$11","v":0}]
[null,7752,"PR740208","Шампунь Лорд для собак від бліх та кліщів репелентний 250мл","Більше 100","Догляд та гігієна для собак",42.12,58.97,{"$f":"'ProVET економ'!I$12","v":0},{"$f":"'ProVET економ'!J$12","v":0}]
[null,1111157177,"PR241272","Шампунь Люкс д/короткошерст/котів/собак гігієніч репелент 240мл","Більше 100","Догляд та гігієна для собак",56.1,78.48,{"$f":"'ProVET економ'!I$13","v":0},{"$f":"'ProVET економ'!J$13","v":0}]
[null,6539,"PR740213","Шампунь Люкс д/котів та собак гігієнічний репелентної дії 15мл","Більше 100","Догляд та гігієна для собак",10.92,15.29,{"$f":"'ProVET економ'!I$14","v":0},{"$f":"'ProVET економ'!J$14","v":0}]
[null,1111157176,"PR241271","Шампунь Люкс д/котів та собак гігієнічний репелентної дії 240мл","Більше 10","Догляд та гігієна для собак",56.1,78.48,{"$f":"'ProVET економ'!I$15","v":0},{"$f":"'ProVET економ'!J$15","v":0}]
[null,1111157178,"PR241273","Шампунь Люкс д/котів/собак профілактика дерматолог/ефект 240мл","Більше 100","Догляд та гігієна для собак",57.6,80.59,{"$f":"'ProVET економ'!I$16","v":0},{"$f":"'ProVET економ'!J$16","v":0}]
[null,6537,"PR740215","Шампунь Люкс для кошенят та цуценят гігієнічний репелент 15мл","Більше 100","Догляд та гігієна для собак",10.92,15.29,{"$f":"'ProVET економ'!I$17","v":0},{"$f":"'ProVET економ'!J$17","v":0}]
[null,1111157179,"PR241274","Шампунь Люкс для кошенят та цуценят гігієнічний репелент 240мл","Більше 100","Догляд та гігієна для собак",56.1,78.48,{"$f":"'ProVET економ'!I$18","v":0},{"$f":"'ProVET економ'!J$18","v":0}]
[null,4851,"PR740203","Шампунь Мурзик для короткошерстих котів репелентний 15мл","Більше 10","Догляд та гігієна для котів",7.62,14,{"$f":"'ProVET економ'!I$19","v":0},{"$f":"'ProVET економ'!J$19","v":0}]
[null,7756,"PR740202","Шампунь Мурзик для короткошерстих котів репелентний 250мл","Більше 10","Догляд та гігієна для котів",42.12,58.97,{"$f":"'ProVET економ'!I$20","v":0},{"$f":"'ProVET економ'!J$20","v":0}]
[null,7753,"PR740193","Шампунь Принц для короткошерстих собак репелентний 250мл","Більше 10","Догляд та гігієна для собак",42.12,58.97,{"$f":"'ProVET економ'!I$21","v":0},{"$f":"'ProVET економ'!J$21","v":0}]
[null,4853,"PR740191","Шампунь Пупсі для кошенят репелентний 15мл","Більше 10","Догляд та гігієна для котів",7.62,14,{"$f":"'ProVET економ'!I$22","v":0},{"$f":"'ProVET економ'!J$22","v":0}]
[null,7754,"PR740190","Шампунь Пупсі для цуценят та кошенят репелентний 250мл","Більше 100","Догляд та гігієна для собак",42.12,58.97,{"$f":"'ProVET економ'!I$23","v":0},{"$f":"'ProVET економ'!J$23","v":0}]
[null,4850,"PR740197","Шампунь Пушок для довгошерстих котів репелентний 15мл","Більше 100","Догляд та гігієна для котів",7.62,14,{"$f":"'ProVET економ'!I$24","v":0},{"$f":"'ProVET економ'!J$24","v":0}]
[null,7755,"PR740196","Шампунь Пушок для довгошерстих котів репелентний 250мл","Більше 100","Догляд та гігієна для котів",42.12,58.97,{"$f":"'ProVET економ'!I$25","v":0},{"$f":"'ProVET економ'!J$25","v":0}]
[null,1111157181,"PR241276","Шампунь-кондиціонер Люкс для довгошерстих котів 240мл","Більше 10","Догляд та гігієна для котів",55.92,78.28,{"$f":"'ProVET економ'!I$26","v":0},{"$f":"'ProVET економ'!J$26","v":0}]
[null,1111157180,"PR241275","Шампунь-кондиціонер Люкс для довгошерстих собак 240мл","Більше 100","Догляд та гігієна для собак",55.92,78.28,{"$f":"'ProVET економ'!I$27","v":0},{"$f":"'ProVET економ'!J$27","v":0}]
[null,1111203418,"PR240561","БЕЗ ТЕРМ. НЕТОВ.В. Спрей PROVET Sani Pet для собак для захисту від гри","Менше 10","Корекція поведінки для собак",65.88,0,{"$f":"SaniPet!I$8","v":0},{"$f":"SaniPet!J$8","v":0}]
[null,1111140374,"PR020062*****","Гель Provet SANIPET для котів та собак для ротової порожнини 15мл","Більше 100","Догляд та гігієна для котів",44.16,62,{"$f":"SaniPet!I$9","v":0},{"$f":"SaniPet!J$9","v":0}]
[null,1111172229,"PR242911","Засіб Provet SANIPET д/догл за вухами котів/собак лосьйон-спрей 300мл","Більше 10","Догляд та гігієна для собак",159.30000000000001,223,{"$f":"SaniPet!I$10","v":0},{"$f":"SaniPet!J$10","v":0}]
[null,1111140373,"PR020059","Лосьон Provet SANIPET спрей д/котів/собак для догляду за вухами 30мл","Більше 100","Догляд та гігієна для котів",76.08,107,{"$f":"SaniPet!I$11","v":0},{"$f":"SaniPet!J$11","v":0}]
[null,1111148421,"PR240566","Спрей Provet SANIPET д/собак для захисту місць не для туалету 250мл","Більше 100","Корекція поведінки для собак",131.69999999999999,184,{"$f":"SaniPet!I$12","v":0},{"$f":"SaniPet!J$12","v":0}]
[null,1111140430,"PR240564","Спрей Provet SANIPET для котів для захисту від дряпання 250мл","Більше 10","Корекція поведінки для котів",131.69999999999999,184,{"$f":"SaniPet!I$13","v":0},{"$f":"SaniPet!J$13","v":0}]
[null,1111140431,"PR240561","Спрей Provet SANIPET для собак для захисту від гризіння 250мл","Більше 10","Корекція поведінки для собак",131.69999999999999,184,{"$f":"SaniPet!I$14","v":0},{"$f":"SaniPet!J$14","v":0}]
[null,1111140432,"PR240563","Спрей Provet SANIPET для собак для привчання до туалету 250мл","Більше 10","Корекція поведінки для собак",131.69999999999999,184,{"$f":"SaniPet!I$15","v":0},{"$f":"SaniPet!J$15","v":0}]
[null,1111206542,"PR240566","ТЕРМ 03.28 НТВ Спрей Provet SANIPET соб захист/місц/не.д/туалету 250мл","Менше 10","Корекція поведінки для собак",65.88,0,{"$f":"SaniPet!I$16","v":0},{"$f":"SaniPet!J$16","v":0}]
[null,1111201694,"PR240562","ТЕРМ.12.27.ЗЛОМ.ДОЗ.Спрей PROVET Sani Pet для котів для привчання до т","Менше 10","Корекція поведінки для котів",65.88,0,{"$f":"SaniPet!I$17","v":0},{"$f":"SaniPet!J$17","v":0}]
[null,1111162988,30181,"Savory Adult All Breeds Fresh Duck and Rabbit д/соб качкf/кролик 12кг","Більше 100","Корм сухий для собак",3282.3,4267,{"$f":"Savory!I$8","v":0},{"$f":"Savory!J$8","v":0}]
[null,1111162986,30167,"Savory Adult All Breeds Fresh Duck and Rabbit д/соб качка/кролик 1кг","Більше 100","Корм сухий для собак",416.22,541,{"$f":"Savory!I$9","v":0},{"$f":"Savory!J$9","v":0}]
[null,1111162987,30174,"Savory Adult All Breeds Fresh Duck and Rabbit д/соб качка/кролик 3кг","Більше 10","Корм сухий для собак",1028.1600000000001,1337,{"$f":"Savory!I$10","v":0},{"$f":"Savory!J$10","v":0}]
[null,1111162995,30020,"Savory Adult Cat Fresh Salmon WhiteFish д/довгошер кот лосось/риба 2кг","Більше 100","Корм сухий для котів",864.18,1124,{"$f":"Savory!I$11","v":0},{"$f":"Savory!J$11","v":0}]
[null,1111162998,30051,"Savory Adult Cat Fresh Turkey and Duck д/котів індичка/качка 2кг","Більше 100","Корм сухий для котів",882.36,1147,{"$f":"Savory!I$12","v":0},{"$f":"Savory!J$12","v":0}]
[null,1111162999,30068,"Savory Adult Cat Fresh Turkey and Duck д/котів індичка/качка 8кг","Більше 100","Корм сухий для котів",3183.12,4138,{"$f":"Savory!I$13","v":0},{"$f":"Savory!J$13","v":0}]
[null,1111162997,30044,"Savory Adult Cat Gourmand Fresh Turkey/Duck д/кот індичка/качка 400г","Більше 100","Корм сухий для котів",233.58,303,{"$f":"Savory!I$14","v":0},{"$f":"Savory!J$14","v":0}]
[null,1111162994,30013,"Savory Adult Cat Gourmand FreshSalmonWhiteFish д/кот лосось/риба 400г","Більше 100","Корм сухий для котів",222.48,290,{"$f":"Savory!I$15","v":0},{"$f":"Savory!J$15","v":0}]
[null,1111163005,30129,"Savory Adult Cat Steril Fresh Lamb Chicken д/стерил кот ягня/курка 8кг","Більше 100","Корм сухий для котів",2999.16,3899,{"$f":"Savory!I$16","v":0},{"$f":"Savory!J$16","v":0}]
[null,1111163004,30112,"Savory Adult Cat Steril FreshLamb/Chicken д/стерил кот ягня/курка 2кг","Більше 100","Корм сухий для котів",839.64,1092,{"$f":"Savory!I$17","v":0},{"$f":"Savory!J$17","v":0}]
[null,1111163003,30105,"Savory Adult Cat Steril FreshLamb/Chicken д/стерил кот ягня/курка 400г","Більше 100","Корм сухий для котів",221.34,288,{"$f":"Savory!I$18","v":0},{"$f":"Savory!J$18","v":0}]
[null,1111171568,31515,"Savory All Breed Sterilised Fresh Turkey д/стерил соб індичка 12кг","Більше 100","Корм сухий для собак",2681.7,3486,{"$f":"Savory!I$19","v":0},{"$f":"Savory!J$19","v":0}]
[null,1111171566,31492,"Savory All Breed Sterilised Fresh Turkey д/стерил собак індичка 1кг","Більше 100","Корм сухий для собак",338.46,440,{"$f":"Savory!I$20","v":0},{"$f":"Savory!J$20","v":0}]
[null,1111171567,31508,"Savory All Breed Sterilised Fresh Turkey д/стерил собак індичка 3кг","Більше 100","Корм сухий для собак",858.12,1112,{"$f":"Savory!I$21","v":0},{"$f":"Savory!J$21","v":0}]
[null,1111168073,31324,"Savory AntiParasitic Tuna/Garlic ласощі д/собак антипараз тунець 200г","Більше 100","Ласощі для собак",154.44,208,{"$f":"Savory!I$22","v":0},{"$f":"Savory!J$22","v":0}]
[null,1111165070,30600,"Savory Cat Can Adult Duck консерви д/котів з качкою 100г","Немає в наявності","Корм вологий для котів",43.26,56,{"$f":"Savory!I$23","v":0},{"$f":"Savory!J$23","v":0}]
[null,1111165071,30617,"Savory Cat Can Adult Duck консерви д/котів з качкою 200г","Більше 100","Корм вологий для котів",78.84,103,{"$f":"Savory!I$24","v":0},{"$f":"Savory!J$24","v":0}]
[null,1111165069,30655,"Savory Cat Can Adult Fish консерви д/кот з рибою 400г","Більше 100","Корм вологий для котів",123.06,161,{"$f":"Savory!I$25","v":0},{"$f":"Savory!J$25","v":0}]
[null,1111165067,30631,"Savory Cat Can Adult Fish консерви д/котів з рибою 100г","Більше 100","Корм вологий для котів",43.26,56,{"$f":"Savory!I$26","v":0},{"$f":"Savory!J$26","v":0}]
[null,1111165068,30648,"Savory Cat Can Adult Fish консерви д/котів з рибою 200г","Більше 100","Корм вологий для котів",78.84,103,{"$f":"Savory!I$27","v":0},{"$f":"Savory!J$27","v":0}]
[null,1111165066,30761,"Savory Cat Can Adult Sterilised д/стерилізованих котів з куркою 400г","Більше 100","Корм вологий для котів",123.06,161,{"$f":"Savory!I$28","v":0},{"$f":"Savory!J$28","v":0}]
[null,1111165064,30747,"Savory Cat Can Adult Sterilised консерви д/стерил кот курка 100г","Немає в наявності","Корм вологий для котів",43.26,56,{"$f":"Savory!I$29","v":0},{"$f":"Savory!J$29","v":0}]
[null,1111165065,30754,"Savory Cat Can Adult Sterilised консерви д/стерил кот курка 200г","Більше 100","Корм вологий для котів",78.84,103,{"$f":"Savory!I$30","v":0},{"$f":"Savory!J$30","v":0}]
[null,1111165061,30716,"Savory Cat Can Adult Sterilised консерви д/стерил котів з ягням 100г","Немає в наявності","Корм вологий для котів",43.26,56,{"$f":"Savory!I$31","v":0},{"$f":"Savory!J$31","v":0}]
[null,1111165062,30723,"Savory Cat Can Adult Sterilised консерви д/стерил котів з ягням 200г","Немає в наявності","Корм вологий для котів",78.84,103,{"$f":"Savory!I$32","v":0},{"$f":"Savory!J$32","v":0}]
[null,1111165063,30730,"Savory Cat Can Adult Sterilised консерви д/стерил котів з ягням 400г","Немає в наявності","Корм вологий для котів",123.06,161,{"$f":"Savory!I$33","v":0},{"$f":"Savory!J$33","v":0}]
[null,1111171667,20123,"Savory Cat Pouch Lamb Beetroot шматки в соусі д/дор/кот ягня/буряк 85г","Більше 100","Корм вологий для котів",35.82,48,{"$f":"Savory!I$34","v":0},{"$f":"Savory!J$34","v":0}]
[null,1111171663,20086,"Savory Cat Pouch Lamb Pumpkin шматки в желе д/кошенят ягня/гарбуз 85г","Більше 100","Корм вологий для котів",35.82,48,{"$f":"Savory!I$35","v":0},{"$f":"Savory!J$35","v":0}]
[null,1111171662,20079,"Savory Cat Pouch Salmon Carrot шматки в соусі д/кошен лосос/морква 85г","Більше 100","Корм вологий для котів",35.82,48,{"$f":"Savory!I$36","v":0},{"$f":"Savory!J$36","v":0}]
[null,1111171666,20116,"Savory Cat Pouch Salmon Peas шматки в соусі д/дор/кот лосос/горош 85г","Більше 100","Корм вологий для котів",35.82,48,{"$f":"Savory!I$37","v":0},{"$f":"Savory!J$37","v":0}]
[null,1111171665,20109,"Savory Cat Pouch Turkey Carrot шматки в желе д/стер/котів індичка 85г","Немає в наявності","Корм вологий для котів",35.82,48,{"$f":"Savory!I$38","v":0},{"$f":"Savory!J$38","v":0}]
[null,1111168075,31348,"Savory Digestion Lamb/Chamomile ласощі д/собак чут/травлен ягня 200г","Більше 100","Ласощі для собак",154.44,208,{"$f":"Savory!I$39","v":0},{"$f":"Savory!J$39","v":0}]
[null,1111165043,30372,"Savory Dog Gourmand 4 meats консерви д/собак всіх порід 4 м_яса 100г","Більше 100","Корм вологий для собак",43.26,56,{"$f":"Savory!I$40","v":0},{"$f":"Savory!J$40","v":0}]
[null,1111165044,30389,"Savory Dog Gourmand 4 meats консерви д/собак всіх порід 4 м_яса 200г","Більше 100","Корм вологий для собак",78.84,103,{"$f":"Savory!I$41","v":0},{"$f":"Savory!J$41","v":0}]
[null,1111165045,30396,"Savory Dog Gourmand 4 meats консерви д/собак всіх порід 4 м_яса 400г","Більше 100","Корм вологий для собак",123.06,161,{"$f":"Savory!I$42","v":0},{"$f":"Savory!J$42","v":0}]
[null,1111165047,30419,"Savory Dog Gourmand Beef консерви для собак всіх порід яловичина 100г","Більше 100","Корм вологий для собак",43.26,56,{"$f":"Savory!I$43","v":0},{"$f":"Savory!J$43","v":0}]
[null,1111165048,30426,"Savory Dog Gourmand Beef консерви для собак всіх порід яловичина 200г","Більше 100","Корм вологий для собак",78.84,103,{"$f":"Savory!I$44","v":0},{"$f":"Savory!J$44","v":0}]
[null,1111165049,30433,"Savory Dog Gourmand Beef консерви для собак всіх порід яловичина 400г","Більше 100","Корм вологий для собак",123.06,161,{"$f":"Savory!I$45","v":0},{"$f":"Savory!J$45","v":0}]
[null,1111165050,30440,"Savory Dog Gourmand Beef консерви для собак всіх порід яловичина 800г","Більше 100","Корм вологий для собак",182.16,237,{"$f":"Savory!I$46","v":0},{"$f":"Savory!J$46","v":0}]
[null,1111165039,30457,"Savory Dog Gourmand Duck консерви для собак всіх порід качка 100г","Більше 100","Корм вологий для собак",43.26,56,{"$f":"Savory!I$47","v":0},{"$f":"Savory!J$47","v":0}]
[null,1111165040,30464,"Savory Dog Gourmand Duck консерви для собак всіх порід качка 200г","Більше 100","Корм вологий для собак",78.84,103,{"$f":"Savory!I$48","v":0},{"$f":"Savory!J$48","v":0}]
[null,1111165041,30471,"Savory Dog Gourmand Duck консерви для собак всіх порід качка 400г","Більше 100","Корм вологий для собак",123.06,161,{"$f":"Savory!I$49","v":0},{"$f":"Savory!J$49","v":0}]
[null,1111165042,30488,"Savory Dog Gourmand Duck консерви для собак всіх порід качка 800г","Більше 100","Корм вологий для собак",182.16,237,{"$f":"Savory!I$50","v":0},{"$f":"Savory!J$50","v":0}]
[null,1111165051,30495,"Savory Dog Gourmand Turkey консерви для собак всіх порід індичка 100г","Більше 100","Корм вологий для собак",43.26,56,{"$f":"Savory!I$51","v":0},{"$f":"Savory!J$51","v":0}]
[null,1111165052,30501,"Savory Dog Gourmand Turkey консерви для собак всіх порід індичка 200г","Більше 100","Корм вологий для собак",78.84,103,{"$f":"Savory!I$52","v":0},{"$f":"Savory!J$52","v":0}]
[null,1111165053,30518,"Savory Dog Gourmand Turkey консерви для собак всіх порід індичка 400г","Більше 100","Корм вологий для собак",123.06,161,{"$f":"Savory!I$53","v":0},{"$f":"Savory!J$53","v":0}]
[null,1111165054,30525,"Savory Dog Gourmand Turkey консерви для собак всіх порід індичка 800г","Більше 100","Корм вологий для собак",182.16,237,{"$f":"Savory!I$54","v":0},{"$f":"Savory!J$54","v":0}]
[null,1111165033,30563,"Savory Dog Puppy Chicken Rabbit консерви д/цуцен всі/порід кролик 100г","Більше 100","Корм вологий для собак",43.26,56,{"$f":"Savory!I$55","v":0},{"$f":"Savory!J$55","v":0}]
[null,1111165034,30570,"Savory Dog Puppy Chicken Rabbit консерви д/цуцен всі/порід кролик 200г","Більше 100","Корм вологий для собак",78.84,103,{"$f":"Savory!I$56","v":0},{"$f":"Savory!J$56","v":0}]
[null,1111165035,30587,"Savory Dog Puppy Chicken Rabbit консерви д/цуцен всі/порід кролик 400г","Більше 100","Корм вологий для собак",123.06,161,{"$f":"Savory!I$57","v":0},{"$f":"Savory!J$57","v":0}]
[null,1111165036,30532,"Savory Dog Puppy Chicken консерви для цуценят всіх порід курка 100г","Більше 100","Корм вологий для собак",43.26,56,{"$f":"Savory!I$58","v":0},{"$f":"Savory!J$58","v":0}]
[null,1111165037,30549,"Savory Dog Puppy Chicken консерви для цуценят всіх порід курка 200г","Більше 100","Корм вологий для собак",78.84,103,{"$f":"Savory!I$59","v":0},{"$f":"Savory!J$59","v":0}]
[null,1111165038,30556,"Savory Dog Puppy Chicken консерви для цуценят всіх порід курка 400г","Більше 100","Корм вологий для собак",123.06,161,{"$f":"Savory!I$60","v":0},{"$f":"Savory!J$60","v":0}]
[null,1111163008,30150,"Savory Fresh Turkey Chicken д/кошенят всіх порід індич/курка 8кг","Більше 100","Корм сухий для котів",2823.12,3670,{"$f":"Savory!I$61","v":0},{"$f":"Savory!J$61","v":0}]
[null,1111168074,"31331 Savory","Savory Immunity Duck/Rosehip ласощі д/собак міц/імунітет качка 200г","Більше 100","Ласощі для собак",154.44,208,{"$f":"Savory!I$62","v":0},{"$f":"Savory!J$62","v":0}]
[null,1111162974,30211,"Savory Junior Turkey Chicken д/молод/собак вел/порід індич/курка 12кг","Більше 100","Корм сухий для собак",2819.16,3666,{"$f":"Savory!I$63","v":0},{"$f":"Savory!J$63","v":0}]
[null,1111162973,30204,"Savory Junior Turkey Chicken д/молод/собак вел/порід індич/курка 3кг","Більше 10","Корм сухий для собак",901.14,1172,{"$f":"Savory!I$64","v":0},{"$f":"Savory!J$64","v":0}]
[null,1111163007,30143,"Savory Kitten Fresh Turkey Chicken для кошенят індичка/курка 2кг","Більше 100","Корм сухий для котів",802.26,1043,{"$f":"Savory!I$65","v":0},{"$f":"Savory!J$65","v":0}]
[null,1111163006,30136,"Savory Kitten Fresh Turkey Chicken для кошенят індичка/курка 400г","Більше 100","Корм сухий для котів",203.34,265,{"$f":"Savory!I$66","v":0},{"$f":"Savory!J$66","v":0}]
[null,1111165059,30679,"Savory Kitten Turkey консерви для кошенят з індичкою 100г","Більше 100","Корм вологий для котів",43.26,56,{"$f":"Savory!I$67","v":0},{"$f":"Savory!J$67","v":0}]
[null,1111165060,30686,"Savory Kitten Turkey консерви для кошенят з індичкою 200г","Немає в наявності","Корм вологий для котів",78.84,103,{"$f":"Savory!I$68","v":0},{"$f":"Savory!J$68","v":0}]
[null,1111162982,30242,"Savory Large Breeds Turkey Lamb д/дор/собак вел/порід ягня/індич 12кг","Більше 100","Корм сухий для собак",2937.3,3818,{"$f":"Savory!I$69","v":0},{"$f":"Savory!J$69","v":0}]
[null,1111162981,30235,"Savory Large Breeds Turkey Lamb д/дор/собак вел/порід ягня/індич 3кг","Більше 10","Корм сухий для собак",912.42,1187,{"$f":"Savory!I$70","v":0},{"$f":"Savory!J$70","v":0}]
[null,1111162980,30273,"Savory Medium Breed Turkey Lamb д/дор/собак сер/порід ягня/індич 12кг","Немає в наявності","Корм сухий для собак",2831.16,3679,{"$f":"Savory!I$71","v":0},{"$f":"Savory!J$71","v":0}]
[null,1111162978,30259,"Savory Medium Breed Turkey Lamb д/дор/собак сер/порід ягня/індич 1кг","Більше 100","Корм сухий для собак",340.38,442,{"$f":"Savory!I$72","v":0},{"$f":"Savory!J$72","v":0}]
[null,1111199034,30259,"Savory Medium Breed Turkey Lamb д/дор/собак сер/порід ягня/індич 1кг","Менше 10","Корм сухий для собак",162.06,0,{"$f":"Savory!I$73","v":0},{"$f":"Savory!J$73","v":0}]
[null,1111162979,30266,"Savory Medium Breed Turkey Lamb д/дор/собак сер/порід ягня/індич 3кг","Більше 100","Корм сухий для собак",896.1,1166,{"$f":"Savory!I$74","v":0},{"$f":"Savory!J$74","v":0}]
[null,1111168077,31362,"Savory Mobility Rabbit Chokeberries ласощі д/собак кролик/горобин 200г","Більше 100","Ласощі для собак",154.44,208,{"$f":"Savory!I$75","v":0},{"$f":"Savory!J$75","v":0}]
[null,1111171671,31485,"Savory Pillows Hair Ball Control ласощі д/котів д/вивед шерсті 60г","Більше 100","Ласощі для котів",73.92,104,{"$f":"Savory!I$76","v":0},{"$f":"Savory!J$76","v":0}]
[null,1111162970,30280,"Savory Puppy Fresh Turkey Chicken д/цуценят вс/порід індичка/курка 1кг","Більше 100","Корм сухий для собак",335.7,437,{"$f":"Savory!I$77","v":0},{"$f":"Savory!J$77","v":0}]
[null,1111162972,30303,"Savory Puppy Turkey Chicken для цуценят всіх порід індичка/курка 12кг","Більше 10","Корм сухий для собак",2865.66,3725,{"$f":"Savory!I$78","v":0},{"$f":"Savory!J$78","v":0}]
[null,1111162971,30297,"Savory Puppy Turkey Chicken для цуценят всіх порід індичка/курка 3кг","Більше 100","Корм сухий для собак",900,1170,{"$f":"Savory!I$79","v":0},{"$f":"Savory!J$79","v":0}]
[null,1111163001,30082,"Savory Sensitive FreshLamb/Turkey д/кот чутл травл ягня/індичка 2кг","Більше 100","Корм сухий для котів",844.02,1097,{"$f":"Savory!I$80","v":0},{"$f":"Savory!J$80","v":0}]
[null,1111163000,30075,"Savory Sensitive FreshLamb/Turkey д/кот чутл травл ягня/індичка 400г","Більше 100","Корм сухий для котів",219.24,286,{"$f":"Savory!I$81","v":0},{"$f":"Savory!J$81","v":0}]
[null,1111168076,31355,"Savory Skin Coat Salmon Marigolds ласощі для собак лосось/чорнобр 200г","Більше 100","Ласощі для собак",154.44,208,{"$f":"Savory!I$82","v":0},{"$f":"Savory!J$82","v":0}]
[null,1111162975,30341,"Savory Small Breed Fresh Turkey Lamb д/собак мал/порід ягня/індич 1кг","Більше 100","Корм сухий для собак",355.74,462,{"$f":"Savory!I$83","v":0},{"$f":"Savory!J$83","v":0}]
[null,1111162976,30358,"Savory Small Breed Turkey Lamb для дор/собак мал/порід ягня/індич 3кг","Більше 100","Корм сухий для собак",918.9,1194,{"$f":"Savory!I$84","v":0},{"$f":"Savory!J$84","v":0}]
[null,1111162977,30365,"Savory Small Breed TurkeyLamb для дор/собак мал/порід ягня/індич 8кг","Менше 10","Корм сухий для собак",2260.1999999999998,2938,{"$f":"Savory!I$85","v":0},{"$f":"Savory!J$85","v":0}]
[null,1111162983,30310,"Savory Small Breeds Lamb для дорослих собак малих порід з ягням 1кг","Більше 100","Корм сухий для собак",398.58,519,{"$f":"Savory!I$86","v":0},{"$f":"Savory!J$86","v":0}]
[null,1111162984,30327,"Savory Small Breeds Lamb для дорослих собак малих порід з ягням 3кг","Більше 100","Корм сухий для собак",1036.2,1347,{"$f":"Savory!I$87","v":0},{"$f":"Savory!J$87","v":0}]
[null,1111171669,31461,"Savory Snacks Gourmand Chicken Cheese ласощі для котів курка/сир 60г","Більше 100","Ласощі для котів",73.92,104,{"$f":"Savory!I$88","v":0},{"$f":"Savory!J$88","v":0}]
[null,1111171668,31454,"Savory Snacks Gourmand Salmon хрумкі ласощі для котів лосось 60г","Більше 100","Ласощі для котів",73.92,104,{"$f":"Savory!I$89","v":0},{"$f":"Savory!J$89","v":0}]
[null,1111171670,31478,"Savory Snacks Pillows Dental Care ласощі д/котів д/здоров_я зубів 60г","Більше 100","Ласощі для котів",73.92,104,{"$f":"Savory!I$90","v":0},{"$f":"Savory!J$90","v":0}]
[null,1111195877,21113,"Джерки Savory Bars With Rabbit, батончики з кроликом, 100 г","Більше 100","Ласощі для собак",167.7,229,{"$f":"Savory!I$91","v":0},{"$f":"Savory!J$91","v":0}]
[null,1111195873,21090,"Джерки Savory Puppy Coins With Turkey, монетки д/цуценят з/інд, 100 г","Більше 100","Ласощі для собак",167.7,229,{"$f":"Savory!I$92","v":0},{"$f":"Savory!J$92","v":0}]
[null,1111168080,31416,"М_які ласощі Savory для здоров я стерилізованих котів, ягня та чорниці","Більше 100","Ласощі для котів",85.92,120,{"$f":"Savory!I$93","v":0},{"$f":"Savory!J$93","v":0}]
[null,1111168079,31409,"М_які ласощі Savory для покращення травлення котів, качка та чебрець","Більше 100","Ласощі для котів",85.92,120,{"$f":"Savory!I$94","v":0},{"$f":"Savory!J$94","v":0}]
[null,1111204792,30013,"ТЕРМ 10.25 Savory Adult Cat Gourmand FreshSalmonWhiteFish лос/риб 400г","Менше 10","Корм сухий для котів",111.24,0,{"$f":"Savory!I$95","v":0},{"$f":"Savory!J$95","v":0}]
[null,1111208383,30099,"ТЕРМ 10.25 Savory Adult Cat Sensitive Lamb Turkey чут/трав ягн/інд 8кг","Немає в наявності","Корм сухий для котів",1540.62,0,{"$f":"Savory!I$96","v":0},{"$f":"Savory!J$96","v":0}]
[null,1111205643,30129,"ТЕРМ 10.25 Savory Adult Cat Steril Fresh Lamb&Chicken ягня/курка 8кг","Немає в наявності","Корм сухий для котів",1499.58,0,{"$f":"Savory!I$97","v":0},{"$f":"Savory!J$97","v":0}]
[null,1111206628,30259,"ТЕРМ 11.25 Savory Medium Breed Turkey Lamb дор/соб/сер ягня/індич 1кг","Менше 10","Корм сухий для собак",170.22,0,{"$f":"Savory!I$98","v":0},{"$f":"Savory!J$98","v":0}]
[null,1111206627,30280,"ТЕРМ 11.25 Savory Puppy Fresh Turkey Chicken д/цуц. індичка/курка 1кг","Менше 10","Корм сухий для собак",167.88,0,{"$f":"Savory!I$99","v":0},{"$f":"Savory!J$99","v":0}]
[null,1111200527,30037,"ТЕРМ. 08.25 Savory Adult Cat Fresh Salmon WhiteFish лосось/риба 8кг","Немає в наявності","Корм сухий для котів",1578,0,{"$f":"Savory!I$100","v":0},{"$f":"Savory!J$100","v":0}]
[null,1111200536,30044,"ТЕРМ. 08.25 Savory Adult Cat Gourmand Fresh Turkey/Duck інд/качка 400","Більше 10","Корм сухий для котів",111.24,0,{"$f":"Savory!I$101","v":0},{"$f":"Savory!J$101","v":0}]
[null,1111206344,30242,"ТЕРМ. 08.26,ВАГ. 11.3 КГ Savory Large Breeds Turkey Lamb 12кг","Менше 10","Корм сухий для собак",0,0,{"$f":"Savory!I$102","v":0},{"$f":"Savory!J$102","v":0}]
[null,1111202917,31393,"ТЕРМ. 09.25 Хрусткі ласощі Savory інд/журавлин здоров/рост кошенят","Менше 10","Ласощі для котів",42.96,0,{"$f":"Savory!I$103","v":0},{"$f":"Savory!J$103","v":0}]
[null,1111205743,30167,"ТЕРМ. 10.25 Savory Adult All Breeds Fresh DuckRabbit соб качк/крол 1кг","Менше 10","Корм сухий для собак",208.14,0,{"$f":"Savory!I$104","v":0},{"$f":"Savory!J$104","v":0}]
[null,1111205625,30020,"ТЕРМ. 10.25 Savory Adult Cat FreshSalmon WhiteFish лосось/біл.риба 2кг","Менше 10","Корм сухий для котів",432.12,0,{"$f":"Savory!I$105","v":0},{"$f":"Savory!J$105","v":0}]
[null,1111204075,30105,"ТЕРМ. 10.25 Savory Adult Cat Steril FreshLamb/Chicken ягня/курка 400г","Менше 10","Корм сухий для котів",110.7,0,{"$f":"Savory!I$106","v":0},{"$f":"Savory!J$106","v":0}]
[null,1111205630,30136,"ТЕРМ. 10.25 Корм сухий Savory Kitten rich in Fresh Turkey and Chicken ","Менше 10","Корм сухий для котів",101.7,0,{"$f":"Savory!I$107","v":0},{"$f":"Savory!J$107","v":0}]
[null,1111205744,30259,"ТЕРМ. 10.25 Корм сухий Savory Medium Breed urkey and Lamb для дорослих","Менше 10","Корм сухий для собак",170.22,0,{"$f":"Savory!I$108","v":0},{"$f":"Savory!J$108","v":0}]
[null,1111206727,30204,"ТЕРМ. 11.25 Savory Junior Turkey Chicken мол/собак/вел індич/курка 3кг","Менше 10","Корм сухий для собак",450.6,0,{"$f":"Savory!I$109","v":0},{"$f":"Savory!J$109","v":0}]
[null,1111208034,31492,"ТЕРМ.06.26.ПОРВ.Корм сухий Savory All Breed Sterilised Turkey для стер","Менше 10","Корм сухий для собак",161.16,0,{"$f":"Savory!I$110","v":0},{"$f":"Savory!J$110","v":0}]
[null,1111206345,30242,"ТЕРМ.08.26, ВАГ. 10.1 КГ Savory Large Breeds Turkey Lamb /12кг","Менше 10","Корм сухий для собак",0,0,{"$f":"Savory!I$111","v":0},{"$f":"Savory!J$111","v":0}]
[null,1111207501,30136,"ТЕРМ.08.26ПОШК.ПАК Savory KittenFresh Turkey Chicken д/кош інд/кур400г","Менше 10","Корм сухий для котів",101.7,0,{"$f":"Savory!I$112","v":0},{"$f":"Savory!J$112","v":0}]
[null,1111205988,31492,"ТЕРМ.10.25.Корм сухий Savory All Breed Sterilised rich in Fresh Turkey","Менше 10","Корм сухий для собак",169.26,0,{"$f":"Savory!I$113","v":0},{"$f":"Savory!J$113","v":0}]
[null,1111168082,31393,"Хрусткі ласощі Savory індичка і журавлина для здорового росту кошенят","Більше 100","Ласощі для котів",85.92,120,{"$f":"Savory!I$114","v":0},{"$f":"Savory!J$114","v":0}]
[null,1111166072,5097,"Контейнер-переноска SGbox для котів та собак до 12кг 39х55х36,5см","Більше 10","Сумки, переноски та посуд для подорожей з собаками",925.74,1338,{"$f":"SGbox!I$8","v":0},{"$f":"SGbox!J$8","v":0}]
[null,1111164362,5096,"Контейнер-переноска SGbox для котів та собак до 6кг чорна 35х49х32,5см","Більше 10","Сумки, переноски та посуд для подорожей з собаками",483.48,659,{"$f":"SGbox!I$9","v":0},{"$f":"SGbox!J$9","v":0}]
[null,1111165524,"PR242345","Ласощі Special One Горіхові палички для середніх папуг 90г","Більше 100","Ласощі для птахів",57.48,95,{"$f":"'Special One'!I$8","v":0},{"$f":"'Special One'!J$8","v":0}]
[null,1111165522,"PR242347","Ласощі Special One Квіткові палички для хвилястих папуг 90г","Більше 10","Ласощі для птахів",57.48,95,{"$f":"'Special One'!I$9","v":0},{"$f":"'Special One'!J$9","v":0}]
[null,1111165520,"PR242348","Ласощі Special One Мюслі палички для декоративних гризунів 90г","Більше 100","Ласощі для гризунів",57.48,95,{"$f":"'Special One'!I$10","v":0},{"$f":"'Special One'!J$10","v":0}]
[null,1111165521,"PR242350","Ласощі Special One Овочевий мікс палички для декоративних гризунів 90г","Більше 10","Ласощі для гризунів",57.48,95,{"$f":"'Special One'!I$11","v":0},{"$f":"'Special One'!J$11","v":0}]
[null,1111166928,"PR242519","Ласощі Special One Пончики д/гризунів волошка календула ромашка 60г","Більше 100","Ласощі для гризунів",54.72,89,{"$f":"'Special One'!I$12","v":0},{"$f":"'Special One'!J$12","v":0}]
[null,1111166926,"PR242517","Ласощі Special One Пончики д/декорат/птахів паприка морква кунжут 60г","Більше 10","Ласощі для птахів",60.36,99,{"$f":"'Special One'!I$13","v":0},{"$f":"'Special One'!J$13","v":0}]
[null,1111166925,"PR242516","Ласощі Special One Пончики д/декоратив/птиц барбарис волошка кокос 60г","Більше 100","Ласощі для птахів",60.36,99,{"$f":"'Special One'!I$14","v":0},{"$f":"'Special One'!J$14","v":0}]
[null,1111166929,"PR242520","Ласощі Special One Пончики для гризунів паприка гарбуз морква 60г","Більше 100","Ласощі для гризунів",54.72,89,{"$f":"'Special One'!I$15","v":0},{"$f":"'Special One'!J$15","v":0}]
[null,1111166930,"PR242521","Ласощі Special One Пончики для гризунів петрушка чумиза календула 60г","Більше 10","Ласощі для гризунів",54.72,89,{"$f":"'Special One'!I$16","v":0},{"$f":"'Special One'!J$16","v":0}]
[null,1111166931,"PR242522","Ласощі Special One Пончики для гризунів цикорій арахіс барбарис 60г","Більше 100","Ласощі для гризунів",54.72,89,{"$f":"'Special One'!I$17","v":0},{"$f":"'Special One'!J$17","v":0}]
[null,1111166927,"PR242518","Ласощі Special One Пончики для птахів смородина ехінацея виноград 60г","Більше 100","Ласощі для птахів",60.36,99,{"$f":"'Special One'!I$18","v":0},{"$f":"'Special One'!J$18","v":0}]
[null,1111165523,"PR242346","Ласощі Special One Фруктові палички для хвилястих папуг 90г","Більше 100","Ласощі для птахів",57.48,95,{"$f":"'Special One'!I$19","v":0},{"$f":"'Special One'!J$19","v":0}]
[null,1111165519,"PR242349","Ласощі Special One Ягідні палички для декоративних гризунів 90 г","Більше 10","Ласощі для гризунів",57.48,95,{"$f":"'Special One'!I$20","v":0},{"$f":"'Special One'!J$20","v":0}]
[null,1111164474,"PR242125","Повнораціонний корм Special One для великих папуг 500г","Більше 10","Корм для птахів",137.62,192.93,{"$f":"'Special One'!I$21","v":0},{"$f":"'Special One'!J$21","v":0}]
[null,1111164484,"PR242115","Повнораціонний корм Special One для дегу 500г","Більше 100","Корм для гризунів",113.39,160,{"$f":"'Special One'!I$22","v":0},{"$f":"'Special One'!J$22","v":0}]
[null,1111164479,"PR242120","Повнораціонний корм Special One для декоративних кроликів 500г","Більше 100","Корм для гризунів",115.83,162,{"$f":"'Special One'!I$23","v":0},{"$f":"'Special One'!J$23","v":0}]
[null,1111164480,"PR242119","Повнораціонний корм Special One для декоративних пацючків 500г","Більше 100","Корм для гризунів",97.34,137,{"$f":"'Special One'!I$24","v":0},{"$f":"'Special One'!J$24","v":0}]
[null,1111164477,"PR242122","Повнораціонний корм Special One для екзотичніх птахів 500г","Більше 100","Корм для птахів",94.51,132.91,{"$f":"'Special One'!I$25","v":0},{"$f":"'Special One'!J$25","v":0}]
[null,1111164478,"PR242121","Повнораціонний корм Special One для канарок 500г","Більше 100","Корм для птахів",98.59,138.01,{"$f":"'Special One'!I$26","v":0},{"$f":"'Special One'!J$26","v":0}]
[null,1111164476,"PR242123","Повнораціонний корм Special One для середніх папуг 500 г","Більше 100","Корм для птахів",101.98,142.76,{"$f":"'Special One'!I$27","v":0},{"$f":"'Special One'!J$27","v":0}]
[null,1111164475,"PR242124","Повнораціонний корм Special One для хвилястих папуг 500г","Більше 100","Корм для птахів",94.51,132.91,{"$f":"'Special One'!I$28","v":0},{"$f":"'Special One'!J$28","v":0}]
[null,1111164483,"PR242116","Повнораціонний корм Special One для хом_яків 500г","Більше 100","Корм для гризунів",97.34,137,{"$f":"'Special One'!I$29","v":0},{"$f":"'Special One'!J$29","v":0}]
[null,1111164482,"PR242117","Повнораціонний корм Special One для шиншил 500г","Більше 100","Корм для гризунів",109.69,154,{"$f":"'Special One'!I$30","v":0},{"$f":"'Special One'!J$30","v":0}]
[null,1111208208,"PR242125","ТЕРМ. 06.26, ПОРВ. Повнораціонний корм Special One для великих папуг 5","Менше 10","Корм для птахів",68.819999999999993,0,{"$f":"'Special One'!I$31","v":0},{"$f":"'Special One'!J$31","v":0}]
[null,1111203378,"PR242121","ТЕРМ. 06.26, ПОРВ. Повнораціонний корм Special One для канарок 500г","Менше 10","Корм для птахів",49.32,0,{"$f":"'Special One'!I$32","v":0},{"$f":"'Special One'!J$32","v":0}]
[null,311887,"139015_ordСПЕЦЦЕНА","PRO Algae (Vegetable) 250 мл преміум-корм з овочами","Менше 10","Корм сухий для акваріумних риб",296.64,385,{"$f":"Tetra!I$8","v":0},{"$f":"Tetra!J$8","v":0}]
[null,1111149038,"270534_ord","Tetra CABOMBA Plant L 30см пластикова рослина","Менше 10","Декорації для акваріума",267.95999999999998,496,{"$f":"Tetra!I$9","v":0},{"$f":"Tetra!J$9","v":0}]
[null,1111149613,"270268_ord","Tetra FOXTAIL RED  Plant S 15см пластикова рослина","Менше 10","Декорації для акваріума",102.3,189,{"$f":"Tetra!I$10","v":0},{"$f":"Tetra!J$10","v":0}]
[null,1111149307,"270237_ord","Tetra HYGROPHILA  Plant S 15см пластикова рослина","Менше 10","Декорації для акваріума",102.3,189,{"$f":"Tetra!I$11","v":0},{"$f":"Tetra!J$11","v":0}]
[null,1111149309,"270565_ord","Tetra HYGROPHILA Plant L 30см пластикова рослина","Менше 10","Декорації для акваріума",256.86,476,{"$f":"Tetra!I$12","v":0},{"$f":"Tetra!J$12","v":0}]
[null,1111149032,"273146СПЕЦЦЕНА","Tetra PhosphateMinus 250 мл","Більше 10","Засоби проти водоростей",206.22,383,{"$f":"Tetra!I$13","v":0},{"$f":"Tetra!J$13","v":0}]
[null,1111149310,"270596_ord","Tetra RED LUDWIGIA Plant  L 30см пластикова рослина","Більше 10","Декорації для акваріума",256.86,476,{"$f":"Tetra!I$14","v":0},{"$f":"Tetra!J$14","v":0}]
[null,1111121682,"167247_ord","Адаптер для голови зовнішнього фільтра Tetra EX 400/EX 600/EX 700","Менше 10","Аксесуари для обладнання",968.34,1307,{"$f":"Tetra!I$15","v":0},{"$f":"Tetra!J$15","v":0}]
[null,1111138161,"240728_ord","Адаптер для фільтра Tetra ЕX 1200 plus","Більше 10","Аксесуари для обладнання",849.3,1274,{"$f":"Tetra!I$16","v":0},{"$f":"Tetra!J$16","v":0}]
[null,1111172931,304796,"Адаптер для шланга Tetra EX 1500","Менше 10","Аксесуари для обладнання",900.3,1349,{"$f":"Tetra!I$17","v":0},{"$f":"Tetra!J$17","v":0}]
[null,1111113808,"145580_ord","Біогубка у фільтр Tetratec EX 600/700/800 plus","Менше 10","Фільтри для акваріумів",325.98,440,{"$f":"Tetra!I$18","v":0},{"$f":"Tetra!J$18","v":0}]
[null,7781,"607682****","Вкладиш Tetra BF 400/600 для внутрішн/фільтра IN 400/600 губка 2шт","Менше 10","Фільтри для акваріумів",348.84,471,{"$f":"Tetra!I$19","v":0},{"$f":"Tetra!J$19","v":0}]
[null,1111113054,"134669_ord","Вкладиш Tetra CF 800/1000 Plus д/фільтра IN 800/1000 акт/вуг губка 4шт","Менше 10","Фільтри для акваріумів",688.98,930,{"$f":"Tetra!I$20","v":0},{"$f":"Tetra!J$20","v":0}]
[null,1111113822,146068,"Вкладиш Tetra Filter Floss д/зовн/фільтра EX 1200/1500 волокнистий 2шт","Менше 10","Фільтри для акваріумів",226.62,307,{"$f":"Tetra!I$21","v":0},{"$f":"Tetra!J$21","v":0}]
[null,1111113820,145597,"Вкладиш Tetra Filter Floss д/зовн/фільтра EX 600/1000 волокнистий 2шт","Менше 10","Фільтри для акваріумів",146.34,198,{"$f":"Tetra!I$22","v":0},{"$f":"Tetra!J$22","v":0}]
[null,1111117018,151598,"Вкладиш Tetra Filter Pack 250/300 C д/фільтра Tetra Easy Crystal 3шт","Більше 10","Фільтри для акваріумів",376.44,508,{"$f":"Tetra!I$23","v":0},{"$f":"Tetra!J$23","v":0}]
[null,1111114648,211841,"Вкладиш Tetra акваріум до Filter Pack 100 C Cascade Globe з актив/вуг","Більше 10","Фільтри для акваріумів",287.82,392,{"$f":"Tetra!I$24","v":0},{"$f":"Tetra!J$24","v":0}]
[null,1111130297,179172,"Вкладиш Tetra фільтруючий картридж д/внутрішнього фільтра IN 300 губка","Менше 10","Фільтри для акваріумів",290.27999999999997,334,{"$f":"Tetra!I$25","v":0},{"$f":"Tetra!J$25","v":0}]
[null,1111184031,"304932_ord","Голова Tetra для фільтра EX1500 4 MK","Менше 10","Аксесуари для обладнання",3726.72,5031,{"$f":"Tetra!I$26","v":0},{"$f":"Tetra!J$26","v":0}]
[null,1111184030,"304970_ord","Голова Tetra для фільтра EX500 4 MK","Менше 10","Аксесуари для обладнання",2264.4,3057,{"$f":"Tetra!I$27","v":0},{"$f":"Tetra!J$27","v":0}]
[null,1111184764,305038,"Голова Tetra для фільтра EX700 4 MK","Менше 10","Аксесуари для обладнання",2608.86,3522,{"$f":"Tetra!I$28","v":0},{"$f":"Tetra!J$28","v":0}]
[null,1111138159,"240711_ord","Головка Tetra для зовнішнього фільтру ЕX 1200 Plus","Менше 10","Аксесуари для обладнання",4519.0200000000004,6779,{"$f":"Tetra!I$29","v":0},{"$f":"Tetra!J$29","v":0}]
[null,1111138158,"240681_ord","Головка Tetra для зовнішнього фільтру ЕX 800 Plus","Менше 10","Аксесуари для обладнання",3431.58,5147,{"$f":"Tetra!I$30","v":0},{"$f":"Tetra!J$30","v":0}]
[null,1111184028,"304895_ord","Губка попереднього фільтра Tetra для EX500/700/1000 40 МК","Менше 10","Аксесуари для обладнання",131.69999999999999,177,{"$f":"Tetra!I$31","v":0},{"$f":"Tetra!J$31","v":0}]
[null,1111137789,240100,"Добриво Tetra CO2 Plus для акваріумних рослин 250мл","Більше 10","Добрива для рослин",279.12,363,{"$f":"Tetra!I$32","v":0},{"$f":"Tetra!J$32","v":0}]
[null,4465,139268,"Добриво Tetra PlantaMin д/зелених акваріум/рослин з залізом 100мл/400л","Більше 10","Добрива для рослин",147.18,192,{"$f":"Tetra!I$33","v":0},{"$f":"Tetra!J$33","v":0}]
[null,7400,297371,"Добриво Tetra PlantaMin для зелених аквар/рослин з залізом 250мл/1000л","Більше 10","Добрива для рослин",316.32,412,{"$f":"Tetra!I$34","v":0},{"$f":"Tetra!J$34","v":0}]
[null,1111184024,"304819_ord","Заглушки Tetra для фільтра EX1500 40 MK","Менше 10","Аксесуари для обладнання",658.26,888,{"$f":"Tetra!I$35","v":0},{"$f":"Tetra!J$35","v":0}]
[null,1111111141,144040,"Засіб Aqua Tetra Crystal Water від помутніння води 100мл на 200л","Більше 100","Кондиціонери для води",194.04,252,{"$f":"Tetra!I$36","v":0},{"$f":"Tetra!J$36","v":0}]
[null,9215,140349,"Засіб Tetra Algetten для акваріума проти водоростей 12 таблеток/120л","Більше 10","Засоби проти водоростей",315.36,411,{"$f":"Tetra!I$37","v":0},{"$f":"Tetra!J$37","v":0}]
[null,1700,770386,"Засіб Tetra Algizit проти водоростей в акваріумі 10 таблеток на 200л","Більше 100","Засоби проти водоростей",241.8,315,{"$f":"Tetra!I$38","v":0},{"$f":"Tetra!J$38","v":0}]
[null,1111184766,"760837 СПЕЦЦЕНА","Засіб Tetra AlgoRem проти водоростей в ставку 250мл + проб PondSticks","Менше 10","Засоби для догляду за ставком",318.24,414,{"$f":"Tetra!I$39","v":0},{"$f":"Tetra!J$39","v":0}]
[null,1111115656,298989,"Засіб Tetra Algostop для акваріума проти водоростей 12 таблеток/240л","Більше 10","Засоби проти водоростей",385.14,500,{"$f":"Tetra!I$40","v":0},{"$f":"Tetra!J$40","v":0}]
[null,1699,770416,"Засіб Tetra AlguMin проти водоростей в акваріумі 100мл на 200л","Більше 100","Засоби проти водоростей",146.22,191,{"$f":"Tetra!I$41","v":0},{"$f":"Tetra!J$41","v":0}]
[null,8194,198753,"Засіб Tetra AlguMin проти водоростей в акваріумі 250мл на 500л","Більше 10","Засоби проти водоростей",298.2,389,{"$f":"Tetra!I$42","v":0},{"$f":"Tetra!J$42","v":0}]
[null,8195,204164,"Засіб Tetra AlguMin проти водоростей в акваріумі 500мл","Менше 10","Засоби проти водоростей",529.02,688,{"$f":"Tetra!I$43","v":0},{"$f":"Tetra!J$43","v":0}]
[null,1111180013,"313811/313842","Засіб Tetra Aqua Biocoryn для розкладання органіки 100мл","Більше 10","Кондиціонери для води",213.54,278,{"$f":"Tetra!I$44","v":0},{"$f":"Tetra!J$44","v":0}]
[null,8824,704183,"Засіб Tetra Aqua Safe для акваріума для підготовки води 5л на 10000л","Менше 10","Кондиціонери для води",2569.2600000000002,3341,{"$f":"Tetra!I$45","v":0},{"$f":"Tetra!J$45","v":0}]
[null,5046,762732,"Засіб Tetra Aqua Safe для підготовки води в акваріумі 100мл на 200л","Більше 100","Кондиціонери для води",158.63999999999999,206,{"$f":"Tetra!I$46","v":0},{"$f":"Tetra!J$46","v":0}]
[null,4135,762749,"Засіб Tetra Aqua Safe для підготовки води в акваріумі 250мл на 500л","Більше 10","Кондиціонери для води",299.16000000000003,390,{"$f":"Tetra!I$47","v":0},{"$f":"Tetra!J$47","v":0}]
[null,8189,198876,"Засіб Tetra Aqua Safe для підготовки води в акваріумі 500мл на 1000л","Більше 10","Кондиціонери для води",484.56,630,{"$f":"Tetra!I$48","v":0},{"$f":"Tetra!J$48","v":0}]
[null,1111123360,198852,"Засіб Tetra Aqua Safe для підготовки води в акваріумі 50мл на 100л","Більше 100","Кондиціонери для води",104.22,135,{"$f":"Tetra!I$49","v":0},{"$f":"Tetra!J$49","v":0}]
[null,8819,745209,"Засіб Tetra Aqua ToruMin екстракт гумінових кислот 250мл на 500л","Менше 10","Кондиціонери для води",450.06,586,{"$f":"Tetra!I$50","v":0},{"$f":"Tetra!J$50","v":0}]
[null,8193,756540,"Засіб Tetra Bactozym д/акваріума д/стабіл/біол/рівнов 10 таблеток/1000","Більше 10","Кондиціонери для води",448.26,583,{"$f":"Tetra!I$51","v":0},{"$f":"Tetra!J$51","v":0}]
[null,1111111140,198739,"Засіб Tetra Crystal Water д/акваріума від помутніння води 250мл/500л","Більше 10","Кондиціонери для води",448.26,583,{"$f":"Tetra!I$52","v":0},{"$f":"Tetra!J$52","v":0}]
[null,8818,139176,"Засіб Tetra Easy Balance д/акваріума д/стабіл/показн/води 250мл/1000л","Більше 10","Кондиціонери для води",315.06,411,{"$f":"Tetra!I$53","v":0},{"$f":"Tetra!J$53","v":0}]
[null,8453,198814,"Засіб Tetra Easy Balance д/акваріума д/стабіл/показн/води 500мл/2000л","Більше 10","Кондиціонери для води",482.64,627,{"$f":"Tetra!I$54","v":0},{"$f":"Tetra!J$54","v":0}]
[null,8454,770492,"Засіб Tetra Easy Balance д/стабілізації показників води 100мл на 400 л","Більше 10","Кондиціонери для води",169.44,221,{"$f":"Tetra!I$55","v":0},{"$f":"Tetra!J$55","v":0}]
[null,1111152078,279230,"Засіб Tetra Medica ContraIck Plus д/риб ліки знищ/шкір/параз 20мл/600л","Менше 10","Препарати для лікування риб",362.28,471,{"$f":"Tetra!I$56","v":0},{"$f":"Tetra!J$56","v":0}]
[null,1111115268,"154469СПЕЦЦЕНА","Засіб Tetra Pond AlgoFin д/ставка борот/ниткоподіб/водор 1л/15000л","Більше 10","Засоби для догляду за ставком",1067.8800000000001,1387,{"$f":"Tetra!I$57","v":0},{"$f":"Tetra!J$57","v":0}]
[null,13250,"124363СПЕЦЦЕНА","Засіб Tetra Pond AlgoFin д/ставка борот/ниткоподіб/водор 250мл/5000л","Більше 10","Засоби для догляду за ставком",313.62,411,{"$f":"Tetra!I$58","v":0},{"$f":"Tetra!J$58","v":0}]
[null,8813,"143784СПЕЦЦЕНА","Засіб Tetra Pond AlgoFin д/ставка борот/ниткоподіб/водор 500мл/10000л","Більше 10","Засоби для догляду за ставком",608.1,791,{"$f":"Tetra!I$59","v":0},{"$f":"Tetra!J$59","v":0}]
[null,8820,"753327СПЕЦЦЕНА","Засіб Tetra Pond AlgoFin для ставка борот/калам/зелен/водою 3л/60000л","Більше 10","Засоби для догляду за ставком",2355.96,3062,{"$f":"Tetra!I$60","v":0},{"$f":"Tetra!J$60","v":0}]
[null,1111115267,"154445СПЕЦЦЕНА","Засіб Tetra Pond AlgoRem д/ставка боротьба з калам/зел/водою 1л/15000л","Менше 10","Засоби для догляду за ставком",1102.74,1433,{"$f":"Tetra!I$61","v":0},{"$f":"Tetra!J$61","v":0}]
[null,8816,"753334СПЕЦЦЕНА","Засіб Tetra Pond AlgoRem д/ставка боротьба з калам/зел/водою 3л/60000л","Більше 10","Засоби для догляду за ставком",2355.96,3062,{"$f":"Tetra!I$62","v":0},{"$f":"Tetra!J$62","v":0}]
[null,8822,"735460СПЕЦЦЕНА","Засіб Tetra Pond AquaSafe для ставка ддя підготовки води 500мл/10000л","Менше 10","Засоби для догляду за ставком",492.36,639,{"$f":"Tetra!I$63","v":0},{"$f":"Tetra!J$63","v":0}]
[null,1111135602,"231566СПЕЦЦЕНА","Засіб Tetra Pond Crystal Water для ставка д/очищення води 1л/20000л","Менше 10","Засоби для догляду за ставком",1070.0999999999999,1392,{"$f":"Tetra!I$64","v":0},{"$f":"Tetra!J$64","v":0}]
[null,1111123416,"180635СПЕЦЦЕНА","Засіб Tetra Pond Crystal Water для ставка д/очищення води 250мл/5000л","Менше 10","Засоби для догляду за ставком",322.62,419,{"$f":"Tetra!I$65","v":0},{"$f":"Tetra!J$65","v":0}]
[null,1111135603,"232617СПЕЦЦЕНА","Засіб Tetra Pond Crystal Water для ставка для очищення води 3л/60000л","Менше 10","Засоби для догляду за ставком",2601.06,3381,{"$f":"Tetra!I$66","v":0},{"$f":"Tetra!J$66","v":0}]
[null,1111205895,"285392СПЕЦЦЕНА","Засіб Tetra Pond Filter Zym д/ставка д/ біо актив/фільтр 500мл","Більше 10","Засоби для догляду за ставком",413.22,558,{"$f":"Tetra!I$67","v":0},{"$f":"Tetra!J$67","v":0}]
[null,12837,"737730СПЕЦЦЕНА","Засіб Tetra Pond MediFin д/став/риб ліки від інфекц/хвороб 250мл/5000л","Менше 10","Препарати для лікування риб",356.34,462,{"$f":"Tetra!I$68","v":0},{"$f":"Tetra!J$68","v":0}]
[null,1111127177,"187825СПЕЦЦЕНА","Засіб Tetra Pond SeasonStart для ставка підготовка води 250мл/5000л","Більше 10","Засоби для догляду за ставком",318.12,413,{"$f":"Tetra!I$69","v":0},{"$f":"Tetra!J$69","v":0}]
[null,1111146240,"256705СПЕЦЦЕНА","Засіб Tetra Pond SludgeRemover ставок видал/мулу/розщ/спол 250мл/5000л","Менше 10","Засоби для догляду за ставком",319.26,415,{"$f":"Tetra!I$70","v":0},{"$f":"Tetra!J$70","v":0}]
[null,1111123413,"180437СПЕЦЦЕНА","Засіб Tetra Pond WaterBalance д/ставка стабіл/показ/води 250мл/10000л","Менше 10","Засоби для догляду за ставком",282.12,369,{"$f":"Tetra!I$71","v":0},{"$f":"Tetra!J$71","v":0}]
[null,1111123466,177727,"Засіб Tetra ReptoSafe д/тераріумів усунення важк/металів з води 100мл","Більше 10","Засоби догляду для тераріумів",173.04,225,{"$f":"Tetra!I$72","v":0},{"$f":"Tetra!J$72","v":0}]
[null,1111133142,175655,"Засіб Tetra Safe Start д/акваріума д/негайного запуску риб 250мл/300л","Менше 10","Кондиціонери для води",820.98,1067,{"$f":"Tetra!I$73","v":0},{"$f":"Tetra!J$73","v":0}]
[null,12470,161313,"Засіб Tetra SafeStart д/акваріума для негайного запуску риб 100мл/120л","Більше 10","Кондиціонери для води",382.32,497,{"$f":"Tetra!I$74","v":0},{"$f":"Tetra!J$74","v":0}]
[null,12440,161184,"Засіб Tetra SafeStart д/негайн запуску риб в нов акваріум 50мл на 60л","Більше 10","Кондиціонери для води",218.88,284,{"$f":"Tetra!I$75","v":0},{"$f":"Tetra!J$75","v":0}]
[null,8190,139237,"Засіб Tetra Vital вітамінізований кондиціонер д/аквар/води 100мл/200л","Більше 10","Кондиціонери для води",213.18,277,{"$f":"Tetra!I$76","v":0},{"$f":"Tetra!J$76","v":0}]
[null,1111161902,247031,"Засіб для стимуляції біологічної середовища Tetra FilterActive 100мл","Більше 10","Кондиціонери для води",262.86,341,{"$f":"Tetra!I$77","v":0},{"$f":"Tetra!J$77","v":0}]
[null,8921,608085,"Клапан Tetra для повітряного компресора зворотній CV4","Більше 10","Аксесуари для обладнання",125.7,214,{"$f":"Tetra!I$78","v":0},{"$f":"Tetra!J$78","v":0}]
[null,1111126353,187351,"Компресор Tetra Pond APК 400 д/ставка д/аерації з двома виходами набір","Менше 10","Обладнання для ставка",3151.8,4257,{"$f":"Tetra!I$79","v":0},{"$f":"Tetra!J$79","v":0}]
[null,1111112414,143166,"Компресор Tetra для акваріума APS 150 80/150л","Менше 10","Компресори і помпи для акваріума",958.8,1391,{"$f":"Tetra!I$80","v":0},{"$f":"Tetra!J$80","v":0}]
[null,1111112720,143180,"Компресор Tetra для акваріума APS 300 з двома виходами 120/300л","Менше 10","Компресори і помпи для акваріума",1109.04,1609,{"$f":"Tetra!I$81","v":0},{"$f":"Tetra!J$81","v":0}]
[null,1111112413,143203,"Компресор Tetra для акваріума APS 400 з двома виходами 250/600л","Менше 10","Компресори і помпи для акваріума",1986.96,2881,{"$f":"Tetra!I$82","v":0},{"$f":"Tetra!J$82","v":0}]
[null,1111112412,143128,"Компресор Tetra для акваріума APS 50 10/60л","Менше 10","Компресори і помпи для акваріума",638.34,925,{"$f":"Tetra!I$83","v":0},{"$f":"Tetra!J$83","v":0}]
[null,1111115614,"212466_ordСПЕЦЦЕНА","Компресор Tetratec APS 150 білий","Менше 10","Компресори і помпи для акваріума",840.24,2436,{"$f":"Tetra!I$84","v":0},{"$f":"Tetra!J$84","v":0}]
[null,1111118131,"212510_ordСПЕЦЦЕНА","Компресор Tetratec APS 300 білий","Менше 10","Компресори і помпи для акваріума",901.38,1868,{"$f":"Tetra!I$85","v":0},{"$f":"Tetra!J$85","v":0}]
[null,1111134707,"212534_ordСПЕЦЦЕНА","Компресор Tetratec APS 400 білий","Більше 10","Компресори і помпи для акваріума",1532.82,3171,{"$f":"Tetra!I$86","v":0},{"$f":"Tetra!J$86","v":0}]
[null,1111115178,"212404_ordСПЕЦЦЕНА","Компресор Tetratec APS 50 білий","Менше 10","Компресори і помпи для акваріума",672.3,974,{"$f":"Tetra!I$87","v":0},{"$f":"Tetra!J$87","v":0}]
[null,1111133781,193031,"Кондиціонер Tetra Betta Aqua Safe д/підгот води д/півників 100мл/100л","Більше 10","Кондиціонери для води",159,206,{"$f":"Tetra!I$88","v":0},{"$f":"Tetra!J$88","v":0}]
[null,1111162336,"284746_ord","Корм Tetra Algae Mix д/травоїдн/декоративних риб пластівці 10л/1,75кг","Більше 10","Корм сухий для акваріумних риб",4746,6408,{"$f":"Tetra!I$89","v":0},{"$f":"Tetra!J$89","v":0}]
[null,1111126316,193680,"Корм Tetra Betta Granules для рибок півників гранули 5г","Більше 100","Корм сухий для акваріумних риб",44.94,58,{"$f":"Tetra!I$90","v":0},{"$f":"Tetra!J$90","v":0}]
[null,1111133776,201408,"Корм Tetra Cichlid Algae Mini для акваріумних цихлід гранули 10л/3,9кг","Менше 10","Корм сухий для акваріумних риб",4717.38,6368,{"$f":"Tetra!I$91","v":0},{"$f":"Tetra!J$91","v":0}]
[null,1111134741,201385,"Корм Tetra Cichlid Colour Mini д/невел/цихлід яскрав/забар/гранули 10л","Менше 10","Корм сухий для акваріумних риб",4545.54,6136,{"$f":"Tetra!I$92","v":0},{"$f":"Tetra!J$92","v":0}]
[null,1111132078,197343,"Корм Tetra Cichlid Colour д/цихлід д/яскрав/забарвлення гранули 500мл","Менше 10","Корм сухий для акваріумних риб",639.41999999999996,831,{"$f":"Tetra!I$93","v":0},{"$f":"Tetra!J$93","v":0}]
[null,5464,201392,"Корм Tetra Cichlid Colour д/цихлід яскр/забарвлення гранули 10л/3,6кг","Менше 10","Корм сухий для акваріумних риб",4717.38,6368,{"$f":"Tetra!I$94","v":0},{"$f":"Tetra!J$94","v":0}]
[null,1111112723,146594,"Корм Tetra Cichlid Granules для рибок цихлід гранули 500мл","Більше 10","Корм сухий для акваріумних риб",658.5,855,{"$f":"Tetra!I$95","v":0},{"$f":"Tetra!J$95","v":0}]
[null,1111115270,153691,"Корм Tetra Cichlid Sticks для рибок цихлід палички 10л/2,9кг","Менше 10","Корм сухий для акваріумних риб",3423.66,4623,{"$f":"Tetra!I$96","v":0},{"$f":"Tetra!J$96","v":0}]
[null,8313,198975,"Корм Tetra Cichlid Sticks для рибок цихлід палички 1л/ 320 г","Більше 10","Корм сухий для акваріумних риб",859.2,1117,{"$f":"Tetra!I$97","v":0},{"$f":"Tetra!J$97","v":0}]
[null,8446,157170,"Корм Tetra Cichlid Sticks для рибок цихлід палички 250мл/75г","Більше 10","Корм сухий для акваріумних риб",297.12,388,{"$f":"Tetra!I$98","v":0},{"$f":"Tetra!J$98","v":0}]
[null,5973,767409,"Корм Tetra Cichlid Sticks для рибок цихлід палички 500мл/160г","Більше 10","Корм сухий для акваріумних риб",519.78,675,{"$f":"Tetra!I$99","v":0},{"$f":"Tetra!J$99","v":0}]
[null,1111112215,201415,"Корм Tetra Cichlid XL Flakes д/риб великих цихлід пластівці 10л/1,9кг","Менше 10","Корм сухий для акваріумних риб",3628.2,4898,{"$f":"Tetra!I$100","v":0},{"$f":"Tetra!J$100","v":0}]
[null,1111141223,290310,"Корм Tetra Discus для дискусів гранулы 15г","Більше 10","Корм сухий для акваріумних риб",54.18,70,{"$f":"Tetra!I$101","v":0},{"$f":"Tetra!J$101","v":0}]
[null,11718,126176,"Корм Tetra Discus для рибок дискусів гранули 10л","Немає в наявності","Корм сухий для акваріумних риб",3829.62,5169,{"$f":"Tetra!I$102","v":0},{"$f":"Tetra!J$102","v":0}]
[null,1111126506,167612,"Корм Tetra Gold fish Granules для золотих риб 100мл","Менше 10","Корм сухий для акваріумних риб",106.56,139,{"$f":"Tetra!I$103","v":0},{"$f":"Tetra!J$103","v":0}]
[null,9622,766389,"Корм Tetra Goldfish Flakes для золотих рибок пластівці 12г","Більше 100","Корм сухий для акваріумних риб",39.24,51,{"$f":"Tetra!I$104","v":0},{"$f":"Tetra!J$104","v":0}]
[null,8956,140127,"Корм Tetra Goldfish Flakes для золотих рибок пластівці 250мл","Більше 10","Корм сухий для акваріумних риб",200.76,261,{"$f":"Tetra!I$105","v":0},{"$f":"Tetra!J$105","v":0}]
[null,1111129886,193741,"Корм Tetra Guppy для гупі пластівці 12 г","Більше 100","Корм сухий для акваріумних риб",52.14,68,{"$f":"Tetra!I$106","v":0},{"$f":"Tetra!J$106","v":0}]
[null,1111157244,756861,"Корм Tetra Micro Granules для акваріумних дрібних рибок гранули 100мл","Більше 10","Корм сухий для акваріумних риб",195.96,254,{"$f":"Tetra!I$107","v":0},{"$f":"Tetra!J$107","v":0}]
[null,1111157246,277496,"Корм Tetra Micro Pellets для акваріумних дрібних рибок гранули 100мл","Більше 10","Корм сухий для акваріумних риб",195.96,254,{"$f":"Tetra!I$108","v":0},{"$f":"Tetra!J$108","v":0}]
[null,12585,198913,"Корм Tetra Min Betta для рибок півників пластівці 100мл","Більше 10","Корм сухий для акваріумних риб",187.32,244,{"$f":"Tetra!I$109","v":0},{"$f":"Tetra!J$109","v":0}]
[null,1111114138,149304,"Корм Tetra Min Crisps для акваріумних риб чіпси 12г","Більше 100","Корм сухий для акваріумних риб",59.22,77,{"$f":"Tetra!I$110","v":0},{"$f":"Tetra!J$110","v":0}]
[null,13545,139657,"Корм Tetra Min Crisps для акваріумних рибок чіпси 55г/250мл","Більше 10","Корм сухий для акваріумних риб",293.39999999999998,381,{"$f":"Tetra!I$111","v":0},{"$f":"Tetra!J$111","v":0}]
[null,8319,"769939СПЕЦЦЕНА","Корм Tetra Min Flakes д/тропічних акваріумних риб пластівці 10л/2,1кг","Більше 10","Корм сухий для акваріумних риб",2273.04,3068,{"$f":"Tetra!I$112","v":0},{"$f":"Tetra!J$112","v":0}]
[null,8957,204379,"Корм Tetra Min Flakes для акваріумних рибок пластівці 100г/500мл","Більше 10","Корм сухий для акваріумних риб",467.34,607,{"$f":"Tetra!I$113","v":0},{"$f":"Tetra!J$113","v":0}]
[null,4899,762725,"Корм Tetra Min Flakes для акваріумних рибок пластівці 200г/1л","Більше 10","Корм сухий для акваріумних риб",774.12,1007,{"$f":"Tetra!I$114","v":0},{"$f":"Tetra!J$114","v":0}]
[null,4134,762701,"Корм Tetra Min Flakes для тропічних акваріумних риб пластівці 100мл","Більше 10","Корм сухий для акваріумних риб",114.72,149,{"$f":"Tetra!I$115","v":0},{"$f":"Tetra!J$115","v":0}]
[null,12147,766402,"Корм Tetra Min Flakes для тропічних акваріумних риб пластівці 12г","Більше 100","Корм сухий для акваріумних риб",44.94,58,{"$f":"Tetra!I$116","v":0},{"$f":"Tetra!J$116","v":0}]
[null,5102,762718,"Корм Tetra Min Flakes для тропічних акваріумних риб пластівці 250мл","Більше 10","Корм сухий для акваріумних риб",253.26,330,{"$f":"Tetra!I$117","v":0},{"$f":"Tetra!J$117","v":0}]
[null,11121,139749,"Корм Tetra Min Granules для акваріумних рибок гранули 100г/250мл","Більше 10","Корм сухий для акваріумних риб",295.32,383,{"$f":"Tetra!I$118","v":0},{"$f":"Tetra!J$118","v":0}]
[null,11812,134492,"Корм Tetra Min Granules для акваріумних рибок гранули 15г","Більше 100","Корм сухий для акваріумних риб",54.54,71,{"$f":"Tetra!I$119","v":0},{"$f":"Tetra!J$119","v":0}]
[null,1111138164,240568,"Корм Tetra Min Granules для акваріумних рибок гранули 200г/500мл","Більше 10","Корм сухий для акваріумних риб",511.92,665,{"$f":"Tetra!I$120","v":0},{"$f":"Tetra!J$120","v":0}]
[null,1111116457,201361,"Корм Tetra Min Granules для акваріумних рибок гранули 4,2кг/10л","Більше 10","Корм сухий для акваріумних риб",4040.76,5455,{"$f":"Tetra!I$121","v":0},{"$f":"Tetra!J$121","v":0}]
[null,311890,199057,"Корм Tetra Min Mini Granules для акваріумних рибок гранули 45г","Більше 10","Корм сухий для акваріумних риб",150.12,195,{"$f":"Tetra!I$122","v":0},{"$f":"Tetra!J$122","v":0}]
[null,11906,134430,"Корм Tetra Phyll Flakes для травоїдних рибок пластівці 12г","Більше 10","Корм сухий для акваріумних риб",50.7,66,{"$f":"Tetra!I$123","v":0},{"$f":"Tetra!J$123","v":0}]
[null,1111131087,193840,"Корм Tetra Pleco Spirulina Wafers д/травоїд/донн/риб пласт 1,75кг/3,6л","Менше 10","Корм сухий для акваріумних риб",3105.06,4036,{"$f":"Tetra!I$124","v":0},{"$f":"Tetra!J$124","v":0}]
[null,1111123361,199118,"Корм Tetra Pleco Veggie Wafers д/травоїдн/донних/риб пласт 110г/250мл","Більше 10","Корм сухий для акваріумних риб",377.52,491,{"$f":"Tetra!I$125","v":0},{"$f":"Tetra!J$125","v":0}]
[null,8330,"758629СПЕЦЦЕНА","Корм Tetra Pond KOI Sticks для риб коропів кої гранули 10л","Більше 10","Корм сухий для ставкових риб",737.34,995,{"$f":"Tetra!I$126","v":0},{"$f":"Tetra!J$126","v":0}]
[null,12848,"757608СПЕЦЦЕНА","Корм Tetra Pond KOI Sticks для риб коропів кої гранули 1л","Менше 10","Корм сухий для ставкових риб",149.4,217,{"$f":"Tetra!I$127","v":0},{"$f":"Tetra!J$127","v":0}]
[null,8324,"140189СПЕЦЦЕНА","Корм Tetra Pond Sticks для ставкових риб палички 1л","Більше 100","Корм сухий для ставкових риб",107.04,155,{"$f":"Tetra!I$128","v":0},{"$f":"Tetra!J$128","v":0}]
[null,1111114141,149397,"Корм Tetra PRO Algae Multi-Crisps д/травоїдних риб чипси з овочами 12г","Більше 10","Корм сухий для акваріумних риб",62.16,81,{"$f":"Tetra!I$129","v":0},{"$f":"Tetra!J$129","v":0}]
[null,13564,140516,"Корм Tetra Pro Colour Multi-Crisps д/акв/риб яск/забар чіпси 10л/2,1кг","Менше 10","Корм сухий для акваріумних риб",3875.7,5232,{"$f":"Tetra!I$130","v":0},{"$f":"Tetra!J$130","v":0}]
[null,311889,140677,"Корм Tetra Pro Colour Multi-Crisps д/акв/риб яск/забар чіпси 55г/250мл","Більше 10","Корм сухий для акваріумних риб",314.45999999999998,408,{"$f":"Tetra!I$131","v":0},{"$f":"Tetra!J$131","v":0}]
[null,1111114140,149366,"Корм Tetra PRO Colour Multi-Crisps д/аквар/риб яскрав/забарв чіпси 12г","Більше 100","Корм сухий для акваріумних риб",62.16,81,{"$f":"Tetra!I$132","v":0},{"$f":"Tetra!J$132","v":0}]
[null,13541,141742,"Корм Tetra Pro Energy Multi-Crisps д/акваріумних риб чіпси 55г/250мл","Більше 10","Корм сухий для акваріумних риб",314.45999999999998,408,{"$f":"Tetra!I$133","v":0},{"$f":"Tetra!J$133","v":0}]
[null,13559,141582,"Корм Tetra Pro Energy Multi-Crisps для акваріумних риб чіпси 10л/2,1кг","Більше 10","Корм сухий для акваріумних риб",3875.7,5232,{"$f":"Tetra!I$134","v":0},{"$f":"Tetra!J$134","v":0}]
[null,1111114139,149335,"Корм Tetra PRO Energy Multi-Crisps для акваріумних риб чіпси 12г","Більше 100","Корм сухий для акваріумних риб",62.16,81,{"$f":"Tetra!I$135","v":0},{"$f":"Tetra!J$135","v":0}]
[null,12571,199033,"Корм Tetra Red Parrot для рибок папуг кульки 320г/1л","Менше 10","Корм сухий для акваріумних риб",867.12,1128,{"$f":"Tetra!I$136","v":0},{"$f":"Tetra!J$136","v":0}]
[null,1111131127,194816,"Корм Tetra ReptoFrog для жаб та тритонів 100мл","Менше 10","Корм сухий для черепах та рептилій",218.94,285,{"$f":"Tetra!I$137","v":0},{"$f":"Tetra!J$137","v":0}]
[null,1111111563,133068,"Корм Tetra ReptoMin Energy для черепах палички 100мл","Більше 10","Корм сухий для черепах та рептилій",129.06,169,{"$f":"Tetra!I$138","v":0},{"$f":"Tetra!J$138","v":0}]
[null,1111129885,178649,"Корм Tetra ReptoMin Energy для черепах палички 250мл","Більше 10","Корм сухий для черепах та рептилій",286.74,373,{"$f":"Tetra!I$139","v":0},{"$f":"Tetra!J$139","v":0}]
[null,10734,740365,"Корм Tetra ReptoMin Gammarus для водних черепах 250мл","Менше 10","Корм сухий для черепах та рептилій",118.08,154,{"$f":"Tetra!I$140","v":0},{"$f":"Tetra!J$140","v":0}]
[null,1111145678,258853,"Корм Tetra ReptoMin Junior для черепах палички 30г/100мл","Більше 10","Корм сухий для черепах та рептилій",102.3,133,{"$f":"Tetra!I$141","v":0},{"$f":"Tetra!J$141","v":0}]
[null,1111128642,189966,"Корм Tetra ReptoMin Mix Gammarus для водних черепах 250мл","Більше 10","Корм сухий для черепах та рептилій",195.96,254,{"$f":"Tetra!I$142","v":0},{"$f":"Tetra!J$142","v":0}]
[null,8314,139862,"Корм Tetra ReptoMin для водоплавних черепах палички 100мл","Більше 10","Корм сухий для черепах та рептилій",102.3,133,{"$f":"Tetra!I$143","v":0},{"$f":"Tetra!J$143","v":0}]
[null,4056,761346,"Корм Tetra ReptoMin для водоплавних черепах палички 250мл","Більше 10","Корм сухий для черепах та рептилій",224.04,291,{"$f":"Tetra!I$144","v":0},{"$f":"Tetra!J$144","v":0}]
[null,1111131088,753518,"Корм Tetra ReptoMin для черепах палички 130г/500мл","Більше 10","Корм сухий для черепах та рептилій",403.98,525,{"$f":"Tetra!I$145","v":0},{"$f":"Tetra!J$145","v":0}]
[null,1111133734,201354,"Корм Tetra ReptoMin для черепах палички 2,8кг/10л","Менше 10","Корм сухий для черепах та рептилій",3499.86,4549,{"$f":"Tetra!I$146","v":0},{"$f":"Tetra!J$146","v":0}]
[null,8894,204270,"Корм Tetra ReptoMin для черепах палички 270г/1л","Більше 10","Корм сухий для черепах та рептилій",649.86,845,{"$f":"Tetra!I$147","v":0},{"$f":"Tetra!J$147","v":0}]
[null,1695,767362,"Корм Tetra Rubin Flakes д/аквар/рибок забарвлення пластівці 52г/250мл","Більше 10","Корм сухий для акваріумних риб",301.08,392,{"$f":"Tetra!I$148","v":0},{"$f":"Tetra!J$148","v":0}]
[null,12146,766396,"Корм Tetra Rubin Flakes д/акваріумних риб д/забарвлення пластивці 12г","Більше 100","Корм сухий для акваріумних риб",50.7,66,{"$f":"Tetra!I$149","v":0},{"$f":"Tetra!J$149","v":0}]
[null,1111131114,193765,"Корм Tetra Rubin Granules д/аквар/риб яскравіс/забарвлення гранули 15г","Більше 100","Корм сухий для акваріумних риб",62.16,81,{"$f":"Tetra!I$150","v":0},{"$f":"Tetra!J$150","v":0}]
[null,11119,139800,"Корм Tetra Rubin Granules д/аквар/рибок яскр/забарв гранули 100г/250мл","Більше 10","Корм сухий для акваріумних риб",360.3,469,{"$f":"Tetra!I$151","v":0},{"$f":"Tetra!J$151","v":0}]
[null,1111128326,189911,"Корм Tetra Wafer Mini Mix для акваріумних донних риб таблетки 100мл","Більше 10","Корм сухий для акваріумних риб",269.52,351,{"$f":"Tetra!I$152","v":0},{"$f":"Tetra!J$152","v":0}]
[null,11813,134461,"Корм Tetra Wafer Mix д/аквар/донних риб та ракообразних пластини 15г","Більше 100","Корм сухий для акваріумних риб",65.040000000000006,84,{"$f":"Tetra!I$153","v":0},{"$f":"Tetra!J$153","v":0}]
[null,1111131091,193826,"Корм Tetra Wafer Mix для акваріумних донних риб таблетки 1,85кг/3,6л","Більше 10","Корм сухий для акваріумних риб",2684.52,3625,{"$f":"Tetra!I$154","v":0},{"$f":"Tetra!J$154","v":0}]
[null,12586,198890,"Корм Tetra Wafer Mix для акваріумних донних риб таблетки 119г/250мл","Більше 10","Корм сухий для акваріумних риб",459.72,597,{"$f":"Tetra!I$155","v":0},{"$f":"Tetra!J$155","v":0}]
[null,11435,140066,"Корм Tetra Wafer Mix для акваріумних донних риб таблетки 48г/100мл","Більше 10","Корм сухий для акваріумних риб",226.5,295,{"$f":"Tetra!I$156","v":0},{"$f":"Tetra!J$156","v":0}]
[null,8963,767423,"Корм Tetra Weekend д/акваріумних рибок під час трив/відс/палички 20шт","Більше 10","Корм сухий для акваріумних риб",229.38,298,{"$f":"Tetra!I$157","v":0},{"$f":"Tetra!J$157","v":0}]
[null,8326,"241602СПЕЦЦЕНА","Корм Tetra для ставкових риб Тетра Понд Стікс палички 50л/5,04кг","Більше 100","Корм сухий для ставкових риб",1912.38,2582,{"$f":"Tetra!I$158","v":0},{"$f":"Tetra!J$158","v":0}]
[null,1111174267,"149519_ord","Корм Tetra палички для сух-х черепах Тетра Тортоуз 500мл","Більше 10","Корм сухий для черепах та рептилій",307.68,400,{"$f":"Tetra!I$159","v":0},{"$f":"Tetra!J$159","v":0}]
[null,5744,199156,"Корм TetraMin Baby для малька порошок 66мл","Менше 10","Корм сухий для акваріумних риб",183.48,239,{"$f":"Tetra!I$160","v":0},{"$f":"Tetra!J$160","v":0}]
[null,1111157245,277557,"Корм сухий Tetra Micro Crisps для тропічних акваріумних риб чіпси 100м","Менше 10","Корм сухий для акваріумних риб",195.3,253,{"$f":"Tetra!I$161","v":0},{"$f":"Tetra!J$161","v":0}]
[null,1111157247,277526,"Корм сухий Tetra Micro Sticks для тропічних акваріумних риб палички 10","Більше 10","Корм сухий для акваріумних риб",195.3,253,{"$f":"Tetra!I$162","v":0},{"$f":"Tetra!J$162","v":0}]
[null,1111130295,"179158_ord","Кріплення для фільтра Tetratec Easy Crystal 250","Менше 10","Аксесуари для обладнання",94.74,128,{"$f":"Tetra!I$163","v":0},{"$f":"Tetra!J$163","v":0}]
[null,1111130296,"179165_ord","Кріплення для фільтра Tetratec Easy Crystal 300","Менше 10","Аксесуари для обладнання",155.46,210,{"$f":"Tetra!I$164","v":0},{"$f":"Tetra!J$164","v":0}]
[null,9214,"768673_ord","Ласощі Tetra желе для риб Фреш Деліка артемія 48г","Менше 10","Корм сухий для акваріумних риб",270.83999999999997,352,{"$f":"Tetra!I$165","v":0},{"$f":"Tetra!J$165","v":0}]
[null,1111174265,"236707_ord","Ласощі Tetra желе для риб Фреш Деліка криль 48г","Менше 10","Корм сухий для акваріумних риб",266.58,346,{"$f":"Tetra!I$166","v":0},{"$f":"Tetra!J$166","v":0}]
[null,1111122069,"169241_ord","Ласощі Tetra сухі для черепах Репто Деліка креветки 250мл","Менше 10","Корм сухий для черепах та рептилій",286.44,372,{"$f":"Tetra!I$167","v":0},{"$f":"Tetra!J$167","v":0}]
[null,1111113829,"179400_ordСПЕЦЦЕНА","Набір запчастин для компресора Tetratec APS 50","Менше 10","Аксесуари для акваріума",176.04,237,{"$f":"Tetra!I$168","v":0},{"$f":"Tetra!J$168","v":0}]
[null,1111162343,"286962_ord","Набір запчастин для фільтра Tetra FilterJet","Менше 10","Аксесуари для обладнання",236.64,319,{"$f":"Tetra!I$169","v":0},{"$f":"Tetra!J$169","v":0}]
[null,1111205896,"324756СПЕЦЦЕНА","Набір індик/тестів Tetra Pond Test 7in1 д/ставка показ/якост/води 25шт","Менше 10","Засоби для догляду за ставком",398.88,538,{"$f":"Tetra!I$170","v":0},{"$f":"Tetra!J$170","v":0}]
[null,1111122049,175488,"Набір тестів Tetra Test 6in1 д/акваріумів вимір/парам/води індикатори","Більше 10","Тести для води",649.86,845,{"$f":"Tetra!I$171","v":0},{"$f":"Tetra!J$171","v":0}]
[null,1111112938,145566,"Наповнювач Tetra BioBalls біо-кульки для зовнішнього фільтра EX 800мл","Менше 10","Фільтри для акваріумів",326.76,441,{"$f":"Tetra!I$172","v":0},{"$f":"Tetra!J$172","v":0}]
[null,1111113823,145603,"Наповнювач Tetra Carbon д/зовнішн/фільтра EX 600-1500 вугільний 800мл","Менше 10","Фільтри для акваріумів",345.12,466,{"$f":"Tetra!I$173","v":0},{"$f":"Tetra!J$173","v":0}]
[null,1111113807,145573,"Наповнювач Tetra Filter Rings д/зовніш/фільтра EX кераміч/кільця 800мл","Менше 10","Фільтри для акваріумів",275.22000000000003,372,{"$f":"Tetra!I$174","v":0},{"$f":"Tetra!J$174","v":0}]
[null,1111115081,"145122****","Обігрівач Tetratec HT 25 Вт","Менше 10","Обігрівачі для акваріума",1019.88,1478,{"$f":"Tetra!I$175","v":0},{"$f":"Tetra!J$175","v":0}]
[null,1111154450,557635,"Пакет Tetra д/транспортування риб Fish Transport Bag великий 50шт/упак","Більше 10","Аксесуари для акваріума",622.79999999999995,1027,{"$f":"Tetra!I$176","v":0},{"$f":"Tetra!J$176","v":0}]
[null,1111154452,543829,"Пакет Tetra д/транспортування риб Fish Transport Bag маленьк 50шт/упак","Більше 10","Аксесуари для акваріума",373.68,616,{"$f":"Tetra!I$177","v":0},{"$f":"Tetra!J$177","v":0}]
[null,1111184022,"304611_ord","Перехідник для шлангів Tetra EX500/700/1000 40 МК","Менше 10","Аксесуари для обладнання",708.42,956,{"$f":"Tetra!I$178","v":0},{"$f":"Tetra!J$178","v":0}]
[null,1111184027,"304994_ord","Присоски Tetra для фільтра EX1500 4ct 40 MK","Менше 10","Аксесуари для обладнання",160.19999999999999,216,{"$f":"Tetra!I$179","v":0},{"$f":"Tetra!J$179","v":0}]
[null,1111184026,"304710_ord","Присоски Tetra для фільтра EX500/700/1000 4ct 40MK","Менше 10","Аксесуари для обладнання",160.19999999999999,216,{"$f":"Tetra!I$180","v":0},{"$f":"Tetra!J$180","v":0}]
[null,9874,603523,"Розпилювач Tetra AS30 для акваріума повітряний циліндр 30мм","Більше 10","Аксесуари для акваріума",40.26,66,{"$f":"Tetra!I$181","v":0},{"$f":"Tetra!J$181","v":0}]
[null,9617,603554,"Розпилювач Tetra AS35 для акваріума повітряний циліндр 35мм","Більше 10","Аксесуари для акваріума",44.4,74,{"$f":"Tetra!I$182","v":0},{"$f":"Tetra!J$182","v":0}]
[null,1111132864,"603561_ord","Розпилювач Tetra AS40 для акваріума повітряний циліндр 40мм","Менше 10","Аксесуари для акваріума",53.76,89,{"$f":"Tetra!I$183","v":0},{"$f":"Tetra!J$183","v":0}]
[null,9226,603578,"Розпилювач Tetra AS45 для акваріума повітряний циліндр 45мм","Більше 10","Аксесуари для акваріума",60.42,100,{"$f":"Tetra!I$184","v":0},{"$f":"Tetra!J$184","v":0}]
[null,10518,607590,"Розпилювач Tetra AS50 для ставків круглий","Більше 10","Обладнання для ставка",134.16,224,{"$f":"Tetra!I$185","v":0},{"$f":"Tetra!J$185","v":0}]
[null,1111128391,"134706_ord","Ротор Tetra для внутрішнього фільтра IN 600 Plus","Менше 10","Аксесуари для обладнання",352.08,528,{"$f":"Tetra!I$186","v":0},{"$f":"Tetra!J$186","v":0}]
[null,1111138155,"213647_ord","Ротор Tetra для внутрішнього фільтра акваріума Cascade Globe","Менше 10","Аксесуари для обладнання",178.62,242,{"$f":"Tetra!I$187","v":0},{"$f":"Tetra!J$187","v":0}]
[null,1111146730,"260160_ord","Ротор Tetra для зовнішнього фільтра EX 400 Plus","Менше 10","Аксесуари для обладнання",845.82,1142,{"$f":"Tetra!I$188","v":0},{"$f":"Tetra!J$188","v":0}]
[null,1111184018,"304734_ord","Ротор Tetra для фільтра EX1000 40 MK","Менше 10","Аксесуари для обладнання",755.64,1020,{"$f":"Tetra!I$189","v":0},{"$f":"Tetra!J$189","v":0}]
[null,1111184019,"304758_ord","Ротор Tetra для фільтра EX1500 40 MK","Менше 10","Аксесуари для обладнання",877.68,1184,{"$f":"Tetra!I$190","v":0},{"$f":"Tetra!J$190","v":0}]
[null,1111184016,"304956_ord","Ротор Tetra для фільтра EX500 40 MK","Менше 10","Аксесуари для обладнання",658.26,888,{"$f":"Tetra!I$191","v":0},{"$f":"Tetra!J$191","v":0}]
[null,1111184017,"304574_ord","Ротор Tetra для фільтра EX700 40 MK","Менше 10","Аксесуари для обладнання",708.42,956,{"$f":"Tetra!I$192","v":0},{"$f":"Tetra!J$192","v":0}]
[null,1111162337,"286979_ord","Ротор Tetra для фільтра FilterJet 400","Менше 10","Аксесуари для обладнання",172.02,232,{"$f":"Tetra!I$193","v":0},{"$f":"Tetra!J$193","v":0}]
[null,1111162338,"286986_ord","Ротор Tetra для фільтра FilterJet 600","Менше 10","Аксесуари для обладнання",172.02,232,{"$f":"Tetra!I$194","v":0},{"$f":"Tetra!J$194","v":0}]
[null,1111162339,"286993_ord","Ротор Tetra для фільтра FilterJet 900","Менше 10","Аксесуари для обладнання",172.02,232,{"$f":"Tetra!I$195","v":0},{"$f":"Tetra!J$195","v":0}]
[null,1111113824,"145610_ord","Ротор для фільтра Tetratec EX 600","Менше 10","Аксесуари для обладнання",759.42,1025,{"$f":"Tetra!I$196","v":0},{"$f":"Tetra!J$196","v":0}]
[null,1111143260,"145627_ord","Ротор для фільтра Tetratec EX 800 plus","Менше 10","Аксесуари для обладнання",902.82,1219,{"$f":"Tetra!I$197","v":0},{"$f":"Tetra!J$197","v":0}]
[null,1111113826,"145634_ord","Ротор для фільтра Tetratec ЕX 1200","Менше 10","Аксесуари для обладнання",653.16,882,{"$f":"Tetra!I$198","v":0},{"$f":"Tetra!J$198","v":0}]
[null,1111138156,"240698_ord","Ротор для фільтра Tetratec ЕX 1200 plus","Більше 10","Аксесуари для обладнання",1128.48,1524,{"$f":"Tetra!I$199","v":0},{"$f":"Tetra!J$199","v":0}]
[null,13571,724457,"Сачок Tetra Fish Net для акваріумів середній 10см","Більше 10","Аксесуари для акваріума",46.2,76,{"$f":"Tetra!I$200","v":0},{"$f":"Tetra!J$200","v":0}]
[null,1111111565,762312,"Сифон Tetra GC 30 для акваріума для чищення грунту 20-60л","Менше 10","Аксесуари для акваріума",486.6,803,{"$f":"Tetra!I$201","v":0},{"$f":"Tetra!J$201","v":0}]
[null,11737,762329,"Сифон Tetra GC 40 для акваріума для чищення грунту 50-200л","Менше 10","Аксесуари для акваріума",611.88,1009,{"$f":"Tetra!I$202","v":0},{"$f":"Tetra!J$202","v":0}]
[null,8788,762336,"Сифон Tetra GC 50 для акваріума для чищення грунту 50-400л","Менше 10","Аксесуари для акваріума",754.56,1244,{"$f":"Tetra!I$203","v":0},{"$f":"Tetra!J$203","v":0}]
[null,1111145637,246898,"Субстрат Tetra Active Substrate для акваріума з рослинами 3л","Більше 10","Грунти для акваріума",315.42,411,{"$f":"Tetra!I$204","v":0},{"$f":"Tetra!J$204","v":0}]
[null,12845,297524,"Субстрат Tetra CompleteSubstrate з добривами 2,5кг","Менше 10","Грунти для акваріума",482.64,627,{"$f":"Tetra!I$205","v":0},{"$f":"Tetra!J$205","v":0}]
[null,12846,245303,"Субстрат Tetra CompleteSubstrate з добривами 5кг","Менше 10","Грунти для акваріума",833.22,1083,{"$f":"Tetra!I$206","v":0},{"$f":"Tetra!J$206","v":0}]
[null,1111202085,175655,"ТЕРМ 09.25 НТВ Засіб Tetra SafeStart аквар/негай/запуск/риб 250мл/300л","Менше 10","Кондиціонери для води",369.6,0,{"$f":"Tetra!I$207","v":0},{"$f":"Tetra!J$207","v":0}]
[null,1111208450,193765,"ТЕРМ. 02.26, НЕТОВ.В.. Корм сухий Tetra Rubin Granules для акваріумних","Менше 10","Корм сухий для акваріумних риб",31.08,0,{"$f":"Tetra!I$208","v":0},{"$f":"Tetra!J$208","v":0}]
[null,1111207239,204270,"ТЕРМ. 05.27, ПОМ'ЯТ. Корм Tetra ReptoMin для черепах палички 270 г/ 1 ","Менше 10","Корм сухий для черепах та рептилій",324.95999999999998,0,{"$f":"Tetra!I$209","v":0},{"$f":"Tetra!J$209","v":0}]
[null,1111202822,175655,"ТЕРМ. 09.25 Засіб Tetra SafeStart аквар/негай/запуск/риб 250мл/300л","Більше 10","Кондиціонери для води",390.96,0,{"$f":"Tetra!I$210","v":0},{"$f":"Tetra!J$210","v":0}]
[null,1111113798,"753686_ordСПЕЦЦЕНА","Термометр Tetratec TH35","Менше 10","Аксесуари для акваріума",166.74,439,{"$f":"Tetra!I$211","v":0},{"$f":"Tetra!J$211","v":0}]
[null,1111170986,302761,"Фільтр Tetra External EX 1000 для акваріума 100-300л 1150л/год","Менше 10","Фільтри для акваріумів",6449.82,8708,{"$f":"Tetra!I$212","v":0},{"$f":"Tetra!J$212","v":0}]
[null,1111170984,302808,"Фільтр Tetra External EX 500 для акваріума 100л 910л/год","Менше 10","Фільтри для акваріумів",4887.4799999999996,6598,{"$f":"Tetra!I$213","v":0},{"$f":"Tetra!J$213","v":0}]
[null,1111158747,"287143_ord","Фільтр Tetra FilterJet 600","Менше 10","Фільтри для акваріумів",937.68,1266,{"$f":"Tetra!I$214","v":0},{"$f":"Tetra!J$214","v":0}]
[null,1111158748,"287167_ord","Фільтр Tetra FilterJet 900","Менше 10","Фільтри для акваріумів",1051.98,1420,{"$f":"Tetra!I$215","v":0},{"$f":"Tetra!J$215","v":0}]
[null,1111170985,302747,"Фільтр Tetra для акваріумів External EX 700 Plus 1040л/год","Менше 10","Фільтри для акваріумів",5542.68,7482,{"$f":"Tetra!I$216","v":0},{"$f":"Tetra!J$216","v":0}]
[null,6855,"607668_ord","Фільтр Tetratec IN 800 150 л","Менше 10","Фільтри для акваріумів",1614,2179,{"$f":"Tetra!I$217","v":0},{"$f":"Tetra!J$217","v":0}]
[null,1111182159,"288317_ord","Фільтр для акваріума Tetra EasyCrystal Filter 100","Більше 10","Фільтри для акваріумів",998.16,1348,{"$f":"Tetra!I$218","v":0},{"$f":"Tetra!J$218","v":0}]
[null,1111122804,157026,"Шланг Tetra Tetratec силіконовий 2,5м","Менше 10","Аксесуари для обладнання",98.16,162,{"$f":"Tetra!I$219","v":0},{"$f":"Tetra!J$219","v":0}]
[null,1111184021,"304772_ord","Шланг Tetra для фільтра EX1500 6 MK","Менше 10","Аксесуари для обладнання",807.42,1091,{"$f":"Tetra!I$220","v":0},{"$f":"Tetra!J$220","v":0}]
[null,1111184020,"304598_ord","Шланг Tetra для фільтра EX500/700/1000 12 МК","Менше 10","Аксесуари для обладнання",483.6,652,{"$f":"Tetra!I$221","v":0},{"$f":"Tetra!J$221","v":0}]
[null,1111137351,"239364_ord","Щітка для чищення трубок Tetra 160 см","Більше 10","Аксесуари для акваріума",305.52,628,{"$f":"Tetra!I$222","v":0},{"$f":"Tetra!J$222","v":0}]
[null,1111183911,"31282_10шт*****","Denta Fun Veggie Медова гребінець з морськ. водоростями д/собак 12 см","Менше 10",null,629.4,818,{"$f":"Trixie!I$8","v":0},{"$f":"Trixie!J$8","v":0}]
[null,1111183909,"31283_10шт*****","Denta Fun Veggie Щелепна кістка для собак велика 12 см 35 г","Менше 10",null,391.62,509,{"$f":"Trixie!I$9","v":0},{"$f":"Trixie!J$9","v":0}]
[null,1111183905,"31284_5шт*****","Denta Fun Veggie Щелепна кістка для собак велика 22 см 85 г","Менше 10",null,468.6,609,{"$f":"Trixie!I$10","v":0},{"$f":"Trixie!J$10","v":0}]
[null,1111184076,"2756*****","Ham bone Trixie д/собак Кістка окосту 24 см 390 г","Більше 10","Ласощі для собак",148.26,193,{"$f":"Trixie!I$11","v":0},{"$f":"Trixie!J$11","v":0}]
[null,1111184077,"31412*****","Pig tibia bonе Trixie д/собак Свиняча гомілкова кістка 17 см 200 г","Більше 10","Ласощі для собак",117.54,153,{"$f":"Trixie!I$12","v":0},{"$f":"Trixie!J$12","v":0}]
[null,1111183266,42755,"PREMIO Freeze Dried крветки 25 г","Більше 100","Ласощі для котів",131.52000000000001,171,{"$f":"Trixie!I$13","v":0},{"$f":"Trixie!J$13","v":0}]
[null,1111184062,"31843*****","PREMIO lamb pâté Trixie д/собак Паштет з баранини 110г","Більше 10","Ласощі для собак",191.64,249,{"$f":"Trixie!I$14","v":0},{"$f":"Trixie!J$14","v":0}]
[null,1111184056,"3176*****","PREMIO liver pâté Trixie д/собак Печінковий паштет 110г","Більше 100","Ласощі для собак",167.88,218,{"$f":"Trixie!I$15","v":0},{"$f":"Trixie!J$15","v":0}]
[null,1111184058,"3179*****","PREMIO poultry pâté Trixie д/собак Паштет з птиці 110г","Більше 100","Ласощі для собак",191.64,249,{"$f":"Trixie!I$16","v":0},{"$f":"Trixie!J$16","v":0}]
[null,1111184057,"3178*****","PREMIO salmon pâté Trixie д/собак Паштет з лосося 110г","Більше 100","Ласощі для собак",191.64,249,{"$f":"Trixie!I$17","v":0},{"$f":"Trixie!J$17","v":0}]
[null,1111153606,"2673_10шт","Trixie Chewing Ball д/собак М_яч жувальний начинка/шкіра 8см 170г 10шт","Менше 10","Ласощі для собак",1258.8,1636,{"$f":"Trixie!I$18","v":0},{"$f":"Trixie!J$18","v":0}]
[null,1111170305,31505,"Trixie Chicken Burger для собак Бургер з куркою 9см 140г","Більше 10","Ласощі для собак",202.8,264,{"$f":"Trixie!I$19","v":0},{"$f":"Trixie!J$19","v":0}]
[null,1111151354,42743,"Trixie Cookies ласощі для котів лосось/котяча м_ята 50г","Більше 100","Ласощі для котів",55.98,73,{"$f":"Trixie!I$20","v":0},{"$f":"Trixie!J$20","v":0}]
[null,1111176339,42683,"Trixie Creamy Snacks для котів з білою риби 5шт х 14г","Більше 100","Ласощі для котів",82.56,107,{"$f":"Trixie!I$21","v":0},{"$f":"Trixie!J$21","v":0}]
[null,1111176337,42681,"Trixie Creamy Snacks для котів з куркою 5шт х 14г","Більше 100","Ласощі для котів",82.56,107,{"$f":"Trixie!I$22","v":0},{"$f":"Trixie!J$22","v":0}]
[null,1111176338,42682,"Trixie Creamy Snacks для котів з тунцем і креветками 5шт х 14г","Більше 100","Ласощі для котів",82.56,107,{"$f":"Trixie!I$23","v":0},{"$f":"Trixie!J$23","v":0}]
[null,13429,31501,"Trixie Denta Fun Chew Bites ласощі для собак петрушка/м_ята 150г","Немає в наявності","Ласощі для собак",100.74,131,{"$f":"Trixie!I$24","v":0},{"$f":"Trixie!J$24","v":0}]
[null,1111116717,"2674*****","Trixie Denta Fun Chewing Chips ласощі для собак спіруліна 50г","Більше 100","Ласощі для собак",82.56,107,{"$f":"Trixie!I$25","v":0},{"$f":"Trixie!J$25","v":0}]
[null,1111143414,31342,"Trixie Denta Fun Chewing Dumbbells ласощі для собак курка/рис 100г 6шт","Більше 10","Ласощі для собак",113.34,147,{"$f":"Trixie!I$26","v":0},{"$f":"Trixie!J$26","v":0}]
[null,1111156267,31372,"Trixie Denta Fun Chewing Rolls Mix паличка для собак асорті 10см 250г","Більше 100","Ласощі для собак",414,538,{"$f":"Trixie!I$27","v":0},{"$f":"Trixie!J$27","v":0}]
[null,1111156268,31395,"Trixie Denta Fun Chewing Rolls паличка для собак качка 12см 240г 30шт","Більше 100","Ласощі для собак",377.64,491,{"$f":"Trixie!I$28","v":0},{"$f":"Trixie!J$28","v":0}]
[null,1111134918,31371,"Trixie Denta Fun Chewing Rolls паличка для собак качка 12см 80г 10шт","Більше 100","Ласощі для собак",125.88,164,{"$f":"Trixie!I$29","v":0},{"$f":"Trixie!J$29","v":0}]
[null,1111134919,31373,"Trixie Denta Fun Chewing Rolls паличка для собак качка 17см 140г 3шт","Більше 100","Ласощі для собак",186.06,242,{"$f":"Trixie!I$30","v":0},{"$f":"Trixie!J$30","v":0}]
[null,1111134920,31374,"Trixie Denta Fun Chewing Rolls паличка для собак качка 28см 250г 3шт","Більше 100","Ласощі для собак",323.10000000000002,420,{"$f":"Trixie!I$31","v":0},{"$f":"Trixie!J$31","v":0}]
[null,1111140898,31378,"Trixie Denta Fun Chewing Rolls паличка для собак курка 12см 240г 30шт","Більше 100","Ласощі для собак",337.08,438,{"$f":"Trixie!I$32","v":0},{"$f":"Trixie!J$32","v":0}]
[null,1111137237,31325,"Trixie Denta Fun Chewing Rolls паличка для собак курка 12см 70г 6шт","Більше 100","Ласощі для собак",102.12,133,{"$f":"Trixie!I$33","v":0},{"$f":"Trixie!J$33","v":0}]
[null,1111140896,31376,"Trixie Denta Fun Chewing Rolls паличка для собак курка 12см 80г 10шт","Більше 100","Ласощі для собак",186.06,242,{"$f":"Trixie!I$34","v":0},{"$f":"Trixie!J$34","v":0}]
[null,1111139988,31321,"Trixie Denta Fun Chicken Chewing Bone ласощі д/собак курка 70г/5шт","Більше 10","Ласощі для собак",103.5,135,{"$f":"Trixie!I$35","v":0},{"$f":"Trixie!J$35","v":0}]
[null,1111120314,4266,"Trixie Denta Fun Dentinos ласощі для котів для здоров_я зубів 50г","Більше 10","Вітаміни для котів",64.38,84,{"$f":"Trixie!I$36","v":0},{"$f":"Trixie!J$36","v":0}]
[null,1111134756,3173,"Trixie Denta Fun Dentros ласощі для собак м_ясо птахів 180г 7шт","Більше 100","Ласощі для собак",89.52,116,{"$f":"Trixie!I$37","v":0},{"$f":"Trixie!J$37","v":0}]
[null,1111141111,31391,"Trixie Denta Fun Duck Chewing Bones ласощі для собак качка 10см 70г","Більше 100","Ласощі для собак",125.88,164,{"$f":"Trixie!I$38","v":0},{"$f":"Trixie!J$38","v":0}]
[null,1111141112,31392,"Trixie Denta Fun Duck Chewing Bones ласощі для собак качка 12см 120г","Більше 100","Ласощі для собак",186.06,242,{"$f":"Trixie!I$39","v":0},{"$f":"Trixie!J$39","v":0}]
[null,1111148380,31347,"Trixie Denta Fun Mini Chewing Rolls паличка для собак качка 6см 120г","Більше 100","Ласощі для собак",166.44,216,{"$f":"Trixie!I$40","v":0},{"$f":"Trixie!J$40","v":0}]
[null,1111148379,31346,"Trixie Denta Fun Mini для собак Палички для чищ/зубів курка 6см 120г","Більше 100","Ласощі для собак",166.44,216,{"$f":"Trixie!I$41","v":0},{"$f":"Trixie!J$41","v":0}]
[null,1111146289,31387,"Trixie Denta Fun д/соб Роли жувальні натур шкіра 12см 75г 10шт/уп","Більше 100","Ласощі для собак",145.5,189,{"$f":"Trixie!I$42","v":0},{"$f":"Trixie!J$42","v":0}]
[null,1111170299,31331,"Trixie Denta Fun д/собак Кільце для чищ/зубів курка 20см 225г","Більше 10","Ласощі для собак",360.9,469,{"$f":"Trixie!I$43","v":0},{"$f":"Trixie!J$43","v":0}]
[null,1111170293,"311841*****","Trixie Denta Fun д/собак Кільце для чищ/зубів курка 5см 27г 150шт","Менше 10","Ласощі для собак",8391.9,10909,{"$f":"Trixie!I$44","v":0},{"$f":"Trixie!J$44","v":0}]
[null,1111170300,31332,"Trixie Denta Fun д/собак Кільце для чищ/зубів курка 6см 110г 2шт","Більше 10","Ласощі для собак",207,269,{"$f":"Trixie!I$45","v":0},{"$f":"Trixie!J$45","v":0}]
[null,1111161304,31225,"Trixie Denta Fun д/собак Паличка для чищ/зубів яловичина 12см 70г 6шт","Більше 100","Ласощі для собак",103.5,135,{"$f":"Trixie!I$46","v":0},{"$f":"Trixie!J$46","v":0}]
[null,1111161305,"9931227/31227_3 шт","Trixie Denta Fun д/собак Паличка для чищ/зубів яловичина 17см 140г 3шт","Більше 100","Ласощі для собак",207,269,{"$f":"Trixie!I$47","v":0},{"$f":"Trixie!J$47","v":0}]
[null,1111141771,31388,"Trixie Denta Fun д/собак Паличка для чищення зубів буйвол 12см 70г 5шт","Більше 100","Ласощі для собак",145.5,189,{"$f":"Trixie!I$48","v":0},{"$f":"Trixie!J$48","v":0}]
[null,1111137240,"31329_1шт","Trixie Denta Fun д/собак Палички для чищення зубів з куркою 40см 170 г","Більше 100","Ласощі для собак",226.62,295,{"$f":"Trixie!I$49","v":0},{"$f":"Trixie!J$49","v":0}]
[null,1111156276,31338,"Trixie Denta Fun д/собак Палички для чищення зубів кролик 12см 70г 6шт","Більше 10","Ласощі для собак",113.34,147,{"$f":"Trixie!I$50","v":0},{"$f":"Trixie!J$50","v":0}]
[null,1111140897,31377,"Trixie Denta Fun д/собак Палички для чищення зубів курка 12см 105г 3шт","Більше 10","Ласощі для собак",207,269,{"$f":"Trixie!I$51","v":0},{"$f":"Trixie!J$51","v":0}]
[null,1111137239,31327,"Trixie Denta Fun д/собак Палички для чищення зубів курка 17см 140г 3шт","Більше 100","Ласощі для собак",186.06,242,{"$f":"Trixie!I$52","v":0},{"$f":"Trixie!J$52","v":0}]
[null,1111137238,31326,"Trixie Denta Fun д/собак Палички для чищення зубів курка 28см 250г 3шт","Більше 100","Ласощі для собак",323.10000000000002,420,{"$f":"Trixie!I$53","v":0},{"$f":"Trixie!J$53","v":0}]
[null,1111116716,"2682*****","Trixie Denta Fun д/собак Пластинки для чищен/зубів зі спіруліною 100г","Більше 100","Ласощі для собак",158.1,205,{"$f":"Trixie!I$54","v":0},{"$f":"Trixie!J$54","v":0}]
[null,1111139737,"31328_1шт","Trixie Denta Fun для собак Кільце для чищ/зубів з куркою 10см 110г","Більше 10","Ласощі для собак",166.44,216,{"$f":"Trixie!I$55","v":0},{"$f":"Trixie!J$55","v":0}]
[null,1111146646,"31324_1шт","Trixie Denta Fun для собак Кісточка для чищ/зубів з куркою 18см 120г","Більше 10","Ласощі для собак",145.5,189,{"$f":"Trixie!I$56","v":0},{"$f":"Trixie!J$56","v":0}]
[null,1111144020,"31345_1шт*****","Trixie Denta Fun для собак Кісточка для чищ/зубів з куркою 20см 200г","Менше 10","Ласощі для собак",226.62,295,{"$f":"Trixie!I$57","v":0},{"$f":"Trixie!J$57","v":0}]
[null,1111146645,"31320_1шт","Trixie Denta Fun для собак Кісточка для чищ/зубів з куркою 25см 220г","Більше 10","Ласощі для собак",250.38,325,{"$f":"Trixie!I$58","v":0},{"$f":"Trixie!J$58","v":0}]
[null,1111139989,31322,"Trixie Denta Fun для собак Кісточка для чищ/зубів курка 11см 70г 2шт","Більше 100","Ласощі для собак",103.5,135,{"$f":"Trixie!I$59","v":0},{"$f":"Trixie!J$59","v":0}]
[null,1111134917,31340,"Trixie Denta Fun для собак Кісточка для чищ/зубів курка 5см 120г 8шт","Більше 10","Ласощі для собак",183.24,238,{"$f":"Trixie!I$60","v":0},{"$f":"Trixie!J$60","v":0}]
[null,1111115309,"31121_1шт*****","Trixie Denta Fun для собак Кісточка для чищ/зубів шкіра 16см 110г","Більше 10","Ласощі для собак",158.1,205,{"$f":"Trixie!I$61","v":0},{"$f":"Trixie!J$61","v":0}]
[null,12226,"31141_1шт*****","Trixie Denta Fun для собак Кісточка для чищ/зубів шкіра 24см 240г","Більше 10","Ласощі для собак",320.33999999999997,416,{"$f":"Trixie!I$62","v":0},{"$f":"Trixie!J$62","v":0}]
[null,1111186068,"31475_5шт*****","Trixie Denta Fun Косички з яловичиною для собак 12см 5шт","Більше 10","Ласощі для собак",195.84,255,{"$f":"Trixie!I$63","v":0},{"$f":"Trixie!J$63","v":0}]
[null,1111144019,"31344_1шт","Trixie Denta Fun ласощі д/собак Кістка для чищення зубів 17см 140г1шт","Більше 10","Ласощі для собак",186.06,242,{"$f":"Trixie!I$64","v":0},{"$f":"Trixie!J$64","v":0}]
[null,1111163209,"31473*****","Trixie DentaFun Chicken Chewing ласощі д/собак курка 15см 110г 3шт","Більше 10","Ласощі для собак",226.62,295,{"$f":"Trixie!I$65","v":0},{"$f":"Trixie!J$65","v":0}]
[null,1111170303,31466,"Trixie DentaFun д/соб Реберця качка натур шкір 17см 110г 2шт/уп","Більше 10","Ласощі для собак",207,269,{"$f":"Trixie!I$66","v":0},{"$f":"Trixie!J$66","v":0}]
[null,1111170304,31467,"Trixie DentaFun д/соб Реберця курка натур шкіра 12см 90г 3шт/уп","Більше 10","Ласощі для собак",166.44,216,{"$f":"Trixie!I$67","v":0},{"$f":"Trixie!J$67","v":0}]
[null,1111121023,"31492  Trixie","Trixie Flowers ласощі для собак малих порід та цуценят ягня/курка 75г","Більше 100","Ласощі для собак",68.58,89,{"$f":"Trixie!I$68","v":0},{"$f":"Trixie!J$68","v":0}]
[null,1111162485,31518,"Trixie Junior Soft Snack Bones ласощі для цуценят з кальцієм 140г","Більше 10","Вітаміни для собак",123.12,160,{"$f":"Trixie!I$69","v":0},{"$f":"Trixie!J$69","v":0}]
[null,1111162486,31519,"Trixie Junior Soft Snack Dots ласощі для цуценят з Омега-3 та 6 140г","Більше 100","Вітаміни для собак",123.12,160,{"$f":"Trixie!I$70","v":0},{"$f":"Trixie!J$70","v":0}]
[null,1111170289,31656,"Trixie Mini Pretzels для собак крендель з куркою 100г","Більше 100","Ласощі для собак",166.44,216,{"$f":"Trixie!I$71","v":0},{"$f":"Trixie!J$71","v":0}]
[null,1111156266,"27127*****","Trixie Natural Dried для собак Хвіст буйвола 28-30см","Більше 10","Ласощі для собак",166.44,216,{"$f":"Trixie!I$72","v":0},{"$f":"Trixie!J$72","v":0}]
[null,1111156271,31853,"Trixie Premio 4 Meat Bars для собак курка/качкабаранина/лосось 4х100г","Більше 10","Ласощі для собак",462.96,602,{"$f":"Trixie!I$73","v":0},{"$f":"Trixie!J$73","v":0}]
[null,1111156270,31852,"Trixie Premio 4 Meat Minis для собак курка/качка/ялович/баранин 4х100г","Більше 10","Ласощі для собак",462.96,602,{"$f":"Trixie!I$74","v":0},{"$f":"Trixie!J$74","v":0}]
[null,1111156272,"31854*****","Trixie Premio 4 Meat Superfoods д/собак курка/качка/ялов/баран 4х100г","Менше 10","Ласощі для собак",462.96,602,{"$f":"Trixie!I$75","v":0},{"$f":"Trixie!J$75","v":0}]
[null,1111138613,31593,"Trixie Premio Apple Chicken ласощі для собак з куркою та яблуком 100г","Більше 10","Ласощі для собак",137.1,178,{"$f":"Trixie!I$76","v":0},{"$f":"Trixie!J$76","v":0}]
[null,1111129082,31582,"Trixie Premio Banana Chicken ласощі для собак з куркою та бананом 100г","Більше 10","Ласощі для собак",137.1,178,{"$f":"Trixie!I$77","v":0},{"$f":"Trixie!J$77","v":0}]
[null,1111124005,42703,"Trixie Premio Barbecue Hearts ласощі для котів сердечка з куркою 50г","Більше 100","Ласощі для котів",82.56,107,{"$f":"Trixie!I$78","v":0},{"$f":"Trixie!J$78","v":0}]
[null,1111140891,31706,"Trixie Premio Beef Coins ласощі для собак яловичина 100г","Більше 100","Ласощі для собак",145.5,189,{"$f":"Trixie!I$79","v":0},{"$f":"Trixie!J$79","v":0}]
[null,1111148409,31804,"Trixie Premio Carpaccio XXL ласощі для собак з качкою та рибою 80г","Більше 100","Ласощі для собак",137.1,178,{"$f":"Trixie!I$80","v":0},{"$f":"Trixie!J$80","v":0}]
[null,1111133312,42707,"Trixie Premio Carpaccio ласощі для котів качка/риба 20г","Більше 100","Ласощі для котів",39.18,51,{"$f":"Trixie!I$81","v":0},{"$f":"Trixie!J$81","v":0}]
[null,1111151352,42742,"Trixie Premio Catnip Chicken Bites для котів курка/котяча м_ята 50г","Більше 100","Ласощі для котів",82.56,107,{"$f":"Trixie!I$82","v":0},{"$f":"Trixie!J$82","v":0}]
[null,1111136713,42717,"Trixie Premio Cheese Chicken Cubes ласощі для котів курка/сир 50г","Більше 100","Ласощі для котів",82.56,107,{"$f":"Trixie!I$83","v":0},{"$f":"Trixie!J$83","v":0}]
[null,1111140893,31802,"Trixie Premio Chicken Bites XXL для собак курячі гантельки курка 300г","Більше 10","Ласощі для собак",292.32,380,{"$f":"Trixie!I$84","v":0},{"$f":"Trixie!J$84","v":0}]
[null,1111122468,31533,"Trixie Premio Chicken Bites ласощі для собак кісточки курка 100г","Більше 100","Ласощі для собак",113.34,147,{"$f":"Trixie!I$85","v":0},{"$f":"Trixie!J$85","v":0}]
[null,1111163202,31589,"Trixie Premio Chicken Cheese Rolls ласощі для собак курка/сир 100г","Більше 100","Ласощі для собак",137.1,178,{"$f":"Trixie!I$86","v":0},{"$f":"Trixie!J$86","v":0}]
[null,1111134760,31586,"Trixie Premio Chicken Cheese Stripes ласощі для собак курка/сир 100г","Більше 100","Ласощі для собак",137.1,178,{"$f":"Trixie!I$87","v":0},{"$f":"Trixie!J$87","v":0}]
[null,1111124225,31531,"Trixie Premio Chicken Coins ласощі для собак монетки курка 100г","Більше 100","Ласощі для собак",125.88,164,{"$f":"Trixie!I$88","v":0},{"$f":"Trixie!J$88","v":0}]
[null,1111133311,42706,"Trixie Premio Chicken Cubes ласощі для котів курка 50г","Більше 100","Ласощі для котів",82.56,107,{"$f":"Trixie!I$89","v":0},{"$f":"Trixie!J$89","v":0}]
[null,1111134761,31585,"Trixie Premio Chicken Drumsticks ласощі д/собак курячі гомілки 5шт 95г","Більше 100","Ласощі для собак",125.88,164,{"$f":"Trixie!I$90","v":0},{"$f":"Trixie!J$90","v":0}]
[null,1111124006,42701,"Trixie Premio Chicken Filet Bites ласощі для котів куряче філе 50г","Більше 100","Ласощі для котів",82.56,107,{"$f":"Trixie!I$91","v":0},{"$f":"Trixie!J$91","v":0}]
[null,1111124223,31532,"Trixie Premio Chicken Filets ласощі для собак полоски куряче філе 100г","Більше 100","Ласощі для собак",145.5,189,{"$f":"Trixie!I$92","v":0},{"$f":"Trixie!J$92","v":0}]
[null,1111146930,31539,"Trixie Premio Chicken Flags ласощі для собак куряче філе 100г","Більше 10","Ласощі для собак",137.1,178,{"$f":"Trixie!I$93","v":0},{"$f":"Trixie!J$93","v":0}]
[null,1111146931,31588,"Trixie Premio Chicken Flags ласощі для собак куряче філе банка 400г","Більше 10","Ласощі для собак",640.62,833,{"$f":"Trixie!I$94","v":0},{"$f":"Trixie!J$94","v":0}]
[null,1111133313,42708,"Trixie Premio Chicken Mini Sticks ласощі для котів курка/рис 50г","Більше 100","Ласощі для котів",72.78,95,{"$f":"Trixie!I$95","v":0},{"$f":"Trixie!J$95","v":0}]
[null,1111139264,31703,"Trixie Premio Chicken Pasta для собак курка/куряча печінка/риба 100г","Більше 100","Ласощі для собак",137.1,178,{"$f":"Trixie!I$96","v":0},{"$f":"Trixie!J$96","v":0}]
[null,1111139043,31702,"Trixie Premio Chicken Pizza ласощі для собак піца з куркою 100г","Більше 10","Ласощі для собак",125.88,164,{"$f":"Trixie!I$97","v":0},{"$f":"Trixie!J$97","v":0}]
[null,1111134916,31591,"Trixie Premio Chickies ласощі для собак кальцій курка 100г","Більше 100","Ласощі для собак",125.88,164,{"$f":"Trixie!I$98","v":0},{"$f":"Trixie!J$98","v":0}]
[null,1111148905,31749,"Trixie Premio Corn Dogs ласощі для собак качка/сиром_ята шкіра 100г","Більше 10","Ласощі для собак",137.1,178,{"$f":"Trixie!I$99","v":0},{"$f":"Trixie!J$99","v":0}]
[null,1111139266,31705,"Trixie Premio Crispy Duck ласощі для собак з качкою 100г","Більше 10","Ласощі для собак",137.1,178,{"$f":"Trixie!I$100","v":0},{"$f":"Trixie!J$100","v":0}]
[null,1111135175,31592,"Trixie Premio Duck Bites ласощі для собак кісточка качка 80г","Більше 100","Ласощі для собак",113.34,147,{"$f":"Trixie!I$101","v":0},{"$f":"Trixie!J$101","v":0}]
[null,1111134915,31587,"Trixie Premio Duck Coins ласощі для собак монетки качка 80г","Більше 100","Ласощі для собак",125.88,164,{"$f":"Trixie!I$102","v":0},{"$f":"Trixie!J$102","v":0}]
[null,1111136712,42716,"Trixie Premio Duck Filet Bites ласощі для котів філе качки 50г","Більше 100","Ласощі для котів",72.78,95,{"$f":"Trixie!I$103","v":0},{"$f":"Trixie!J$103","v":0}]
[null,1111163203,31869,"Trixie Premio Duck Softies ласощі для собак качка 100г","Більше 100","Ласощі для собак",125.88,164,{"$f":"Trixie!I$104","v":0},{"$f":"Trixie!J$104","v":0}]
[null,1111129084,31538,"Trixie Premio Duckies ласощі для собак кісточки качка 100г","Більше 100","Ласощі для собак",113.34,147,{"$f":"Trixie!I$105","v":0},{"$f":"Trixie!J$105","v":0}]
[null,1111135174,31594,"Trixie Premio Duckinos ласощі для собак з качкою 80г","Більше 100","Ласощі для собак",103.5,135,{"$f":"Trixie!I$106","v":0},{"$f":"Trixie!J$106","v":0}]
[null,1111128593,42705,"Trixie Premio Ducky Hearts ласощі для котів качка/риба 50г","Більше 100","Ласощі для котів",72.78,95,{"$f":"Trixie!I$107","v":0},{"$f":"Trixie!J$107","v":0}]
[null,1111134594,31537,"Trixie Premio Ducky Stripes ласощі для собак шматочки качка 100г","Більше 100","Ласощі для собак",137.1,178,{"$f":"Trixie!I$108","v":0},{"$f":"Trixie!J$108","v":0}]
[null,1111124007,42702,"Trixie Premio Fish Chicken Rolls ласощі для котів курка/риба 50г","Більше 100","Ласощі для котів",82.56,107,{"$f":"Trixie!I$109","v":0},{"$f":"Trixie!J$109","v":0}]
[null,1111124227,31535,"Trixie Premio Fish Chicken Rolls ласощі для собак курка/лосось 75г","Більше 100","Ласощі для собак",103.5,135,{"$f":"Trixie!I$110","v":0},{"$f":"Trixie!J$110","v":0}]
[null,1111143413,31747,"Trixie Premio Fish Chicken Sticks ласощі для собак курка/риба 80г","Більше 100","Ласощі для собак",103.5,135,{"$f":"Trixie!I$111","v":0},{"$f":"Trixie!J$111","v":0}]
[null,1111140894,31803,"Trixie Premio Fish Chicken Stripes XXL д/собак палич курка/лосось 300г","Більше 10","Ласощі для собак",337.08,438,{"$f":"Trixie!I$112","v":0},{"$f":"Trixie!J$112","v":0}]
[null,1111124226,31534,"Trixie Premio Fish Chicken Stripes ласощі для собак курка/лосось 75г","Більше 100","Ласощі для собак",103.5,135,{"$f":"Trixie!I$113","v":0},{"$f":"Trixie!J$113","v":0}]
[null,1111143412,31748,"Trixie Premio Fish Chicken Wheels ласощі для собак курка/риба 75г","Більше 100","Ласощі для собак",125.88,164,{"$f":"Trixie!I$114","v":0},{"$f":"Trixie!J$114","v":0}]
[null,1111148412,31547,"Trixie Premio Fish Rabbit Stripes ласощі для собак риба/кролик 100г","Більше 100","Ласощі для собак",137.1,178,{"$f":"Trixie!I$115","v":0},{"$f":"Trixie!J$115","v":0}]
[null,1111139047,31599,"Trixie Premio Fishies ласощі для собак з рибою 100г","Більше 10","Ласощі для собак",125.88,164,{"$f":"Trixie!I$116","v":0},{"$f":"Trixie!J$116","v":0}]
[null,1111170308,31607,"Trixie Premio Freeze Dried для собак качина грудка 50г","Більше 10","Ласощі для собак",226.62,295,{"$f":"Trixie!I$117","v":0},{"$f":"Trixie!J$117","v":0}]
[null,1111170307,31606,"Trixie Premio Freeze Dried для собак куряча грудка 50г","Більше 10","Ласощі для собак",226.62,295,{"$f":"Trixie!I$118","v":0},{"$f":"Trixie!J$118","v":0}]
[null,1111156269,31809,"Trixie Premio Goose Filets ласощі для собак з гусаком 65г","Більше 100","Ласощі для собак",113.34,147,{"$f":"Trixie!I$119","v":0},{"$f":"Trixie!J$119","v":0}]
[null,1111170284,31867,"Trixie Premio Guse Liver Cubes д/собак кубики з гусячою печінкою 100г","Більше 100","Ласощі для собак",137.1,178,{"$f":"Trixie!I$120","v":0},{"$f":"Trixie!J$120","v":0}]
[null,1111161177,31855,"Trixie Premio Horse Stripes ласощі для собак з кониною 11см 100г","Більше 10","Ласощі для собак",267.18,347,{"$f":"Trixie!I$121","v":0},{"$f":"Trixie!J$121","v":0}]
[null,1111146933,31544,"Trixie Premio Lamb Bites ласощі для собак снеки ягня 100г","Більше 100","Ласощі для собак",125.88,164,{"$f":"Trixie!I$122","v":0},{"$f":"Trixie!J$122","v":0}]
[null,1111140899,31707,"Trixie Premio Lamb Chicken Bagles ласощі для собак ягня/курка 100г","Більше 100","Ласощі для собак",145.5,189,{"$f":"Trixie!I$123","v":0},{"$f":"Trixie!J$123","v":0}]
[null,1111141773,31741,"Trixie Premio Lamb Stripes ласощі для собак полоски ягня 100г","Більше 100","Ласощі для собак",125.88,164,{"$f":"Trixie!I$124","v":0},{"$f":"Trixie!J$124","v":0}]
[null,1111133128,31536,"Trixie Premio Omega Stripes ласощі для собак палички курка 100г","Більше 100","Ласощі для собак",137.1,178,{"$f":"Trixie!I$125","v":0},{"$f":"Trixie!J$125","v":0}]
[null,1111115101,2748,"Trixie Premio Picknicks для собак Сосиски з яловичиною 8см 8г 200шт","Більше 10","Ласощі для собак",3356.76,4364,{"$f":"Trixie!I$126","v":0},{"$f":"Trixie!J$126","v":0}]
[null,1111116707,2755,"Trixie Premio Picknicks ласощі для собак Сосиски з ягням 8см 8г 200шт","Більше 10","Ласощі для собак",3356.76,4364,{"$f":"Trixie!I$127","v":0},{"$f":"Trixie!J$127","v":0}]
[null,1111148410,31545,"Trixie Premio Rabbit Cubes ласощі для собак шматочки із кроликом 100г","Більше 100","Ласощі для собак",145.5,189,{"$f":"Trixie!I$128","v":0},{"$f":"Trixie!J$128","v":0}]
[null,1111148411,31546,"Trixie Premio Rabbit Drumsticks ласощі для собак кролик 100г 8шт","Більше 100","Ласощі для собак",125.88,164,{"$f":"Trixie!I$129","v":0},{"$f":"Trixie!J$129","v":0}]
[null,1111157556,31808,"Trixie Premio Rabbit Ears ласощі для собак кролик/курка 80г","Більше 100","Ласощі для собак",113.34,147,{"$f":"Trixie!I$130","v":0},{"$f":"Trixie!J$130","v":0}]
[null,1111141772,31709,"Trixie Premio Rabbit Sticks ласощі для собак палички кролик 100г","Більше 100","Ласощі для собак",125.88,164,{"$f":"Trixie!I$131","v":0},{"$f":"Trixie!J$131","v":0}]
[null,1111139042,31701,"Trixie Premio Rice Chicken Balls для собак курячі кульки з рисом 80г","Більше 100","Ласощі для собак",93.72,122,{"$f":"Trixie!I$132","v":0},{"$f":"Trixie!J$132","v":0}]
[null,1111139265,31704,"Trixie Premio Rice Duck Balls ласощі для собак кульки качка/рис 80г","Більше 100","Ласощі для собак",93.72,122,{"$f":"Trixie!I$133","v":0},{"$f":"Trixie!J$133","v":0}]
[null,1111141774,31742,"Trixie Premio Rice Duck Bones ласощі для собак кісточки качка/рис 80г","Більше 100","Ласощі для собак",103.5,135,{"$f":"Trixie!I$134","v":0},{"$f":"Trixie!J$134","v":0}]
[null,1111135172,42724,"Trixie Premio Stick Quintett ласощі д/котів домаш птиця/печінка 5г 5шт","Більше 100","Ласощі для котів",60.18,78,{"$f":"Trixie!I$135","v":0},{"$f":"Trixie!J$135","v":0}]
[null,1111135173,42725,"Trixie Premio Stick Quintett ласощі для котів лосось/форель 5г 5шт","Більше 100","Ласощі для котів",60.18,78,{"$f":"Trixie!I$136","v":0},{"$f":"Trixie!J$136","v":0}]
[null,1111135171,42723,"Trixie Premio Stick Quintett ласощі для котів ягня/індичка 5г 5шт","Більше 100","Ласощі для котів",60.18,78,{"$f":"Trixie!I$137","v":0},{"$f":"Trixie!J$137","v":0}]
[null,1111134914,31573,"Trixie Premio Sushi Rolls ласощі для собак з рибою 100г","Більше 10","Ласощі для собак",145.5,189,{"$f":"Trixie!I$138","v":0},{"$f":"Trixie!J$138","v":0}]
[null,1111141775,42741,"Trixie Premio Trainer Snack Mini Fish Nuggets д/котів тунець/курка 50г","Більше 10","Ласощі для котів",93.72,122,{"$f":"Trixie!I$139","v":0},{"$f":"Trixie!J$139","v":0}]
[null,1111140895,42734,"Trixie Premio Tuna Bites для котів шматочки з тунцем і куркою 50г","Більше 100","Ласощі для котів",93.72,122,{"$f":"Trixie!I$140","v":0},{"$f":"Trixie!J$140","v":0}]
[null,1111139045,42732,"Trixie Premio Tuna Rolls ласощі для котів тунець/курка 50г","Більше 100","Ласощі для котів",93.72,122,{"$f":"Trixie!I$141","v":0},{"$f":"Trixie!J$141","v":0}]
[null,1111139044,42731,"Trixie Premio Tuna Sandwiches для котів кубики з тунцем і куркою 50г","Більше 100","Ласощі для котів",93.72,122,{"$f":"Trixie!I$142","v":0},{"$f":"Trixie!J$142","v":0}]
[null,1111156273,"42746*****","Trixie Premio Tuna Strips для котів з тунцем і білою рибою 20г","Більше 100","Ласощі для котів",47.58,62,{"$f":"Trixie!I$143","v":0},{"$f":"Trixie!J$143","v":0}]
[null,1111183910,"312851_10шт","Trixie Safari овочеве насип для собак 28 г","Більше 10",null,363.66,473,{"$f":"Trixie!I$144","v":0},{"$f":"Trixie!J$144","v":0}]
[null,6719,"31491*****","Trixie Soft Snack Bonies ласощі для собак з яловичиною та птицею 75г","Немає в наявності","Ласощі для собак",68.58,89,{"$f":"Trixie!I$145","v":0},{"$f":"Trixie!J$145","v":0}]
[null,1111148376,31526,"Trixie Soft Snack Bony Mix XXL для собак асорті відро пластик 1800г","Більше 100","Ласощі для собак",911.94,1185,{"$f":"Trixie!I$146","v":0},{"$f":"Trixie!J$146","v":0}]
[null,1111132992,31497,"Trixie Soft Snack Happy Hearts ласощі для собак з ягням 500г","Більше 100","Ласощі для собак",272.76,355,{"$f":"Trixie!I$147","v":0},{"$f":"Trixie!J$147","v":0}]
[null,1111129069,31495,"Trixie Soft Snack Happy Mix ласощі для собак курка/ягня/лосось 500г","Більше 100","Ласощі для собак",272.76,355,{"$f":"Trixie!I$148","v":0},{"$f":"Trixie!J$148","v":0}]
[null,1111121803,3171,"Trixie Soft Snack Rotolinis ласощі д/собак м_ясо домашніх птахів 120г","Більше 100","Ласощі для собак",60.18,78,{"$f":"Trixie!I$149","v":0},{"$f":"Trixie!J$149","v":0}]
[null,1111119296,3155,"Trixie Soft Snack Rotolinis ласощі для собак рубець 120г","Більше 100","Ласощі для собак",60.18,78,{"$f":"Trixie!I$150","v":0},{"$f":"Trixie!J$150","v":0}]
[null,1111134758,31771,"Trixie Soft Snack Rotolinis ласощі для собак яловичина 120г","Більше 100","Ласощі для собак",55.98,73,{"$f":"Trixie!I$151","v":0},{"$f":"Trixie!J$151","v":0}]
[null,9925,2928,"Trixie Stop! Keep Off Spray д/котів/собак захищ/від/подряп/укус 175мл","Більше 10","Корекція поведінки для собак",260.16000000000003,338,{"$f":"Trixie!I$152","v":0},{"$f":"Trixie!J$152","v":0}]
[null,1111120007,3156,"Trixie Stripes ласощі для собак полоски з м_ясом домашніх птахів 100г","Більше 100","Ласощі для собак",55.98,73,{"$f":"Trixie!I$153","v":0},{"$f":"Trixie!J$153","v":0}]
[null,1111121135,3172,"Trixie Stripes ласощі для собак полоски з яловичиною 100г","Більше 100","Ласощі для собак",51.78,67,{"$f":"Trixie!I$154","v":0},{"$f":"Trixie!J$154","v":0}]
[null,1111134759,31772,"Trixie Stripes ласощі для собак полоски ягня 100г","Більше 100","Ласощі для собак",55.98,73,{"$f":"Trixie!I$155","v":0},{"$f":"Trixie!J$155","v":0}]
[null,1111139972,31523,"Trixie Trainer Mini Bones ласощі для собак яловичина/ягня/птиця 500г","Більше 100","Ласощі для собак",272.76,355,{"$f":"Trixie!I$156","v":0},{"$f":"Trixie!J$156","v":0}]
[null,1111139733,31524,"Trixie Trainer Mini Hearts ласощі для собак курка/ягня/лосось 200г","Більше 100","Ласощі для собак",137.1,178,{"$f":"Trixie!I$157","v":0},{"$f":"Trixie!J$157","v":0}]
[null,1111184089,"31604*****","Trixie д/собак PREMIO Мармурові ягнячі фрикадельки 100 г","Більше 10","Ласощі для собак",103.5,135,{"$f":"Trixie!I$158","v":0},{"$f":"Trixie!J$158","v":0}]
[null,1111114888,"2805*****","Trixie для котів Рибка сушена натуральна 50 г","Менше 10","Ласощі для котів",62.94,82,{"$f":"Trixie!I$159","v":0},{"$f":"Trixie!J$159","v":0}]
[null,1111170292,27647,"Trixie для собак Filled Chew паличка жувальна з качкою 10см 17г 100шт","Більше 10","Ласощі для собак",1958.16,2546,{"$f":"Trixie!I$160","v":0},{"$f":"Trixie!J$160","v":0}]
[null,1111170291,27646,"Trixie для собак Filled Chew паличка жувальна з куркою 10см 17г 100шт","Менше 10","Ласощі для собак",1958.16,2546,{"$f":"Trixie!I$161","v":0},{"$f":"Trixie!J$161","v":0}]
[null,1111122921,"2788*****","Trixie для собак Кісточка жувал пресов індивід/упаковка 10см 100г 3шт","Більше 100","Ласощі для собак",117.54,153,{"$f":"Trixie!I$162","v":0},{"$f":"Trixie!J$162","v":0}]
[null,1111122931,2609,"Trixie для собак Роли жувальні натуральна шкіра 12 см 50 шт/уп","Більше 100","Ласощі для собак",186.06,242,{"$f":"Trixie!I$163","v":0},{"$f":"Trixie!J$163","v":0}]
[null,1111122924,"2791*****","Trixie Кісточка д/собак жув пресов в індивід/упаковці кожа 17см 90г","Більше 100","Ласощі для собак",96.54,125,{"$f":"Trixie!I$164","v":0},{"$f":"Trixie!J$164","v":0}]
[null,1111153370,"2653_5шт*****","Trixie Кісточка д/собак жув пресов з вузлами шкіра кожа 16см 65г 5шт","Менше 10","Ласощі для собак",384.66,500,{"$f":"Trixie!I$165","v":0},{"$f":"Trixie!J$165","v":0}]
[null,1111122920,"2787*****","Trixie Кісточка д/собак жув пресов індивід/упаковка шкіра 8см 75г 5шт","Більше 100","Ласощі для собак",93.72,122,{"$f":"Trixie!I$166","v":0},{"$f":"Trixie!J$166","v":0}]
[null,1111122925,"2792*****","Trixie Кісточка для собак жув пресов в індивід/упаковці кожа 21см 170г","Більше 100","Ласощі для собак",158.1,205,{"$f":"Trixie!I$167","v":0},{"$f":"Trixie!J$167","v":0}]
[null,1111122927,"2794*****","Trixie Кісточка для собак жув пресов індивід/упаковка шкіра 32см 420г","Більше 10","Ласощі для собак",401.46,522,{"$f":"Trixie!I$168","v":0},{"$f":"Trixie!J$168","v":0}]
[null,1111153360,"2649_3шт*****","Trixie Кісточка для собак жувальна пресована шкіра 21см 170г 3шт","Більше 10","Ласощі для собак",461.58,600,{"$f":"Trixie!I$169","v":0},{"$f":"Trixie!J$169","v":0}]
[null,1111153361,"2650_3шт*****","Trixie Кісточка для собак жувальна пресована шкіра 22см 230г 3шт","Більше 10","Ласощі для собак",629.4,818,{"$f":"Trixie!I$170","v":0},{"$f":"Trixie!J$170","v":0}]
[null,1111153362,"2651_3шт*****","Trixie Кісточка для собак жувальна пресована шкіра 32см 420г 3шт","Більше 10","Ласощі для собак",1166.52,1516,{"$f":"Trixie!I$171","v":0},{"$f":"Trixie!J$171","v":0}]
[null,1111139987,27612,"Trixie Кісточка ласощі для собак пресована з пенісом 12см 60г/2шт","Більше 100","Ласощі для собак",113.34,147,{"$f":"Trixie!I$172","v":0},{"$f":"Trixie!J$172","v":0}]
[null,1111118270,27621,"Trixie Кісточка ласощі для собак пресована з рубцем 10см 35г/2шт","Більше 100","Ласощі для собак",72.78,95,{"$f":"Trixie!I$173","v":0},{"$f":"Trixie!J$173","v":0}]
[null,1111118269,27622,"Trixie Кісточка ласощі для собак пресована з рубцем 12см 60г/2шт","Більше 100","Ласощі для собак",113.34,147,{"$f":"Trixie!I$174","v":0},{"$f":"Trixie!J$174","v":0}]
[null,1111186066,"27648_5шт","Trixie Косичка жувальна з бичачим пенісом для собак 15 см/5ШТ","Більше 100","Ласощі для собак",258.77999999999997,336,{"$f":"Trixie!I$175","v":0},{"$f":"Trixie!J$175","v":0}]
[null,1111137849,"2708_1шт*****","Trixie ласощі для собак Паличка жувальна пресована з рубцем 20см 80г","Більше 10","Ласощі для собак",82.56,107,{"$f":"Trixie!I$176","v":0},{"$f":"Trixie!J$176","v":0}]
[null,1111115848,"2617*****","Trixie Палички д/собак жувальні натурал/шкіра 12см/9-10мм 850г 100шт","Менше 10","Ласощі для собак",1009.86,1313,{"$f":"Trixie!I$177","v":0},{"$f":"Trixie!J$177","v":0}]
[null,1111118652,"2615*****","Trixie Палички д/собак жувальні натуральна шкіра 12см/5-6мм 33,3 100шт","Менше 10","Ласощі для собак",523.14,680,{"$f":"Trixie!I$178","v":0},{"$f":"Trixie!J$178","v":0}]
[null,1111118654,"2616*****","Trixie Палички д/собак жувальні натуральна шкіра 12см/7-8мм 505г 100шт","Менше 10","Ласощі для собак",604.26,785,{"$f":"Trixie!I$179","v":0},{"$f":"Trixie!J$179","v":0}]
[null,1111141768,31745,"Trixie Палички для собак жувальна з куркою 17см 65г 50шт","Більше 10","Ласощі для собак",1608.48,2091,{"$f":"Trixie!I$180","v":0},{"$f":"Trixie!J$180","v":0}]
[null,1111141769,31746,"Trixie Палички для собак жувальна з яловичиною 17см 65г 50шт","Більше 10","Ласощі для собак",1608.48,2091,{"$f":"Trixie!I$181","v":0},{"$f":"Trixie!J$181","v":0}]
[null,10243,2610,"Trixie Палички для собак жувальні пресовані 12см 100шт","Більше 100","Ласощі для собак",365.1,475,{"$f":"Trixie!I$182","v":0},{"$f":"Trixie!J$182","v":0}]
[null,1111134911,2600,"Trixie Палички для собак жувальні пресовані червоні 12см 100шт","Більше 10","Ласощі для собак",332.88,433,{"$f":"Trixie!I$183","v":0},{"$f":"Trixie!J$183","v":0}]
[null,1111134913,2607,"Trixie Палички для собак натуральні жувальні 12см 100шт","Більше 10","Ласощі для собак",365.1,475,{"$f":"Trixie!I$184","v":0},{"$f":"Trixie!J$184","v":0}]
[null,1111144195,"27742*****","Trixie Ріг буйвола ласощі для собак жувальний M середній 109г","Більше 10","Ласощі для собак",184.62,240,{"$f":"Trixie!I$185","v":0},{"$f":"Trixie!J$185","v":0}]
[null,1111183267,42754,"Trixie Юніор Лосось Хмари 40 г","Більше 100","Ласощі для котів",72.78,95,{"$f":"Trixie!I$186","v":0},{"$f":"Trixie!J$186","v":0}]
[null,1111119516,24371,"Автоматична годівниця Trixie для корму TX1 пластик 300мл/13х7х24см","Менше 10","Миски та годівниці для собак",826.62,1075,{"$f":"Trixie!I$187","v":0},{"$f":"Trixie!J$187","v":0}]
[null,1111118536,24372,"Автоматична годівниця Trixie для корму TX2 пластик 2х300мл/27х7х24см","Менше 10","Миски та годівниці для собак",1317.54,1713,{"$f":"Trixie!I$188","v":0},{"$f":"Trixie!J$188","v":0}]
[null,1111116696,"9269_Christmas*****","Адвент календар Trixie ласощі для котів 30х34х3,5 см арт 9269","Більше 10","Ласощі для котів",359.34,467,{"$f":"Trixie!I$189","v":0},{"$f":"Trixie!J$189","v":0}]
[null,1111158314,"9268_Christmas*****","Адвент-календар Trixie для собак Різдвяний з ласощами 30х34х3,5см","Менше 10","Ласощі для собак",359.34,467,{"$f":"Trixie!I$190","v":0},{"$f":"Trixie!J$190","v":0}]
[null,1111183707,12746,"Амортизатор Trixie розмір S-M 21 см х 15 мм чорний Арт12746","Більше 10","Амуніція для собак",304.92,396,{"$f":"Trixie!I$191","v":0},{"$f":"Trixie!J$191","v":0}]
[null,1111183727,23421,"Багаторазова пелюшка Trixie для собак 60 х 60 см сіра Арт23421","Менше 10","Пелюшки, підгузки для собак",486.78,633,{"$f":"Trixie!I$192","v":0},{"$f":"Trixie!J$192","v":0}]
[null,1111135464,39451,"Бар_єр-перегородка Trixie д/собак міжкімнатний металевий 75-85см/76см","Менше 10","Інструменти для догляду за будинком з собаками",3204.3,4166,{"$f":"Trixie!I$193","v":0},{"$f":"Trixie!J$193","v":0}]
[null,1111114669,5401,"Басейн Trixie Bath House для птахів підвісний пластик 14х14х15см","Більше 100","Обладнання для птахів",128.69999999999999,167,{"$f":"Trixie!I$194","v":0},{"$f":"Trixie!J$194","v":0}]
[null,1111112415,5402,"Басейн Trixie Bath House для птахів підвісний пластик 14х15х15см","Більше 10","Обладнання для птахів",176.28,229,{"$f":"Trixie!I$195","v":0},{"$f":"Trixie!J$195","v":0}]
[null,1111127831,54032,"Басейн Trixie Bath House для птахів підвісний пластик 15х16х17см","Більше 10","Обладнання для птахів",260.16000000000003,338,{"$f":"Trixie!I$196","v":0},{"$f":"Trixie!J$196","v":0}]
[null,1111138464,63002,"Басейн Trixie для гризунів пластик 27х18х16см","Більше 10","Обладнання для гризунів",411.24,535,{"$f":"Trixie!I$197","v":0},{"$f":"Trixie!J$197","v":0}]
[null,1111204349,3536,"БЕЗ БІРКИ, НЕ ПІЩИТЬ Іграшка Trixie для собак Курка з пискавкою 25 см","Менше 10","Іграшки для собак",52.56,0,{"$f":"Trixie!I$198","v":0},{"$f":"Trixie!J$198","v":0}]
[null,1111194914,42931,"БЕЗ ВЕРХ. КРІПЛЕННЯ Дряпка-стовпчик Trixie Junior для кошенят Лапка з ","Менше 10","Дряпки для котів",388.8,0,{"$f":"Trixie!I$199","v":0},{"$f":"Trixie!J$199","v":0}]
[null,1111193773,3412,"БЕЗ ЗВУКА Іграшка Trixie для собак М_яч голчастий з пискавкою середній","Менше 10","Іграшки для собак",48.54,0,{"$f":"Trixie!I$200","v":0},{"$f":"Trixie!J$200","v":0}]
[null,1111206865,"3501_1шт","БЕЗ ЗВУКА,НЕ ТОВ.ВИГ.Іграшка Trixie для собак Баскетбольний м'яч латек","Менше 10","Іграшки для собак",88.98,0,{"$f":"Trixie!I$201","v":0},{"$f":"Trixie!J$201","v":0}]
[null,1111197606,3398,"БЕЗ ЗВУКУ Іграшка Trixie для собак Морква з пискавкою вініл 20см","Менше 10","Іграшки для собак",61.44,0,{"$f":"Trixie!I$202","v":0},{"$f":"Trixie!J$202","v":0}]
[null,1111202840,4135,"БЕЗ М_ЯЧА Іграшка Trixie Crazy Circle для котів ігровий трек з мишкою","Менше 10","Іграшки для котів",101.7,0,{"$f":"Trixie!I$203","v":0},{"$f":"Trixie!J$203","v":0}]
[null,1111194131,"24981*****","БЕЗ ОДН. МИС Trixie д/кот. подвійна з сталі на підст.сіра 2х300мл/16см","Менше 10","Миски для котів",348,0,{"$f":"Trixie!I$204","v":0},{"$f":"Trixie!J$204","v":0}]
[null,1111196697,43171,"БИТ ДВП ЗГОРИ Дряпка Trixie для котів настінна сизаль/дерево бежева 17","Менше 10","Дряпки для котів",202.38,0,{"$f":"Trixie!I$205","v":0},{"$f":"Trixie!J$205","v":0}]
[null,1111194990,"43161Trixie","БИТ. ФАНЕРА Дряпка Trixie форма/кота сизаль/кот.м'ята 21х56см беж","Менше 10","Дряпки для котів",141.36000000000001,0,{"$f":"Trixie!I$206","v":0},{"$f":"Trixie!J$206","v":0}]
[null,1111169736,61010,"Бігове колесо Trixie для мал/гризунів на підставці пластик d-20см","Менше 10","Обладнання для гризунів",325.92,424,{"$f":"Trixie!I$207","v":0},{"$f":"Trixie!J$207","v":0}]
[null,1111127833,61011,"Бігове колесо Trixie для мал/гризунів на підставці пластик d-28см","Менше 10","Обладнання для гризунів",489.54,636,{"$f":"Trixie!I$208","v":0},{"$f":"Trixie!J$208","v":0}]
[null,1111172934,61012,"Бігове колесо Trixie для мал/гризунів на підставці пластик d-33см","Менше 10","Обладнання для гризунів",621,807,{"$f":"Trixie!I$209","v":0},{"$f":"Trixie!J$209","v":0}]
[null,1111134458,60812,"Біговий диск Trixie для дегу і великих хом_яків пластик 30см Арт60812","Менше 10","Обладнання для гризунів",489.54,636,{"$f":"Trixie!I$210","v":0},{"$f":"Trixie!J$210","v":0}]
[null,8897,4006,"Біо-нашийник Trixie для котів від зовнішніх паразитів 35см","Більше 10","Антипаразитарні препарати для котів",140.52000000000001,183,{"$f":"Trixie!I$211","v":0},{"$f":"Trixie!J$211","v":0}]
[null,8898,3906,"Біо-нашийник Trixie для собак від зовнішніх паразитів 60см","Більше 10","Антипаразитарні препарати для собак",157.91999999999999,205,{"$f":"Trixie!I$212","v":0},{"$f":"Trixie!J$212","v":0}]
[null,1111205179,5903,"БРАК 1 КРІПЛЕННЯ Переноска Trixie для гризунів Pico пластик 23x16x17 с","Менше 10","Обладнання для гризунів",89.76,0,{"$f":"Trixie!I$213","v":0},{"$f":"Trixie!J$213","v":0}]
[null,1111194656,24499,"БРАК ЕМАЛ, ВІДСУТ.ПАК. Миска Trixie біла чорн/котик керам 250мл d-13см","Менше 10","Миски для котів",51.24,0,{"$f":"Trixie!I$214","v":0},{"$f":"Trixie!J$214","v":0}]
[null,1111193790,25120,"БРАК ЕМАЛІ Миска Trixie д/кот Zentangle керам чорно-біла 12см 0,3л","Менше 10","Миски для котів",67.62,0,{"$f":"Trixie!I$215","v":0},{"$f":"Trixie!J$215","v":0}]
[null,1111204185,24795,"БРАК ПОКРИТТ Миска Trixie д/котів/короткомордих/порід керам 15см 300мл","Менше 10","Миски для котів",83.16,0,{"$f":"Trixie!I$216","v":0},{"$f":"Trixie!J$216","v":0}]
[null,1111208223,"25212*****","БРАК ПОКРИТТ Миска Trixie д/собак Adventure зел емаль/метал 900мл/17см","Менше 10","Миски та годівниці для собак",130.08000000000001,0,{"$f":"Trixie!I$217","v":0},{"$f":"Trixie!J$217","v":0}]
[null,1111201269,25120,"БРАК ПОКРИТТЯ Миска Trixie д/кот Zentangle керам чорно-біла 12см 0,3л","Менше 10","Миски для котів",67.8,0,{"$f":"Trixie!I$218","v":0},{"$f":"Trixie!J$218","v":0}]
[null,1111208224,"25213*****","БРАК ПОКРИТТЯ Миска Trixie д/собак Adventure зел емаль/метал 1,9л/21см","Менше 10","Миски та годівниці для собак",164.16,0,{"$f":"Trixie!I$219","v":0},{"$f":"Trixie!J$219","v":0}]
[null,1111195470,"арт.25053","БРАК ПОКРИТТЯ Миска Trixie д/собак Pet_s Home коричн/керам 300мл 12см","Менше 10","Миски та годівниці для собак",65.58,0,{"$f":"Trixie!I$220","v":0},{"$f":"Trixie!J$220","v":0}]
[null,1111205711,25108,"БРАК ПОКРИТТЯ Миска Trixie д/собак на гумовій основі керамічна 1л/17см","Менше 10","Миски та годівниці для собак",210.54,0,{"$f":"Trixie!I$221","v":0},{"$f":"Trixie!J$221","v":0}]
[null,1111195582,"24355*****","БРАК ПОКРИТТЯ Миска Trixie для собак Be Nordic Moin сіра керамічна 1,4","Менше 10","Миски та годівниці для собак",150.18,0,{"$f":"Trixie!I$222","v":0},{"$f":"Trixie!J$222","v":0}]
[null,1111205710,25025,"БРАК ПОКРИТТЯ Миска Trixie для собак керамічна біла 1,6л 20см","Менше 10","Миски та годівниці для собак",160.74,0,{"$f":"Trixie!I$223","v":0},{"$f":"Trixie!J$223","v":0}]
[null,1111207471,"25022*****","БРАК ПОКРИТТЯ Миска Trixie для собак керамічна чорна 1,6л 20см","Менше 10","Миски та годівниці для собак",211.92,0,{"$f":"Trixie!I$224","v":0},{"$f":"Trixie!J$224","v":0}]
[null,1111207977,"25144*****","БРАК ПОКРИТТЯ Миска Trixie для собак на гумовій основі сіра металева 9","Менше 10","Миски та годівниці для собак",123.66,0,{"$f":"Trixie!I$225","v":0},{"$f":"Trixie!J$225","v":0}]
[null,1111195427,25087,"БРАК ПОКРИТТЯ Миска Trixie керамічна д/собак 0,7л 16см біло-коричнева","Менше 10","Миски та годівниці для собак",103.98,0,{"$f":"Trixie!I$226","v":0},{"$f":"Trixie!J$226","v":0}]
[null,1111204681,24521,"БРАК ПОКРИТТЯ Миска Trixie соб Повіл.годув сір/блакит керам 900мл 17см","Менше 10","Миски та годівниці для собак",282.42,0,{"$f":"Trixie!I$227","v":0},{"$f":"Trixie!J$227","v":0}]
[null,1111117203,2288,"Брелок Trixie для собак з металевими дисками для тренувань 4,5см","Більше 10","Амуніція для собак",127.32,165,{"$f":"Trixie!I$228","v":0},{"$f":"Trixie!J$228","v":0}]
[null,1111130650,22762,"Брелок-адресниця Trixie Fancy I.D. Tag д/собак Кісточка метал 3,5x2см","Більше 10","Амуніція для собак",144.06,187,{"$f":"Trixie!I$229","v":0},{"$f":"Trixie!J$229","v":0}]
[null,1111124230,2287,"Брелок-клікер Trixie Clicker д/собак кнопка/пружинний браслет 6,7см","Менше 10","Амуніція для собак",151.08000000000001,196,{"$f":"Trixie!I$230","v":0},{"$f":"Trixie!J$230","v":0}]
[null,1111120016,2289,"Брелок-клікер Trixie для собак Basic пластик","Менше 10","Амуніція для собак",89.52,116,{"$f":"Trixie!I$231","v":0},{"$f":"Trixie!J$231","v":0}]
[null,1111124231,2298,"Брелок-клікер Trixie для собак Soft з кнопкою та пружинним браслетом","Менше 10","Амуніція для собак",120.3,156,{"$f":"Trixie!I$232","v":0},{"$f":"Trixie!J$232","v":0}]
[null,1111165306,13449,"Брелок-ліхтарик Trixie USB для собак 3,5х4,3 см Арт13449","Менше 10","Амуніція для собак",292.32,380,{"$f":"Trixie!I$233","v":0},{"$f":"Trixie!J$233","v":0}]
[null,1111141005,13447,"Брелок-ліхтарик Trixie д/собак водовідштовхувальний силікон 8х2,4см","Більше 10","Амуніція для собак",181.86,236,{"$f":"Trixie!I$234","v":0},{"$f":"Trixie!J$234","v":0}]
[null,1111134523,13443,"Брелок-ліхтарик Trixie д/собак з карабіном водонепроникний метал d-1см","Менше 10","Амуніція для собак",176.28,229,{"$f":"Trixie!I$235","v":0},{"$f":"Trixie!J$235","v":0}]
[null,1111146895,13448,"Брелок-ліхтарик Trixie для собак водовідштовхувальний силікон 11х3,5см","Більше 10","Амуніція для собак",212.64,276,{"$f":"Trixie!I$236","v":0},{"$f":"Trixie!J$236","v":0}]
[null,1111185441,36271,"Будиночок Trixie Lene для котів фетр 54х30х35 см сірий арт36271","Менше 10","Спальні місця для котів",1663.02,2162,{"$f":"Trixie!I$237","v":0},{"$f":"Trixie!J$237","v":0}]
[null,1111183753,38211,"Будиночок Trixie Бохо 55 х 65 х 55 см бежевий Арт38211","Менше 10","Спальні місця для собак",1906.38,2478,{"$f":"Trixie!I$238","v":0},{"$f":"Trixie!J$238","v":0}]
[null,1111183796,"62103*****","Будиночок Trixie для гризун набір з 2 будин з мостом 13х100см Арт62103","Менше 10","Обладнання для гризунів",523.14,680,{"$f":"Trixie!I$239","v":0},{"$f":"Trixie!J$239","v":0}]
[null,1111121369,6176,"Будиночок Trixie для гризунів Bjork дерев_яний 15х15х16см","Менше 10","Обладнання для гризунів",325.92,424,{"$f":"Trixie!I$240","v":0},{"$f":"Trixie!J$240","v":0}]
[null,1111120127,6171,"Будиночок Trixie для гризунів Hendrik дерев_яний 15х11х12см","Менше 10","Обладнання для гризунів",209.82,273,{"$f":"Trixie!I$241","v":0},{"$f":"Trixie!J$241","v":0}]
[null,1111183797,62684,"Будиночок Trixie для гризунів Вігвам Санні 37х35х37см Арт62684","Менше 10","Обладнання для гризунів",373.44,485,{"$f":"Trixie!I$242","v":0},{"$f":"Trixie!J$242","v":0}]
[null,1111115851,6118,"Будиночок Trixie для гризунів натуральні матеріали 28х18х13см","Менше 10","Обладнання для гризунів",292.32,380,{"$f":"Trixie!I$243","v":0},{"$f":"Trixie!J$243","v":0}]
[null,1111133003,36290,"Будиночок Trixie для котів Lukas з дряпкою сірий 35х33х65см","Менше 10","Спальні місця для котів",3204.3,4166,{"$f":"Trixie!I$244","v":0},{"$f":"Trixie!J$244","v":0}]
[null,1111139703,36842,"Будиночок Trixie для собак та котів Jimmy з лапками 40х35х35см","Менше 10","Спальні місця для собак",1415.46,1840,{"$f":"Trixie!I$245","v":0},{"$f":"Trixie!J$245","v":0}]
[null,1111139036,36341,"Будиночок Trixie для собак та котів Kaline сірий 35х26х41см","Більше 10","Спальні місця для собак",1212.6600000000001,1576,{"$f":"Trixie!I$246","v":0},{"$f":"Trixie!J$246","v":0}]
[null,1111150923,36319,"Будиночок Trixie для собак та котів Liva сірий фетр 40х24х47см","Більше 10","Спальні місця для собак",1009.86,1313,{"$f":"Trixie!I$247","v":0},{"$f":"Trixie!J$247","v":0}]
[null,1111145204,36356,"Будиночок Trixie для собак та котів Malu коричневий 47х27х41см","Більше 10","Спальні місця для собак",1415.46,1840,{"$f":"Trixie!I$248","v":0},{"$f":"Trixie!J$248","v":0}]
[null,1111146878,36352,"Будиночок Trixie для собак та котів Silas сірий 40х45х40см","Більше 10","Спальні місця для собак",1663.02,2162,{"$f":"Trixie!I$249","v":0},{"$f":"Trixie!J$249","v":0}]
[null,1111183752,37911,"Будиночок Trixie Лівія 38 х 41 х 44 см темно-сірий-білий Арт37911","Менше 10","Спальні місця для собак",1415.46,1840,{"$f":"Trixie!I$250","v":0},{"$f":"Trixie!J$250","v":0}]
[null,1111140974,36847,"Будиночок-тунель Trixie для котів Mimi сірий 42х35х35см","Менше 10","Спальні місця для котів",1415.46,1840,{"$f":"Trixie!I$251","v":0},{"$f":"Trixie!J$251","v":0}]
[null,1111175151,23236,"Валик Trixie для прибирання шерсті тварин XXL силікон/пластик 20х30см","Більше 10","Інструменти для догляду за будинком з собаками",411.24,535,{"$f":"Trixie!I$252","v":0},{"$f":"Trixie!J$252","v":0}]
[null,1111161308,63004,"Ванна Trixie для гризунів для піска дерев_яна 22х12х12см","Більше 10","Обладнання для гризунів",486.78,633,{"$f":"Trixie!I$253","v":0},{"$f":"Trixie!J$253","v":0}]
[null,10991,19486,"Ветеринарний комір Trixie д/собак на застібці пластик L-XL 47-57/30см","Менше 10","Ветеринарні комірці для собак",335.7,436,{"$f":"Trixie!I$254","v":0},{"$f":"Trixie!J$254","v":0}]
[null,10995,19485,"Ветеринарний комір Trixie для собак на застібці пластик L 44-50/25см","Менше 10","Ветеринарні комірці для собак",204.24,265,{"$f":"Trixie!I$255","v":0},{"$f":"Trixie!J$255","v":0}]
[null,10993,19484,"Ветеринарний комір Trixie для собак на застібці пластик M 38-44/20см","Більше 10","Ветеринарні комірці для собак",179.04,233,{"$f":"Trixie!I$256","v":0},{"$f":"Trixie!J$256","v":0}]
[null,10992,19482,"Ветеринарний комір Trixie для собак на застібці пластик S 28-33/12см","Більше 10","Ветеринарні комірці для собак",100.74,131,{"$f":"Trixie!I$257","v":0},{"$f":"Trixie!J$257","v":0}]
[null,1111134443,19515,"Ветеринарний комір Trixie для собак на липучці пластик L 44-53/22см","Більше 100","Ветеринарні комірці для собак",334.32,435,{"$f":"Trixie!I$258","v":0},{"$f":"Trixie!J$258","v":0}]
[null,1111134444,19516,"Ветеринарний комір Trixie для собак на липучці пластик L-XL 50-58/28см","Більше 10","Ветеринарні комірці для собак",411.24,535,{"$f":"Trixie!I$259","v":0},{"$f":"Trixie!J$259","v":0}]
[null,1111134442,19514,"Ветеринарний комір Trixie для собак на липучці пластик M 36-43/18см","Більше 10","Ветеринарні комірці для собак",255.96,333,{"$f":"Trixie!I$260","v":0},{"$f":"Trixie!J$260","v":0}]
[null,1111134441,19513,"Ветеринарний комір Trixie для собак на липучці пластик S-M 30-37/14см","Більше 100","Ветеринарні комірці для собак",204.24,265,{"$f":"Trixie!I$261","v":0},{"$f":"Trixie!J$261","v":0}]
[null,1111134438,19510,"Ветеринарний комір Trixie для собак на липучці пластик XS 18-23/8см","Більше 100","Ветеринарні комірці для собак",127.32,165,{"$f":"Trixie!I$262","v":0},{"$f":"Trixie!J$262","v":0}]
[null,1111134439,19511,"Ветеринарний комір Trixie для собак на липучці пластик XS-S 20-26/11см","Більше 100","Ветеринарні комірці для собак",152.46,198,{"$f":"Trixie!I$263","v":0},{"$f":"Trixie!J$263","v":0}]
[null,1111134440,19512,"Ветеринарний комір Trixie для собак на липучці розмір S 25-32см/12см","Більше 100","Ветеринарні комірці для собак",179.04,233,{"$f":"Trixie!I$264","v":0},{"$f":"Trixie!J$264","v":0}]
[null,1111206964,"25108*****","ВІДІРВАНА РЕЗИНКА Миска Trixie для собак на гумовій основі керамічна 1","Менше 10","Миски та годівниці для собак",254.34,0,{"$f":"Trixie!I$265","v":0},{"$f":"Trixie!J$265","v":0}]
[null,1111195597,44541,"ВІДС.КРІПЛ.Дряпка-комплекс Trixie Baza  з іграшкою бежева 41х41х50см","Менше 10","Дряпки для котів",640.62,0,{"$f":"Trixie!I$266","v":0},{"$f":"Trixie!J$266","v":0}]
[null,1111203436,25241,"ВІДСУТ. РЕЗИНКА Миска Trixie для собак на гумовій основі металева з пл","Менше 10","Миски та годівниці для собак",62.64,0,{"$f":"Trixie!I$267","v":0},{"$f":"Trixie!J$267","v":0}]
[null,1111197385,3274,"ВІДСУТ.ЕТИК Іграшка Trixie для собак Ігр кан плет 4вуз кот54см","Немає в наявності","Іграшки для собак",64.56,0,{"$f":"Trixie!I$268","v":0},{"$f":"Trixie!J$268","v":0}]
[null,1111202391,44644,"ВІДСУТНІЙ 1 СТОВПЧЯИК Дряпка-комплекс Trixie Nita для котів сизаль/плю","Менше 10","Дряпки для котів",2583.48,0,{"$f":"Trixie!I$269","v":0},{"$f":"Trixie!J$269","v":0}]
[null,1111194392,39821,"ВІТБИТ КРАЙ ДВЕРЦІ Контейнер-переноска Trixie для собак та котів Capri","Менше 10","Сумки, переноски та посуд для подорожей з котами",498.72,0,{"$f":"Trixie!I$270","v":0},{"$f":"Trixie!J$270","v":0}]
[null,1111145331,25445,"Вода Trixie Dental Care для собак/котів догляд за зубами яблуко 300мл","Більше 10","Догляд та гігієна для собак",202.8,264,{"$f":"Trixie!I$271","v":0},{"$f":"Trixie!J$271","v":0}]
[null,1111183799,76289,"Водний кондиціонер Trixie для черепах 61 х 45 х 20 мм Арт76289","Більше 10","Засоби догляду для тераріумів",83.94,109,{"$f":"Trixie!I$272","v":0},{"$f":"Trixie!J$272","v":0}]
[null,1111122601,64054,"Вольєр Trixie Outdoor Run для гризунів поліестер 130х55см","Менше 10","Обладнання для гризунів",2110.56,2744,{"$f":"Trixie!I$273","v":0},{"$f":"Trixie!J$273","v":0}]
[null,1111115364,6276,"Гамак Trixie Cuddly Cave для гризунів плюш 9x12x16см","Більше 100","Обладнання для гризунів",160.86000000000001,209,{"$f":"Trixie!I$274","v":0},{"$f":"Trixie!J$274","v":0}]
[null,1111139328,43141,"Гамак Trixie д/котів на радіатор довге хутро беж/корич плюш 45х26х31см","Менше 10","Спальні місця для котів",1090.98,1418,{"$f":"Trixie!I$275","v":0},{"$f":"Trixie!J$275","v":0}]
[null,1111116588,62691,"Гамак Trixie для гризунів поліестер 18х18см","Більше 100","Обладнання для гризунів",103.5,135,{"$f":"Trixie!I$276","v":0},{"$f":"Trixie!J$276","v":0}]
[null,1111127081,6913,"Гамак Trixie для тхорів поліестер 45х45см","Більше 10","Обладнання для гризунів",194.46,253,{"$f":"Trixie!I$277","v":0},{"$f":"Trixie!J$277","v":0}]
[null,1111133853,62696,"Гамак Trixie для тхорів та шиншил двох_ярусний поліестер 22х15х30см","Більше 10","Обладнання для гризунів",226.62,295,{"$f":"Trixie!I$278","v":0},{"$f":"Trixie!J$278","v":0}]
[null,1111116589,62692,"Гамак Trixie для хом_яків 30x30см","Більше 10","Обладнання для гризунів",194.46,253,{"$f":"Trixie!I$279","v":0},{"$f":"Trixie!J$279","v":0}]
[null,1111140980,49920,"Гамак Trixie настінний для котів 54 х 28 х 33 см біло-сірий Арт49920","Менше 10","Спальні місця для котів",1663.02,2162,{"$f":"Trixie!I$280","v":0},{"$f":"Trixie!J$280","v":0}]
[null,1111127893,23496,"Гігієнічні прокладки Trixie д/собак для захисних трусів XS/S/S-M 10шт","Більше 10","Пелюшки, підгузки для собак",42,55,{"$f":"Trixie!I$281","v":0},{"$f":"Trixie!J$281","v":0}]
[null,1111127895,23498,"Гігієнічні прокладки Trixie для собак для захисних трусів L/XL 10шт","Більше 10","Пелюшки, підгузки для собак",72.78,95,{"$f":"Trixie!I$282","v":0},{"$f":"Trixie!J$282","v":0}]
[null,1111127894,23497,"Гігієнічні прокладки Trixie для собак для захисних трусів M 10шт","Більше 10","Пелюшки, підгузки для собак",61.56,80,{"$f":"Trixie!I$283","v":0},{"$f":"Trixie!J$283","v":0}]
[null,8062,6108,"Гніздо Trixie для гризунів плетене кругле натуральні матеріали 10см","Більше 10","Обладнання для гризунів",95.16,124,{"$f":"Trixie!I$284","v":0},{"$f":"Trixie!J$284","v":0}]
[null,5930,6110,"Гніздо Trixie для гризунів плетене кругле натуральні матеріали 16см","Менше 10","Обладнання для гризунів",260.16000000000003,338,{"$f":"Trixie!I$285","v":0},{"$f":"Trixie!J$285","v":0}]
[null,5929,6109,"Гніздо Trixie для гризунів плетене подвійне натур/матеріали 10х19см","Більше 10","Обладнання для гризунів",144.06,187,{"$f":"Trixie!I$286","v":0},{"$f":"Trixie!J$286","v":0}]
[null,6929,5620,"Гніздо Trixie для канарки плетене бамбук 10см","Більше 10","Обладнання для птахів",72.78,95,{"$f":"Trixie!I$287","v":0},{"$f":"Trixie!J$287","v":0}]
[null,1111183704,"5630*****","Гніздо Trixie для птах Дерев_яна коробка 21х13х12 см діам 4 см Арт5630","Менше 10","Обладнання для птахів",325.92,424,{"$f":"Trixie!I$288","v":0},{"$f":"Trixie!J$288","v":0}]
[null,6931,5602,"Гніздо Trixie для птахів плетене бамбук 12х11см","Більше 10","Обладнання для птахів",120.3,156,{"$f":"Trixie!I$289","v":0},{"$f":"Trixie!J$289","v":0}]
[null,6930,5605,"Гніздо Trixie для птахів плетене бамбук 15х12см","Більше 10","Обладнання для птахів",151.08000000000001,196,{"$f":"Trixie!I$290","v":0},{"$f":"Trixie!J$290","v":0}]
[null,7839,5600,"Гніздо Trixie для птахів плетене бамбук 9х10см","Більше 10","Обладнання для птахів",89.52,116,{"$f":"Trixie!I$291","v":0},{"$f":"Trixie!J$291","v":0}]
[null,1111182444,60713,"Гніздовий матеріал Trixie для гризунів Капок 40 г кремовий Арт60713","Більше 100","Обладнання для гризунів",74.16,96,{"$f":"Trixie!I$292","v":0},{"$f":"Trixie!J$292","v":0}]
[null,1111183785,60714,"Гніздовий матеріал Trixie капок 100 г кремовий Арт60714","Більше 10","Обладнання для гризунів",184.62,240,{"$f":"Trixie!I$293","v":0},{"$f":"Trixie!J$293","v":0}]
[null,8059,"5472_1шт","Годівниця Trixie для птахів підвісна з кріпленням пластик 130мл 8х7см","Більше 100","Обладнання для птахів",36.36,47,{"$f":"Trixie!I$294","v":0},{"$f":"Trixie!J$294","v":0}]
[null,8060,"5473_1шт","Годівниця Trixie для птахів підвісна з кріпленням пластик 200мл 11х9см","Більше 100","Обладнання для птахів",42,55,{"$f":"Trixie!I$295","v":0},{"$f":"Trixie!J$295","v":0}]
[null,8058,"5471_1шт","Годівниця Trixie для птахів підвісна з кріпленням пластик 80мл 6х6см","Більше 100","Обладнання для птахів",29.4,38,{"$f":"Trixie!I$296","v":0},{"$f":"Trixie!J$296","v":0}]
[null,1111114578,5418,"Годівниця Trixie для птахів пластик 150мл 12см","Більше 10","Обладнання для птахів",89.52,116,{"$f":"Trixie!I$297","v":0},{"$f":"Trixie!J$297","v":0}]
[null,1111165896,"55630*****","Годівниця Trixie для птахів садова підвісна метал 1000мл 20см","Менше 10","Обладнання для птахів",523.14,680,{"$f":"Trixie!I$298","v":0},{"$f":"Trixie!J$298","v":0}]
[null,1111125850,23791,"Граблі Trixie д/довгошерстих собак однорядна з довгим зубом 7х14см","Більше 10","Догляд та гігієна для собак",325.92,424,{"$f":"Trixie!I$299","v":0},{"$f":"Trixie!J$299","v":0}]
[null,1111125857,23792,"Граблі Trixie д/короткошерстих собак з коротким зубом металева 10х15см","Більше 10","Догляд та гігієна для собак",358.08,465,{"$f":"Trixie!I$300","v":0},{"$f":"Trixie!J$300","v":0}]
[null,1111125851,23793,"Граблі Trixie для довгошерстих собак з довгим зубом металева 10х15см","Менше 10","Догляд та гігієна для собак",358.08,465,{"$f":"Trixie!I$301","v":0},{"$f":"Trixie!J$301","v":0}]
[null,1111125849,23783,"Граблі Trixie для собак дворядна з різними зубчиками металева 10х15см","Більше 10","Догляд та гігієна для собак",391.62,509,{"$f":"Trixie!I$302","v":0},{"$f":"Trixie!J$302","v":0}]
[null,6726,24241,"Гребінець Trixie д/грум. розплутування прорідж зубці 1см 5*18см","Більше 10","Догляд та гігієна для собак",555.29999999999995,722,{"$f":"Trixie!I$303","v":0},{"$f":"Trixie!J$303","v":0}]
[null,1111125843,23767,"Гребінець Trixie д/собак короткий/довгий зуб метал пластик/ручка 22см","Більше 10","Догляд та гігієна для собак",260.16000000000003,338,{"$f":"Trixie!I$304","v":0},{"$f":"Trixie!J$304","v":0}]
[null,1111125844,23771,"Гребінець Trixie д/собак част/корот/оберт/зуб метал пластик/ручка 22см","Більше 10","Догляд та гігієна для собак",292.32,380,{"$f":"Trixie!I$305","v":0},{"$f":"Trixie!J$305","v":0}]
[null,1111118325,2400,"Гребінець Trixie для вичісування бліх/вошей двосторонній пластик 14см","Більше 100","Догляд та гігієна для собак",40.56,53,{"$f":"Trixie!I$306","v":0},{"$f":"Trixie!J$306","v":0}]
[null,1111118328,2410,"Гребінець Trixie для вичісування бліх/вошей метал пластик/ручка 15см","Більше 10","Догляд та гігієна для собак",134.28,175,{"$f":"Trixie!I$307","v":0},{"$f":"Trixie!J$307","v":0}]
[null,1111125838,23762,"Гребінець Trixie для вичісування бліх/вошей метал пластик/ручка 21см","Більше 10","Догляд та гігієна для собак",292.32,380,{"$f":"Trixie!I$308","v":0},{"$f":"Trixie!J$308","v":0}]
[null,1111125846,23773,"Гребінець Trixie для довгошерстих коротк/довг зуб пластик/ручка 22см","Більше 10","Догляд та гігієна для собак",292.32,380,{"$f":"Trixie!I$309","v":0},{"$f":"Trixie!J$309","v":0}]
[null,8238,2396,"Гребінець Trixie для собак середній/широкий зуб дерев_яна ручка 17см","Більше 10","Догляд та гігієна для собак",151.08000000000001,196,{"$f":"Trixie!I$310","v":0},{"$f":"Trixie!J$310","v":0}]
[null,1111125840,23764,"Гребінець Trixie для собак частий тонкий зуб метал пластик/ручка 22см","Менше 10","Догляд та гігієна для собак",260.16000000000003,338,{"$f":"Trixie!I$311","v":0},{"$f":"Trixie!J$311","v":0}]
[null,1111125845,23772,"Гребінець Trixie для собак/котів середній зуб метал пластик/ручка 22см","Більше 10","Догляд та гігієна для собак",292.32,380,{"$f":"Trixie!I$312","v":0},{"$f":"Trixie!J$312","v":0}]
[null,2170,2395,"Гребінець-планка Trixie для собак середній/густий зуб метал 16см","Більше 100","Догляд та гігієна для собак",151.08000000000001,196,{"$f":"Trixie!I$313","v":0},{"$f":"Trixie!J$313","v":0}]
[null,1111142383,24183,"Гребінець-тример Trixie д/собак видал/підшерстя гостре лезо 6см/15см","Більше 10","Догляд та гігієна для собак",654.6,851,{"$f":"Trixie!I$314","v":0},{"$f":"Trixie!J$314","v":0}]
[null,1111142384,24185,"Гребінець-тример Trixie д/собак д/видал/підшерстя гостре лезо 8х14см","Менше 10","Догляд та гігієна для собак",720.3,936,{"$f":"Trixie!I$315","v":0},{"$f":"Trixie!J$315","v":0}]
[null,1111145750,23123,"Гребінець-тример Trixie д/собак д/видалення підшерстя рожев 7см/15 см","Більше 10","Догляд та гігієна для котів",621,807,{"$f":"Trixie!I$316","v":0},{"$f":"Trixie!J$316","v":0}]
[null,1111126099,24175,"Гребінець-тример Trixie для собак для видалення підшерстя 11см/15 см","Більше 10","Догляд та гігієна для собак",883.98,1149,{"$f":"Trixie!I$317","v":0},{"$f":"Trixie!J$317","v":0}]
[null,1111125854,24171,"Гребінець-тример Trixie для собак для видалення підшерстя 7х15см","Більше 10","Догляд та гігієна для собак",654.6,851,{"$f":"Trixie!I$318","v":0},{"$f":"Trixie!J$318","v":0}]
[null,1111125858,24173,"Гребінець-тример Trixie для собак для видалення підшерстя 8см/14см","Більше 10","Догляд та гігієна для собак",720.3,936,{"$f":"Trixie!I$319","v":0},{"$f":"Trixie!J$319","v":0}]
[null,1111115380,2315,"Гребінець-щітка Trixie д/котів двостор нейлон/метал/щетин/дерев 6х21см","Більше 10","Догляд та гігієна для собак",151.08000000000001,196,{"$f":"Trixie!I$320","v":0},{"$f":"Trixie!J$320","v":0}]
[null,1111113775,2326,"Гребінець-щітка Trixie д/котів з натуральною щетиною дерев_яна 5х18см","Менше 10","Догляд та гігієна для собак",120.3,156,{"$f":"Trixie!I$321","v":0},{"$f":"Trixie!J$321","v":0}]
[null,1111113774,2322,"Гребінець-щітка Trixie д/собак/котів двосторон/кругла дерев_яна 5х17см","Більше 10","Догляд та гігієна для собак",151.08000000000001,196,{"$f":"Trixie!I$322","v":0},{"$f":"Trixie!J$322","v":0}]
[null,1111131657,3879,"Двері Trixie Free для собак пластикові розмір M/XL 39х45см","Менше 10","Інструменти для догляду за будинком з собаками",2597.34,3376,{"$f":"Trixie!I$323","v":0},{"$f":"Trixie!J$323","v":0}]
[null,1111131656,3878,"Двері Trixie Free для собак пластикові розмір S/M 30х36см","Менше 10","Інструменти для догляду за будинком з собаками",2005.68,2607,{"$f":"Trixie!I$324","v":0},{"$f":"Trixie!J$324","v":0}]
[null,1111139052,3877,"Двері Trixie Free для собак пластикові розмір XS/S 25х29см","Менше 10","Інструменти для догляду за будинком з собаками",1348.32,1753,{"$f":"Trixie!I$325","v":0},{"$f":"Trixie!J$325","v":0}]
[null,1111156349,44201,"Двері Trixie для котів двосторонні білі пластикові 20х22см","Менше 10","Інструменти для догляду за будинком з котами",489.54,636,{"$f":"Trixie!I$326","v":0},{"$f":"Trixie!J$326","v":0}]
[null,1111156350,44202,"Двері Trixie для котів двосторонні сірі пластикові 20х22см","Менше 10","Інструменти для догляду за будинком з котами",489.54,636,{"$f":"Trixie!I$327","v":0},{"$f":"Trixie!J$327","v":0}]
[null,1111156353,44231,"Двері Trixie для котів чотирьохсторонні з тунелем білі пластик 20х22см","Менше 10","Інструменти для догляду за будинком з котами",654.6,851,{"$f":"Trixie!I$328","v":0},{"$f":"Trixie!J$328","v":0}]
[null,1111127811,"76210_ord","Декорація Trixie для тераріума Печера рептилій пластик 16х7х11см","Менше 10","Декорації для тераріуму",411.24,535,{"$f":"Trixie!I$329","v":0},{"$f":"Trixie!J$329","v":0}]
[null,1111195970,24784,"ДЕФ.ПОКРИТТЯ Миска Trixie для котів короткомордих порід сіра/біла кера","Менше 10","Миски для котів",88.98,0,{"$f":"Trixie!I$330","v":0},{"$f":"Trixie!J$330","v":0}]
[null,1111185409,22856,"Диспенсер Trixie BE NORDIC пакети для фекалій 20 шт пісочний арт22856","Більше 10","Догляд та гігієна для собак",151.08000000000001,196,{"$f":"Trixie!I$331","v":0},{"$f":"Trixie!J$331","v":0}]
[null,1111185410,22857,"Диспенсер Trixie CityStyle з пакетами 1уп 15пак світло-сірий арт22857","Більше 10","Догляд та гігієна для собак",325.92,424,{"$f":"Trixie!I$332","v":0},{"$f":"Trixie!J$332","v":0}]
[null,1111185486,22849,"Диспенсер Trixie для пакетів зі штучною шкірою 1 уп 20 пак арт22849","Більше 10","Догляд та гігієна для собак",292.32,380,{"$f":"Trixie!I$333","v":0},{"$f":"Trixie!J$333","v":0}]
[null,1111185411,22858,"Диспенсер Trixie з пакетами 1 упаковка 20 пакетів арт22858","Менше 10","Догляд та гігієна для собак",151.08000000000001,196,{"$f":"Trixie!I$334","v":0},{"$f":"Trixie!J$334","v":0}]
[null,1111129071,76392,"Додатковий корм Trixie для рептилій Цвіркуни сушені 25г Арт76392","Менше 10","Корм сухий для черепах та рептилій",128.69999999999999,167,{"$f":"Trixie!I$335","v":0},{"$f":"Trixie!J$335","v":0}]
[null,1111120101,6106,"Драбинка Trixie Natural Living для гризунів дерев_яна 7х27см","Більше 10","Обладнання для гризунів",103.5,135,{"$f":"Trixie!I$336","v":0},{"$f":"Trixie!J$336","v":0}]
[null,1111172123,"44073*****","Дряпка Trixie Acadia д/котів настінна сизал/плюш біла/сіра 46х37х160см","Менше 10","Дряпки для котів",6485.58,8431,{"$f":"Trixie!I$337","v":0},{"$f":"Trixie!J$337","v":0}]
[null,1111114597,43712,"Дряпка Trixie Junior Tarifa для котів чорно-сіра 35х35х52см","Менше 10","Дряпки для котів",1212.6600000000001,1576,{"$f":"Trixie!I$338","v":0},{"$f":"Trixie!J$338","v":0}]
[null,1111114599,43751,"Дряпка Trixie Junior Vitoria для котів з іграшкою бежева 36х36х43см","Менше 10","Дряпки для котів",1663.02,2162,{"$f":"Trixie!I$339","v":0},{"$f":"Trixie!J$339","v":0}]
[null,1111171709,48011,"Дряпка Trixie Junior для кошенят котяча м_ята картон 38х6х18см","Більше 10","Дряпки для котів",202.8,264,{"$f":"Trixie!I$340","v":0},{"$f":"Trixie!J$340","v":0}]
[null,1111171708,48012,"Дряпка Trixie Wave Junior для кошенят котяча м_ята картон 38х7х18см","Більше 10","Дряпки для котів",202.8,264,{"$f":"Trixie!I$341","v":0},{"$f":"Trixie!J$341","v":0}]
[null,1111172122,"49960*****","Дряпка Trixie д/котів Set1 настінна дерев/сизал біла/сіра 35х130х25см","Менше 10","Дряпки для котів",2960.94,3849,{"$f":"Trixie!I$342","v":0},{"$f":"Trixie!J$342","v":0}]
[null,1111172126,"49971*****","Дряпка Trixie д/котів Дошка настінна сизаль/дерево біла/сіра 38х58см","Менше 10","Дряпки для котів",1257.08,1697,{"$f":"Trixie!I$343","v":0},{"$f":"Trixie!J$343","v":0}]
[null,1111185459,48015,"Дряпка Trixie для кот Риба картон 2 шт 40х30х11см м_ятно-крем арт48015","Менше 10","Дряпки для котів",486.78,633,{"$f":"Trixie!I$344","v":0},{"$f":"Trixie!J$344","v":0}]
[null,1111127887,43115,"Дряпка Trixie для котів 2 іграшки дощечка на підстав чорна 30х40х42см","Менше 10","Дряпки для котів",1009.86,1313,{"$f":"Trixie!I$345","v":0},{"$f":"Trixie!J$345","v":0}]
[null,1111130095,4331,"Дряпка Trixie для котів Edoardo будиночок та іграшка бежева 33х50см","Менше 10","Дряпки для котів",3447.72,4482,{"$f":"Trixie!I$346","v":0},{"$f":"Trixie!J$346","v":0}]
[null,1111117413,4330,"Дряпка Trixie для котів Samuel з будиночком бежева 36х70см","Менше 10","Дряпки для котів",4700.88,6111,{"$f":"Trixie!I$347","v":0},{"$f":"Trixie!J$347","v":0}]
[null,1111172124,"43160*****","Дряпка Trixie для котів XXL настінна кутова сизаль/плюш сіра 38х75см","Менше 10","Дряпки для котів",1318.98,1715,{"$f":"Trixie!I$348","v":0},{"$f":"Trixie!J$348","v":0}]
[null,1111172125,"43166*****","Дряпка Trixie для котів XXL настінна сизаль/фліс коричнева 50х70см","Менше 10","Дряпки для котів",1415.46,1840,{"$f":"Trixie!I$349","v":0},{"$f":"Trixie!J$349","v":0}]
[null,1111171715,48004,"Дряпка Trixie для котів Барабан кульки/котяча м_ята картон 33х5,5см","Більше 10","Дряпки для котів",524.52,682,{"$f":"Trixie!I$350","v":0},{"$f":"Trixie!J$350","v":0}]
[null,12280,4303,"Дряпка Trixie для котів з валик/іграшка сизаль/плюш чорна 15x35см","Більше 10","Дряпки для котів",448.98,584,{"$f":"Trixie!I$351","v":0},{"$f":"Trixie!J$351","v":0}]
[null,1111171718,48000,"Дряпка Trixie для котів з котячою м_ятою картон синя 41х7х24см","Більше 10","Дряпки для котів",297.95999999999998,387,{"$f":"Trixie!I$352","v":0},{"$f":"Trixie!J$352","v":0}]
[null,1111117415,"4324*****","Дряпка Trixie для котів кругла з іграшкою 23х20см синьо-бежева Арт4324","Менше 10","Дряпки для котів",685.38,891,{"$f":"Trixie!I$353","v":0},{"$f":"Trixie!J$353","v":0}]
[null,1111171717,48006,"Дряпка Trixie для котів кульки/котяча м_ята картон 38х5х30см","Менше 10","Дряпки для котів",297.95999999999998,387,{"$f":"Trixie!I$354","v":0},{"$f":"Trixie!J$354","v":0}]
[null,1111172129,43721,"Дряпка Trixie для котів М_яч МДФ/джут бежева 29х31см","Менше 10","Дряпки для котів",2068.62,2689,{"$f":"Trixie!I$355","v":0},{"$f":"Trixie!J$355","v":0}]
[null,1111115157,43191,"Дряпка Trixie для котів настінна кутова сизаль/плюш бежева 23x49см","Менше 10","Дряпки для котів",524.52,682,{"$f":"Trixie!I$356","v":0},{"$f":"Trixie!J$356","v":0}]
[null,1111115167,43181,"Дряпка Trixie для котів настінна сизаль/дерево бежева 11x56см","Менше 10","Дряпки для котів",297.95999999999998,387,{"$f":"Trixie!I$357","v":0},{"$f":"Trixie!J$357","v":0}]
[null,1111118187,43171,"Дряпка Trixie для котів настінна сизаль/дерево бежева 17х70см","Менше 10","Дряпки для котів",442.02,575,{"$f":"Trixie!I$358","v":0},{"$f":"Trixie!J$358","v":0}]
[null,1111119914,43071,"Дряпка Trixie для котів настінна сизаль/плюш бежева 15x62см","Менше 10","Дряпки для котів",335.7,436,{"$f":"Trixie!I$359","v":0},{"$f":"Trixie!J$359","v":0}]
[null,1111120015,4342,"Дряпка Trixie для котів настінна сизаль/плюш бежева 18x78см","Менше 10","Дряпки для котів",562.26,731,{"$f":"Trixie!I$360","v":0},{"$f":"Trixie!J$360","v":0}]
[null,1111171714,48002,"Дряпка Trixie для котів Хвиля Mimi з котячою м_ятою картон 48х16х22см","Менше 10","Дряпки для котів",675.6,878,{"$f":"Trixie!I$361","v":0},{"$f":"Trixie!J$361","v":0}]
[null,1111171710,48031,"Дряпка Trixie для котів Хвиля XXL котяча м_ята картон сіра 64х14х37см","Менше 10","Дряпки для котів",1228.02,1596,{"$f":"Trixie!I$362","v":0},{"$f":"Trixie!J$362","v":0}]
[null,1111185462,48041,"Дряпка Trixie для кошен картон з кот м_ят 31х2,5х32,5см арт48041","Більше 10","Дряпки для котів",222.42,289,{"$f":"Trixie!I$363","v":0},{"$f":"Trixie!J$363","v":0}]
[null,1111185461,"48040*****","Дряпка Trixie для кошен картон з кот м_ят 35х2,5х29,5см біла арт48040","Менше 10","Дряпки для котів",222.42,289,{"$f":"Trixie!I$364","v":0},{"$f":"Trixie!J$364","v":0}]
[null,1111183772,"42930*****","Дряпка Trixie для кошенят фліс 47 см світло-бузкова","Менше 10","Дряпки для котів",807.06,1049,{"$f":"Trixie!I$365","v":0},{"$f":"Trixie!J$365","v":0}]
[null,1111157201,44418,"Дряпка Trixie Міка для котів 46 см світло-сіра Арт44418","Менше 10","Дряпки для котів",1415.46,1840,{"$f":"Trixie!I$366","v":0},{"$f":"Trixie!J$366","v":0}]
[null,1111172140,"44413*****","Дряпка-будинок Trixie для котів Печера з кулею МДФ/джут/плюш 36х50см","Менше 10","Дряпки для котів",2647.03,3574,{"$f":"Trixie!I$367","v":0},{"$f":"Trixie!J$367","v":0}]
[null,1111172132,"44988*****","Дряпка-будиночок Trixie Gabriel для котів сизаль сіра 38х38х78см","Менше 10","Дряпки для котів",5357.61,7233,{"$f":"Trixie!I$368","v":0},{"$f":"Trixie!J$368","v":0}]
[null,1111172136,"44537*****","Дряпка-будиночок Trixie Harvey д/котів джут/плюш коричнева 54х40х73см","Менше 10","Дряпки для котів",4255.3599999999997,5745,{"$f":"Trixie!I$369","v":0},{"$f":"Trixie!J$369","v":0}]
[null,1111172135,"44539*****","Дряпка-будиночок Trixie Harvey д/котів джут/плюш рожева 54х40х73см","Менше 10","Дряпки для котів",3883.32,5243,{"$f":"Trixie!I$370","v":0},{"$f":"Trixie!J$370","v":0}]
[null,1111172131,"44708*****","Дряпка-будиночок Trixie Harvey для котів сизаль/плюш сіра 50х118см","Менше 10","Дряпки для котів",12665.55,17098,{"$f":"Trixie!I$371","v":0},{"$f":"Trixie!J$371","v":0}]
[null,1111172133,44706,"Дряпка-будиночок Trixie Ria для котів сизаль сіра 37х37см","Менше 10","Дряпки для котів",3727.44,4846,{"$f":"Trixie!I$372","v":0},{"$f":"Trixie!J$372","v":0}]
[null,1111172134,44433,"Дряпка-будиночок Trixie Saul для котів сизал/плюш сіра/біла 39х39х64см","Менше 10","Дряпки для котів",2717.58,3533,{"$f":"Trixie!I$373","v":0},{"$f":"Trixie!J$373","v":0}]
[null,312023,4325,"Дряпка-килимок Trixie для кот з іграшк на мотузці беж 55х35см Арт4325","Менше 10","Дряпки для котів",482.58,627,{"$f":"Trixie!I$374","v":0},{"$f":"Trixie!J$374","v":0}]
[null,1111133308,4323,"Дряпка-килимок Trixie для котів з м_ячиком коричнева 70х45см","Менше 10","Дряпки для котів",888.18,1155,{"$f":"Trixie!I$375","v":0},{"$f":"Trixie!J$375","v":0}]
[null,1111114905,43882,"Дряпка-комплекс Trixie Altea для котів з іграшками сіра 40х40х117см","Менше 10","Дряпки для котів",2717.58,3533,{"$f":"Trixie!I$376","v":0},{"$f":"Trixie!J$376","v":0}]
[null,1111172139,44548,"Дряпка-комплекс Trixie Baza д/котів іграшка сизал/плюш сіра 41х41х50см","Менше 10","Дряпки для котів",1906.38,2478,{"$f":"Trixie!I$377","v":0},{"$f":"Trixie!J$377","v":0}]
[null,1111129721,44541,"Дряпка-комплекс Trixie Baza для котів з іграшкою бежева 41х41х50см","Більше 10","Дряпки для котів",1663.02,2162,{"$f":"Trixie!I$378","v":0},{"$f":"Trixie!J$378","v":0}]
[null,1111172137,"44436*****","Дряпка-комплекс Trixie Nayra д/котів іграшка джут/плюш беж 40х40х83см","Менше 10","Дряпки для котів",4700.88,6111,{"$f":"Trixie!I$379","v":0},{"$f":"Trixie!J$379","v":0}]
[null,1111117666,43787,"Дряпка-комплекс Trixie Palamos для котів чорна 39х39х109см","Менше 10","Дряпки для котів",3727.44,4846,{"$f":"Trixie!I$380","v":0},{"$f":"Trixie!J$380","v":0}]
[null,1111115161,43771,"Дряпка-комплекс Trixie Valencia для котів бежева 44х33х71см","Менше 10","Дряпки для котів",2267.2199999999998,2947,{"$f":"Trixie!I$381","v":0},{"$f":"Trixie!J$381","v":0}]
[null,1111171712,48014,"Дряпка-лежак Trixie Lilly для котів котяча м_ята картон рожева 45х10см","Менше 10","Дряпки для котів",939.9,1222,{"$f":"Trixie!I$382","v":0},{"$f":"Trixie!J$382","v":0}]
[null,1111172138,"47062*****","Дряпка-лежак Trixie Marcela д/котів іграшка сизал/плюш сіра 53х43х60см","Менше 10","Дряпки для котів",4255.3599999999997,5745,{"$f":"Trixie!I$383","v":0},{"$f":"Trixie!J$383","v":0}]
[null,1111171713,48013,"Дряпка-лежак Trixie для котів котяча м_ята картон дерево 45х12х33см","Менше 10","Дряпки для котів",448.98,584,{"$f":"Trixie!I$384","v":0},{"$f":"Trixie!J$384","v":0}]
[null,1111172127,42931,"Дряпка-стовпчик Trixie Junior д/кошенят Лапка сизаль/плюш 40х38х50см","Менше 10","Дряпки для котів",888.18,1155,{"$f":"Trixie!I$385","v":0},{"$f":"Trixie!J$385","v":0}]
[null,1111172128,42932,"Дряпка-стовпчик Trixie Junior для кошенят джут/плюш м_ятна 30х42см","Більше 10","Дряпки для котів",563.70000000000005,733,{"$f":"Trixie!I$386","v":0},{"$f":"Trixie!J$386","v":0}]
[null,1111172130,44720,"Дряпка-стовпчик Trixie Livia д/котів іграшка сизал/плюш рожева 38х64см","Менше 10","Дряпки для котів",1318.98,1715,{"$f":"Trixie!I$387","v":0},{"$f":"Trixie!J$387","v":0}]
[null,1111113978,4309,"Дряпка-стовпчик Trixie для котів з іграшкою на мотузці сизаль 31х50см","Менше 10","Дряпки для котів",685.38,891,{"$f":"Trixie!I$388","v":0},{"$f":"Trixie!J$388","v":0}]
[null,1111114480,4310,"Дряпка-стовпчик Trixie для котів з іграшкою на мотузці сизаль 35х62см","Більше 10","Дряпки для котів",1009.86,1313,{"$f":"Trixie!I$389","v":0},{"$f":"Trixie!J$389","v":0}]
[null,1111114370,4306,"Дряпка-стовпчик Trixie для котів з іграшкою та мишкою 40х30х50см","Більше 10","Дряпки для котів",1009.86,1313,{"$f":"Trixie!I$390","v":0},{"$f":"Trixie!J$390","v":0}]
[null,1111172120,"48022*****","Дряпка-стовпчик Trixie для котів іграшка/котяча м_ята 30х30х62см","Менше 10","Дряпки для котів",1373.78,1855,{"$f":"Trixie!I$391","v":0},{"$f":"Trixie!J$391","v":0}]
[null,1111141815,48001,"Дряпка-хвиля Trixie Mimi Wave для котів картонна 50х9х23см","Більше 100","Дряпки для котів",373.44,485,{"$f":"Trixie!I$392","v":0},{"$f":"Trixie!J$392","v":0}]
[null,1111148452,43262,"Дряпка-хвиля Trixie Wave для котів плюш/сизаль сіра 29x18x50см","Менше 10","Дряпки для котів",807.06,1049,{"$f":"Trixie!I$393","v":0},{"$f":"Trixie!J$393","v":0}]
[null,1111116611,4341,"Дряпка-хвиля Trixie для котів Inca світло-коричнева 44х25х39см","Менше 10","Дряпки для котів",1521.78,1978,{"$f":"Trixie!I$394","v":0},{"$f":"Trixie!J$394","v":0}]
[null,1111126360,5876,"Жердинка Trixie Natural Living для птахів Y-образна дерево 20см/15мм","Більше 10","Обладнання для птахів",89.52,116,{"$f":"Trixie!I$395","v":0},{"$f":"Trixie!J$395","v":0}]
[null,1111126361,5877,"Жердинка Trixie Natural Living для птахів Y-образна дерево 35см/18мм","Більше 10","Обладнання для птахів",120.3,156,{"$f":"Trixie!I$396","v":0},{"$f":"Trixie!J$396","v":0}]
[null,1111126359,5875,"Жердинка Trixie Natural Living для птахів дерево 35см/10-12мм 2шт","Більше 10","Обладнання для птахів",89.52,116,{"$f":"Trixie!I$397","v":0},{"$f":"Trixie!J$397","v":0}]
[null,1111126366,5889,"Жердинка Trixie Natural Living для птахів з мотузкою дерево 25см/25мм","Більше 10","Обладнання для птахів",120.3,156,{"$f":"Trixie!I$398","v":0},{"$f":"Trixie!J$398","v":0}]
[null,1111165538,60891,"Забірник для сіна Trixie для гризунів з кришкою метал 20х18х12см","Більше 10","Обладнання для гризунів",151.08000000000001,196,{"$f":"Trixie!I$399","v":0},{"$f":"Trixie!J$399","v":0}]
[null,13732,6105,"Заборник-куля Trixie для гризунів підвісна метал 12см","Більше 10","Обладнання для гризунів",160.86000000000001,209,{"$f":"Trixie!I$400","v":0},{"$f":"Trixie!J$400","v":0}]
[null,13733,6104,"Заборник-куля Trixie для гризунів підвісна метал 8см","Більше 10","Обладнання для гризунів",120.3,156,{"$f":"Trixie!I$401","v":0},{"$f":"Trixie!J$401","v":0}]
[null,1111118162,2547,"Засіб Trixie гігієнічний для очищення вух 50 мл","Більше 100","Догляд та гігієна для собак",146.88,191,{"$f":"Trixie!I$402","v":0},{"$f":"Trixie!J$402","v":0}]
[null,1111118161,2546,"Засіб Trixie гігієнічний для очищення очей 50 мл","Більше 100","Догляд та гігієна для собак",146.88,191,{"$f":"Trixie!I$403","v":0},{"$f":"Trixie!J$403","v":0}]
[null,1111165689,25752,"Засіб д/видалення плям від сечі Trixie Intensive 750мл","Більше 10","Засоби для догляду за будинком з собаками",416.82,542,{"$f":"Trixie!I$404","v":0},{"$f":"Trixie!J$404","v":0}]
[null,1111183739,25751,"Засіб д/видалення плям від сечі Trixie з натур. актив.речовинами 750мл","Менше 10","Засоби для догляду за будинком з собаками",370.68,482,{"$f":"Trixie!I$405","v":0},{"$f":"Trixie!J$405","v":0}]
[null,1111179975,25705,"Засіб-щітка Trixie для собак для чищення лап силікон/PP синій M/L","Менше 10","Догляд та гігієна для собак",325.92,424,{"$f":"Trixie!I$406","v":0},{"$f":"Trixie!J$406","v":0}]
[null,1111179974,25704,"Засіб-щітка Trixie для собак для чищення лап силікон/PP синій S/M","Більше 10","Догляд та гігієна для собак",260.16000000000003,338,{"$f":"Trixie!I$407","v":0},{"$f":"Trixie!J$407","v":0}]
[null,1111140857,"4417 Trixie*****","Захисна решітка Trixie для вікна верх-низ 65 на 16 см біла Арт4417","Немає в наявності","Інструменти для догляду за будинком з котами",274.14,356,{"$f":"Trixie!I$408","v":0},{"$f":"Trixie!J$408","v":0}]
[null,1111183775,44183,"Захисна решітка для вікна Trixie бокова панель 62х16х7см біла Арт44183","Менше 10","Інструменти для догляду за будинком з собаками",212.64,276,{"$f":"Trixie!I$409","v":0},{"$f":"Trixie!J$409","v":0}]
[null,1111148095,19543,"Захисний комір Trixie д/соб. надувний M-L 45-57см*11см блакитний","Більше 10","Ветеринарні комірці для собак",751.08,976,{"$f":"Trixie!I$410","v":0},{"$f":"Trixie!J$410","v":0}]
[null,1111148094,19542,"Захисний комір Trixie д/соб. надувний S 24-31см*9,5см блакитний","Більше 10","Ветеринарні комірці для собак",600.05999999999995,780,{"$f":"Trixie!I$411","v":0},{"$f":"Trixie!J$411","v":0}]
[null,1111148096,"19544*****","Захисний комір Trixie д/соб. надувний X-XL 66-78см*12см блакитний","Більше 10","Ветеринарні комірці для собак",826.62,1075,{"$f":"Trixie!I$412","v":0},{"$f":"Trixie!J$412","v":0}]
[null,1111135598,1348,"Захисний чохол Trixie для автомобільного сидіння нейлон 150х135см","Менше 10","Сумки, переноски та посуд для подорожей з собаками",1548.3,2013,{"$f":"Trixie!I$413","v":0},{"$f":"Trixie!J$413","v":0}]
[null,1111170369,"13204*****","Захисний чохол Trixie для багажника захист бампера поліестер 210х175см","Більше 10","Сумки, переноски та посуд для подорожей з собаками",3923.22,5100,{"$f":"Trixie!I$414","v":0},{"$f":"Trixie!J$414","v":0}]
[null,1111119294,"1314*****","Захисний чохол Trixie для багажника чорний поліестер 164х125см","Менше 10","Сумки, переноски та посуд для подорожей з собаками",2110.56,2744,{"$f":"Trixie!I$415","v":0},{"$f":"Trixie!J$415","v":0}]
[null,1111118314,"1318*****","Захисний чохол Trixie для багажника чорний поліестер 230х170см","Менше 10","Сумки, переноски та посуд для подорожей з собаками",1128.72,1467,{"$f":"Trixie!I$416","v":0},{"$f":"Trixie!J$416","v":0}]
[null,1111170368,"13203*****","Захисний чохол Trixie для сидіння високі борти поліестер 130х155см","Менше 10","Сумки, переноски та посуд для подорожей з собаками",3696.66,4806,{"$f":"Trixie!I$417","v":0},{"$f":"Trixie!J$417","v":0}]
[null,1111134501,13237,"Захисний чохол Trixie для сидіння роздільн бежевий поліестер 140х120см","Менше 10","Сумки, переноски та посуд для подорожей з собаками",826.62,1075,{"$f":"Trixie!I$418","v":0},{"$f":"Trixie!J$418","v":0}]
[null,1111114890,1324,"Захисний чохол Trixie для сидіння роздільн чорний поліестер 145х160см","Менше 10","Сумки, переноски та посуд для подорожей з собаками",1925.94,2504,{"$f":"Trixie!I$419","v":0},{"$f":"Trixie!J$419","v":0}]
[null,1111143926,13472,"Захисний чохол Trixie для сидіння чорний поліестер 145х160см","Менше 10","Сумки, переноски та посуд для подорожей з собаками",1128.72,1467,{"$f":"Trixie!I$420","v":0},{"$f":"Trixie!J$420","v":0}]
[null,1111206963,39735,"ЗЛАМ. ЗАМОК Контейнер-переноска Trixie для собак та котів Skudo 1 ваго","Менше 10","Сумки, переноски та посуд для подорожей з собаками",497.82,0,{"$f":"Trixie!I$421","v":0},{"$f":"Trixie!J$421","v":0}]
[null,1111205706,4135,"ЗЛАМАН ТРИМАЧ Іграшка Trixie Crazy Circle д/кот ігр.трек/мишк 24х29см","Менше 10","Іграшки для котів",100.74,0,{"$f":"Trixie!I$422","v":0},{"$f":"Trixie!J$422","v":0}]
[null,1111207105,43171,"ЗЛАМАНА ЗНИЗУ Дряпка Trixie для котів настінна сизаль/дерево бежева 17","Менше 10","Дряпки для котів",197.94,0,{"$f":"Trixie!I$423","v":0},{"$f":"Trixie!J$423","v":0}]
[null,1111205200,24791,"ЗЛАМАНА НІЖКА НА ПІДСТАВЦІ Миски Trixie для котів Eat on Feet подвійні","Менше 10","Миски для котів",206.04,0,{"$f":"Trixie!I$424","v":0},{"$f":"Trixie!J$424","v":0}]
[null,1111199565,39821,"ЗЛАМАНА РУЧКА Контейнер-переноска Trixie для собак та котів Capri 2 ва","Менше 10","Сумки, переноски та посуд для подорожей з котами",428.34,0,{"$f":"Trixie!I$425","v":0},{"$f":"Trixie!J$425","v":0}]
[null,1111208537,4135,"ЗЛАМАНЕ КРІП Іграшка Trixie Crazy Circle кот ігр.трек з мишкою 24х29см","Менше 10","Іграшки для котів",146.16,0,{"$f":"Trixie!I$426","v":0},{"$f":"Trixie!J$426","v":0}]
[null,1111201989,40721,"ЗЛОМ.ОДНА ПРУЖИНА Іграшки Trixie для котів Набір на пружинках люфа сиз","Менше 10","Іграшки для котів",262.44,0,{"$f":"Trixie!I$427","v":0},{"$f":"Trixie!J$427","v":0}]
[null,1111145340,25620,"Зубна паста Trixie для котів зі смаком сиру та щіткою 50г","Більше 100","Догляд та гігієна для котів",181.86,236,{"$f":"Trixie!I$428","v":0},{"$f":"Trixie!J$428","v":0}]
[null,1111117647,2557,"Зубна паста Trixie для собак з м_ятою 100г","Більше 100","Догляд та гігієна для собак",95.16,124,{"$f":"Trixie!I$429","v":0},{"$f":"Trixie!J$429","v":0}]
[null,9730,2549,"Зубна паста Trixie для собак з маслом чайного дерева 100г","Більше 100","Догляд та гігієна для собак",103.5,135,{"$f":"Trixie!I$430","v":0},{"$f":"Trixie!J$430","v":0}]
[null,1111116721,2561,"Зубна паста Trixie для собак зі смаком м_яти та набором щіток 100г","Більше 10","Догляд та гігієна для собак",195.84,255,{"$f":"Trixie!I$431","v":0},{"$f":"Trixie!J$431","v":0}]
[null,1111131655,2545,"Зубна паста Trixie для собак зі смаком яловичини 100г","Більше 100","Догляд та гігієна для собак",95.16,124,{"$f":"Trixie!I$432","v":0},{"$f":"Trixie!J$432","v":0}]
[null,1111145200,25446,"Зубний гель Trixie Dental Care для собак/котів зі смаком м_яса 100г","Більше 10","Догляд та гігієна для собак",128.69999999999999,167,{"$f":"Trixie!I$433","v":0},{"$f":"Trixie!J$433","v":0}]
[null,1111145207,25621,"Зубні щітки Trixie для котів і маленьких собак 15см 4шт","Більше 100","Догляд та гігієна для собак",103.5,135,{"$f":"Trixie!I$434","v":0},{"$f":"Trixie!J$434","v":0}]
[null,1111119314,2558,"Зубні щітки Trixie для котів і собак двостороння 23см 4шт","Більше 10","Догляд та гігієна для собак",89.52,116,{"$f":"Trixie!I$435","v":0},{"$f":"Trixie!J$435","v":0}]
[null,793,"4099_1шт","Іграшка Trixie Ball and Roll для котів м_яч/валик з брязкальцем 4,5см","Більше 10","Іграшки для котів",21,27,{"$f":"Trixie!I$436","v":0},{"$f":"Trixie!J$436","v":0}]
[null,1111150315,41413,"Іграшка Trixie Ball Race для котів Трек ігровий з м_ячем 65х31см","Менше 10","Іграшки для котів",588.84,765,{"$f":"Trixie!I$437","v":0},{"$f":"Trixie!J$437","v":0}]
[null,1111170341,34878,"Іграшка Trixie Be Eco Elroy для собак Ведмідь зі звуком плюш 42см","Менше 10","Іграшки для собак",448.98,584,{"$f":"Trixie!I$438","v":0},{"$f":"Trixie!J$438","v":0}]
[null,1111170339,34875,"Іграшка Trixie Be Eco Eyleen для собак Альпака зі звуком плюш 26см","Більше 10","Іграшки для собак",373.44,485,{"$f":"Trixie!I$439","v":0},{"$f":"Trixie!J$439","v":0}]
[null,1111170340,34877,"Іграшка Trixie Be Eco для собак Ослик звук перероблений плюш 40см","Більше 10","Іграшки для собак",373.44,485,{"$f":"Trixie!I$440","v":0},{"$f":"Trixie!J$440","v":0}]
[null,1111170328,32630,"Іграшка Trixie Be Nordic для собак М_яч мотузковий бавовна 13см","Менше 10","Іграшки для собак",260.16000000000003,338,{"$f":"Trixie!I$441","v":0},{"$f":"Trixie!J$441","v":0}]
[null,1111163142,36044,"Іграшка Trixie Be Nordic для собак Морж зі звуком плюш 28см","Менше 10","Іграшки для собак",292.32,380,{"$f":"Trixie!I$442","v":0},{"$f":"Trixie!J$442","v":0}]
[null,1111163143,36045,"Іграшка Trixie Be Nordic для собак Тюлень зі звуком плюш 30см","Менше 10","Іграшки для собак",292.32,380,{"$f":"Trixie!I$443","v":0},{"$f":"Trixie!J$443","v":0}]
[null,1111117426,4128,"Іграшка Trixie Catch the Light д/котів Лазерна указка Миша пластик 7см","Менше 10","Іграшки для котів",260.16000000000003,338,{"$f":"Trixie!I$444","v":0},{"$f":"Trixie!J$444","v":0}]
[null,1111128767,4130,"Іграшка Trixie Catch the Light для котів Указка лазерна 8см","Більше 100","Іграшки для котів",151.08000000000001,196,{"$f":"Trixie!I$445","v":0},{"$f":"Trixie!J$445","v":0}]
[null,1111116600,41411,"Іграшка Trixie Catch The Mouse д/котів Трек з мишкою пластик 25х6см","Більше 10","Іграшки для котів",325.92,424,{"$f":"Trixie!I$446","v":0},{"$f":"Trixie!J$446","v":0}]
[null,1111126413,35987,"Іграшка Trixie Chipmunk для собак Бурундук з пискавкою плюш 28см","Більше 10","Іграшки для собак",209.82,273,{"$f":"Trixie!I$447","v":0},{"$f":"Trixie!J$447","v":0}]
[null,1111126357,4135,"Іграшка Trixie Crazy Circle для котів ігровий трек з мишкою 24х29см","Більше 100","Іграшки для котів",292.32,380,{"$f":"Trixie!I$448","v":0},{"$f":"Trixie!J$448","v":0}]
[null,1111125094,35986,"Іграшка Trixie Dangling Chipmunk д/собак Бурундук з хвостом плюш 30см","Більше 10","Іграшки для собак",226.62,295,{"$f":"Trixie!I$449","v":0},{"$f":"Trixie!J$449","v":0}]
[null,1111121032,33181,"Іграшка Trixie Denta Fun для собак Кільце м_ятний смак гума 12см","Більше 10","Іграшки для собак",260.16000000000003,338,{"$f":"Trixie!I$450","v":0},{"$f":"Trixie!J$450","v":0}]
[null,1111140924,34847,"Іграшка Trixie Denta Fun для собак Кістка з зубною ниткою гума 14см","Більше 10","Іграшки для собак",325.92,424,{"$f":"Trixie!I$451","v":0},{"$f":"Trixie!J$451","v":0}]
[null,1111122406,"3259    мята","Іграшка Trixie Denta Fun для собак М_яч бейсбольний з м_ятою 5см","Більше 100","Іграшки для собак",89.52,116,{"$f":"Trixie!I$452","v":0},{"$f":"Trixie!J$452","v":0}]
[null,1111143305,"32880    мята","Іграшка Trixie Denta Fun для собак М_яч бейсбольний з м_ятою 6см","Більше 100","Іграшки для собак",128.69999999999999,167,{"$f":"Trixie!I$453","v":0},{"$f":"Trixie!J$453","v":0}]
[null,13602,"3289    мята","Іграшка Trixie Denta Fun для собак М_яч бейсбольний з м_ятою 7см","Більше 100","Іграшки для собак",160.86000000000001,209,{"$f":"Trixie!I$454","v":0},{"$f":"Trixie!J$454","v":0}]
[null,1111126349,3299,"Іграшка Trixie Denta Fun для собак М_яч на мотузці з ручкою 7х24см","Більше 10","Іграшки для собак",226.62,295,{"$f":"Trixie!I$455","v":0},{"$f":"Trixie!J$455","v":0}]
[null,13603,"3290    мята","Іграшка Trixie Denta Fun для собак М_яч регбі з м_ятою 11см","Більше 10","Іграшки для собак",194.46,253,{"$f":"Trixie!I$456","v":0},{"$f":"Trixie!J$456","v":0}]
[null,1111119102,32942,"Іграшка Trixie Denta Fun для собак М_яч-котушка для чистки зубів 7см","Більше 10","Іграшки для собак",226.62,295,{"$f":"Trixie!I$457","v":0},{"$f":"Trixie!J$457","v":0}]
[null,13604,"33132     мята","Іграшка Trixie Denta Fun для собак М_яч-котушка регбі гума 15см","Менше 10","Іграшки для собак",448.98,584,{"$f":"Trixie!I$458","v":0},{"$f":"Trixie!J$458","v":0}]
[null,1111170337,33704,"Іграшка Trixie DentaFun д/собак Кільце-канат з м_яч чищен/зуб 5см/20см","Менше 10","Іграшки для собак",373.44,485,{"$f":"Trixie!I$459","v":0},{"$f":"Trixie!J$459","v":0}]
[null,1111121033,"33771 Trixie","Іграшка Trixie DentaFun д/собак Котушка канат/м_ятний смак 9см/37см","Більше 10","Іграшки для собак",260.16000000000003,338,{"$f":"Trixie!I$460","v":0},{"$f":"Trixie!J$460","v":0}]
[null,1111119105,32943,"Іграшка Trixie DentaFun д/собак Котушка масаж ясен м_ятний смак 11см","Більше 10","Іграшки для собак",226.62,295,{"$f":"Trixie!I$461","v":0},{"$f":"Trixie!J$461","v":0}]
[null,1111119104,32944,"Іграшка Trixie DentaFun д/собак Котушка масаж ясен м_ятний смак 15см","Більше 10","Іграшки для собак",325.92,424,{"$f":"Trixie!I$462","v":0},{"$f":"Trixie!J$462","v":0}]
[null,1111140913,33680,"Іграшка Trixie DentaFun для собак М_яч для зубів термопласт гума 6см","Більше 10","Іграшки для собак",128.69999999999999,167,{"$f":"Trixie!I$463","v":0},{"$f":"Trixie!J$463","v":0}]
[null,1111119103,32941,"Іграшка Trixie DentaFun для собак М_яч-котушка м_ятний смак гума 6см","Більше 10","Іграшки для собак",160.86000000000001,209,{"$f":"Trixie!I$464","v":0},{"$f":"Trixie!J$464","v":0}]
[null,1111170325,"32023*****","Іграшка Trixie Dog Activity д/дрібн/собак Mini Solitaire пластик 20см","Менше 10","Іграшки для собак",325.92,424,{"$f":"Trixie!I$465","v":0},{"$f":"Trixie!J$465","v":0}]
[null,1111170366,32036,"Іграшка Trixie Dog Activity д/собак/котів Slide/Feed пластик 30х27см","Більше 10","Іграшки для собак",523.14,680,{"$f":"Trixie!I$466","v":0},{"$f":"Trixie!J$466","v":0}]
[null,1111170365,32009,"Іграшка Trixie Dog Activity для собак Ball and Treat пластик 17х18см","Менше 10","Іграшки для собак",883.98,1149,{"$f":"Trixie!I$467","v":0},{"$f":"Trixie!J$467","v":0}]
[null,1111170324,"32022*****","Іграшка Trixie Dog Activity для собак Chess пластик 40х10х27см","Менше 10","Іграшки для собак",818.22,1064,{"$f":"Trixie!I$468","v":0},{"$f":"Trixie!J$468","v":0}]
[null,1111170322,32001,"Іграшка Trixie Dog Activity для собак Flip and Fun пластик 23см","Більше 10","Іграшки для собак",358.08,465,{"$f":"Trixie!I$469","v":0},{"$f":"Trixie!J$469","v":0}]
[null,1111144824,32016,"Іграшка Trixie Dog Activity для собак Gambling Tower пластик 25х27см","Менше 10","Іграшки для собак",720.3,936,{"$f":"Trixie!I$470","v":0},{"$f":"Trixie!J$470","v":0}]
[null,1111170323,"32017*****","Іграшка Trixie Dog Activity для собак Solitaire пластик 29см","Менше 10","Іграшки для собак",464.47,664,{"$f":"Trixie!I$471","v":0},{"$f":"Trixie!J$471","v":0}]
[null,1111134529,33562,"Іграшка Trixie Dog Activity для собак Літаюча тарілка пластик 23см","Менше 10","Іграшки для собак",260.16000000000003,338,{"$f":"Trixie!I$472","v":0},{"$f":"Trixie!J$472","v":0}]
[null,1111114698,3335,"Іграшка Trixie Dog Toy Dumbbell д/собак Гантель з дзвіночком гума 12см","Більше 10","Іграшки для собак",131.52000000000001,171,{"$f":"Trixie!I$473","v":0},{"$f":"Trixie!J$473","v":0}]
[null,1111117732,"3504_1шт","Іграшка Trixie Faces для собак Тваринки-обличчя латекс 6см","Менше 10","Іграшки для собак",89.52,116,{"$f":"Trixie!I$474","v":0},{"$f":"Trixie!J$474","v":0}]
[null,1111170327,32533,"Іграшка Trixie Feed Dummy для собак для дресирування поліестер 6х18см","Менше 10","Іграшки для собак",144.06,187,{"$f":"Trixie!I$475","v":0},{"$f":"Trixie!J$475","v":0}]
[null,1111156346,41416,"Іграшка Trixie Fix and Catch д/котів Трек ігровий з м_ячем пласт 45см","Більше 10","Іграшки для котів",165.06,215,{"$f":"Trixie!I$476","v":0},{"$f":"Trixie!J$476","v":0}]
[null,1111170330,32827,"Іграшка Trixie Jumper для собак Стрибун на канаті гума 7см/25см","Менше 10","Іграшки для собак",292.32,380,{"$f":"Trixie!I$477","v":0},{"$f":"Trixie!J$477","v":0}]
[null,1111170331,"32828*****","Іграшка Trixie Jumper для собак Стрибун на канаті гума 9см/30см","Більше 10","Іграшки для собак",373.44,485,{"$f":"Trixie!I$478","v":0},{"$f":"Trixie!J$478","v":0}]
[null,1111142219,33343,"Іграшка Trixie Junior Dumbbell для цуценят Гантель шипована гума 9см","Більше 10","Іграшки для собак",194.46,253,{"$f":"Trixie!I$479","v":0},{"$f":"Trixie!J$479","v":0}]
[null,1111115844,35611,"Іграшка Trixie Junior Mini Dumbbell д/цуценят Гантель латекс 10см","Більше 10","Іграшки для собак",110.52,144,{"$f":"Trixie!I$480","v":0},{"$f":"Trixie!J$480","v":0}]
[null,1111163125,36178,"Іграшка Trixie Junior Snuggler для цуценят Тваринки плюш 20х20см","Менше 10","Іграшки для собак",260.16000000000003,338,{"$f":"Trixie!I$481","v":0},{"$f":"Trixie!J$481","v":0}]
[null,1111170352,36177,"Іграшка Trixie Junior для собак Ведмідь з кільцем та звуком 23см","Менше 10","Іграшки для собак",260.16000000000003,338,{"$f":"Trixie!I$482","v":0},{"$f":"Trixie!J$482","v":0}]
[null,1111170351,36176,"Іграшка Trixie Junior для собак Ведмідь зі звуком тканина/плюш 28см","Більше 10","Іграшки для собак",292.32,380,{"$f":"Trixie!I$483","v":0},{"$f":"Trixie!J$483","v":0}]
[null,1111170315,33341,"Іграшка Trixie Junior для собак Гілка що шарудить гума 10см","Більше 10","Іграшки для собак",198.66,258,{"$f":"Trixie!I$484","v":0},{"$f":"Trixie!J$484","v":0}]
[null,1111170316,33342,"Іграшка Trixie Junior для собак Пустишка для масажу ясен гума 9см","Більше 10","Іграшки для собак",160.86000000000001,209,{"$f":"Trixie!I$485","v":0},{"$f":"Trixie!J$485","v":0}]
[null,1111170350,36171,"Іграшка Trixie Junior для цуценят Кролик зі звуком текстиль/плюш 28см","Більше 10","Іграшки для собак",292.32,380,{"$f":"Trixie!I$486","v":0},{"$f":"Trixie!J$486","v":0}]
[null,1111147055,32810,"Іграшка Trixie Junior для цуценят М_яч жгутовий текстиль 6см","Більше 10","Іграшки для собак",65.760000000000005,85,{"$f":"Trixie!I$487","v":0},{"$f":"Trixie!J$487","v":0}]
[null,1111170358,32814,"Іграшка Trixie Junior для цуценят М_яч жгутовий текстиль 9см","Менше 10","Іграшки для собак",97.92,127,{"$f":"Trixie!I$488","v":0},{"$f":"Trixie!J$488","v":0}]
[null,1111170318,"34953*****","Іграшка Trixie Lick n Snack для собак М_яч для ласощів гума 8х12х13см","Менше 10","Іграшки для собак",601.44000000000005,782,{"$f":"Trixie!I$489","v":0},{"$f":"Trixie!J$489","v":0}]
[null,1111123863,"3506_1шт","Іграшка Trixie Longies для собак Тварини-сафарі латекс 30-32см","Менше 10","Іграшки для собак",260.16000000000003,338,{"$f":"Trixie!I$490","v":0},{"$f":"Trixie!J$490","v":0}]
[null,1111141009,"41311*****","Іграшка Trixie Moving Light для котів Лазерна указка на стіну 11см","Менше 10","Іграшки для котів",1004.28,1305,{"$f":"Trixie!I$491","v":0},{"$f":"Trixie!J$491","v":0}]
[null,1111117857,5870,"Іграшка Trixie Natural Living д/папуг підвісна ланц/мотуз дерево 40см","Більше 10","Іграшки для птахів",134.28,175,{"$f":"Trixie!I$492","v":0},{"$f":"Trixie!J$492","v":0}]
[null,10361,5186,"Іграшка Trixie Natural Living д/птахів Драбинка 3 сходинки дерево 40см","Більше 10","Обладнання для птахів",181.86,236,{"$f":"Trixie!I$493","v":0},{"$f":"Trixie!J$493","v":0}]
[null,1111126363,5880,"Іграшка Trixie Natural Living д/птахів Драбинка 7 сходинок дерево 30см","Більше 10","Обладнання для птахів",89.52,116,{"$f":"Trixie!I$494","v":0},{"$f":"Trixie!J$494","v":0}]
[null,1111119269,5886,"Іграшка Trixie Natural Living д/птахів Драбинка на канаті дерево 34см","Більше 10","Обладнання для птахів",243.36,316,{"$f":"Trixie!I$495","v":0},{"$f":"Trixie!J$495","v":0}]
[null,1111170317,34951,"Іграшка Trixie Roly Poly для собак Яйце для ласощів пластик 13см","Менше 10","Іграшки для собак",373.44,485,{"$f":"Trixie!I$496","v":0},{"$f":"Trixie!J$496","v":0}]
[null,1111141794,34930,"Іграшка Trixie Snack Dumbbell для собак Гантель для ласощів гума 12см","Більше 10","Іграшки для собак",78.36,102,{"$f":"Trixie!I$497","v":0},{"$f":"Trixie!J$497","v":0}]
[null,1111119769,4547,"Іграшка Trixie Squeaky для котів Мишка на вудочці зі звуком 47см","Більше 10","Іграшки для котів",209.82,273,{"$f":"Trixie!I$498","v":0},{"$f":"Trixie!J$498","v":0}]
[null,1111170332,32860,"Іграшка Trixie Training Dummy для собак для дресирування 6х14см/25см","Менше 10","Іграшки для собак",232.2,302,{"$f":"Trixie!I$499","v":0},{"$f":"Trixie!J$499","v":0}]
[null,1111170333,32861,"Іграшка Trixie Training Dummy для собак для дресирування 6х24см/36см","Менше 10","Іграшки для собак",260.16000000000003,338,{"$f":"Trixie!I$500","v":0},{"$f":"Trixie!J$500","v":0}]
[null,1111117382,"4089_1шт","Іграшка Trixie Wriggle для котів Мишка вібруюча плюш 8см","Більше 100","Іграшки для котів",103.5,135,{"$f":"Trixie!I$501","v":0},{"$f":"Trixie!J$501","v":0}]
[null,1111163130,35677,"Іграшка Trixie Альпака для собак плюш 22см","Менше 10","Іграшки для собак",373.44,485,{"$f":"Trixie!I$502","v":0},{"$f":"Trixie!J$502","v":0}]
[null,1111121810,6192,"Іграшка Trixie д/гризунів Кукурудза/морква натур/матеріали 15см 2шт","Більше 10","Іграшки для гризунів",78.36,102,{"$f":"Trixie!I$503","v":0},{"$f":"Trixie!J$503","v":0}]
[null,1111126945,61822,"Іграшка Trixie д/гризунів м_яч з брязкальцем натуральні матеріали 6см","Більше 10","Іграшки для гризунів",54.6,71,{"$f":"Trixie!I$504","v":0},{"$f":"Trixie!J$504","v":0}]
[null,1111126943,61821,"Іграшка Trixie д/гризунів м_яч з брязкальцем натуральні матеріали 6см","Більше 10","Іграшки для гризунів",61.56,80,{"$f":"Trixie!I$505","v":0},{"$f":"Trixie!J$505","v":0}]
[null,1111178638,41132,"Іграшка Trixie д/кот Гантель на струні CityStyle фетр/дер сір/чор 13см","Більше 10","Іграшки для котів",67.14,87,{"$f":"Trixie!I$506","v":0},{"$f":"Trixie!J$506","v":0}]
[null,1111178641,41136,"Іграшка Trixie д/кот Диски наШнур CityStyle проб/дер беж/чорн d=4*14см","Більше 10","Іграшки для котів",113.34,147,{"$f":"Trixie!I$507","v":0},{"$f":"Trixie!J$507","v":0}]
[null,1111136765,45560,"Іграшка Trixie д/котів Вівця брязкальце на гумці котяч/м_ята плюш 20см","Менше 10","Іграшки для котів",151.08000000000001,196,{"$f":"Trixie!I$508","v":0},{"$f":"Trixie!J$508","v":0}]
[null,1111178639,41133,"Іграшка Trixie д/котів Гантель CityStyle фетр/дерево сірий/чорний 10см","Більше 10","Іграшки для котів",79.739999999999995,104,{"$f":"Trixie!I$509","v":0},{"$f":"Trixie!J$509","v":0}]
[null,1111136766,45561,"Іграшка Trixie д/котів Курка брязкальце/котяча м_ята/мотузка плюш 20см","Більше 10","Іграшки для котів",151.08000000000001,196,{"$f":"Trixie!I$510","v":0},{"$f":"Trixie!J$510","v":0}]
[null,1111126433,45741,"Іграшка Trixie д/котів Паличка з пір_ям та м_ячиком плюш/пластик 54см","Більше 10","Іграшки для котів",89.52,116,{"$f":"Trixie!I$511","v":0},{"$f":"Trixie!J$511","v":0}]
[null,1111178637,41118,"Іграшка Trixie д/котів Риба з котячою м_ятою поліестер кольорова 20см","Більше 10","Іграшки для котів",110.52,144,{"$f":"Trixie!I$512","v":0},{"$f":"Trixie!J$512","v":0}]
[null,1111178636,41117,"Іграшка Trixie д/котів Риба з котячою м_ятою поліестер кольорова 8см","Більше 10","Іграшки для котів",72.78,95,{"$f":"Trixie!I$513","v":0},{"$f":"Trixie!J$513","v":0}]
[null,1111178640,41135,"Іграшка Trixie д/котМ_ячРегбіНаШнурCityStyle проб/дер беж/чор d=4*17см","Більше 10","Іграшки для котів",131.52000000000001,171,{"$f":"Trixie!I$514","v":0},{"$f":"Trixie!J$514","v":0}]
[null,1111130091,58951,"Іграшка Trixie д/птахів підвісна вулканіч/камінь дзвіночок дерево 16см","Більше 10","Іграшки для птахів",88.14,115,{"$f":"Trixie!I$515","v":0},{"$f":"Trixie!J$515","v":0}]
[null,1111178634,"36061*****","Іграшка Trixie д/соб BE NORDIC Камбала Хаджо звук поліест/бав сір 35см","Більше 10","Іграшки для собак",373.44,485,{"$f":"Trixie!I$516","v":0},{"$f":"Trixie!J$516","v":0}]
[null,1111178633,"36060*****","Іграшка Trixie д/соб BE NORDIC Морськ коник Іда поліест/бавов сір 32см","Більше 10","Іграшки для собак",373.44,485,{"$f":"Trixie!I$517","v":0},{"$f":"Trixie!J$517","v":0}]
[null,1111178476,34823,"Іграшка Trixie д/соб Лисиця звук і шелест фольги поліест помаранч 50см","Більше 10","Іграшки для собак",448.98,584,{"$f":"Trixie!I$518","v":0},{"$f":"Trixie!J$518","v":0}]
[null,1111178635,36062,"Іграшка Trixie д/собак BE NORDIC Черепаха Хауке поліест/бавов сір 34см","Більше 10","Іграшки для собак",486.78,633,{"$f":"Trixie!I$519","v":0},{"$f":"Trixie!J$519","v":0}]
[null,1111163122,32867,"Іграшка Trixie д/собак Bungee Dummy д/тренування плюш/поліест 20х47см","Менше 10","Іграшки для собак",226.62,295,{"$f":"Trixie!I$520","v":0},{"$f":"Trixie!J$520","v":0}]
[null,1111163123,32868,"Іграшка Trixie д/собак Bungee Tugger для тренування з кільцем 10х56см","Менше 10","Іграшки для собак",325.92,424,{"$f":"Trixie!I$521","v":0},{"$f":"Trixie!J$521","v":0}]
[null,1111163124,32869,"Іграшка Trixie д/собак Bungee Tugger для тренувань з м_ячем d-7см 48см","Більше 10","Іграшки для собак",325.92,424,{"$f":"Trixie!I$522","v":0},{"$f":"Trixie!J$522","v":0}]
[null,1111178478,36020,"Іграшка Trixie д/собак Білка з ефектом пам_яті поліест помаранч 13см","Більше 10","Іграшки для собак",292.32,380,{"$f":"Trixie!I$523","v":0},{"$f":"Trixie!J$523","v":0}]
[null,1111170354,"33412*****","Іграшка Trixie д/собак Дзвіночок на ремінці для ласощів каучук 11х22см","Менше 10","Іграшки для собак",247.26,311.54000000000002,{"$f":"Trixie!I$524","v":0},{"$f":"Trixie!J$524","v":0}]
[null,1111114737,3278,"Іграшка Trixie д/собак Канат-вісімка плетений пластик/хрестовина 35см","Більше 10","Іграшки для собак",151.08000000000001,196,{"$f":"Trixie!I$525","v":0},{"$f":"Trixie!J$525","v":0}]
[null,1111178473,34721,"Іграшка Trixie д/собак Корова зі звуком поліестер/бавовна бежева 50см","Менше 10","Іграшки для собак",448.98,584,{"$f":"Trixie!I$526","v":0},{"$f":"Trixie!J$526","v":0}]
[null,1111178479,36021,"Іграшка Trixie д/собак Лисиця з ефектом пам_яті поліест помаранч 11см","Менше 10","Іграшки для собак",299.33999999999997,389,{"$f":"Trixie!I$527","v":0},{"$f":"Trixie!J$527","v":0}]
[null,12150,"34603_1шт","Іграшка Trixie д/собак М_яч змінний для арт.32441 спінена гума d-4,5см","Менше 10","Іграшки для собак",50.4,65,{"$f":"Trixie!I$528","v":0},{"$f":"Trixie!J$528","v":0}]
[null,1111178480,36022,"Іграшка Trixie д/собак Мавпа з ефектом пам_яті поліестер кричнева 11см","Менше 10","Іграшки для собак",325.92,424,{"$f":"Trixie!I$529","v":0},{"$f":"Trixie!J$529","v":0}]
[null,1111178630,34720,"Іграшка Trixie д/собак Мавпа зі звуком поліестер/бавовна коричнев 40см","Менше 10","Іграшки для собак",486.78,633,{"$f":"Trixie!I$530","v":0},{"$f":"Trixie!J$530","v":0}]
[null,1111134632,35968,"Іграшка Trixie д/собак Пташка з пискавкою та еластичною шиєю плюш 30см","Більше 10","Іграшки для собак",373.44,485,{"$f":"Trixie!I$531","v":0},{"$f":"Trixie!J$531","v":0}]
[null,1111183792,"61823*****","Іграшка Trixie для гриз Яблуко з кукурудзяного лушпиння 7см Арт61823","Менше 10","Іграшки для гризунів",144.06,187,{"$f":"Trixie!I$532","v":0},{"$f":"Trixie!J$532","v":0}]
[null,1111183791,61654,"Іграшка Trixie для гризун Дерев_яний ролик з дзвіночком 5х7см Арт61654","Менше 10","Іграшки для гризунів",95.16,124,{"$f":"Trixie!I$533","v":0},{"$f":"Trixie!J$533","v":0}]
[null,1111165401,61949,"Іграшка Trixie для гризун Набір іграшок в формі овочів 6х9см Арт61949","Менше 10","Іграшки для гризунів",144.06,187,{"$f":"Trixie!I$534","v":0},{"$f":"Trixie!J$534","v":0}]
[null,1111115171,6184,"Іграшка Trixie для гризунів Валик з брязкальцем дерев_яний 7х5 см","Більше 10","Іграшки для гризунів",78.36,102,{"$f":"Trixie!I$535","v":0},{"$f":"Trixie!J$535","v":0}]
[null,1111121132,6183,"Іграшка Trixie для гризунів Валик з дзвіночком дерево 3,5х5см","Більше 10","Іграшки для гризунів",65.760000000000005,85,{"$f":"Trixie!I$536","v":0},{"$f":"Trixie!J$536","v":0}]
[null,1111134457,60811,"Іграшка Trixie для гризунів Диск біговий пластик 17см","Більше 10","Обладнання для гризунів",160.86000000000001,209,{"$f":"Trixie!I$537","v":0},{"$f":"Trixie!J$537","v":0}]
[null,1111183798,"62812*****","Іграшка Trixie для гризунів для ласощів інтерактивна 20см Арт62812","Більше 10","Іграшки для гризунів",260.16000000000003,338,{"$f":"Trixie!I$538","v":0},{"$f":"Trixie!J$538","v":0}]
[null,1111119900,6186,"Іграшка Trixie для гризунів Канат з блоками дерево 20см","Більше 10","Іграшки для гризунів",78.36,102,{"$f":"Trixie!I$539","v":0},{"$f":"Trixie!J$539","v":0}]
[null,1111185465,"61813*****","Іграшка Trixie для гризунів Кокосовий м_яч діаметр 6 см арт61813","Більше 10","Іграшки для гризунів",103.5,135,{"$f":"Trixie!I$540","v":0},{"$f":"Trixie!J$540","v":0}]
[null,1111120636,"6185*****","Іграшка Trixie для гризунів куля дерев_яна для ласощів 8 см Арт6185","Менше 10","Іграшки для гризунів",176.28,229,{"$f":"Trixie!I$541","v":0},{"$f":"Trixie!J$541","v":0}]
[null,1111119534,"6275*****","Іграшка Trixie для гризунів Куля для ласощів пластик 7 см Арт6275","Більше 10","Іграшки для гризунів",128.69999999999999,167,{"$f":"Trixie!I$542","v":0},{"$f":"Trixie!J$542","v":0}]
[null,1111140047,"61825*****","Іграшка Trixie для гризунів Куля з дзвіночком з трави 10см","Менше 10","Іграшки для гризунів",95.16,124,{"$f":"Trixie!I$543","v":0},{"$f":"Trixie!J$543","v":0}]
[null,1111117668,6187,"Іграшка Trixie для гризунів м_яч з брязкальцем дерев_яна 6см","Більше 10","Іграшки для гризунів",128.69999999999999,167,{"$f":"Trixie!I$544","v":0},{"$f":"Trixie!J$544","v":0}]
[null,1111161175,61943,"Іграшка Trixie для гризунів М_яч плетений натуральний 13см","Більше 10","Іграшки для гризунів",120.3,156,{"$f":"Trixie!I$545","v":0},{"$f":"Trixie!J$545","v":0}]
[null,1111118893,6189,"Іграшка Trixie для гризунів Морква сизаль 18см","Більше 10","Іграшки для гризунів",110.52,144,{"$f":"Trixie!I$546","v":0},{"$f":"Trixie!J$546","v":0}]
[null,1111185469,"61916*****","Іграшка Trixie для гризунів Набір гантелей з кори 2 шт 9х2см арт61916","Менше 10","Іграшки для гризунів",89.52,116,{"$f":"Trixie!I$547","v":0},{"$f":"Trixie!J$547","v":0}]
[null,1111183705,"6195*****","Іграшка Trixie для гризунів набір дерев_ян гантель 4,5х9см 2шт Арт6195","Менше 10","Іграшки для гризунів",72.78,95,{"$f":"Trixie!I$548","v":0},{"$f":"Trixie!J$548","v":0}]
[null,1111183794,61942,"Іграшка Trixie для гризунів Плетена куля 10 см Арт61942","Більше 10","Іграшки для гризунів",89.52,116,{"$f":"Trixie!I$549","v":0},{"$f":"Trixie!J$549","v":0}]
[null,1111183793,"61941*****","Іграшка Trixie для гризунів Плетена куля 6 см Арт61941","Більше 10","Іграшки для гризунів",61.56,80,{"$f":"Trixie!I$550","v":0},{"$f":"Trixie!J$550","v":0}]
[null,1111185468,"61915*****","Іграшка Trixie для гризунів Пучок трави з джутом 3,5 16см арт61915","Менше 10","Іграшки для гризунів",72.78,95,{"$f":"Trixie!I$551","v":0},{"$f":"Trixie!J$551","v":0}]
[null,1111134784,6193,"Іграшка Trixie для гризунів Редиска натур/матеріали 8см набір 2шт","Більше 10","Іграшки для гризунів",78.36,102,{"$f":"Trixie!I$552","v":0},{"$f":"Trixie!J$552","v":0}]
[null,1111121546,6188,"Іграшка Trixie для гризунів цукерка з паперової пряжі 18см Арт6188","Менше 10","Іграшки для гризунів",95.16,124,{"$f":"Trixie!I$553","v":0},{"$f":"Trixie!J$553","v":0}]
[null,1111185455,45681,"Іграшка Trixie для кот Білка плюш з пір_ям і кот м_ятою 24см арт45681","Більше 10","Іграшки для котів",176.28,229,{"$f":"Trixie!I$554","v":0},{"$f":"Trixie!J$554","v":0}]
[null,1111185452,45664,"Іграшка Trixie для кот Ведмідь плюш з кот м_ятою 8см блакит арт45664","Більше 10","Іграшки для котів",89.52,116,{"$f":"Trixie!I$555","v":0},{"$f":"Trixie!J$555","v":0}]
[null,1111185453,45665,"Іграшка Trixie для кот Ведмідь тканина з кот м_ятою 12см арт45665","Більше 10","Іграшки для котів",120.3,156,{"$f":"Trixie!I$556","v":0},{"$f":"Trixie!J$556","v":0}]
[null,1111185457,45683,"Іграшка Trixie для кот Восьминіг плюш з котячою м_ятою 10см арт45683","Менше 10","Іграшки для котів",103.5,135,{"$f":"Trixie!I$557","v":0},{"$f":"Trixie!J$557","v":0}]
[null,1111185456,45682,"Іграшка Trixie для кот Єнот XXL плюш і пір_я з кот м_ят 30см арт45682","Немає в наявності","Іграшки для котів",260.16000000000003,338,{"$f":"Trixie!I$558","v":0},{"$f":"Trixie!J$558","v":0}]
[null,1111185449,"45554*****","Іграшка Trixie для кот Звірі плюш з котячою м_ятою 11 см арт45554","Менше 10","Іграшки для котів",89.52,116,{"$f":"Trixie!I$559","v":0},{"$f":"Trixie!J$559","v":0}]
[null,1111185446,45551,"Іграшка Trixie для кот Звірята зі звуком плюш діаметр 6 см арт45551","Менше 10","Іграшки для котів",120.3,156,{"$f":"Trixie!I$560","v":0},{"$f":"Trixie!J$560","v":0}]
[null,1111185447,45552,"Іграшка Trixie для кот Морозиво і тістечко з кот м_ятою 7см арт45552","Більше 10","Іграшки для котів",72.78,95,{"$f":"Trixie!I$561","v":0},{"$f":"Trixie!J$561","v":0}]
[null,1111185448,45553,"Іграшка Trixie для кот Морські звірі плюш з кот м_ятою 5–8см арт45553","Більше 10","Іграшки для котів",72.78,95,{"$f":"Trixie!I$562","v":0},{"$f":"Trixie!J$562","v":0}]
[null,1111145206,45763,"Іграшка Trixie для кот Паличка з 2 іграшк телескопічн 40-98см Арт45763","Менше 10","Іграшки для котів",292.32,380,{"$f":"Trixie!I$563","v":0},{"$f":"Trixie!J$563","v":0}]
[null,1111185450,45617,"Іграшка Trixie для кот Паличка з плюш зіркою і кот м_ят 46см арт45617","Більше 10","Іграшки для котів",144.06,187,{"$f":"Trixie!I$564","v":0},{"$f":"Trixie!J$564","v":0}]
[null,1111185451,45619,"Іграшка Trixie для кот Паличка з плюшевою рибою 46 см арт45619","Більше 10","Іграшки для котів",128.69999999999999,167,{"$f":"Trixie!I$565","v":0},{"$f":"Trixie!J$565","v":0}]
[null,1111185454,45667,"Іграшка Trixie для кот Пташка тканинна 13 см арт45667","Більше 10","Іграшки для котів",120.3,156,{"$f":"Trixie!I$566","v":0},{"$f":"Trixie!J$566","v":0}]
[null,1111183779,45824,"Іграшка Trixie для кот Риба що рухається з кот м_ятою 26см Арт45824","Менше 10","Іграшки для котів",373.44,485,{"$f":"Trixie!I$567","v":0},{"$f":"Trixie!J$567","v":0}]
[null,1111134787,45768,"Іграшка Trixie для котів Білка плюшева 9см","Більше 10","Іграшки для котів",128.69999999999999,167,{"$f":"Trixie!I$568","v":0},{"$f":"Trixie!J$568","v":0}]
[null,1111134786,45767,"Іграшка Trixie для котів Вівця з котячою м_ятою плюш 10см","Більше 10","Іграшки для котів",95.16,124,{"$f":"Trixie!I$569","v":0},{"$f":"Trixie!J$569","v":0}]
[null,1111141811,45746,"Іграшка Trixie для котів Вудочка двостороння з мишкою і стрічками 40см","Більше 10","Іграшки для котів",151.08000000000001,196,{"$f":"Trixie!I$570","v":0},{"$f":"Trixie!J$570","v":0}]
[null,1111139788,45289,"Іграшка Trixie для котів Вудочка з пташкою та пір_ями плюш 50см","Менше 10","Іграшки для котів",260.16000000000003,338,{"$f":"Trixie!I$571","v":0},{"$f":"Trixie!J$571","v":0}]
[null,1111141839,45742,"Іграшка Trixie для котів Вудочка з рибкою котяча м_ята плюш 42см","Більше 100","Іграшки для котів",120.3,156,{"$f":"Trixie!I$572","v":0},{"$f":"Trixie!J$572","v":0}]
[null,1111141838,45739,"Іграшка Trixie для котів Вудочка з трьома м_ячиками з брязкальцем 35см","Більше 100","Іграшки для котів",103.5,135,{"$f":"Trixie!I$573","v":0},{"$f":"Trixie!J$573","v":0}]
[null,1111134509,45797,"Іграшка Trixie для котів Вудочка зі смайликом/пір_ям плюш/пластик 50см","Більше 10","Іграшки для котів",89.52,116,{"$f":"Trixie!I$574","v":0},{"$f":"Trixie!J$574","v":0}]
[null,8463,"4125_1шт*****","Іграшка Trixie для котів Їжак морський латекс 3см","Більше 100","Іграшки для котів",16.8,22,{"$f":"Trixie!I$575","v":0},{"$f":"Trixie!J$575","v":0}]
[null,1111134791,45782,"Іграшка Trixie для котів Їжачок зі звуком та котячою м_ятою плюш 8см","Більше 10","Іграшки для котів",151.08000000000001,196,{"$f":"Trixie!I$576","v":0},{"$f":"Trixie!J$576","v":0}]
[null,1111134790,45781,"Іграшка Trixie для котів Їжачок зі звуком та котячою м_ятою плюш 8см","Більше 10","Іграшки для котів",144.06,187,{"$f":"Trixie!I$577","v":0},{"$f":"Trixie!J$577","v":0}]
[null,1111185484,"45661*****","Іграшка Trixie для котів Конус картонний 13 см арт45661","Менше 10","Іграшки для котів",65.86,86,{"$f":"Trixie!I$578","v":0},{"$f":"Trixie!J$578","v":0}]
[null,1111183764,41362,"Іграшка Trixie для котів Куля для ласощів 6 см Арт41362","Більше 10","Іграшки для котів",160.86000000000001,209,{"$f":"Trixie!I$579","v":0},{"$f":"Trixie!J$579","v":0}]
[null,1111183776,45567,"Іграшка Trixie для котів Куля з котячої м_яти 4 см Арт45567","Більше 10","Іграшки для котів",78.36,102,{"$f":"Trixie!I$580","v":0},{"$f":"Trixie!J$580","v":0}]
[null,1111165692,42432,"Іграшка Trixie для котів Куля з мататабі 4 см Арт42432","Більше 100","Іграшки для котів",78.36,102,{"$f":"Trixie!I$581","v":0},{"$f":"Trixie!J$581","v":0}]
[null,1111183770,42441,"Іграшка Trixie для котів Льодяник з мататабі і сердечком 23см Арт42441","Більше 10","Іграшки для котів",144.06,187,{"$f":"Trixie!I$582","v":0},{"$f":"Trixie!J$582","v":0}]
[null,1111119468,4165,"Іграшка Trixie для котів М_яч брязкальце/хвіст пластик 4см набір 2шт","Більше 100","Іграшки для котів",72.78,95,{"$f":"Trixie!I$583","v":0},{"$f":"Trixie!J$583","v":0}]
[null,1111113723,4137,"Іграшка Trixie для котів М_яч для ласощів пластик 7см","Більше 10","Іграшки для котів",128.69999999999999,167,{"$f":"Trixie!I$584","v":0},{"$f":"Trixie!J$584","v":0}]
[null,1111119258,4166,"Іграшка Trixie для котів М_яч з брязкальцем пластик 4,5см набір 4шт","Більше 100","Іграшки для котів",71.34,93,{"$f":"Trixie!I$585","v":0},{"$f":"Trixie!J$585","v":0}]
[null,1111115580,4075,"Іграшка Trixie для котів М_яч з брязкальцем сизаль 6см","Більше 100","Іграшки для котів",89.52,116,{"$f":"Trixie!I$586","v":0},{"$f":"Trixie!J$586","v":0}]
[null,9603,"4123_1шт*****","Іграшка Trixie для котів М_ячик з брязкальцем та котячою м_ятою 3см","Більше 100","Іграшки для котів",21,27,{"$f":"Trixie!I$587","v":0},{"$f":"Trixie!J$587","v":0}]
[null,1111145332,"41101_1шт","Іграшка Trixie для котів М_ячик м_який поролоновий 4см","Більше 100","Іграшки для котів",44.76,58,{"$f":"Trixie!I$588","v":0},{"$f":"Trixie!J$588","v":0}]
[null,1111130855,"45805_1шт","Іграшка Trixie для котів М_ячик смугастий пластик/основа бавовна 4,5см","Більше 100","Іграшки для котів",40.56,53,{"$f":"Trixie!I$589","v":0},{"$f":"Trixie!J$589","v":0}]
[null,1111123315,"4570_1шт","Іграшка Trixie для котів М_ячик спіральний із брязкальцем нейлон 4см","Більше 100","Іграшки для котів",48.96,64,{"$f":"Trixie!I$590","v":0},{"$f":"Trixie!J$590","v":0}]
[null,1111120633,"4126_1шт","Іграшка Trixie для котів М_ячик шнур/брязкальце/котяча м_ята плюш 4см","Більше 10","Іграшки для котів",26.58,35,{"$f":"Trixie!I$591","v":0},{"$f":"Trixie!J$591","v":0}]
[null,1111124961,4097,"Іграшка Trixie для котів М_ячики веселкові спінена гума 4см 4шт","Більше 10","Іграшки для котів",110.52,144,{"$f":"Trixie!I$592","v":0},{"$f":"Trixie!J$592","v":0}]
[null,1111115360,4077,"Іграшка Trixie для котів М_ячі з брязкальцем на мотузці сизаль 4,5см","Більше 10","Іграшки для котів",72.78,95,{"$f":"Trixie!I$593","v":0},{"$f":"Trixie!J$593","v":0}]
[null,1111120282,4501,"Іграшка Trixie для котів М_ячі на мотузці пір_я/котяча м_ята 4,5см 2шт","Більше 100","Іграшки для котів",72.78,95,{"$f":"Trixie!I$594","v":0},{"$f":"Trixie!J$594","v":0}]
[null,1111119262,4133,"Іграшка Trixie для котів М_ячі/дзвіночки/пір_я на гумці гума 3,5х80см","Більше 100","Іграшки для котів",75.540000000000006,98,{"$f":"Trixie!I$595","v":0},{"$f":"Trixie!J$595","v":0}]
[null,3376,4092,"Іграшка Trixie для котів Миша заводна 7см","Більше 100","Іграшки для котів",95.16,124,{"$f":"Trixie!I$596","v":0},{"$f":"Trixie!J$596","v":0}]
[null,1111119993,4065,"Іграшка Trixie для котів Миша на вудочці 8см/190см","Більше 100","Іграшки для котів",75.540000000000006,98,{"$f":"Trixie!I$597","v":0},{"$f":"Trixie!J$597","v":0}]
[null,1111114596,4105,"Іграшка Trixie для котів Миша на вудочці з котячою мятою 50см","Більше 100","Іграшки для котів",89.52,116,{"$f":"Trixie!I$598","v":0},{"$f":"Trixie!J$598","v":0}]
[null,1111183760,41112,"Іграшка Trixie для котів Миша плюшева з котячою м_ятою 7 см в дисплеї","Більше 100","Іграшки для котів",72.78,95,{"$f":"Trixie!I$599","v":0},{"$f":"Trixie!J$599","v":0}]
[null,1111125296,45735,"Іграшка Trixie для котів Миша плюшева з котячою м_ятою 7см","Більше 100","Іграшки для котів",65.760000000000005,85,{"$f":"Trixie!I$600","v":0},{"$f":"Trixie!J$600","v":0}]
[null,1111183761,41115,"Іграшка Trixie для котів Миша плюшева з котячою м_ятою 9 см Арт41115","Більше 10","Іграшки для котів",110.52,144,{"$f":"Trixie!I$601","v":0},{"$f":"Trixie!J$601","v":0}]
[null,12249,4052,"Іграшка Trixie для котів Миша хутряна з котячою м_ятою 5см","Більше 100","Іграшки для котів",32.22,42,{"$f":"Trixie!I$602","v":0},{"$f":"Trixie!J$602","v":0}]
[null,9742,4074,"Іграшка Trixie для котів Мишка XXL з брязкальцем сизаль 10см","Більше 100","Іграшки для котів",89.52,116,{"$f":"Trixie!I$603","v":0},{"$f":"Trixie!J$603","v":0}]
[null,769,"4115_1шт","Іграшка Trixie для котів Мишка в дротяній кулі з дзвіночком плюш 6см","Більше 100","Іграшки для котів",65.760000000000005,85,{"$f":"Trixie!I$604","v":0},{"$f":"Trixie!J$604","v":0}]
[null,1111131806,"45808_1шт","Іграшка Trixie для котів Мишка з брязкальцем сизаль 5см","Більше 100","Іграшки для котів",28.02,36,{"$f":"Trixie!I$605","v":0},{"$f":"Trixie!J$605","v":0}]
[null,8089,"4085_1шт","Іграшка Trixie для котів Мишка з котячою м_ятою плюш 5см","Більше 100","Іграшки для котів",36.36,47,{"$f":"Trixie!I$606","v":0},{"$f":"Trixie!J$606","v":0}]
[null,1111126987,36030,"Іграшка Trixie для котів Мишка з латками та пискавкою плюш 19см","Більше 10","Іграшки для собак",226.62,295,{"$f":"Trixie!I$607","v":0},{"$f":"Trixie!J$607","v":0}]
[null,1111134792,45785,"Іграшка Trixie для котів Мишка з пискавкою та котячою м_ятою плюш 8см","Більше 10","Іграшки для котів",151.08000000000001,196,{"$f":"Trixie!I$608","v":0},{"$f":"Trixie!J$608","v":0}]
[null,1111113519,"4116_1шт","Іграшка Trixie для котів Мишка з пискавкою та котячою м_ятою плюш 9см","Більше 100","Іграшки для котів",51.78,67,{"$f":"Trixie!I$609","v":0},{"$f":"Trixie!J$609","v":0}]
[null,1111143746,45758,"Іграшка Trixie для котів Мишка з пряжі та брязкальцем 5см","Більше 10","Іграшки для котів",110.52,144,{"$f":"Trixie!I$610","v":0},{"$f":"Trixie!J$610","v":0}]
[null,1111141783,45579,"Іграшка Trixie для котів Мишка з серцем та котячою м_ятою плюш 11см","Більше 10","Іграшки для котів",128.69999999999999,167,{"$f":"Trixie!I$611","v":0},{"$f":"Trixie!J$611","v":0}]
[null,1111143638,45749,"Іграшка Trixie для котів Мишка з шкіри та котячої м_яти 5см 2шт","Більше 10","Іграшки для котів",89.52,116,{"$f":"Trixie!I$612","v":0},{"$f":"Trixie!J$612","v":0}]
[null,12266,4083,"Іграшка Trixie для котів Мишка заводна вібруюча котяча м_ята 8,5см","Більше 100","Іграшки для котів",120.3,156,{"$f":"Trixie!I$613","v":0},{"$f":"Trixie!J$613","v":0}]
[null,1111134797,45798,"Іграшка Trixie для котів Мишка заводна рухається плюш 5,5см","Менше 10","Іграшки для котів",226.62,295,{"$f":"Trixie!I$614","v":0},{"$f":"Trixie!J$614","v":0}]
[null,1111114595,4103,"Іграшка Trixie для котів Мишка на вудочці з котячою м_ятою 100см","Більше 100","Іграшки для котів",110.52,144,{"$f":"Trixie!I$615","v":0},{"$f":"Trixie!J$615","v":0}]
[null,1111117855,"4516_1шт","Іграшка Trixie для котів Мишка на вудочці з пір_ям/котячою м_ятою 50см","Більше 100","Іграшки для котів",61.56,80,{"$f":"Trixie!I$616","v":0},{"$f":"Trixie!J$616","v":0}]
[null,1111135277,"4139_1шт","Іграшка Trixie для котів Мишка хутряна дзвіночок та котяча м_ята 4см","Більше 100","Іграшки для котів",34.979999999999997,45,{"$f":"Trixie!I$617","v":0},{"$f":"Trixie!J$617","v":0}]
[null,1111150539,"40763_1шт","Іграшка Trixie для котів Мишка/Рибка з котячою м_ятою 9-12см","Менше 10","Іграшки для котів",61.56,80,{"$f":"Trixie!I$618","v":0},{"$f":"Trixie!J$618","v":0}]
[null,1111122323,"4554_1шт","Іграшка Trixie для котів Мишка-м_ячик з котячою м_ятою плюш 4,5см","Більше 10","Іграшки для котів",72.78,95,{"$f":"Trixie!I$619","v":0},{"$f":"Trixie!J$619","v":0}]
[null,1111183769,42435,"Іграшка Trixie для котів Палиця з мататабі з китицями 24 см Арт42435","Більше 100","Іграшки для котів",78.36,102,{"$f":"Trixie!I$620","v":0},{"$f":"Trixie!J$620","v":0}]
[null,1111126443,45733,"Іграшка Trixie для котів Паличка з метелик та пір_ям котяча м_ята 45см","Більше 100","Іграшки для котів",103.5,135,{"$f":"Trixie!I$621","v":0},{"$f":"Trixie!J$621","v":0}]
[null,1111129736,45804,"Іграшка Trixie для котів Паличка з мишкою та пір_ям котяча м_ята 50см","Більше 100","Іграшки для котів",120.3,156,{"$f":"Trixie!I$622","v":0},{"$f":"Trixie!J$622","v":0}]
[null,1111133628,45801,"Іграшка Trixie для котів Паличка з мишкою та пір_ям котяча м_ята 50см","Більше 100","Іграшки для котів",120.3,156,{"$f":"Trixie!I$623","v":0},{"$f":"Trixie!J$623","v":0}]
[null,1111185483,41195,"Іграшка Trixie для котів Паличка з плюшевою стрічкою 38 см арт41195","Більше 10","Іграшки для котів",85.32,111,{"$f":"Trixie!I$624","v":0},{"$f":"Trixie!J$624","v":0}]
[null,1111183777,45698,"Іграшка Trixie для котів Паличка з помпонами дерево плюш 40см Арт45698","Більше 10","Іграшки для котів",120.3,156,{"$f":"Trixie!I$625","v":0},{"$f":"Trixie!J$625","v":0}]
[null,1111122660,45724,"Іграшка Trixie для котів Паличка з стрічкою та пір_ями 48см","Більше 10","Іграшки для котів",61.56,80,{"$f":"Trixie!I$626","v":0},{"$f":"Trixie!J$626","v":0}]
[null,1111121053,"4509  пошт.*****","Іграшка Trixie для котів Паличка зі штучним пером павліна 47см","Менше 10","Іграшки для котів",120.3,156,{"$f":"Trixie!I$627","v":0},{"$f":"Trixie!J$627","v":0}]
[null,8038,4106,"Іграшка Trixie для котів Паличка-дражнилка з пір_ям 50см","Більше 100","Іграшки для котів",51.78,67,{"$f":"Trixie!I$628","v":0},{"$f":"Trixie!J$628","v":0}]
[null,1111119737,4091,"Іграшка Trixie для котів Паличка-дражнилка зі стрічками 65см","Більше 100","Іграшки для котів",48.96,64,{"$f":"Trixie!I$629","v":0},{"$f":"Trixie!J$629","v":0}]
[null,1111116627,4550,"Іграшка Trixie для котів Паличка-дражнилка пір_я/шкіряні смужки 50см","Більше 100","Іграшки для котів",72.78,95,{"$f":"Trixie!I$630","v":0},{"$f":"Trixie!J$630","v":0}]
[null,1111183768,42433,"Іграшка Trixie для котів Рол з мататабі 4 х 5 см Арт42433","Більше 10","Іграшки для котів",95.16,124,{"$f":"Trixie!I$631","v":0},{"$f":"Trixie!J$631","v":0}]
[null,1111180625,"9935262*****","Іграшка Trixie для котів Серце з пір_ям плюш 7см х 25см","Більше 10","Іграшки для котів",108.61,141,{"$f":"Trixie!I$632","v":0},{"$f":"Trixie!J$632","v":0}]
[null,1111115170,4505,"Іграшка Trixie для котів Сир з мишкою і трьома м_ячами плюш 36х8х26см","Менше 10","Іграшки для котів",373.44,485,{"$f":"Trixie!I$633","v":0},{"$f":"Trixie!J$633","v":0}]
[null,1111185485,45596,"Іграшка Trixie для котів Сороконіжка плюш і рафія 33 см арт45596","Менше 10","Іграшки для котів",194.46,253,{"$f":"Trixie!I$634","v":0},{"$f":"Trixie!J$634","v":0}]
[null,1111183763,41340,"Іграшка Trixie для кошенят Коло з кулями 24 см Арт41340","Більше 10","Іграшки для котів",194.46,253,{"$f":"Trixie!I$635","v":0},{"$f":"Trixie!J$635","v":0}]
[null,1111140970,58986,"Іграшка Trixie для папуг підвісна з пробкою і мотузкою дерево 35см","Менше 10","Іграшки для птахів",588.84,765,{"$f":"Trixie!I$636","v":0},{"$f":"Trixie!J$636","v":0}]
[null,1111114722,5195,"Іграшка Trixie для папуг підвісна на ланцюжку з мотузкою дерево 30см","Більше 10","Іграшки для птахів",120.3,156,{"$f":"Trixie!I$637","v":0},{"$f":"Trixie!J$637","v":0}]
[null,1111183784,58961,"Іграшка Trixie для птах з дерев_яними намистин і корою 20 см Арт58961","Менше 10","Іграшки для птахів",103.5,135,{"$f":"Trixie!I$638","v":0},{"$f":"Trixie!J$638","v":0}]
[null,1111113787,5159,"Іграшка Trixie для птах Кільце-канат з дерев_яним блоком 24см Арт5159","Менше 10","Обладнання для птахів",304.92,396,{"$f":"Trixie!I$639","v":0},{"$f":"Trixie!J$639","v":0}]
[null,1111113746,5830,"Іграшка Trixie для птахів Гойдалка з дзвіночком дерево 12х13см","Більше 10","Обладнання для птахів",61.56,80,{"$f":"Trixie!I$640","v":0},{"$f":"Trixie!J$640","v":0}]
[null,1111113745,5822,"Іграшка Trixie для птахів Гойдалка подвійна дзвіночок дерево 12х20см","Більше 10","Обладнання для птахів",89.52,116,{"$f":"Trixie!I$641","v":0},{"$f":"Trixie!J$641","v":0}]
[null,7841,5826,"Іграшка Trixie для птахів Гойдалка-арка дерево 10х22см","Більше 10","Обладнання для птахів",89.52,116,{"$f":"Trixie!I$642","v":0},{"$f":"Trixie!J$642","v":0}]
[null,8092,5827,"Іграшка Trixie для птахів Гойдалка-арка дерево 15х27см","Менше 10","Обладнання для птахів",103.5,135,{"$f":"Trixie!I$643","v":0},{"$f":"Trixie!J$643","v":0}]
[null,7842,5825,"Іграшка Trixie для птахів Гойдалка-арка дерево 8х15см","Більше 10","Обладнання для птахів",72.78,95,{"$f":"Trixie!I$644","v":0},{"$f":"Trixie!J$644","v":0}]
[null,1111115579,5828,"Іграшка Trixie для птахів Гойдалка-арка кольорова дерево 13х19см","Більше 10","Обладнання для птахів",226.62,295,{"$f":"Trixie!I$645","v":0},{"$f":"Trixie!J$645","v":0}]
[null,1111116041,5829,"Іграшка Trixie для птахів Гойдалка-арка кольорова дерево 20х29см","Менше 10","Обладнання для птахів",325.92,424,{"$f":"Trixie!I$646","v":0},{"$f":"Trixie!J$646","v":0}]
[null,1111120889,5160,"Іграшка Trixie для птахів Гойдалка-канат текстиль 37см/16мм","Більше 10","Обладнання для птахів",176.28,229,{"$f":"Trixie!I$647","v":0},{"$f":"Trixie!J$647","v":0}]
[null,1111119528,5161,"Іграшка Trixie для птахів Гойдалка-канат текстиль 66см/18мм","Більше 10","Обладнання для птахів",194.46,253,{"$f":"Trixie!I$648","v":0},{"$f":"Trixie!J$648","v":0}]
[null,1111118523,5162,"Іграшка Trixie для птахів Гойдалка-канат текстиль 75см/30мм","Менше 10","Обладнання для птахів",292.32,380,{"$f":"Trixie!I$649","v":0},{"$f":"Trixie!J$649","v":0}]
[null,1111113749,5813,"Іграшка Trixie для птахів Драбинка на 6 сходинок дерево 28см","Більше 10","Обладнання для птахів",72.78,95,{"$f":"Trixie!I$650","v":0},{"$f":"Trixie!J$650","v":0}]
[null,1111113748,5815,"Іграшка Trixie для птахів Драбинка на 8 сходинок дерево 36см","Більше 10","Обладнання для птахів",89.52,116,{"$f":"Trixie!I$651","v":0},{"$f":"Trixie!J$651","v":0}]
[null,1111119907,5164,"Іграшка Trixie для птахів Канат плетений з кільцями текстиль 50см/21мм","Менше 10","Іграшки для птахів",391.62,509,{"$f":"Trixie!I$652","v":0},{"$f":"Trixie!J$652","v":0}]
[null,1111113754,5158,"Іграшка Trixie для птахів Кільце з канату плетене текстиль 19см","Більше 10","Обладнання для птахів",274.14,356,{"$f":"Trixie!I$653","v":0},{"$f":"Trixie!J$653","v":0}]
[null,1111114740,5166,"Іграшка Trixie для птахів Кільце з канату плетене текстиль 25см","Більше 10","Обладнання для птахів",325.92,424,{"$f":"Trixie!I$654","v":0},{"$f":"Trixie!J$654","v":0}]
[null,1111185438,36099,"Іграшка Trixie для соб Віслюк плюш з перероб матеріалів 66см арт36099","Менше 10","Іграшки для собак",524.52,682,{"$f":"Trixie!I$655","v":0},{"$f":"Trixie!J$655","v":0}]
[null,1111185434,36088,"Іграшка Trixie для соб Зайчик з тканини 39 см арт36088","Менше 10","Іграшки для собак",373.44,485,{"$f":"Trixie!I$656","v":0},{"$f":"Trixie!J$656","v":0}]
[null,1111185439,36154,"Іграшка Trixie для соб Заяєць тканина і плюш 24 см арт36154","Більше 10","Іграшки для собак",260.16000000000003,338,{"$f":"Trixie!I$657","v":0},{"$f":"Trixie!J$657","v":0}]
[null,1111185432,35522,"Іграшка Trixie для соб Капустяна свинка 23см світло-зелена арт35522","Більше 10","Іграшки для собак",373.44,485,{"$f":"Trixie!I$658","v":0},{"$f":"Trixie!J$658","v":0}]
[null,1111183702,3246,"Іграшка Trixie для соб Катапульта 5,5см і 50см блак-оранж Арт3246","Менше 10","Іграшки для собак",160.86000000000001,209,{"$f":"Trixie!I$659","v":0},{"$f":"Trixie!J$659","v":0}]
[null,1111183746,33443,"Іграшка Trixie для соб Кільце плавуче для водних розваг 17см Арт33443","Менше 10","Іграшки для собак",226.62,295,{"$f":"Trixie!I$660","v":0},{"$f":"Trixie!J$660","v":0}]
[null,1111126572,34940,"Іграшка Trixie для соб М_яч для ласощів натур гума 6см зелен Арт34940","Менше 10","Іграшки для собак",222.42,289,{"$f":"Trixie!I$661","v":0},{"$f":"Trixie!J$661","v":0}]
[null,1111120304,34942,"Іграшка Trixie для соб М_яч для ласощів натур гума 9см лайм Арт34942","Менше 10","Іграшки для собак",411.24,535,{"$f":"Trixie!I$662","v":0},{"$f":"Trixie!J$662","v":0}]
[null,1111163121,32866,"Іграшка Trixie для собак Bungee Dummy для тренування поліестер 20х47см","Менше 10","Іграшки для собак",260.16000000000003,338,{"$f":"Trixie!I$663","v":0},{"$f":"Trixie!J$663","v":0}]
[null,1111118321,"3327*****","Іграшка Trixie для собак Jumper натуральна гума 10см блакитний Арт3327","Більше 10","Іграшки для собак",194.46,253,{"$f":"Trixie!I$664","v":0},{"$f":"Trixie!J$664","v":0}]
[null,1111118320,"3326*****","Іграшка Trixie для собак Jumper натуральна гума 8 см лайм Арт3326","Більше 10","Іграшки для собак",128.69999999999999,167,{"$f":"Trixie!I$665","v":0},{"$f":"Trixie!J$665","v":0}]
[null,1111162628,35899,"Іграшка Trixie для собак Альпака зі звуком плюш 31см","Менше 10","Іграшки для собак",292.32,380,{"$f":"Trixie!I$666","v":0},{"$f":"Trixie!J$666","v":0}]
[null,1111134859,35910,"Іграшка Trixie для собак Бобер плюшевий з пискавкою 27см","Немає в наявності","Іграшки для собак",373.44,485,{"$f":"Trixie!I$667","v":0},{"$f":"Trixie!J$667","v":0}]
[null,1111134860,35988,"Іграшка Trixie для собак Бурундук з пискавкою плюш 24см","Більше 10","Іграшки для собак",260.16000000000003,338,{"$f":"Trixie!I$668","v":0},{"$f":"Trixie!J$668","v":0}]
[null,1111122212,35763,"Іграшка Trixie для собак Вівця довгонога зі звуком плюш 30см","Більше 10","Іграшки для собак",325.92,424,{"$f":"Trixie!I$669","v":0},{"$f":"Trixie!J$669","v":0}]
[null,1111163136,35796,"Іграшка Trixie для собак Вівця зі звуком плюш 14см","Більше 10","Іграшки для собак",226.62,295,{"$f":"Trixie!I$670","v":0},{"$f":"Trixie!J$670","v":0}]
[null,1111126407,35933,"Іграшка Trixie для собак Вівця кошлата зі звуком плюш 21см","Більше 10","Іграшки для собак",292.32,380,{"$f":"Trixie!I$671","v":0},{"$f":"Trixie!J$671","v":0}]
[null,1111114479,"3224*****","Іграшка Trixie для собак Гантель дерев_яна 25см близько 650г Арт3224","Менше 10","Іграшки для собак",600.05999999999995,780,{"$f":"Trixie!I$672","v":0},{"$f":"Trixie!J$672","v":0}]
[null,11907,3361,"Іграшка Trixie для собак Гантель з пискавкою та лапками вініл 15см","Більше 100","Іграшки для собак",78.36,102,{"$f":"Trixie!I$673","v":0},{"$f":"Trixie!J$673","v":0}]
[null,9734,3362,"Іграшка Trixie для собак Гантель з пискавкою та лапками вініл 19см","Більше 10","Іграшки для собак",128.69999999999999,167,{"$f":"Trixie!I$674","v":0},{"$f":"Trixie!J$674","v":0}]
[null,1111116014,"3221*****","Іграшка Trixie для собак Гантель закруглена дерев_яна 21см/250г","Менше 10","Іграшки для собак",260.16000000000003,338,{"$f":"Trixie!I$675","v":0},{"$f":"Trixie!J$675","v":0}]
[null,1111170321,34484,"Іграшка Trixie для собак Гантель-жаба з пискавкою латекс 18см","Більше 10","Іграшки для собак",160.86000000000001,209,{"$f":"Trixie!I$676","v":0},{"$f":"Trixie!J$676","v":0}]
[null,1111131157,35911,"Іграшка Trixie для собак Гриф Густав тканина і плюш 24 см Арт35911","Більше 10","Іграшки для собак",260.16000000000003,338,{"$f":"Trixie!I$677","v":0},{"$f":"Trixie!J$677","v":0}]
[null,1111114590,35093,"Іграшка Trixie для собак Гусак з пискавкою латекс 14см","Більше 100","Іграшки для собак",78.36,102,{"$f":"Trixie!I$678","v":0},{"$f":"Trixie!J$678","v":0}]
[null,1111122205,35497,"Іграшка Trixie для собак Дикий кабан з пискавкою латекс 18см","Більше 10","Іграшки для собак",292.32,380,{"$f":"Trixie!I$679","v":0},{"$f":"Trixie!J$679","v":0}]
[null,1111151139,"36038*****","Іграшка Trixie для собак Єдиноріг плюшевий 25 см блакитний Арт36038","Менше 10","Іграшки для собак",292.32,380,{"$f":"Trixie!I$680","v":0},{"$f":"Trixie!J$680","v":0}]
[null,1111126414,35989,"Іграшка Trixie для собак Єнот з пискавкою плюш 46см","Більше 10","Іграшки для собак",373.44,485,{"$f":"Trixie!I$681","v":0},{"$f":"Trixie!J$681","v":0}]
[null,1111150286,35886,"Іграшка Trixie для собак Зайчик з пискавкою плюшевий 38см","Більше 10","Іграшки для собак",391.62,509,{"$f":"Trixie!I$682","v":0},{"$f":"Trixie!J$682","v":0}]
[null,1111120694,"3582_1шт","Іграшка Trixie для собак Звірятка з пискавкою плюш 17см","Більше 10","Іграшки для собак",226.62,295,{"$f":"Trixie!I$683","v":0},{"$f":"Trixie!J$683","v":0}]
[null,1111114891,"3578_1шт","Іграшка Trixie для собак Зебра/Жираф тенісний м_яч/мотузка плюш 28см","Більше 10","Іграшки для собак",373.44,485,{"$f":"Trixie!I$684","v":0},{"$f":"Trixie!J$684","v":0}]
[null,1111183749,34950,"Іграшка Trixie для собак Змія для ласощів 18см зелена Арт34950","Менше 10","Іграшки для собак",260.16000000000003,338,{"$f":"Trixie!I$685","v":0},{"$f":"Trixie!J$685","v":0}]
[null,1111183748,34931,"Іграшка Trixie для собак Змія для ласощів 27см зелена Арт34931","Менше 10","Іграшки для собак",226.62,295,{"$f":"Trixie!I$686","v":0},{"$f":"Trixie!J$686","v":0}]
[null,11002,3275,"Іграшка Trixie для собак Ігровий канат з вузлами та петлею 60см 500г","Більше 100","Іграшки для собак",212.64,276,{"$f":"Trixie!I$687","v":0},{"$f":"Trixie!J$687","v":0}]
[null,1111151099,35718,"Іграшка Trixie для собак Ігровий канат з двома петлями котон 38см","Більше 10","Іграшки для собак",128.69999999999999,167,{"$f":"Trixie!I$688","v":0},{"$f":"Trixie!J$688","v":0}]
[null,11001,3274,"Іграшка Trixie для собак Ігровий канат плетений з 4 вузлами котон 54см","Більше 100","Іграшки для собак",151.08000000000001,196,{"$f":"Trixie!I$689","v":0},{"$f":"Trixie!J$689","v":0}]
[null,1111111511,3270,"Іграшка Trixie для собак Ігровий канат плетений текстиль 15см 25г","Більше 100","Іграшки для собак",29.4,38,{"$f":"Trixie!I$690","v":0},{"$f":"Trixie!J$690","v":0}]
[null,1111111512,3271,"Іграшка Trixie для собак Ігровий канат плетений текстиль 20см 50г","Більше 100","Іграшки для собак",42,55,{"$f":"Trixie!I$691","v":0},{"$f":"Trixie!J$691","v":0}]
[null,12255,3272,"Іграшка Trixie для собак Ігровий канат плетений текстиль 26см 125г","Більше 100","Іграшки для собак",61.56,80,{"$f":"Trixie!I$692","v":0},{"$f":"Trixie!J$692","v":0}]
[null,11000,3273,"Іграшка Trixie для собак Ігровий канат плетений текстиль 37см","Більше 100","Іграшки для собак",151.08000000000001,196,{"$f":"Trixie!I$693","v":0},{"$f":"Trixie!J$693","v":0}]
[null,1111115362,3276,"Іграшка Trixie для собак Ігровий канат плетений текстиль 40см","Більше 10","Іграшки для собак",194.46,253,{"$f":"Trixie!I$694","v":0},{"$f":"Trixie!J$694","v":0}]
[null,1111141019,34833,"Іграшка Trixie для собак Їжачок довгий плюш 37см","Більше 10","Іграшки для собак",292.32,380,{"$f":"Trixie!I$695","v":0},{"$f":"Trixie!J$695","v":0}]
[null,1111126408,35934,"Іграшка Trixie для собак Їжачок кошлатий з пискавкою плюш 12см","Більше 100","Іграшки для собак",160.86000000000001,209,{"$f":"Trixie!I$696","v":0},{"$f":"Trixie!J$696","v":0}]
[null,1111126409,35935,"Іграшка Trixie для собак Їжачок кошлатий з пискавкою плюш 17см","Більше 10","Іграшки для собак",194.46,253,{"$f":"Trixie!I$697","v":0},{"$f":"Trixie!J$697","v":0}]
[null,1111141016,34748,"Іграшка Trixie для собак Їжачок плюш 12см","Більше 10","Іграшки для собак",160.86000000000001,209,{"$f":"Trixie!I$698","v":0},{"$f":"Trixie!J$698","v":0}]
[null,1111183747,"34704*****","Іграшка Trixie для собак Канат банджі для перетягування 85см Арт34704","Більше 10","Іграшки для собак",373.44,485,{"$f":"Trixie!I$699","v":0},{"$f":"Trixie!J$699","v":0}]
[null,1111114699,3317,"Іграшка Trixie для собак Капкан литий гума 14см","Менше 10","Іграшки для собак",448.98,584,{"$f":"Trixie!I$700","v":0},{"$f":"Trixie!J$700","v":0}]
[null,1111170326,32441,"Іграшка Trixie для собак Катапульта з поролоновим м_ячем 4,5см/40см","Менше 10","Іграшки для собак",194.46,253,{"$f":"Trixie!I$701","v":0},{"$f":"Trixie!J$701","v":0}]
[null,1111112216,"3250*****","Іграшка Trixie для собак Катапульта з поролоновим м_ячем 6см/70см","Менше 10","Іграшки для собак",194.46,253,{"$f":"Trixie!I$702","v":0},{"$f":"Trixie!J$702","v":0}]
[null,1111139968,35176,"Іграшка Trixie для собак Каченя з пискавкою латекс 13см","Більше 100","Іграшки для собак",144.06,187,{"$f":"Trixie!I$703","v":0},{"$f":"Trixie!J$703","v":0}]
[null,1111129417,35474,"Іграшка Trixie для собак Каченя з пискавкою латекс 18см","Більше 10","Іграшки для собак",209.82,273,{"$f":"Trixie!I$704","v":0},{"$f":"Trixie!J$704","v":0}]
[null,1111116918,35492,"Іграшка Trixie для собак Качка з пискавкою латекс 30см","Більше 10","Іграшки для собак",325.92,424,{"$f":"Trixie!I$705","v":0},{"$f":"Trixie!J$705","v":0}]
[null,1111126402,35812,"Іграшка Trixie для собак Качка з пискавкою плюш 15см","Більше 10","Іграшки для собак",194.46,253,{"$f":"Trixie!I$706","v":0},{"$f":"Trixie!J$706","v":0}]
[null,1111150285,35885,"Іграшка Trixie для собак Качка плюшева 38 см Арт35885","Більше 10","Іграшки для собак",292.32,380,{"$f":"Trixie!I$707","v":0},{"$f":"Trixie!J$707","v":0}]
[null,1111114766,3321,"Іграшка Trixie для собак Кільце лите гума 15см","Більше 10","Іграшки для собак",194.46,253,{"$f":"Trixie!I$708","v":0},{"$f":"Trixie!J$708","v":0}]
[null,1111114765,3320,"Іграшка Trixie для собак Кільце лите гума 9см","Більше 100","Іграшки для собак",65.760000000000005,85,{"$f":"Trixie!I$709","v":0},{"$f":"Trixie!J$709","v":0}]
[null,1111115376,3330,"Іграшка Trixie для собак Кільце лите з виступами гума 16см","Менше 10","Іграшки для собак",260.16000000000003,338,{"$f":"Trixie!I$710","v":0},{"$f":"Trixie!J$710","v":0}]
[null,1111137989,33191,"Іграшка Trixie для собак Кільце на мотузці з ручкою гума 41см d-12см","Менше 10","Іграшки для собак",562.26,731,{"$f":"Trixie!I$711","v":0},{"$f":"Trixie!J$711","v":0}]
[null,1111114736,"3277 Trixie","Іграшка Trixie для собак Кільце плетене з пластиковою ручкою 30см","Більше 10","Іграшки для собак",181.86,236,{"$f":"Trixie!I$712","v":0},{"$f":"Trixie!J$712","v":0}]
[null,1111140903,33671,"Іграшка Trixie для собак Кістка з пискавкою термопластична гума 17см","Більше 10","Іграшки для собак",260.16000000000003,338,{"$f":"Trixie!I$713","v":0},{"$f":"Trixie!J$713","v":0}]
[null,1111140926,34849,"Іграшка Trixie для собак Кістка шурхотлива гума 18см","Більше 10","Іграшки для собак",411.24,535,{"$f":"Trixie!I$714","v":0},{"$f":"Trixie!J$714","v":0}]
[null,9737,3374,"Іграшка Trixie для собак Кісточка з пискавкою вініл 15см","Більше 10","Іграшки для собак",97.92,127,{"$f":"Trixie!I$715","v":0},{"$f":"Trixie!J$715","v":0}]
[null,1111118315,3342,"Іграшка Trixie для собак Кісточка з пискавкою хутряна 20см","Більше 10","Іграшки для собак",128.69999999999999,167,{"$f":"Trixie!I$716","v":0},{"$f":"Trixie!J$716","v":0}]
[null,1111143307,33690,"Іграшка Trixie для собак Кісточка охолоджуюча гума 11см","Більше 10","Іграшки для собак",226.62,295,{"$f":"Trixie!I$717","v":0},{"$f":"Trixie!J$717","v":0}]
[null,1111140925,34848,"Іграшка Trixie для собак Кісточка шелестка гума 11см","Більше 10","Іграшки для собак",226.62,295,{"$f":"Trixie!I$718","v":0},{"$f":"Trixie!J$718","v":0}]
[null,1111163128,35673,"Іграшка Trixie для собак Коала плюш 33см","Менше 10","Іграшки для собак",448.98,584,{"$f":"Trixie!I$719","v":0},{"$f":"Trixie!J$719","v":0}]
[null,13728,3529,"Іграшка Trixie для собак Крокодил з пискавкою латекс 33см","Більше 10","Іграшки для собак",373.44,485,{"$f":"Trixie!I$720","v":0},{"$f":"Trixie!J$720","v":0}]
[null,1111125097,"3590_1шт","Іграшка Trixie для собак Кролик з пискавкою плюшевий 15см","Більше 10","Іграшки для собак",207,269,{"$f":"Trixie!I$721","v":0},{"$f":"Trixie!J$721","v":0}]
[null,1111150283,35869,"Іграшка Trixie для собак Кролик з пискавкою текстиль 29см","Більше 10","Іграшки для собак",292.32,380,{"$f":"Trixie!I$722","v":0},{"$f":"Trixie!J$722","v":0}]
[null,1111163132,35679,"Іграшка Trixie для собак Кролик з хустинкою плюш 47см","Менше 10","Іграшки для собак",637.79999999999995,829,{"$f":"Trixie!I$723","v":0},{"$f":"Trixie!J$723","v":0}]
[null,1111170319,34955,"Іграшка Trixie для собак Куб для ласощів гума 5х5х5см","Менше 10","Іграшки для собак",198.66,258,{"$f":"Trixie!I$724","v":0},{"$f":"Trixie!J$724","v":0}]
[null,1111132133,"3454*****","Іграшка Trixie для собак Куля з мотузкою натуральна гума 30см Арт3454","Менше 10","Іграшки для собак",128.69999999999999,167,{"$f":"Trixie!I$725","v":0},{"$f":"Trixie!J$725","v":0}]
[null,1111142243,"3459_1шт","Іграшка Trixie для собак Куля з мотузкою плаваюча 30 см Арт3459","Більше 10","Іграшки для собак",89.52,116,{"$f":"Trixie!I$726","v":0},{"$f":"Trixie!J$726","v":0}]
[null,12238,3536,"Іграшка Trixie для собак Курка з пискавкою 25см","Більше 10","Іграшки для собак",128.69999999999999,167,{"$f":"Trixie!I$727","v":0},{"$f":"Trixie!J$727","v":0}]
[null,1111115537,3539,"Іграшка Trixie для собак Курка з пискавкою латекс 43см","Більше 10","Іграшки для собак",292.32,380,{"$f":"Trixie!I$728","v":0},{"$f":"Trixie!J$728","v":0}]
[null,1111119094,35495,"Іграшка Trixie для собак Курка з пискавкою латекс 48см","Більше 10","Іграшки для собак",524.52,682,{"$f":"Trixie!I$729","v":0},{"$f":"Trixie!J$729","v":0}]
[null,1111115131,35091,"Іграшка Trixie для собак Курча з пискавкою латекс 15см","Більше 100","Іграшки для собак",78.36,102,{"$f":"Trixie!I$730","v":0},{"$f":"Trixie!J$730","v":0}]
[null,1111150284,35884,"Іграшка Trixie для собак Лама з фольгою шелестка плюш 40см","Більше 10","Іграшки для собак",292.32,380,{"$f":"Trixie!I$731","v":0},{"$f":"Trixie!J$731","v":0}]
[null,1111129426,35919,"Іграшка Trixie для собак Лисиця з пискавкою та канатами плюш 34см","Більше 10","Іграшки для собак",373.44,485,{"$f":"Trixie!I$732","v":0},{"$f":"Trixie!J$732","v":0}]
[null,1111163126,35671,"Іграшка Trixie для собак Лінивець з пискавкою плюш 56см","Менше 10","Іграшки для собак",486.78,633,{"$f":"Trixie!I$733","v":0},{"$f":"Trixie!J$733","v":0}]
[null,1111116820,33501,"Іграшка Trixie для собак Літаюча тарілка апортова гума 18см","Більше 10","Іграшки для собак",194.46,253,{"$f":"Trixie!I$734","v":0},{"$f":"Trixie!J$734","v":0}]
[null,1111115379,33502,"Іграшка Trixie для собак Літаюча тарілка апортова гума 22см","Більше 10","Іграшки для собак",260.16000000000003,338,{"$f":"Trixie!I$735","v":0},{"$f":"Trixie!J$735","v":0}]
[null,1111113771,3441,"Іграшка Trixie для собак М_яч ассорті плаваючий поролон 6см","Більше 10","Іграшки для собак",61.56,80,{"$f":"Trixie!I$736","v":0},{"$f":"Trixie!J$736","v":0}]
[null,1111113769,3442,"Іграшка Trixie для собак М_яч ассорті плаваючий поролон 7см","Більше 10","Іграшки для собак",89.52,116,{"$f":"Trixie!I$737","v":0},{"$f":"Trixie!J$737","v":0}]
[null,1111113770,3444,"Іграшка Trixie для собак М_яч ассорті плаваючий поролон 9см","Більше 10","Іграшки для собак",144.06,187,{"$f":"Trixie!I$738","v":0},{"$f":"Trixie!J$738","v":0}]
[null,12237,3419,"Іграшка Trixie для собак М_яч голчастий для масажу ясен вініл 16см","Більше 10","Іграшки для собак",290.94,378,{"$f":"Trixie!I$739","v":0},{"$f":"Trixie!J$739","v":0}]
[null,1111134454,33651,"Іграшка Trixie для собак М_яч голчастий для масажу ясен гума 8см","Більше 10","Іграшки для собак",95.16,124,{"$f":"Trixie!I$740","v":0},{"$f":"Trixie!J$740","v":0}]
[null,8044,"3429 /12080","Іграшка Trixie для собак М_яч голчастий з пискавкою вініл 10см","Більше 100","Іграшки для собак",120.3,156,{"$f":"Trixie!I$741","v":0},{"$f":"Trixie!J$741","v":0}]
[null,2430,"3428 /8029-32","Іграшка Trixie для собак М_яч голчастий з пискавкою вініл 6см","Більше 100","Іграшки для собак",58.74,76,{"$f":"Trixie!I$742","v":0},{"$f":"Trixie!J$742","v":0}]
[null,10366,3414,"Іграшка Trixie для собак М_яч голчастий з пискавкою малий вініл 7см","Більше 100","Іграшки для собак",89.52,116,{"$f":"Trixie!I$743","v":0},{"$f":"Trixie!J$743","v":0}]
[null,9735,3412,"Іграшка Trixie для собак М_яч голчастий з пискавкою середн вініл 10см","Більше 10","Іграшки для собак",120.3,156,{"$f":"Trixie!I$744","v":0},{"$f":"Trixie!J$744","v":0}]
[null,1111136652,33640,"Іграшка Trixie для собак М_яч голчастий миготливий гума 5см","Більше 100","Іграшки для собак",95.16,124,{"$f":"Trixie!I$745","v":0},{"$f":"Trixie!J$745","v":0}]
[null,1111115126,3307,"Іграшка Trixie для собак М_яч для дресирування плаваючий гума 6/100см","Більше 10","Іграшки для собак",95.16,124,{"$f":"Trixie!I$746","v":0},{"$f":"Trixie!J$746","v":0}]
[null,1111116727,33482,"Іграшка Trixie для собак М_яч для дресирування плаваючий гума 7/35см","Менше 10","Іграшки для собак",194.46,253,{"$f":"Trixie!I$747","v":0},{"$f":"Trixie!J$747","v":0}]
[null,1111120303,34941,"Іграшка Trixie для собак М_яч для ласощів литий гума 7см","Менше 10","Іграшки для собак",260.16000000000003,338,{"$f":"Trixie!I$748","v":0},{"$f":"Trixie!J$748","v":0}]
[null,1111122409,34841,"Іграшка Trixie для собак М_яч з пискавкою гумовий 6см","Більше 10","Іграшки для собак",110.52,144,{"$f":"Trixie!I$749","v":0},{"$f":"Trixie!J$749","v":0}]
[null,1111120297,34861,"Іграшка Trixie для собак М_яч з пискавкою литий з лапкою гума 6см","Більше 10","Іграшки для собак",160.86000000000001,209,{"$f":"Trixie!I$750","v":0},{"$f":"Trixie!J$750","v":0}]
[null,1111120296,34862,"Іграшка Trixie для собак М_яч з пискавкою литий з лапкою гума 7см","Більше 10","Іграшки для собак",209.82,273,{"$f":"Trixie!I$751","v":0},{"$f":"Trixie!J$751","v":0}]
[null,1111120298,34863,"Іграшка Trixie для собак М_яч з пискавкою литий з лапкою гума 9см","Менше 10","Іграшки для собак",325.92,424,{"$f":"Trixie!I$752","v":0},{"$f":"Trixie!J$752","v":0}]
[null,1111134847,34845,"Іграшка Trixie для собак М_яч з пискавкою спортивний гумовий 7см","Більше 10","Іграшки для собак",128.69999999999999,167,{"$f":"Trixie!I$753","v":0},{"$f":"Trixie!J$753","v":0}]
[null,1111141791,33677,"Іграшка Trixie для собак М_яч з шипами термопластична гума 7см","Більше 100","Іграшки для собак",110.52,144,{"$f":"Trixie!I$754","v":0},{"$f":"Trixie!J$754","v":0}]
[null,1111141792,33678,"Іграшка Trixie для собак М_яч з шипами термопластична гума 8см","Більше 100","Іграшки для собак",128.69999999999999,167,{"$f":"Trixie!I$755","v":0},{"$f":"Trixie!J$755","v":0}]
[null,1111115203,3301,"Іграшка Trixie для собак М_яч литий гума 6см","Менше 10","Іграшки для собак",128.69999999999999,167,{"$f":"Trixie!I$756","v":0},{"$f":"Trixie!J$756","v":0}]
[null,1111115202,3302,"Іграшка Trixie для собак М_яч литий гума 7см","Більше 10","Іграшки для собак",194.46,253,{"$f":"Trixie!I$757","v":0},{"$f":"Trixie!J$757","v":0}]
[null,1111136653,33642,"Іграшка Trixie для собак М_яч миготливий гума 6см","Більше 10","Іграшки для собак",209.82,273,{"$f":"Trixie!I$758","v":0},{"$f":"Trixie!J$758","v":0}]
[null,1111136654,33643,"Іграшка Trixie для собак М_яч миготливий каучук 7,5см","Менше 10","Іграшки для собак",260.16000000000003,338,{"$f":"Trixie!I$759","v":0},{"$f":"Trixie!J$759","v":0}]
[null,1111114060,3308,"Іграшка Trixie для собак М_яч на мотузці з ручкою апорт гума 7см/30см","Більше 10","Іграшки для собак",144.06,187,{"$f":"Trixie!I$760","v":0},{"$f":"Trixie!J$760","v":0}]
[null,3280,"3443_1шт","Іграшка Trixie для собак М_яч Неон ассорті поролон 6см","Більше 10","Іграшки для собак",72.78,95,{"$f":"Trixie!I$761","v":0},{"$f":"Trixie!J$761","v":0}]
[null,1111129415,"3458_1шт","Іграшка Trixie для собак М_яч Неон ассорті поролон 7см","Менше 10","Іграшки для собак",120.3,156,{"$f":"Trixie!I$762","v":0},{"$f":"Trixie!J$762","v":0}]
[null,1111116686,3268,"Іграшка Trixie для собак М_яч плетений із канату з ручкою 5,5/30см","Більше 10","Іграшки для собак",72.78,95,{"$f":"Trixie!I$763","v":0},{"$f":"Trixie!J$763","v":0}]
[null,1111116687,3269,"Іграшка Trixie для собак М_яч плетений із канату з ручкою 7/50см","Більше 10","Іграшки для собак",89.52,116,{"$f":"Trixie!I$764","v":0},{"$f":"Trixie!J$764","v":0}]
[null,1111141781,34390,"Іграшка Trixie для собак М_яч спінена гума 4,5см","Більше 100","Іграшки для собак",42,55,{"$f":"Trixie!I$765","v":0},{"$f":"Trixie!J$765","v":0}]
[null,1111134846,34843,"Іграшка Trixie для собак М_яч спортивний з пискавкою гума 5,5см","Більше 100","Іграшки для собак",95.16,124,{"$f":"Trixie!I$766","v":0},{"$f":"Trixie!J$766","v":0}]
[null,12260,"3476_1шт","Іграшка Trixie для собак М_яч тенісний 10см","Більше 10","Іграшки для собак",144.06,187,{"$f":"Trixie!I$767","v":0},{"$f":"Trixie!J$767","v":0}]
[null,6486,"3475_1шт","Іграшка Trixie для собак М_яч тенісний 6см","Більше 100","Іграшки для собак",48.96,64,{"$f":"Trixie!I$768","v":0},{"$f":"Trixie!J$768","v":0}]
[null,1111115127,3479,"Іграшка Trixie для собак М_яч тенісний на мотузці з ручкою 50см d-6см","Менше 10","Іграшки для собак",110.52,144,{"$f":"Trixie!I$769","v":0},{"$f":"Trixie!J$769","v":0}]
[null,1111115370,3436,"Іграшка Trixie для собак М_яч футбольний з пискавкою вініл 10см","Більше 10","Іграшки для собак",95.16,124,{"$f":"Trixie!I$770","v":0},{"$f":"Trixie!J$770","v":0}]
[null,11912,"3471_1шт","Іграшка Trixie для собак М_яч футбольний різні кольори брезент 11см","Менше 10","Іграшки для собак",160.86000000000001,209,{"$f":"Trixie!I$771","v":0},{"$f":"Trixie!J$771","v":0}]
[null,9601,"3461_1шт","Іграшка Trixie для собак М_яч шипами неоновий гума 7см","Менше 10","Іграшки для собак",144.06,187,{"$f":"Trixie!I$772","v":0},{"$f":"Trixie!J$772","v":0}]
[null,1111170338,34812,"Іграшка Trixie для собак М_яч-годівниця для ласощів гума 9см","Менше 10","Іграшки для собак",373.44,485,{"$f":"Trixie!I$773","v":0},{"$f":"Trixie!J$773","v":0}]
[null,1111122450,35431,"Іграшка Trixie для собак М_яч-їжак з пискавкою латекс 6см","Більше 10","Іграшки для собак",89.52,116,{"$f":"Trixie!I$774","v":0},{"$f":"Trixie!J$774","v":0}]
[null,1111122449,35432,"Іграшка Trixie для собак М_яч-їжак з пискавкою латекс 7см","Більше 10","Іграшки для собак",120.3,156,{"$f":"Trixie!I$775","v":0},{"$f":"Trixie!J$775","v":0}]
[null,1111115594,34091,"Іграшка Trixie для собак М_яч-їжак з пискавкою флуоресцент вініл 10см","Більше 10","Іграшки для собак",160.86000000000001,209,{"$f":"Trixie!I$776","v":0},{"$f":"Trixie!J$776","v":0}]
[null,1111114062,32621,"Іграшка Trixie для собак М_яч-клубок гума 7см","Більше 10","Іграшки для собак",176.28,229,{"$f":"Trixie!I$777","v":0},{"$f":"Trixie!J$777","v":0}]
[null,1111122446,3527,"Іграшка Trixie для собак М_ячсмайлики з пискавкою латекс 7см","Менше 10","Іграшки для собак",160.86000000000001,209,{"$f":"Trixie!I$778","v":0},{"$f":"Trixie!J$778","v":0}]
[null,1111134658,"35283_1шт","Іграшка Trixie для собак М_яч-тваринка круглий з пискавкою латекс 6см","Більше 100","Іграшки для собак",110.52,144,{"$f":"Trixie!I$779","v":0},{"$f":"Trixie!J$779","v":0}]
[null,1111170344,35511,"Іграшка Trixie для собак Мавпа з пискавкою латекс 25см","Менше 10","Іграшки для собак",325.92,424,{"$f":"Trixie!I$780","v":0},{"$f":"Trixie!J$780","v":0}]
[null,1111178475,34821,"Іграшка Trixie для собак Мавпа зі звуком поліестер біла 40см","Більше 10","Іграшки для собак",373.44,485,{"$f":"Trixie!I$781","v":0},{"$f":"Trixie!J$781","v":0}]
[null,1111139711,35851,"Іграшка Trixie для собак Мавпочка з пискавкою плюш 24см","Більше 10","Іграшки для собак",292.32,380,{"$f":"Trixie!I$782","v":0},{"$f":"Trixie!J$782","v":0}]
[null,1111136655,35170,"Іграшка Trixie для собак Миша з пискавкою в горошок латекс 8см","Більше 10","Іграшки для собак",95.16,124,{"$f":"Trixie!I$783","v":0},{"$f":"Trixie!J$783","v":0}]
[null,1111114763,3398,"Іграшка Trixie для собак Морква з пискавкою вініл 20см","Більше 10","Іграшки для собак",144.06,187,{"$f":"Trixie!I$784","v":0},{"$f":"Trixie!J$784","v":0}]
[null,1111119095,3516,"Іграшка Trixie для собак Морська зірка з пискавкою латекс 23см","Менше 10","Іграшки для собак",260.16000000000003,338,{"$f":"Trixie!I$785","v":0},{"$f":"Trixie!J$785","v":0}]
[null,1111170335,33653,"Іграшка Trixie для собак Паличка з пискавкою гума 18см","Більше 100","Іграшки для собак",194.46,253,{"$f":"Trixie!I$786","v":0},{"$f":"Trixie!J$786","v":0}]
[null,1111170336,33654,"Іграшка Trixie для собак Паличка з пискавкою гума 28см","Більше 10","Іграшки для собак",325.92,424,{"$f":"Trixie!I$787","v":0},{"$f":"Trixie!J$787","v":0}]
[null,1111163129,35674,"Іграшка Trixie для собак Панда з пискавкою плюш 26см","Менше 10","Іграшки для собак",325.92,424,{"$f":"Trixie!I$788","v":0},{"$f":"Trixie!J$788","v":0}]
[null,1111124104,35232,"Іграшка Trixie для собак Пацюк з пискавкою латекс 22см","Більше 10","Іграшки для собак",198.66,258,{"$f":"Trixie!I$789","v":0},{"$f":"Trixie!J$789","v":0}]
[null,1111134527,35940,"Іграшка Trixie для собак Півень з пискавкою сидячий плюш 22см","Більше 10","Іграшки для собак",226.62,295,{"$f":"Trixie!I$790","v":0},{"$f":"Trixie!J$790","v":0}]
[null,1111170348,35865,"Іграшка Trixie для собак Півень з фольгою плюш 60см","Більше 10","Іграшки для собак",524.52,682,{"$f":"Trixie!I$791","v":0},{"$f":"Trixie!J$791","v":0}]
[null,1111178474,"34820*****","Іграшка Trixie для собак Пінгвін поліестер білий 24см","Менше 10","Іграшки для собак",325.92,424,{"$f":"Trixie!I$792","v":0},{"$f":"Trixie!J$792","v":0}]
[null,1111132132,"35261_1шт","Іграшка Trixie для собак Пончик-смайлик з пискавкою латекс 6см","Більше 10","Іграшки для собак",71.34,93,{"$f":"Trixie!I$793","v":0},{"$f":"Trixie!J$793","v":0}]
[null,1111114475,35092,"Іграшка Trixie для собак Порося з пискавкою латекс 13см","Більше 100","Іграшки для собак",78.36,102,{"$f":"Trixie!I$794","v":0},{"$f":"Trixie!J$794","v":0}]
[null,1111119263,35490,"Іграшка Trixie для собак Порося з пискавкою латекс 17см","Більше 10","Іграшки для собак",260.16000000000003,338,{"$f":"Trixie!I$795","v":0},{"$f":"Trixie!J$795","v":0}]
[null,1111116917,35491,"Іграшка Trixie для собак Порося з пискавкою латекс 21см","Більше 10","Іграшки для собак",260.16000000000003,338,{"$f":"Trixie!I$796","v":0},{"$f":"Trixie!J$796","v":0}]
[null,1111114474,3537,"Іграшка Trixie для собак Порося з пискавкою латекс 23см","Більше 10","Іграшки для собак",160.86000000000001,209,{"$f":"Trixie!I$797","v":0},{"$f":"Trixie!J$797","v":0}]
[null,1111132125,35190,"Іграшка Trixie для собак Порося з щетиною та пискавкою латекс 10см","Більше 10","Іграшки для собак",128.69999999999999,167,{"$f":"Trixie!I$798","v":0},{"$f":"Trixie!J$798","v":0}]
[null,1111123631,35499,"Іграшка Trixie для собак Порося з щетиною та пискавкою латекс 21см","Більше 10","Іграшки для собак",260.16000000000003,338,{"$f":"Trixie!I$799","v":0},{"$f":"Trixie!J$799","v":0}]
[null,1111133315,35182,"Іграшка Trixie для собак Пташка з пискавкою латекс 20см","Більше 10","Іграшки для собак",194.46,253,{"$f":"Trixie!I$800","v":0},{"$f":"Trixie!J$800","v":0}]
[null,1111191465,"92629_Christmas","Іграшка Trixie для собак Різдв_яна сова плюш 33 см арт 92629","Менше 10","Іграшки для собак",370.92,482,{"$f":"Trixie!I$801","v":0},{"$f":"Trixie!J$801","v":0}]
[null,1111191479,"92579_Christmas","Іграшка Trixie для собак Різдв_яний смайл зі звуком плюш 17см арт92579","Менше 10","Іграшки для собак",164.1,213,{"$f":"Trixie!I$802","v":0},{"$f":"Trixie!J$802","v":0}]
[null,1111114906,3295,"Іграшка Trixie для собак Рол джутовий для тренування 53см Арт3295","Менше 10","Іграшки для собак",226.62,295,{"$f":"Trixie!I$803","v":0},{"$f":"Trixie!J$803","v":0}]
[null,1111114745,"3298*****","Іграшка Trixie для собак Рол джутовий для тренування 88 см Арт3298","Менше 10","Іграшки для собак",523.14,680,{"$f":"Trixie!I$804","v":0},{"$f":"Trixie!J$804","v":0}]
[null,1111183744,32020,"Іграшка Trixie для собак Рол для ласощів 6 х 5 х 14 см Арт32020","Більше 10","Іграшки для собак",160.86000000000001,209,{"$f":"Trixie!I$805","v":0},{"$f":"Trixie!J$805","v":0}]
[null,1111114677,3242,"Іграшка Trixie для собак Сарделька на мотузці 11см","Більше 100","Іграшки для собак",65.760000000000005,85,{"$f":"Trixie!I$806","v":0},{"$f":"Trixie!J$806","v":0}]
[null,12132,3252,"Іграшка Trixie для собак Сардельки на мотузці вініл 75см","Більше 10","Іграшки для собак",194.46,253,{"$f":"Trixie!I$807","v":0},{"$f":"Trixie!J$807","v":0}]
[null,1111125076,35266,"Іграшка Trixie для собак Смайлики з пискавкою латекс набір 4шт 6см","Менше 10","Іграшки для собак",358.08,465,{"$f":"Trixie!I$808","v":0},{"$f":"Trixie!J$808","v":0}]
[null,1111163140,35977,"Іграшка Trixie для собак Собака в клітинку плюш/поліестер 26см","Більше 10","Іграшки для собак",194.46,253,{"$f":"Trixie!I$809","v":0},{"$f":"Trixie!J$809","v":0}]
[null,1111163137,35864,"Іграшка Trixie для собак Собака з латкою зі звуком плюш/поліестер 28см","Більше 100","Іграшки для собак",260.16000000000003,338,{"$f":"Trixie!I$810","v":0},{"$f":"Trixie!J$810","v":0}]
[null,1111124008,35930,"Іграшка Trixie для собак Собака кудлата з пискавкою плюш 30см","Більше 10","Іграшки для собак",260.16000000000003,338,{"$f":"Trixie!I$811","v":0},{"$f":"Trixie!J$811","v":0}]
[null,1111136657,35172,"Іграшка Trixie для собак Собака яскрава з пискавкою латекс 8см","Менше 10","Іграшки для собак",131.52000000000001,171,{"$f":"Trixie!I$812","v":0},{"$f":"Trixie!J$812","v":0}]
[null,1111180624,"9935260*****","Іграшка Trixie для собак Страус Св Валентин плюш 80см","Більше 10","Іграшки для собак",464.67,604,{"$f":"Trixie!I$813","v":0},{"$f":"Trixie!J$813","v":0}]
[null,1111163127,35672,"Іграшка Trixie для собак Сурикат зі звуком плюш 40см","Менше 10","Іграшки для собак",524.52,682,{"$f":"Trixie!I$814","v":0},{"$f":"Trixie!J$814","v":0}]
[null,1111116142,"3607_1шт","Іграшка Trixie для собак Тваринка міні зі звуком плюш 10-12см","Більше 10","Іграшки для собак",176.28,229,{"$f":"Trixie!I$815","v":0},{"$f":"Trixie!J$815","v":0}]
[null,1111126202,"3618_1шт","Іграшка Trixie для собак Тваринки з мотузкою та пискавкою плюш 13см","Більше 10","Іграшки для собак",226.62,295,{"$f":"Trixie!I$816","v":0},{"$f":"Trixie!J$816","v":0}]
[null,1111129727,"35894_1шт","Іграшка Trixie для собак Тваринки з мотузкою та пискавкою плюш 32см","Більше 10","Іграшки для собак",292.32,380,{"$f":"Trixie!I$817","v":0},{"$f":"Trixie!J$817","v":0}]
[null,9605,"3510_1шт","Іграшка Trixie для собак Тваринки з пискавкою латекс 6-9см","Більше 10","Іграшки для собак",110.52,144,{"$f":"Trixie!I$818","v":0},{"$f":"Trixie!J$818","v":0}]
[null,1111114744,3297,"Іграшка Trixie для собак Ухватка тренувальна джут 9х29см/43см","Менше 10","Іграшки для собак",226.62,295,{"$f":"Trixie!I$819","v":0},{"$f":"Trixie!J$819","v":0}]
[null,1111147060,35854,"Іграшка Trixie для собак Черепаха з пискавкою плюш 40см","Більше 10","Іграшки для собак",486.78,633,{"$f":"Trixie!I$820","v":0},{"$f":"Trixie!J$820","v":0}]
[null,1111116724,33702,"Іграшка Trixie для собак Шина на мотузці гума 15/31см","Більше 10","Іграшки для собак",448.98,584,{"$f":"Trixie!I$821","v":0},{"$f":"Trixie!J$821","v":0}]
[null,1111115845,35612,"Іграшка Trixie для цуценят Кільце Junior латекс 8см","Більше 10","Іграшки для собак",110.52,144,{"$f":"Trixie!I$822","v":0},{"$f":"Trixie!J$822","v":0}]
[null,1111114743,"3296*****","Іграшка Trixie Рол джутовий для тренування собак 56 см Арт3296","Більше 10","Іграшки для собак",391.62,509,{"$f":"Trixie!I$823","v":0},{"$f":"Trixie!J$823","v":0}]
[null,1111183780,45892,"Іграшка Trixie Фліп Борд для котів інтерактивна 23см Арт45892","Більше 10","Іграшки для котів",325.92,424,{"$f":"Trixie!I$824","v":0},{"$f":"Trixie!J$824","v":0}]
[null,1111140868,"32040*****","Іграшка-годівниця Trixie DogActivity д/собак MemoryTrainer 3.0 20х24см","Менше 10","Іграшки для собак",3696.66,4806,{"$f":"Trixie!I$825","v":0},{"$f":"Trixie!J$825","v":0}]
[null,1111170313,32004,"Іграшка-годівниця Trixie для собак Snack Popper пластик 21х10х12см","Менше 10","Іграшки для собак",654.6,851,{"$f":"Trixie!I$826","v":0},{"$f":"Trixie!J$826","v":0}]
[null,1111183759,40721,"Іграшки Trixie для кот Набір на пружинках люфа сизаль 15х30см Арт40721","Менше 10","Іграшки для котів",675.6,878,{"$f":"Trixie!I$827","v":0},{"$f":"Trixie!J$827","v":0}]
[null,1111126086,76094,"Інфрачервона лампа Trixie для тераріуму для обігріву E27 63х100мм/35Вт","Менше 10","Освітлення та обігрів",373.44,485,{"$f":"Trixie!I$828","v":0},{"$f":"Trixie!J$828","v":0}]
[null,1111126087,76095,"Інфрачервона лампа Trixie для тераріуму для обігріву E27 63х100мм/50Вт","Менше 10","Освітлення та обігрів",411.24,535,{"$f":"Trixie!I$829","v":0},{"$f":"Trixie!J$829","v":0}]
[null,1111126088,76096,"Інфрачервона лампа Trixie для тераріуму для обігріву E27 63х100мм/75Вт","Більше 10","Освітлення та обігрів",411.24,535,{"$f":"Trixie!I$830","v":0},{"$f":"Trixie!J$830","v":0}]
[null,1111183781,50541,"Кальцієвий камінь Trixie для птахів з сепією 11см 40г","Більше 100","Вітаміни та мінерали для птахів",60.18,78,{"$f":"Trixie!I$831","v":0},{"$f":"Trixie!J$831","v":0}]
[null,1111119649,2272,"Карабін Trixie з шарніром хромований 13мм","Більше 10","Амуніція для собак",61.56,80,{"$f":"Trixie!I$832","v":0},{"$f":"Trixie!J$832","v":0}]
[null,8235,2273,"Карабін Trixie з шарніром хромований 19мм","Більше 10","Амуніція для собак",89.52,116,{"$f":"Trixie!I$833","v":0},{"$f":"Trixie!J$833","v":0}]
[null,1111116188,2274,"Карабін Trixie з шарніром хромований 25мм","Менше 10","Амуніція для собак",103.5,135,{"$f":"Trixie!I$834","v":0},{"$f":"Trixie!J$834","v":0}]
[null,1111172121,"48022-10*****","Картон Trixie змінний для дряпки 48022 15х58см","Менше 10","Дряпки для котів",432.12,583,{"$f":"Trixie!I$835","v":0},{"$f":"Trixie!J$835","v":0}]
[null,1111159714,40364,"Килим Trixie під туалет двошаровий 40 х 55 сірий Арт40364","Менше 10","Аксесуари для котячих туалетів",555.29999999999995,722,{"$f":"Trixie!I$836","v":0},{"$f":"Trixie!J$836","v":0}]
[null,1111183758,40365,"Килим Trixie під туалет двошаровий 40 х 70 сірий Арт40365","Менше 10","Аксесуари для котячих туалетів",720.3,936,{"$f":"Trixie!I$837","v":0},{"$f":"Trixie!J$837","v":0}]
[null,1111159715,40389,"Килим Trixie під туалет ПВХ 60 х 90 см антрацит Арт40389","Менше 10","Аксесуари для котячих туалетів",523.14,680,{"$f":"Trixie!I$838","v":0},{"$f":"Trixie!J$838","v":0}]
[null,1111146897,37126,"Килимок Trixie для котів Nani з кішкою сірий поліестер 40х30см","Більше 10","Спальні місця для котів",222.42,289,{"$f":"Trixie!I$839","v":0},{"$f":"Trixie!J$839","v":0}]
[null,1111146898,37127,"Килимок Trixie для котів Tilly з кішкою бежевий плюш 50х40см","Менше 10","Спальні місця для котів",335.7,436,{"$f":"Trixie!I$840","v":0},{"$f":"Trixie!J$840","v":0}]
[null,1111150316,43114,"Килимок Trixie для котів Розважальний комплекс з дряпкою 60х33х42см","Менше 10","Іграшки для котів",1009.86,1313,{"$f":"Trixie!I$841","v":0},{"$f":"Trixie!J$841","v":0}]
[null,1111146630,40385,"Килимок Trixie для котячого туалету півколо ПВХ 41х25см","Менше 10","Аксесуари для котячих туалетів",128.69999999999999,167,{"$f":"Trixie!I$842","v":0},{"$f":"Trixie!J$842","v":0}]
[null,1111150295,37118,"Килимок Trixie для собак Tammy з лапками поліестер 90х68см","Менше 10","Спальні місця для собак",637.79999999999995,829,{"$f":"Trixie!I$843","v":0},{"$f":"Trixie!J$843","v":0}]
[null,1111143192,28685,"Килимок Trixie для собак охолоджуючий блакитний 50х40см","Більше 10","Спальні місця для собак",297.95999999999998,387,{"$f":"Trixie!I$844","v":0},{"$f":"Trixie!J$844","v":0}]
[null,1111146663,28684,"Килимок Trixie для собак охолоджуючий блакитний 65х50см","Більше 100","Спальні місця для собак",486.78,633,{"$f":"Trixie!I$845","v":0},{"$f":"Trixie!J$845","v":0}]
[null,1111146662,28683,"Килимок Trixie для собак охолоджуючий синій нейлон 40х30см","Більше 100","Спальні місця для собак",222.42,289,{"$f":"Trixie!I$846","v":0},{"$f":"Trixie!J$846","v":0}]
[null,1111143193,28686,"Килимок Trixie для собак охолоджуючий синій нейлон 90х50см","Більше 100","Спальні місця для собак",637.79999999999995,829,{"$f":"Trixie!I$847","v":0},{"$f":"Trixie!J$847","v":0}]
[null,1111135461,40381,"Килимок Trixie під котячий туалет сірий з лапкою 34х45см","Більше 10","Аксесуари для котячих туалетів",194.46,253,{"$f":"Trixie!I$848","v":0},{"$f":"Trixie!J$848","v":0}]
[null,1111135460,40382,"Килимок Trixie під котячий туалет сірий з лапкою 40х60см","Більше 10","Аксесуари для котячих туалетів",260.16000000000003,338,{"$f":"Trixie!I$849","v":0},{"$f":"Trixie!J$849","v":0}]
[null,1299,24544,"Килимок під миску Trixie для котів Comic Cat сірий пластик 44х28см","Більше 10","Килимки під миски для котів",95.16,124,{"$f":"Trixie!I$850","v":0},{"$f":"Trixie!J$850","v":0}]
[null,1111146806,24579,"Килимок під миску Trixie для котів Patchwork сірий пластик 44х28см","Більше 10","Килимки під миски для котів",95.16,124,{"$f":"Trixie!I$851","v":0},{"$f":"Trixie!J$851","v":0}]
[null,1111127576,24540,"Килимок під миску Trixie для котів Pussy Cats сірий пластик 40х30см","Більше 10","Килимки під миски для котів",95.16,124,{"$f":"Trixie!I$852","v":0},{"$f":"Trixie!J$852","v":0}]
[null,1111121024,24561,"Килимок під миску Trixie для собак темно-сірий каучук 45х25см","Більше 10","Килимки для собак",373.44,485,{"$f":"Trixie!I$853","v":0},{"$f":"Trixie!J$853","v":0}]
[null,2102,2368,"Кігтеріз Trixie Luxe д/собак середніх/великих порід з обмежувачем 16см","Більше 100","Догляд та гігієна для собак",366.48,476,{"$f":"Trixie!I$854","v":0},{"$f":"Trixie!J$854","v":0}]
[null,5679,2367,"Кігтеріз Trixie Luxe для дрібних домашніх тварин з обмежувачем 12см","Більше 100","Догляд та гігієна для собак",274.14,356,{"$f":"Trixie!I$855","v":0},{"$f":"Trixie!J$855","v":0}]
[null,5009,2371,"Кігтеріз Trixie д/дрібних тварин ручка з гумовою накладкою сталь 13см","Більше 10","Догляд та гігієна для собак",325.92,424,{"$f":"Trixie!I$856","v":0},{"$f":"Trixie!J$856","v":0}]
[null,4773,2373,"Кігтеріз Trixie для дрібних домашніх тварин 8см","Більше 100","Догляд та гігієна для собак",127.32,165,{"$f":"Trixie!I$857","v":0},{"$f":"Trixie!J$857","v":0}]
[null,4902,2370,"Кігтеріз-гільйотина Trixie для домашніх тварин 11см","Більше 100","Догляд та гігієна для собак",181.86,236,{"$f":"Trixie!I$858","v":0},{"$f":"Trixie!J$858","v":0}]
[null,1111115197,2423,"Кігтеріз-гільйотина Trixie для домашніх тварин метал 14см","Більше 10","Догляд та гігієна для собак",274.14,356,{"$f":"Trixie!I$859","v":0},{"$f":"Trixie!J$859","v":0}]
[null,1111150323,62860,"Кігтеріз-ножиці Trixie для дрібних тварин/птахів нержавіюча сталь 13см","Більше 10","Догляд та гігієна для гризунів",181.86,236,{"$f":"Trixie!I$860","v":0},{"$f":"Trixie!J$860","v":0}]
[null,1111116590,6285,"Кігтеріз-ножиці Trixie для дрібних тварин/птахів нержавіюча сталь 8см","Більше 10","Догляд та гігієна для гризунів",127.32,165,{"$f":"Trixie!I$861","v":0},{"$f":"Trixie!J$861","v":0}]
[null,1111146287,"27616_1шт*****","Кісточка пресована з трахеї 15см/90г, 1шт","Менше 10","Ласощі для собак",103.5,135,{"$f":"Trixie!I$862","v":0},{"$f":"Trixie!J$862","v":0}]
[null,1111140866,22860,"Клікер Trixie для собак 6,5 см Арт22860","Більше 10","Амуніція для собак",120.3,156,{"$f":"Trixie!I$863","v":0},{"$f":"Trixie!J$863","v":0}]
[null,1111183722,22863,"Клікер Trixie для собак з карабіном і спіральним тросом Арт22863","Менше 10","Амуніція для собак",151.08000000000001,196,{"$f":"Trixie!I$864","v":0},{"$f":"Trixie!J$864","v":0}]
[null,1111162630,22862,"Клікер-свисток Trixie для собак 8 см Арт22862","Менше 10","Амуніція для собак",120.3,156,{"$f":"Trixie!I$865","v":0},{"$f":"Trixie!J$865","v":0}]
[null,5134,3925,"Клітка Тріксі для тварин металева розмір L 109х79х71см","Менше 10","Сумки, переноски та посуд для подорожей з собаками",5151.24,6697,{"$f":"Trixie!I$866","v":0},{"$f":"Trixie!J$866","v":0}]
[null,5061,3923,"Клітка Тріксі для тварин металева розмір M 78х62х55см","Менше 10","Сумки, переноски та посуд для подорожей з собаками",3204.3,4166,{"$f":"Trixie!I$867","v":0},{"$f":"Trixie!J$867","v":0}]
[null,5775,3924,"Клітка Тріксі для тварин металева розмір M-L 93х62х69см","Менше 10","Сумки, переноски та посуд для подорожей з собаками",3970.8,5162,{"$f":"Trixie!I$868","v":0},{"$f":"Trixie!J$868","v":0}]
[null,1111117424,3922,"Клітка Тріксі для тварин металева розмір S 64х54х48см","Менше 10","Сумки, переноски та посуд для подорожей з собаками",2474.2199999999998,3216,{"$f":"Trixie!I$869","v":0},{"$f":"Trixie!J$869","v":0}]
[null,12681,3926,"Клітка Тріксі для тварин металева розмір XL 116х86х77см","Менше 10","Сумки, переноски та посуд для подорожей з собаками",6485.58,8431,{"$f":"Trixie!I$870","v":0},{"$f":"Trixie!J$870","v":0}]
[null,1111183712,13233,"Ковдра Trixie для заднього сидіння авто 1,4х1,45 м сіра Арт13233","Менше 10","Сумки, переноски та посуд для подорожей з собаками",1128.72,1467,{"$f":"Trixie!I$871","v":0},{"$f":"Trixie!J$871","v":0}]
[null,1111183736,24568,"Коврик Trixie під миски силіконовий блакитний 48 х 27 см Арт24568","Більше 10","Килимки для собак",448.98,584,{"$f":"Trixie!I$872","v":0},{"$f":"Trixie!J$872","v":0}]
[null,1111185444,40369,"Коврик Trixie під туалет ПВХ 37х45 см блакитний арт40369","Менше 10","Туалети для собак",194.46,253,{"$f":"Trixie!I$873","v":0},{"$f":"Trixie!J$873","v":0}]
[null,1111185442,40367,"Коврик Trixie під туалет ПВХ 37х45 см світло-зелений арт40367","Менше 10","Туалети для собак",194.46,253,{"$f":"Trixie!I$874","v":0},{"$f":"Trixie!J$874","v":0}]
[null,1111125852,24161,"Ковтуноріз Trixie для котів/собак з середньою та довгою шерстю 18см","Більше 10","Догляд та гігієна для собак",325.92,424,{"$f":"Trixie!I$875","v":0},{"$f":"Trixie!J$875","v":0}]
[null,1111137871,24240,"Ковтуноріз Trixie універсальний дрібний зубчик пластикова ручка 5х18см","Більше 10","Догляд та гігієна для собак",621,807,{"$f":"Trixie!I$876","v":0},{"$f":"Trixie!J$876","v":0}]
[null,1111137872,24244,"Ковтуноріз Trixie універсальний середній зубчик пластиков/ручка 7х18см","Більше 10","Догляд та гігієна для собак",555.29999999999995,722,{"$f":"Trixie!I$877","v":0},{"$f":"Trixie!J$877","v":0}]
[null,1111119120,24242,"Ковтуноріз Trixie універсальний широкий зубчик пластикова ручка 6х18см","Більше 10","Догляд та гігієна для собак",457.38,595,{"$f":"Trixie!I$878","v":0},{"$f":"Trixie!J$878","v":0}]
[null,1111118160,"3988 /3283*****","Комплект коліс Trixie д/переноски Gulliver 4-7 та Gulliver Touring 4шт","Менше 10","Сумки, переноски та посуд для подорожей з собаками",1827,2375,{"$f":"Trixie!I$879","v":0},{"$f":"Trixie!J$879","v":0}]
[null,1111139758,"39740 /36313","Комплект коліс Trixie для переноски Skudo 4-7 4шт","Менше 10","Сумки, переноски та посуд для подорожей з собаками",2019.3,2625,{"$f":"Trixie!I$880","v":0},{"$f":"Trixie!J$880","v":0}]
[null,1111137775,29196,"Кондиціонер Trixie для шерсті собак з маслами макадамія/обліпиха 250мл","Більше 10","Догляд та гігієна для собак",165.06,215,{"$f":"Trixie!I$881","v":0},{"$f":"Trixie!J$881","v":0}]
[null,1111132056,29193,"Кондиціонер Trixie для шерсті собак з маслом жожоба 250мл","Більше 100","Догляд та гігієна для собак",144.06,187,{"$f":"Trixie!I$882","v":0},{"$f":"Trixie!J$882","v":0}]
[null,1111148917,24664,"Контейнер Trixie Food and Snack Jar для їжі та ласощів 1,5л/17,5см","Менше 10","Контейнери для зберігання їжі собак",260.16000000000003,338,{"$f":"Trixie!I$883","v":0},{"$f":"Trixie!J$883","v":0}]
[null,1111136845,2331,"Контейнер Trixie для пакетів з 2 рулонами пакетів М 20шт/рулон","Більше 10","Пелюшки, підгузки для собак",103.5,135,{"$f":"Trixie!I$884","v":0},{"$f":"Trixie!J$884","v":0}]
[null,1111143757,22846,"Контейнер-кісточка Trixie для пакетів з 1 рулоном М 15шт","Більше 10","Пелюшки, підгузки для собак",103.5,135,{"$f":"Trixie!I$885","v":0},{"$f":"Trixie!J$885","v":0}]
[null,1111176960,909145,"Коробка Trixie Хеллов д/вітрини д/ласощ арт91997 карт 24,5*10,4*34,5см","Менше 10",null,135.11000000000001,182.4,{"$f":"Trixie!I$886","v":0},{"$f":"Trixie!J$886","v":0}]
[null,1111119909,2571,"Крем Trixie Paw Care для собак/котів захисний для подушечок лап 50мл","Більше 10","Догляд та гігієна для собак",120.3,156,{"$f":"Trixie!I$887","v":0},{"$f":"Trixie!J$887","v":0}]
[null,1111185720,"313281_5шт","Лакомство Жевательное кольцо Denta Fun с курицей ø10см/110г 5 шт/уп","Більше 10","Ласощі для собак",832.2,1082,{"$f":"Trixie!I$888","v":0},{"$f":"Trixie!J$888","v":0}]
[null,1111137981,55001,"Лампа Тріксі для птахів денна без мерехтіння 23Вт","Менше 10","Обладнання для птахів",826.62,1075,{"$f":"Trixie!I$889","v":0},{"$f":"Trixie!J$889","v":0}]
[null,1111119349,2151,"Ланцюг-зашморг Trixie для собак велика ланка хромований 58см/4мм","Менше 10","Амуніція для собак",212.64,276,{"$f":"Trixie!I$890","v":0},{"$f":"Trixie!J$890","v":0}]
[null,1111185790,"312281_5шт*****","Ласощі Denta Fun для собак із мармуром яловичини 10см/110г/5шт","Більше 100","Ласощі для собак",832.2,1082,{"$f":"Trixie!I$891","v":0},{"$f":"Trixie!J$891","v":0}]
[null,1111190389,"31262*****","Ласощі Trixie Chewing cheese для собак, M: 13.5 см, 75 г","Більше 10","Ласощі для собак",502.14,653,{"$f":"Trixie!I$892","v":0},{"$f":"Trixie!J$892","v":0}]
[null,1111190388,"31261*****","Ласощі Trixie Chewing cheese для собак, S: 13.5 см, 45 г","Менше 10","Ласощі для собак",317.52,413,{"$f":"Trixie!I$893","v":0},{"$f":"Trixie!J$893","v":0}]
[null,1111190387,"31260*****","Ласощі Trixie Chewing cheese для собак, XS: 13.5 см, 30 г","Більше 10","Ласощі для собак",246.18,320,{"$f":"Trixie!I$894","v":0},{"$f":"Trixie!J$894","v":0}]
[null,1111205925,"313753_40шт","Ласощі Trixie Denta Fun Roll з качкою та курячою печінкою","Менше 10","Ласощі для собак",0,0,{"$f":"Trixie!I$895","v":0},{"$f":"Trixie!J$895","v":0}]
[null,1111185700,"314671_10шт*****","Ласощі Trixie Denta Fun Барбекю Курячі реберця 12 см 30 г 10 шт/уп","Менше 10","Ласощі для собак",559.5,727,{"$f":"Trixie!I$896","v":0},{"$f":"Trixie!J$896","v":0}]
[null,1111180980,"313331 пошт.","Ласощі Trixie Denta Fun жувальне кільце з качкою д10см/110г 1шт","Більше 10","Ласощі для собак",166.44,216,{"$f":"Trixie!I$897","v":0},{"$f":"Trixie!J$897","v":0}]
[null,1111180979,"313271 пошт.","Ласощі Trixie Denta Fun жувальний рол з куркою д/соб  17см 1 шт","Більше 10","Ласощі для собак",61.56,80,{"$f":"Trixie!I$898","v":0},{"$f":"Trixie!J$898","v":0}]
[null,1111185713,"31178_5шт*****","Ласощі Trixie Denta Fun Качиний крендель ваговий д 10 см 75 г 5 шт/уп","Більше 10","Ласощі для собак",510.54,664,{"$f":"Trixie!I$899","v":0},{"$f":"Trixie!J$899","v":0}]
[null,1111185787,"313731_20шт*****","Ласощі Trixie Denta Fun Качка жувальний рулет д 17 см 45 г/20 ШТ","Більше 10","Ласощі для собак",1174.8599999999999,1527,{"$f":"Trixie!I$900","v":0},{"$f":"Trixie!J$900","v":0}]
[null,1111192112,31343,"Ласощі Trixie Denta Fun Кістка для чищення зубів 11 см 120 г 2шт/упак","Більше 10","Ласощі для собак",166.44,216,{"$f":"Trixie!I$901","v":0},{"$f":"Trixie!J$901","v":0}]
[null,1111205927,"31198_100шт","Ласощі Trixie Denta Fun Крендель з качиною грудкою","Менше 10","Ласощі для собак",0,0,{"$f":"Trixie!I$902","v":0},{"$f":"Trixie!J$902","v":0}]
[null,1111185706,"313251_20шт*****","Ласощі Trixie Denta Fun Курка жувальна рулетик д 12 см 11 г 20 шт/уп","Більше 10","Ласощі для собак",363.66,473,{"$f":"Trixie!I$903","v":0},{"$f":"Trixie!J$903","v":0}]
[null,1111205929,"313321_5 шт","Ласощі Trixie Denta Fun Курка жувальне кільце","Більше 10","Ласощі для собак",0,0,{"$f":"Trixie!I$904","v":0},{"$f":"Trixie!J$904","v":0}]
[null,1111185704,"313521_10шт*****","Ласощі Trixie Denta Fun Курка Жувальний Біг Рол 15 см 80 г 10 шт/уп","Менше 10","Ласощі для собак",1035,1346,{"$f":"Trixie!I$905","v":0},{"$f":"Trixie!J$905","v":0}]
[null,1111185709,"31191_30шт*****","Ласощі Trixie Denta Fun Куряча зірочка д 9 см 30 г 30 шт/уп","Менше 10","Ласощі для собак",1174.8599999999999,1527,{"$f":"Trixie!I$906","v":0},{"$f":"Trixie!J$906","v":0}]
[null,1111185708,"31188_30шт*****","Ласощі Trixie Denta Fun Куряча любов ваговий 6 см 25 г 30 шт/уп","Менше 10","Ласощі для собак",965.1,1255,{"$f":"Trixie!I$907","v":0},{"$f":"Trixie!J$907","v":0}]
[null,1111185705,"314731_5шт*****","Ласощі Trixie Denta Fun Курячі палички фасовані 15 см 35 г 5 шт/уп","Більше 10","Ласощі для собак",363.66,473,{"$f":"Trixie!I$908","v":0},{"$f":"Trixie!J$908","v":0}]
[null,1111185715,"313341 пошт.*****","Ласощі Trixie Denta Fun Рибне жувальне кільце д 10 см 110 г","Менше 10","Ласощі для собак",166.44,216,{"$f":"Trixie!I$909","v":0},{"$f":"Trixie!J$909","v":0}]
[null,1111205930,"313752_5шт","Ласощі Trixie Denta Fun Ролл з качкою та курячою печінкою","Більше 10","Ласощі для собак",0,0,{"$f":"Trixie!I$910","v":0},{"$f":"Trixie!J$910","v":0}]
[null,1111205928,"31197_200шт","Ласощі Trixie Denta Fun Сердечко з курячою грудкою","Менше 10","Ласощі для собак",0,0,{"$f":"Trixie!I$911","v":0},{"$f":"Trixie!J$911","v":0}]
[null,1111185703,"31187_5шт*****","Ласощі Trixie Denta Fun Хлібчик з куркою 15 см 75 г 5 шт/уп","Більше 100","Ласощі для собак",510.54,664,{"$f":"Trixie!I$912","v":0},{"$f":"Trixie!J$912","v":0}]
[null,1111185716,"313391_10 шт*****","Ласощі Trixie Denta Fun Ягня жувальне кільце д 6 см 55 г 10 шт/уп","Менше 10","Ласощі для собак",1132.92,1473,{"$f":"Trixie!I$913","v":0},{"$f":"Trixie!J$913","v":0}]
[null,1111205924,"315435_30шт","Ласощі Trixie PREMIO Льодяник з куркою та рисом","Більше 10","Ласощі для собак",0,0,{"$f":"Trixie!I$914","v":0},{"$f":"Trixie!J$914","v":0}]
[null,1111190391,"27152*****","Ласощі Trixie Snack Dips with rabbit and chicken, 120 г","Більше 10","Ласощі для собак",113.34,147,{"$f":"Trixie!I$915","v":0},{"$f":"Trixie!J$915","v":0}]
[null,1111204169,"92765*****","Ласощі Trixie Soft Snack Easter Mix М_які пасхальні ласощі мікс","Більше 10","Ласощі для собак",123.96,161,{"$f":"Trixie!I$916","v":0},{"$f":"Trixie!J$916","v":0}]
[null,1111183787,60792,"Ласощі Trixie для гризунів Черв_яки сушені 70 г Арт60792","Більше 100","Ласощі для гризунів",127.32,165,{"$f":"Trixie!I$917","v":0},{"$f":"Trixie!J$917","v":0}]
[null,1111205923,"3181_25шт","Ласощі Trixie для собак Паличка жувальна пресована з салямі","Менше 10","Ласощі для собак",0,0,{"$f":"Trixie!I$918","v":0},{"$f":"Trixie!J$918","v":0}]
[null,1111192342,"315911_20шт","Ласощі Trixie для собак Преміо Chiсkies кісточка з куркою 7,5см 9г","Більше 100","Ласощі для собак",223.8,291,{"$f":"Trixie!I$919","v":0},{"$f":"Trixie!J$919","v":0}]
[null,1111137695,"27614*****","Ласощі Trixie Кість прес с пенісом 21см/170гр","Більше 10","Ласощі для собак",145.5,189,{"$f":"Trixie!I$920","v":0},{"$f":"Trixie!J$920","v":0}]
[null,1111205926,"313751_100шт","Ласощі Trixie Рулет Denta Fun з качкою та курячою печінкою","Менше 10","Ласощі для собак",0,0,{"$f":"Trixie!I$921","v":0},{"$f":"Trixie!J$921","v":0}]
[null,1111185789,"2709_20шт","Ласощі Trixie Трубочка 15см з рубцом_20ШТ","Менше 10","Ласощі для собак",1202.8800000000001,1564,{"$f":"Trixie!I$922","v":0},{"$f":"Trixie!J$922","v":0}]
[null,1111185719,"2801_500г*****","Ласощі Trixie Шпроти в_ялена риба для собак 500 г","Менше 10","Ласощі для собак",826.62,1075,{"$f":"Trixie!I$923","v":0},{"$f":"Trixie!J$923","v":0}]
[null,1111140900,42735,"Ласощі д/кот. PREMIO Chicken Tenders курячі крила 70гр/4шт","Більше 100","Ласощі для котів",103.5,135,{"$f":"Trixie!I$924","v":0},{"$f":"Trixie!J$924","v":0}]
[null,1111171842,"31196_1шт*****","Ласощі д/чищ. DentaFun з кур, с/ш 46г 12см - 1 шт","Більше 100","Ласощі для собак",55.98,73,{"$f":"Trixie!I$925","v":0},{"$f":"Trixie!J$925","v":0}]
[null,1111139767,37031,"Лежак Trixie Jimmy для собак з лапками сіро-коричневий плюш 45х35см","Менше 10","Спальні місця для собак",807.06,1049,{"$f":"Trixie!I$926","v":0},{"$f":"Trixie!J$926","v":0}]
[null,1111139768,37032,"Лежак Trixie Jimmy для собак з лапками сіро-коричневий плюш 55х45см","Менше 10","Спальні місця для собак",1009.86,1313,{"$f":"Trixie!I$927","v":0},{"$f":"Trixie!J$927","v":0}]
[null,1111139770,37034,"Лежак Trixie Jimmy для собак з лапками сіро-коричневий плюш 75х65см","Менше 10","Спальні місця для собак",1906.38,2478,{"$f":"Trixie!I$928","v":0},{"$f":"Trixie!J$928","v":0}]
[null,1111139772,"37036*****","Лежак Trixie Jimmy для собак з лапками сіро-коричневий плюш 95х85см","Менше 10","Спальні місця для собак",3204.3,4166,{"$f":"Trixie!I$929","v":0},{"$f":"Trixie!J$929","v":0}]
[null,1111156934,37448,"Лежак Trixie д/собаки Be Nordic Fohr з ручками сірий поліестер 80х60см","Менше 10","Спальні місця для собак",4700.88,6111,{"$f":"Trixie!I$930","v":0},{"$f":"Trixie!J$930","v":0}]
[null,1111115190,62703,"Лежак Trixie для карлик кроликів  поліестер поролон 35х28 см Арт62703","Менше 10","Обладнання для гризунів",448.98,584,{"$f":"Trixie!I$931","v":0},{"$f":"Trixie!J$931","v":0}]
[null,1111116793,28631,"Лежак Trixie для котів Cuddly Bed двосторонній білий/червоний 47х38см","Менше 10","Спальні місця для собак",335.7,436,{"$f":"Trixie!I$932","v":0},{"$f":"Trixie!J$932","v":0}]
[null,1111140978,37487,"Лежак Trixie для котів Mimi з мордочками сірий плюш 50см","Менше 10","Спальні місця для котів",1415.46,1840,{"$f":"Trixie!I$933","v":0},{"$f":"Trixie!J$933","v":0}]
[null,1111118665,"4328 Trixie","Лежак Trixie для котів на підвіконня світло-сірий плюш 51х36см","Менше 10","Спальні місця для котів",1009.86,1313,{"$f":"Trixie!I$934","v":0},{"$f":"Trixie!J$934","v":0}]
[null,1111115189,62702,"Лежак Trixie для морської свинки флісовий наповнювач текстиль 30х22см","Більше 10","Обладнання для гризунів",160.86000000000001,209,{"$f":"Trixie!I$935","v":0},{"$f":"Trixie!J$935","v":0}]
[null,1111139778,38974,"Лежак Trixie для собаки Davin в смужку сірий плюш/фліс 50х40см","Більше 10","Спальні місця для собак",1009.86,1313,{"$f":"Trixie!I$936","v":0},{"$f":"Trixie!J$936","v":0}]
[null,1111148404,38395,"Лежак Trixie для собаки Lian з ручками  сірий фетр/плюш 37см","Менше 10","Спальні місця для собак",562.26,731,{"$f":"Trixie!I$937","v":0},{"$f":"Trixie!J$937","v":0}]
[null,1111144831,37685,"Лежак Trixie для собаки Lingo з лапками/кісточками бежевий 50х40см","Менше 10","Спальні місця для собак",751.08,976,{"$f":"Trixie!I$938","v":0},{"$f":"Trixie!J$938","v":0}]
[null,1111144830,37686,"Лежак Trixie для собаки Lingo з лапками/кісточками бежевий 60х55см","Менше 10","Спальні місця для собак",1009.86,1313,{"$f":"Trixie!I$939","v":0},{"$f":"Trixie!J$939","v":0}]
[null,1111115896,37021,"Лежак Trixie для собаки Lucky в клітинку сірий бавовна/фліс 45х35см","Менше 10","Спальні місця для собак",807.06,1049,{"$f":"Trixie!I$940","v":0},{"$f":"Trixie!J$940","v":0}]
[null,1111137864,37841,"Лежак Trixie для собаки Othello коричневий плюш 50см","Більше 10","Спальні місця для собак",1090.98,1418,{"$f":"Trixie!I$941","v":0},{"$f":"Trixie!J$941","v":0}]
[null,1111137778,37842,"Лежак Trixie для собаки Othello коричневий плюш 60см","Менше 10","Спальні місця для собак",1415.46,1840,{"$f":"Trixie!I$942","v":0},{"$f":"Trixie!J$942","v":0}]
[null,1111115099,38821,"Лежак Trixie для собаки Sleeper 2 сірий пластик 68х47см","Менше 10","Спальні місця для собак",803.88,1045,{"$f":"Trixie!I$943","v":0},{"$f":"Trixie!J$943","v":0}]
[null,1111140976,37377,"Лежак Trixie для собаки Tammy з лапками темно-синій плюш 50см","Більше 10","Спальні місця для собак",751.08,976,{"$f":"Trixie!I$944","v":0},{"$f":"Trixie!J$944","v":0}]
[null,1111140977,37378,"Лежак Trixie для собаки Tammy з лапками темно-синій плюш 70см","Менше 10","Спальні місця для собак",1212.6600000000001,1576,{"$f":"Trixie!I$945","v":0},{"$f":"Trixie!J$945","v":0}]
[null,1111115188,"62701 Trixie","Лежак Trixie для хом_яка флісовий наповнювач текстиль 16х13см","Більше 100","Обладнання для гризунів",103.5,135,{"$f":"Trixie!I$946","v":0},{"$f":"Trixie!J$946","v":0}]
[null,1111142222,62785,"Лежак-будиночок для гризун Trixie підвісн 11х14 см коричневий Арт62785","Менше 10","Обладнання для гризунів",194.46,253,{"$f":"Trixie!I$947","v":0},{"$f":"Trixie!J$947","v":0}]
[null,1111137641,40475,"Лопатка Trixie д/наповнювача Fresn/Easy Granulat з підставкою пласт L","Більше 10","Аксесуари для котячих туалетів",212.64,276,{"$f":"Trixie!I$948","v":0},{"$f":"Trixie!J$948","v":0}]
[null,8008,4050,"Лопатка Trixie для наповнювача Ultra з отворами пластик розмір M","Більше 100","Аксесуари для котячих туалетів",48.96,64,{"$f":"Trixie!I$949","v":0},{"$f":"Trixie!J$949","v":0}]
[null,12219,4049,"Лопатка Trixie для туалету для гігієнічного наповнювача розмір М","Більше 100","Аксесуари для котячих туалетів",36.36,47,{"$f":"Trixie!I$950","v":0},{"$f":"Trixie!J$950","v":0}]
[null,9299,4045,"Лопатка-совок Trixie для наповнювача або корму пластик розмір S","Більше 10","Аксесуари для котячих туалетів",42,55,{"$f":"Trixie!I$951","v":0},{"$f":"Trixie!J$951","v":0}]
[null,1111118163,2559,"Лосьйон Trixie Eye-Care д/домашніх тварин видалення плям від сліз 50мл","Більше 100","Догляд та гігієна для котів",139.86000000000001,182,{"$f":"Trixie!I$952","v":0},{"$f":"Trixie!J$952","v":0}]
[null,1111126936,76035,"Люмінесцентна лампа Trixie DesertProCompact д/опромінен 60х152мм/23Вт","Менше 10","Освітлення та обігрів",826.62,1075,{"$f":"Trixie!I$953","v":0},{"$f":"Trixie!J$953","v":0}]
[null,1111115114,4225,"М_ята Trixie Catnip для котів 20 г","Більше 100","Вітаміни для котів",51.78,67,{"$f":"Trixie!I$954","v":0},{"$f":"Trixie!J$954","v":0}]
[null,1111141362,37069,"Матрац Trixie для собак Patchwork з собачками синій/зелений 80х55 см","Менше 10","Спальні місця для собак",888.18,1155,{"$f":"Trixie!I$955","v":0},{"$f":"Trixie!J$955","v":0}]
[null,1111183730,23889,"Машинка для зточування кігтів Trixie для котів 14см","Більше 10","Догляд та гігієна для собак",654.6,851,{"$f":"Trixie!I$956","v":0},{"$f":"Trixie!J$956","v":0}]
[null,9743,2278,"Медальйон-адресник Trixie для собак золотий метал","Менше 10","Амуніція для собак",42,55,{"$f":"Trixie!I$957","v":0},{"$f":"Trixie!J$957","v":0}]
[null,1111115368,2279,"Медальйон-адресник Trixie для собак синій/червоний метал","Менше 10","Амуніція для собак",42,55,{"$f":"Trixie!I$958","v":0},{"$f":"Trixie!J$958","v":0}]
[null,12256,2275,"Медальйон-адресник Trixie для собак сірий метал","Більше 10","Амуніція для собак",42,55,{"$f":"Trixie!I$959","v":0},{"$f":"Trixie!J$959","v":0}]
[null,1111119354,2280,"Медальйон-адресник Trixie для собак сірий метал в асортименті","Більше 10","Амуніція для собак",61.56,80,{"$f":"Trixie!I$960","v":0},{"$f":"Trixie!J$960","v":0}]
[null,1111127815,2277,"Медальйон-адресник Trixie лапка флуоресцентна пластикова 3,5 см","Більше 10","Амуніція для собак",34.979999999999997,45,{"$f":"Trixie!I$961","v":0},{"$f":"Trixie!J$961","v":0}]
[null,1111167887,29200,"Мило Trixie для собак з екстрактом алое вера для чутливої ​​шкіри 100г","Менше 10","Догляд та гігієна для собак",131.52000000000001,171,{"$f":"Trixie!I$962","v":0},{"$f":"Trixie!J$962","v":0}]
[null,1111162678,42425,"Мильні бульбашки Trixie для котів з котячою м_ятою 120 мл Арт42425","Більше 10","Засоби для догляду за будинком з котами",160.86000000000001,209,{"$f":"Trixie!I$963","v":0},{"$f":"Trixie!J$963","v":0}]
[null,1111183750,35699,"Мильні бульбашки Trixie для собак з ароматом бекону 120 мл Арт35699","Більше 10","Іграшки для собак",160.86000000000001,209,{"$f":"Trixie!I$964","v":0},{"$f":"Trixie!J$964","v":0}]
[null,1111127547,24498,"Миска Trixie Cat для котів керамічна 200мл d-13см","Більше 10","Миски для котів",176.28,229,{"$f":"Trixie!I$965","v":0},{"$f":"Trixie!J$965","v":0}]
[null,1111185415,24415,"Миска Trixie Food керамічна д/собак 1,6л 20см біло-чорна","Більше 10","Миски та годівниці для собак",423.84,551,{"$f":"Trixie!I$966","v":0},{"$f":"Trixie!J$966","v":0}]
[null,1111185414,24414,"Миска Trixie Food керамічна для соб 0,6 л 15см біло-чорна арт24414","Більше 10","Миски та годівниці для собак",260.16000000000003,338,{"$f":"Trixie!I$967","v":0},{"$f":"Trixie!J$967","v":0}]
[null,1111112059,60808,"Миска Trixie HoneyHopper для гризунів керамічна 250 мл 11 см Арт60808","Менше 10","Обладнання для гризунів",160.86000000000001,209,{"$f":"Trixie!I$968","v":0},{"$f":"Trixie!J$968","v":0}]
[null,1111185421,24486,"Миска Trixie Water керамічна для соб 0,6 л 15см біло-чорна арт24486","Менше 10","Миски та годівниці для собак",260.16000000000003,338,{"$f":"Trixie!I$969","v":0},{"$f":"Trixie!J$969","v":0}]
[null,1111185422,"24487*****","Миска Trixie Water керамічна для соб 1,6 л 20см біло-чорна арт24487","Більше 10","Миски та годівниці для собак",423.84,551,{"$f":"Trixie!I$970","v":0},{"$f":"Trixie!J$970","v":0}]
[null,1111138499,24495,"Миска Trixie д/котів короткомордих порід овальна кераміч 15х10см 200мл","Менше 10","Миски для котів",160.86000000000001,209,{"$f":"Trixie!I$971","v":0},{"$f":"Trixie!J$971","v":0}]
[null,1111146883,24784,"Миска Trixie д/котів короткомордих порід сіра/біла кераміч 15см 300мл","Більше 10","Миски для котів",209.82,273,{"$f":"Trixie!I$972","v":0},{"$f":"Trixie!J$972","v":0}]
[null,11815,24870,"Миска Trixie д/котів на гумов/основі з рибками нержав/сталь 15см 200мл","Більше 100","Миски для котів",79.739999999999995,104,{"$f":"Trixie!I$973","v":0},{"$f":"Trixie!J$973","v":0}]
[null,1111135222,25270,"Миска Trixie д/котів на гумов/основі пластик/покриття метал 12см 250мл","Більше 10","Миски для котів",160.86000000000001,209,{"$f":"Trixie!I$974","v":0},{"$f":"Trixie!J$974","v":0}]
[null,1111170401,"24981*****","Миска Trixie д/котів подвійна з сталі на підставці сіра 2х300мл/16см","Більше 10","Миски для котів",682.84,860,{"$f":"Trixie!I$975","v":0},{"$f":"Trixie!J$975","v":0}]
[null,1111114207,24721,"Миска Trixie д/котів подвійна на підставці пласт 250мл/9см/300мл/11см","Менше 10","Миски та годівниці для собак",325.92,424,{"$f":"Trixie!I$976","v":0},{"$f":"Trixie!J$976","v":0}]
[null,1111163175,24420,"Миска Trixie д/котів Рибка/Серце пластик на гумовій основі 300мл/12см","Менше 10","Миски для котів",292.32,380,{"$f":"Trixie!I$977","v":0},{"$f":"Trixie!J$977","v":0}]
[null,1111140994,24777,"Миска Trixie д/собак Jimmy чорна з лапкою кераміка 400мл 12см","Більше 10","Миски та годівниці для собак",325.92,424,{"$f":"Trixie!I$978","v":0},{"$f":"Trixie!J$978","v":0}]
[null,1111170406,25039,"Миска Trixie д/собак Вулик для повільного годування пластик/гума 30см","Менше 10","Миски та годівниці для собак",751.08,976,{"$f":"Trixie!I$979","v":0},{"$f":"Trixie!J$979","v":0}]
[null,1111170399,"25273*****","Миска Trixie д/собак з лапками/сердечками гумов/основа метал 2л/20см","Більше 10","Миски та годівниці для собак",260.16000000000003,338,{"$f":"Trixie!I$980","v":0},{"$f":"Trixie!J$980","v":0}]
[null,1111170412,"24521*****","Миска Trixie д/собак Повільне годування сіра/блакит керам 900мл 17см","Більше 10","Миски та годівниці для собак",588.84,765,{"$f":"Trixie!I$981","v":0},{"$f":"Trixie!J$981","v":0}]
[null,1111170405,"25285*****","Миска Trixie д/собак Повільне годування сіра/блакит пластик 500мл 23см","Більше 10","Миски та годівниці для собак",433.62,564,{"$f":"Trixie!I$982","v":0},{"$f":"Trixie!J$982","v":0}]
[null,1111170402,24983,"Миска Trixie д/собак подвійна підставка сіра з нержавійки 2х400мл/14см","Менше 10","Миски та годівниці для собак",826.62,1075,{"$f":"Trixie!I$983","v":0},{"$f":"Trixie!J$983","v":0}]
[null,1111119275,2497,"Миска Trixie д/собак подвійна регул/підстав/дужка 2x2,8 л/24см h-43см","Менше 10","Миски та годівниці для собак",1774.92,2307,{"$f":"Trixie!I$984","v":0},{"$f":"Trixie!J$984","v":0}]
[null,10355,24921,"Миска Trixie д/собак подвійна регул/підставк метал 2x1,8 л/21см h-40см","Більше 10","Миски та годівниці для собак",1128.72,1467,{"$f":"Trixie!I$985","v":0},{"$f":"Trixie!J$985","v":0}]
[null,10352,24922,"Миска Trixie д/собак подвійна регул/підставк метал 2x2,8 л/24см h-50см","Більше 10","Миски та годівниці для собак",1416.84,1842,{"$f":"Trixie!I$986","v":0},{"$f":"Trixie!J$986","v":0}]
[null,10356,24923,"Миска Trixie д/собак подвійна регул/підставк метал 2x4,5 л/29см h-60см","Менше 10","Миски та годівниці для собак",2110.56,2744,{"$f":"Trixie!I$987","v":0},{"$f":"Trixie!J$987","v":0}]
[null,1111119276,24920,"Миска Trixie д/собак подвійна регул/підставк метал 2x750мл/17см h-27см","Більше 10","Миски та годівниці для собак",826.62,1075,{"$f":"Trixie!I$988","v":0},{"$f":"Trixie!J$988","v":0}]
[null,1111125971,60801,"Миска Trixie для гризун з принтом хом_як керамічна 80 мл 8 см Арт60801","Більше 10","Обладнання для гризунів",103.5,135,{"$f":"Trixie!I$989","v":0},{"$f":"Trixie!J$989","v":0}]
[null,1111122596,60732,"Миска Trixie для гризунів з принтом керамічна 250 мл 11 см Арт60732","Більше 10","Обладнання для гризунів",160.86000000000001,209,{"$f":"Trixie!I$990","v":0},{"$f":"Trixie!J$990","v":0}]
[null,1111122597,60733,"Миска Trixie для гризунів керамічна 11см 250мл","Більше 10","Обладнання для гризунів",160.86000000000001,209,{"$f":"Trixie!I$991","v":0},{"$f":"Trixie!J$991","v":0}]
[null,1111119428,6066,"Миска Trixie для гризунів керамічна 7см 100мл","Більше 10","Обладнання для гризунів",95.16,124,{"$f":"Trixie!I$992","v":0},{"$f":"Trixie!J$992","v":0}]
[null,1111122599,60742,"Миска Trixie для гризунів яскрава керамічна 11см 200мл","Більше 10","Обладнання для гризунів",110.52,144,{"$f":"Trixie!I$993","v":0},{"$f":"Trixie!J$993","v":0}]
[null,1111122600,60743,"Миска Trixie для гризунів яскрава керамічна 15см 400мл","Більше 10","Обладнання для гризунів",160.86000000000001,209,{"$f":"Trixie!I$994","v":0},{"$f":"Trixie!J$994","v":0}]
[null,1111146884,25120,"Миска Trixie для кот Zentangle керамічна чорно-біла 12см 0,3л арт25120","Більше 10","Миски для котів",194.46,253,{"$f":"Trixie!I$995","v":0},{"$f":"Trixie!J$995","v":0}]
[null,1111134434,"25245*****","Миска Trixie для кот з нержавіючої сталі і пластику 2,2л 23см Арт25245","Більше 10","Миски та годівниці для собак",489.54,636,{"$f":"Trixie!I$996","v":0},{"$f":"Trixie!J$996","v":0}]
[null,1111170415,25211,"Миска Trixie для котів Adventure зелена емаль/метал 300мл/12см","Більше 10","Миски та годівниці для собак",160.86000000000001,209,{"$f":"Trixie!I$997","v":0},{"$f":"Trixie!J$997","v":0}]
[null,1111140988,24650,"Миска Trixie для котів Mimi керамічна 300мл/12см","Більше 10","Миски для котів",160.86000000000001,209,{"$f":"Trixie!I$998","v":0},{"$f":"Trixie!J$998","v":0}]
[null,1111134118,24793,"Миска Trixie для котів Thanks for Service керамічна 300мл/11см","Більше 10","Миски для котів",160.86000000000001,209,{"$f":"Trixie!I$999","v":0},{"$f":"Trixie!J$999","v":0}]
[null,1111127552,24499,"Миска Trixie для котів біла з чорним котиком керамічна 250мл d-13см","Більше 100","Миски для котів",144.06,187,{"$f":"Trixie!I$1000","v":0},{"$f":"Trixie!J$1000","v":0}]
[null,1111119257,2474,"Миска Trixie для котів з гумовими ніжками пластик 11см 200мл","Менше 10","Миски для котів",39.18,51,{"$f":"Trixie!I$1001","v":0},{"$f":"Trixie!J$1001","v":0}]
[null,11409,4009,"Миска Trixie для котів з котиком керамічна 11см 300мл","Більше 10","Миски для котів",144.06,187,{"$f":"Trixie!I$1002","v":0},{"$f":"Trixie!J$1002","v":0}]
[null,1111122540,24531,"Миска Trixie для котів з лапками коричнева керамічна 12см 300мл","Більше 10","Миски та годівниці для собак",176.28,229,{"$f":"Trixie!I$1003","v":0},{"$f":"Trixie!J$1003","v":0}]
[null,1111122542,24533,"Миска Trixie для котів з лапками коричнева керамічна 20см 1,4л","Більше 10","Миски та годівниці для собак",457.38,595,{"$f":"Trixie!I$1004","v":0},{"$f":"Trixie!J$1004","v":0}]
[null,1111138491,24799,"Миска Trixie для котів з лапками срібна керамічна 11см 300мл","Більше 10","Миски для котів",226.62,295,{"$f":"Trixie!I$1005","v":0},{"$f":"Trixie!J$1005","v":0}]
[null,1111134432,25243,"Миска Trixie для котів з нержав сталі і пластику 0,8 л 17 см Арт25243","Менше 10","Миски та годівниці для собак",260.16000000000003,338,{"$f":"Trixie!I$1006","v":0},{"$f":"Trixie!J$1006","v":0}]
[null,1111134433,"25244*****","Миска Trixie для котів з нержав сталі і пластику 1,5 л 21 см Арт25244","Менше 10","Миски та годівниці для собак",391.62,509,{"$f":"Trixie!I$1007","v":0},{"$f":"Trixie!J$1007","v":0}]
[null,1111122227,24492,"Миска Trixie для котів з рибкою керамічна 200мл d-13см","Більше 100","Миски для котів",120.3,156,{"$f":"Trixie!I$1008","v":0},{"$f":"Trixie!J$1008","v":0}]
[null,1111170382,24985,"Миска Trixie для котів і собак подвійна пластик 2х200мл/11см","Менше 10","Миски та годівниці для собак",89.52,116,{"$f":"Trixie!I$1009","v":0},{"$f":"Trixie!J$1009","v":0}]
[null,1111185425,25223,"Миска Trixie для котів керамічна 0,15 л діаметр 12 см рожева арт25223","Більше 10","Миски для котів",194.46,253,{"$f":"Trixie!I$1010","v":0},{"$f":"Trixie!J$1010","v":0}]
[null,1111115192,2467,"Миска Trixie для котів керамічна 13см 300мл","Більше 10","Миски для котів",160.86000000000001,209,{"$f":"Trixie!I$1011","v":0},{"$f":"Trixie!J$1011","v":0}]
[null,312022,"4008_1шт","Миска Trixie для котів керамічна 200мл d-11,5см","Більше 100","Миски для котів",144.06,187,{"$f":"Trixie!I$1012","v":0},{"$f":"Trixie!J$1012","v":0}]
[null,1111150263,24497,"Миска Trixie для котів керамічна котяча голова 0,25л 12х12 см Арт24497","Більше 10","Миски для котів",194.46,253,{"$f":"Trixie!I$1013","v":0},{"$f":"Trixie!J$1013","v":0}]
[null,1111150266,24651,"Миска Trixie для котів керамічна пласка принт 0,2 л 15см біла Арт24651","Більше 10","Миски для котів",194.46,253,{"$f":"Trixie!I$1014","v":0},{"$f":"Trixie!J$1014","v":0}]
[null,1111119252,2468,"Миска Trixie для котів короткомордих порід металева 13см 200мл","Більше 10","Миски для котів",46.2,60,{"$f":"Trixie!I$1015","v":0},{"$f":"Trixie!J$1015","v":0}]
[null,1111156287,24770,"Миска Trixie для котів короткомордих порід синя/біла 15см 300мл","Більше 10","Миски для котів",209.82,273,{"$f":"Trixie!I$1016","v":0},{"$f":"Trixie!J$1016","v":0}]
[null,1111170376,24807,"Миска Trixie для котів Котик керамічна 150мл d-14см","Більше 100","Миски для котів",260.16000000000003,338,{"$f":"Trixie!I$1017","v":0},{"$f":"Trixie!J$1017","v":0}]
[null,1111116026,4007,"Миска Trixie для котів малюнок з котом і мишкою керамічна 12см 200мл","Більше 10","Миски для котів",160.86000000000001,209,{"$f":"Trixie!I$1018","v":0},{"$f":"Trixie!J$1018","v":0}]
[null,11814,2469,"Миска Trixie для котів на гумовій основі нержавіюча сталь 15см 200мл","Більше 10","Миски для котів",72.78,95,{"$f":"Trixie!I$1019","v":0},{"$f":"Trixie!J$1019","v":0}]
[null,1111170375,24802,"Миска Trixie для котів пласка та широка керамічна 23см 600мл","Більше 10","Миски для котів",391.62,509,{"$f":"Trixie!I$1020","v":0},{"$f":"Trixie!J$1020","v":0}]
[null,1111117189,2470,"Миска Trixie для котів пластик 12см 200мл","Більше 10","Миски для котів",36.36,47,{"$f":"Trixie!I$1021","v":0},{"$f":"Trixie!J$1021","v":0}]
[null,1111170414,"25192*****","Миска Trixie для котів Повільне годування сіра пластик 250мл 21х14см","Більше 10","Миски для котів",260.16000000000003,338,{"$f":"Trixie!I$1022","v":0},{"$f":"Trixie!J$1022","v":0}]
[null,1111170413,"25191*****","Миска Trixie для котів Повільне годування сіра пластик 350мл 15х15см","Більше 10","Миски для котів",194.46,253,{"$f":"Trixie!I$1023","v":0},{"$f":"Trixie!J$1023","v":0}]
[null,1111170398,25187,"Миска Trixie для котів подвійна біла меламінова 2х200мл/13см 27х3х14см","Більше 10","Миски для котів",373.44,485,{"$f":"Trixie!I$1024","v":0},{"$f":"Trixie!J$1024","v":0}]
[null,7467,4014,"Миска Trixie для котів подвійна керамічна 2/150мл d-11см","Більше 10","Миски для котів",332.88,433,{"$f":"Trixie!I$1025","v":0},{"$f":"Trixie!J$1025","v":0}]
[null,1111138498,24494,"Миска Trixie для котів у формі котячої мордочки керамічна 250мл/12см","Більше 100","Миски для котів",176.28,229,{"$f":"Trixie!I$1026","v":0},{"$f":"Trixie!J$1026","v":0}]
[null,1111164060,25128,"Миска Trixie для кошенят і цуценят керамічна 0,2 л 14 см Арт25128","Більше 10","Миски для котів",160.86000000000001,209,{"$f":"Trixie!I$1027","v":0},{"$f":"Trixie!J$1027","v":0}]
[null,1111143277,25017,"Миска Trixie для подорожей термопластична гума 0,5л 14см Арт25017","Менше 10","Сумки, переноски та посуд для подорожей з собаками",194.46,253,{"$f":"Trixie!I$1028","v":0},{"$f":"Trixie!J$1028","v":0}]
[null,9590,5497,"Миска Trixie для птахів з гвинтовим кріпленням металева 300мл/9см","Більше 10","Обладнання для птахів",120.3,156,{"$f":"Trixie!I$1029","v":0},{"$f":"Trixie!J$1029","v":0}]
[null,1111121455,"5461*****","Миска Trixie для птахів керамічна 25мл/5см","Менше 10","Обладнання для птахів",50.4,65,{"$f":"Trixie!I$1030","v":0},{"$f":"Trixie!J$1030","v":0}]
[null,7281,5493,"Миска Trixie для птахів підвісна з кріпленням металева 150мл 7см","Більше 100","Обладнання для птахів",89.52,116,{"$f":"Trixie!I$1031","v":0},{"$f":"Trixie!J$1031","v":0}]
[null,8123,5494,"Миска Trixie для птахів підвісна з кріпленням металева 300мл 9см","Більше 10","Обладнання для птахів",120.3,156,{"$f":"Trixie!I$1032","v":0},{"$f":"Trixie!J$1032","v":0}]
[null,7280,5495,"Миска Trixie для птахів підвісна з кріпленням металева 600мл 12см","Більше 10","Обладнання для птахів",181.86,236,{"$f":"Trixie!I$1033","v":0},{"$f":"Trixie!J$1033","v":0}]
[null,1111183738,25055,"Миска Trixie для соб керам з принт 1,4л 20см кремово-коричн Арт25055","Більше 10","Миски та годівниці для собак",423.84,551,{"$f":"Trixie!I$1034","v":0},{"$f":"Trixie!J$1034","v":0}]
[null,1111183737,"25052*****","Миска Trixie для соб кераміч з принт 1,4л 20см кремово-блакит Арт25052","Менше 10","Миски та годівниці для собак",423.84,551,{"$f":"Trixie!I$1035","v":0},{"$f":"Trixie!J$1035","v":0}]
[null,1111170417,"25213*****","Миска Trixie для собак Adventure зелена емаль/метал 1,9 л/21см","Більше 10","Миски та годівниці для собак",358.08,465,{"$f":"Trixie!I$1036","v":0},{"$f":"Trixie!J$1036","v":0}]
[null,1111170416,"25212*****","Миска Trixie для собак Adventure зелена емаль/метал 900мл/17см","Більше 10","Миски та годівниці для собак",260.16000000000003,338,{"$f":"Trixie!I$1037","v":0},{"$f":"Trixie!J$1037","v":0}]
[null,1111170372,"24355*****","Миска Trixie для собак Be Nordic Moin сіра керамічна 1,4л 20см","Менше 10","Миски та годівниці для собак",385.91,544.41999999999996,{"$f":"Trixie!I$1038","v":0},{"$f":"Trixie!J$1038","v":0}]
[null,1111170390,"25063*****","Миска Trixie для собак Be Nordic пісочна меламінова 200мл 14см","Більше 10","Миски та годівниці для собак",247.26,311.54000000000002,{"$f":"Trixie!I$1039","v":0},{"$f":"Trixie!J$1039","v":0}]
[null,1111170367,"24300*****","Миска Trixie для собак Be Nordic синя/бежева керамічна 200мл 16см","Менше 10","Миски та годівниці для собак",339.69,428.01,{"$f":"Trixie!I$1040","v":0},{"$f":"Trixie!J$1040","v":0}]
[null,1111170370,"24301*****","Миска Trixie для собак Be Nordic синя/бежева керамічна 500мл 20см","Менше 10","Миски та годівниці для собак",526.86,663.85,{"$f":"Trixie!I$1041","v":0},{"$f":"Trixie!J$1041","v":0}]
[null,1111170371,"24302*****","Миска Trixie для собак Be Nordic синя/бежева керамічна 800мл 25см","Менше 10","Миски та годівниці для собак",776.43,978.3,{"$f":"Trixie!I$1042","v":0},{"$f":"Trixie!J$1042","v":0}]
[null,1111140995,24778,"Миска Trixie для собак Jimmy чорна з лапкою керамічна 750мл 16см","Більше 10","Миски та годівниці для собак",423.84,551,{"$f":"Trixie!I$1043","v":0},{"$f":"Trixie!J$1043","v":0}]
[null,1111150267,"Арт25050","Миска Trixie для собак Pet_s Home бірюзова керамічна 300мл 12см","Більше 10","Миски та годівниці для собак",160.86000000000001,209,{"$f":"Trixie!I$1044","v":0},{"$f":"Trixie!J$1044","v":0}]
[null,1111150268,25051,"Миска Trixie для собак Pet_s Home бірюзова керамічна 800мл 16см","Менше 10","Миски та годівниці для собак",260.16000000000003,338,{"$f":"Trixie!I$1045","v":0},{"$f":"Trixie!J$1045","v":0}]
[null,1111150269,"арт.25053","Миска Trixie для собак Pet_s Home коричнева керамічна 300мл 12см","Більше 10","Миски та годівниці для собак",160.86000000000001,209,{"$f":"Trixie!I$1046","v":0},{"$f":"Trixie!J$1046","v":0}]
[null,1111150270,25054,"Миска Trixie для собак Pet_s Home коричнева керамічна 800мл 16см","Менше 10","Миски та годівниці для собак",260.16000000000003,338,{"$f":"Trixie!I$1047","v":0},{"$f":"Trixie!J$1047","v":0}]
[null,1111116004,"2463*****","Миска Trixie для собак Swobby пластикова 1,7л 24см","Більше 10","Миски та годівниці для собак",243.36,316,{"$f":"Trixie!I$1048","v":0},{"$f":"Trixie!J$1048","v":0}]
[null,1111170420,25201,"Миска Trixie для собак Брахіцефалів метал на гумовій кромці 700мл/27см","Менше 10","Миски та годівниці для собак",467.16,607,{"$f":"Trixie!I$1049","v":0},{"$f":"Trixie!J$1049","v":0}]
[null,1111134861,25247,"Миска Trixie для собак для порід з довгими вухами 0,9 л 19 см Арт25247","Менше 10","Миски та годівниці для собак",423.84,551,{"$f":"Trixie!I$1050","v":0},{"$f":"Trixie!J$1050","v":0}]
[null,8120,2488,"Миска Trixie для собак довговухих порід на гум/основі метал 900мл/25см","Менше 10","Миски та годівниці для собак",160.86000000000001,209,{"$f":"Trixie!I$1051","v":0},{"$f":"Trixie!J$1051","v":0}]
[null,1111143278,25018,"Миска Trixie для собак дорожня з ободком складна каучук 1 л/18см","Більше 10","Сумки, переноски та посуд для подорожей з собаками",260.16000000000003,338,{"$f":"Trixie!I$1052","v":0},{"$f":"Trixie!J$1052","v":0}]
[null,1111134435,25010,"Миска Trixie для собак дорожня складна силіконова 250мл/11см","Більше 100","Сумки, переноски та посуд для подорожей з собаками",95.16,124,{"$f":"Trixie!I$1053","v":0},{"$f":"Trixie!J$1053","v":0}]
[null,1111126348,25011,"Миска Trixie для собак дорожня складна силіконова 500мл/14см","Більше 10","Сумки, переноски та посуд для подорожей з собаками",128.69999999999999,167,{"$f":"Trixie!I$1054","v":0},{"$f":"Trixie!J$1054","v":0}]
[null,1111127527,"25013*****","Миска Trixie для собак дорожня складна термопластичний каучук 2 л/22см","Більше 10","Сумки, переноски та посуд для подорожей з собаками",292.32,380,{"$f":"Trixie!I$1055","v":0},{"$f":"Trixie!J$1055","v":0}]
[null,1111183733,24360,"Миска Trixie для собак кераміч з резин основою 0,4л 12см сіра Арт24360","Більше 10","Миски та годівниці для собак",226.62,295,{"$f":"Trixie!I$1056","v":0},{"$f":"Trixie!J$1056","v":0}]
[null,1111140992,24775,"Миска Trixie для собак керамічна 0,75 л 15 см Арт24775","Менше 10","Миски та годівниці для собак",260.16000000000003,338,{"$f":"Trixie!I$1057","v":0},{"$f":"Trixie!J$1057","v":0}]
[null,1111170388,"25025*****","Миска Trixie для собак керамічна біла 1,6л 20см","Більше 10","Миски та годівниці для собак",423.84,551,{"$f":"Trixie!I$1058","v":0},{"$f":"Trixie!J$1058","v":0}]
[null,1111170386,25023,"Миска Trixie для собак керамічна біла 400мл 13см","Більше 100","Миски та годівниці для собак",176.28,229,{"$f":"Trixie!I$1059","v":0},{"$f":"Trixie!J$1059","v":0}]
[null,1111170387,25024,"Миска Trixie для собак керамічна біла 900мл 16см","Більше 10","Миски та годівниці для собак",260.16000000000003,338,{"$f":"Trixie!I$1060","v":0},{"$f":"Trixie!J$1060","v":0}]
[null,1111170385,"25022*****","Миска Trixie для собак керамічна чорна 1,6л 20см","Більше 10","Миски та годівниці для собак",423.84,551,{"$f":"Trixie!I$1061","v":0},{"$f":"Trixie!J$1061","v":0}]
[null,1111170383,25020,"Миска Trixie для собак керамічна чорна 400мл 13см","Менше 10","Миски та годівниці для собак",176.28,229,{"$f":"Trixie!I$1062","v":0},{"$f":"Trixie!J$1062","v":0}]
[null,1111170384,25021,"Миска Trixie для собак керамічна чорна 900мл 16см","Більше 10","Миски та годівниці для собак",260.16000000000003,338,{"$f":"Trixie!I$1063","v":0},{"$f":"Trixie!J$1063","v":0}]
[null,8112,24843,"Миска Trixie для собак металева 1,8л d-20см","Більше 100","Миски та годівниці для собак",110.52,144,{"$f":"Trixie!I$1064","v":0},{"$f":"Trixie!J$1064","v":0}]
[null,8231,24844,"Миска Trixie для собак металева 2,8л 24см","Більше 100","Миски та годівниці для собак",144.06,187,{"$f":"Trixie!I$1065","v":0},{"$f":"Trixie!J$1065","v":0}]
[null,8045,24840,"Миска Trixie для собак металева 200мл 10см","Більше 100","Миски та годівниці для собак",40.56,53,{"$f":"Trixie!I$1066","v":0},{"$f":"Trixie!J$1066","v":0}]
[null,8876,24845,"Миска Trixie для собак металева 4,5л 29см","Більше 10","Миски та годівниці для собак",194.46,253,{"$f":"Trixie!I$1067","v":0},{"$f":"Trixie!J$1067","v":0}]
[null,10354,24841,"Миска Trixie для собак металева 450мл 13см","Більше 10","Миски та годівниці для собак",50.4,65,{"$f":"Trixie!I$1068","v":0},{"$f":"Trixie!J$1068","v":0}]
[null,8111,24842,"Миска Trixie для собак металева 750мл 17см","Більше 10","Миски та годівниці для собак",62.94,82,{"$f":"Trixie!I$1069","v":0},{"$f":"Trixie!J$1069","v":0}]
[null,4636,24854,"Миска Trixie для собак на гумовій кромці металева 1,75л/30см","Більше 10","Миски та годівниці для собак",226.62,295,{"$f":"Trixie!I$1070","v":0},{"$f":"Trixie!J$1070","v":0}]
[null,4637,24855,"Миска Trixie для собак на гумовій кромці металева 2,7л/32см","Менше 10","Миски та годівниці для собак",292.32,380,{"$f":"Trixie!I$1071","v":0},{"$f":"Trixie!J$1071","v":0}]
[null,5123,24852,"Миска Trixie для собак на гумовій кромці металева 700мл/21см","Більше 100","Миски та годівниці для собак",128.69999999999999,167,{"$f":"Trixie!I$1072","v":0},{"$f":"Trixie!J$1072","v":0}]
[null,8469,24853,"Миска Trixie для собак на гумовій кромці металева 900мл/23см","Більше 10","Миски та годівниці для собак",160.86000000000001,209,{"$f":"Trixie!I$1073","v":0},{"$f":"Trixie!J$1073","v":0}]
[null,1111170391,"25108*****","Миска Trixie для собак на гумовій основі керамічна 1л/17см","Більше 10","Миски та годівниці для собак",588.84,765,{"$f":"Trixie!I$1074","v":0},{"$f":"Trixie!J$1074","v":0}]
[null,1111136647,25072,"Миска Trixie для собак на гумовій основі металева 17см/1л","Менше 10","Миски та годівниці для собак",160.86000000000001,209,{"$f":"Trixie!I$1075","v":0},{"$f":"Trixie!J$1075","v":0}]
[null,1111136648,25073,"Миска Trixie для собак на гумовій основі металева 21см/1,7л","Менше 10","Миски та годівниці для собак",260.16000000000003,338,{"$f":"Trixie!I$1076","v":0},{"$f":"Trixie!J$1076","v":0}]
[null,1111136649,25074,"Миска Trixie для собак на гумовій основі металева 24см/2,5л","Менше 10","Миски та годівниці для собак",391.62,509,{"$f":"Trixie!I$1077","v":0},{"$f":"Trixie!J$1077","v":0}]
[null,5124,24851,"Миска Trixie для собак на гумовій основі металева 450мл d-19см","Більше 100","Миски та годівниці для собак",110.52,144,{"$f":"Trixie!I$1078","v":0},{"$f":"Trixie!J$1078","v":0}]
[null,1111170380,"24953*****","Миска Trixie для собак на гумовій основі пластикова 1,5л 20см","Більше 10","Миски та годівниці для собак",260.16000000000003,338,{"$f":"Trixie!I$1079","v":0},{"$f":"Trixie!J$1079","v":0}]
[null,1111170377,24950,"Миска Trixie для собак на гумовій основі пластикова 300мл 12см","Більше 10","Миски та годівниці для собак",72.78,95,{"$f":"Trixie!I$1080","v":0},{"$f":"Trixie!J$1080","v":0}]
[null,1111170378,24951,"Миска Trixie для собак на гумовій основі пластикова 500мл 16см","Менше 10","Миски та годівниці для собак",120.3,156,{"$f":"Trixie!I$1081","v":0},{"$f":"Trixie!J$1081","v":0}]
[null,1111170379,"24952*****","Миска Trixie для собак на гумовій основі пластикова 750мл 16см","Більше 10","Миски та годівниці для собак",160.86000000000001,209,{"$f":"Trixie!I$1082","v":0},{"$f":"Trixie!J$1082","v":0}]
[null,1111170395,"25144*****","Миска Trixie для собак на гумовій основі сіра металева 900мл 23см","Більше 10","Миски та годівниці для собак",247.26,311.54000000000002,{"$f":"Trixie!I$1083","v":0},{"$f":"Trixie!J$1083","v":0}]
[null,1111169735,"25033*****","Миска Trixie для собак Повільне годування блакитна гума 1,5л 27см","Більше 10","Миски та годівниці для собак",274.14,356,{"$f":"Trixie!I$1084","v":0},{"$f":"Trixie!J$1084","v":0}]
[null,1111170389,25031,"Миска Trixie для собак Повільне годування блакитна гума 450мл 20см","Менше 10","Миски та годівниці для собак",120.3,156,{"$f":"Trixie!I$1085","v":0},{"$f":"Trixie!J$1085","v":0}]
[null,1111170411,"25029*****","Миска Trixie для собак Повільне годування сіра пластикова 450мл 23см","Більше 10","Миски та годівниці для собак",325.92,424,{"$f":"Trixie!I$1086","v":0},{"$f":"Trixie!J$1086","v":0}]
[null,1111111510,24833,"Миска Trixie для собак подвійна на підставці металева 2х1,8л 21см","Менше 10","Миски та годівниці для собак",391.62,509,{"$f":"Trixie!I$1087","v":0},{"$f":"Trixie!J$1087","v":0}]
[null,1111115107,24834,"Миска Trixie для собак подвійна на підставці металева 2х2,8л 24см","Менше 10","Миски та годівниці для собак",523.14,680,{"$f":"Trixie!I$1088","v":0},{"$f":"Trixie!J$1088","v":0}]
[null,11905,24830,"Миска Trixie для собак подвійна на підставці металева 2х200мл 11см","Більше 100","Миски та годівниці для собак",144.06,187,{"$f":"Trixie!I$1089","v":0},{"$f":"Trixie!J$1089","v":0}]
[null,11904,24831,"Миска Trixie для собак подвійна на підставці металева 2х450мл 13см","Більше 10","Миски та годівниці для собак",194.46,253,{"$f":"Trixie!I$1090","v":0},{"$f":"Trixie!J$1090","v":0}]
[null,12130,24832,"Миска Trixie для собак подвійна на підставці металева 2х750мл 17см","Більше 10","Миски та годівниці для собак",260.16000000000003,338,{"$f":"Trixie!I$1091","v":0},{"$f":"Trixie!J$1091","v":0}]
[null,1111118284,2471,"Миска Trixie для собак полегшена версія пластик 250мл 10см","Менше 10","Миски та годівниці для собак",42,55,{"$f":"Trixie!I$1092","v":0},{"$f":"Trixie!J$1092","v":0}]
[null,1111119260,"2473*****","Миска Trixie для собак полегшена версія пластик 500мл 14см","Більше 10","Миски та годівниці для собак",72.78,95,{"$f":"Trixie!I$1093","v":0},{"$f":"Trixie!J$1093","v":0}]
[null,1111127917,60805,"Миска Trixie для хом_яків полосатий принт керамічна 50мл 8см","Більше 10","Обладнання для гризунів",89.52,116,{"$f":"Trixie!I$1094","v":0},{"$f":"Trixie!J$1094","v":0}]
[null,1111122595,60731,"Миска Trixie для хом_яків принт з гризуном керамічна 80мл 8см","Більше 10","Обладнання для гризунів",103.5,135,{"$f":"Trixie!I$1095","v":0},{"$f":"Trixie!J$1095","v":0}]
[null,1111122598,60741,"Миска Trixie для хом_яків яскрава з обідком керамічна 100мл 10см","Більше 10","Обладнання для гризунів",95.16,124,{"$f":"Trixie!I$1096","v":0},{"$f":"Trixie!J$1096","v":0}]
[null,1111163176,25126,"Миска Trixie для цуценят Junior керамічна 300мл 12см","Більше 10","Миски та годівниці для собак",194.46,253,{"$f":"Trixie!I$1097","v":0},{"$f":"Trixie!J$1097","v":0}]
[null,1111170392,25127,"Миска Trixie для цуценят Junior керамічна 800мл 16см","Більше 10","Миски та годівниці для собак",292.32,380,{"$f":"Trixie!I$1098","v":0},{"$f":"Trixie!J$1098","v":0}]
[null,11478,25282,"Миска Trixie для цуценят кругова металева 4л 38см","Менше 10","Миски та годівниці для собак",423.84,551,{"$f":"Trixie!I$1099","v":0},{"$f":"Trixie!J$1099","v":0}]
[null,1111115227,24761,"Миска Trixie з дозатором універсальна пластикова 600мл","Більше 10","Миски та годівниці для собак",128.69999999999999,167,{"$f":"Trixie!I$1100","v":0},{"$f":"Trixie!J$1100","v":0}]
[null,1111185423,25086,"Миска Trixie керамічна для соб 0,3 л 12см біло-коричнева арт25086","Більше 10","Миски та годівниці для собак",194.46,253,{"$f":"Trixie!I$1101","v":0},{"$f":"Trixie!J$1101","v":0}]
[null,1111185424,25087,"Миска Trixie керамічна для соб 0,7 л 16см біло-коричнева арт25087","Менше 10","Миски та годівниці для собак",260.16000000000003,338,{"$f":"Trixie!I$1102","v":0},{"$f":"Trixie!J$1102","v":0}]
[null,1111170343,34952,"Миска-килимок Trixie д/собак Lick/Snack для повільн/годування 20х20см","Менше 10","Миски та годівниці для собак",292.32,380,{"$f":"Trixie!I$1103","v":0},{"$f":"Trixie!J$1103","v":0}]
[null,1111170408,"25037*****","Миска-килимок Trixie д/собак повільне годування блакитн силікон d-28см","Більше 10","Миски та годівниці для собак",423.84,551,{"$f":"Trixie!I$1104","v":0},{"$f":"Trixie!J$1104","v":0}]
[null,1111170363,34954,"Миска-килимок Trixie д/цуценят Junior повільне годування блакитна 15см","Більше 100","Миски та годівниці для собак",120.3,156,{"$f":"Trixie!I$1105","v":0},{"$f":"Trixie!J$1105","v":0}]
[null,1111170364,34958,"Миска-килимок Trixie д/цуценят Junior повільне годування блакитна 21см","Більше 10","Миски та годівниці для собак",243.36,316,{"$f":"Trixie!I$1106","v":0},{"$f":"Trixie!J$1106","v":0}]
[null,1111170407,"25038*****","Миска-килимок Trixie для котів/собак Pillars повільне годування d-35см","Більше 10","Миски для котів",654.6,851,{"$f":"Trixie!I$1107","v":0},{"$f":"Trixie!J$1107","v":0}]
[null,1111170409,"25036*****","Миска-килимок Trixie для собак повільне годування сіра гума d-24см","Менше 10","Миски та годівниці для собак",423.84,551,{"$f":"Trixie!I$1108","v":0},{"$f":"Trixie!J$1108","v":0}]
[null,1111136681,24791,"Миски Trixie д/котів Eat on Feet кераміка метал/підставка 2x300мл/12см","Більше 10","Миски для котів",588.84,765,{"$f":"Trixie!I$1109","v":0},{"$f":"Trixie!J$1109","v":0}]
[null,1111127915,24790,"Миски Trixie д/котів Eat on Feet кераміка метал/підставка 2x300мл/12см","Більше 10","Миски для котів",523.14,680,{"$f":"Trixie!I$1110","v":0},{"$f":"Trixie!J$1110","v":0}]
[null,1111139948,25230,"Миски Trixie д/котів Eat on Feet подвійні метал/підставка 2x250мл/11см","Більше 10","Миски та годівниці для собак",260.16000000000003,338,{"$f":"Trixie!I$1111","v":0},{"$f":"Trixie!J$1111","v":0}]
[null,1111156356,24535,"Миски Trixie д/собак Eat on Feet з метал/підстав кераміка 2x250мл/13см","Більше 10","Миски та годівниці для собак",523.14,680,{"$f":"Trixie!I$1112","v":0},{"$f":"Trixie!J$1112","v":0}]
[null,1111136775,24640,"Миски Trixie д/собак Eat on Feet на метал/підставці керам 2x250мл/13см","Більше 100","Миски та годівниці для собак",523.14,680,{"$f":"Trixie!I$1113","v":0},{"$f":"Trixie!J$1113","v":0}]
[null,1111124112,24641,"Миски Trixie д/собак Eat on Feet на метал/підставці керам 2x600мл/15см","Більше 10","Миски та годівниці для собак",720.3,936,{"$f":"Trixie!I$1114","v":0},{"$f":"Trixie!J$1114","v":0}]
[null,1111139949,25231,"Миски Trixie д/собак Eat on Feet подвійні метал/підставка 2x450мл/13см","Менше 10","Миски та годівниці для собак",325.92,424,{"$f":"Trixie!I$1115","v":0},{"$f":"Trixie!J$1115","v":0}]
[null,1111139950,25232,"Миски Trixie д/собак Eat on Feet подвійні метал/підставка 2x900мл/16см","Більше 10","Миски та годівниці для собак",489.54,636,{"$f":"Trixie!I$1116","v":0},{"$f":"Trixie!J$1116","v":0}]
[null,1111141857,24820,"Миски Trixie д/собак на дерев/підставці чорні кераміка 2x200мл/10х10см","Більше 10","Миски та годівниці для собак",939.9,1222,{"$f":"Trixie!I$1117","v":0},{"$f":"Trixie!J$1117","v":0}]
[null,1111170397,"25184*****","Миски Trixie д/собак подвійн біла меламін/метал 2х400мл/14см 32х6х17см","Менше 10","Миски та годівниці для собак",413.64,586.57000000000005,{"$f":"Trixie!I$1118","v":0},{"$f":"Trixie!J$1118","v":0}]
[null,1111170403,"25006*****","Миски Trixie д/собак регульо/підставка білі меламін/метал 2х1,6л 21см","Менше 10","Миски та годівниці для собак",2277.3000000000002,3199,{"$f":"Trixie!I$1119","v":0},{"$f":"Trixie!J$1119","v":0}]
[null,1111170404,"25007*****","Миски Trixie д/собак регульо/підставка білі меламін/метал 2х2,4л 25см","Більше 10","Миски та годівниці для собак",2651.66,3728,{"$f":"Trixie!I$1120","v":0},{"$f":"Trixie!J$1120","v":0}]
[null,5165,6000,"Мінеральна сіль Trixie для гризунів Брикет 54г 2шт","Більше 100","Вітаміни та мінерали для гризунів",54.6,71,{"$f":"Trixie!I$1121","v":0},{"$f":"Trixie!J$1121","v":0}]
[null,1111132112,6004,"Мінеральна сіль Trixie для гризунів Брикет гімалайська 60г","Більше 100","Вітаміни та мінерали для гризунів",72.78,95,{"$f":"Trixie!I$1122","v":0},{"$f":"Trixie!J$1122","v":0}]
[null,8057,6001,"Мінеральна сіль Trixie для гризунів Брикет з утримувачем 84г","Більше 100","Вітаміни та мінерали для гризунів",50.4,65,{"$f":"Trixie!I$1123","v":0},{"$f":"Trixie!J$1123","v":0}]
[null,1111133708,62151,"Місток Trixie для гризунів дерев_яний 22х10 см","Більше 10","Обладнання для гризунів",110.52,144,{"$f":"Trixie!I$1124","v":0},{"$f":"Trixie!J$1124","v":0}]
[null,1111121349,62152,"Місток Trixie для гризунів дерев_яний 28х17 см","Більше 10","Обладнання для гризунів",160.86000000000001,209,{"$f":"Trixie!I$1125","v":0},{"$f":"Trixie!J$1125","v":0}]
[null,1111121350,6221,"Місток Trixie для гризунів дерев_яний підвісний 55,5х7 см","Більше 10","Обладнання для гризунів",160.86000000000001,209,{"$f":"Trixie!I$1126","v":0},{"$f":"Trixie!J$1126","v":0}]
[null,1111117663,6274,"Місток Trixie для гризунів дерев_яний підвісний з канатами 29х25х9 см","Менше 10","Обладнання для гризунів",292.32,380,{"$f":"Trixie!I$1127","v":0},{"$f":"Trixie!J$1127","v":0}]
[null,1111199111,24790,"НА 1 МИСКІ СКОЛ Миски Trixie кот Eat on Feet мет/підст 2x300мл/12см","Менше 10","Миски для котів",196.68,0,{"$f":"Trixie!I$1128","v":0},{"$f":"Trixie!J$1128","v":0}]
[null,1111111509,2296,"Набір бантів Trixie для собак з металевою застібкою 4-5,5см 10шт","Менше 10","Одяг для собак",755.28,982,{"$f":"Trixie!I$1129","v":0},{"$f":"Trixie!J$1129","v":0}]
[null,6923,2550,"Набір зубних щіток Trixie д/собак для чищення зубів та масажна 6см 2шт","Більше 100","Догляд та гігієна для собак",61.56,80,{"$f":"Trixie!I$1130","v":0},{"$f":"Trixie!J$1130","v":0}]
[null,1111118323,4109,"Набір іграшок Trixie д/котів М_ячики хутряні леопардові 3,5см 4шт/уп","Більше 100","Іграшки для котів",89.52,116,{"$f":"Trixie!I$1131","v":0},{"$f":"Trixie!J$1131","v":0}]
[null,1111118319,4132,"Набір Іграшок Trixie для котів М_ячики 4 см 3 шт/уп","Більше 10","Іграшки для котів",72.78,95,{"$f":"Trixie!I$1132","v":0},{"$f":"Trixie!J$1132","v":0}]
[null,13001,4523,"Набір іграшок Trixie для котів М_ячики 6 шт/уп","Більше 100","Іграшки для котів",134.28,175,{"$f":"Trixie!I$1133","v":0},{"$f":"Trixie!J$1133","v":0}]
[null,1111116255,4534,"Набір іграшок Trixie для котів М_ячики з виступами резина 3,5см 4шт","Більше 100","Іграшки для котів",89.52,116,{"$f":"Trixie!I$1134","v":0},{"$f":"Trixie!J$1134","v":0}]
[null,1111122308,4521,"Набір іграшок Trixie для котів М_ячики з дзвіночком пластикові 4 шт/уп","Більше 100","Іграшки для котів",72.78,95,{"$f":"Trixie!I$1135","v":0},{"$f":"Trixie!J$1135","v":0}]
[null,1111144194,41100,"Набір іграшок Trixie для котів М_ячики м_які поролонові 4см 4шт","Більше 100","Іграшки для котів",160.86000000000001,209,{"$f":"Trixie!I$1136","v":0},{"$f":"Trixie!J$1136","v":0}]
[null,1111120480,4503,"Набір іграшок Trixie для котів Мишки хутряні з котячою м_ятою 5см 6шт","Більше 100","Іграшки для котів",209.82,273,{"$f":"Trixie!I$1137","v":0},{"$f":"Trixie!J$1137","v":0}]
[null,1111118202,4055,"Набір іграшок Trixie для котів Парад Мишей 5 см 24 шт","Більше 10","Іграшки для котів",1007.04,1309,{"$f":"Trixie!I$1138","v":0},{"$f":"Trixie!J$1138","v":0}]
[null,11274,3503,"Набір іграшок Trixie для собак Longies латекcні 18 см 3 шт","Більше 10","Іграшки для собак",386.04,502,{"$f":"Trixie!I$1139","v":0},{"$f":"Trixie!J$1139","v":0}]
[null,1111124115,35872,"Набір іграшок Trixie для собак Longies плюшеві 35 см 3 шт","Більше 10","Іграшки для собак",528.72,687,{"$f":"Trixie!I$1140","v":0},{"$f":"Trixie!J$1140","v":0}]
[null,1111125073,35267,"Набір іграшок Trixie для собак Веселі Кури латексні 14 см 3 шт","Менше 10","Іграшки для собак",432.18,562,{"$f":"Trixie!I$1141","v":0},{"$f":"Trixie!J$1141","v":0}]
[null,1111119408,3513,"Набір іграшок-міні Trixie для собак латексні 4 шт","Менше 10","Іграшки для собак",442.02,575,{"$f":"Trixie!I$1142","v":0},{"$f":"Trixie!J$1142","v":0}]
[null,1111140933,15556,"Набір нашийн Trixie д/цуц рож/сір/син/олив/корич/бірюз M-L 22-35см 6шт","Менше 10","Амуніція для собак",243.36,316,{"$f":"Trixie!I$1143","v":0},{"$f":"Trixie!J$1143","v":0}]
[null,1111140931,15552,"Набір нашийн Trixie д/цуц рож/сір/син/олив/корич/бірюз S-M 17-25см 6шт","Менше 10","Амуніція для собак",243.36,316,{"$f":"Trixie!I$1144","v":0},{"$f":"Trixie!J$1144","v":0}]
[null,1111140932,15555,"Набір нашийн Trixie д/цуц фіол/чер/син/чорн/папа/зел M-L 22-35см 6шт","Менше 10","Амуніція для собак",243.36,316,{"$f":"Trixie!I$1145","v":0},{"$f":"Trixie!J$1145","v":0}]
[null,1111115341,15551,"Набір нашийн Trixie д/цуц фіол/чер/син/чорн/папа/зел S-M 17-25см 6шт","Більше 10","Амуніція для собак",243.36,316,{"$f":"Trixie!I$1146","v":0},{"$f":"Trixie!J$1146","v":0}]
[null,1111208016,43435,"НАДІРВАНА Дряпка Trixie для котів настінна кутова сизаль/плюш сіра 32x","Менше 10","Дряпки для котів",306.95999999999998,0,{"$f":"Trixie!I$1147","v":0},{"$f":"Trixie!J$1147","v":0}]
[null,1111201307,24777,"НАДІРВАНА РЕЗИНКА Миска Trixie для собак Jimmy чорна з лапкою на гумов","Менше 10","Миски та годівниці для собак",122.76,0,{"$f":"Trixie!I$1148","v":0},{"$f":"Trixie!J$1148","v":0}]
[null,1111207885,61775,"НАДЛОМАНО Будиночок Trixie Mette для хом яків деревинна кора 18х12х12 ","Менше 10","Обладнання для гризунів",116.52,0,{"$f":"Trixie!I$1149","v":0},{"$f":"Trixie!J$1149","v":0}]
[null,1111146831,17613,"Намордник Trixie Muzzle Flex для собак чорний силікон M-L 27см","Менше 10","Амуніція для собак",654.6,851,{"$f":"Trixie!I$1150","v":0},{"$f":"Trixie!J$1150","v":0}]
[null,1111148059,17594,"Намордник Trixie д/соб д/захисту від отрут нейлоновий M-L 27см/22-46см","Менше 10","Амуніція для собак",230.82,300,{"$f":"Trixie!I$1151","v":0},{"$f":"Trixie!J$1151","v":0}]
[null,1111148056,17591,"Намордник Trixie д/соб д/захисту від отрут нейлоновий XS 14см/18-26см","Менше 10","Амуніція для собак",204.24,265,{"$f":"Trixie!I$1152","v":0},{"$f":"Trixie!J$1152","v":0}]
[null,1111146832,17614,"Намордник Trixie для собак гумовий L чорний Арт17614","Більше 10","Амуніція для собак",818.22,1064,{"$f":"Trixie!I$1153","v":0},{"$f":"Trixie!J$1153","v":0}]
[null,1111146833,17615,"Намордник Trixie для собак гумовий L-XL чорний Арт17615","Більше 10","Амуніція для собак",883.98,1149,{"$f":"Trixie!I$1154","v":0},{"$f":"Trixie!J$1154","v":0}]
[null,1111146830,17612,"Намордник Trixie для собак гумовий M чорний Арт17612","Більше 10","Амуніція для собак",555.29999999999995,722,{"$f":"Trixie!I$1155","v":0},{"$f":"Trixie!J$1155","v":0}]
[null,1111146829,17611,"Намордник Trixie для собак гумовий S чорний Арт17611","Більше 10","Амуніція для собак",489.54,636,{"$f":"Trixie!I$1156","v":0},{"$f":"Trixie!J$1156","v":0}]
[null,1111148060,17595,"Намордник Trixie для собак для захисту від ядів L чорний Арт17595","Менше 10","Амуніція для собак",255.96,333,{"$f":"Trixie!I$1157","v":0},{"$f":"Trixie!J$1157","v":0}]
[null,1111148061,17596,"Намордник Trixie для собак для захисту від ядів XL чорний Арт17596","Більше 10","Амуніція для собак",255.96,333,{"$f":"Trixie!I$1158","v":0},{"$f":"Trixie!J$1158","v":0}]
[null,1111115539,19264,"Намордник Trixie для собак закритий поліестер М-L 23-31см/5,9см","Більше 10","Амуніція для собак",127.32,165,{"$f":"Trixie!I$1159","v":0},{"$f":"Trixie!J$1159","v":0}]
[null,1111150254,17626,"Намордник Trixie для собак короткомордих пород S–M сірий Арт17626","Більше 10","Амуніція для собак",181.86,236,{"$f":"Trixie!I$1160","v":0},{"$f":"Trixie!J$1160","v":0}]
[null,1111114267,1924,"Намордник Trixie для собак поліестер L 30см/16-44см арт1924","Менше 10","Амуніція для собак",127.32,165,{"$f":"Trixie!I$1161","v":0},{"$f":"Trixie!J$1161","v":0}]
[null,1111111407,1921,"Намордник Trixie для собак поліестер XS 16см/14-28см","Більше 10","Амуніція для собак",88.14,115,{"$f":"Trixie!I$1162","v":0},{"$f":"Trixie!J$1162","v":0}]
[null,1111114703,19283,"Намордник-петля Trixie д/собак неопрен/підкладка нейлон XL-XXL 28-38см","Більше 10","Амуніція для собак",243.36,316,{"$f":"Trixie!I$1163","v":0},{"$f":"Trixie!J$1163","v":0}]
[null,1111114702,19281,"Намордник-петля Trixie для собак неопрен/підкладка нейлон M-L 22-30см","Більше 10","Амуніція для собак",212.64,276,{"$f":"Trixie!I$1164","v":0},{"$f":"Trixie!J$1164","v":0}]
[null,10966,4026,"Наповнювач Trixie Simple and Clean для котів сілікагелевий гранули 5л","Більше 100","Наповнювачі для котячих туалетів",392.88,511,{"$f":"Trixie!I$1165","v":0},{"$f":"Trixie!J$1165","v":0}]
[null,10221,4020,"Наповнювач Trixie Simple and Clean для котів сілікагелевий гранули 8л","Більше 100","Наповнювачі для котячих туалетів",609.24,792,{"$f":"Trixie!I$1166","v":0},{"$f":"Trixie!J$1166","v":0}]
[null,1111126014,76147,"Наповнювач Trixie для тераріума букова стружка 10 л","Менше 10","Наповнювачі та субстрати для тераріума",524.52,682,{"$f":"Trixie!I$1167","v":0},{"$f":"Trixie!J$1167","v":0}]
[null,1111185215,1748205,"Нашийник Trixie BE NORDIC для соб широкий M–L 40–60см чорн арт1748205","Менше 10","Амуніція для собак",520.32000000000005,676,{"$f":"Trixie!I$1168","v":0},{"$f":"Trixie!J$1168","v":0}]
[null,1111185191,144128,"Нашийник Trixie Cavo для соб напівуд L–XL 52–60см аква-граф арт144128","Менше 10","Амуніція для собак",232.2,302,{"$f":"Trixie!I$1169","v":0},{"$f":"Trixie!J$1169","v":0}]
[null,1111185193,144135,"Нашийник Trixie Cavo для соб напівуд L–XL 52–60см рож-пісочн арт144135","Менше 10","Амуніція для собак",232.2,302,{"$f":"Trixie!I$1170","v":0},{"$f":"Trixie!J$1170","v":0}]
[null,1111185186,143930,"Нашийник Trixie Cavo для соб напівуд M–L 43–51см риж-графіт арт143930","Менше 10","Амуніція для собак",202.8,264,{"$f":"Trixie!I$1171","v":0},{"$f":"Trixie!J$1171","v":0}]
[null,1111185197,144328,"Нашийник Trixie Cavo для соб напівуд S 30–36см аква-граф арт144328","Менше 10","Амуніція для собак",128.69999999999999,167,{"$f":"Trixie!I$1172","v":0},{"$f":"Trixie!J$1172","v":0}]
[null,1111185198,144330,"Нашийник Trixie Cavo для соб напівуд S 30–36см рижо-графіт арт144330","Немає в наявності","Амуніція для собак",128.69999999999999,167,{"$f":"Trixie!I$1173","v":0},{"$f":"Trixie!J$1173","v":0}]
[null,1111185199,144335,"Нашийник Trixie Cavo для соб напівуд S 30–36см рож-пісочн арт144335","Менше 10","Амуніція для собак",128.69999999999999,167,{"$f":"Trixie!I$1174","v":0},{"$f":"Trixie!J$1174","v":0}]
[null,1111185200,144428,"Нашийник Trixie Cavo для соб напівуд XS–S 25–31см акв-граф арт144428","Менше 10","Амуніція для собак",114.72,149,{"$f":"Trixie!I$1175","v":0},{"$f":"Trixie!J$1175","v":0}]
[null,1111185201,144430,"Нашийник Trixie Cavo для соб напівуд XS–S 25–31см риж-графіт арт144430","Менше 10","Амуніція для собак",114.72,149,{"$f":"Trixie!I$1176","v":0},{"$f":"Trixie!J$1176","v":0}]
[null,1111185202,144435,"Нашийник Trixie Cavo для соб напівуд XS–S 25–31см рож-пісочн арт144435","Менше 10","Амуніція для собак",114.72,149,{"$f":"Trixie!I$1177","v":0},{"$f":"Trixie!J$1177","v":0}]
[null,1111185188,144028,"Нашийник Trixie Cavo для соб напівудав L 47–55см аква-графіт арт144028","Менше 10","Амуніція для собак",232.2,302,{"$f":"Trixie!I$1178","v":0},{"$f":"Trixie!J$1178","v":0}]
[null,1111185192,144130,"Нашийник Trixie Cavo для соб напівудав L–XL 52–60см риж-граф арт144130","Менше 10","Амуніція для собак",232.2,302,{"$f":"Trixie!I$1179","v":0},{"$f":"Trixie!J$1179","v":0}]
[null,1111185182,143828,"Нашийник Trixie Cavo для соб напівудав M 39–45см аква-граф арт143828","Менше 10","Амуніція для собак",144.06,187,{"$f":"Trixie!I$1180","v":0},{"$f":"Trixie!J$1180","v":0}]
[null,1111185183,143830,"Нашийник Trixie Cavo для соб напівудав M 39–45см риж-графіт арт143830","Менше 10","Амуніція для собак",144.06,187,{"$f":"Trixie!I$1181","v":0},{"$f":"Trixie!J$1181","v":0}]
[null,1111185184,143835,"Нашийник Trixie Cavo для соб напівудав M 39–45см рож-пісочн арт143835","Менше 10","Амуніція для собак",144.06,187,{"$f":"Trixie!I$1182","v":0},{"$f":"Trixie!J$1182","v":0}]
[null,1111185185,143928,"Нашийник Trixie Cavo для соб напівудав M–L 43–51см аква-граф арт143928","Менше 10","Амуніція для собак",202.8,264,{"$f":"Trixie!I$1183","v":0},{"$f":"Trixie!J$1183","v":0}]
[null,1111185179,143728,"Нашийник Trixie Cavo для соб напівудав S–M 35–41см акв-граф арт143728","Менше 10","Амуніція для собак",128.69999999999999,167,{"$f":"Trixie!I$1184","v":0},{"$f":"Trixie!J$1184","v":0}]
[null,1111185180,143730,"Нашийник Trixie Cavo для соб напівудав S–M 35–41см риж-граф арт143730","Менше 10","Амуніція для собак",128.69999999999999,167,{"$f":"Trixie!I$1185","v":0},{"$f":"Trixie!J$1185","v":0}]
[null,1111185244,1970801,"Нашийник Trixie CityStyle для соб L 45–52см 30 мм чорний арт1970801","Менше 10","Амуніція для собак",766.5,996,{"$f":"Trixie!I$1186","v":0},{"$f":"Trixie!J$1186","v":0}]
[null,1111185245,1970816,"Нашийник Trixie CityStyle для соб L 45–52см світло-зелений арт1970816","Більше 10","Амуніція для собак",766.5,996,{"$f":"Trixie!I$1187","v":0},{"$f":"Trixie!J$1187","v":0}]
[null,1111185246,1970819,"Нашийник Trixie CityStyle для соб L 45–52см світло-сірий арт1970819","Менше 10","Амуніція для собак",766.5,996,{"$f":"Trixie!I$1188","v":0},{"$f":"Trixie!J$1188","v":0}]
[null,1111185248,1970916,"Нашийник Trixie CityStyle для соб L–XL 50–57см світло-зелен арт1970916","Більше 10","Амуніція для собак",766.5,996,{"$f":"Trixie!I$1189","v":0},{"$f":"Trixie!J$1189","v":0}]
[null,1111185249,1970919,"Нашийник Trixie CityStyle для соб L–XL 50–57см світло-сірий арт1970919","Менше 10","Амуніція для собак",766.5,996,{"$f":"Trixie!I$1190","v":0},{"$f":"Trixie!J$1190","v":0}]
[null,1111185247,1970901,"Нашийник Trixie CityStyle для соб L–XL 50–57см чорний арт1970901","Менше 10","Амуніція для собак",766.5,996,{"$f":"Trixie!I$1191","v":0},{"$f":"Trixie!J$1191","v":0}]
[null,1111185238,1970601,"Нашийник Trixie CityStyle для соб M 35–42см 25 мм чорний арт1970601","Більше 10","Амуніція для собак",612.66,796,{"$f":"Trixie!I$1192","v":0},{"$f":"Trixie!J$1192","v":0}]
[null,1111185239,1970616,"Нашийник Trixie CityStyle для соб M 35–42см світло-зелен арт1970616","Більше 10","Амуніція для собак",612.66,796,{"$f":"Trixie!I$1193","v":0},{"$f":"Trixie!J$1193","v":0}]
[null,1111185240,1970619,"Нашийник Trixie CityStyle для соб M 35–42см світло-сір арт1970619","Менше 10","Амуніція для собак",612.66,796,{"$f":"Trixie!I$1194","v":0},{"$f":"Trixie!J$1194","v":0}]
[null,1111185241,1970701,"Нашийник Trixie CityStyle для соб M–L 40–47см 30 мм чорний арт1970701","Менше 10","Амуніція для собак",674.16,876,{"$f":"Trixie!I$1195","v":0},{"$f":"Trixie!J$1195","v":0}]
[null,1111185242,1970716,"Нашийник Trixie CityStyle для соб M–L 40–47см світло-зелен арт1970716","Більше 10","Амуніція для собак",674.16,876,{"$f":"Trixie!I$1196","v":0},{"$f":"Trixie!J$1196","v":0}]
[null,1111185243,1970719,"Нашийник Trixie CityStyle для соб M–L 40–47см світло-сірий арт1970719","Менше 10","Амуніція для собак",674.16,876,{"$f":"Trixie!I$1197","v":0},{"$f":"Trixie!J$1197","v":0}]
[null,1111185236,1970516,"Нашийник Trixie CityStyle для соб S–M 30–37см світло-зелен арт1970516","Більше 10","Амуніція для собак",581.88,756,{"$f":"Trixie!I$1198","v":0},{"$f":"Trixie!J$1198","v":0}]
[null,1111185237,1970519,"Нашийник Trixie CityStyle для соб S–M 30–37см світло-сірий арт1970519","Більше 10","Амуніція для собак",581.88,756,{"$f":"Trixie!I$1199","v":0},{"$f":"Trixie!J$1199","v":0}]
[null,1111185235,1970501,"Нашийник Trixie CityStyle для соб S–M 30–37см чорний арт1970501","Більше 10","Амуніція для собак",581.88,756,{"$f":"Trixie!I$1200","v":0},{"$f":"Trixie!J$1200","v":0}]
[null,1111185233,1970416,"Нашийник Trixie CityStyle для соб XS–S 25–32см світл-зелен арт1970416","Більше 10","Амуніція для собак",551.1,716,{"$f":"Trixie!I$1201","v":0},{"$f":"Trixie!J$1201","v":0}]
[null,1111185252,1971919,"Нашийник Trixie CityStyle для соб XS–S 25–32см світло-зелен арт1971919","Менше 10","Амуніція для собак",274.14,356,{"$f":"Trixie!I$1202","v":0},{"$f":"Trixie!J$1202","v":0}]
[null,1111185251,1971916,"Нашийник Trixie CityStyle для соб XS–S 25–32см світло-сір арт1971916","Менше 10","Амуніція для собак",274.14,356,{"$f":"Trixie!I$1203","v":0},{"$f":"Trixie!J$1203","v":0}]
[null,1111185234,1970419,"Нашийник Trixie CityStyle для соб XS–S 25–32см світло-сірий арт1970419","Більше 10","Амуніція для собак",551.1,716,{"$f":"Trixie!I$1204","v":0},{"$f":"Trixie!J$1204","v":0}]
[null,1111185232,1970401,"Нашийник Trixie CityStyle для соб XS–S 25–32см чорний арт1970401","Більше 10","Амуніція для собак",551.1,716,{"$f":"Trixie!I$1205","v":0},{"$f":"Trixie!J$1205","v":0}]
[null,1111185250,1971901,"Нашийник Trixie CityStyle для соб ПВХ XS–S 25–32см чорний арт1971901","Менше 10","Амуніція для собак",274.14,356,{"$f":"Trixie!I$1206","v":0},{"$f":"Trixie!J$1206","v":0}]
[null,1111142207,12671,"Нашийник Trixie Flash Light Ring USB д/собак синій широк M-L 50cм/18мм","Менше 10","Амуніція для собак",562.26,731,{"$f":"Trixie!I$1207","v":0},{"$f":"Trixie!J$1207","v":0}]
[null,1111139995,12702,"Нашийник Trixie Flash Light Ring USB для собак зелений L–XL 65см/7мм","Менше 10","Амуніція для собак",486.78,633,{"$f":"Trixie!I$1208","v":0},{"$f":"Trixie!J$1208","v":0}]
[null,1111142214,12685,"Нашийник Trixie Flash Light Ring USB для собак зелений L-XL 70cм/18мм","Менше 10","Амуніція для собак",562.26,731,{"$f":"Trixie!I$1209","v":0},{"$f":"Trixie!J$1209","v":0}]
[null,1111139994,12701,"Нашийник Trixie Flash Light Ring USB для собак зелений M-L 45см/7мм","Більше 10","Амуніція для собак",448.98,584,{"$f":"Trixie!I$1210","v":0},{"$f":"Trixie!J$1210","v":0}]
[null,1111139945,12700,"Нашийник Trixie Flash Light Ring USB для собак зелений XS-S 35см/7мм","Більше 10","Амуніція для собак",411.24,535,{"$f":"Trixie!I$1211","v":0},{"$f":"Trixie!J$1211","v":0}]
[null,1111141001,12705,"Нашийник Trixie Flash Light Ring USB для собак оранжевий L–XL 65см/7мм","Більше 10","Амуніція для собак",486.78,633,{"$f":"Trixie!I$1212","v":0},{"$f":"Trixie!J$1212","v":0}]
[null,1111141000,12704,"Нашийник Trixie Flash Light Ring USB для собак оранжевий M-L 45см/7мм","Менше 10","Амуніція для собак",448.98,584,{"$f":"Trixie!I$1213","v":0},{"$f":"Trixie!J$1213","v":0}]
[null,1111140999,12703,"Нашийник Trixie Flash Light Ring USB для собак оранжевий XS-S 35см/7мм","Більше 10","Амуніція для собак",411.24,535,{"$f":"Trixie!I$1214","v":0},{"$f":"Trixie!J$1214","v":0}]
[null,1111141003,12707,"Нашийник Trixie Flash Light Ring USB для собак рожевий  M-L 45см/7мм","Більше 100","Амуніція для собак",448.98,584,{"$f":"Trixie!I$1215","v":0},{"$f":"Trixie!J$1215","v":0}]
[null,1111141004,12708,"Нашийник Trixie Flash Light Ring USB для собак рожевий L-XL 65cм/7мм","Менше 10","Амуніція для собак",486.78,633,{"$f":"Trixie!I$1216","v":0},{"$f":"Trixie!J$1216","v":0}]
[null,1111141002,12706,"Нашийник Trixie Flash Light Ring USB для собак рожевий XS-S 35см/7мм","Більше 10","Амуніція для собак",411.24,535,{"$f":"Trixie!I$1217","v":0},{"$f":"Trixie!J$1217","v":0}]
[null,1111185268,1995828,"Нашийник Trixie Premium для соб L 46–55см аква-графіт арт1995828","Менше 10","Амуніція для собак",674.16,876,{"$f":"Trixie!I$1218","v":0},{"$f":"Trixie!J$1218","v":0}]
[null,1111185271,1995836,"Нашийник Trixie Premium для соб L 46–55см пісочно-сірий арт1995836","Менше 10","Амуніція для собак",674.16,876,{"$f":"Trixie!I$1219","v":0},{"$f":"Trixie!J$1219","v":0}]
[null,1111185269,1995830,"Нашийник Trixie Premium для соб L 46–55см рижо-графітовий арт1995830","Менше 10","Амуніція для собак",674.16,876,{"$f":"Trixie!I$1220","v":0},{"$f":"Trixie!J$1220","v":0}]
[null,1111185364,201729,"Нашийник Trixie Premium для соб L–XL 40–65см 25 мм оранжевий арт201729","Менше 10","Амуніція для собак",212.64,276,{"$f":"Trixie!I$1221","v":0},{"$f":"Trixie!J$1221","v":0}]
[null,1111185367,201736,"Нашийник Trixie Premium для соб L–XL 40–65см 25 мм пісочний арт201736","Менше 10","Амуніція для собак",212.64,276,{"$f":"Trixie!I$1222","v":0},{"$f":"Trixie!J$1222","v":0}]
[null,1111185366,201735,"Нашийник Trixie Premium для соб L–XL 40–65см світло-рожевий арт201735","Менше 10","Амуніція для собак",212.64,276,{"$f":"Trixie!I$1223","v":0},{"$f":"Trixie!J$1223","v":0}]
[null,1111185272,1995928,"Нашийник Trixie Premium для соб L–XL 53–62см аква-графіт арт1995928","Менше 10","Амуніція для собак",766.5,996,{"$f":"Trixie!I$1224","v":0},{"$f":"Trixie!J$1224","v":0}]
[null,1111185274,1995934,"Нашийник Trixie Premium для соб L–XL 53–62см блакитно-сірий арт1995934","Менше 10","Амуніція для собак",766.5,996,{"$f":"Trixie!I$1225","v":0},{"$f":"Trixie!J$1225","v":0}]
[null,1111185275,1995936,"Нашийник Trixie Premium для соб L–XL 53–62см пісочно-сірий арт1995936","Менше 10","Амуніція для собак",766.5,996,{"$f":"Trixie!I$1226","v":0},{"$f":"Trixie!J$1226","v":0}]
[null,1111185273,1995930,"Нашийник Trixie Premium для соб L–XL 53–62см рижо-графітов арт1995930","Менше 10","Амуніція для собак",766.5,996,{"$f":"Trixie!I$1227","v":0},{"$f":"Trixie!J$1227","v":0}]
[null,1111185362,201636,"Нашийник Trixie Premium для соб M–L 35–55см 20 мм пісочний арт201636","Менше 10","Амуніція для собак",151.08000000000001,196,{"$f":"Trixie!I$1228","v":0},{"$f":"Trixie!J$1228","v":0}]
[null,1111185361,201635,"Нашийник Trixie Premium для соб M–L 35–55см світло-рожевий арт201635","Менше 10","Амуніція для собак",151.08000000000001,196,{"$f":"Trixie!I$1229","v":0},{"$f":"Trixie!J$1229","v":0}]
[null,1111185360,201632,"Нашийник Trixie Premium для соб M–L 35–55см синьо-зелений арт201632","Менше 10","Амуніція для собак",151.08000000000001,196,{"$f":"Trixie!I$1230","v":0},{"$f":"Trixie!J$1230","v":0}]
[null,1111185264,1995728,"Нашийник Trixie Premium для соб M–L 40–48см аква-графіт арт1995728","Менше 10","Амуніція для собак",612.66,796,{"$f":"Trixie!I$1231","v":0},{"$f":"Trixie!J$1231","v":0}]
[null,1111185266,1995734,"Нашийник Trixie Premium для соб M–L 40–48см блакитно-сірий арт1995734","Менше 10","Амуніція для собак",612.66,796,{"$f":"Trixie!I$1232","v":0},{"$f":"Trixie!J$1232","v":0}]
[null,1111185267,1995736,"Нашийник Trixie Premium для соб M–L 40–48см пісочно-сірий арт1995736","Менше 10","Амуніція для собак",612.66,796,{"$f":"Trixie!I$1233","v":0},{"$f":"Trixie!J$1233","v":0}]
[null,1111185265,1995730,"Нашийник Trixie Premium для соб M–L 40–48см рижо-графітовий арт1995730","Менше 10","Амуніція для собак",612.66,796,{"$f":"Trixie!I$1234","v":0},{"$f":"Trixie!J$1234","v":0}]
[null,1111185374,202232,"Нашийник Trixie Premium для соб S 25–40см синьо-зелений арт202232","Менше 10","Амуніція для собак",120.3,156,{"$f":"Trixie!I$1235","v":0},{"$f":"Trixie!J$1235","v":0}]
[null,1111185357,201536,"Нашийник Trixie Premium для соб S–M 30–45см 15 мм пісочний арт201536","Менше 10","Амуніція для собак",134.28,175,{"$f":"Trixie!I$1236","v":0},{"$f":"Trixie!J$1236","v":0}]
[null,1111185355,201532,"Нашийник Trixie Premium для соб S–M 30–45см синьо-зелений арт201532","Менше 10","Амуніція для собак",134.28,175,{"$f":"Trixie!I$1237","v":0},{"$f":"Trixie!J$1237","v":0}]
[null,1111185260,1995628,"Нашийник Trixie Premium для соб S–M 33–42см аква-графіт арт1995628","Менше 10","Амуніція для собак",551.1,716,{"$f":"Trixie!I$1238","v":0},{"$f":"Trixie!J$1238","v":0}]
[null,1111185262,1995634,"Нашийник Trixie Premium для соб S–M 33–42см блакитно-сірий арт1995634","Менше 10","Амуніція для собак",551.1,716,{"$f":"Trixie!I$1239","v":0},{"$f":"Trixie!J$1239","v":0}]
[null,1111185263,1995636,"Нашийник Trixie Premium для соб S–M 33–42см пісочно-сірий арт1995636","Менше 10","Амуніція для собак",551.1,716,{"$f":"Trixie!I$1240","v":0},{"$f":"Trixie!J$1240","v":0}]
[null,1111185261,1995630,"Нашийник Trixie Premium для соб S–M 33–42см рижо-графітовий арт1995630","Менше 10","Амуніція для собак",551.1,716,{"$f":"Trixie!I$1241","v":0},{"$f":"Trixie!J$1241","v":0}]
[null,1111185256,1995528,"Нашийник Trixie Premium для соб XS–S 27–35см аква-графіт арт1995528","Менше 10","Амуніція для собак",489.54,636,{"$f":"Trixie!I$1242","v":0},{"$f":"Trixie!J$1242","v":0}]
[null,1111185258,1995534,"Нашийник Trixie Premium для соб XS–S 27–35см блакитно-сірий арт1995534","Менше 10","Амуніція для собак",489.54,636,{"$f":"Trixie!I$1243","v":0},{"$f":"Trixie!J$1243","v":0}]
[null,1111185259,1995536,"Нашийник Trixie Premium для соб XS–S 27–35см пісочно-сірий арт1995536","Менше 10","Амуніція для собак",489.54,636,{"$f":"Trixie!I$1244","v":0},{"$f":"Trixie!J$1244","v":0}]
[null,1111185257,1995530,"Нашийник Trixie Premium для соб XS–S 27–35см рижо-графіт арт1995530","Менше 10","Амуніція для собак",489.54,636,{"$f":"Trixie!I$1245","v":0},{"$f":"Trixie!J$1245","v":0}]
[null,1111185371,202135,"Нашийник Trixie Premium для соб XXS–XS 15–25см світло-рожев арт202135","Менше 10","Амуніція для собак",103.5,135,{"$f":"Trixie!I$1246","v":0},{"$f":"Trixie!J$1246","v":0}]
[null,1111185370,202132,"Нашийник Trixie Premium для соб XXS–XS 15–25см синьо-зелений арт202132","Менше 10","Амуніція для собак",103.5,135,{"$f":"Trixie!I$1247","v":0},{"$f":"Trixie!J$1247","v":0}]
[null,1111185372,202228,"Нашийник Trixie Premium для собак S 25–40 см 15 мм аква арт202228","Менше 10","Амуніція для собак",120.3,156,{"$f":"Trixie!I$1248","v":0},{"$f":"Trixie!J$1248","v":0}]
[null,1111185353,201528,"Нашийник Trixie Premium для собак S–M 30–45 см 15 мм аква арт201528","Менше 10","Амуніція для собак",134.28,175,{"$f":"Trixie!I$1249","v":0},{"$f":"Trixie!J$1249","v":0}]
[null,1111185348,201428,"Нашийник Trixie Premium для собак XS–S 22–35 см 10 мм аква арт201428","Менше 10","Амуніція для собак",103.5,135,{"$f":"Trixie!I$1250","v":0},{"$f":"Trixie!J$1250","v":0}]
[null,1111132100,"12224  Тrixie","Нашийник Trixie Silver Reflect з лапами світловідбив L-XL 40-65см/25мм","Менше 10","Амуніція для собак",243.36,316,{"$f":"Trixie!I$1251","v":0},{"$f":"Trixie!J$1251","v":0}]
[null,1111132099,"12223  Тrixie","Нашийник Trixie Silver Reflect з лапами світловідбив M-L 35-55см/20мм","Менше 10","Амуніція для собак",195.84,255,{"$f":"Trixie!I$1252","v":0},{"$f":"Trixie!J$1252","v":0}]
[null,1111132097,12221,"Нашийник Trixie Silver Reflect з лапами світловідбив XS-S 22-35см/15мм","Менше 10","Амуніція для собак",151.08000000000001,196,{"$f":"Trixie!I$1253","v":0},{"$f":"Trixie!J$1253","v":0}]
[null,1111150519,202901,"Нашийник Trixie д/собак Premium метал/ланцюж чорний L-XL 45-70см/25мм","Менше 10","Амуніція для собак",304.92,396,{"$f":"Trixie!I$1254","v":0},{"$f":"Trixie!J$1254","v":0}]
[null,1111163568,"1988423*****","Нашийник Trixie д/собак Premium неопрен/підклад камуф M-L 42-48см/20мм","Менше 10","Амуніція для собак",337.38,417,{"$f":"Trixie!I$1255","v":0},{"$f":"Trixie!J$1255","v":0}]
[null,1111122419,4207,"Нашийник Trixie для котів Glitter з дзвіночком поліестеровий","Більше 10","Амуніція для котів",120.3,156,{"$f":"Trixie!I$1256","v":0},{"$f":"Trixie!J$1256","v":0}]
[null,1111121035,4202,"Нашийник Trixie для котів еластичний з візерунком Арт4202","Менше 10","Амуніція для котів",113.34,147,{"$f":"Trixie!I$1257","v":0},{"$f":"Trixie!J$1257","v":0}]
[null,1111115139,4179,"Нашийник Trixie для кошенят Kitty з дзвіночком нейлоновий","Більше 10","Амуніція для котів",75.540000000000006,98,{"$f":"Trixie!I$1258","v":0},{"$f":"Trixie!J$1258","v":0}]
[null,1111150934,202116,"Нашийник Trixie для собак Premium нейлон графіт XXS-XS 15-25см/10мм","Менше 10","Амуніція для собак",103.5,135,{"$f":"Trixie!I$1259","v":0},{"$f":"Trixie!J$1259","v":0}]
[null,1111150688,201716,"Нашийник Trixie для собак Premium нейлон графітовий L-XL 40-65см/25мм","Менше 10","Амуніція для собак",212.64,276,{"$f":"Trixie!I$1260","v":0},{"$f":"Trixie!J$1260","v":0}]
[null,1111150678,201616,"Нашийник Trixie для собак Premium нейлон графітовий M-L 35-55см/20мм","Більше 10","Амуніція для собак",151.08000000000001,196,{"$f":"Trixie!I$1261","v":0},{"$f":"Trixie!J$1261","v":0}]
[null,1111150669,201516,"Нашийник Trixie для собак Premium нейлон графітовий S-M 30-45см/15мм","Більше 10","Амуніція для собак",134.28,175,{"$f":"Trixie!I$1262","v":0},{"$f":"Trixie!J$1262","v":0}]
[null,1111150659,201416,"Нашийник Trixie для собак Premium нейлон графітовий XS-S 22-35см/10мм","Менше 10","Амуніція для собак",103.5,135,{"$f":"Trixie!I$1263","v":0},{"$f":"Trixie!J$1263","v":0}]
[null,1111150703,"202113*****","Нашийник Trixie для собак Premium нейлон індіго XXS-XS 15-25см/10мм","Менше 10","Амуніція для собак",70.48,87,{"$f":"Trixie!I$1264","v":0},{"$f":"Trixie!J$1264","v":0}]
[null,1111150704,"202114*****","Нашийник Trixie для собак Premium нейлон карамель XXS-XS 15-25см/10мм","Менше 10","Амуніція для собак",70.48,87,{"$f":"Trixie!I$1265","v":0},{"$f":"Trixie!J$1265","v":0}]
[null,1111150478,201402,"Нашийник Trixie для собак Premium нейлон синій XS-S 22-35см/10мм","Менше 10","Амуніція для собак",103.5,135,{"$f":"Trixie!I$1266","v":0},{"$f":"Trixie!J$1266","v":0}]
[null,1111150684,201711,"Нашийник Trixie для собак Premium нейлон фуксія L-XL 40-65см/25мм","Менше 10","Амуніція для собак",212.64,276,{"$f":"Trixie!I$1267","v":0},{"$f":"Trixie!J$1267","v":0}]
[null,1111150673,201611,"Нашийник Trixie для собак Premium нейлон фуксія M-L 35-55см/20мм","Менше 10","Амуніція для собак",151.08000000000001,196,{"$f":"Trixie!I$1268","v":0},{"$f":"Trixie!J$1268","v":0}]
[null,1111150664,201511,"Нашийник Trixie для собак Premium нейлон фуксія S-M 30-45см/15мм","Менше 10","Амуніція для собак",134.28,175,{"$f":"Trixie!I$1269","v":0},{"$f":"Trixie!J$1269","v":0}]
[null,1111150654,201411,"Нашийник Trixie для собак Premium нейлон фуксія XS-S 22-35см/10мм","Менше 10","Амуніція для собак",103.5,135,{"$f":"Trixie!I$1270","v":0},{"$f":"Trixie!J$1270","v":0}]
[null,1111151049,201703,"Нашийник Trixie для собак Premium нейлон червоний L-XL 40-65см/25мм","Менше 10","Амуніція для собак",212.64,276,{"$f":"Trixie!I$1271","v":0},{"$f":"Trixie!J$1271","v":0}]
[null,1111151046,201603,"Нашийник Trixie для собак Premium нейлон червоний M-L 35-55см/20мм","Більше 10","Амуніція для собак",151.08000000000001,196,{"$f":"Trixie!I$1272","v":0},{"$f":"Trixie!J$1272","v":0}]
[null,1111151045,201601,"Нашийник Trixie для собак Premium нейлон чорний M-L 35-55см/20мм","Менше 10","Амуніція для собак",151.08000000000001,196,{"$f":"Trixie!I$1273","v":0},{"$f":"Trixie!J$1273","v":0}]
[null,1111150517,202101,"Нашийник Trixie для собак Premium нейлон чорний XXS-XS 15-25см/10мм","Менше 10","Амуніція для собак",103.5,135,{"$f":"Trixie!I$1274","v":0},{"$f":"Trixie!J$1274","v":0}]
[null,1111150547,144101,"Нашийник-зашморг Trixie для собак Cavo чорний нейлон L-XL 52-60см/18мм","Менше 10","Амуніція для собак",232.2,302,{"$f":"Trixie!I$1275","v":0},{"$f":"Trixie!J$1275","v":0}]
[null,1111150225,143701,"Нашийник-зашморг Trixie для собак Cavo чорний нейлон S-M 35-41см/12мм","Менше 10","Амуніція для собак",128.69999999999999,167,{"$f":"Trixie!I$1276","v":0},{"$f":"Trixie!J$1276","v":0}]
[null,1111119917,2244,"Нашийник-зашморг Trixie для собак дворядний хромований L 50см/2,5мм","Менше 10","Амуніція для собак",304.92,396,{"$f":"Trixie!I$1277","v":0},{"$f":"Trixie!J$1277","v":0}]
[null,1111119916,2245,"Нашийник-зашморг Trixie для собак дворядний хромований L-XL 55см/2,5мм","Більше 10","Амуніція для собак",335.7,436,{"$f":"Trixie!I$1278","v":0},{"$f":"Trixie!J$1278","v":0}]
[null,1111119919,2242,"Нашийник-зашморг Trixie для собак дворядний хромований M 40см/2мм","Більше 10","Амуніція для собак",243.36,316,{"$f":"Trixie!I$1279","v":0},{"$f":"Trixie!J$1279","v":0}]
[null,1111119918,2243,"Нашийник-зашморг Trixie для собак дворядний хромований M-L 45см/2,5мм","Менше 10","Амуніція для собак",304.92,396,{"$f":"Trixie!I$1280","v":0},{"$f":"Trixie!J$1280","v":0}]
[null,1111119920,2241,"Нашийник-зашморг Trixie для собак дворядний хромований S-M 35см/2мм","Менше 10","Амуніція для собак",243.36,316,{"$f":"Trixie!I$1281","v":0},{"$f":"Trixie!J$1281","v":0}]
[null,1111119922,2247,"Нашийник-зашморг Trixie для собак дворядний хромований XL 65см/2,5мм","Менше 10","Амуніція для собак",366.48,476,{"$f":"Trixie!I$1282","v":0},{"$f":"Trixie!J$1282","v":0}]
[null,1111116673,2268,"Нашийник-зашморг Trixie для собак потрійний хром L-XL 60см/2,5мм","Менше 10","Амуніція для собак",428.04,556,{"$f":"Trixie!I$1283","v":0},{"$f":"Trixie!J$1283","v":0}]
[null,8228,2269,"Нашийник-зашморг Trixie для собак потрійний хром XL 65см/2,5мм","Менше 10","Амуніція для собак",458.76,596,{"$f":"Trixie!I$1284","v":0},{"$f":"Trixie!J$1284","v":0}]
[null,1111116670,2266,"Нашийник-зашморг Trixie для собак потрійний хром розмір L 50см/2,5мм","Менше 10","Амуніція для собак",366.48,476,{"$f":"Trixie!I$1285","v":0},{"$f":"Trixie!J$1285","v":0}]
[null,1111203370,3516,"НЕ ПИЩИТЬ Іграшка Trixie д/собак Морська зірка з пискавкою латекс 23см","Менше 10","Іграшки для собак",98.7,0,{"$f":"Trixie!I$1286","v":0},{"$f":"Trixie!J$1286","v":0}]
[null,1111207446,33677,"НЕ ПИЩИТЬ Іграшка Trixie д/собак М'яч з шипами термопластична гума 7см","Менше 10","Іграшки для собак",50.76,0,{"$f":"Trixie!I$1287","v":0},{"$f":"Trixie!J$1287","v":0}]
[null,1111205708,35497,"НЕ ПИЩИТЬ Іграшка Trixie для собак Дикий кабан з пискавкою латекс 18см","Менше 10","Іграшки для собак",127.44,0,{"$f":"Trixie!I$1288","v":0},{"$f":"Trixie!J$1288","v":0}]
[null,1111200106,33671,"НЕ ПІЩИТЬ Іграшка Trixie для собак Кістка з пискавкою термопластична г","Менше 10","Іграшки для собак",105.18,0,{"$f":"Trixie!I$1289","v":0},{"$f":"Trixie!J$1289","v":0}]
[null,1111202847,25242,"НЕ ТОВ. ВИГ.Миска Trixie для собак на гумовій основі металева з пласти","Менше 10","Миски та годівниці для собак",67.5,0,{"$f":"Trixie!I$1290","v":0},{"$f":"Trixie!J$1290","v":0}]
[null,1111208277,45742,"НЕ ТОВ.ВИГ.Іграшка Trixie для котів Вудочка з рибкою та котячою м'ятою","Менше 10","Іграшки для котів",60.18,0,{"$f":"Trixie!I$1291","v":0},{"$f":"Trixie!J$1291","v":0}]
[null,1111206481,24561,"НЕ ТОВ.ВИГ.Килимок під миску Trixie для собак темно-сірий каучук 45х25","Менше 10","Килимки для собак",159.24,0,{"$f":"Trixie!I$1292","v":0},{"$f":"Trixie!J$1292","v":0}]
[null,1111200808,76070,"НЕ ТОВ.ВИГ.Плафон Trixie для тераріума рефлекторний із захисною решітк","Менше 10","Обладнання для тераріума",693.42,0,{"$f":"Trixie!I$1293","v":0},{"$f":"Trixie!J$1293","v":0}]
[null,1111201991,24605,"НЕ ТОВ.ВИГ.Поїлка Trixie для собак для подорожей металева/пластикова 3","Менше 10","Сумки, переноски та посуд для подорожей з собаками",169.74,0,{"$f":"Trixie!I$1294","v":0},{"$f":"Trixie!J$1294","v":0}]
[null,1111206525,25108,"НЕ ТРИМ.РЕЗИН Миска Trixie для соб.на гумовій основі керамічна 1л/17см","Менше 10","Миски та годівниці для собак",210.54,0,{"$f":"Trixie!I$1295","v":0},{"$f":"Trixie!J$1295","v":0}]
[null,1111194896,42930,"НЕКОМПЛЕКТ Дряпка Trixie для кошенят фліс 47 см світло-бузкова","Менше 10","Дряпки для котів",171.42,0,{"$f":"Trixie!I$1296","v":0},{"$f":"Trixie!J$1296","v":0}]
[null,1111197490,42930,"НЕМА ВЕРХН.КРІПЛЕННЯ Дряпка Trixie д/кошенят фліс 47 см світло-бузкова","Менше 10","Дряпки для котів",332.46,0,{"$f":"Trixie!I$1297","v":0},{"$f":"Trixie!J$1297","v":0}]
[null,1111195455,35497,"НЕТОВ. ВИГЛ. Іграшка Trixie д/собак Дикий кабан пискавка латекс 18см","Менше 10","Іграшки для собак",63.78,0,{"$f":"Trixie!I$1298","v":0},{"$f":"Trixie!J$1298","v":0}]
[null,1111197178,35093,"НЕТОВ. ВИГЛ. Іграшка Trixie для собак Гусак з пискавкою латекс 14см","Менше 10","Іграшки для собак",33.659999999999997,0,{"$f":"Trixie!I$1299","v":0},{"$f":"Trixie!J$1299","v":0}]
[null,1111198569,24791,"НЕТОВ. ВИГЛ. Миски Trixie кот EatFeet керам метал/підст 2x300мл/12см","Менше 10","Миски для котів",210.18,0,{"$f":"Trixie!I$1300","v":0},{"$f":"Trixie!J$1300","v":0}]
[null,1111207709,40177,"НЕТОВ. ВИГЛ. ПОДРЯПИНИ Туалет-будиночок Trixie Прімо XXL Топ 56 х 47 х","Менше 10","Туалети для котів",721.02,0,{"$f":"Trixie!I$1301","v":0},{"$f":"Trixie!J$1301","v":0}]
[null,1111207319,76094,"НЕТОВ.В. Інфрачервона лампа розжарювання Trixie для тераріуму для обіг","Менше 10","Освітлення та обігрів",167.28,0,{"$f":"Trixie!I$1302","v":0},{"$f":"Trixie!J$1302","v":0}]
[null,1111208183,4503,"НЕТОВ.В. Набір іграшок Trixie для котів Мишки хутряні з котячою м'ятою","Немає в наявності","Іграшки для котів",95.88,0,{"$f":"Trixie!I$1303","v":0},{"$f":"Trixie!J$1303","v":0}]
[null,1111207318,4416,"НЕТОВ.В. НЕ ТРИМАЄТЬСЯ 1 УГОЛ Решітка Trixie для вікна захисна біла 62","Менше 10","Інструменти для догляду за будинком з котами",103.98,0,{"$f":"Trixie!I$1304","v":0},{"$f":"Trixie!J$1304","v":0}]
[null,1111196258,24820,"НЕТОВ.ВИГЛ Миски Trixie д/соб на дер/підс чор кер2x200мл/10х10см","Менше 10","Миски та годівниці для собак",381.24,0,{"$f":"Trixie!I$1305","v":0},{"$f":"Trixie!J$1305","v":0}]
[null,1111206773,"3501_1шт","НЕТОВ.ВИГЛ. Іграшка Trixie д/соб Баскетбольний м'яч латекс 13см блакит","Менше 10","Іграшки для собак",96.6,0,{"$f":"Trixie!I$1306","v":0},{"$f":"Trixie!J$1306","v":0}]
[null,1111195599,"40279*****","НЕТОВ.ВИГЛ. Туалет Trixie д/кот Vico закр.пластик зелен/біл 40х40х56см","Менше 10","Туалети для котів",441.66,0,{"$f":"Trixie!I$1307","v":0},{"$f":"Trixie!J$1307","v":0}]
[null,1111150258,23690,"Ножиці Trixie Professional для собак та котів обрізні стальні 20 см","Менше 10","Догляд та гігієна для собак",826.62,1075,{"$f":"Trixie!I$1308","v":0},{"$f":"Trixie!J$1308","v":0}]
[null,1111115369,2355,"Ножиці Trixie д/грум. філіровочні пластик і нержавіюча сталь 16см","Менше 10","Догляд та гігієна для собак",230.82,300,{"$f":"Trixie!I$1309","v":0},{"$f":"Trixie!J$1309","v":0}]
[null,9613,2351,"Ножиці Trixie для домашніх тварин стальні 16 см","Менше 10","Догляд та гігієна для собак",179.04,233,{"$f":"Trixie!I$1310","v":0},{"$f":"Trixie!J$1310","v":0}]
[null,9614,2360,"Ножиці Trixie для малих тварин для морди та лап 8 см","Більше 10","Догляд та гігієна для собак",120.3,156,{"$f":"Trixie!I$1311","v":0},{"$f":"Trixie!J$1311","v":0}]
[null,9615,2352,"Ножиці Trixie для малих тварин філірувальні односторонні 16 см Арт2352","Менше 10","Догляд та гігієна для собак",204.24,265,{"$f":"Trixie!I$1312","v":0},{"$f":"Trixie!J$1312","v":0}]
[null,1111183745,32039,"Нюхальний килим Trixie для цуценят 38 см Арт32039","Менше 10","Іграшки для собак",654.6,851,{"$f":"Trixie!I$1313","v":0},{"$f":"Trixie!J$1313","v":0}]
[null,1111126952,"76081_ord","Обігрівач Trixie для тераріума Гарячий шнур 25 Вт 4,5 м","Менше 10","Освітлення та обігрів",939.9,1222,{"$f":"Trixie!I$1314","v":0},{"$f":"Trixie!J$1314","v":0}]
[null,1111126953,"76082*****","Обігрівач Trixie для тераріума Гарячий шнур 50 Вт 7 м","Менше 10","Освітлення та обігрів",1228.02,1596,{"$f":"Trixie!I$1315","v":0},{"$f":"Trixie!J$1315","v":0}]
[null,1111114704,1949,"Одяг Trixie Walker панчохи для собак міцний поліестер чорн XXXL 2шт/уп","Менше 10","Одяг для собак",255.96,333,{"$f":"Trixie!I$1316","v":0},{"$f":"Trixie!J$1316","v":0}]
[null,12228,1958,"Одяг Trixie Walker панчохи для собак міцний поліестер чорні L 2 шт/уп","Більше 10","Одяг для собак",204.24,265,{"$f":"Trixie!I$1317","v":0},{"$f":"Trixie!J$1317","v":0}]
[null,12229,1957,"Одяг Trixie Walker панчохи для собак міцний поліестер чорні M 2 шт/уп","Більше 10","Одяг для собак",179.04,233,{"$f":"Trixie!I$1318","v":0},{"$f":"Trixie!J$1318","v":0}]
[null,1111114368,1956,"Одяг Trixie Walker панчохи для собак міцний поліестер чорні S 2 шт/уп","Більше 10","Одяг для собак",152.46,198,{"$f":"Trixie!I$1319","v":0},{"$f":"Trixie!J$1319","v":0}]
[null,7287,1959,"Одяг Trixie Walker панчохи для собак міцний поліестер чорні XL 2 шт/уп","Менше 10","Одяг для собак",230.82,300,{"$f":"Trixie!I$1320","v":0},{"$f":"Trixie!J$1320","v":0}]
[null,12227,1955,"Одяг Trixie Walker панчохи для собак міцний поліестер чорні XXL 2шт/уп","Менше 10","Одяг для собак",255.96,333,{"$f":"Trixie!I$1321","v":0},{"$f":"Trixie!J$1321","v":0}]
[null,1111121076,23491,"Одяг Trixie труси для собак чорні 24х31 см","Більше 10","Пелюшки, підгузки для собак",113.34,147,{"$f":"Trixie!I$1322","v":0},{"$f":"Trixie!J$1322","v":0}]
[null,1111121075,23490,"Одяг Trixie труси для собак чорні 25х25 см","Більше 10","Пелюшки, підгузки для собак",100.74,131,{"$f":"Trixie!I$1323","v":0},{"$f":"Trixie!J$1323","v":0}]
[null,1111121077,23492,"Одяг Trixie труси для собак чорні 32х39 см","Більше 10","Пелюшки, підгузки для собак",127.32,165,{"$f":"Trixie!I$1324","v":0},{"$f":"Trixie!J$1324","v":0}]
[null,1111121078,23493,"Одяг Trixie труси для собак чорні 40х49 см","Більше 100","Пелюшки, підгузки для собак",139.86000000000001,182,{"$f":"Trixie!I$1325","v":0},{"$f":"Trixie!J$1325","v":0}]
[null,1111121079,23494,"Одяг Trixie труси для собак чорні 50х59 см","Більше 10","Пелюшки, підгузки для собак",152.46,198,{"$f":"Trixie!I$1326","v":0},{"$f":"Trixie!J$1326","v":0}]
[null,1111121080,23495,"Одяг Trixie труси для собак чорні 60х70 см","Більше 10","Пелюшки, підгузки для собак",179.04,233,{"$f":"Trixie!I$1327","v":0},{"$f":"Trixie!J$1327","v":0}]
[null,1111118477,2934,"Олія Trixie для притягування для собачого туалету 50 мл","Більше 10","Корекція поведінки для собак",184.62,240,{"$f":"Trixie!I$1328","v":0},{"$f":"Trixie!J$1328","v":0}]
[null,1111183741,28688,"Охолоджуючий килимок Trixie XL–XXL 100 х 60 см синій Арт28688","Більше 10","Спальні місця для собак",939.9,1222,{"$f":"Trixie!I$1329","v":0},{"$f":"Trixie!J$1329","v":0}]
[null,1111183742,28788,"Охолоджуючий килимок Trixie м_який XXL 110 х 70 см сірий Арт28788","Немає в наявності","Спальні місця для собак",1548.3,2013,{"$f":"Trixie!I$1330","v":0},{"$f":"Trixie!J$1330","v":0}]
[null,1111183766,41576,"Ошийник Trixie для кот Мій дім світловідбиваючий з адресником Арт41576","Більше 10","Амуніція для котів",134.28,175,{"$f":"Trixie!I$1331","v":0},{"$f":"Trixie!J$1331","v":0}]
[null,1111115532,4043,"Пакети Tixie для котячого туалету змінні М 48х37 см 10 шт/уп","Більше 10","Аксесуари для котячих туалетів",78.36,102,{"$f":"Trixie!I$1332","v":0},{"$f":"Trixie!J$1332","v":0}]
[null,1111137776,4051,"Пакети Trixie для котячого туалету XL 10 шт в упаковці Арт4051","Менше 10","Аксесуари для котячих туалетів",160.86000000000001,209,{"$f":"Trixie!I$1333","v":0},{"$f":"Trixie!J$1333","v":0}]
[null,1111136977,22843,"Пакети Trixie для прибирання за собаками змінні M 20 шт/уп","Більше 100","Пелюшки, підгузки для собак",19.62,25,{"$f":"Trixie!I$1334","v":0},{"$f":"Trixie!J$1334","v":0}]
[null,1111128778,22840,"Пакети Trixie для прибирання за собаками змінні M 4х20 шт/уп","Більше 100","Пелюшки, підгузки для собак",72.78,95,{"$f":"Trixie!I$1335","v":0},{"$f":"Trixie!J$1335","v":0}]
[null,1111137245,22844,"Пакети Trixie для прибирання за собаками змінні M 8х20 шт/уп","Більше 100","Пелюшки, підгузки для собак",151.08000000000001,196,{"$f":"Trixie!I$1336","v":0},{"$f":"Trixie!J$1336","v":0}]
[null,1111144809,23473,"Пакети Trixie для прибирання за собаками змінні жовті M 4х20 шт/уп","Більше 100","Пелюшки, підгузки для собак",72.78,95,{"$f":"Trixie!I$1337","v":0},{"$f":"Trixie!J$1337","v":0}]
[null,1111162593,22839,"Пакети для фекалій Trixie для соб з лаванд 4х20 пак фіолетові Арт22839","Більше 100","Пелюшки, підгузки для собак",72.78,95,{"$f":"Trixie!I$1338","v":0},{"$f":"Trixie!J$1338","v":0}]
[null,1111183720,22845,"Пакети для фекалій Trixie для соб з ручками 3х15 пак Арт22845","Більше 10","Туалети для собак",72.78,95,{"$f":"Trixie!I$1339","v":0},{"$f":"Trixie!J$1339","v":0}]
[null,1111183728,23476,"Пакети для фекалій Trixie для собак біо 10х10 пак зелені ","Менше 10","Туалети для собак",373.44,485,{"$f":"Trixie!I$1340","v":0},{"$f":"Trixie!J$1340","v":0}]
[null,1111183767,42427,"Палички Trixie для котів мататабі жувальні 10 г Арт42427","Більше 100","Іграшки для котів",89.52,116,{"$f":"Trixie!I$1341","v":0},{"$f":"Trixie!J$1341","v":0}]
[null,1111183724,23370,"Пелюшки Trixie для собак з активованим вугіллям 40х60см 7шт Арт23370","Більше 10","Пелюшки, підгузки для собак",120.3,156,{"$f":"Trixie!I$1342","v":0},{"$f":"Trixie!J$1342","v":0}]
[null,1111183725,23372,"Пелюшки Trixie для собак з активованим вугіллям 60х60см 10шт Арт23372","Менше 10","Пелюшки, підгузки для собак",243.36,316,{"$f":"Trixie!I$1343","v":0},{"$f":"Trixie!J$1343","v":0}]
[null,1111139268,23417,"Пелюшки Trixie для собак целюлоза 40х60см 50шт","Більше 10","Пелюшки, підгузки для собак",674.16,876,{"$f":"Trixie!I$1344","v":0},{"$f":"Trixie!J$1344","v":0}]
[null,1111122415,23412,"Пелюшки Trixie для собак целюлоза 60х60см 10шт","Більше 100","Пелюшки, підгузки для собак",243.36,316,{"$f":"Trixie!I$1345","v":0},{"$f":"Trixie!J$1345","v":0}]
[null,1111134496,23413,"Пелюшки Trixie для собак целюлоза 60х90см 8шт","Більше 100","Пелюшки, підгузки для собак",243.36,316,{"$f":"Trixie!I$1346","v":0},{"$f":"Trixie!J$1346","v":0}]
[null,1111185429,"28908*****","Переноска Trixie Dillon 33х32х54 см сіро-м_ятна арт28908","Більше 10","Сумки, переноски та посуд для подорожей з котами",1906.38,2478,{"$f":"Trixie!I$1347","v":0},{"$f":"Trixie!J$1347","v":0}]
[null,1111119250,39792,"Переноска Trixie д/гризунів Midi-Capri ремень до 5кг пласт 44x33x32см","Менше 10","Сумки, переноски та посуд для подорожей з котами",803.88,1045,{"$f":"Trixie!I$1348","v":0},{"$f":"Trixie!J$1348","v":0}]
[null,1111121807,39861,"Переноска Trixie д/соб/котів Capri 3 OpenTop до 12кг сіра S 40x38x61см","Менше 10","Сумки, переноски та посуд для подорожей з котами",1898.82,2468,{"$f":"Trixie!I$1349","v":0},{"$f":"Trixie!J$1349","v":0}]
[null,1111117848,39871,"Переноска Trixie д/собак Gulliver 4 вагою до 18кг сіра S-M 52x51x72см","Менше 10","Сумки, переноски та посуд для подорожей з собаками",4205.28,5467,{"$f":"Trixie!I$1350","v":0},{"$f":"Trixie!J$1350","v":0}]
[null,1111161045,39823,"Переноска Trixie д/собак/котів Capri 2 до 8кг рожева XS-S 37x34x55см","Менше 10","Сумки, переноски та посуд для подорожей з собаками",1085.94,1412,{"$f":"Trixie!I$1351","v":0},{"$f":"Trixie!J$1351","v":0}]
[null,1111113715,39831,"Переноска Trixie д/собак/котів Capri 3 до 12кг сіра S 40x38x61см","Більше 10","Сумки, переноски та посуд для подорожей з собаками",1409.04,1832,{"$f":"Trixie!I$1352","v":0},{"$f":"Trixie!J$1352","v":0}]
[null,1111146794,39735,"Переноска Trixie д/собак/котів Skudo 1 до 12кг коричнева XS 30x32x49см","Більше 10","Сумки, переноски та посуд для подорожей з собаками",1209.06,1572,{"$f":"Trixie!I$1353","v":0},{"$f":"Trixie!J$1353","v":0}]
[null,1111115833,39802,"Переноска Trixie для гризунів Mini-Capri до 2 кг пластик 40х22х30см","Більше 10","Обладнання для гризунів",601.32000000000005,782,{"$f":"Trixie!I$1354","v":0},{"$f":"Trixie!J$1354","v":0}]
[null,1111137372,5900,"Переноска Trixie для гризунів Pico пластик 18x12x13см","Більше 10","Обладнання для гризунів",194.46,253,{"$f":"Trixie!I$1355","v":0},{"$f":"Trixie!J$1355","v":0}]
[null,1111116042,5903,"Переноска Trixie для гризунів Pico пластик 23x16x17см","Більше 10","Обладнання для гризунів",260.16000000000003,338,{"$f":"Trixie!I$1356","v":0},{"$f":"Trixie!J$1356","v":0}]
[null,39768,5904,"Переноска Trixie для гризунів Pico пластик 30x21x23см","Більше 10","Обладнання для гризунів",448.98,584,{"$f":"Trixie!I$1357","v":0},{"$f":"Trixie!J$1357","v":0}]
[null,1111117850,"39872*****","Переноска Trixie для собак Gulliver 5 до 25кг сіра M 58x60x79см","Менше 10","Сумки, переноски та посуд для подорожей з собаками",5455.32,7092,{"$f":"Trixie!I$1358","v":0},{"$f":"Trixie!J$1358","v":0}]
[null,1111117849,"39873*****","Переноска Trixie для собак Gulliver 6 до 38кг сіра M-L 64x64x92см","Менше 10","Сумки, переноски та посуд для подорожей з собаками",6868.2,8929,{"$f":"Trixie!I$1359","v":0},{"$f":"Trixie!J$1359","v":0}]
[null,1111117847,"39874*****","Переноска Trixie для собак Gulliver 7 до 50кг сіра L 73x75x104см","Менше 10","Сумки, переноски та посуд для подорожей з собаками",7902.84,10274,{"$f":"Trixie!I$1360","v":0},{"$f":"Trixie!J$1360","v":0}]
[null,1111146795,39736,"Переноска Trixie для собак Skudo 2 до 18кг коричнева XS-S 35x36x55см","Більше 10","Сумки, переноски та посуд для подорожей з собаками",1394.94,1813,{"$f":"Trixie!I$1361","v":0},{"$f":"Trixie!J$1361","v":0}]
[null,1111139278,39741,"Переноска Trixie для собак Skudo 3 до 24кг коричнева S 40x39x60см","Менше 10","Сумки, переноски та посуд для подорожей з собаками",1610.34,2093,{"$f":"Trixie!I$1362","v":0},{"$f":"Trixie!J$1362","v":0}]
[null,1111139281,39744,"Переноска Trixie для собак Skudo 6 до 40кг коричнева M-L 63x70x92см","Менше 10","Сумки, переноски та посуд для подорожей з собаками",6868.2,8929,{"$f":"Trixie!I$1363","v":0},{"$f":"Trixie!J$1363","v":0}]
[null,1111140885,"39745*****","Переноска Trixie для собак Skudo 7 до 45кг коричнева L 73x76x105см","Немає в наявності","Сумки, переноски та посуд для подорожей з собаками",7902.84,10274,{"$f":"Trixie!I$1364","v":0},{"$f":"Trixie!J$1364","v":0}]
[null,1111113709,39812,"Переноска Trixie для собак/котів Capri 1 до 6кг синя XS 32x31x48см","Більше 10","Сумки, переноски та посуд для подорожей з котами",702.6,913,{"$f":"Trixie!I$1365","v":0},{"$f":"Trixie!J$1365","v":0}]
[null,1111113710,39811,"Переноска Trixie для собак/котів Capri 1 до 6кг сіра XS 32x31x48см","Більше 10","Сумки, переноски та посуд для подорожей з котами",702.6,913,{"$f":"Trixie!I$1366","v":0},{"$f":"Trixie!J$1366","v":0}]
[null,1111113712,39821,"Переноска Trixie для собак/котів Capri 2 до 8кг сіра XS-S 37x34x55см","Більше 10","Сумки, переноски та посуд для подорожей з котами",1085.94,1412,{"$f":"Trixie!I$1367","v":0},{"$f":"Trixie!J$1367","v":0}]
[null,1111113717,39832,"Переноска Trixie для собак/котів Capri 3 до 12кг синя S 40x38x61см","Більше 10","Сумки, переноски та посуд для подорожей з котами",1409.04,1832,{"$f":"Trixie!I$1368","v":0},{"$f":"Trixie!J$1368","v":0}]
[null,1111132096,12216,"Перестібка Trixie Silver Reflect з лапками світловідбиваю L-XL 2м/25мм","Менше 10","Амуніція для собак",612.66,796,{"$f":"Trixie!I$1369","v":0},{"$f":"Trixie!J$1369","v":0}]
[null,1111183790,61650,"Підвісний міст Trixie для гризунів з ланцюгом 27х17х7см Арт61650","Більше 10","Обладнання для гризунів",297.95999999999998,387,{"$f":"Trixie!I$1370","v":0},{"$f":"Trixie!J$1370","v":0}]
[null,1111183782,51700,"Підвісний міст Trixie для птахів вербовий 61 х 8 см Арт51700","Менше 10","Обладнання для птахів",292.32,380,{"$f":"Trixie!I$1371","v":0},{"$f":"Trixie!J$1371","v":0}]
[null,1111183783,58842,"Підвісний міст Trixie для птахів на сизалі 45 см Арт58842","Менше 10","Обладнання для птахів",325.92,424,{"$f":"Trixie!I$1372","v":0},{"$f":"Trixie!J$1372","v":0}]
[null,1111183706,6298,"Підвісний міст Trixie для хом_яка гамак з іграшками 17х22х15см Арт6298","Менше 10","Обладнання для гризунів",411.24,535,{"$f":"Trixie!I$1373","v":0},{"$f":"Trixie!J$1373","v":0}]
[null,1111139272,23643,"Підгузки Trixie для кобелів поліестер розмір L-XL 60-80см 12шт","Більше 10","Пелюшки, підгузки для собак",391.62,509,{"$f":"Trixie!I$1374","v":0},{"$f":"Trixie!J$1374","v":0}]
[null,1111139271,23642,"Підгузки Trixie для кобелів поліестер розмір M-L 46-60см 12шт","Більше 100","Пелюшки, підгузки для собак",325.92,424,{"$f":"Trixie!I$1375","v":0},{"$f":"Trixie!J$1375","v":0}]
[null,1111139270,23641,"Підгузки Trixie для кобелів поліестер розмір S-M 30-46см 12шт","Більше 100","Пелюшки, підгузки для собак",260.16000000000003,338,{"$f":"Trixie!I$1376","v":0},{"$f":"Trixie!J$1376","v":0}]
[null,1111132142,23635,"Підгузки Trixie для собак поліестер розмір L 38-56см 12шт","Більше 10","Пелюшки, підгузки для собак",391.62,509,{"$f":"Trixie!I$1377","v":0},{"$f":"Trixie!J$1377","v":0}]
[null,1111132140,23633,"Підгузки Trixie для собак поліестер розмір M 32-48см 12шт","Більше 10","Пелюшки, підгузки для собак",292.32,380,{"$f":"Trixie!I$1378","v":0},{"$f":"Trixie!J$1378","v":0}]
[null,1111132141,23634,"Підгузки Trixie для собак поліестер розмір M-L 36-52см 12шт","Більше 10","Пелюшки, підгузки для собак",325.92,424,{"$f":"Trixie!I$1379","v":0},{"$f":"Trixie!J$1379","v":0}]
[null,1111132139,23632,"Підгузки Trixie для собак поліестер розмір S-M 28-40см 12шт","Більше 10","Пелюшки, підгузки для собак",260.16000000000003,338,{"$f":"Trixie!I$1380","v":0},{"$f":"Trixie!J$1380","v":0}]
[null,1111132143,23636,"Підгузки Trixie для собак поліестер розмір XL 40-58см 12шт","Більше 10","Пелюшки, підгузки для собак",457.38,595,{"$f":"Trixie!I$1381","v":0},{"$f":"Trixie!J$1381","v":0}]
[null,1111132138,23631,"Підгузки Trixie для собак поліестер розмір XS-S 20-28см 12шт","Більше 10","Пелюшки, підгузки для собак",226.62,295,{"$f":"Trixie!I$1382","v":0},{"$f":"Trixie!J$1382","v":0}]
[null,1111134466,2297,"Пінцет Trixie для видалення кліщів гачкоподібний пластиковий 6,5 см","Немає в наявності","Догляд та гігієна для собак",75.540000000000006,98,{"$f":"Trixie!I$1383","v":0},{"$f":"Trixie!J$1383","v":0}]
[null,1111120099,2386,"Пінцет Trixie для видалення кліщів металевий 8 см","Більше 100","Догляд та гігієна для собак",75.540000000000006,98,{"$f":"Trixie!I$1384","v":0},{"$f":"Trixie!J$1384","v":0}]
[null,1111137243,2623,"Пластини Trixie д/собак жувальні мікс натурaльна шкіра 12 см 100 шт/уп","Більше 10","Ласощі для собак",373.44,485,{"$f":"Trixie!I$1385","v":0},{"$f":"Trixie!J$1385","v":0}]
[null,1111185470,"62250*****","Платформа Trixie для гризунів з гвинтовим кріпленням 10х15см арт62250","Менше 10","Обладнання для гризунів",128.69999999999999,167,{"$f":"Trixie!I$1386","v":0},{"$f":"Trixie!J$1386","v":0}]
[null,1111127477,76070,"Плафон Trixie д/терар рефлекторний із захисною решіткою 14х17 см/100Вт","Менше 10","Обладнання для тераріума",1774.92,2307,{"$f":"Trixie!I$1387","v":0},{"$f":"Trixie!J$1387","v":0}]
[null,1111140972,37167,"Плед Trixie д/собак Kenny з лапками/кісточками бежевий плюш 100х150см","Менше 10","Спальні місця для собак",562.26,731,{"$f":"Trixie!I$1388","v":0},{"$f":"Trixie!J$1388","v":0}]
[null,1111140973,37168,"Плед Trixie для котів Mimi з мордочками плюш 70х50см","Менше 10","Спальні місця для котів",335.7,436,{"$f":"Trixie!I$1389","v":0},{"$f":"Trixie!J$1389","v":0}]
[null,1111139765,37164,"Плед Trixie для собак Cosy бежевий плюш 100х70см","Менше 10","Спальні місця для собак",751.08,976,{"$f":"Trixie!I$1390","v":0},{"$f":"Trixie!J$1390","v":0}]
[null,1111140971,37166,"Плед Trixie для собак Kenny з лапками/кісточками бежевий плюш 100х75см","Більше 10","Спальні місця для собак",373.44,485,{"$f":"Trixie!I$1391","v":0},{"$f":"Trixie!J$1391","v":0}]
[null,1111150300,37150,"Плед Trixie для собак Tammy з лапками блакитний/бежевий плюш 100х70см","Менше 10","Спальні місця для собак",486.78,633,{"$f":"Trixie!I$1392","v":0},{"$f":"Trixie!J$1392","v":0}]
[null,1111150628,200316,"Повідець Trixie д/собак Premium графіт неопрен/підкладка L-XL 1м/25мм","Більше 10","Амуніція для собак",458.76,596,{"$f":"Trixie!I$1393","v":0},{"$f":"Trixie!J$1393","v":0}]
[null,1111150618,200216,"Повідець Trixie д/собак Premium графіт неопрен/підкладка M-L 1м/20мм","Менше 10","Амуніція для собак",397.26,516,{"$f":"Trixie!I$1394","v":0},{"$f":"Trixie!J$1394","v":0}]
[null,1111150596,200016,"Повідець Trixie д/собак Premium графіт неопрен/підкладка XS 120cм/10мм","Менше 10","Амуніція для собак",243.36,316,{"$f":"Trixie!I$1395","v":0},{"$f":"Trixie!J$1395","v":0}]
[null,1111150605,"200113*****","Повідець Trixie д/собак Premium індіго неопрен/підклад XS-S 120cм/15мм","Менше 10","Амуніція для собак",288.85000000000002,358,{"$f":"Trixie!I$1396","v":0},{"$f":"Trixie!J$1396","v":0}]
[null,1111150616,"200214*****","Повідець Trixie д/собак Premium карамель неопрен/підкладка M-L 1м/20мм","Менше 10","Амуніція для собак",313.11,387,{"$f":"Trixie!I$1397","v":0},{"$f":"Trixie!J$1397","v":0}]
[null,1111150609,"200117*****","Повідець Trixie д/собак Premium салато неопрен/підклад XS-S 120см/15мм","Менше 10","Амуніція для собак",288.85000000000002,358,{"$f":"Trixie!I$1398","v":0},{"$f":"Trixie!J$1398","v":0}]
[null,1111165398,"203012*****","Повідець Trixie д/собак Premium синій неопрен/петля д/руки 180см/20мм","Менше 10","Амуніція для собак",385.91,476.59,{"$f":"Trixie!I$1399","v":0},{"$f":"Trixie!J$1399","v":0}]
[null,1111150603,200111,"Повідець Trixie д/собак Premium фуксія неопрен/підклад XS-S 120см/15мм","Менше 10","Амуніція для собак",335.7,436,{"$f":"Trixie!I$1400","v":0},{"$f":"Trixie!J$1400","v":0}]
[null,1111150613,200211,"Повідець Trixie д/собак Premium фуксія неопрен/підкладка M-L 1м/20мм","Менше 10","Амуніція для собак",397.26,516,{"$f":"Trixie!I$1401","v":0},{"$f":"Trixie!J$1401","v":0}]
[null,1111183714,17231,"Повідець Trixie для соб регульований L–XL 2мх13мм сіро-коричн Арт17231","Більше 10","Амуніція для собак",612.66,796,{"$f":"Trixie!I$1402","v":0},{"$f":"Trixie!J$1402","v":0}]
[null,1111150204,143401,"Повідець Trixie для собак Cavo чорний нейлон розмір S-М 1м/12мм","Менше 10","Амуніція для собак",243.36,316,{"$f":"Trixie!I$1403","v":0},{"$f":"Trixie!J$1403","v":0}]
[null,1111147481,"14113*****","Повідець Trixie для собак Classic червоний нейлон XS-S 120х180см/15мм","Менше 10","Амуніція для собак",80.88,100,{"$f":"Trixie!I$1404","v":0},{"$f":"Trixie!J$1404","v":0}]
[null,1111183719,"20727 Trixie","Повідець Trixie для собак M–L 10 м х 13 мм неоново-жовтий Арт20727","Менше 10","Амуніція для собак",983.28,1278,{"$f":"Trixie!I$1405","v":0},{"$f":"Trixie!J$1405","v":0}]
[null,1111183718,20725,"Повідець Trixie для собак M–L 5 м х 13 мм неоново-жовтий Арт20725","Менше 10","Амуніція для собак",555.29999999999995,722,{"$f":"Trixie!I$1406","v":0},{"$f":"Trixie!J$1406","v":0}]
[null,1111207676,200633,"Повідець Trixie для собак Premium регульований L-XL оливковий 2м/25мм","Більше 10","Амуніція для собак",0,0,{"$f":"Trixie!I$1407","v":0},{"$f":"Trixie!J$1407","v":0}]
[null,1111163578,"196703*****","Повідець Trixie для собак Premium червоний нейлон XS-S 3 м/15мм","Менше 10","Амуніція для собак",551.1,716,{"$f":"Trixie!I$1408","v":0},{"$f":"Trixie!J$1408","v":0}]
[null,1111183715,19761,"Повідець Trixie для собак S–M 10 м х 5 мм чорний Арт19761","Більше 10","Амуніція для собак",179.04,233,{"$f":"Trixie!I$1409","v":0},{"$f":"Trixie!J$1409","v":0}]
[null,1111183716,"19771*****","Повідець Trixie для собак S–M 15 м х 5 мм чорний Арт19771","Менше 10","Амуніція для собак",204.24,265,{"$f":"Trixie!I$1410","v":0},{"$f":"Trixie!J$1410","v":0}]
[null,1111115589,14021,"Повідець-ланцюг Trixie для собак з петлею для рук M–L чорний Арт14021","Більше 10","Амуніція для собак",335.7,436,{"$f":"Trixie!I$1411","v":0},{"$f":"Trixie!J$1411","v":0}]
[null,1111115591,"14031 Trixie","Повідець-ланцюг Trixie нейлоновою ручкою чорний розмір L-XL 1м/4мм","Менше 10","Амуніція для собак",411.24,535,{"$f":"Trixie!I$1412","v":0},{"$f":"Trixie!J$1412","v":0}]
[null,1111150650,200516,"Повідець-перестібка Trixie д/собак Premium нейлон графіт M-L 2м/20мм","Менше 10","Амуніція для собак",458.76,596,{"$f":"Trixie!I$1413","v":0},{"$f":"Trixie!J$1413","v":0}]
[null,1111150647,"200513*****","Повідець-перестібка Trixie д/собак Premium нейлон індіго M-L 2м/20мм","Менше 10","Амуніція для собак",361.64,447,{"$f":"Trixie!I$1414","v":0},{"$f":"Trixie!J$1414","v":0}]
[null,1111150637,"200414*****","Повідець-перестібка Trixie д/собак Premium нейлон карамел XS-S 2м/15мм","Менше 10","Амуніція для собак",288.85000000000002,358,{"$f":"Trixie!I$1415","v":0},{"$f":"Trixie!J$1415","v":0}]
[null,1111150653,"200519*****","Повідець-перестібка Trixie д/собак Premium нейлон оливкова M-L 2м/20мм","Менше 10","Амуніція для собак",361.64,447,{"$f":"Trixie!I$1416","v":0},{"$f":"Trixie!J$1416","v":0}]
[null,1111150645,200511,"Повідець-перестібка Trixie д/собак Premium нейлон фуксія M-L 2м/20мм","Менше 10","Амуніція для собак",458.76,596,{"$f":"Trixie!I$1417","v":0},{"$f":"Trixie!J$1417","v":0}]
[null,1111150634,200411,"Повідець-перестібка Trixie д/собак Premium нейлон фуксія XS-S 2м/15мм","Менше 10","Амуніція для собак",366.48,476,{"$f":"Trixie!I$1418","v":0},{"$f":"Trixie!J$1418","v":0}]
[null,1111150220,143601,"Повідець-перестібка Trixie для собак Cavo чорний нейлон L-XL 2м/18мм","Менше 10","Амуніція для собак",674.16,876,{"$f":"Trixie!I$1419","v":0},{"$f":"Trixie!J$1419","v":0}]
[null,1111150212,143501,"Повідець-перестібка Trixie для собак Cavo чорний нейлон S-M 2м/12мм","Менше 10","Амуніція для собак",397.26,516,{"$f":"Trixie!I$1420","v":0},{"$f":"Trixie!J$1420","v":0}]
[null,1111156037,201101,"Повідець-сворка Trixie для двох собак Premium нейлон XS-M 40-70см/15мм","Менше 10","Амуніція для собак",304.92,396,{"$f":"Trixie!I$1421","v":0},{"$f":"Trixie!J$1421","v":0}]
[null,1111185194,144228,"Повідок Trixie Cavo для соб L–XL 1 м аква-графіт арт144228","Менше 10","Амуніція для собак",428.04,556,{"$f":"Trixie!I$1422","v":0},{"$f":"Trixie!J$1422","v":0}]
[null,1111185195,144230,"Повідок Trixie Cavo для соб L–XL 1 м рижо-графітовий арт144230","Менше 10","Амуніція для собак",428.04,556,{"$f":"Trixie!I$1423","v":0},{"$f":"Trixie!J$1423","v":0}]
[null,1111185196,144235,"Повідок Trixie Cavo для соб L–XL 1 м рожево-пісочний арт144235","Менше 10","Амуніція для собак",428.04,556,{"$f":"Trixie!I$1424","v":0},{"$f":"Trixie!J$1424","v":0}]
[null,1111185170,143428,"Повідок Trixie Cavo для соб S–M 1м діаметр 12мм аква-графіт арт143428","Менше 10","Амуніція для собак",243.36,316,{"$f":"Trixie!I$1425","v":0},{"$f":"Trixie!J$1425","v":0}]
[null,1111185171,143430,"Повідок Trixie Cavo для соб S–M 1м діаметр 12мм рижий-графіт арт143430","Менше 10","Амуніція для собак",243.36,316,{"$f":"Trixie!I$1426","v":0},{"$f":"Trixie!J$1426","v":0}]
[null,1111185172,143435,"Повідок Trixie Cavo для соб S–M 1м діаметр 12мм рожев-пісочн арт143435","Менше 10","Амуніція для собак",243.36,316,{"$f":"Trixie!I$1427","v":0},{"$f":"Trixie!J$1427","v":0}]
[null,1111185178,143635,"Повідок Trixie Cavo для соб регульов L–XL 2 м рожев-пісоч арт143635","Менше 10","Амуніція для собак",674.16,876,{"$f":"Trixie!I$1428","v":0},{"$f":"Trixie!J$1428","v":0}]
[null,1111185177,143630,"Повідок Trixie Cavo для соб регульов L–XL 2м рижий-графіт арт143630","Менше 10","Амуніція для собак",674.16,876,{"$f":"Trixie!I$1429","v":0},{"$f":"Trixie!J$1429","v":0}]
[null,1111185175,143535,"Повідок Trixie Cavo для соб регульов S–M 2 мм рожев-пісочн арт143535","Менше 10","Амуніція для собак",397.26,516,{"$f":"Trixie!I$1430","v":0},{"$f":"Trixie!J$1430","v":0}]
[null,1111185176,143628,"Повідок Trixie Cavo для соб регульований L–XL 2м аква-графіт арт143628","Менше 10","Амуніція для собак",674.16,876,{"$f":"Trixie!I$1431","v":0},{"$f":"Trixie!J$1431","v":0}]
[null,1111185173,143528,"Повідок Trixie Cavo для соб регульований S–M 2м аква-графіт арт143528","Менше 10","Амуніція для собак",397.26,516,{"$f":"Trixie!I$1432","v":0},{"$f":"Trixie!J$1432","v":0}]
[null,1111185174,143530,"Повідок Trixie Cavo для соб регульований S–M 2м рижий-графіт арт143530","Менше 10","Амуніція для собак",397.26,516,{"$f":"Trixie!I$1433","v":0},{"$f":"Trixie!J$1433","v":0}]
[null,1111121051,"135901*****","Повідок Trixie Cavo світловідбив регульов чорн L–XL 2мх18мм арт135901","Більше 10","Амуніція для собак",555.29999999999995,722,{"$f":"Trixie!I$1434","v":0},{"$f":"Trixie!J$1434","v":0}]
[null,1111185231,1970316,"Повідок Trixie CityStyle V-Lead для соб M–L 2м зелений арт1970316","Менше 10","Амуніція для собак",1074.18,1396,{"$f":"Trixie!I$1435","v":0},{"$f":"Trixie!J$1435","v":0}]
[null,1111185478,1970319,"Повідок Trixie CityStyle V-Lead для соб M–L 2м світло-сірий арт1970319","Менше 10","Амуніція для собак",1074.18,1396,{"$f":"Trixie!I$1436","v":0},{"$f":"Trixie!J$1436","v":0}]
[null,1111185229,1970216,"Повідок Trixie CityStyle V-Lead для соб S–M 2м зелений арт1970216","Менше 10","Амуніція для собак",828,1076,{"$f":"Trixie!I$1437","v":0},{"$f":"Trixie!J$1437","v":0}]
[null,1111185477,1970219,"Повідок Trixie CityStyle V-Lead для соб S–M 2м світло-сірий арт1970219","Менше 10","Амуніція для собак",828,1076,{"$f":"Trixie!I$1438","v":0},{"$f":"Trixie!J$1438","v":0}]
[null,1111185230,1970301,"Повідок Trixie CityStyle V-Lead для соб бавовна M–L 2м чорн арт1970301","Менше 10","Амуніція для собак",1074.18,1396,{"$f":"Trixie!I$1439","v":0},{"$f":"Trixie!J$1439","v":0}]
[null,1111185228,1970201,"Повідок Trixie CityStyle V-Lead для соб бавовна S–M 2м чорн арт1970201","Менше 10","Амуніція для собак",828,1076,{"$f":"Trixie!I$1440","v":0},{"$f":"Trixie!J$1440","v":0}]
[null,1111185476,1970119,"Повідок Trixie CityStyle для соб M–L 1 м світло-сірий арт1970119","Менше 10","Амуніція для собак",612.66,796,{"$f":"Trixie!I$1441","v":0},{"$f":"Trixie!J$1441","v":0}]
[null,1111185224,1970001,"Повідок Trixie CityStyle для соб S–M 1,2 м 13 мм чорний арт1970001","Менше 10","Амуніція для собак",551.1,716,{"$f":"Trixie!I$1442","v":0},{"$f":"Trixie!J$1442","v":0}]
[null,1111185475,1970019,"Повідок Trixie CityStyle для соб S–M 1,2 м світло-сірий арт1970019","Менше 10","Амуніція для собак",551.1,716,{"$f":"Trixie!I$1443","v":0},{"$f":"Trixie!J$1443","v":0}]
[null,1111185225,1970016,"Повідок Trixie CityStyle для соб S–M 1,2м світло-зелений арт1970016","Більше 10","Амуніція для собак",551.1,716,{"$f":"Trixie!I$1444","v":0},{"$f":"Trixie!J$1444","v":0}]
[null,1111185226,1970101,"Повідок Trixie CityStyle для соб бавовна M–L 1 м 20мм чорн арт1970101","Менше 10","Амуніція для собак",612.66,796,{"$f":"Trixie!I$1445","v":0},{"$f":"Trixie!J$1445","v":0}]
[null,1111185227,1970116,"Повідок Trixie CityStyle для соб бавовна M–L 1м 20мм зелен арт1970116","Менше 10","Амуніція для собак",612.66,796,{"$f":"Trixie!I$1446","v":0},{"$f":"Trixie!J$1446","v":0}]
[null,1111185320,200333,"Повідок Trixie Premium для соб L–XL 1 м 25 мм оливк-зелений арт200333","Менше 10","Амуніція для собак",458.76,596,{"$f":"Trixie!I$1447","v":0},{"$f":"Trixie!J$1447","v":0}]
[null,1111185319,200332,"Повідок Trixie Premium для соб L–XL 1 м 25 мм синьо-зелений арт200332","Менше 10","Амуніція для собак",458.76,596,{"$f":"Trixie!I$1448","v":0},{"$f":"Trixie!J$1448","v":0}]
[null,1111185316,200233,"Повідок Trixie Premium для соб M–L 1 м 20 мм оливк-зелений арт200233","Менше 10","Амуніція для собак",397.26,516,{"$f":"Trixie!I$1449","v":0},{"$f":"Trixie!J$1449","v":0}]
[null,1111185308,200033,"Повідок Trixie Premium для соб XS 1,2 м 10 мм оливк-зелений арт200033","Менше 10","Амуніція для собак",243.36,316,{"$f":"Trixie!I$1450","v":0},{"$f":"Trixie!J$1450","v":0}]
[null,1111185307,200032,"Повідок Trixie Premium для соб XS 1,2 м 10 мм синьо-зелений арт200032","Менше 10","Амуніція для собак",243.36,316,{"$f":"Trixie!I$1451","v":0},{"$f":"Trixie!J$1451","v":0}]
[null,1111185312,200133,"Повідок Trixie Premium для соб XS–S 1,2 м 15 мм оливк-зелен арт200133","Менше 10","Амуніція для собак",335.7,436,{"$f":"Trixie!I$1452","v":0},{"$f":"Trixie!J$1452","v":0}]
[null,1111185311,200132,"Повідок Trixie Premium для соб XS–S 1,2 м 15 мм синьо-зелен арт200132","Менше 10","Амуніція для собак",335.7,436,{"$f":"Trixie!I$1453","v":0},{"$f":"Trixie!J$1453","v":0}]
[null,1111185376,203032,"Повідок Trixie Premium для соб екстрадовг M–L 1,8м син-зелен арт203032","Менше 10","Амуніція для собак",520.32000000000005,676,{"$f":"Trixie!I$1454","v":0},{"$f":"Trixie!J$1454","v":0}]
[null,1111185339,"200931*****","Повідок Trixie Premium для соб регул двошар L–XL 2м бордовий арт200931","Менше 10","Амуніція для собак",766.5,996,{"$f":"Trixie!I$1455","v":0},{"$f":"Trixie!J$1455","v":0}]
[null,1111185340,200934,"Повідок Trixie Premium для соб регул двошар L–XL 2м зелений арт200934","Менше 10","Амуніція для собак",766.5,996,{"$f":"Trixie!I$1456","v":0},{"$f":"Trixie!J$1456","v":0}]
[null,1111185341,200936,"Повідок Trixie Premium для соб регул двошар L–XL 2м пісочний арт200936","Менше 10","Амуніція для собак",766.5,996,{"$f":"Trixie!I$1457","v":0},{"$f":"Trixie!J$1457","v":0}]
[null,1111185336,200831,"Повідок Trixie Premium для соб регул двошар M–L 2 м бордовий арт200831","Менше 10","Амуніція для собак",612.66,796,{"$f":"Trixie!I$1458","v":0},{"$f":"Trixie!J$1458","v":0}]
[null,1111185338,200836,"Повідок Trixie Premium для соб регул двошар M–L 2 м пісочний арт200836","Менше 10","Амуніція для собак",612.66,796,{"$f":"Trixie!I$1459","v":0},{"$f":"Trixie!J$1459","v":0}]
[null,1111185337,200834,"Повідок Trixie Premium для соб регул двошар M–L 2м зелений арт200834","Менше 10","Амуніція для собак",612.66,796,{"$f":"Trixie!I$1460","v":0},{"$f":"Trixie!J$1460","v":0}]
[null,1111185342,201031,"Повідок Trixie Premium для соб регул двошар XS 2 м бордовий арт201031","Менше 10","Амуніція для собак",397.26,516,{"$f":"Trixie!I$1461","v":0},{"$f":"Trixie!J$1461","v":0}]
[null,1111185344,"201036*****","Повідок Trixie Premium для соб регул двошар XS 2 м пісочний арт201036","Менше 10","Амуніція для собак",397.26,516,{"$f":"Trixie!I$1462","v":0},{"$f":"Trixie!J$1462","v":0}]
[null,1111185335,200736,"Повідок Trixie Premium для соб регул двошар XS–S 2 м пісочн арт200736","Менше 10","Амуніція для собак",551.1,716,{"$f":"Trixie!I$1463","v":0},{"$f":"Trixie!J$1463","v":0}]
[null,1111185329,200628,"Повідок Trixie Premium для соб регульов L–XL 2 м аква арт200628","Менше 10","Амуніція для собак",551.1,716,{"$f":"Trixie!I$1464","v":0},{"$f":"Trixie!J$1464","v":0}]
[null,1111185330,200629,"Повідок Trixie Premium для соб регульов L–XL 2 м оранжевий арт200629","Менше 10","Амуніція для собак",551.1,716,{"$f":"Trixie!I$1465","v":0},{"$f":"Trixie!J$1465","v":0}]
[null,1111185331,200632,"Повідок Trixie Premium для соб регульов L–XL 2 м синьо-зелен арт200632","Менше 10","Амуніція для собак",551.1,716,{"$f":"Trixie!I$1466","v":0},{"$f":"Trixie!J$1466","v":0}]
[null,1111185332,200635,"Повідок Trixie Premium для соб регульов L–XL 2м світло-рожев арт200635","Менше 10","Амуніція для собак",551.1,716,{"$f":"Trixie!I$1467","v":0},{"$f":"Trixie!J$1467","v":0}]
[null,1111185325,200528,"Повідок Trixie Premium для соб регульов M–L 2 м аква арт200528","Менше 10","Амуніція для собак",458.76,596,{"$f":"Trixie!I$1468","v":0},{"$f":"Trixie!J$1468","v":0}]
[null,1111185326,200529,"Повідок Trixie Premium для соб регульов M–L 2 м оранжевий арт200529","Менше 10","Амуніція для собак",458.76,596,{"$f":"Trixie!I$1469","v":0},{"$f":"Trixie!J$1469","v":0}]
[null,1111185328,200535,"Повідок Trixie Premium для соб регульов M–L 2 м світло-рожев арт200535","Менше 10","Амуніція для собак",458.76,596,{"$f":"Trixie!I$1470","v":0},{"$f":"Trixie!J$1470","v":0}]
[null,1111185327,200532,"Повідок Trixie Premium для соб регульов M–L 2 м синьо-зелен арт200532","Менше 10","Амуніція для собак",458.76,596,{"$f":"Trixie!I$1471","v":0},{"$f":"Trixie!J$1471","v":0}]
[null,1111185347,201335,"Повідок Trixie Premium для соб регульов XS 2м світло-рожевий арт201335","Менше 10","Амуніція для собак",335.7,436,{"$f":"Trixie!I$1472","v":0},{"$f":"Trixie!J$1472","v":0}]
[null,1111185346,201332,"Повідок Trixie Premium для соб регульов XS 2м синьо-зелений арт201332","Менше 10","Амуніція для собак",335.7,436,{"$f":"Trixie!I$1473","v":0},{"$f":"Trixie!J$1473","v":0}]
[null,1111185321,200428,"Повідок Trixie Premium для соб регульов XS–S 2 м аква арт200428","Менше 10","Амуніція для собак",366.48,476,{"$f":"Trixie!I$1474","v":0},{"$f":"Trixie!J$1474","v":0}]
[null,1111185322,200429,"Повідок Trixie Premium для соб регульов XS–S 2 м оранжевий арт200429","Менше 10","Амуніція для собак",366.48,476,{"$f":"Trixie!I$1475","v":0},{"$f":"Trixie!J$1475","v":0}]
[null,1111185323,200432,"Повідок Trixie Premium для соб регульов XS–S 2 м синьо-зелен арт200432","Менше 10","Амуніція для собак",366.48,476,{"$f":"Trixie!I$1476","v":0},{"$f":"Trixie!J$1476","v":0}]
[null,1111185324,200435,"Повідок Trixie Premium для соб регульов XS–S 2м світло-рожев арт200435","Менше 10","Амуніція для собак",366.48,476,{"$f":"Trixie!I$1477","v":0},{"$f":"Trixie!J$1477","v":0}]
[null,1111185343,201034,"Повідок Trixie Premium для соб регульов двошар XS 2м зелений арт201034","Менше 10","Амуніція для собак",397.26,516,{"$f":"Trixie!I$1478","v":0},{"$f":"Trixie!J$1478","v":0}]
[null,1111185333,200731,"Повідок Trixie Premium для соб регульов двошар XS–S 2м бордо арт200731","Менше 10","Амуніція для собак",551.1,716,{"$f":"Trixie!I$1479","v":0},{"$f":"Trixie!J$1479","v":0}]
[null,1111185334,200734,"Повідок Trixie Premium для соб регульов двошар XS–S 2м зелен арт200734","Менше 10","Амуніція для собак",551.1,716,{"$f":"Trixie!I$1480","v":0},{"$f":"Trixie!J$1480","v":0}]
[null,1111185345,201328,"Повідок Trixie Premium для соб регульований XS 2м 10 мм аква арт201328","Менше 10","Амуніція для собак",335.7,436,{"$f":"Trixie!I$1481","v":0},{"$f":"Trixie!J$1481","v":0}]
[null,1111185317,200328,"Повідок Trixie Premium для собак L–XL 1 м 25 мм аква арт200328","Менше 10","Амуніція для собак",458.76,596,{"$f":"Trixie!I$1482","v":0},{"$f":"Trixie!J$1482","v":0}]
[null,1111185318,200330,"Повідок Trixie Premium для собак L–XL 1 м 25 мм рижий арт200330","Менше 10","Амуніція для собак",458.76,596,{"$f":"Trixie!I$1483","v":0},{"$f":"Trixie!J$1483","v":0}]
[null,1111185313,200228,"Повідок Trixie Premium для собак M–L 1 м 20 мм аква арт200228","Менше 10","Амуніція для собак",397.26,516,{"$f":"Trixie!I$1484","v":0},{"$f":"Trixie!J$1484","v":0}]
[null,1111185314,200230,"Повідок Trixie Premium для собак M–L 1 м 20 мм рижий арт200230","Менше 10","Амуніція для собак",397.26,516,{"$f":"Trixie!I$1485","v":0},{"$f":"Trixie!J$1485","v":0}]
[null,1111185315,200232,"Повідок Trixie Premium для собак M–L 1 м 20 мм синьо-зелений арт200232","Менше 10","Амуніція для собак",397.26,516,{"$f":"Trixie!I$1486","v":0},{"$f":"Trixie!J$1486","v":0}]
[null,1111185305,200028,"Повідок Trixie Premium для собак XS 1,2 м 10 мм аква арт200028","Менше 10","Амуніція для собак",243.36,316,{"$f":"Trixie!I$1487","v":0},{"$f":"Trixie!J$1487","v":0}]
[null,1111185306,200030,"Повідок Trixie Premium для собак XS 1,2 м 10 мм рижий арт200030","Менше 10","Амуніція для собак",243.36,316,{"$f":"Trixie!I$1488","v":0},{"$f":"Trixie!J$1488","v":0}]
[null,1111185309,200128,"Повідок Trixie Premium для собак XS–S 1,2 м 15 мм аква арт200128","Менше 10","Амуніція для собак",335.7,436,{"$f":"Trixie!I$1489","v":0},{"$f":"Trixie!J$1489","v":0}]
[null,1111185310,200130,"Повідок Trixie Premium для собак XS–S 1,2 м 15 мм рижий арт200130","Менше 10","Амуніція для собак",335.7,436,{"$f":"Trixie!I$1490","v":0},{"$f":"Trixie!J$1490","v":0}]
[null,1111185253,198060,"Повідок Trixie Tracking lead для соб XS–S 5 м 10 мм рижий арт198060","Менше 10","Амуніція для собак",151.08000000000001,196,{"$f":"Trixie!I$1491","v":0},{"$f":"Trixie!J$1491","v":0}]
[null,1111150222,143611,"Повідок Trixie Каво регульований L–XL 2 мх18мм фуксія-графіт Арт143611","Більше 10","Амуніція для собак",674.16,876,{"$f":"Trixie!I$1492","v":0},{"$f":"Trixie!J$1492","v":0}]
[null,1111183800,143620,"Повідок Trixie Каво регульований L–XL 2мх18мм чорний-графіт Арт143620","Більше 10","Амуніція для собак",674.16,876,{"$f":"Trixie!I$1493","v":0},{"$f":"Trixie!J$1493","v":0}]
[null,1111150213,143503,"Повідок Trixie Каво регульований S–M 2,00 м х 12 мм червоний Арт143503","Менше 10","Амуніція для собак",397.26,516,{"$f":"Trixie!I$1494","v":0},{"$f":"Trixie!J$1494","v":0}]
[null,1111207884,24153,"ПОГНУТІ ЗУБЦІ Щітка Trixie  для котів  двухстороння нейлонові і дротян","Менше 10","Догляд та гігієна для собак",194.04,0,{"$f":"Trixie!I$1495","v":0},{"$f":"Trixie!J$1495","v":0}]
[null,1111201726,"4008_1шт","ПОДРЯПИНИ Миска Trixie для котів керамічна 200 мл d-11,5 см","Менше 10","Миски для котів",55.02,0,{"$f":"Trixie!I$1496","v":0},{"$f":"Trixie!J$1496","v":0}]
[null,1111196612,24495,"ПОДРЯПИНИ Миска Trixie для котів короткомордих порід овальна керамічна","Менше 10","Миски для котів",69.900000000000006,0,{"$f":"Trixie!I$1497","v":0},{"$f":"Trixie!J$1497","v":0}]
[null,1111168084,"38951*****","Подушка Trixie Kaline для собак овальна сіра/кремова текстиль 44х31 см","Менше 10","Спальні місця для собак",486.78,633,{"$f":"Trixie!I$1498","v":0},{"$f":"Trixie!J$1498","v":0}]
[null,1111112060,60445,"Поїлка Trixie HoneyHopper для гризунів автоматична скляна 125 мл","Більше 10","Обладнання для гризунів",226.62,295,{"$f":"Trixie!I$1499","v":0},{"$f":"Trixie!J$1499","v":0}]
[null,1111114040,"60446  Trixie","Поїлка Trixie HoneyHopper для гризунів автоматична скляна 250 мл","Більше 10","Обладнання для гризунів",260.16000000000003,338,{"$f":"Trixie!I$1500","v":0},{"$f":"Trixie!J$1500","v":0}]
[null,311982,60447,"Поїлка Trixie HoneyHopper для гризунів автоматична скляна 500 мл","Більше 10","Обладнання для гризунів",292.32,380,{"$f":"Trixie!I$1501","v":0},{"$f":"Trixie!J$1501","v":0}]
[null,546,"60571_1шт","Поїлка Trixie для гризунів автоматична гвинт/кріплення пластик 125мл","Більше 100","Обладнання для гризунів",89.52,116,{"$f":"Trixie!I$1502","v":0},{"$f":"Trixie!J$1502","v":0}]
[null,1111122421,"60573_1шт Trixie","Поїлка Trixie для гризунів автоматична гвинт/кріплення пластик 500мл","Більше 10","Обладнання для гризунів",151.08000000000001,196,{"$f":"Trixie!I$1503","v":0},{"$f":"Trixie!J$1503","v":0}]
[null,6934,"6052_1шт","Поїлка Trixie для гризунів автоматична пластикова 100мл","Більше 100","Обладнання для гризунів",60.18,78,{"$f":"Trixie!I$1504","v":0},{"$f":"Trixie!J$1504","v":0}]
[null,5976,"6053_1шт","Поїлка Trixie для гризунів автоматична пластикова 250мл","Більше 100","Обладнання для гризунів",75.540000000000006,98,{"$f":"Trixie!I$1505","v":0},{"$f":"Trixie!J$1505","v":0}]
[null,5975,"6054_1шт","Поїлка Trixie для гризунів автоматична пластикова 450мл","Більше 10","Обладнання для гризунів",82.56,107,{"$f":"Trixie!I$1506","v":0},{"$f":"Trixie!J$1506","v":0}]
[null,6928,"6051_1шт","Поїлка Trixie для гризунів автоматична пластикова 50мл","Більше 100","Обладнання для гризунів",60.18,78,{"$f":"Trixie!I$1507","v":0},{"$f":"Trixie!J$1507","v":0}]
[null,12131,"6050_1шт","Поїлка Trixie для гризунів автоматична пластикова 600мл","Більше 100","Обладнання для гризунів",100.74,131,{"$f":"Trixie!I$1508","v":0},{"$f":"Trixie!J$1508","v":0}]
[null,1111118317,6070,"Поїлка Trixie для гризунів з кріпленням-гачком/присоскою скляна 50мл","Більше 10","Обладнання для гризунів",134.28,175,{"$f":"Trixie!I$1509","v":0},{"$f":"Trixie!J$1509","v":0}]
[null,1111137672,60441,"Поїлка Trixie для гризунів скляна 125мл","Більше 10","Обладнання для гризунів",226.62,295,{"$f":"Trixie!I$1510","v":0},{"$f":"Trixie!J$1510","v":0}]
[null,1111137673,60442,"Поїлка Trixie для гризунів скляна 250мл","Менше 10","Обладнання для гризунів",260.16000000000003,338,{"$f":"Trixie!I$1511","v":0},{"$f":"Trixie!J$1511","v":0}]
[null,1111116147,6065,"Поїлка Trixie для кроликів автоматична пластикова 450мл","Більше 10","Обладнання для гризунів",88.14,115,{"$f":"Trixie!I$1512","v":0},{"$f":"Trixie!J$1512","v":0}]
[null,1111118498,5420,"Поїлка Trixie для птахів пластикова 130 мл","Більше 10","Обладнання для птахів",72.78,95,{"$f":"Trixie!I$1513","v":0},{"$f":"Trixie!J$1513","v":0}]
[null,6926,5410,"Поїлка Trixie для птахів пластикова 50 мл","Більше 10","Обладнання для птахів",50.4,65,{"$f":"Trixie!I$1514","v":0},{"$f":"Trixie!J$1514","v":0}]
[null,1111121138,2462,"Поїлка Trixie для собак для подорожей пластикова 250 мл","Більше 100","Сумки, переноски та посуд для подорожей з собаками",120.3,156,{"$f":"Trixie!I$1515","v":0},{"$f":"Trixie!J$1515","v":0}]
[null,13727,2461,"Поїлка Trixie для собак для подорожей пластикова 500 мл","Більше 100","Сумки, переноски та посуд для подорожей з собаками",151.08000000000001,196,{"$f":"Trixie!I$1516","v":0},{"$f":"Trixie!J$1516","v":0}]
[null,1111124228,2459,"Поїлка Trixie для собак для подорожей пластикова 700 мл","Більше 100","Сумки, переноски та посуд для подорожей з собаками",181.86,236,{"$f":"Trixie!I$1517","v":0},{"$f":"Trixie!J$1517","v":0}]
[null,1111161156,24609,"Поїлка Trixie для собак з мискою біла/блакитна пластик 550 мл","Більше 100","Сумки, переноски та посуд для подорожей з собаками",212.64,276,{"$f":"Trixie!I$1518","v":0},{"$f":"Trixie!J$1518","v":0}]
[null,1111119529,5445,"Поїлка-годівниця Trixie для птахів пластикова 200 мл","Більше 10","Обладнання для птахів",120.3,156,{"$f":"Trixie!I$1519","v":0},{"$f":"Trixie!J$1519","v":0}]
[null,1111114679,5415,"Поїлка-годівниця Trixie птахів пластик 65 мл","Більше 10","Обладнання для птахів",61.56,80,{"$f":"Trixie!I$1520","v":0},{"$f":"Trixie!J$1520","v":0}]
[null,1111114682,5425,"Поїлка-годівниця Trixie птахів пластик 90 мл","Більше 10","Обладнання для птахів",61.56,80,{"$f":"Trixie!I$1521","v":0},{"$f":"Trixie!J$1521","v":0}]
[null,1111170421,24444,"Поїлка-фонтан Trixie CurvedStream д/соб біла пластик 2,5л 25х24,5х35см","Менше 10","Поїлки автоматичні для котів",1657.44,2155,{"$f":"Trixie!I$1522","v":0},{"$f":"Trixie!J$1522","v":0}]
[null,1111170423,24446,"Поїлка-фонтан Trixie Flower д/котів біл/сір пластик 2л 18,5х13х18,5см","Більше 10","Поїлки автоматичні для котів",1128.72,1467,{"$f":"Trixie!I$1523","v":0},{"$f":"Trixie!J$1523","v":0}]
[null,1111200208,76134,"ПОРВ. ПАК. Тераріумний субстрат Trixie пісок д/тераріуму 5кг пісочний","Менше 10","Наповнювачі та субстрати для тераріума",122.1,0,{"$f":"Trixie!I$1524","v":0},{"$f":"Trixie!J$1524","v":0}]
[null,1111199765,24870,"ПОРВ. РЕЗИНКА Миска Trixie для котів на гумовій основі з рибками нержа","Менше 10","Миски для котів",27.84,0,{"$f":"Trixie!I$1525","v":0},{"$f":"Trixie!J$1525","v":0}]
[null,1111200999,24499,"ПОРВ. УП. Миска Trixie д/котів біла чорн/котик керам 250мл d-13см","Менше 10","Миски для котів",72.06,0,{"$f":"Trixie!I$1526","v":0},{"$f":"Trixie!J$1526","v":0}]
[null,1111205990,24855,"ПОРВ.РЕЗИНКА.Миска Trixie для собак на гумовій кромці металева 2,7 л/3","Менше 10","Миски та годівниці для собак",126.42,0,{"$f":"Trixie!I$1527","v":0},{"$f":"Trixie!J$1527","v":0}]
[null,1111205875,35930,"ПОРВАНА ПО ШВУ Іграшка Trixie д/соб Собака кудлата пискавка плюш 30см","Менше 10","Іграшки для собак",119.04,0,{"$f":"Trixie!I$1528","v":0},{"$f":"Trixie!J$1528","v":0}]
[null,1111204690,32022,"ПОШК.ПАК Іграшка Trixie Dog Activity д/собак Chess пластик 40х10х27см","Менше 10","Іграшки для собак",329.46,0,{"$f":"Trixie!I$1529","v":0},{"$f":"Trixie!J$1529","v":0}]
[null,1111205284,25022,"ПОШКОДЖЕННЯ Миска Trixie для собак керамічна чорна 1,6 л 20 см","Менше 10","Миски та годівниці для собак",179.16,0,{"$f":"Trixie!I$1530","v":0},{"$f":"Trixie!J$1530","v":0}]
[null,1111157199,19407,"Пояс Trixie для собак підтримуючий неопреновий чорний L 65–75 см","Менше 10","Амуніція для собак",335.7,436,{"$f":"Trixie!I$1531","v":0},{"$f":"Trixie!J$1531","v":0}]
[null,1111163636,19406,"Пояс Trixie для собак підтримуючий неопреновий чорний M 55–65 см","Менше 10","Амуніція для собак",304.92,396,{"$f":"Trixie!I$1532","v":0},{"$f":"Trixie!J$1532","v":0}]
[null,1111133846,"1292*****","Пояс-шлея Trixie для собак в авто L 70–90 см на 25 мм чорний Арт1292","Більше 10","Сумки, переноски та посуд для подорожей з собаками",458.76,596,{"$f":"Trixie!I$1533","v":0},{"$f":"Trixie!J$1533","v":0}]
[null,1111133845,"1291*****","Пояс-шлея Trixie для собак в авто M 50–70 см на 25 мм чорний Арт1291","Більше 10","Сумки, переноски та посуд для подорожей з собаками",428.04,556,{"$f":"Trixie!I$1534","v":0},{"$f":"Trixie!J$1534","v":0}]
[null,1111133844,"1290*****","Пояс-шлея Trixie для собак в авто S 30–60 см на 20 мм чорний Арт1290","Більше 10","Сумки, переноски та посуд для подорожей з собаками",335.7,436,{"$f":"Trixie!I$1535","v":0},{"$f":"Trixie!J$1535","v":0}]
[null,1111183708,12767,"Пояс-шлея Trixie для собак пояс 70–130смх9см шлея 1,20–1,50см Арт12767","Менше 10","Амуніція для собак",818.22,1064,{"$f":"Trixie!I$1536","v":0},{"$f":"Trixie!J$1536","v":0}]
[null,4223,2353,"Пуходерка Trixie д/гризун м_яка дерев/хром з додатк гребінцем 6х13 см","Більше 100","Догляд та гігієна для гризунів",120.3,156,{"$f":"Trixie!I$1537","v":0},{"$f":"Trixie!J$1537","v":0}]
[null,1111117633,6288,"Пуходерка Trixie д/гризун м_яка пластик з додатковим гребінцем 7х13 см","Більше 10","Догляд та гігієна для гризунів",120.3,156,{"$f":"Trixie!I$1538","v":0},{"$f":"Trixie!J$1538","v":0}]
[null,12276,2306,"Пуходерка Trixie д/соб м_яка двостороння зі щіткою пластикова 10х17см","Більше 100","Догляд та гігієна для собак",151.08000000000001,196,{"$f":"Trixie!I$1539","v":0},{"$f":"Trixie!J$1539","v":0}]
[null,6194,2356,"Пуходерка Trixie д/соб м_яка дерев/хром з додатковим гребінцем 11х14см","Більше 10","Догляд та гігієна для собак",181.86,236,{"$f":"Trixie!I$1540","v":0},{"$f":"Trixie!J$1540","v":0}]
[null,1111145745,23125,"Пуходерка Trixie для котів пластикова 7х16 см","Більше 10","Догляд та гігієна для котів",325.92,424,{"$f":"Trixie!I$1541","v":0},{"$f":"Trixie!J$1541","v":0}]
[null,9745,2305,"Пуходерка Trixie для собак двостороння зі щіткою дерев_яна 10х18 см","Більше 100","Догляд та гігієна для собак",151.08000000000001,196,{"$f":"Trixie!I$1542","v":0},{"$f":"Trixie!J$1542","v":0}]
[null,5083,2300,"Пуходерка Trixie для собак дерев_яна 10х18 см","Більше 100","Догляд та гігієна для собак",134.28,175,{"$f":"Trixie!I$1543","v":0},{"$f":"Trixie!J$1543","v":0}]
[null,1111201730,45617,"РОЗІРВАНА ІГР.НА 0,5 СМ .Іграшка Trixie для котів Паличка з плюшевою з","Менше 10","Іграшки для котів",65.28,0,{"$f":"Trixie!I$1544","v":0},{"$f":"Trixie!J$1544","v":0}]
[null,4701,2335,"Рукавичка Trixie для вичісування шерсті гумова 14х25 см","Більше 10","Догляд та гігієна для собак",134.28,175,{"$f":"Trixie!I$1545","v":0},{"$f":"Trixie!J$1545","v":0}]
[null,1111150257,23393,"Рукавичка Trixie для вичісування шерсті гумова/тканинна 16х24 см","Більше 100","Догляд та гігієна для собак",151.08000000000001,196,{"$f":"Trixie!I$1546","v":0},{"$f":"Trixie!J$1546","v":0}]
[null,1111134531,23391,"Рукавичка Trixie для вичісування шерсті гумова/тканинна 18х24 см","Більше 10","Догляд та гігієна для собак",134.28,175,{"$f":"Trixie!I$1547","v":0},{"$f":"Trixie!J$1547","v":0}]
[null,1111135345,23392,"Рукавичка Trixie масажна д/шерсті з метал зубчик гума/тканина 18х24 см","Більше 10","Догляд та гігієна для собак",243.36,316,{"$f":"Trixie!I$1548","v":0},{"$f":"Trixie!J$1548","v":0}]
[null,1111183908,"31510_5шт*****","Рулька з куркою для собак 150 гр","Більше 10",null,902.16,1173,{"$f":"Trixie!I$1549","v":0},{"$f":"Trixie!J$1549","v":0}]
[null,1111114716,2882,"Рюкзак-переноска Trixie Connor д/соб нейлон чорн/сір до 8кг 42х29х21см","Менше 10","Сумки, переноски та посуд для подорожей з собаками",1009.86,1313,{"$f":"Trixie!I$1550","v":0},{"$f":"Trixie!J$1550","v":0}]
[null,1111125950,28941,"Рюкзак-переноска Trixie Savina д/соб поліес чорн/сір до10кг 30х33х26см","Менше 10","Сумки, переноски та посуд для подорожей з собаками",1663.02,2162,{"$f":"Trixie!I$1551","v":0},{"$f":"Trixie!J$1551","v":0}]
[null,1111122532,28871,"Рюкзак-переноска Trixie Shiva д/соб поліес коричн до 8 кг 41х30х21 см","Менше 10","Сумки, переноски та посуд для подорожей з собаками",1663.02,2162,{"$f":"Trixie!I$1552","v":0},{"$f":"Trixie!J$1552","v":0}]
[null,1111183743,28840,"Рюкзак-переноска Trixie Ава 32 х 42 х 20 см сірий Арт28840","Менше 10","Сумки, переноски та посуд для подорожей з собаками",1415.46,1840,{"$f":"Trixie!I$1553","v":0},{"$f":"Trixie!J$1553","v":0}]
[null,1111119352,2254,"Свисток Trixie Buffalo д/тренув собак зі шкіряним шнурком пластик 6 см","Менше 10","Амуніція для собак",274.14,356,{"$f":"Trixie!I$1554","v":0},{"$f":"Trixie!J$1554","v":0}]
[null,1111119353,2255,"Свисток Trixie Buffalo д/тренув собак зі шкіряним шнурком пластик 9 см","Менше 10","Амуніція для собак",304.92,396,{"$f":"Trixie!I$1555","v":0},{"$f":"Trixie!J$1555","v":0}]
[null,5569,2258,"Свисток Trixie для тренування собак ультразвуковий металевий 5 см","Більше 10","Амуніція для собак",120.3,156,{"$f":"Trixie!I$1556","v":0},{"$f":"Trixie!J$1556","v":0}]
[null,1111114755,2257,"Свисток Trixie для тренування собак ультразвуковий металевий 8 см","Менше 10","Амуніція для собак",134.28,175,{"$f":"Trixie!I$1557","v":0},{"$f":"Trixie!J$1557","v":0}]
[null,1111121025,2940,"Серветки Trixie д/очищен універсальні з алое пластикова банка 30 шт/уп","Більше 100","Догляд та гігієна для собак",198.66,258,{"$f":"Trixie!I$1558","v":0},{"$f":"Trixie!J$1558","v":0}]
[null,1111146936,29415,"Серветки Trixie для очищення очей пластикова банка 30 шт/уп","Більше 10","Догляд та гігієна для собак",198.66,258,{"$f":"Trixie!I$1559","v":0},{"$f":"Trixie!J$1559","v":0}]
[null,1111195233,24414,"СКОЛ Миска Trixie Food керамічна для собак 0,6 л діаметр 15 см біло-чо","Менше 10","Миски та годівниці для собак",97.74,0,{"$f":"Trixie!I$1560","v":0},{"$f":"Trixie!J$1560","v":0}]
[null,1111208456,"24302*****","СКОЛ Миска Trixie для собак Be Nordic синя/бежева керамічна 800 мл 25 ","Менше 10","Миски та годівниці для собак",388.26,0,{"$f":"Trixie!I$1561","v":0},{"$f":"Trixie!J$1561","v":0}]
[null,1111199640,25126,"СКОЛ Миска Trixie для цуценят Junior керамічна 300мл 12см","Менше 10","Миски та годівниці для собак",67.260000000000005,0,{"$f":"Trixie!I$1562","v":0},{"$f":"Trixie!J$1562","v":0}]
[null,1111208221,24533,"СКОЛ НА ДНІ Миска Trixie д/котів з лапками коричнева керам 20см 1,4л","Менше 10","Миски та годівниці для собак",194.22,0,{"$f":"Trixie!I$1563","v":0},{"$f":"Trixie!J$1563","v":0}]
[null,1111207192,25126,"СКОЛ НА ДНІ Миска Trixie для цуценят Junior керамічна 300мл 12см","Менше 10","Миски та годівниці для собак",73.92,0,{"$f":"Trixie!I$1564","v":0},{"$f":"Trixie!J$1564","v":0}]
[null,9236,6030,"Спрей Trixie BIOLiberator для птахів від зовнішніх паразитів 100мл","Менше 10","Ветпрепарати для птахів",303.54000000000002,395,{"$f":"Trixie!I$1565","v":0},{"$f":"Trixie!J$1565","v":0}]
[null,1111132058,2932,"Спрей Trixie д/собак догляд за шерстю від колтунів масло жожоба 175мл","Більше 10","Догляд та гігієна для собак",144.06,187,{"$f":"Trixie!I$1566","v":0},{"$f":"Trixie!J$1566","v":0}]
[null,11120,4238,"Спрей Trixie для котів для притягування Валеріана 150 мл","Більше 10","Корекція поведінки для котів",134.28,175,{"$f":"Trixie!I$1567","v":0},{"$f":"Trixie!J$1567","v":0}]
[null,1111129085,4241,"Спрей Trixie для котів для притягування Котяча м_ята спрей 50 мл","Більше 100","Корекція поведінки для котів",95.16,124,{"$f":"Trixie!I$1568","v":0},{"$f":"Trixie!J$1568","v":0}]
[null,1111132059,2572,"Спрей Trixie для котів та собак для подушечок лап захисний 50мл","Більше 100","Догляд та гігієна для собак",120.3,156,{"$f":"Trixie!I$1569","v":0},{"$f":"Trixie!J$1569","v":0}]
[null,8164,2548,"Спрей Trixie для собак для догляду за ротовою порожниною 50мл","Більше 100","Догляд та гігієна для собак",128.69999999999999,167,{"$f":"Trixie!I$1570","v":0},{"$f":"Trixie!J$1570","v":0}]
[null,12201,2930,"Спрей Trixie для собак для догляду за шерстю від колтунів 175мл","Більше 100","Догляд та гігієна для собак",128.69999999999999,167,{"$f":"Trixie!I$1571","v":0},{"$f":"Trixie!J$1571","v":0}]
[null,1111138452,42421,"Спрей Trixie з валеріаною 175мл","Менше 10","Корекція поведінки для котів",160.86000000000001,209,{"$f":"Trixie!I$1572","v":0},{"$f":"Trixie!J$1572","v":0}]
[null,9926,2931,"Спрей Trixie Не Гризи для собак 175мл","Менше 10","Корекція поведінки для собак",198.66,258,{"$f":"Trixie!I$1573","v":0},{"$f":"Trixie!J$1573","v":0}]
[null,1111137874,44000,"Стовпчик Trixie для котів запасний для дряпки із сизалю 11х30см","Менше 10","Дряпки для котів",482.58,627,{"$f":"Trixie!I$1574","v":0},{"$f":"Trixie!J$1574","v":0}]
[null,1111119422,44003,"Стовпчик Trixie для котів запасний для дряпки із сизалю 11х60см","Менше 10","Дряпки для котів",888.18,1155,{"$f":"Trixie!I$1575","v":0},{"$f":"Trixie!J$1575","v":0}]
[null,1111120814,43991,"Стовпчик Trixie для котів запасний для дряпки із сизалю 9х40см","Менше 10","Дряпки для котів",401.46,522,{"$f":"Trixie!I$1576","v":0},{"$f":"Trixie!J$1576","v":0}]
[null,1111120269,43992,"Стовпчик Trixie для котів запасний для дряпки із сизалю 9х50см","Більше 10","Дряпки для котів",482.58,627,{"$f":"Trixie!I$1577","v":0},{"$f":"Trixie!J$1577","v":0}]
[null,1111120481,43993,"Стовпчик Trixie для котів запасний для дряпки із сизалю 9х60см","Менше 10","Дряпки для котів",563.70000000000005,733,{"$f":"Trixie!I$1578","v":0},{"$f":"Trixie!J$1578","v":0}]
[null,1111120631,43994,"Стовпчик Trixie для котів запасний для дряпки із сизалю 9х70см","Менше 10","Дряпки для котів",685.38,891,{"$f":"Trixie!I$1579","v":0},{"$f":"Trixie!J$1579","v":0}]
[null,1111122838,3227,"Сумка Trixie Baggy Snack для собак для дресирування нейлон 10x14см","Менше 10","Сумки, переноски та посуд для подорожей з собаками",151.08000000000001,196,{"$f":"Trixie!I$1580","v":0},{"$f":"Trixie!J$1580","v":0}]
[null,1111185430,32293,"Сумка Trixie BE NORDIC для ласощів діаметр 10х14 см пісочна арт32293","Більше 10","Сумки, переноски та посуд для подорожей з собаками",194.46,253,{"$f":"Trixie!I$1581","v":0},{"$f":"Trixie!J$1581","v":0}]
[null,1111183721,22852,"Сумка для пакетів Trixie для собак неопрен 1 шт на 20 пакетів Арт22852","Більше 10","Туалети для собак",151.08000000000001,196,{"$f":"Trixie!I$1582","v":0},{"$f":"Trixie!J$1582","v":0}]
[null,1111183751,36244,"Сумка-переноска Trixie Аміна 18 х 29 х 37 см чорна Арт36244","Менше 10","Сумки, переноски та посуд для подорожей з собаками",1415.46,1840,{"$f":"Trixie!I$1583","v":0},{"$f":"Trixie!J$1583","v":0}]
[null,1111132249,36231,"Сумка-переноска Trixie Вікторія 26 х 29 х 50 см темно-синя","Менше 10","Сумки, переноски та посуд для подорожей з собаками",1212.6600000000001,1576,{"$f":"Trixie!I$1584","v":0},{"$f":"Trixie!J$1584","v":0}]
[null,1111122195,2889,"Сумка-переноска Trixie д/собак Adrina до 7кг поліест чорна 26x27x42см","Більше 10","Сумки, переноски та посуд для подорожей з собаками",1009.86,1313,{"$f":"Trixie!I$1585","v":0},{"$f":"Trixie!J$1585","v":0}]
[null,1111143314,36253,"Сумка-переноска Trixie д/собак Helen до 10кг бав/шкір сіра 19x28x40см","Більше 10","Сумки, переноски та посуд для подорожей з собаками",2717.58,3533,{"$f":"Trixie!I$1586","v":0},{"$f":"Trixie!J$1586","v":0}]
[null,1111170494,36217,"Сумка-переноска Trixie д/собак Riva до 7кг поліестер срібна 26x30x45см","Менше 10","Сумки, переноски та посуд для подорожей з собаками",1212.6600000000001,1576,{"$f":"Trixie!I$1587","v":0},{"$f":"Trixie!J$1587","v":0}]
[null,1111116805,36211,"Сумка-переноска Trixie д/собак Riva до 7кг поліестер чорна 26x30x45см","Менше 10","Сумки, переноски та посуд для подорожей з собаками",1212.6600000000001,1576,{"$f":"Trixie!I$1588","v":0},{"$f":"Trixie!J$1588","v":0}]
[null,1111115569,"28841 Trixie","Сумка-переноска Trixie д/собак Ryan до 6кг поліестер чорна 26x27x47см","Менше 10","Сумки, переноски та посуд для подорожей з собаками",1009.86,1313,{"$f":"Trixie!I$1589","v":0},{"$f":"Trixie!J$1589","v":0}]
[null,1111138483,36247,"Сумка-переноска Trixie для котів Elisa з поліестеру біла 20x26x41см","Менше 10","Сумки, переноски та посуд для подорожей з собаками",1212.6600000000001,1576,{"$f":"Trixie!I$1590","v":0},{"$f":"Trixie!J$1590","v":0}]
[null,1111134485,"28903*****","Сумка-переноска Trixie для собак Maxima до 8 кг кремова 33x32x54см","Менше 10","Сумки, переноски та посуд для подорожей з собаками",4214.16,5478,{"$f":"Trixie!I$1591","v":0},{"$f":"Trixie!J$1591","v":0}]
[null,1111118183,39703,"Сумка-переноска Trixie для собак Tcamp з поліестеру синя S 50x50x60см","Менше 10","Сумки, переноски та посуд для подорожей з собаками",1902.18,2473,{"$f":"Trixie!I$1592","v":0},{"$f":"Trixie!J$1592","v":0}]
[null,1111119364,28851,"Сумка-переноска Trixie Раян 30 х 30 х 54 см чорна Арт28851","Менше 10","Сумки, переноски та посуд для подорожей з собаками",1090.98,1418,{"$f":"Trixie!I$1593","v":0},{"$f":"Trixie!J$1593","v":0}]
[null,1111123137,2880,"Сумка-рюкзак Trixie д/собак Trolley до 8кг поліест чорн/сір 32х45х25см","Менше 10","Сумки, переноски та посуд для подорожей з собаками",2717.58,3533,{"$f":"Trixie!I$1594","v":0},{"$f":"Trixie!J$1594","v":0}]
[null,1111185428,"28867*****","Сумка-рюкзак Trixie з поясним ременем пояс 55-130 см рижа арт28867","Менше 10","Сумки, переноски та посуд для подорожей з собаками",751.08,976,{"$f":"Trixie!I$1595","v":0},{"$f":"Trixie!J$1595","v":0}]
[null,1111126025,76132,"Тераріумний субстрат Trixie пустельний пісок 5кг червоний Арт76132","Менше 10","Наповнювачі та субстрати для тераріума",563.70000000000005,733,{"$f":"Trixie!I$1596","v":0},{"$f":"Trixie!J$1596","v":0}]
[null,1111208350,"31761*****","ТЕРМ 12.25 PREMIO liver pâté XXL Trixie д/собак Печінковий паштет 300г","Більше 10","Ласощі для собак",168.54,0,{"$f":"Trixie!I$1597","v":0},{"$f":"Trixie!J$1597","v":0}]
[null,1111200529,"31399_5шт","ТЕРМ. 08.25 Ласощі Trixie Denta Fun Куряче Тако д/соб 12см 80г 5шт/уп","Більше 10","Ласощі для собак",222.24,0,{"$f":"Trixie!I$1598","v":0},{"$f":"Trixie!J$1598","v":0}]
[null,1111204513,"31195_5шт","ТЕРМ. 09.25 Ласощі Trixie Denta Fun Фан Міні батон 13см 70г 5шт/уп","Менше 10","Ласощі для собак",234.3,0,{"$f":"Trixie!I$1599","v":0},{"$f":"Trixie!J$1599","v":0}]
[null,1111206346,"31185_5шт","ТЕРМ. 10.25 Ласощі Trixie Denta Fun Жувальний пиріг д 9см 70г 5шт/уп","Менше 10","Ласощі для собак",230.04,0,{"$f":"Trixie!I$1600","v":0},{"$f":"Trixie!J$1600","v":0}]
[null,1111204506,"9268_Christmas","ТЕРМ.01.26.НЕ ТОВ.ВИГ.Адвент-календар Trixie для собак Різдвяний з лас","Менше 10","Ласощі для собак",193.8,0,{"$f":"Trixie!I$1601","v":0},{"$f":"Trixie!J$1601","v":0}]
[null,1111197546,"9264_Christmas","ТЕРМ.03.26.ПОРВ.УП.Адвент календар Trixie для котів PREMIO 30х34х3,5 с","Менше 10","Ласощі для котів",195.6,0,{"$f":"Trixie!I$1602","v":0},{"$f":"Trixie!J$1602","v":0}]
[null,1111208438,31867,"ТЕРМ.05.26.НЕ ТОВ.ВИГ.Ласощі Trixie Premio Guse Liver Cubes для собак ","Менше 10","Ласощі для собак",68.58,0,{"$f":"Trixie!I$1603","v":0},{"$f":"Trixie!J$1603","v":0}]
[null,1111206225,42732,"ТЕРМ.07.25,Trixie Premio Tuna Rolls лас д/к тунець/курка 50г","Менше 10","Ласощі для котів",42,0,{"$f":"Trixie!I$1604","v":0},{"$f":"Trixie!J$1604","v":0}]
[null,1111207625,"2707_5шт*****","ТЕРМ.07.25.Ласощі Trixie Бичка сушена для собак 70–80 см/ 5 шт, Обмеже","Більше 10",null,1409.16,0,{"$f":"Trixie!I$1605","v":0},{"$f":"Trixie!J$1605","v":0}]
[null,1111206463,31846,"ТЕРМ.11.25.Ласощі Trixie Liver pâté with hemp для собак Печінковий паш","Більше 10","Ласощі для собак",75.180000000000007,0,{"$f":"Trixie!I$1606","v":0},{"$f":"Trixie!J$1606","v":0}]
[null,1111206717,42735,"ТЕРМ.11.25.Ласощі д/кот. PREMIO Chicken Tenders курячі крила 70гр/4шт","Більше 10","Ласощі для котів",46.38,0,{"$f":"Trixie!I$1607","v":0},{"$f":"Trixie!J$1607","v":0}]
[null,1111207434,"3179*****","ТЕРМ.12.25.Ласощі Trixie PREMIO poultry pâté для собак Паштет з птиці ","Більше 10","Ласощі для собак",95.82,0,{"$f":"Trixie!I$1608","v":0},{"$f":"Trixie!J$1608","v":0}]
[null,1111206180,"313321_5 шт","ТЕРМ.12.26.НЕ КОМПЛЕК 4ШТ Ласощі Trixie Denta Fun Chicken Chewing Ring","Менше 10","Ласощі для собак",0,0,{"$f":"Trixie!I$1609","v":0},{"$f":"Trixie!J$1609","v":0}]
[null,1111122466,38872,"Термо-килимок Trixie для котів Capri 2 у переноску плюш сірий 26х46см","Більше 10","Сумки, переноски та посуд для подорожей з котами",222.42,289,{"$f":"Trixie!I$1610","v":0},{"$f":"Trixie!J$1610","v":0}]
[null,1111122467,38873,"Термо-килимок Trixie для котів Capri 3 у переноску плюш сірий 29х51см","Більше 10","Сумки, переноски та посуд для подорожей з котами",260.16000000000003,338,{"$f":"Trixie!I$1611","v":0},{"$f":"Trixie!J$1611","v":0}]
[null,1111126096,76113,"Термометр-гігрометр Trixie для тераріума механічний з наліпкою 7,5см","Менше 10","Аксесуари для тераріума",325.92,424,{"$f":"Trixie!I$1612","v":0},{"$f":"Trixie!J$1612","v":0}]
[null,1111117393,"4232*****","Трава Trixie Soft Grass для котів та кошенят контейнер пластик 100г","Більше 100","Ласощі для котів",113.34,147,{"$f":"Trixie!I$1613","v":0},{"$f":"Trixie!J$1613","v":0}]
[null,1111145579,"4233*****","Трава Trixie для котів 100 г пакет","Менше 10","Ласощі для котів",103.5,135,{"$f":"Trixie!I$1614","v":0},{"$f":"Trixie!J$1614","v":0}]
[null,1111115510,"4235*****","Трава Trixie для котів насіння ячменю контейнер пластик 100г","Більше 10","Ласощі для котів",79.739999999999995,104,{"$f":"Trixie!I$1615","v":0},{"$f":"Trixie!J$1615","v":0}]
[null,12194,"4236*****","Трава Trixie для котів насіння ячменю пакет 100г","Більше 10","Ласощі для котів",62.94,82,{"$f":"Trixie!I$1616","v":0},{"$f":"Trixie!J$1616","v":0}]
[null,1111120133,6035,"Трава Trixie для маленьких тварин 100 г Арт6035","Більше 10","Ласощі для гризунів",82.56,107,{"$f":"Trixie!I$1617","v":0},{"$f":"Trixie!J$1617","v":0}]
[null,1111115322,6091,"Тримач Trixie для кліток універсальний пластиковий 2шт","Більше 10","Обладнання для птахів",40.56,53,{"$f":"Trixie!I$1618","v":0},{"$f":"Trixie!J$1618","v":0}]
[null,7968,2361,"Тримінг Trixie д/голови та вух тонкий пластик і нержавіюча сталь 19см","Менше 10","Догляд та гігієна для собак",391.62,509,{"$f":"Trixie!I$1619","v":0},{"$f":"Trixie!J$1619","v":0}]
[null,7969,2362,"Тримінг Trixie д/спини та живота грубий пластик і нерж сталь 19см","Менше 10","Догляд та гігієна для собак",391.62,509,{"$f":"Trixie!I$1620","v":0},{"$f":"Trixie!J$1620","v":0}]
[null,1111121660,2293,"Трос прив_язувальн Trixie для соб з аморт і караб 15м червоний Арт2293","Менше 10","Амуніція для собак",920.34,1196,{"$f":"Trixie!I$1621","v":0},{"$f":"Trixie!J$1621","v":0}]
[null,12257,2292,"Трос прив_язувальн Trixie для соб з аморт і караб 8м червоний Арт2292","Більше 10","Амуніція для собак",489.54,636,{"$f":"Trixie!I$1622","v":0},{"$f":"Trixie!J$1622","v":0}]
[null,1111165690,40212,"Туалет Trixie Be Eco Carlo для котів рамка пластик сірий 38х17х58см","Більше 10","Туалети для котів",439.8,572,{"$f":"Trixie!I$1623","v":0},{"$f":"Trixie!J$1623","v":0}]
[null,1111149279,40154,"Туалет Trixie Berto коти борти/сітка/застібки пластик сірий 39х22x59см","Більше 10","Туалети для котів",884.7,1150,{"$f":"Trixie!I$1624","v":0},{"$f":"Trixie!J$1624","v":0}]
[null,1111143300,40394,"Туалет Trixie Brisko для котів з бортами пластик прозорий 38x11x50см","Більше 10","Туалети для котів",373.44,485,{"$f":"Trixie!I$1625","v":0},{"$f":"Trixie!J$1625","v":0}]
[null,8162,40111,"Туалет Trixie Carlo для котів з бортами пластиковий сірий 31x14x43см","Більше 10","Туалети для котів",278.22000000000003,362,{"$f":"Trixie!I$1626","v":0},{"$f":"Trixie!J$1626","v":0}]
[null,8150,40121,"Туалет Trixie Carlo для котів з бортами пластиковий сірий 38x17х58см","Більше 10","Туалети для котів",439.8,572,{"$f":"Trixie!I$1627","v":0},{"$f":"Trixie!J$1627","v":0}]
[null,1111165633,40184,"Туалет Trixie Classic д/котів з рамкою сірий/білий пластик 37х15х47см","Більше 10","Туалети для котів",401.46,522,{"$f":"Trixie!I$1628","v":0},{"$f":"Trixie!J$1628","v":0}]
[null,1111166535,40397,"Туалет Trixie Delio для котів з рамкою сірий/білий пластик 38х20х50см","Більше 10","Туалети для котів",644.82000000000005,838,{"$f":"Trixie!I$1629","v":0},{"$f":"Trixie!J$1629","v":0}]
[null,1111119259,4042,"Туалет Trixie Junior Kitty для кошенят пластиковий 27х9х37см","Більше 10","Туалети для котів",158.1,205,{"$f":"Trixie!I$1630","v":0},{"$f":"Trixie!J$1630","v":0}]
[null,1111137777,4040,"Туалет Trixie Mio д/кошенят з бортами пластиковий прозорий 32х12х43см","Більше 10","Туалети для котів",297.95999999999998,387,{"$f":"Trixie!I$1631","v":0},{"$f":"Trixie!J$1631","v":0}]
[null,1111147533,40275,"Туалет Trixie Vico коти ковпак-криш/двер/ручк пластик бірюз 40х40х56см","Менше 10","Туалети для котів",723.12,940,{"$f":"Trixie!I$1632","v":0},{"$f":"Trixie!J$1632","v":0}]
[null,1111150307,40271,"Туалет Trixie Vico коти ковпак-криш/двер/ручк пластик сірий 40х40х56см","Більше 10","Туалети для котів",723.12,940,{"$f":"Trixie!I$1633","v":0},{"$f":"Trixie!J$1633","v":0}]
[null,1111165705,40180,"Туалет Trixie д/котів Classic з рамкою синій/білий пластик 37х15х47см","Менше 10","Туалети для котів",401.46,522,{"$f":"Trixie!I$1634","v":0},{"$f":"Trixie!J$1634","v":0}]
[null,1111165777,40278,"Туалет Trixie д/котів Vico закритий пластик фіолетов/білий 40х40х56см","Більше 10","Туалети для котів",723.12,940,{"$f":"Trixie!I$1635","v":0},{"$f":"Trixie!J$1635","v":0}]
[null,12866,6256,"Туалет Trixie для гризунів кутовий з лопаткою пластиковий 14x8x11см","Менше 10","Туалети для гризунів",120.3,156,{"$f":"Trixie!I$1636","v":0},{"$f":"Trixie!J$1636","v":0}]
[null,9731,6254,"Туалет Trixie для гризунів кутовий пластиковий 16x7x12см","Більше 100","Туалети для гризунів",30.78,40,{"$f":"Trixie!I$1637","v":0},{"$f":"Trixie!J$1637","v":0}]
[null,1111113000,62551,"Туалет Trixie для гризунів кутовий пластиковий 36х21х30см","Більше 10","Туалети для гризунів",120.3,156,{"$f":"Trixie!I$1638","v":0},{"$f":"Trixie!J$1638","v":0}]
[null,1111165723,"40279*****","Туалет Trixie для котів Vico закритий пластик зелений/білий 40х40х56см","Більше 10","Туалети для котів",883.31,1111,{"$f":"Trixie!I$1639","v":0},{"$f":"Trixie!J$1639","v":0}]
[null,1111127519,23415,"Туалет Trixie для цуценят під пелюшку пластиковий 49x41см","Більше 10","Туалети для собак",486.78,633,{"$f":"Trixie!I$1640","v":0},{"$f":"Trixie!J$1640","v":0}]
[null,1111127520,23416,"Туалет Trixie для цуценят під пелюшку пластиковий 65х55см","Менше 10","Туалети для собак",1128.72,1467,{"$f":"Trixie!I$1641","v":0},{"$f":"Trixie!J$1641","v":0}]
[null,1111183754,40175,"Туалет Trixie Прімо XXL з бортиками 56х25х71 см синьо-білий Арт40175","Менше 10","Туалети для котів",1085.94,1412,{"$f":"Trixie!I$1642","v":0},{"$f":"Trixie!J$1642","v":0}]
[null,1111183757,40210,"Туалет-будиночок Trixie Віко 40х40х56см антрацит сіро-зелений Арт40210","Менше 10","Туалети для котів",723.12,940,{"$f":"Trixie!I$1643","v":0},{"$f":"Trixie!J$1643","v":0}]
[null,1111150588,40341,"Туалет-будиночок Trixie Віко з напівпрозор верх 40х40х56см блакит-біл","Менше 10","Туалети для котів",1207.74,1570,{"$f":"Trixie!I$1644","v":0},{"$f":"Trixie!J$1644","v":0}]
[null,1111183756,40177,"Туалет-будиночок Trixie Прімо XXL Топ 56х47х71см блак-білий Арт40177","Менше 10","Туалети для котів",1610.34,2093,{"$f":"Trixie!I$1645","v":0},{"$f":"Trixie!J$1645","v":0}]
[null,1111134905,6130,"Тунель Trixie для гризунів Natural Living дерев_яний 20см/ 6см","Більше 10","Обладнання для гризунів",160.86000000000001,209,{"$f":"Trixie!I$1646","v":0},{"$f":"Trixie!J$1646","v":0}]
[null,1111117659,6131,"Тунель Trixie для гризунів Natural Living дерев_яний 30см/7см","Менше 10","Обладнання для гризунів",260.16000000000003,338,{"$f":"Trixie!I$1647","v":0},{"$f":"Trixie!J$1647","v":0}]
[null,1111130641,62796,"Тунель Trixie для гризунів для гри пластиковий бірюзовий Арт62796","Менше 10","Обладнання для гризунів",160.86000000000001,209,{"$f":"Trixie!I$1648","v":0},{"$f":"Trixie!J$1648","v":0}]
[null,1111183786,60770,"Тунель Trixie для гризунів з сіном і корою 6,5 х 20 см 25 г Арт60770","Менше 10","Обладнання для гризунів",436.38,567,{"$f":"Trixie!I$1649","v":0},{"$f":"Trixie!J$1649","v":0}]
[null,1111137485,4305,"Тунель Trixie для котів ігровий нейлоновий 3х22х50см","Більше 10","Іграшки для котів",637.79999999999995,829,{"$f":"Trixie!I$1650","v":0},{"$f":"Trixie!J$1650","v":0}]
[null,1111115586,4301,"Тунель Trixie для котів ігровий текстиль 25х50см","Менше 10","Іграшки для котів",373.44,485,{"$f":"Trixie!I$1651","v":0},{"$f":"Trixie!J$1651","v":0}]
[null,1111114747,4302,"Тунель Trixie для котів ігровий текстиль 30х115см","Менше 10","Іграшки для котів",486.78,633,{"$f":"Trixie!I$1652","v":0},{"$f":"Trixie!J$1652","v":0}]
[null,1111127080,6910,"Тунель-гамак Trixie для тхора з тканини 20х45см","Більше 10","Обладнання для гризунів",194.46,253,{"$f":"Trixie!I$1653","v":0},{"$f":"Trixie!J$1653","v":0}]
[null,1111183762,41310,"Указка Trixie для котів світлодіодна з малюнком миші 11 см Арт41310","Більше 10","Іграшки для котів",260.16000000000003,338,{"$f":"Trixie!I$1654","v":0},{"$f":"Trixie!J$1654","v":0}]
[null,1111185417,"24449*****","Фільтр Trixie Spare filter для фонтану арт24448 12 шт арт24449","Менше 10","Миски та годівниці для собак",146.88,191,{"$f":"Trixie!I$1655","v":0},{"$f":"Trixie!J$1655","v":0}]
[null,1111170422,24445,"Фільтр Trixie д/котів д/автоматичної поїлки-фонтану змінний 24444 6шт","Менше 10","Поїлки автоматичні для котів",44.76,58,{"$f":"Trixie!I$1656","v":0},{"$f":"Trixie!J$1656","v":0}]
[null,1111170424,24447,"Фільтр Trixie д/котів д/автоматичної поїлки-фонтану змінний 24446 2шт","Менше 10","Поїлки автоматичні для котів",54.6,71,{"$f":"Trixie!I$1657","v":0},{"$f":"Trixie!J$1657","v":0}]
[null,1111126382,40350,"Фільтр Trixie для котячого туалету 40284/40286/40342/40345","Менше 10","Аксесуари для котячих туалетів",79.5,103,{"$f":"Trixie!I$1658","v":0},{"$f":"Trixie!J$1658","v":0}]
[null,1111185416,"24448*****","Фонтан Trixie Vital Dome для соб 1,5 л 20х10х20см сіро-білий арт24448","Менше 10","Миски та годівниці для собак",2474.2199999999998,3216,{"$f":"Trixie!I$1659","v":0},{"$f":"Trixie!J$1659","v":0}]
[null,1111183734,24462,"Фонтан Trixie автоматичний 2 реж 1л 20х12х23см біло-блакитний Арт24462","Менше 10","Миски та годівниці для собак",1317.54,1713,{"$f":"Trixie!I$1660","v":0},{"$f":"Trixie!J$1660","v":0}]
[null,1111121011,30123,"Хустка Trixie для собак світловідбиваюча L-XL жовта 43-60 см Арт30123","Більше 10","Одяг для собак",181.86,236,{"$f":"Trixie!I$1661","v":0},{"$f":"Trixie!J$1661","v":0}]
[null,1111121010,30122,"Хустка Trixie для собак світловідбиваюча S-M жовта 29-42 см Арт30122","Більше 10","Одяг для собак",134.28,175,{"$f":"Trixie!I$1662","v":0},{"$f":"Trixie!J$1662","v":0}]
[null,1111138458,29197,"Шампунь Trixie Two in one для собак з кондиціонером 250мл","Більше 100","Догляд та гігієна для собак",144.06,187,{"$f":"Trixie!I$1663","v":0},{"$f":"Trixie!J$1663","v":0}]
[null,13423,2908,"Шампунь Trixie для котів 250мл","Більше 100","Догляд та гігієна для котів",144.06,187,{"$f":"Trixie!I$1664","v":0},{"$f":"Trixie!J$1664","v":0}]
[null,1111132995,29191,"Шампунь Trixie для котів для довгої шерсті 250мл","Більше 100","Догляд та гігієна для котів",144.06,187,{"$f":"Trixie!I$1665","v":0},{"$f":"Trixie!J$1665","v":0}]
[null,12380,2907,"Шампунь Trixie для котів та собак нейтральний 250мл","Більше 100","Догляд та гігієна для котів",144.06,187,{"$f":"Trixie!I$1666","v":0},{"$f":"Trixie!J$1666","v":0}]
[null,1111167886,25393,"Шампунь Trixie для собак від бліх кліщів та комарів 250мл","Більше 10","Догляд та гігієна для собак",348.3,453,{"$f":"Trixie!I$1667","v":0},{"$f":"Trixie!J$1667","v":0}]
[null,9728,2914,"Шампунь Trixie для собак для білої шерсті 250мл","Більше 100","Догляд та гігієна для собак",144.06,187,{"$f":"Trixie!I$1668","v":0},{"$f":"Trixie!J$1668","v":0}]
[null,1111119471,2911,"Шампунь Trixie для собак для довгої шерсті 1л","Більше 10","Догляд та гігієна для собак",325.92,424,{"$f":"Trixie!I$1669","v":0},{"$f":"Trixie!J$1669","v":0}]
[null,9922,2901,"Шампунь Trixie для собак для довгої шерсті 250мл","Більше 10","Догляд та гігієна для собак",144.06,187,{"$f":"Trixie!I$1670","v":0},{"$f":"Trixie!J$1670","v":0}]
[null,1111132057,2921,"Шампунь Trixie для собак для довгої шерсті від ковтунів 250мл","Більше 10","Догляд та гігієна для собак",144.06,187,{"$f":"Trixie!I$1671","v":0},{"$f":"Trixie!J$1671","v":0}]
[null,12663,2898,"Шампунь Trixie для собак для довгої шерсті з алое вера 250мл","Більше 100","Догляд та гігієна для собак",144.06,187,{"$f":"Trixie!I$1672","v":0},{"$f":"Trixie!J$1672","v":0}]
[null,1111146935,29194,"Шампунь Trixie для собак для довгої шерсті з апельсином 250мл","Більше 100","Догляд та гігієна для собак",144.06,187,{"$f":"Trixie!I$1673","v":0},{"$f":"Trixie!J$1673","v":0}]
[null,1111115314,2905,"Шампунь Trixie для собак для довгої шерсті з кокосовою олією 250мл","Більше 100","Догляд та гігієна для собак",144.06,187,{"$f":"Trixie!I$1674","v":0},{"$f":"Trixie!J$1674","v":0}]
[null,1111134782,29192,"Шампунь Trixie для собак для довгої шерсті з маслом жожоба 250мл","Більше 10","Догляд та гігієна для собак",144.06,187,{"$f":"Trixie!I$1675","v":0},{"$f":"Trixie!J$1675","v":0}]
[null,1291,2899,"Шампунь Trixie для собак для довгої шерсті з медом 250мл","Більше 10","Догляд та гігієна для собак",144.06,187,{"$f":"Trixie!I$1676","v":0},{"$f":"Trixie!J$1676","v":0}]
[null,1111114673,2904,"Шампунь Trixie для собак для довгої шерсті протилупи 250мл","Більше 10","Догляд та гігієна для собак",144.06,187,{"$f":"Trixie!I$1677","v":0},{"$f":"Trixie!J$1677","v":0}]
[null,9727,2915,"Шампунь Trixie для собак для чорної шерсті 250мл","Більше 10","Догляд та гігієна для собак",144.06,187,{"$f":"Trixie!I$1678","v":0},{"$f":"Trixie!J$1678","v":0}]
[null,1111119470,2910,"Шампунь Trixie для собак з оліями макадамії та обліпихи 1л","Менше 10","Догляд та гігієна для собак",325.92,424,{"$f":"Trixie!I$1679","v":0},{"$f":"Trixie!J$1679","v":0}]
[null,1111137774,29195,"Шампунь Trixie для собак з оліями макадамії та обліпихи 250мл","Більше 10","Догляд та гігієна для собак",144.06,187,{"$f":"Trixie!I$1680","v":0},{"$f":"Trixie!J$1680","v":0}]
[null,11731,2945,"Шампунь Trixie для собак з чуттєвою шкірою олія чайного дерева 250мл","Більше 10","Догляд та гігієна для собак",144.06,187,{"$f":"Trixie!I$1681","v":0},{"$f":"Trixie!J$1681","v":0}]
[null,11941,2942,"Шампунь Trixie для собак зволожуючий з екстрактом олії мелії 250мл","Більше 10","Догляд та гігієна для собак",144.06,187,{"$f":"Trixie!I$1682","v":0},{"$f":"Trixie!J$1682","v":0}]
[null,1292,2900,"Шампунь Trixie для собак трав_яний 250мл","Більше 10","Догляд та гігієна для собак",144.06,187,{"$f":"Trixie!I$1683","v":0},{"$f":"Trixie!J$1683","v":0}]
[null,1111114574,2906,"Шампунь Trixie для цуценят  для шерсті 250мл","Більше 100","Догляд та гігієна для собак",144.06,187,{"$f":"Trixie!I$1684","v":0},{"$f":"Trixie!J$1684","v":0}]
[null,1111119474,2916,"Шампунь Trixie для цуценят для шерсті 1л","Більше 10","Догляд та гігієна для собак",325.92,424,{"$f":"Trixie!I$1685","v":0},{"$f":"Trixie!J$1685","v":0}]
[null,1111183701,2897,"Шампунь Trixie з алоє вера 1 л Арт2897","Менше 10","Догляд та гігієна для котів",325.92,424,{"$f":"Trixie!I$1686","v":0},{"$f":"Trixie!J$1686","v":0}]
[null,5681,29181,"Шампунь Trixie сухий для собак для шерсті 100г","Більше 100","Догляд та гігієна для котів",120.3,156,{"$f":"Trixie!I$1687","v":0},{"$f":"Trixie!J$1687","v":0}]
[null,1111128596,29182,"Шампунь Trixie сухий для собак для шерсті 200г","Більше 10","Догляд та гігієна для котів",181.86,236,{"$f":"Trixie!I$1688","v":0},{"$f":"Trixie!J$1688","v":0}]
[null,1111114675,2903,"Шампунь-кондиціонер Trixie д/собак від заплут/шерсть олія мелії 250мл","Більше 10","Догляд та гігієна для собак",144.06,187,{"$f":"Trixie!I$1689","v":0},{"$f":"Trixie!J$1689","v":0}]
[null,1111146290,29410,"Шампунь-спрей Trixie сухий для собак для шерсті 230мл","Більше 10","Догляд та гігієна для собак",209.82,273,{"$f":"Trixie!I$1690","v":0},{"$f":"Trixie!J$1690","v":0}]
[null,1111127528,41893,"Шлейка з повідцем Trixie для велик/котів Good Luck нейлон 34-57см/13мм","Менше 10","Амуніція для котів",458.76,596,{"$f":"Trixie!I$1691","v":0},{"$f":"Trixie!J$1691","v":0}]
[null,1111140958,61514,"Шлейка з повідцем Trixie для велик/кролика Soft м_яка нейлон 25-40см","Менше 10","Амуніція для гризунів",282.54000000000002,367,{"$f":"Trixie!I$1692","v":0},{"$f":"Trixie!J$1692","v":0}]
[null,1111124107,"41894*****","Шлейка з повідцем Trixie для котів Skull нейлон 27-45 cм/10мм","Менше 10","Амуніція для котів",216.06,268,{"$f":"Trixie!I$1693","v":0},{"$f":"Trixie!J$1693","v":0}]
[null,9937,4188,"Шлейка з повідцем Trixie для котів нейлон 27-45см/10мм","Більше 10","Амуніція для котів",204.24,265,{"$f":"Trixie!I$1694","v":0},{"$f":"Trixie!J$1694","v":0}]
[null,11471,4142,"Шлейка з повідцем Trixie для котів принт з котами нейлон 27-45см/10мм","Менше 10","Амуніція для котів",274.14,356,{"$f":"Trixie!I$1695","v":0},{"$f":"Trixie!J$1695","v":0}]
[null,9602,4184,"Шлейка з повідцем Trixie для котів світловідбив нейлон 22-42см/10мм","Більше 100","Амуніція для котів",146.88,191,{"$f":"Trixie!I$1696","v":0},{"$f":"Trixie!J$1696","v":0}]
[null,1111115132,4182,"Шлейка з повідцем Trixie для кошенят нейлон 19-31см/8мм","Більше 10","Амуніція для котів",181.86,236,{"$f":"Trixie!I$1697","v":0},{"$f":"Trixie!J$1697","v":0}]
[null,1111122236,61513,"Шлейка з повідцем Trixie для кролика Soft м_яка нейлон 25-32см","Менше 10","Амуніція для гризунів",255.96,333,{"$f":"Trixie!I$1698","v":0},{"$f":"Trixie!J$1698","v":0}]
[null,1111115560,6263,"Шлейка з повідцем Trixie для кролика з морквинами нейлон 25-44см/10мм","Менше 10","Амуніція для гризунів",274.14,356,{"$f":"Trixie!I$1699","v":0},{"$f":"Trixie!J$1699","v":0}]
[null,1111119437,6265,"Шлейка з повідцем Trixie для мал/кроликів малюнок нейлон 20-33см/8мм","Менше 10","Амуніція для гризунів",243.36,316,{"$f":"Trixie!I$1700","v":0},{"$f":"Trixie!J$1700","v":0}]
[null,1111122235,61512,"Шлейка з повідцем Trixie для морських свинок Soft м_яка нейлон 18-25см","Більше 10","Амуніція для гризунів",223.8,291,{"$f":"Trixie!I$1701","v":0},{"$f":"Trixie!J$1701","v":0}]
[null,1111185223,1969916,"Шлея Trixie CityStyle H-harness для соб L–XL 75–120см зелен арт1969916","Менше 10","Амуніція для собак",1074.18,1396,{"$f":"Trixie!I$1702","v":0},{"$f":"Trixie!J$1702","v":0}]
[null,1111185474,1969919,"Шлея Trixie CityStyle H-harness для соб L–XL 75–120см сіра арт1969919","Менше 10","Амуніція для собак",1074.18,1396,{"$f":"Trixie!I$1703","v":0},{"$f":"Trixie!J$1703","v":0}]
[null,1111185222,1969901,"Шлея Trixie CityStyle H-harness для соб L–XL 75–120см чорна арт1969901","Менше 10","Амуніція для собак",1074.18,1396,{"$f":"Trixie!I$1704","v":0},{"$f":"Trixie!J$1704","v":0}]
[null,1111185221,1969816,"Шлея Trixie CityStyle H-harness для соб M–L 52–75см зелена арт1969816","Менше 10","Амуніція для собак",920.34,1196,{"$f":"Trixie!I$1705","v":0},{"$f":"Trixie!J$1705","v":0}]
[null,1111185473,1969819,"Шлея Trixie CityStyle H-harness для соб M–L 52–75см сіра арт1969819","Менше 10","Амуніція для собак",920.34,1196,{"$f":"Trixie!I$1706","v":0},{"$f":"Trixie!J$1706","v":0}]
[null,1111185220,1969801,"Шлея Trixie CityStyle H-harness для соб M–L 52–75см чорна арт1969801","Менше 10","Амуніція для собак",920.34,1196,{"$f":"Trixie!I$1707","v":0},{"$f":"Trixie!J$1707","v":0}]
[null,1111185219,1969716,"Шлея Trixie CityStyle H-harness для соб S–M 42–60см зелена арт1969716","Менше 10","Амуніція для собак",766.5,996,{"$f":"Trixie!I$1708","v":0},{"$f":"Trixie!J$1708","v":0}]
[null,1111185472,1969719,"Шлея Trixie CityStyle H-harness для соб S–M 42–60см сіра арт1969719","Менше 10","Амуніція для собак",766.5,996,{"$f":"Trixie!I$1709","v":0},{"$f":"Trixie!J$1709","v":0}]
[null,1111185217,1969616,"Шлея Trixie CityStyle H-harness для соб XS–S 30–44см зелена арт1969616","Менше 10","Амуніція для собак",612.66,796,{"$f":"Trixie!I$1710","v":0},{"$f":"Trixie!J$1710","v":0}]
[null,1111185216,1969601,"Шлея Trixie CityStyle H-harness для соб XS–S 30–44см чорн арт1969601","Менше 10","Амуніція для собак",612.66,796,{"$f":"Trixie!I$1711","v":0},{"$f":"Trixie!J$1711","v":0}]
[null,1111185205,162532,"Шлея Trixie Comfort для соб м_як XXS–XS 28–40см 15мм син-зел арт162532","Менше 10","Амуніція для собак",520.32000000000005,676,{"$f":"Trixie!I$1712","v":0},{"$f":"Trixie!J$1712","v":0}]
[null,1111185210,162735,"Шлея Trixie Comfort для соб м_яка S 33–50см 20мм рожева арт162735","Менше 10","Амуніція для собак",674.16,876,{"$f":"Trixie!I$1713","v":0},{"$f":"Trixie!J$1713","v":0}]
[null,1111185209,162732,"Шлея Trixie Comfort для соб м_яка S 33–50см 20мм син-зел арт162732","Менше 10","Амуніція для собак",674.16,876,{"$f":"Trixie!I$1714","v":0},{"$f":"Trixie!J$1714","v":0}]
[null,1111185211,162832,"Шлея Trixie Comfort для соб м_яка S–M 35–60см 20мм син-зелен арт162832","Менше 10","Амуніція для собак",766.5,996,{"$f":"Trixie!I$1715","v":0},{"$f":"Trixie!J$1715","v":0}]
[null,1111185208,162635,"Шлея Trixie Comfort для соб м_яка XS–S 30–45см 15мм рожева арт162635","Менше 10","Амуніція для собак",581.88,756,{"$f":"Trixie!I$1716","v":0},{"$f":"Trixie!J$1716","v":0}]
[null,1111185207,162632,"Шлея Trixie Comfort для соб м_яка XS–S 30–45см 15мм син-зел арт162632","Менше 10","Амуніція для собак",581.88,756,{"$f":"Trixie!I$1717","v":0},{"$f":"Trixie!J$1717","v":0}]
[null,1111185206,162535,"Шлея Trixie Comfort для соб м_яка XXS–XS 28–40см 15мм рожева арт162535","Менше 10","Амуніція для собак",520.32000000000005,676,{"$f":"Trixie!I$1718","v":0},{"$f":"Trixie!J$1718","v":0}]
[null,1111185406,204931,"Шлея Trixie Premium H-harness для соб L 60–87см бордова арт204931","Менше 10","Амуніція для собак",551.1,716,{"$f":"Trixie!I$1719","v":0},{"$f":"Trixie!J$1719","v":0}]
[null,1111185408,204936,"Шлея Trixie Premium H-harness для соб L 60–87см пісочна арт204936","Менше 10","Амуніція для собак",551.1,716,{"$f":"Trixie!I$1720","v":0},{"$f":"Trixie!J$1720","v":0}]
[null,1111185407,204934,"Шлея Trixie Premium H-harness для соб L 60–87см світло-зелен арт204934","Менше 10","Амуніція для собак",551.1,716,{"$f":"Trixie!I$1721","v":0},{"$f":"Trixie!J$1721","v":0}]
[null,1111185386,203531,"Шлея Trixie Premium H-harness для соб L–XL 75–120см бордова арт203531","Менше 10","Амуніція для собак",612.66,796,{"$f":"Trixie!I$1722","v":0},{"$f":"Trixie!J$1722","v":0}]
[null,1111185297,1997428,"Шлея Trixie Premium для соб трекінг L 70–85см аква-графіт арт1997428","Менше 10","Амуніція для собак",1153.92,1500,{"$f":"Trixie!I$1723","v":0},{"$f":"Trixie!J$1723","v":0}]
[null,1111185299,1997429,"Шлея Trixie Premium для соб трекінг L 70–85см оранж-сіра арт1997429","Менше 10","Амуніція для собак",1153.92,1500,{"$f":"Trixie!I$1724","v":0},{"$f":"Trixie!J$1724","v":0}]
[null,1111185300,1997435,"Шлея Trixie Premium для соб трекінг L 70–85см рож-сіра арт1997435","Менше 10","Амуніція для собак",1153.92,1500,{"$f":"Trixie!I$1725","v":0},{"$f":"Trixie!J$1725","v":0}]
[null,1111185298,1997432,"Шлея Trixie Premium для соб трекінг L 70–85см синьо-сіра арт1997432","Менше 10","Амуніція для собак",1153.92,1500,{"$f":"Trixie!I$1726","v":0},{"$f":"Trixie!J$1726","v":0}]
[null,1111185289,1997228,"Шлея Trixie Premium для соб трекінг M 53–64см аква-графіт арт1997228","Менше 10","Амуніція для собак",920.34,1196,{"$f":"Trixie!I$1727","v":0},{"$f":"Trixie!J$1727","v":0}]
[null,1111185291,1997229,"Шлея Trixie Premium для соб трекінг M 53–64см оранж-сіра арт1997229","Менше 10","Амуніція для собак",920.34,1196,{"$f":"Trixie!I$1728","v":0},{"$f":"Trixie!J$1728","v":0}]
[null,1111185292,1997235,"Шлея Trixie Premium для соб трекінг M 53–64см рож-сіра арт1997235","Менше 10","Амуніція для собак",920.34,1196,{"$f":"Trixie!I$1729","v":0},{"$f":"Trixie!J$1729","v":0}]
[null,1111185290,1997232,"Шлея Trixie Premium для соб трекінг M 53–64см синьо-сіра арт1997232","Менше 10","Амуніція для собак",920.34,1196,{"$f":"Trixie!I$1730","v":0},{"$f":"Trixie!J$1730","v":0}]
[null,1111185293,1997328,"Шлея Trixie Premium для соб трекінг M–L 62–74см аква-графіт арт1997328","Менше 10","Амуніція для собак",1074.18,1396,{"$f":"Trixie!I$1731","v":0},{"$f":"Trixie!J$1731","v":0}]
[null,1111185295,1997329,"Шлея Trixie Premium для соб трекінг M–L 62–74см оранж-сіра арт1997329","Менше 10","Амуніція для собак",1074.18,1396,{"$f":"Trixie!I$1732","v":0},{"$f":"Trixie!J$1732","v":0}]
[null,1111185296,1997335,"Шлея Trixie Premium для соб трекінг M–L 62–74см рож-сіра арт1997335","Менше 10","Амуніція для собак",1074.18,1396,{"$f":"Trixie!I$1733","v":0},{"$f":"Trixie!J$1733","v":0}]
[null,1111185294,1997332,"Шлея Trixie Premium для соб трекінг M–L 62–74см синьо-сіра арт1997332","Менше 10","Амуніція для собак",1074.18,1396,{"$f":"Trixie!I$1734","v":0},{"$f":"Trixie!J$1734","v":0}]
[null,1111185281,1997028,"Шлея Trixie Premium для соб трекінг S 36–44см аква-графіт арт1997028","Менше 10","Амуніція для собак",766.5,996,{"$f":"Trixie!I$1735","v":0},{"$f":"Trixie!J$1735","v":0}]
[null,1111185283,1997029,"Шлея Trixie Premium для соб трекінг S 36–44см оранж-сіра арт1997029","Менше 10","Амуніція для собак",766.5,996,{"$f":"Trixie!I$1736","v":0},{"$f":"Trixie!J$1736","v":0}]
[null,1111185282,1997032,"Шлея Trixie Premium для соб трекінг S 36–44см синьо-сіра арт1997032","Менше 10","Амуніція для собак",766.5,996,{"$f":"Trixie!I$1737","v":0},{"$f":"Trixie!J$1737","v":0}]
[null,1111185285,1997128,"Шлея Trixie Premium для соб трекінг S–M 44–53см аква-графіт арт1997128","Менше 10","Амуніція для собак",920.34,1196,{"$f":"Trixie!I$1738","v":0},{"$f":"Trixie!J$1738","v":0}]
[null,1111185287,1997129,"Шлея Trixie Premium для соб трекінг S–M 44–53см оранж-сіра арт1997129","Менше 10","Амуніція для собак",920.34,1196,{"$f":"Trixie!I$1739","v":0},{"$f":"Trixie!J$1739","v":0}]
[null,1111185288,1997135,"Шлея Trixie Premium для соб трекінг S–M 44–53см рож-сіра арт1997135","Менше 10","Амуніція для собак",920.34,1196,{"$f":"Trixie!I$1740","v":0},{"$f":"Trixie!J$1740","v":0}]
[null,1111185286,1997132,"Шлея Trixie Premium для соб трекінг S–M 44–53см синьо-сіра арт1997132","Менше 10","Амуніція для собак",920.34,1196,{"$f":"Trixie!I$1741","v":0},{"$f":"Trixie!J$1741","v":0}]
[null,1111185301,1997528,"Шлея Trixie Premium для соб трекінг XL 80–97см аква-графіт арт1997528","Менше 10","Амуніція для собак",1261.6199999999999,1640,{"$f":"Trixie!I$1742","v":0},{"$f":"Trixie!J$1742","v":0}]
[null,1111185303,1997529,"Шлея Trixie Premium для соб трекінг XL 80–97см оранж-сіра арт1997529","Менше 10","Амуніція для собак",1261.6199999999999,1640,{"$f":"Trixie!I$1743","v":0},{"$f":"Trixie!J$1743","v":0}]
[null,1111185304,1997535,"Шлея Trixie Premium для соб трекінг XL 80–97см рож-сіра арт1997535","Менше 10","Амуніція для собак",1261.6199999999999,1640,{"$f":"Trixie!I$1744","v":0},{"$f":"Trixie!J$1744","v":0}]
[null,1111185302,1997532,"Шлея Trixie Premium для соб трекінг XL 80–97см синьо-сіра арт1997532","Менше 10","Амуніція для собак",1261.6199999999999,1640,{"$f":"Trixie!I$1745","v":0},{"$f":"Trixie!J$1745","v":0}]
[null,1111185276,1996928,"Шлея Trixie Premium для соб трекінг XS–S 32–38см аква-граф арт1996928","Менше 10","Амуніція для собак",766.5,996,{"$f":"Trixie!I$1746","v":0},{"$f":"Trixie!J$1746","v":0}]
[null,1111185279,1996934,"Шлея Trixie Premium для соб трекінг XS–S 32–38см блакит-сір арт1996934","Менше 10","Амуніція для собак",766.5,996,{"$f":"Trixie!I$1747","v":0},{"$f":"Trixie!J$1747","v":0}]
[null,1111185280,1996935,"Шлея Trixie Premium для соб трекінг XS–S 32–38см рожев-сіра арт1996935","Менше 10","Амуніція для собак",766.5,996,{"$f":"Trixie!I$1748","v":0},{"$f":"Trixie!J$1748","v":0}]
[null,1111185278,1996932,"Шлея Trixie Premium для соб трекінг XS–S 32–38см синьо-сіра арт1996932","Менше 10","Амуніція для собак",766.5,996,{"$f":"Trixie!I$1749","v":0},{"$f":"Trixie!J$1749","v":0}]
[null,1111185400,204136,"Шлея Trixie Premium для соб туристич L 60–100см пісочна арт204136","Менше 10","Амуніція для собак",674.16,876,{"$f":"Trixie!I$1750","v":0},{"$f":"Trixie!J$1750","v":0}]
[null,1111185399,204132,"Шлея Trixie Premium для соб туристич L 60–100см синьо-зелена арт204132","Менше 10","Амуніція для собак",674.16,876,{"$f":"Trixie!I$1751","v":0},{"$f":"Trixie!J$1751","v":0}]
[null,1111185402,204236,"Шлея Trixie Premium для соб туристич L–XL 70–110см пісочна арт204236","Менше 10","Амуніція для собак",674.16,876,{"$f":"Trixie!I$1752","v":0},{"$f":"Trixie!J$1752","v":0}]
[null,1111185401,204232,"Шлея Trixie Premium для соб туристич L–XL 70–110см син-зелен арт204232","Менше 10","Амуніція для собак",674.16,876,{"$f":"Trixie!I$1753","v":0},{"$f":"Trixie!J$1753","v":0}]
[null,1111185396,203936,"Шлея Trixie Premium для соб туристич M 45–80см пісочна арт203936","Менше 10","Амуніція для собак",612.66,796,{"$f":"Trixie!I$1754","v":0},{"$f":"Trixie!J$1754","v":0}]
[null,1111185395,203932,"Шлея Trixie Premium для соб туристич M 45–80см синьо-зелена арт203932","Менше 10","Амуніція для собак",612.66,796,{"$f":"Trixie!I$1755","v":0},{"$f":"Trixie!J$1755","v":0}]
[null,1111185398,204036,"Шлея Trixie Premium для соб туристич M–L 50–90см пісочна арт204036","Менше 10","Амуніція для собак",612.66,796,{"$f":"Trixie!I$1756","v":0},{"$f":"Trixie!J$1756","v":0}]
[null,1111185397,204032,"Шлея Trixie Premium для соб туристич M–L 50–90см синьо-зелен арт204032","Менше 10","Амуніція для собак",612.66,796,{"$f":"Trixie!I$1757","v":0},{"$f":"Trixie!J$1757","v":0}]
[null,1111185392,203736,"Шлея Trixie Premium для соб туристич S 35–65см пісочна арт203736","Менше 10","Амуніція для собак",458.76,596,{"$f":"Trixie!I$1758","v":0},{"$f":"Trixie!J$1758","v":0}]
[null,1111185391,203732,"Шлея Trixie Premium для соб туристич S 35–65см синьо-зелена арт203732","Менше 10","Амуніція для собак",458.76,596,{"$f":"Trixie!I$1759","v":0},{"$f":"Trixie!J$1759","v":0}]
[null,1111185394,203836,"Шлея Trixie Premium для соб туристич S–M 40–70см пісочна арт203836","Менше 10","Амуніція для собак",489.54,636,{"$f":"Trixie!I$1760","v":0},{"$f":"Trixie!J$1760","v":0}]
[null,1111185393,203832,"Шлея Trixie Premium для соб туристич S–M 40–70см синьо-зелен арт203832","Менше 10","Амуніція для собак",489.54,636,{"$f":"Trixie!I$1761","v":0},{"$f":"Trixie!J$1761","v":0}]
[null,1111185390,203636,"Шлея Trixie Premium для соб туристич XS–S 30–55см пісочна арт203636","Менше 10","Амуніція для собак",397.26,516,{"$f":"Trixie!I$1762","v":0},{"$f":"Trixie!J$1762","v":0}]
[null,1111185389,203632,"Шлея Trixie Premium для соб туристич XS–S 30–55см син-зелен арт203632","Менше 10","Амуніція для собак",397.26,516,{"$f":"Trixie!I$1763","v":0},{"$f":"Trixie!J$1763","v":0}]
[null,1111147144,203303,"Шлея Trixie Premium для собак червона S–M 42–60 см х 15 мм арт203303","Більше 10","Амуніція для собак",304.92,396,{"$f":"Trixie!I$1764","v":0},{"$f":"Trixie!J$1764","v":0}]
[null,1111134297,12232,"Шлея Trixie д/собак SilverReflect лапки світловідбив S-M 49-65см/20мм","Більше 10","Амуніція для собак",458.76,596,{"$f":"Trixie!I$1765","v":0},{"$f":"Trixie!J$1765","v":0}]
[null,1111183711,13094,"Шлея Trixie для собак L-XL 75-100 см х 25 мм чорна Арт13094","Більше 10","Амуніція для собак",1000.08,1300,{"$f":"Trixie!I$1766","v":0},{"$f":"Trixie!J$1766","v":0}]
[null,1111183710,13093,"Шлея Trixie для собак M-L 50-75 см х 20 мм чорна Арт13093","Більше 10","Амуніція для собак",766.5,996,{"$f":"Trixie!I$1767","v":0},{"$f":"Trixie!J$1767","v":0}]
[null,1111183709,13092,"Шлея Trixie для собак S-M 40-65 см х 15 мм чорна Арт13092","Більше 10","Амуніція для собак",612.66,796,{"$f":"Trixie!I$1768","v":0},{"$f":"Trixie!J$1768","v":0}]
[null,1111147048,16278,"Шлея Trixie для собак Soft м_яка нейлон фуксія S 33-50см/20мм","Менше 10","Амуніція для собак",674.16,876,{"$f":"Trixie!I$1769","v":0},{"$f":"Trixie!J$1769","v":0}]
[null,1111147052,16288,"Шлея Trixie для собак Soft м_яка нейлон фуксія S-M 35-60см/15мм","Менше 10","Амуніція для собак",766.5,996,{"$f":"Trixie!I$1770","v":0},{"$f":"Trixie!J$1770","v":0}]
[null,1111147044,16268,"Шлея Trixie для собак Soft м_яка нейлон фуксія XS-S 35-45см/15мм","Менше 10","Амуніція для собак",581.88,756,{"$f":"Trixie!I$1771","v":0},{"$f":"Trixie!J$1771","v":0}]
[null,1111147036,16248,"Шлея Trixie для собак Soft м_яка нейлон фуксія XXS-XS 25-35см/15мм","Менше 10","Амуніція для собак",458.76,596,{"$f":"Trixie!I$1772","v":0},{"$f":"Trixie!J$1772","v":0}]
[null,1111147040,16258,"Шлея Trixie для собак Soft м_яка нейлон фуксія XXS-XS 28-40см/15мм","Менше 10","Амуніція для собак",520.32000000000005,676,{"$f":"Trixie!I$1773","v":0},{"$f":"Trixie!J$1773","v":0}]
[null,1111147033,16243,"Шлея Trixie для собак Soft м_яка нейлон червона XXS-XS 25-35см/15мм","Менше 10","Амуніція для собак",458.76,596,{"$f":"Trixie!I$1774","v":0},{"$f":"Trixie!J$1774","v":0}]
[null,1111134841,13004,"Шлея Trixie для собак тренувальна L чорна Арт13004","Більше 10","Амуніція для собак",139.86000000000001,182,{"$f":"Trixie!I$1775","v":0},{"$f":"Trixie!J$1775","v":0}]
[null,1111134842,13005,"Шлея Trixie для собак тренувальна L-XL чорна Арт13005","Менше 10","Амуніція для собак",152.46,198,{"$f":"Trixie!I$1776","v":0},{"$f":"Trixie!J$1776","v":0}]
[null,1111134840,13003,"Шлея Trixie для собак тренувальна M чорна Арт13003","Більше 10","Амуніція для собак",127.32,165,{"$f":"Trixie!I$1777","v":0},{"$f":"Trixie!J$1777","v":0}]
[null,1111183801,1997301,"Шлея Trixie Преміум трекінг M–L 62–74смх25мм чорний-графіт Арт1997301","Менше 10","Амуніція для собак",1074.18,1396,{"$f":"Trixie!I$1778","v":0},{"$f":"Trixie!J$1778","v":0}]
[null,1111183802,1997401,"Шлея Trixie Преміум трекінгова L 70–85смх25мм чорний-графіт Арт1997401","Менше 10","Амуніція для собак",1153.92,1500,{"$f":"Trixie!I$1779","v":0},{"$f":"Trixie!J$1779","v":0}]
[null,1111162640,15564,"Шлея з повідцем Trixie цуцен S–M 26–34см х 10мм 2м світл-бузк Арт15564","Менше 10","Амуніція для собак",366.48,476,{"$f":"Trixie!I$1780","v":0},{"$f":"Trixie!J$1780","v":0}]
[null,1111150757,203516,"Шлея-вісімка Trixie д/собак Premium Н-подібн графіт L-XL 75-120см/25мм","Менше 10","Амуніція для собак",612.66,796,{"$f":"Trixie!I$1781","v":0},{"$f":"Trixie!J$1781","v":0}]
[null,1111150750,203416,"Шлея-вісімка Trixie д/собак Premium Н-подібна графіт M-L 52-75см/20мм","Менше 10","Амуніція для собак",397.26,516,{"$f":"Trixie!I$1782","v":0},{"$f":"Trixie!J$1782","v":0}]
[null,1111150747,203316,"Шлея-вісімка Trixie д/собак Premium Н-подібна графіт S-M 42-60см/15мм","Менше 10","Амуніція для собак",304.92,396,{"$f":"Trixie!I$1783","v":0},{"$f":"Trixie!J$1783","v":0}]
[null,1111150767,203616,"Шлея-вісімка Trixie д/собак Premium туристич графіт XS-S 30-40см/15мм","Менше 10","Амуніція для собак",397.26,516,{"$f":"Trixie!I$1784","v":0},{"$f":"Trixie!J$1784","v":0}]
[null,1111147185,"204203 /20423","Шлея-вісімка Trixie д/собак Premium туристич червон L-XL 70-110см/25мм","Менше 10","Амуніція для собак",674.16,876,{"$f":"Trixie!I$1785","v":0},{"$f":"Trixie!J$1785","v":0}]
[null,1111148884,"203803 /20383","Шлея-вісімка Trixie д/собак Premium туристич червона S-M 40-70см/20мм","Менше 10","Амуніція для собак",489.54,636,{"$f":"Trixie!I$1786","v":0},{"$f":"Trixie!J$1786","v":0}]
[null,1111150762,203611,"Шлея-вісімка Trixie д/собак Premium туристичн фуксія XS-S 30-55см/15мм","Менше 10","Амуніція для собак",397.26,516,{"$f":"Trixie!I$1787","v":0},{"$f":"Trixie!J$1787","v":0}]
[null,1111150807,204016,"Шлея-вісімка Trixie д/собак Premium туристична графіт M-L 50-80см/25мм","Менше 10","Амуніція для собак",612.66,796,{"$f":"Trixie!I$1788","v":0},{"$f":"Trixie!J$1788","v":0}]
[null,1111150777,203716,"Шлея-вісімка Trixie д/собак Premium туристична графіт S 35-65см/20мм","Менше 10","Амуніція для собак",458.76,596,{"$f":"Trixie!I$1789","v":0},{"$f":"Trixie!J$1789","v":0}]
[null,1111148869,"203902 /20392","Шлея-вісімка Trixie д/собак Premium туристична синя M 45-80см/25мм","Менше 10","Амуніція для собак",612.66,796,{"$f":"Trixie!I$1790","v":0},{"$f":"Trixie!J$1790","v":0}]
[null,1111150802,204011,"Шлея-вісімка Trixie д/собак Premium туристична фуксія M-L 50-90см/25мм","Менше 10","Амуніція для собак",612.66,796,{"$f":"Trixie!I$1791","v":0},{"$f":"Trixie!J$1791","v":0}]
[null,1111148877,"203703 /20373","Шлея-вісімка Trixie д/собак Premium туристична червона S 35-65см/20мм","Менше 10","Амуніція для собак",458.76,596,{"$f":"Trixie!I$1792","v":0},{"$f":"Trixie!J$1792","v":0}]
[null,1111148868,"203901 /20391","Шлея-вісімка Trixie д/собак Premium туристична чорна M 45-80см/25мм","Менше 10","Амуніція для собак",612.66,796,{"$f":"Trixie!I$1793","v":0},{"$f":"Trixie!J$1793","v":0}]
[null,1111150856,204616,"Шлея-петля Trixie для собак Premium нейлон графітова L 65-80см/25мм","Менше 10","Амуніція для собак",551.1,716,{"$f":"Trixie!I$1794","v":0},{"$f":"Trixie!J$1794","v":0}]
[null,1111150849,204516,"Шлея-петля Trixie для собак Premium нейлон графітова M 50-65см/20мм","Більше 10","Амуніція для собак",397.26,516,{"$f":"Trixie!I$1795","v":0},{"$f":"Trixie!J$1795","v":0}]
[null,1111150839,204411,"Шлея-петля Trixie для собак Premium нейлон фуксія S 40-50см/15мм","Менше 10","Амуніція для собак",304.92,396,{"$f":"Trixie!I$1796","v":0},{"$f":"Trixie!J$1796","v":0}]
[null,1111155695,204603,"Шлея-петля Trixie для собак Premium нейлон червона L 65-80см/25мм","Менше 10","Амуніція для собак",551.1,716,{"$f":"Trixie!I$1797","v":0},{"$f":"Trixie!J$1797","v":0}]
[null,1111150536,204503,"Шлея-петля Trixie для собак Premium нейлон червона M 50-65см/20мм","Більше 10","Амуніція для собак",397.26,516,{"$f":"Trixie!I$1798","v":0},{"$f":"Trixie!J$1798","v":0}]
[null,1111150533,204403,"Шлея-петля Trixie для собак Premium нейлон червона S 40-50см/15мм","Більше 10","Амуніція для собак",304.92,396,{"$f":"Trixie!I$1799","v":0},{"$f":"Trixie!J$1799","v":0}]
[null,1111148889,204601,"Шлея-петля Trixie для собак Premium нейлон чорна L 65-80см/25мм","Менше 10","Амуніція для собак",551.1,716,{"$f":"Trixie!I$1800","v":0},{"$f":"Trixie!J$1800","v":0}]
[null,1111148897,204701,"Шлея-петля Trixie для собак Premium нейлон чорна XL 80-100см/25мм","Менше 10","Амуніція для собак",612.66,796,{"$f":"Trixie!I$1801","v":0},{"$f":"Trixie!J$1801","v":0}]
[null,12129,2330,"Щітка Trixie д/котів з металев/зубчиками гумова з петлею д/рук 8х13см","Більше 10","Догляд та гігієна для собак",151.08000000000001,196,{"$f":"Trixie!I$1802","v":0},{"$f":"Trixie!J$1802","v":0}]
[null,9746,2333,"Щітка Trixie д/котів масажна з шипами гумова з петлею для рук 9см/13см","Більше 10","Догляд та гігієна для собак",226.62,295,{"$f":"Trixie!I$1803","v":0},{"$f":"Trixie!J$1803","v":0}]
[null,1111183731,24153,"Щітка Trixie для котів двухстороння нейлонові і дротяні щетинки 6*19см","Менше 10","Догляд та гігієна для собак",423.84,551,{"$f":"Trixie!I$1804","v":0},{"$f":"Trixie!J$1804","v":0}]
[null,12274,2336,"Щітка Trixie для котів масажна з шипами гумова з петлею для рук 8х13см","Менше 10","Догляд та гігієна для собак",226.62,295,{"$f":"Trixie!I$1805","v":0},{"$f":"Trixie!J$1805","v":0}]
[null,1111145746,23126,"Щітка Trixie для котів пластик 7*16см","Менше 10","Догляд та гігієна для котів",292.32,380,{"$f":"Trixie!I$1806","v":0},{"$f":"Trixie!J$1806","v":0}]
[null,1111125832,24131,"Щітка Trixie для котів пластик металева щетина 7*16см","Більше 10","Догляд та гігієна для собак",292.32,380,{"$f":"Trixie!I$1807","v":0},{"$f":"Trixie!J$1807","v":0}]
[null,1111183723,23133,"Щітка Trixie для котів рожево-чорна пластик 19см","Більше 10","Догляд та гігієна для котів",120.3,156,{"$f":"Trixie!I$1808","v":0},{"$f":"Trixie!J$1808","v":0}]
[null,1111113773,2301,"Щітка-пуходерка Trixie д/собак м_яка гумов/ручкою та кульками 10х17см","Більше 100","Догляд та гігієна для собак",120.3,156,{"$f":"Trixie!I$1809","v":0},{"$f":"Trixie!J$1809","v":0}]
[null,1111125835,24141,"Щітка-пуходерка Trixie д/собак м_яка пластик/ручкою та кульками 7х16см","Більше 10","Догляд та гігієна для собак",325.92,424,{"$f":"Trixie!I$1810","v":0},{"$f":"Trixie!J$1810","v":0}]
[null,1111125833,24132,"Щітка-пуходерка Trixie для собак м_яка з пластиковою ручкою 10х17см","Більше 10","Догляд та гігієна для собак",325.92,424,{"$f":"Trixie!I$1811","v":0},{"$f":"Trixie!J$1811","v":0}]
[null,1111125834,24133,"Щітка-пуходерка Trixie для собак м_яка з пластиковою ручкою 12х20см","Більше 10","Догляд та гігієна для собак",391.62,509,{"$f":"Trixie!I$1812","v":0},{"$f":"Trixie!J$1812","v":0}]
[null,1111165536,24057,"Щітка-пуходерка Trixie для собак м_яка пластик/метал 12х16см","Більше 10","Догляд та гігієна для собак",260.16000000000003,338,{"$f":"Trixie!I$1813","v":0},{"$f":"Trixie!J$1813","v":0}]
[null,1111165535,24055,"Щітка-пуходерка Trixie для собак м_яка пластик/метал 7х16см","Більше 10","Догляд та гігієна для собак",194.46,253,{"$f":"Trixie!I$1814","v":0},{"$f":"Trixie!J$1814","v":0}]
[null,1111165623,24056,"Щітка-пуходерка Trixie для собак м_яка пластик/метал 9х16см","Більше 10","Догляд та гігієна для собак",226.62,295,{"$f":"Trixie!I$1815","v":0},{"$f":"Trixie!J$1815","v":0}]
[null,1111150261,24155,"Щітка-пуходерка Trixie для собак м_яка пластикова 19см","Більше 100","Догляд та гігієна для собак",120.3,156,{"$f":"Trixie!I$1816","v":0},{"$f":"Trixie!J$1816","v":0}]
[null,2182,2354,"Щітка-пуходерка Trixie м_яка з дерев/ручкою і пластик/гребінцем 9х13см","Більше 10","Догляд та гігієна для собак",134.28,175,{"$f":"Trixie!I$1817","v":0},{"$f":"Trixie!J$1817","v":0}]
[null,1111183788,60890,"Ясла для сіна Trixie висячі з кришкою метал 13х18х12см чорні Арт60890","Більше 10","Обладнання для гризунів",120.3,156,{"$f":"Trixie!I$1818","v":0},{"$f":"Trixie!J$1818","v":0}]
[null,1111183789,"60982*****","Ясла для сіна Trixie стоячі дерево 15 х 11 х 15 см чорні Арт60982","Менше 10","Обладнання для гризунів",176.28,229,{"$f":"Trixie!I$1819","v":0},{"$f":"Trixie!J$1819","v":0}]
[null,1111174059,"13011_ord","Бальзам Tropical Ophtalvit-A Chelonia д/рептилій догляд за шкірою 15мл","Менше 10","Засоби догляду для тераріумів",403.86,545,{"$f":"Tropical!I$8","v":0},{"$f":"Tropical!J$8","v":0}]
[null,1111182158,"34305_ord","Засіб для акваріума  Bacto-Active 250мл","Менше 10","Засоби для догляду за акваріумом",485.34,655,{"$f":"Tropical!I$9","v":0},{"$f":"Tropical!J$9","v":0}]
[null,1111182156,"34065_ord","Засіб для акваріума Antychlor 250мл","Менше 10","Кондиціонери для води",420.6,568,{"$f":"Tropical!I$10","v":0},{"$f":"Tropical!J$10","v":0}]
[null,1111182157,"34015_ord","Засіб для акваріума Esklarin 250мл","Менше 10","Кондиціонери для води",420.6,568,{"$f":"Tropical!I$11","v":0},{"$f":"Tropical!J$11","v":0}]
[null,1111182154,"34115_ord","Засіб для ставка Antychlor Pond 250мл","Менше 10","Засоби для догляду за ставком",378.66,511,{"$f":"Tropical!I$12","v":0},{"$f":"Tropical!J$12","v":0}]
[null,1111182155,"33148_ord","Засіб для ставка Blue Guard Pond 2л","Менше 10","Засоби для догляду за ставком",3605.58,4868,{"$f":"Tropical!I$13","v":0},{"$f":"Tropical!J$13","v":0}]
[null,1111129777,"11363_ord","Корм Tropical Biorept W для водоплавних черепах гранули 30г","Менше 10","Корм сухий для черепах та рептилій",103.08,140,{"$f":"Tropical!I$14","v":0},{"$f":"Tropical!J$14","v":0}]
[null,1111130533,"11364_ord","Корм Tropical Biorept W для водоплавних черепах гранули 75г","Менше 10","Корм сухий для черепах та рептилій",207.3,280,{"$f":"Tropical!I$15","v":0},{"$f":"Tropical!J$15","v":0}]
[null,1111111133,"74419_ord","Корм Tropical Bio-Vit д/травоїдних акваріумн/риб пластівці 4кг","Менше 10","Корм сухий для акваріумних риб",4602.66,6213,{"$f":"Tropical!I$16","v":0},{"$f":"Tropical!J$16","v":0}]
[null,1111131044,"63726_ord","Корм Tropical Cichlid Red Green Medium Sticks д/цихлід палички 1л/360г","Менше 10","Корм сухий для акваріумних риб",741.78,1001,{"$f":"Tropical!I$17","v":0},{"$f":"Tropical!J$17","v":0}]
[null,1111131054,"60474_ord","Корм Tropical Goldfish Color Pellet д/золотих рибок гранули 90г/250мл","Менше 10","Корм сухий для акваріумних риб",225.3,303,{"$f":"Tropical!I$18","v":0},{"$f":"Tropical!J$18","v":0}]
[null,1111129380,"66428_ord","Корм Tropical Green Algae Wafers д/травоїд/дон/риб пластівці 5л/2,25кг","Менше 10","Корм сухий для акваріумних риб",3954.42,5337,{"$f":"Tropical!I$19","v":0},{"$f":"Tropical!J$19","v":0}]
[null,1111138231,77005,"Корм Tropical Ichtio-Vit для всіх акваріумних риб пластівці 100г/500мл","Менше 10","Корм сухий для акваріумних риб",261.24,354,{"$f":"Tropical!I$20","v":0},{"$f":"Tropical!J$20","v":0}]
[null,12568,"407_ordСПЕЦЦЕНА","Корм Tropical Ichtio-Vit для всіх акваріумних риб пластівці 120г","Менше 10","Корм сухий для акваріумних риб",314.04000000000002,423,{"$f":"Tropical!I$21","v":0},{"$f":"Tropical!J$21","v":0}]
[null,1111143005,"40352_ord","Корм Tropical Koi Goldfish Colour Sticks д/ставк/риб палички 4кг/50л","Менше 10","Корм сухий для ставкових риб",2137.8000000000002,2885,{"$f":"Tropical!I$22","v":0},{"$f":"Tropical!J$22","v":0}]
[null,1111143140,"40656_ord","Корм Tropical Koi Goldfish Colour Sticks д/ставк/риб палички 800г/10л","Менше 10","Корм сухий для ставкових риб",562.02,759,{"$f":"Tropical!I$23","v":0},{"$f":"Tropical!J$23","v":0}]
[null,1111113194,"74431_ord","Корм Tropical Ovo-Vit для всіх акваріумних риб пластівці 12г","Більше 10","Корм сухий для акваріумних риб",52.74,72,{"$f":"Tropical!I$24","v":0},{"$f":"Tropical!J$24","v":0}]
[null,1111143139,"40311_ord","Корм Tropical Pond Sticks Mixed для ставкових риб пластівці 4кг/50л","Менше 10","Корм сухий для ставкових риб",2137.8000000000002,2885,{"$f":"Tropical!I$25","v":0},{"$f":"Tropical!J$25","v":0}]
[null,1111130540,"61401_ord","Корм Tropical Supervit Granulat для акваріумних риб гранули 10г","Менше 10","Корм сухий для акваріумних риб",42,57,{"$f":"Tropical!I$26","v":0},{"$f":"Tropical!J$26","v":0}]
[null,1111130541,"61421_ord","Корм Tropical Supervit Mini Granulat для акваріумних риб гранули 10г","Менше 10","Корм сухий для акваріумних риб",43.2,59,{"$f":"Tropical!I$27","v":0},{"$f":"Tropical!J$27","v":0}]
[null,1111111134,"74429_ord","Корм Tropical Tropical для всіх акваріумних риб пластівці 21л/4кг","Менше 10","Корм сухий для акваріумних риб",4602.66,6213,{"$f":"Tropical!I$28","v":0},{"$f":"Tropical!J$28","v":0}]
[null,1111130537,60463,"Корм Tropical Welsi Gran для акваріумних донних риб гранули 65г/100мл","Менше 10","Корм сухий для акваріумних риб",165.42,223,{"$f":"Tropical!I$29","v":0},{"$f":"Tropical!J$29","v":0}]
[null,1111171131,"61618_ord","Корм для дискусів D-50 Plus у вигляді грануляту 2,2кг/5л арт.61618","Менше 10","Корм сухий для акваріумних риб",2810.52,3794,{"$f":"Tropical!I$30","v":0},{"$f":"Tropical!J$30","v":0}]
[null,1111182152,"63558_ord","Корм для риб Tropical  Red Mico Colour Sticks 1,7кг","Менше 10","Корм сухий для акваріумних риб",4045.86,5462,{"$f":"Tropical!I$31","v":0},{"$f":"Tropical!J$31","v":0}]
[null,13109,34301,"Препарат Tropical Bacto Active д/акваріума запуск/підгот/середов 30мл","Менше 10","Кондиціонери для води",118.68,160,{"$f":"Tropical!I$32","v":0},{"$f":"Tropical!J$32","v":0}]
[null,1111137678,"32181_ord","Препарат Tropical CMF д/риб для лікування від бактерій та грибів 30мл","Більше 10","Препарати для лікування риб",145.08000000000001,196,{"$f":"Tropical!I$33","v":0},{"$f":"Tropical!J$33","v":0}]
[null,1111181358,"34335_ord","Препарат Tropical Supreme д/підгот.водопровід.води алоє концент.250мл","Менше 10","Засоби для догляду за акваріумом",420.6,568,{"$f":"Tropical!I$34","v":0},{"$f":"Tropical!J$34","v":0}]
[null,1111166053,171548,"Carnilove True Fresh Beef for Adult dogs д/собак з яловичиною 1,4кг","Менше 10","Корм сухий для собак",726.72,1126,{"$f":"'True Fresh'!I$8","v":0},{"$f":"'True Fresh'!J$8","v":0}]
[null,1111167496,171549,"Carnilove True Fresh Beef for Adult dogs д/собак з яловичиною 4кг","Більше 10","Корм сухий для собак",1807.61,2802,{"$f":"'True Fresh'!I$9","v":0},{"$f":"'True Fresh'!J$9","v":0}]
[null,1111174830,172164,"Carnilove True Fresh Cat Fresh Chicken для дорослих котів курка 4,8кг","Менше 10","Корм сухий для котів",1676.76,2599,{"$f":"'True Fresh'!I$10","v":0},{"$f":"'True Fresh'!J$10","v":0}]
[null,1111174824,172157,"Carnilove True Fresh Cat Fresh Fish для дорослих котів риба 1,8кг","Більше 10","Корм сухий для котів",805.92,1249,{"$f":"'True Fresh'!I$11","v":0},{"$f":"'True Fresh'!J$11","v":0}]
[null,1111174825,172158,"Carnilove True Fresh Cat Fresh Fish для дорослих котів риба 4,8кг","Більше 10","Корм сухий для котів",1870.08,2899,{"$f":"'True Fresh'!I$12","v":0},{"$f":"'True Fresh'!J$12","v":0}]
[null,1111174826,172159,"Carnilove True Fresh Cat Fresh Turkey д/дорослих котів індичка 340г","Менше 10","Корм сухий для котів",199.35,309,{"$f":"'True Fresh'!I$13","v":0},{"$f":"'True Fresh'!J$13","v":0}]
[null,1111182588,172137,"Carnilove True Fresh Fish Adult Small Breed д/малих порід риба 4кг","Менше 10","Корм сухий для собак",1612.26,2499,{"$f":"'True Fresh'!I$14","v":0},{"$f":"'True Fresh'!J$14","v":0}]
[null,1111167494,171546,"Carnilove True Fresh Fish for Adult dogs д/собак усіх порід риба 4кг","Більше 10","Корм сухий для собак",1716.77,2661,{"$f":"'True Fresh'!I$15","v":0},{"$f":"'True Fresh'!J$15","v":0}]
[null,1111167493,171544,"Carnilove True Fresh Turkey for Adult dogs д/собак з індичкою 11,4 кг","Більше 10","Корм сухий для собак",3804.94,5898,{"$f":"'True Fresh'!I$16","v":0},{"$f":"'True Fresh'!J$16","v":0}]
[null,1111167492,171543,"Carnilove True Fresh Turkey for Adult dogs д/собак з індичкою 4 кг","Більше 10","Корм сухий для собак",1716.77,2661,{"$f":"'True Fresh'!I$17","v":0},{"$f":"'True Fresh'!J$17","v":0}]
[null,1111182584,172074,"Carnilove True Fresh Turkey Puppy д/цуценят індичка 1,4кг","Немає в наявності","Корм сухий для собак",644.52,999,{"$f":"'True Fresh'!I$18","v":0},{"$f":"'True Fresh'!J$18","v":0}]
[null,1111204652,172162,"ТЕРМ 08.25 Carnilove True Fresh Cat Fresh Chicken дорос/кот курка 340г","Менше 10","Корм сухий для котів",99.72,0,{"$f":"'True Fresh'!I$19","v":0},{"$f":"'True Fresh'!J$19","v":0}]
[null,1111205740,172162,"ТЕРМ 09.25 Carnilove True Fresh Cat Fresh Chicken дорос/кот курка 340г","Менше 10","Корм сухий для котів",99.72,0,{"$f":"'True Fresh'!I$20","v":0},{"$f":"'True Fresh'!J$20","v":0}]
[null,1111207465,171542,"ТЕРМ 10.25 Carnilove True Fresh Turkey for Adult dogs з індичкою 1,4кг","Менше 10","Корм сухий для собак",343.26,0,{"$f":"'True Fresh'!I$21","v":0},{"$f":"'True Fresh'!J$21","v":0}]
[null,1111205627,172159,"ТЕРМ. 09.25 Carnilove True Fresh Cat FreshTurkey доросл/кот індик 340г","Менше 10","Корм сухий для котів",99.72,0,{"$f":"'True Fresh'!I$22","v":0},{"$f":"'True Fresh'!J$22","v":0}]
[null,1111206355,171548,"ТЕРМ. 10.25 Carnilove True Fresh Beef for Adult dogs яловичина 1,4кг","Менше 10","Корм сухий для собак",363.36,0,{"$f":"'True Fresh'!I$23","v":0},{"$f":"'True Fresh'!J$23","v":0}]
[null,1111206780,172156,"ТЕРМ. 10.25 Carnilove True Fresh Cat Fresh Fish доросл/коти риба 340г","Менше 10","Корм сухий для котів",109.38,0,{"$f":"'True Fresh'!I$24","v":0},{"$f":"'True Fresh'!J$24","v":0}]
[null,1111207860,172156,"ТЕРМ.11.25.Корм сухий Carnilove True Fresh Cat Fresh Fish для дорослих","Менше 10","Корм сухий для котів",109.38,0,{"$f":"'True Fresh'!I$25","v":0},{"$f":"'True Fresh'!J$25","v":0}]
[null,1111117212,25782,"Vitakraft Fit Bits для декоративних гризунів овочі/люцерна 500г","Більше 10","Ласощі для гризунів",327.24,459,{"$f":"Vitakraft!I$8","v":0},{"$f":"Vitakraft!J$8","v":0}]
[null,6562,21289,"Vitakraft Kracker Original Almonds Fig для австрал папуг фрукт 2шт/уп","Більше 10","Ласощі для птахів",208.74,293,{"$f":"Vitakraft!I$9","v":0},{"$f":"Vitakraft!J$9","v":0}]
[null,6280,"21264 /26231","Vitakraft Kracker Original Apricot Fig для папуг з фруктами 2 шт","Менше 10","Ласощі для птахів",94.08,130,{"$f":"Vitakraft!I$10","v":0},{"$f":"Vitakraft!J$10","v":0}]
[null,1111112226,25062,"Vitakraft Kracker Original Calci Fit крекер для шиншил кальцій 2шт","Більше 10","Ласощі для гризунів",126.84,180,{"$f":"Vitakraft!I$11","v":0},{"$f":"Vitakraft!J$11","v":0}]
[null,6276,"21294 Vitakraft","Vitakraft Kracker Original Feather Care для ара в період линьки 2шт","Більше 10","Ласощі для птахів",189.78,267,{"$f":"Vitakraft!I$12","v":0},{"$f":"Vitakraft!J$12","v":0}]
[null,1111112071,21224,"Vitakraft Kracker Original Feather Care для папуг при линьці 2шт","Більше 10","Ласощі для птахів",96.48,135,{"$f":"Vitakraft!I$13","v":0},{"$f":"Vitakraft!J$13","v":0}]
[null,1111117993,25155,"Vitakraft Kracker Original Frucht Flakes для морських свинок фрукт 2шт","Більше 10","Ласощі для гризунів",110.34,155,{"$f":"Vitakraft!I$14","v":0},{"$f":"Vitakraft!J$14","v":0}]
[null,1111117991,25140,"Vitakraft Kracker Original Spelt Apple для щурів зерно/фрукти 2шт","Більше 10","Ласощі для гризунів",125.64,175,{"$f":"Vitakraft!I$15","v":0},{"$f":"Vitakraft!J$15","v":0}]
[null,1111121124,"25227 Vitakraft","Vitakraft Kracker Original Trio-Mix для кроликів овочі/горіх/ягоди 2шт","Більше 10","Ласощі для гризунів",162.54,230,{"$f":"Vitakraft!I$16","v":0},{"$f":"Vitakraft!J$16","v":0}]
[null,1893,21231,"Vitakraft Kracker Original Trio-Mix для папуг мед/фрукти/яйця 3шт","Більше 100","Ласощі для птахів",114.06,160,{"$f":"Vitakraft!I$17","v":0},{"$f":"Vitakraft!J$17","v":0}]
[null,1111117988,"21339/18105","Вітамінізована добавка Vitakraft д/вел/серед/папуг під час линьки 25г","Більше 10","Вітаміни та мінерали для птахів",35.64,50,{"$f":"Vitakraft!I$18","v":0},{"$f":"Vitakraft!J$18","v":0}]
[null,1111117987,"21311 Vitakraft","Вітамінізована добавка Vitakraft д/хвил/екзот/папуг під час линьки 20г","Більше 100","Вітаміни та мінерали для птахів",24.3,35,{"$f":"Vitakraft!I$19","v":0},{"$f":"Vitakraft!J$19","v":0}]
[null,7405,21644,"Корм Viatkraft Australian для середніх австралійських папуг 750 г","Більше 10","Корм для птахів",346.14,486,{"$f":"Vitakraft!I$20","v":0},{"$f":"Vitakraft!J$20","v":0}]
[null,7398,21640,"Корм Vitakraft African для великих африканських папуг для жако 750г","Більше 10","Корм для птахів",313.14,437,{"$f":"Vitakraft!I$21","v":0},{"$f":"Vitakraft!J$21","v":0}]
[null,10054,21641,"Корм Vitakraft African для середніх африканських папуг 750 г","Менше 10","Корм для птахів",329.82,462,{"$f":"Vitakraft!I$22","v":0},{"$f":"Vitakraft!J$22","v":0}]
[null,7397,21643,"Корм Vitakraft Amazonian для великих амазонських папуг 750 г","Менше 10","Корм для птахів",338.52,475,{"$f":"Vitakraft!I$23","v":0},{"$f":"Vitakraft!J$23","v":0}]
[null,1111143687,"31462/33758","Корм Vitakraft Emotion Beauty Selection д/шиншил для шкіри/шерсті 600г","Більше 100","Корм для гризунів",326.52,457,{"$f":"Vitakraft!I$24","v":0},{"$f":"Vitakraft!J$24","v":0}]
[null,1111143685,"31458/33753","Корм Vitakraft Emotion д/декоративних гризунів і морських свинок 600г","Більше 10","Корм для гризунів",326.52,457,{"$f":"Vitakraft!I$25","v":0},{"$f":"Vitakraft!J$25","v":0}]
[null,1111143688,"31464/33761 Vitakraft","Корм Vitakraft Emotion для декоративних гризунів та дегу 600 г","Більше 100","Корм для гризунів",319.74,448,{"$f":"Vitakraft!I$26","v":0},{"$f":"Vitakraft!J$26","v":0}]
[null,1111142798,"31455/33745","Корм Vitakraft Emotion для декоративних гризунів та кроликів 600 г","Більше 10","Корм для гризунів",324.89999999999998,455,{"$f":"Vitakraft!I$27","v":0},{"$f":"Vitakraft!J$27","v":0}]
[null,1111114822,"18102/21444","Корм Vitakraft Menu для хвилястих папуг 1кг","Більше 100","Корм для птахів",232.14,323,{"$f":"Vitakraft!I$28","v":0},{"$f":"Vitakraft!J$28","v":0}]
[null,13105,"21441/10619","Корм Vitakraft Menu для хвилястих папуг 500г","Більше 100","Корм для птахів",132.36000000000001,187,{"$f":"Vitakraft!I$29","v":0},{"$f":"Vitakraft!J$29","v":0}]
[null,1111119041,25246,"Корм Vitakraft Pellets для декоративних кроликів 1кг","Більше 100","Корм для гризунів",240.72,337,{"$f":"Vitakraft!I$30","v":0},{"$f":"Vitakraft!J$30","v":0}]
[null,311999,25076,"Корм Vitakraft Pellets для шиншил1 кг","Більше 100","Корм для гризунів",137.04,193,{"$f":"Vitakraft!I$31","v":0},{"$f":"Vitakraft!J$31","v":0}]
[null,1111111810,"10645-29219","Корм Vitakraft Premium Menu Vital д/декоративних гризунів/кроликів 1кг","Більше 10","Корм для гризунів",293.64,411,{"$f":"Vitakraft!I$32","v":0},{"$f":"Vitakraft!J$32","v":0}]
[null,1111111809,"18121/29220/25582","Корм Vitakraft Premium Menu Vital для морських свинок 1кг","Більше 100","Корм для гризунів",287.16000000000003,401,{"$f":"Vitakraft!I$33","v":0},{"$f":"Vitakraft!J$33","v":0}]
[null,1111111808,"10646/25583","Корм Vitakraft Premium Menu Vital для морських свинок 400г","Більше 10","Корм для гризунів",117.42,165,{"$f":"Vitakraft!I$34","v":0},{"$f":"Vitakraft!J$34","v":0}]
[null,1111121971,25311,"Корм Vitakraft Premium Menu Vital для морських свинок 600г","Більше 10","Корм для гризунів",246.18,344,{"$f":"Vitakraft!I$35","v":0},{"$f":"Vitakraft!J$35","v":0}]
[null,6081,"21003/10621","Корм Vitakraft Premium Menu Vital для німф 1кг","Більше 100","Корм для птахів",252.6,354,{"$f":"Vitakraft!I$36","v":0},{"$f":"Vitakraft!J$36","v":0}]
[null,1111111811,"29222/25585//10647","Корм Vitakraft Premium Menu Vital для хом_яків 400г","Більше 100","Корм для гризунів",116.7,164,{"$f":"Vitakraft!I$37","v":0},{"$f":"Vitakraft!J$37","v":0}]
[null,11740,"25326 /25847","Корм Vitakraft Premium Menu Vital для шиншил 600г","Менше 10","Корм для гризунів",253.14,355,{"$f":"Vitakraft!I$38","v":0},{"$f":"Vitakraft!J$38","v":0}]
[null,1111112174,21318,"Корм Vitakraft Premium Menu для амадин 500г","Більше 10","Корм для птахів",152.76,213,{"$f":"Vitakraft!I$39","v":0},{"$f":"Vitakraft!J$39","v":0}]
[null,1111117983,25542,"Корм Vitakraft Premium Menu для декоративних гризунів та кроликів 3 кг","Більше 10","Корм для гризунів",655.14,918,{"$f":"Vitakraft!I$40","v":0},{"$f":"Vitakraft!J$40","v":0}]
[null,1111145733,21450,"Корм Vitakraft Premium Menu для декоративних папуг і канарок 1 кг","Більше 10","Корм для птахів",259.98,364,{"$f":"Vitakraft!I$41","v":0},{"$f":"Vitakraft!J$41","v":0}]
[null,1111119052,25314,"Корм Vitakraft Special для декоративних гризунів та кроликів 600г","Більше 10","Корм для гризунів",250.92,352,{"$f":"Vitakraft!I$42","v":0},{"$f":"Vitakraft!J$42","v":0}]
[null,1111119069,25692,"Корм Vitakraft Vita Verde Nature Mix д/гризунів подорожн/конюшина 70г","Більше 10","Корм для гризунів",172.38,243,{"$f":"Vitakraft!I$43","v":0},{"$f":"Vitakraft!J$43","v":0}]
[null,1111166859,"28813*****","Ласощі Vitakraft Crispy Crunch подушечки д/котів д/зубів з м_ятою 60г","Більше 10","Ласощі для котів",99.54,138,{"$f":"Vitakraft!I$44","v":0},{"$f":"Vitakraft!J$44","v":0}]
[null,1111111806,21221,"Ласощі Vitakraft Kracker Original д/канарок під час линьки 60г/2шт","Більше 10","Ласощі для птахів",68.099999999999994,95,{"$f":"Vitakraft!I$45","v":0},{"$f":"Vitakraft!J$45","v":0}]
[null,7409,21265,"Ласощі Vitakraft Kracker крекер д/канарок під час линьки яйце 60г/2шт","Більше 10","Ласощі для птахів",78.239999999999995,110,{"$f":"Vitakraft!I$46","v":0},{"$f":"Vitakraft!J$46","v":0}]
[null,12148,21237,"Ласощі Vitakraft Kracker крекер д/хвил/папуг інжир/ківі/банан 90г/3шт","Більше 10","Ласощі для птахів",120.48,171,{"$f":"Vitakraft!I$47","v":0},{"$f":"Vitakraft!J$47","v":0}]
[null,1111117992,25154,"Ласощі Vitakraft Kracker крекер д/хом_яків фрукти/пластівці 112г/2шт","Більше 10","Ласощі для гризунів",106.68,149,{"$f":"Vitakraft!I$48","v":0},{"$f":"Vitakraft!J$48","v":0}]
[null,1111121111,21117,"Ласощі Vitakraft VITA Nature Red Foxtail Millet для птахів чумиза 80г","Більше 10","Ласощі для птахів",132.66,186,{"$f":"Vitakraft!I$49","v":0},{"$f":"Vitakraft!J$49","v":0}]
[null,1111166870,"36726/28823*****","Ласощі Vitakraft Yums подушечки для котів з лососем та Омега-3 40г","Більше 10","Ласощі для котів",115.02,162,{"$f":"Vitakraft!I$50","v":0},{"$f":"Vitakraft!J$50","v":0}]
[null,1892,11003,"Наповнювач Vitakraft Sandy Mineralsand для кліток птахів пісок 2 кг","Менше 10","Предмети гігієни для птахів",199.56,281,{"$f":"Vitakraft!I$51","v":0},{"$f":"Vitakraft!J$51","v":0}]
[null,9817,"15523-11007","Наповнювач Vitakraft Sandy для кліток птахів пісок 2,5 кг","Менше 10","Предмети гігієни для птахів",130.32,183,{"$f":"Vitakraft!I$52","v":0},{"$f":"Vitakraft!J$52","v":0}]
[null,9819,15010,"Наповнювач Vitakraft Sandy пісок для шиншил 1кг","Більше 10","Догляд та гігієна для гризунів",236.1,332,{"$f":"Vitakraft!I$53","v":0},{"$f":"Vitakraft!J$53","v":0}]
[null,1111208536,21640,"ТЕРМ 04.26 ПОРВ Корм Vitakraft African велик/африкан/папуг/жако 750г","Менше 10","Корм для птахів",156.6,0,{"$f":"Vitakraft!I$54","v":0},{"$f":"Vitakraft!J$54","v":0}]
[null,1111208354,21643,"ТЕРМ 08.26 ПОРВ Корм Vitakraft Amazonian д/велик.амазонськ.папуг 750г","Менше 10","Корм для птахів",169.26,0,{"$f":"Vitakraft!I$55","v":0},{"$f":"Vitakraft!J$55","v":0}]
[null,1111205205,25311,"ТЕРМ. 05.26, ПОРВ. Корм Vitakraft Premium Menu Vital для декоративних ","Менше 10","Корм для гризунів",123.12,0,{"$f":"Vitakraft!I$56","v":0},{"$f":"Vitakraft!J$56","v":0}]
[null,1111208152,"25326 /25847","ТЕРМ. 06.26. ПОРВ. Корм Vitakraft Premium Menu Vital для шиншил 600 г","Менше 10","Корм для гризунів",126.6,0,{"$f":"Vitakraft!I$57","v":0},{"$f":"Vitakraft!J$57","v":0}]
[null,1111204288,"18102/21444","ТЕРМ. 07.26, ПОРВ. Корм Vitakraft Menu для хвилястих папуг 1кг","Менше 10","Корм для птахів",116.1,0,{"$f":"Vitakraft!I$58","v":0},{"$f":"Vitakraft!J$58","v":0}]
[null,1111204504,"10645-29219","ТЕРМ. 08.25 Корм Vitakraft Premium Menu Vital декор.гризун/кролик 1кг","Менше 10","Корм для гризунів",146.82,0,{"$f":"Vitakraft!I$59","v":0},{"$f":"Vitakraft!J$59","v":0}]
[null,1111201854,"28815*****","ТЕРМ. 08.25 Ласощі Vitakraft Crispy Crunch подушечки/котів лосось 60г","Більше 10","Ласощі для котів",47.4,0,{"$f":"Vitakraft!I$60","v":0},{"$f":"Vitakraft!J$60","v":0}]
[null,1111201681,"28814*****","ТЕРМ. 08.25 Ласощі Vitakraft Crispy Crunch подушечки/котів птиця 60г","Менше 10","Ласощі для котів",47.4,0,{"$f":"Vitakraft!I$61","v":0},{"$f":"Vitakraft!J$61","v":0}]
[null,1111203926,"10645-29219","ТЕРМ. 10.25 Корм Vitakraft Premium Menu Vital декор.гризун/кролик 1кг","Більше 10","Корм для гризунів",146.82,0,{"$f":"Vitakraft!I$62","v":0},{"$f":"Vitakraft!J$62","v":0}]
[null,1111204207,"10645-29219","ТЕРМ. 10.25, ПОРВ. Корм Vitakraft Premium Menu Vital дек.гриз/крол 1кг","Менше 10","Корм для гризунів",146.82,0,{"$f":"Vitakraft!I$63","v":0},{"$f":"Vitakraft!J$63","v":0}]
[null,1111206457,35291,"ТЕРМ. 11.25 Vitakraft Poésie Délice pouch для кошенят індичка 85г","Більше 10","Корм вологий для котів",24.9,0,{"$f":"Vitakraft!I$64","v":0},{"$f":"Vitakraft!J$64","v":0}]
[null,1111208279,25246,"ТЕРМ.09.26.НЕ ТОВ.ВИГ.Корм Vitakraft Pellets для декоративних кроликів","Менше 10","Корм для гризунів",120.36,0,{"$f":"Vitakraft!I$65","v":0},{"$f":"Vitakraft!J$65","v":0}]
[null,1111169755,"WA00002","Килимок-годівниця WahoPet для собак Сова силіконова жовта","Менше 10","Килимки для собак",301.08,421,{"$f":"WahoPet!I$8","v":0},{"$f":"WahoPet!J$8","v":0}]
[null,1111169754,"WA00001","Килимок-годівниця WahoPet для собак Сова силіконова зелена","Менше 10","Килимки для собак",301.08,347,{"$f":"WahoPet!I$9","v":0},{"$f":"WahoPet!J$9","v":0}]
[null,1111172304,"WA00018","Миска WahoPet д/кот д/повільн годування з рибками пластикова блакитна","Менше 10","Миски для котів",201,260,{"$f":"WahoPet!I$10","v":0},{"$f":"WahoPet!J$10","v":0}]
[null,1111172305,"WA00019*****","Миска WahoPet д/кот д/повільн годування з рибками пластикова помаранч","Менше 10","Миски для котів",182.7,237,{"$f":"WahoPet!I$11","v":0},{"$f":"WahoPet!J$11","v":0}]
[null,1111172303,"WA00017","Миска WahoPet для собак для повільного годування пластикова блакитна","Менше 10","Миски та годівниці для собак",219.6,285,{"$f":"WahoPet!I$12","v":0},{"$f":"WahoPet!J$12","v":0}]
[null,1111169759,"WA00006*****","Миска-лабіринт WahoPet д/соб д/повіл годування зірка пластик коричнева","Менше 10","Миски та годівниці для собак",224.76,315,{"$f":"WahoPet!I$13","v":0},{"$f":"WahoPet!J$13","v":0}]
[null,1111169758,"WA00005*****","Миска-лабіринт WahoPet д/соб д/повіл годування зірка пластикова жовта","Менше 10","Миски та годівниці для собак",224.76,315,{"$f":"WahoPet!I$14","v":0},{"$f":"WahoPet!J$14","v":0}]
[null,1111169762,"WA00009*****","Миска-лабіринт WahoPet д/соб д/повільн годування пластикова коричнева","Менше 10","Миски та годівниці для собак",223.32,291,{"$f":"WahoPet!I$15","v":0},{"$f":"WahoPet!J$15","v":0}]
[null,1111169761,"WA00008","Миска-лабіринт WahoPet д/соб д/повільного годування пластикова зелена","Менше 10","Миски та годівниці для собак",223.32,291,{"$f":"WahoPet!I$16","v":0},{"$f":"WahoPet!J$16","v":0}]
[null,1111170840,"CH-130*****","Ласощі Yalute д/котів Chicken and Codfish Dices кубики курка/тріск 50г","Менше 10","Ласощі для котів",50.46,71,{"$f":"Yalute!I$8","v":0},{"$f":"Yalute!J$8","v":0}]
[null,1111170830,"DU-43*****","Ласощі Yalute д/собак Bone Shape of Duck and Banana качка і банан 100г","Більше 10","Ласощі для собак",95.46,135,{"$f":"Yalute!I$9","v":0},{"$f":"Yalute!J$9","v":0}]
[null,1111170834,"YLT-042*****","Ласощі Yalute д/собак Salmon and Oats in Heart Shape лосось/овес 100г","Менше 10","Ласощі для собак",95.46,135,{"$f":"Yalute!I$10","v":0},{"$f":"Yalute!J$10","v":0}]
[null,1111170835,"YLT-043*****","Ласощі Yalute д/собак Salmon Vegetable in Heart Shape лосос/овочі 100г","Менше 10","Ласощі для собак",95.46,135,{"$f":"Yalute!I$11","v":0},{"$f":"Yalute!J$11","v":0}]
[null,1111170829,"DU-05B*****","Ласощі Yalute для собак Baked duck strip запечені качині полоски 100г","Більше 10","Ласощі для собак",95.46,135,{"$f":"Yalute!I$12","v":0},{"$f":"Yalute!J$12","v":0}]
[null,1111170831,"DU-44*****","Ласощі Yalute для собак Bone Shape of Duck and Apple качка/яблуко 100г","Більше 10","Ласощі для собак",95.46,135,{"$f":"Yalute!I$13","v":0},{"$f":"Yalute!J$13","v":0}]
[null,1111170828,"CH-072*****","Ласощі Yalute для собак Chicken and Duck Fillets філе курки/качки 100г","Менше 10","Ласощі для собак",95.46,135,{"$f":"Yalute!I$14","v":0},{"$f":"Yalute!J$14","v":0}]
[null,1111170837,"RA-15*****","Ласощі Yalute для собак Rabbit and Apple Bit кролик і яблуко 100г","Більше 10","Ласощі для собак",90.06,126,{"$f":"Yalute!I$15","v":0},{"$f":"Yalute!J$15","v":0}]
[null,1111170832,"FI-61*****","Ласощі Yalute для собак Salmon Cloud Shape хмаринки з лосося 100г","Менше 10","Ласощі для собак",117.12,165,{"$f":"Yalute!I$16","v":0},{"$f":"Yalute!J$16","v":0}]
[null,1111170833,"FI-40*****","Ласощі Yalute для собак Salmon Fillets філе лосося 100г","Більше 10","Ласощі для собак",90.06,126,{"$f":"Yalute!I$17","v":0},{"$f":"Yalute!J$17","v":0}]
[null,1111203076,"CH-130","ТЕРМ 09.25 Ласощі Yalute кот Chicken and CodfishDices куб кур/тріск 50","Більше 100","Ласощі для котів",25,0,{"$f":"Yalute!I$18","v":0},{"$f":"Yalute!J$18","v":0}]
[null,1111203075,"FI-46","ТЕРМ. 09.25 Ласощі Yalute д/кот Salmon Short Sticks палички лосось 50г","Більше 100","Ласощі для котів",21.66,0,{"$f":"Yalute!I$19","v":0},{"$f":"Yalute!J$19","v":0}]
[null,1111202495,"CH-113","ТЕРМ. 09.25 Ласощі Yalute д/кот Short Chicken Slices шмат.курки 50г","Більше 10","Ласощі для котів",29.28,0,{"$f":"Yalute!I$20","v":0},{"$f":"Yalute!J$20","v":0}]
[null,1111203079,"FI-60","ТЕРМ. 09.25 Ласощі Yalute д/кот Tuna Short Sticks палички тунець 50г","Більше 100","Ласощі для котів",21.66,0,{"$f":"Yalute!I$21","v":0},{"$f":"Yalute!J$21","v":0}]
[null,1111202985,"DU-44","ТЕРМ. 09.25 Ласощі Yalute д/соб BoneShape of Duck andApple качк/ябл100","Менше 10","Ласощі для собак",40,0,{"$f":"Yalute!I$22","v":0},{"$f":"Yalute!J$22","v":0}]
[null,1111203054,"RA-15","ТЕРМ. 09.25 Ласощі Yalute д/соб Rabbit and Apple Bit кролик/яблуко100г","Менше 10","Ласощі для собак",40,0,{"$f":"Yalute!I$23","v":0},{"$f":"Yalute!J$23","v":0}]
[null,1111202889,"RA-31*****","ТЕРМ. 09.25 Ласощі Yalute д/соб Rabbit/Banana Chips кролик/банан 100г","Менше 10","Ласощі для собак",40,0,{"$f":"Yalute!I$24","v":0},{"$f":"Yalute!J$24","v":0}]
[null,1111203072,"YLT-043","ТЕРМ. 09.25 Ласощі Yalute д/собак Salmon Vegetable in Heart Shape 100г","Менше 10","Ласощі для собак",40,0,{"$f":"Yalute!I$25","v":0},{"$f":"Yalute!J$25","v":0}]
[null,1111203074,"CH-070","ТЕРМ. 09.25 Ласощі Yalute для котів Chicken Dices кубики курка 50г","Більше 100","Ласощі для котів",23.88,0,{"$f":"Yalute!I$26","v":0},{"$f":"Yalute!J$26","v":0}]
[null,1111203078,"FI-50*****","ТЕРМ. 09.25 Ласощі Yalute для котів Salmon Dices кубики з лосося 50г","Більше 100","Ласощі для котів",21.66,0,{"$f":"Yalute!I$27","v":0},{"$f":"Yalute!J$27","v":0}]
[null,1111203077,"FI-40","ТЕРМ. 09.25 Ласощі Yalute для собак Salmon Fillets філе лосося 100г","Більше 10","Ласощі для собак",40,0,{"$f":"Yalute!I$28","v":0},{"$f":"Yalute!J$28","v":0}]
[null,1111202834,"FI-61","ТЕРМ. 09.25 Ласощі Yalute соб Salmon Cloud Shape хмаринки лосось 100г","Менше 10","Ласощі для собак",50,0,{"$f":"Yalute!I$29","v":0},{"$f":"Yalute!J$29","v":0}]
[null,1111176700,"YEE-994","Адаптер Yee із вилкою європейського стандарту","Більше 10",null,24,35,{"$f":"Yee!I$8","v":0},{"$f":"Yee!J$8","v":0}]
[null,1111176675,"YES-100B","Компресор Yee д/акваріума акумуляторний з USB кабелем 1,5 Вт","Більше 10","Компресори і помпи для акваріума",660.24,925,{"$f":"Yee!I$9","v":0},{"$f":"Yee!J$9","v":0}]
[null,1111176676,"YES-200A","Компресор Yee д/акваріума акумуляторний з USB кабелем 3 Вт","Менше 10","Компресори і помпи для акваріума",781.26,1093,{"$f":"Yee!I$10","v":0},{"$f":"Yee!J$10","v":0}]
[null,1111176677,"YTZ-300","Компресор Yee д/акваріума безшумний 3 Вт","Менше 10","Компресори і помпи для акваріума",181.74,255,{"$f":"Yee!I$11","v":0},{"$f":"Yee!J$11","v":0}]
[null,1111176678,"YTZ-212","Компресор Yee д/акваріума з двома виходами 3,5 Вт","Більше 10","Компресори і помпи для акваріума",470.76,658,{"$f":"Yee!I$12","v":0},{"$f":"Yee!J$12","v":0}]
[null,1111176679,"YEE-2034","Компресор Yee д/акваріума з двома виходами 6 Вт","Більше 10","Компресори і помпи для акваріума",550.98,771,{"$f":"Yee!I$13","v":0},{"$f":"Yee!J$13","v":0}]
[null,1111176687,"YEE-3002","Обігрівач Yee д/акваріума YGH-100 скляний 24,5см 100 Вт","Менше 10","Обігрівачі для акваріума",291.24,407,{"$f":"Yee!I$14","v":0},{"$f":"Yee!J$14","v":0}]
[null,1111176688,"YEE-3003","Обігрівач Yee д/акваріума YGH-200 скляний 28,5см 200 Вт","Більше 10","Обігрівачі для акваріума",294.12,412,{"$f":"Yee!I$15","v":0},{"$f":"Yee!J$15","v":0}]
[null,1111176681,"YEE-3007","Обігрівач Yee д/акваріума YSH-100 металевий 30см 100 Вт","Менше 10","Обігрівачі для акваріума",364.38,509,{"$f":"Yee!I$16","v":0},{"$f":"Yee!J$16","v":0}]
[null,1111176682,"YEE-3008","Обігрівач Yee д/акваріума YSH-200 металевий 30см 200 Вт","Більше 10","Обігрівачі для акваріума",373.86,524,{"$f":"Yee!I$17","v":0},{"$f":"Yee!J$17","v":0}]
[null,1111176683,"YEE-3005","Обігрівач Yee д/акваріума YSH-25 металевий 19см 25 Вт","Більше 10",null,352.2,492,{"$f":"Yee!I$18","v":0},{"$f":"Yee!J$18","v":0}]
[null,1111176684,"YEE-3009","Обігрівач Yee д/акваріума YSH-300 металевий 38см 300 Вт","Більше 10","Обігрівачі для акваріума",375.18,525,{"$f":"Yee!I$19","v":0},{"$f":"Yee!J$19","v":0}]
[null,1111176685,"YEE-3010","Обігрівач Yee д/акваріума YSH-500 металевий 38см 500 Вт","Більше 10","Обігрівачі для акваріума",376.5,527,{"$f":"Yee!I$20","v":0},{"$f":"Yee!J$20","v":0}]
[null,1111176669,"TN-K200","Світильник Yee д/акваріума світлодіодний 18см 5 Вт","Більше 10","Освітлення для акваріумів",259.44,362,{"$f":"Yee!I$21","v":0},{"$f":"Yee!J$21","v":0}]
[null,1111176674,"NLS-003","Світильник Yee д/акваріума світлодіодний з USB кабелем 3,5 Вт","Більше 10",null,320.88,449,{"$f":"Yee!I$22","v":0},{"$f":"Yee!J$22","v":0}]
[null,1111176672,"NKD-010","Світильник Yee д/акваріума світлодіодний з USB кабелем білий 5 Вт","Більше 10","Освітлення для акваріумів",463.02,648,{"$f":"Yee!I$23","v":0},{"$f":"Yee!J$23","v":0}]
[null,1111176691,"YEE-3631","Фільтр Yee аерліфтний синій","Менше 10","Фільтри для акваріумів",125.4,175,{"$f":"Yee!I$24","v":0},{"$f":"Yee!J$24","v":0}]
[null,1111185619,"YBL-5400F","Фільтр Yee д/акваріума внутрішній 1000 л/год 20 Вт","Більше 10","Фільтри для акваріумів",440.52,616,{"$f":"Yee!I$25","v":0},{"$f":"Yee!J$25","v":0}]
[null,1111176696,"YJY-900","Фільтр Yee д/акваріума внутрішній 1200 л/год 25 Вт","Менше 10","Фільтри для акваріумів",419.46,587,{"$f":"Yee!I$26","v":0},{"$f":"Yee!J$26","v":0}]
[null,1111176693,"YJY-500","Фільтр Yee д/акваріума внутрішній 500 л/год 6 Вт","Більше 10","Фільтри для акваріумів",300.72000000000003,421,{"$f":"Yee!I$27","v":0},{"$f":"Yee!J$27","v":0}]
[null,1111176694,"YJY-600","Фільтр Yee д/акваріума внутрішній 600 л/год 15 Вт","Менше 10","Фільтри для акваріумів",334.56,468,{"$f":"Yee!I$28","v":0},{"$f":"Yee!J$28","v":0}]
[null,1111176697,"NkKD-003","Фільтр Yee д/акваріума навісний 250 л/год 2,5 Вт","Більше 10","Фільтри для акваріумів",256.68,359,{"$f":"Yee!I$29","v":0},{"$f":"Yee!J$29","v":0}]
[null,1111175249,"PR243217*****","Аксесуар Pet Fashion Deer для собак M-L","Більше 10","Одяг для собак",216.97,292.91000000000003,{"$f":"'Без бренда'!I$8","v":0},{"$f":"'Без бренда'!J$8","v":0}]
[null,1111175250,"PR243216*****","Аксесуар Pet Fashion Deer для собак XS-S","Менше 10","Одяг для собак",216.88,292.79000000000002,{"$f":"'Без бренда'!I$9","v":0},{"$f":"'Без бренда'!J$9","v":0}]
[null,1111175244,"PR243222*****","Костюм  Din  XS","Менше 10",null,870.34,1174.97,{"$f":"'Без бренда'!I$10","v":0},{"$f":"'Без бренда'!J$10","v":0}]
[null,1111175243,"PR243223*****","Костюм  Din  XS-2","Менше 10",null,937.56,1265.7,{"$f":"'Без бренда'!I$11","v":0},{"$f":"'Без бренда'!J$11","v":0}]
[null,1111175223,"PR243243*****","Костюм Pet Fashion LOLA для собак бузковий S арт PR243243","Менше 10","Одяг для собак",729.48,984.8,{"$f":"'Без бренда'!I$12","v":0},{"$f":"'Без бренда'!J$12","v":0}]
[null,1111175222,"PR243244*****","Костюм Pet Fashion LOLA для собак бузковий S2 арт PR243244","Більше 10","Одяг для собак",888.83,1199.92,{"$f":"'Без бренда'!I$13","v":0},{"$f":"'Без бренда'!J$13","v":0}]
[null,1111175225,"PR243241*****","Костюм Pet Fashion LOLA для собак бузковий XS арт PR243241","Менше 10","Одяг для собак",634.57000000000005,856.67,{"$f":"'Без бренда'!I$14","v":0},{"$f":"'Без бренда'!J$14","v":0}]
[null,1111175221,"PR243245*****","Костюм Pet Fashion LOLA для собак бузковий М арт PR243245","Менше 10","Одяг для собак",876.71,1183.56,{"$f":"'Без бренда'!I$15","v":0},{"$f":"'Без бренда'!J$15","v":0}]
[null,1111175227,"PR243239*****","Костюм Pet Fashion ZHAN для собак синій S арт PR243239","Менше 10","Одяг для собак",765.01,1032.77,{"$f":"'Без бренда'!I$16","v":0},{"$f":"'Без бренда'!J$16","v":0}]
[null,1111175229,"PR243237*****","Костюм Pet Fashion ZHAN для собак синій XS арт PR243237","Більше 10","Одяг для собак",711.42,960,{"$f":"'Без бренда'!I$17","v":0},{"$f":"'Без бренда'!J$17","v":0}]
[null,1111175226,"PR243240*****","Костюм Pet Fashion ZHAN для собак синій М арт PR243240","Більше 10","Одяг для собак",894.62,1207.74,{"$f":"'Без бренда'!I$18","v":0},{"$f":"'Без бренда'!J$18","v":0}]
[null,1111175258,"PR243208*****","Попона Pet Fashion Santa для собак зелена M","Більше 10","Одяг для собак",534.66,764,{"$f":"'Без бренда'!I$19","v":0},{"$f":"'Без бренда'!J$19","v":0}]
[null,1111175259,"PR243207*****","Попона Pet Fashion Santa для собак зелена S","Більше 10","Одяг для собак",441.6,631,{"$f":"'Без бренда'!I$20","v":0},{"$f":"'Без бренда'!J$20","v":0}]
[null,1111175261,"PR243205*****","Попона Pet Fashion Santa для собак зелена XS","Більше 10","Одяг для собак",407.7,583,{"$f":"'Без бренда'!I$21","v":0},{"$f":"'Без бренда'!J$21","v":0}]
[null,1111175260,"PR243206*****","Попона Pet Fashion Santa для собак зелена XS-2","Більше 10","Одяг для собак",428.82,613,{"$f":"'Без бренда'!I$22","v":0},{"$f":"'Без бренда'!J$22","v":0}]
[null,1111175239,"PR243227*****","Шапка Pet Fashion Bubo для собак хакі S","Менше 10","Одяг для собак",142.86000000000001,192.86,{"$f":"'Без бренда'!I$23","v":0},{"$f":"'Без бренда'!J$23","v":0}]
[null,1111155030,"PR241110_1уп (4пип)","Краплі Provet ЕКОВЕТ д/котів/малих порід собак репелент 4піпетки/0,5мл","Більше 10","Антипаразитарні препарати для котів",155.76,218,{"$f":"'ЕкоВет, фітокомплекси'!I$8","v":0},{"$f":"'ЕкоВет, фітокомплекси'!J$8","v":0}]
[null,1111155031,"PR241111_1уп.(4пип)","Краплі Provet ЕКОВЕТ д/середніх порід собак репелент 4піпетки/1мл","Більше 10","Антипаразитарні препарати для собак",159.9,224,{"$f":"'ЕкоВет, фітокомплекси'!I$9","v":0},{"$f":"'ЕкоВет, фітокомплекси'!J$9","v":0}]
[null,1111155035,"PR241115*****","Нашийник Provet ЕКОВЕТ для котів і собак малих порід репелентний 35 см","Більше 10","Антипаразитарні препарати для котів",95.94,134,{"$f":"'ЕкоВет, фітокомплекси'!I$10","v":0},{"$f":"'ЕкоВет, фітокомплекси'!J$10","v":0}]
[null,1111155033,"PR241113","Спрей Provet ЕКОВЕТ для котів і собак репелентний 100мл","Більше 10","Антипаразитарні препарати для котів",140.88,197,{"$f":"'ЕкоВет, фітокомплекси'!I$11","v":0},{"$f":"'ЕкоВет, фітокомплекси'!J$11","v":0}]
[null,1111155034,"PR241114","Спрей Provet ЕКОВЕТ для котів і собак репелентний 250мл","Більше 10","Антипаразитарні препарати для котів",273.89999999999998,383,{"$f":"'ЕкоВет, фітокомплекси'!I$12","v":0},{"$f":"'ЕкоВет, фітокомплекси'!J$12","v":0}]
[null,1111160839,"PR241753*****","Фітокомплекс Provet КІТ ВОРКІТ д/котів/собак д/корекції поведінки 20мл","Більше 10","Корекція поведінки для котів",80.52,113,{"$f":"'ЕкоВет, фітокомплекси'!I$13","v":0},{"$f":"'ЕкоВет, фітокомплекси'!J$13","v":0}]
[null,1111159466,"PR241369","Фітокомплекс Provet ФІТОВИТ д/котів вивед/шерсті сечовив/сист 100т/72г","Більше 10","Вітаміни для котів",89.28,125,{"$f":"'ЕкоВет, фітокомплекси'!I$14","v":0},{"$f":"'ЕкоВет, фітокомплекси'!J$14","v":0}]
[null,1111159468,"PR241376","Фітокомплекс Provet ФІТОВИТ д/котів д/сечовидільної системи 100таб/72г","Більше 10","Вітаміни для котів",85.86,120,{"$f":"'ЕкоВет, фітокомплекси'!I$15","v":0},{"$f":"'ЕкоВет, фітокомплекси'!J$15","v":0}]
[null,1111159467,"PR241368","Фітокомплекс Provet ФІТОВИТ д/котів нерв/імун/сечовив/система 100т/72г","Більше 10","Вітаміни для котів",87.72,123,{"$f":"'ЕкоВет, фітокомплекси'!I$16","v":0},{"$f":"'ЕкоВет, фітокомплекси'!J$16","v":0}]
[null,1111159469,"PR241375","Фітокомплекс Provet ФІТОВИТ д/котів шерсть/сечовив/система 100таб/72г","Більше 10","Вітаміни для котів",85.86,120,{"$f":"'ЕкоВет, фітокомплекси'!I$17","v":0},{"$f":"'ЕкоВет, фітокомплекси'!J$17","v":0}]
[null,1111159470,"PR241374","Фітокомплекс Provet ФІТОВИТ д/собак д/зміцн/зубів/кісток 100табл/112г","Більше 10","Вітаміни для собак",96.18,135,{"$f":"'ЕкоВет, фітокомплекси'!I$18","v":0},{"$f":"'ЕкоВет, фітокомплекси'!J$18","v":0}]
[null,1111159471,"PR241373","Фітокомплекс Provet ФІТОВИТ д/собак зміцн/віднов/суглобів 100табл/112г","Більше 10","Вітаміни для собак",222.12,310,{"$f":"'ЕкоВет, фітокомплекси'!I$19","v":0},{"$f":"'ЕкоВет, фітокомплекси'!J$19","v":0}]
[null,1111159473,"PR241371","Фітокомплекс Provet ФІТОВИТ для собак для травної системи 100таб/112г","Більше 10","Вітаміни для собак",93.9,132,{"$f":"'ЕкоВет, фітокомплекси'!I$20","v":0},{"$f":"'ЕкоВет, фітокомплекси'!J$20","v":0}]
[null,1111159472,"PR241372","Фітокомплекс Provet ФІТОВИТ для собак для шерсті 100табл/112г","Більше 10","Вітаміни для собак",93.9,132,{"$f":"'ЕкоВет, фітокомплекси'!I$21","v":0},{"$f":"'ЕкоВет, фітокомплекси'!J$21","v":0}]
[null,1111159474,"PR241370","Фітокомплекс Provet ФІТОВИТ для собак протиалергічний 100табл/112г","Більше 10","Вітаміни для собак",93.9,132,{"$f":"'ЕкоВет, фітокомплекси'!I$22","v":0},{"$f":"'ЕкоВет, фітокомплекси'!J$22","v":0}]
[null,1111205653,"PR241975","БЕЗ ПІДКЛАДКИ, НЕТОВ.В. Сумка-переноска Природа Константа для котів та","Менше 10","Сумки, переноски та посуд для подорожей з собаками",459.78,0,{"$f":"Природа!I$8","v":0},{"$f":"Природа!J$8","v":0}]
[null,1111188404,"PR241867","БРАК ПІДСТАВКИ Набір мисок Природа Етно для котів та собак 200 мл","Менше 10","Миски та годівниці для собак",364,0,{"$f":"Природа!I$9","v":0},{"$f":"Природа!J$9","v":0}]
[null,1111161525,"PR241892","Будинок-лежак Природа Comfort 1 для котів та собак 32х31х28см","Більше 10","Спальні місця для собак",467.28,631,{"$f":"Природа!I$10","v":0},{"$f":"Природа!J$10","v":0}]
[null,1111161526,"PR241891","Будинок-лежак Природа Comfort 2 для котів та собак 35х34х31см","Більше 10","Спальні місця для собак",547.26,739,{"$f":"Природа!I$11","v":0},{"$f":"Природа!J$11","v":0}]
[null,1111161527,"PR241890","Будинок-лежак Природа Comfort 3 д/котів/собак бязь/поролон 40х40х37см","Більше 10","Спальні місця для собак",618.72,835,{"$f":"Природа!I$12","v":0},{"$f":"Природа!J$12","v":0}]
[null,1111161528,"PR241889","Будинок-лежак Природа Comfort 4 для котів та собак 44х43х40см","Менше 10","Спальні місця для собак",746.52,1008,{"$f":"Природа!I$13","v":0},{"$f":"Природа!J$13","v":0}]
[null,1111161523,"PR241888","Будинок-лежак Природа Cube для котів та собак бязь/поролон 39х38х35см","Більше 10","Спальні місця для собак",713.64,963,{"$f":"Природа!I$14","v":0},{"$f":"Природа!J$14","v":0}]
[null,1111161524,"PR241899","Будинок-лежак Природа Lord д/котів/собак 36х36х32см","Більше 100","Спальні місця для собак",536.04,724,{"$f":"Природа!I$15","v":0},{"$f":"Природа!J$15","v":0}]
[null,1111161521,"PR241898","Будинок-лежак Природа Yurt д/котів/собак 38х38х26см","Більше 10","Спальні місця для собак",563.4,761,{"$f":"Природа!I$16","v":0},{"$f":"Природа!J$16","v":0}]
[null,1111162301,"PR241956","Будиночок Природа для гризунів 13х13х13см","Менше 10","Обладнання для гризунів",76.680000000000007,104,{"$f":"Природа!I$17","v":0},{"$f":"Природа!J$17","v":0}]
[null,8932,"PR740804","Будиночок Природа для птахів великий 24x17x17см","Менше 10","Обладнання для птахів",308.16000000000003,416,{"$f":"Природа!I$18","v":0},{"$f":"Природа!J$18","v":0}]
[null,10399,"PR740805","Будиночок Природа для птахів малий 13x11x11см","Більше 10","Обладнання для птахів",98.16,132,{"$f":"Природа!I$19","v":0},{"$f":"Природа!J$19","v":0}]
[null,11005,"PR740806","Будиночок Природа для птахів середній 13x15x16см","Більше 10","Обладнання для птахів",176.76,239,{"$f":"Природа!I$20","v":0},{"$f":"Природа!J$20","v":0}]
[null,1111140383,"PR240277","Будиночок Природа для хом_яка 13x10x7,5см","Більше 100","Обладнання для гризунів",45.12,62,{"$f":"Природа!I$21","v":0},{"$f":"Природа!J$21","v":0}]
[null,1111144192,"PR001198","Будиночок Природа Мрія для кролика 30x22x18см","Більше 10","Обладнання для гризунів",432.84,583,{"$f":"Природа!I$22","v":0},{"$f":"Природа!J$22","v":0}]
[null,1111143417,"PR001193","Будиночок Природа Мрія для морскої свинки 25x15x13см","Більше 10","Обладнання для гризунів",260.64,351,{"$f":"Природа!I$23","v":0},{"$f":"Природа!J$23","v":0}]
[null,1111143416,"PR001192","Будиночок Природа Мрія для хом_яка 13,5x13x15см","Більше 10","Обладнання для гризунів",148.44,201,{"$f":"Природа!I$24","v":0},{"$f":"Природа!J$24","v":0}]
[null,1111115299,"PR740810","Будиночок-переноска Природа для тваринок 17x8x9см","Більше 100","Обладнання для гризунів",7.14,9,{"$f":"Природа!I$25","v":0},{"$f":"Природа!J$25","v":0}]
[null,1111133768,"PR740811","Будиночок-переноска Природа для тваринок макси 25x15x17см","Більше 100","Обладнання для гризунів",22.38,30,{"$f":"Природа!I$26","v":0},{"$f":"Природа!J$26","v":0}]
[null,1111186192,"PR243927*****","Вишиванка Maryana S","Більше 10","Одяг для собак",760.56,1087.6300000000001,{"$f":"Природа!I$27","v":0},{"$f":"Природа!J$27","v":0}]
[null,1111186194,"PR243931*****","Вишиванка Maryana XS","Менше 10","Одяг для собак",720.66,1030.53,{"$f":"Природа!I$28","v":0},{"$f":"Природа!J$28","v":0}]
[null,1111186193,"PR243928*****","Вишиванка Maryana XS2","Більше 10","Одяг для собак",747.72,1069.23,{"$f":"Природа!I$29","v":0},{"$f":"Природа!J$29","v":0}]
[null,1111186195,"PR243933*****","Вишиванка Maryana XXS","Більше 10","Одяг для собак",709.08,1013.95,{"$f":"Природа!I$30","v":0},{"$f":"Природа!J$30","v":0}]
[null,1111186188,"PR243932*****","Вишиванка Ostap S","Більше 10","Одяг для собак",739.08,1057,{"$f":"Природа!I$31","v":0},{"$f":"Природа!J$31","v":0}]
[null,1111186190,"PR243926*****","Вишиванка Ostap XS","Менше 10","Одяг для собак",626.46,895.82,{"$f":"Природа!I$32","v":0},{"$f":"Природа!J$32","v":0}]
[null,1111186189,"PR243930*****","Вишиванка Ostap XS2","Більше 10","Одяг для собак",657.96,940.84,{"$f":"Природа!I$33","v":0},{"$f":"Природа!J$33","v":0}]
[null,1111186191,"PR243929*****","Вишиванка Ostap XXS","Більше 10","Одяг для собак",612.29999999999995,875.6,{"$f":"Природа!I$34","v":0},{"$f":"Природа!J$34","v":0}]
[null,5154,"PR240125","Вітаміни Природа Пір_їнка д/дріб/сер/птахів під час линьки насіння 20г","Більше 100","Вітаміни та мінерали для птахів",9.18,14,{"$f":"Природа!I$35","v":0},{"$f":"Природа!J$35","v":0}]
[null,5153,"PR240126*****","Вітаміни Природа Юніор д/мол/дріб/сер папуг мультивітамін насіння 20г","Більше 100","Вітаміни та мінерали для птахів",9.18,14,{"$f":"Природа!I$36","v":0},{"$f":"Природа!J$36","v":0}]
[null,1111134306,"PR240222","Гігієнічний пояс Природа для кобелів розмір M","Менше 10","Одяг для собак",246.84,333,{"$f":"Природа!I$37","v":0},{"$f":"Природа!J$37","v":0}]
[null,1111134305,"PR240223","Гігієнічний пояс Природа для кобелів розмір S","Менше 10","Одяг для собак",205.44,277,{"$f":"Природа!I$38","v":0},{"$f":"Природа!J$38","v":0}]
[null,1111134217,"PR240224","Гігієнічний пояс Природа для кобелів розмір XS","Менше 10","Одяг для собак",190.74,258,{"$f":"Природа!I$39","v":0},{"$f":"Природа!J$39","v":0}]
[null,6315,"PR240225","Гігієнічні труси Природа 1 для собак утеплені 25-30см","Більше 10","Одяг для собак",90.54,124,{"$f":"Природа!I$40","v":0},{"$f":"Природа!J$40","v":0}]
[null,6316,"PR240226","Гігієнічні труси Природа 2 для собак утеплені 30-36см","Більше 10","Одяг для собак",92.52,125,{"$f":"Природа!I$41","v":0},{"$f":"Природа!J$41","v":0}]
[null,6319,"PR240229","Гігієнічні труси Природа 5 для собак утеплені 48-55см","Більше 10","Одяг для собак",105.84,145,{"$f":"Природа!I$42","v":0},{"$f":"Природа!J$42","v":0}]
[null,6320,"PR240230","Гігієнічні труси Природа 6 для собак утеплені 55-62см","Менше 10","Одяг для собак",111.12,150,{"$f":"Природа!I$43","v":0},{"$f":"Природа!J$43","v":0}]
[null,1111113084,"PR740824","Годівниця Природа для птахів з кріпленням закрита 75мл","Більше 100","Обладнання для птахів",20.52,27,{"$f":"Природа!I$44","v":0},{"$f":"Природа!J$44","v":0}]
[null,7136,"PR740823","Годівничка Природа для папуг з кріпленням 100мл","Більше 100","Обладнання для птахів",8.0399999999999991,11,{"$f":"Природа!I$45","v":0},{"$f":"Природа!J$45","v":0}]
[null,1111112029,"PR740825*****","Годівничка-поїлка Природа для гризунів 18x11см","Менше 10","Обладнання для гризунів",190.08,257,{"$f":"Природа!I$46","v":0},{"$f":"Природа!J$46","v":0}]
[null,1111125111,"PR740759","Десерт Природа Фієста Кульки для гризунів 70г/3шт","Більше 100","Ласощі для гризунів",32.520000000000003,48,{"$f":"Природа!I$47","v":0},{"$f":"Природа!J$47","v":0}]
[null,1111186378,"PR243949","Дощовик Marlie для собак S","Більше 10","Одяг для собак",758.94,1085,{"$f":"Природа!I$48","v":0},{"$f":"Природа!J$48","v":0}]
[null,1111186374,"PR243946","Дощовик Marlie для собак S2","Менше 10","Одяг для собак",833.52,1192,{"$f":"Природа!I$49","v":0},{"$f":"Природа!J$49","v":0}]
[null,1111186375,"PR243942","Дощовик Marlie для собак S3","Менше 10","Одяг для собак",886.44,1268,{"$f":"Природа!I$50","v":0},{"$f":"Природа!J$50","v":0}]
[null,1111186379,"PR243950","Дощовик Marlie для собак SМ","Більше 10","Одяг для собак",790.02,1130,{"$f":"Природа!I$51","v":0},{"$f":"Природа!J$51","v":0}]
[null,1111186373,"PR243945","Дощовик Marlie для собак М2","Більше 10","Одяг для собак",883.14,1263,{"$f":"Природа!I$52","v":0},{"$f":"Природа!J$52","v":0}]
[null,1111186376,"PR243943","Дощовик Marlie для собак М3","Менше 10","Одяг для собак",896.88,1283,{"$f":"Природа!I$53","v":0},{"$f":"Природа!J$53","v":0}]
[null,1111186377,"PR243944","Дощовик Marlie для собак МL","Більше 10","Одяг для собак",832.68,1191,{"$f":"Природа!I$54","v":0},{"$f":"Природа!J$54","v":0}]
[null,1111186371,"PR243948","Дощовик Marlie для собак такса S","Більше 10","Одяг для собак",857.82,1227,{"$f":"Природа!I$55","v":0},{"$f":"Природа!J$55","v":0}]
[null,1111186369,"PR243953","Дощовик Marlie для собак такса S2","Більше 10","Одяг для собак",933.9,1336,{"$f":"Природа!I$56","v":0},{"$f":"Природа!J$56","v":0}]
[null,1111186370,"PR243951","Дощовик Marlie для собак такса М","Більше 10","Одяг для собак",964.44,1379,{"$f":"Природа!I$57","v":0},{"$f":"Природа!J$57","v":0}]
[null,1111186372,"PR243947","Дощовик Marlie для собак такса ХS","Більше 10","Одяг для собак",831.54,1189,{"$f":"Природа!I$58","v":0},{"$f":"Природа!J$58","v":0}]
[null,1111156592,"PR241234","Дряпка Вежа бежева","Більше 10","Дряпки для котів",1684.98,2191,{"$f":"Природа!I$59","v":0},{"$f":"Природа!J$59","v":0}]
[null,1111156591,"PR241235","Дряпка Вежа сіра","Менше 10","Дряпки для котів",1684.98,2191,{"$f":"Природа!I$60","v":0},{"$f":"Природа!J$60","v":0}]
[null,1111118775,"PR740296","Дряпка Природа Д04 Лапка з чотирма бубонами для котів 37x37x67см","Більше 10","Дряпки для котів",619.67999999999995,806,{"$f":"Природа!I$61","v":0},{"$f":"Природа!J$61","v":0}]
[null,1111171263,"PR242960","Дряпка Природа Д051 для котів з аркою 38x50x65см","Більше 10","Дряпки для котів",1624.2,2111,{"$f":"Природа!I$62","v":0},{"$f":"Природа!J$62","v":0}]
[null,1111151669,"PR740305","Дряпка Природа Д1 для котів з будкою 32x32x65см","Більше 10","Дряпки для котів",887.46,1154,{"$f":"Природа!I$63","v":0},{"$f":"Природа!J$63","v":0}]
[null,1111114066,"PR740306","Дряпка Природа Д1 для котів з будкою 32x32x65см","Більше 10","Дряпки для котів",829.74,1079,{"$f":"Природа!I$64","v":0},{"$f":"Природа!J$64","v":0}]
[null,1111114017,"PR740310","Дряпка Природа Д11 для котів з великою будкою 36x36x65см","Більше 10","Дряпки для котів",941.04,1223,{"$f":"Природа!I$65","v":0},{"$f":"Природа!J$65","v":0}]
[null,1111151673,"PR740313","Дряпка Природа Д11у для котів кутова з будкою 39x39x65см","Більше 10","Дряпки для котів",1125.96,1463,{"$f":"Природа!I$66","v":0},{"$f":"Природа!J$66","v":0}]
[null,5755,"PR740314","Дряпка Природа Д11у для котів кутова з будкою 39x39x65см","Більше 10","Дряпки для котів",1084.6199999999999,1410,{"$f":"Природа!I$67","v":0},{"$f":"Природа!J$67","v":0}]
[null,1111171264,"PR242961","Дряпка Природа Д23 для котів з будиночком 36x36x115см","Менше 10","Дряпки для котів",2094.36,2723,{"$f":"Природа!I$68","v":0},{"$f":"Природа!J$68","v":0}]
[null,1111151686,"PR740341","Дряпка Природа ДУ для котів настінна кутова 41см","Менше 10","Дряпки для котів",554.88,721,{"$f":"Природа!I$69","v":0},{"$f":"Природа!J$69","v":0}]
[null,1111163192,"PR242069","Дряпка Природа Лофт для котів 10х10х70-80см","Менше 10","Дряпки для котів",600.36,781,{"$f":"Природа!I$70","v":0},{"$f":"Природа!J$70","v":0}]
[null,1111163193,"PR242068","Дряпка Природа Марсель для котів 40х45,5х54,5см","Менше 10","Дряпки для котів",1084.56,1410,{"$f":"Природа!I$71","v":0},{"$f":"Природа!J$71","v":0}]
[null,1111141433,"PR240375","Дряпка Природа Мишка-стовпчик для котів 36х36х52cм","Більше 10","Дряпки для котів",646.44000000000005,839,{"$f":"Природа!I$72","v":0},{"$f":"Природа!J$72","v":0}]
[null,1111170981,"PR242958","Дряпка Природа Мімі Мікс 36x36x64см","Більше 10","Дряпки для котів",385.98,440,{"$f":"Природа!I$73","v":0},{"$f":"Природа!J$73","v":0}]
[null,1111151654,"PR740260","Дряпка Природа Містечко 2 для котів 108х49х122см","Менше 10","Дряпки для котів",2986.32,3882,{"$f":"Природа!I$74","v":0},{"$f":"Природа!J$74","v":0}]
[null,1111151631,"PR740263","Дряпка Природа Містечко для котів кутова 55х56х117см","Більше 10","Дряпки для котів",3082.92,4008,{"$f":"Природа!I$75","v":0},{"$f":"Природа!J$75","v":0}]
[null,1111151680,"PR740328","Дряпка Природа Містечко містечко для котів большая 99x49x125см","Менше 10","Дряпки для котів",3879.24,5237,{"$f":"Природа!I$76","v":0},{"$f":"Природа!J$76","v":0}]
[null,1111200195,"PR244264","Дряпка Природа Саванна з барабаном капучино 38x38x90 см PR244264","Більше 10","Дряпки для котів",1636.02,2127,{"$f":"Природа!I$77","v":0},{"$f":"Природа!J$77","v":0}]
[null,1111203852,"PR244301","Дряпка стовпчик Природа Мімі Brown для котів 36x36x66 см PR244301","Більше 10","Дряпки для котів",376.44,565,{"$f":"Природа!I$78","v":0},{"$f":"Природа!J$78","v":0}]
[null,1111203853,"PR244300","Дряпка стовпчик Природа Мімі Grey для котів 36x36x66 см PR244300","Більше 10","Дряпки для котів",376.44,565,{"$f":"Природа!I$79","v":0},{"$f":"Природа!J$79","v":0}]
[null,1111170980,"PR242957","Дряпка-стовпчик Природа Фелікс МІКС для котів 36х36х54см","Більше 10","Дряпки для котів",499.02,649,{"$f":"Природа!I$80","v":0},{"$f":"Природа!J$80","v":0}]
[null,1111186103,"PR243894","Жилет Chip для собак SM","Менше 10","Одяг для собак",833.16,1191,{"$f":"Природа!I$81","v":0},{"$f":"Природа!J$81","v":0}]
[null,1111186094,"PR243882","Жилет Chip для собак такса M","Більше 10","Одяг для собак",956.52,1368,{"$f":"Природа!I$82","v":0},{"$f":"Природа!J$82","v":0}]
[null,1111186095,"PR243884","Жилет Chip для собак такса S","Більше 10","Одяг для собак",884.46,1265,{"$f":"Природа!I$83","v":0},{"$f":"Природа!J$83","v":0}]
[null,1111183596,"PR243846*****","Іграшка  Золота рибка для котів","Більше 10","Іграшки для котів",100.86,135,{"$f":"Природа!I$84","v":0},{"$f":"Природа!J$84","v":0}]
[null,1111183593,"PR243842*****","Іграшка  Крабик+ кільце для котів","Більше 10","Іграшки для котів",80.819999999999993,109,{"$f":"Природа!I$85","v":0},{"$f":"Природа!J$85","v":0}]
[null,1111183594,"PR243841*****","Іграшка  Морська зірка для собак","Більше 10","Іграшки для собак",137.28,185,{"$f":"Природа!I$86","v":0},{"$f":"Природа!J$86","v":0}]
[null,1111183595,"PR243843*****","Іграшка  Морський коник для собак","Більше 10","Іграшки для собак",117.84,159,{"$f":"Природа!I$87","v":0},{"$f":"Природа!J$87","v":0}]
[null,1111135840,"PR240255","Іграшка Природа Гірлянда для папуг із дзвіночком 22см","Більше 10","Іграшки для птахів",21.78,31,{"$f":"Природа!I$88","v":0},{"$f":"Природа!J$88","v":0}]
[null,1111138611,"PR240256","Іграшка Природа Гойдалка для папуг з дзвіночком 12х19см","Більше 100","Іграшки для птахів",15.3,19,{"$f":"Природа!I$89","v":0},{"$f":"Природа!J$89","v":0}]
[null,1111138570,"PR000990","Іграшка Природа Гойдалка для папуг з дзвіночком 12х19см 5шт","Більше 10","Іграшки для птахів",88.44,118,{"$f":"Природа!I$90","v":0},{"$f":"Природа!J$90","v":0}]
[null,1111137841,"PR240260","Іграшка Природа Драбинка для папуг 6х22см","Більше 10","Іграшки для птахів",10.26,14,{"$f":"Природа!I$91","v":0},{"$f":"Природа!J$91","v":0}]
[null,1111135839,"PR000962","Іграшка Природа Драбинка для папуг 6х22см 5шт","Більше 10","Іграшки для птахів",51.9,69,{"$f":"Природа!I$92","v":0},{"$f":"Природа!J$92","v":0}]
[null,1111137840,"PR240258","Іграшка Природа Драбинка для папуг з дзвіночком та намистом 6х22см","Більше 100","Іграшки для птахів",11.58,15,{"$f":"Природа!I$93","v":0},{"$f":"Природа!J$93","v":0}]
[null,1111137828,"PR000967","Іграшка Природа Драбинка для папуг з дзвіночком та намистом 6х22см 5шт","Менше 10","Іграшки для птахів",77.16,104,{"$f":"Природа!I$94","v":0},{"$f":"Природа!J$94","v":0}]
[null,7657,"PR240374","Іграшка Природа Каченя для кота з мотузочками на резинці 5см","Більше 10","Іграшки для котів",50.22,68,{"$f":"Природа!I$95","v":0},{"$f":"Природа!J$95","v":0}]
[null,1111173414,"PR243079","Іграшка Природа Кісточка для собак велика 15х16х7см","Більше 10","Іграшки для собак",49.68,66,{"$f":"Природа!I$96","v":0},{"$f":"Природа!J$96","v":0}]
[null,1111135838,"PR240257","Іграшка Природа Кулька для птахів з дзвіночком 7см","Більше 100","Іграшки для птахів",16.260000000000002,21,{"$f":"Природа!I$97","v":0},{"$f":"Природа!J$97","v":0}]
[null,1111135832,"PR240254","Іграшка Природа Кулька-дзвоник для кота 4,5см","Більше 100","Іграшки для котів",7.8,12,{"$f":"Природа!I$98","v":0},{"$f":"Природа!J$98","v":0}]
[null,1111173419,"PR243074","Іграшка Природа Курочка з повсті для котів 6х5см","Більше 10","Іграшки для котів",40.86,56,{"$f":"Природа!I$99","v":0},{"$f":"Природа!J$99","v":0}]
[null,1111173418,"PR243075","Іграшка Природа Мишка шкряботушка для котів 8,5х5см","Більше 10","Іграшки для котів",44.1,60,{"$f":"Природа!I$100","v":0},{"$f":"Природа!J$100","v":0}]
[null,1111152782,"PR000888","Іграшка Природа Мишка Шустрик для кота 10x4см 30шт","Менше 10","Іграшки для котів",669.36,904,{"$f":"Природа!I$101","v":0},{"$f":"Природа!J$101","v":0}]
[null,1111143832,"PR240443","Іграшка Природа Паличка для кота з пір_ям на резинці 50см","Більше 100","Іграшки для котів",66.959999999999994,90,{"$f":"Природа!I$102","v":0},{"$f":"Природа!J$102","v":0}]
[null,1111173417,"PR243076","Іграшка Природа Пантофля для собак 15х7см","Більше 10","Іграшки для собак",56.28,75,{"$f":"Природа!I$103","v":0},{"$f":"Природа!J$103","v":0}]
[null,1111173416,"PR243077","Іграшка Природа Пантофля з канатом для собак 24х15х7см","Більше 10","Іграшки для собак",45.24,61,{"$f":"Природа!I$104","v":0},{"$f":"Природа!J$104","v":0}]
[null,1111173423,"PR243070","Іграшка Природа Хвіст для собак 50x13см","Більше 10","Іграшки для собак",168.72,228,{"$f":"Природа!I$105","v":0},{"$f":"Природа!J$105","v":0}]
[null,1111173420,"PR243073","Іграшка-вудка Природа Рибка на магніті для котів 9х15см","Більше 10","Іграшки для котів",117.06,159,{"$f":"Природа!I$106","v":0},{"$f":"Природа!J$106","v":0}]
[null,1111135693,"PR240259","Іграшка-кільця Природа Олімпійка для папуг 32см","Більше 100","Іграшки для птахів",17.88,24,{"$f":"Природа!I$107","v":0},{"$f":"Природа!J$107","v":0}]
[null,1111167040,"PR242527","Кігтеточка Природа Д00 ДЖУТ стовпчик для котів 53см","Більше 100","Дряпки для котів",339.48,441,{"$f":"Природа!I$108","v":0},{"$f":"Природа!J$108","v":0}]
[null,1111151662,"PR740280","Кігтеточка Природа ДО1 д/котів 36х36х67см","Більше 10","Дряпки для котів",510.96,664,{"$f":"Природа!I$109","v":0},{"$f":"Природа!J$109","v":0}]
[null,1111114198,"PR740282","Кігтеточка Природа ДО1 д/котів 36х36х67см","Більше 10","Дряпки для котів",496.08,645,{"$f":"Природа!I$110","v":0},{"$f":"Природа!J$110","v":0}]
[null,1111151664,"PR740293","Кігтеточка Природа ДО4 д/котів стовпчик з чотирма бубонами 36х36х67см","Більше 10","Дряпки для котів",593.64,772,{"$f":"Природа!I$111","v":0},{"$f":"Природа!J$111","v":0}]
[null,1111114031,"PR740292","Кігтеточка Природа ДО4 д/котів стовпчик з чотирма бубонами 36х36х67см","Більше 10","Дряпки для котів",564.96,735,{"$f":"Природа!I$112","v":0},{"$f":"Природа!J$112","v":0}]
[null,1111170979,"PR242956","Кігтеточка Природа ДОО Джут Мікс д/котів 32х32х52см","Більше 10","Дряпки для котів",339.42,441,{"$f":"Природа!I$113","v":0},{"$f":"Природа!J$113","v":0}]
[null,1111151660,"PR740277","Кігтеточка Природа ДОО стовпчик д/котів 32х32х52см","Більше 10","Дряпки для котів",443.88,576,{"$f":"Природа!I$114","v":0},{"$f":"Природа!J$114","v":0}]
[null,1111167044,"PR242523","Кігтеточка Природа Мімі стовпчик для/котів 36x36x64см","Більше 10","Дряпки для котів",425.4,553,{"$f":"Природа!I$115","v":0},{"$f":"Природа!J$115","v":0}]
[null,1111159087,"PR241494","Клітка для птахів Природа Арка коричнева 44x27x65см","Більше 10","Обладнання для птахів",1138.5,1480,{"$f":"Природа!I$116","v":0},{"$f":"Природа!J$116","v":0}]
[null,1111159086,"PR241495","Клітка Природа Арка велика для птахів блакитна 44x27x75см","Більше 10","Обладнання для птахів",1408.5,1831,{"$f":"Природа!I$117","v":0},{"$f":"Природа!J$117","v":0}]
[null,1111159093,"PR241490","Клітка Природа Ауріка д/дрібних декоративн птахів фіолетова 44x27x64см","Менше 10","Обладнання для птахів",1137.78,1480,{"$f":"Природа!I$118","v":0},{"$f":"Природа!J$118","v":0}]
[null,1111159107,"PR241486","Клітка Природа Белла д/дрібних декоративн птахів хромована 37x25x37см","Немає в наявності","Обладнання для птахів",898.32,1167,{"$f":"Природа!I$119","v":0},{"$f":"Природа!J$119","v":0}]
[null,1111159127,"PR241531","Клітка Природа Гоша д/дрібн/гризунів з колесом біла/зелена 44x27x50см","Менше 10","Обладнання для гризунів",1027.6199999999999,1336,{"$f":"Природа!I$120","v":0},{"$f":"Природа!J$120","v":0}]
[null,1111159112,"PR241482","Клітка Природа Ізабель 1 д/дрібн/декоратив/птахів хромована 44x27x61см","Менше 10","Обладнання для птахів",1228.44,1597,{"$f":"Природа!I$121","v":0},{"$f":"Природа!J$121","v":0}]
[null,1111159134,"PR241527","Клітка Природа Кролик міні для гризунів біла/зелена 44x27x30см","Менше 10","Обладнання для гризунів",912.36,1186,{"$f":"Природа!I$122","v":0},{"$f":"Природа!J$122","v":0}]
[null,1111159148,"PR241523","Клітка Природа Нюра д/дрібн/гризунів будинок біла/фіолетова 44x27x59см","Більше 10","Обладнання для гризунів",1266.8399999999999,1647,{"$f":"Природа!I$123","v":0},{"$f":"Природа!J$123","v":0}]
[null,8777,"PR740817","Колесо Природа для хом_яків 14см","Більше 10","Обладнання для гризунів",31.14,41,{"$f":"Природа!I$124","v":0},{"$f":"Природа!J$124","v":0}]
[null,1111139129,"PR240264","Колесо-барабан Природа для хом_яків з кріпленням 14см","Більше 100","Обладнання для гризунів",24.12,34,{"$f":"Природа!I$125","v":0},{"$f":"Природа!J$125","v":0}]
[null,1111186402,"PR243975","Комбінезон Den для собак S","Більше 10","Одяг для собак",923.34,1321,{"$f":"Природа!I$126","v":0},{"$f":"Природа!J$126","v":0}]
[null,1111186397,"PR243967","Комбінезон Den для собак S2","Більше 10","Одяг для собак",1005.3,1438,{"$f":"Природа!I$127","v":0},{"$f":"Природа!J$127","v":0}]
[null,1111186399,"PR243972","Комбінезон Den для собак S3","Більше 10","Одяг для собак",1091.3399999999999,1560,{"$f":"Природа!I$128","v":0},{"$f":"Природа!J$128","v":0}]
[null,1111186403,"PR243974","Комбінезон Den для собак SМ","Більше 10","Одяг для собак",934.2,1336,{"$f":"Природа!I$129","v":0},{"$f":"Природа!J$129","v":0}]
[null,1111186391,"PR243957","Комбінезон Den для собак коргі XL","Більше 10","Одяг для собак",1081.32,1546,{"$f":"Природа!I$130","v":0},{"$f":"Природа!J$130","v":0}]
[null,1111186398,"PR243971","Комбінезон Den для собак М2","Більше 10","Одяг для собак",1077.06,1540,{"$f":"Природа!I$131","v":0},{"$f":"Природа!J$131","v":0}]
[null,1111186400,"PR243973","Комбінезон Den для собак М3","Більше 10","Одяг для собак",1090.44,1559,{"$f":"Природа!I$132","v":0},{"$f":"Природа!J$132","v":0}]
[null,1111186401,"PR243977","Комбінезон Den для собак МL","Більше 10","Одяг для собак",995.88,1424,{"$f":"Природа!I$133","v":0},{"$f":"Природа!J$133","v":0}]
[null,1111186395,"PR243969","Комбінезон Den для собак такса S","Більше 10","Одяг для собак",1034.6400000000001,1479,{"$f":"Природа!I$134","v":0},{"$f":"Природа!J$134","v":0}]
[null,1111186393,"PR243960","Комбінезон Den для собак такса S2","Більше 10","Одяг для собак",1088.58,1557,{"$f":"Природа!I$135","v":0},{"$f":"Природа!J$135","v":0}]
[null,1111186396,"PR243966","Комбінезон Den для собак такса XS","Більше 10","Одяг для собак",979.62,1401,{"$f":"Природа!I$136","v":0},{"$f":"Природа!J$136","v":0}]
[null,1111186394,"PR243964","Комбінезон Den для собак такса М","Більше 10","Одяг для собак",1125.06,1609,{"$f":"Природа!I$137","v":0},{"$f":"Природа!J$137","v":0}]
[null,1111186413,"PR243987","Комбінезон Milly дівчинка для собак S","Більше 10","Одяг для собак",891.78,1275,{"$f":"Природа!I$138","v":0},{"$f":"Природа!J$138","v":0}]
[null,1111186410,"PR243985","Комбінезон Milly дівчинка для собак S2","Більше 10","Одяг для собак",1024.74,1465,{"$f":"Природа!I$139","v":0},{"$f":"Природа!J$139","v":0}]
[null,1111186411,"PR243983","Комбінезон Milly дівчинка для собак S3","Більше 10","Одяг для собак",1056.24,1510,{"$f":"Природа!I$140","v":0},{"$f":"Природа!J$140","v":0}]
[null,1111186414,"PR243986","Комбінезон Milly дівчинка для собак SМ","Більше 10","Одяг для собак",945.72,1352,{"$f":"Природа!I$141","v":0},{"$f":"Природа!J$141","v":0}]
[null,1111186405,"PR243979","Комбінезон Milly дівчинка для собак коргі L","Більше 10","Одяг для собак",1047.72,1498,{"$f":"Природа!I$142","v":0},{"$f":"Природа!J$142","v":0}]
[null,1111186404,"PR243976","Комбінезон Milly дівчинка для собак коргі XL","Більше 10","Одяг для собак",1084.08,1550,{"$f":"Природа!I$143","v":0},{"$f":"Природа!J$143","v":0}]
[null,1111186412,"PR243984","Комбінезон Milly дівчинка для собак МL","Більше 10","Одяг для собак",1017.36,1455,{"$f":"Природа!I$144","v":0},{"$f":"Природа!J$144","v":0}]
[null,1111186406,"PR243978","Комбінезон Milly дівчинка для собак такса  S2","Більше 10","Одяг для собак",1115.3399999999999,1595,{"$f":"Природа!I$145","v":0},{"$f":"Природа!J$145","v":0}]
[null,1111186409,"PR243981","Комбінезон Milly дівчинка для собак такса  XS","Більше 10","Одяг для собак",993.06,1420,{"$f":"Природа!I$146","v":0},{"$f":"Природа!J$146","v":0}]
[null,1111186407,"PR243982","Комбінезон Milly дівчинка для собак такса  М","Більше 10","Одяг для собак",1146.3599999999999,1639,{"$f":"Природа!I$147","v":0},{"$f":"Природа!J$147","v":0}]
[null,1111186408,"PR243980","Комбінезон Milly дівчинка для собак такса S","Більше 10","Одяг для собак",1058.6400000000001,1514,{"$f":"Природа!I$148","v":0},{"$f":"Природа!J$148","v":0}]
[null,1111186392,"PR243959","Комбінезон для собак коргі Den L","Більше 10","Одяг для собак",1197.6600000000001,1712,{"$f":"Природа!I$149","v":0},{"$f":"Природа!J$149","v":0}]
[null,23648,"PR740117","Корм Природа Аквабазіс для акваріумних риб 10г","Більше 100","Корм сухий для акваріумних риб",10.26,14,{"$f":"Природа!I$150","v":0},{"$f":"Природа!J$150","v":0}]
[null,1111126588,"PR740095","Корм Природа Аквабаланс для всеїдних акваріумних риб 10г","Більше 100","Корм сухий для акваріумних риб",10.26,14,{"$f":"Природа!I$151","v":0},{"$f":"Природа!J$151","v":0}]
[null,23652,"PR740119","Корм Природа Аквавіт для декоративних риб 10г","Більше 10","Корм сухий для акваріумних риб",10.26,14,{"$f":"Природа!I$152","v":0},{"$f":"Природа!J$152","v":0}]
[null,1111114418,"PR740121","Корм Природа Акваінтенсив для молодих риб 10г","Більше 100","Корм сухий для акваріумних риб",10.26,14,{"$f":"Природа!I$153","v":0},{"$f":"Природа!J$153","v":0}]
[null,1111114419,"PR740120","Корм Природа Акваколор для яскраво-забарвлених риб 10г","Більше 100","Корм сухий для акваріумних риб",10.26,14,{"$f":"Природа!I$154","v":0},{"$f":"Природа!J$154","v":0}]
[null,5015,"PR740111","Корм Природа Аквамікс для декоративних риб 10г","Більше 10","Корм сухий для акваріумних риб",10.26,14,{"$f":"Природа!I$155","v":0},{"$f":"Природа!J$155","v":0}]
[null,23651,"PR740118","Корм Природа Аквамін для акваріумних риб 10г","Більше 10","Корм сухий для акваріумних риб",10.26,14,{"$f":"Природа!I$156","v":0},{"$f":"Природа!J$156","v":0}]
[null,5027,"PR740112","Корм Природа Акваплант для рослиноїдних риб 10г","Більше 100","Корм сухий для акваріумних риб",10.26,14,{"$f":"Природа!I$157","v":0},{"$f":"Природа!J$157","v":0}]
[null,5028,"PR740113","Корм Природа Акварубін для яскраво-забарвлених риб 10г","Більше 100","Корм сухий для акваріумних риб",10.26,14,{"$f":"Природа!I$158","v":0},{"$f":"Природа!J$158","v":0}]
[null,1111126590,"PR740093","Корм Природа Акватропік для акваріумних риб 10г","Більше 10","Корм сухий для акваріумних риб",10.26,14,{"$f":"Природа!I$159","v":0},{"$f":"Природа!J$159","v":0}]
[null,1111145397,"PR240464","Корм Природа Біовіт Актив д/дорослих акваріумних риб пластинчатий 10г","Більше 100","Корм сухий для акваріумних риб",16.86,22,{"$f":"Природа!I$160","v":0},{"$f":"Природа!J$160","v":0}]
[null,1111145398,"PR240465","Корм Природа Біовіт Базіс для акваріумних риб пластинчатий 10г","Більше 100","Корм сухий для акваріумних риб",16.440000000000001,22,{"$f":"Природа!I$161","v":0},{"$f":"Природа!J$161","v":0}]
[null,1111145400,"PR240467","Корм Природа Біовіт Золоті рибки д/риб виду коропові гранульований 10г","Більше 100","Корм сухий для акваріумних риб",16.62,22,{"$f":"Природа!I$162","v":0},{"$f":"Природа!J$162","v":0}]
[null,1111145396,"PR240463","Корм Природа Біовіт Плант для травоїдних риб пластинчатий 10г","Більше 100","Корм сухий для акваріумних риб",16.86,22,{"$f":"Природа!I$163","v":0},{"$f":"Природа!J$163","v":0}]
[null,1111145404,"PR240469","Корм Природа Біовіт Сомики д/донних акваріумних риб гранульований 25 г","Більше 100","Корм сухий для акваріумних риб",33.18,43,{"$f":"Природа!I$164","v":0},{"$f":"Природа!J$164","v":0}]
[null,1111145402,"PR240471","Корм Природа Біовіт Супербаланс д/яскр/забарвлен риб гранульований 25г","Більше 100","Корм сухий для акваріумних риб",25.8,34,{"$f":"Природа!I$165","v":0},{"$f":"Природа!J$165","v":0}]
[null,1111145399,"PR240466","Корм Природа Біовіт Универсал д/цихлід/яскраво/забарвл риб пластин 10г","Більше 100","Корм сухий для акваріумних риб",16.739999999999998,22,{"$f":"Природа!I$166","v":0},{"$f":"Природа!J$166","v":0}]
[null,1111145401,"PR240468","Корм Природа Біовіт Цихліди д/цихлід/яскраво-забарвл риб гранульов 25г","Більше 100","Корм сухий для акваріумних риб",31.68,41,{"$f":"Природа!I$167","v":0},{"$f":"Природа!J$167","v":0}]
[null,1111145403,"PR240470","Корм Природа Біовіт Черепашки д/прісноводних черепах гранульований 25г","Більше 100","Корм сухий для черепах та рептилій",28.44,37,{"$f":"Природа!I$168","v":0},{"$f":"Природа!J$168","v":0}]
[null,10775,"PR740115","Корм Природа Гамарус д/акваріумних риб/черепах натуральний сухий 10г","Більше 100","Корм сухий для акваріумних риб",11.16,14,{"$f":"Природа!I$169","v":0},{"$f":"Природа!J$169","v":0}]
[null,1111159559,"PR241565","Корм Природа Гранулят для всіх видів гризунів 500г","Більше 100","Корм для гризунів",53.28,75,{"$f":"Природа!I$170","v":0},{"$f":"Природа!J$170","v":0}]
[null,1111159560,"PR241564","Корм Природа Гранулят для шиншил 500г","Більше 100","Корм для гризунів",65.28,91,{"$f":"Природа!I$171","v":0},{"$f":"Природа!J$171","v":0}]
[null,1111167098,"PR242528","Корм Природа для вуличних птахів 500г","Більше 100","Корм для птахів",35.46,50,{"$f":"Природа!I$172","v":0},{"$f":"Природа!J$172","v":0}]
[null,1111155093,"PR241079","Корм Природа Екзотик д/екзотичних птахів 500г","Більше 100","Корм для птахів",48.96,69,{"$f":"Природа!I$173","v":0},{"$f":"Природа!J$173","v":0}]
[null,1111112826,"PR740147","Корм Природа Жако повнораціонний вітамінізований для великих папуг 1кг","Більше 100","Корм для птахів",121.74,172,{"$f":"Природа!I$174","v":0},{"$f":"Природа!J$174","v":0}]
[null,1111155094,"PR241078","Корм Природа Канарка д/канарок/екзотичних/птахів 500г","Більше 100","Корм для птахів",47.7,67,{"$f":"Природа!I$175","v":0},{"$f":"Природа!J$175","v":0}]
[null,1111169853,"PR242909","Корм Природа Коктейль Ара для великих папуг 850 г","Більше 10","Корм для птахів",100.08,141,{"$f":"Природа!I$176","v":0},{"$f":"Природа!J$176","v":0}]
[null,1111158782,"PR241341 КАРТОН","Корм Природа Коктейль д/хвиляст/папуг лугові трави/насіння льону 500г","Більше 100","Корм для птахів",60.18,84,{"$f":"Природа!I$177","v":0},{"$f":"Природа!J$177","v":0}]
[null,1111153824,"PR241028","Корм Природа Коктейль для хвилястих папуг фруктовий 500г","Більше 100","Корм для птахів",69.48,98,{"$f":"Природа!I$178","v":0},{"$f":"Природа!J$178","v":0}]
[null,1111153846,"PR241029","Корм Природа Коктейль Екзотик для екзотичних птахів 500г","Більше 100","Корм для птахів",70.86,99,{"$f":"Природа!I$179","v":0},{"$f":"Природа!J$179","v":0}]
[null,1111148081,"PR740032 Картон","Корм Природа Коктейль Канарка для канарок і декоративних птахів 500г","Більше 100","Корм для птахів",75.3,106,{"$f":"Природа!I$180","v":0},{"$f":"Природа!J$180","v":0}]
[null,1111148082,"PR740042 Картон","Корм Природа Коктейль Корела д/середніх папуг 500г","Більше 100","Корм для птахів",73.5,102,{"$f":"Природа!I$181","v":0},{"$f":"Природа!J$181","v":0}]
[null,1111145600,"PR740044 КАРТОН","Корм Природа Коктейль Кролик для декоративних кроликів 500г","Більше 100","Корм для гризунів",73.319999999999993,102,{"$f":"Природа!I$182","v":0},{"$f":"Природа!J$182","v":0}]
[null,1111145601,"PR740043 КАРТОН","Корм Природа Коктейль Пацючок для пацюків 500 г","Більше 100","Корм для гризунів",80.7,112,{"$f":"Природа!I$183","v":0},{"$f":"Природа!J$183","v":0}]
[null,1111145599,"PR740030 Картон","Корм Природа Коктейль Суперменю д/хвилястих папуг 500г","Більше 100","Корм для птахів",67.86,95,{"$f":"Природа!I$184","v":0},{"$f":"Природа!J$184","v":0}]
[null,1111146903,"PR740046","Корм Природа Коктейль Хом_ячок д/хом_ячків/інших дрібних гризунів 500г","Більше 100","Корм для гризунів",75.36,105,{"$f":"Природа!I$185","v":0},{"$f":"Природа!J$185","v":0}]
[null,1111145395,"PR240462","Корм Природа Колор д/яскраво/забарвлених акваріум риб пластинчатий 10г","Більше 100","Корм сухий для акваріумних риб",16.86,22,{"$f":"Природа!I$186","v":0},{"$f":"Природа!J$186","v":0}]
[null,1111155091,"PR241081","Корм Природа Корела Йод для середніх птахів 500г","Більше 100","Корм для птахів",38.340000000000003,54,{"$f":"Природа!I$187","v":0},{"$f":"Природа!J$187","v":0}]
[null,1111155098,"PR241074","Корм Природа Кролик Біотин для довгошерстих кролів 500г","Більше 100","Корм для гризунів",32.700000000000003,47,{"$f":"Природа!I$188","v":0},{"$f":"Природа!J$188","v":0}]
[null,1111155097,"PR241075","Корм Природа Кролик д/декоративних кролів/інших домашніх гризунів 500г","Більше 100","Корм для гризунів",32.700000000000003,47,{"$f":"Природа!I$189","v":0},{"$f":"Природа!J$189","v":0}]
[null,5026,"PR740116","Корм Природа Мальок для мальків риб 10г","Більше 10","Корм сухий для акваріумних риб",10.26,14,{"$f":"Природа!I$190","v":0},{"$f":"Природа!J$190","v":0}]
[null,1111155100,"PR241069","Корм Природа Морська свинка Біотин для морських свинок 500г","Більше 100","Корм для гризунів",32.700000000000003,47,{"$f":"Природа!I$191","v":0},{"$f":"Природа!J$191","v":0}]
[null,1111155099,"PR241071","Корм Природа Морська свинка для морських свинок 500г","Більше 100","Корм для гризунів",32.700000000000003,47,{"$f":"Природа!I$192","v":0},{"$f":"Природа!J$192","v":0}]
[null,1111155092,"PR241080","Корм Природа Німфа для середніх птахів 500г","Більше 100","Корм для птахів",38.4,53,{"$f":"Природа!I$193","v":0},{"$f":"Природа!J$193","v":0}]
[null,1111155089,"PR241083","Корм Природа Папужка Енергіяд/хвилястих папуг 500г","Більше 100","Корм для птахів",41.46,58,{"$f":"Природа!I$194","v":0},{"$f":"Природа!J$194","v":0}]
[null,1111155085,"PR241087","Корм Природа Папужка Йод д/хвилястих папуг 500г","Більше 100","Корм для птахів",41.46,58,{"$f":"Природа!I$195","v":0},{"$f":"Природа!J$195","v":0}]
[null,1111155088,"PR241084","Корм Природа Папужка Йод ехінацея д/хвилястих папуг 500г","Більше 100","Корм для птахів",41.46,58,{"$f":"Природа!I$196","v":0},{"$f":"Природа!J$196","v":0}]
[null,1111155086,"PR241086","Корм Природа Папужка Йод кокос д/хвилястих папуг 500г","Більше 100","Корм для птахів",41.46,58,{"$f":"Природа!I$197","v":0},{"$f":"Природа!J$197","v":0}]
[null,1111155087,"PR241085","Корм Природа Папужка Йод колор д/хвилястих папуг 500г","Більше 100","Корм для птахів",41.46,58,{"$f":"Природа!I$198","v":0},{"$f":"Природа!J$198","v":0}]
[null,1111155090,"PR241082","Корм Природа Папужка Юніор д/молодих/хвилястих/папуг 500г","Більше 100","Корм для птахів",43.02,60,{"$f":"Природа!I$199","v":0},{"$f":"Природа!J$199","v":0}]
[null,1111155103,"PR241073","Корм Природа Пацючок для декоративних пацюків 500 г","Більше 100","Корм для гризунів",32.64,46,{"$f":"Природа!I$200","v":0},{"$f":"Природа!J$200","v":0}]
[null,1111135847,"PR740081","Корм Природа Раціон д/середніх папуг повноцінний вітамінізований 1,5кг","Більше 100","Корм для птахів",98.1,138,{"$f":"Природа!I$201","v":0},{"$f":"Природа!J$201","v":0}]
[null,1111135843,"PR740083","Корм Природа Раціон для дрібних гризунів 1,5кг","Більше 100","Корм для гризунів",77.14,108,{"$f":"Природа!I$202","v":0},{"$f":"Природа!J$202","v":0}]
[null,1111135842,"PR740084","Корм Природа Раціон для середніх гризунів 1,5кг","Більше 100","Корм для гризунів",77.150000000000006,107.7,{"$f":"Природа!I$203","v":0},{"$f":"Природа!J$203","v":0}]
[null,1111135844,"PR740085","Корм Природа Раціон для шиншил 1,5кг","Більше 10","Корм для гризунів",95.57,134,{"$f":"Природа!I$204","v":0},{"$f":"Природа!J$204","v":0}]
[null,1111135846,"PR740082","Корм Природа Раціон Мультивітамін йод для хвилястих папуг 1,5кг","Більше 100","Корм для птахів",90.74,127.38,{"$f":"Природа!I$205","v":0},{"$f":"Природа!J$205","v":0}]
[null,1111126589,"PR740094","Корм Природа Супермікс для яскраво-забарвлених риб 10г","Більше 10","Корм сухий для акваріумних риб",10.26,14,{"$f":"Природа!I$206","v":0},{"$f":"Природа!J$206","v":0}]
[null,1111159311,"PR241387","Корм Природа Фиеста Кролик д/кроликів 600г","Більше 100","Корм для гризунів",61.56,86,{"$f":"Природа!I$207","v":0},{"$f":"Природа!J$207","v":0}]
[null,1111159306,"PR241389","Корм Природа Фієста Африка д/великих папуг 600г","Більше 100","Корм для птахів",75.180000000000007,106,{"$f":"Природа!I$208","v":0},{"$f":"Природа!J$208","v":0}]
[null,1111159302,"PR241383","Корм Природа Фієста д/хвилястих папуг фруктовий 600г","Більше 100","Корм для птахів",61.44,85,{"$f":"Природа!I$209","v":0},{"$f":"Природа!J$209","v":0}]
[null,1111159312,"PR241378","Корм Природа Фієста Дегу д/дегу/домашніх/гризунів 600г","Більше 100","Корм для гризунів",85.56,121,{"$f":"Природа!I$210","v":0},{"$f":"Природа!J$210","v":0}]
[null,1111159303,"PR241381","Корм Природа Фієста Енергія для хвилястих папуг 600г","Більше 100","Корм для птахів",61.02,85,{"$f":"Природа!I$211","v":0},{"$f":"Природа!J$211","v":0}]
[null,1111159304,"PR241388","Корм Природа Фієста Йод д/хвилястих папуг 600г","Більше 100","Корм для птахів",59.64,83,{"$f":"Природа!I$212","v":0},{"$f":"Природа!J$212","v":0}]
[null,1111159309,"PR241386","Корм Природа Фієста Морська свинка д/морськ/свинок/домаш/гризунів 600г","Більше 100","Корм для гризунів",60.42,85,{"$f":"Природа!I$213","v":0},{"$f":"Природа!J$213","v":0}]
[null,1111159305,"PR241385","Корм Природа Фієста Німфа д/середніх папуг 600г","Більше 100","Корм для птахів",62.46,88,{"$f":"Природа!I$214","v":0},{"$f":"Природа!J$214","v":0}]
[null,1111159310,"PR241384","Корм Природа Фієста Пацючок д/пацючків/домаш/гризунів 600г","Більше 100","Корм для гризунів",61.44,86,{"$f":"Природа!I$215","v":0},{"$f":"Природа!J$215","v":0}]
[null,1111159307,"PR241382","Корм Природа Фієста Хом_ячок д/хом_яків 600г","Більше 100","Корм для гризунів",60.48,85,{"$f":"Природа!I$216","v":0},{"$f":"Природа!J$216","v":0}]
[null,1111159308,"PR241380","Корм Природа Фієста Шиншилка д/шиншил/домашніх гризунів 600г","Більше 100","Корм для гризунів",66.48,94,{"$f":"Природа!I$217","v":0},{"$f":"Природа!J$217","v":0}]
[null,1111155101,"PR241070","Корм Природа Хом_ячок д/хом_яків та дрібних декоративних гризунів 500г","Більше 100","Корм для гризунів",32.64,46,{"$f":"Природа!I$218","v":0},{"$f":"Природа!J$218","v":0}]
[null,1111155102,"PR241072","Корм Природа Хом_ячок Колор ензим д/хом_яків/дрібн/декор/гризунів 500г","Більше 100","Корм для гризунів",34.5,49,{"$f":"Природа!I$219","v":0},{"$f":"Природа!J$219","v":0}]
[null,1111155096,"PR241076","Корм Природа Шиншилка для шиншил 500г","Більше 100","Корм для гризунів",42,58,{"$f":"Природа!I$220","v":0},{"$f":"Природа!J$220","v":0}]
[null,1111155095,"PR241077","Корм Природа Шиншилка Колор ензим для шиншил 500г","Більше 100","Корм для гризунів",39.9,56,{"$f":"Природа!I$221","v":0},{"$f":"Природа!J$221","v":0}]
[null,1111174675,"PR242794*****","Костюм Pet Fashion PF Style для собак M","Менше 10","Одяг для собак",661.44,892.95,{"$f":"Природа!I$222","v":0},{"$f":"Природа!J$222","v":0}]
[null,7714,"PR740012","Крейда Природа для гризунів з морськими мушлями 18г","Більше 100","Вітаміни та мінерали для гризунів",9.6,14,{"$f":"Природа!I$223","v":0},{"$f":"Природа!J$223","v":0}]
[null,7717,"PR740011","Крейда Природа для середніх папуг з морськими мушлями 18г","Більше 100","Вітаміни та мінерали для птахів",9.6,14,{"$f":"Природа!I$224","v":0},{"$f":"Природа!J$224","v":0}]
[null,7712,"PR740010","Крейда Природа для хвилястих папуг з морськими мушлями 18г","Більше 100","Вітаміни та мінерали для птахів",9.6,14,{"$f":"Природа!I$225","v":0},{"$f":"Природа!J$225","v":0}]
[null,1111134706,"PR740830","Куля Природа для гризунів прогулянкова діаметром 19см","Більше 10","Іграшки для гризунів",126.9,171,{"$f":"Природа!I$226","v":0},{"$f":"Природа!J$226","v":0}]
[null,1111140262,"PR240278","Куля-міні Природа для гризунів бігова на підставці d 13см","Більше 10","Іграшки для гризунів",157.08000000000001,212,{"$f":"Природа!I$227","v":0},{"$f":"Природа!J$227","v":0}]
[null,1111130424,"PR740233","Ласощі Колосок Природа Фієста д/середніх папуг мультивітамин 100г/2шт","Більше 100","Ласощі для птахів",28.32,51,{"$f":"Природа!I$228","v":0},{"$f":"Природа!J$228","v":0}]
[null,1111137106,"PR740160","Ласощі Природа Десерт Асорті для гризунів 100г","Більше 100","Ласощі для гризунів",35.340000000000003,53,{"$f":"Природа!I$229","v":0},{"$f":"Природа!J$229","v":0}]
[null,1111137112,"PR740161","Ласощі Природа Десерт Асорті для папуг 100г","Більше 100","Ласощі для птахів",34.26,51,{"$f":"Природа!I$230","v":0},{"$f":"Природа!J$230","v":0}]
[null,1111160923,"PR241775","Ласощі Природа Десерт для собак качка 100г","Більше 100","Ласощі для собак",28.92,39,{"$f":"Природа!I$231","v":0},{"$f":"Природа!J$231","v":0}]
[null,1111160924,"PR241774*****","Ласощі Природа Десерт для собак качка 550г","Більше 10","Ласощі для собак",112.86,153,{"$f":"Природа!I$232","v":0},{"$f":"Природа!J$232","v":0}]
[null,1111132673,"PR740173*****","Ласощі Природа Десерт для собак мікс 550г","Більше 100","Ласощі для собак",112.86,153,{"$f":"Природа!I$233","v":0},{"$f":"Природа!J$233","v":0}]
[null,1111141551,"PR240344","Ласощі Природа Десерт для собак молочний 100г","Більше 10","Ласощі для собак",28.62,40,{"$f":"Природа!I$234","v":0},{"$f":"Природа!J$234","v":0}]
[null,1111142128,"PR240348","Ласощі Природа Десерт для собак сирний коктейль 100г","Більше 100","Ласощі для собак",28.62,39,{"$f":"Природа!I$235","v":0},{"$f":"Природа!J$235","v":0}]
[null,1111132676,"PR740185*****","Ласощі Природа Десерт для собак сирний коктейль 550г","Більше 10","Ласощі для собак",112.86,153,{"$f":"Природа!I$236","v":0},{"$f":"Природа!J$236","v":0}]
[null,1111142395,"PR240347","Ласощі Природа Десерт для собак яєчний 100г","Більше 100","Ласощі для собак",28.62,39,{"$f":"Природа!I$237","v":0},{"$f":"Природа!J$237","v":0}]
[null,1111132678,"PR740183*****","Ласощі Природа Десерт для собак яєчний 550г","Більше 10","Ласощі для собак",112.86,153,{"$f":"Природа!I$238","v":0},{"$f":"Природа!J$238","v":0}]
[null,1111141379,"PR240340","Ласощі Природа Десерт для собак яловичина-бекон 100г","Більше 100","Ласощі для собак",28.62,39,{"$f":"Природа!I$239","v":0},{"$f":"Природа!J$239","v":0}]
[null,1111132671,"PR740163*****","Ласощі Природа Десерт для собак яловичина-бекон 550г","Більше 10","Ласощі для собак",112.86,153,{"$f":"Природа!I$240","v":0},{"$f":"Природа!J$240","v":0}]
[null,1111137498,"PR740159","Ласощі Природа Десерт мікс Асорті д/гризунів шарик/трубоч/тарталет 70г","Більше 100","Ласощі для гризунів",30.42,44,{"$f":"Природа!I$241","v":0},{"$f":"Природа!J$241","v":0}]
[null,1111129866,"PR740156","Ласощі Природа Десерт Мікс Гарбузик для гризунів 40г","Більше 100","Ласощі для гризунів",44.64,65,{"$f":"Природа!I$242","v":0},{"$f":"Природа!J$242","v":0}]
[null,1111141181,"PR240343","Ласощі Природа Десерт Мікс для собак 100г","Більше 100","Ласощі для собак",28.62,39,{"$f":"Природа!I$243","v":0},{"$f":"Природа!J$243","v":0}]
[null,1111129881,"PR740158","Ласощі Природа Десерт-мікс Яблучко для гризунів асорті 50г","Більше 100","Ласощі для гризунів",39.96,58,{"$f":"Природа!I$244","v":0},{"$f":"Природа!J$244","v":0}]
[null,1111138531,"PR240095","Ласощі Природа Коктейль колосок д/хвил/папуг гібіскус/чумиза/кокос 90г","Більше 100","Ласощі для птахів",39.36,61,{"$f":"Природа!I$245","v":0},{"$f":"Природа!J$245","v":0}]
[null,1111113900,"PR740027","Ласощі Природа Колосок д/хвилястих папуг лугові трави1 40г","Більше 100","Ласощі для птахів",30.72,49,{"$f":"Природа!I$246","v":0},{"$f":"Природа!J$246","v":0}]
[null,7414,"PR740026","Ласощі Природа Колосок д/хвилястих папуг фруктовий 140г","Більше 100","Ласощі для птахів",30.72,49,{"$f":"Природа!I$247","v":0},{"$f":"Природа!J$247","v":0}]
[null,22714,"PR740019","Ласощі Природа Колосок для гризунів бісквіт 140г","Більше 100","Ласощі для гризунів",30.78,49,{"$f":"Природа!I$248","v":0},{"$f":"Природа!J$248","v":0}]
[null,7527,"PR740052","Ласощі Природа Колосок для гризунів горіховий140г","Більше 100","Ласощі для гризунів",31.74,50,{"$f":"Природа!I$249","v":0},{"$f":"Природа!J$249","v":0}]
[null,7490,"PR740050","Ласощі Природа Колосок для гризунів медовий 140г","Більше 100","Ласощі для гризунів",31.98,50,{"$f":"Природа!I$250","v":0},{"$f":"Природа!J$250","v":0}]
[null,22713,"PR740018","Ласощі Природа Колосок для гризунів мультівітамін 140г","Більше 100","Ласощі для гризунів",31.74,50,{"$f":"Природа!I$251","v":0},{"$f":"Природа!J$251","v":0}]
[null,7512,"PR740051","Ласощі Природа Колосок для гризунів овочевий 140г","Більше 100","Ласощі для гризунів",31.68,50,{"$f":"Природа!I$252","v":0},{"$f":"Природа!J$252","v":0}]
[null,9785,"PR740057","Ласощі Природа Колосок для гризунів фруктовий 140 г","Більше 100","Ласощі для гризунів",31.74,50,{"$f":"Природа!I$253","v":0},{"$f":"Природа!J$253","v":0}]
[null,1111113899,"PR740054","Ласощі Природа Колосок для екзотичних птахів лугові трави 140г/2шт","Більше 10","Ласощі для птахів",32.340000000000003,50,{"$f":"Природа!I$254","v":0},{"$f":"Природа!J$254","v":0}]
[null,7395,"PR740049","Ласощі Природа Колосок для середніх папуг медовий 140г","Немає в наявності","Ласощі для птахів",32.340000000000003,50,{"$f":"Природа!I$255","v":0},{"$f":"Природа!J$255","v":0}]
[null,1111115869,"PR740001","Ласощі Природа Колосок для середніх папуг мультифруктовий 140г","Більше 100","Ласощі для птахів",32.340000000000003,50,{"$f":"Природа!I$256","v":0},{"$f":"Природа!J$256","v":0}]
[null,22639,"PR740021","Ласощі Природа Колосок для хвилястих папуг вітамініз корм бісквіт 140г","Більше 100","Ласощі для птахів",30.72,49,{"$f":"Природа!I$257","v":0},{"$f":"Природа!J$257","v":0}]
[null,9776,"PR740025","Ласощі Природа Колосок для хвилястих папуг горіховий 140г","Більше 100","Ласощі для птахів",30.72,49,{"$f":"Природа!I$258","v":0},{"$f":"Природа!J$258","v":0}]
[null,7428,"PR740022","Ласощі Природа Колосок для хвилястих папуг корм медовий 140г","Більше 100","Ласощі для птахів",30.72,49,{"$f":"Природа!I$259","v":0},{"$f":"Природа!J$259","v":0}]
[null,22640,"PR740020","Ласощі Природа Колосок для хвилястих папуг мультивітамін 140г","Більше 100","Ласощі для птахів",30.72,49,{"$f":"Природа!I$260","v":0},{"$f":"Природа!J$260","v":0}]
[null,1111156058,"PR241257","Ласощі Природа Колосок для хвилястих папуг мультизлак 140г","Більше 100","Ласощі для птахів",30.72,49,{"$f":"Природа!I$261","v":0},{"$f":"Природа!J$261","v":0}]
[null,9777,"PR740023","Ласощі Природа Колосок для хвилястих папуг овочевий 140г","Більше 100","Ласощі для птахів",30.72,49,{"$f":"Природа!I$262","v":0},{"$f":"Природа!J$262","v":0}]
[null,1111138532,"PR240094","Ласощі Природа Колосок Коктейль д/хв/папуг сафлора/ліс ягода/кокос 90г","Більше 100","Ласощі для птахів",40.74,63,{"$f":"Природа!I$263","v":0},{"$f":"Природа!J$263","v":0}]
[null,1111138269,"PR240101","Ласощі Природа Колосок Коктейль д/шиншил луг трав/трав/горіх/мінер 90г","Більше 100","Ласощі для гризунів",40.56,63,{"$f":"Природа!I$264","v":0},{"$f":"Природа!J$264","v":0}]
[null,1111138268,"PR240100","Ласощі Природа Колосок Коктейль для гризунів мультивітам/кокос/мед 90г","Більше 100","Ласощі для гризунів",40.56,63,{"$f":"Природа!I$265","v":0},{"$f":"Природа!J$265","v":0}]
[null,1111138267,"PR240099","Ласощі Природа Колосок Коктейль для гризунів фрукти/горіхи/кокос 90г","Більше 100","Ласощі для гризунів",40.619999999999997,63,{"$f":"Природа!I$266","v":0},{"$f":"Природа!J$266","v":0}]
[null,1111117448,"PR740005","Ласощі Природа Колосок Максі для шиншил фруктовий 210г/2шт","Більше 100","Ласощі для гризунів",50.4,79,{"$f":"Природа!I$267","v":0},{"$f":"Природа!J$267","v":0}]
[null,1111125107,"PR740152","Ласощі Природа Фієста Гранулят овочевий для гризунів асорті 100г","Більше 100","Ласощі для гризунів",29.82,43,{"$f":"Природа!I$268","v":0},{"$f":"Природа!J$268","v":0}]
[null,1111125106,"PR740153","Ласощі Природа Фієста Гранулят трав_яний для гризунів асорті 100г","Більше 10","Ласощі для гризунів",29.82,43,{"$f":"Природа!I$269","v":0},{"$f":"Природа!J$269","v":0}]
[null,1111125105,"PR740154","Ласощі Природа Фієста Гранулят Фруктово-трав_яний для гризунів 100г","Більше 100","Ласощі для гризунів",29.82,43,{"$f":"Природа!I$270","v":0},{"$f":"Природа!J$270","v":0}]
[null,1111130417,"PR740227","Ласощі Природа Фієста Колосок д/гризунів медовий 100г/2шт","Більше 10","Ласощі для гризунів",30.24,46,{"$f":"Природа!I$271","v":0},{"$f":"Природа!J$271","v":0}]
[null,1111130427,"PR740230","Ласощі Природа Фієста Колосок д/хвиляст/папуг мультивітамін 100г/2шт","Більше 100","Ласощі для птахів",32.58,51,{"$f":"Природа!I$272","v":0},{"$f":"Природа!J$272","v":0}]
[null,1111130420,"PR740228","Ласощі Природа Фієста Колосок для гризунів горіховий 100г/2шт","Більше 100","Ласощі для гризунів",32.46,50,{"$f":"Природа!I$273","v":0},{"$f":"Природа!J$273","v":0}]
[null,1111130421,"PR740226","Ласощі Природа Фієста Колосок для гризунів лугові трави 100г/2шт","Менше 10","Ласощі для гризунів",29.94,46,{"$f":"Природа!I$274","v":0},{"$f":"Природа!J$274","v":0}]
[null,1111130419,"PR740229","Ласощі Природа Фієста Колосок для гризунів мультивітамін 100г","Більше 100","Ласощі для гризунів",28.26,50,{"$f":"Природа!I$275","v":0},{"$f":"Природа!J$275","v":0}]
[null,1111130418,"PR740235","Ласощі Природа Фієста Колосок для гризунів мультифрукт 100г/2шт","Більше 100","Ласощі для гризунів",30.6,47,{"$f":"Природа!I$276","v":0},{"$f":"Природа!J$276","v":0}]
[null,1111130416,"PR740225","Ласощі Природа Фієста Колосок для гризунів овочевий 100г/2шт","Більше 100","Ласощі для гризунів",32.58,51,{"$f":"Природа!I$277","v":0},{"$f":"Природа!J$277","v":0}]
[null,1111130425,"PR740231","Ласощі Природа Фієста Колосок для хвилястих папуг горіховий 100г/2шт","Більше 100","Ласощі для птахів",30.18,46,{"$f":"Природа!I$278","v":0},{"$f":"Природа!J$278","v":0}]
[null,1111130426,"PR740232","Ласощі Природа Фієста Колосок для хвилястого папуги фруктовий 100г/2шт","Більше 100","Ласощі для птахів",26.28,46,{"$f":"Природа!I$279","v":0},{"$f":"Природа!J$279","v":0}]
[null,1111130422,"PR740236","Ласощі Природа Фієста Колосок для шиншил трави та мінерали 100г/2 шт","Більше 10","Ласощі для гризунів",28.26,50,{"$f":"Природа!I$280","v":0},{"$f":"Природа!J$280","v":0}]
[null,1111137367,"PR740148","Ласощі Природа Фієста Печиво Палички для гризунів асорті 100г","Більше 100","Ласощі для гризунів",28.92,42,{"$f":"Природа!I$281","v":0},{"$f":"Природа!J$281","v":0}]
[null,1111137368,"PR740149","Ласощі Природа Фієста Печиво Сердечко для гризунів асорті 100г","Більше 100","Ласощі для гризунів",29.82,43,{"$f":"Природа!I$282","v":0},{"$f":"Природа!J$282","v":0}]
[null,1111158662,"PR241409","Ласощі Природа Яблуко та буряк трав_яні снеки для гризунів 60г","Більше 100","Ласощі для гризунів",37.200000000000003,58,{"$f":"Природа!I$283","v":0},{"$f":"Природа!J$283","v":0}]
[null,1111185777,"PR243868*****","Лежак ASKOLD синій 4 (80*60*13)","Більше 10","Спальні місця для собак",1174.56,1586,{"$f":"Природа!I$284","v":0},{"$f":"Природа!J$284","v":0}]
[null,1111185778,"PR243867","Лежак ASKOLD синій 5 (102*76*14)","Більше 10","Спальні місця для собак",1920.15,2592,{"$f":"Природа!I$285","v":0},{"$f":"Природа!J$285","v":0}]
[null,1111185779,"PR243866*****","Лежак ASKOLD теракотовий 4 (80*60*13)","Менше 10","Спальні місця для собак",1174.54,1586,{"$f":"Природа!I$286","v":0},{"$f":"Природа!J$286","v":0}]
[null,1111185780,"PR243865*****","Лежак ASKOLD теракотовий 5 (102*76*14)","Менше 10","Спальні місця для собак",2016.18,2722,{"$f":"Природа!I$287","v":0},{"$f":"Природа!J$287","v":0}]
[null,1111168661,"PR242859","Лежак Природа Berry для котів та собак 60х50х18см","Більше 10","Спальні місця для котів",530.04,716,{"$f":"Природа!I$288","v":0},{"$f":"Природа!J$288","v":0}]
[null,1111173128,"PR243069","Лежак Природа Buddy для котів і собак 50х40х12см","Більше 10","Спальні місця для собак",332.88,449,{"$f":"Природа!I$289","v":0},{"$f":"Природа!J$289","v":0}]
[null,1111170230,"PR242919","Лежак Природа Coral 2 для собак 57х47х27см","Більше 10","Спальні місця для собак",475.38,642,{"$f":"Природа!I$290","v":0},{"$f":"Природа!J$290","v":0}]
[null,1111170231,"PR242920","Лежак Природа Coral 3 для собак 66х57х29см","Більше 10","Спальні місця для собак",617.28,833,{"$f":"Природа!I$291","v":0},{"$f":"Природа!J$291","v":0}]
[null,1111173943,"PR243089","Лежак Природа Green для котів і собак 50х40х13см","Менше 10","Спальні місця для собак",366.18,494,{"$f":"Природа!I$292","v":0},{"$f":"Природа!J$292","v":0}]
[null,1111162532,"PR241981","Лежак Природа Kokos 1 для собак 48х38х18см","Більше 10","Спальні місця для собак",374.82,506,{"$f":"Природа!I$293","v":0},{"$f":"Природа!J$293","v":0}]
[null,1111162533,"PR241980","Лежак Природа Kokos 2 для собак 54х44х20см","Більше 10","Спальні місця для собак",466.44,630,{"$f":"Природа!I$294","v":0},{"$f":"Природа!J$294","v":0}]
[null,1111162534,"PR241979","Лежак Природа Kokos 3 для собак 64х50х22см","Більше 10","Спальні місця для собак",547.55999999999995,739,{"$f":"Природа!I$295","v":0},{"$f":"Природа!J$295","v":0}]
[null,1111160929,"PR241776","Лежак Природа Labyrinth 1 для собак 40х25х20см","Менше 10","Спальні місця для собак",308.33999999999997,416,{"$f":"Природа!I$296","v":0},{"$f":"Природа!J$296","v":0}]
[null,1111160930,"PR241777","Лежак Природа Labyrinth 2 для собак 50х40х20см","Більше 10","Спальні місця для собак",455.88,615,{"$f":"Природа!I$297","v":0},{"$f":"Природа!J$297","v":0}]
[null,1111160931,"PR241778","Лежак Природа Labyrinth 3 для собак 65х45х20см","Більше 10","Спальні місця для собак",662.64,895,{"$f":"Природа!I$298","v":0},{"$f":"Природа!J$298","v":0}]
[null,1111173941,"PR243091","Лежак Природа Laki для котів і собак 52х38х13см","Менше 10","Спальні місця для собак",364.08,492,{"$f":"Природа!I$299","v":0},{"$f":"Природа!J$299","v":0}]
[null,1111160985,"PR241784","Лежак Природа Lux 1 для собак 40х30х17см","Більше 10","Спальні місця для собак",274.38,370,{"$f":"Природа!I$300","v":0},{"$f":"Природа!J$300","v":0}]
[null,1111160986,"PR241783","Лежак Природа Lux 2 для собак 52х36х20см","Більше 10","Спальні місця для собак",388.5,519,{"$f":"Природа!I$301","v":0},{"$f":"Природа!J$301","v":0}]
[null,1111160987,"PR241782","Лежак Природа Lux 3 для собак 62х44х22см","Більше 10","Спальні місця для собак",597.54,807,{"$f":"Природа!I$302","v":0},{"$f":"Природа!J$302","v":0}]
[null,1111160988,"PR241781","Лежак Природа Lux 4 для собак 57х79х24см","Більше 10","Спальні місця для собак",768.9,1038,{"$f":"Природа!I$303","v":0},{"$f":"Природа!J$303","v":0}]
[null,1111160989,"PR241780","Лежак Природа Lux 5 для собак 86x62x27см","Більше 10","Спальні місця для собак",901.98,1203,{"$f":"Природа!I$304","v":0},{"$f":"Природа!J$304","v":0}]
[null,1111173944,"PR243088","Лежак Природа Michael для котів та собак 52х40х12см","Більше 10","Спальні місця для собак",364.08,491,{"$f":"Природа!I$305","v":0},{"$f":"Природа!J$305","v":0}]
[null,1111172842,"PR243063","Лежак Природа Print 1 для котів та собак 50х40х12см","Більше 100","Спальні місця для собак",257.22000000000003,347,{"$f":"Природа!I$306","v":0},{"$f":"Природа!J$306","v":0}]
[null,1111172843,"PR243062","Лежак Природа Print 2 для котів та собак 60х52х14см","Більше 10","Спальні місця для собак",339.78,459,{"$f":"Природа!I$307","v":0},{"$f":"Природа!J$307","v":0}]
[null,1111172844,"PR243061","Лежак Природа Print 3 для котів та собак 82х64х16см","Більше 10","Спальні місця для собак",500.82,676,{"$f":"Природа!I$308","v":0},{"$f":"Природа!J$308","v":0}]
[null,1111168662,"PR242858","Лежак Природа Ricky 2 для котів та собак 50х40х16см","Більше 10","Спальні місця для котів",424.2,573,{"$f":"Природа!I$309","v":0},{"$f":"Природа!J$309","v":0}]
[null,1111168663,"PR242857","Лежак Природа Ricky 3 для котів та собак 62х48х18см","Більше 10","Спальні місця для котів",564.84,763,{"$f":"Природа!I$310","v":0},{"$f":"Природа!J$310","v":0}]
[null,1111173942,"PR243090","Лежак Природа Robert для котів та собак 52х38х13см","Більше 10","Спальні місця для собак",326.58,441,{"$f":"Природа!I$311","v":0},{"$f":"Природа!J$311","v":0}]
[null,1111173132,"PR243065","Лежак Природа Rocky для собак та котів кутовий 60х60х10см","Менше 10","Спальні місця для собак",438.84,592,{"$f":"Природа!I$312","v":0},{"$f":"Природа!J$312","v":0}]
[null,1111173130,"PR243067","Лежак Природа Skye для котів та собак 45х45х10см","Більше 100","Спальні місця для собак",244.08,330,{"$f":"Природа!I$313","v":0},{"$f":"Природа!J$313","v":0}]
[null,1111173131,"PR243066","Лежак Природа Tommy для котів та собак 50х50х10см","Більше 100","Спальні місця для собак",365.46,493,{"$f":"Природа!I$314","v":0},{"$f":"Природа!J$314","v":0}]
[null,1111162530,"PR241983","Лежак Природа Transformer 1 для собак 52х42х18см","Більше 10","Спальні місця для собак",516.05999999999995,697,{"$f":"Природа!I$315","v":0},{"$f":"Природа!J$315","v":0}]
[null,1111162531,"PR241982","Лежак Природа Transformer 2 для собак 54х66х20см","Більше 10","Спальні місця для собак",714.06,964,{"$f":"Природа!I$316","v":0},{"$f":"Природа!J$316","v":0}]
[null,22758,"PR740440","Лопатка д/гігієніч наповнювача Природа з отворами велика №2","Немає в наявності","Аксесуари для котячих туалетів",13.92,19,{"$f":"Природа!I$317","v":0},{"$f":"Природа!J$317","v":0}]
[null,23208,"PR740438","Лопатка Природа №1 з отворами для гранульованого наповнювача маленька","Більше 100","Аксесуари для котячих туалетів",8.2799999999999994,11,{"$f":"Природа!I$318","v":0},{"$f":"Природа!J$318","v":0}]
[null,1111114286,"PR740439","Лопатка Природа №1 з отворами для наповнювача маленька упаковка 10шт","Більше 10","Аксесуари для котячих туалетів",79.5,106,{"$f":"Природа!I$319","v":0},{"$f":"Природа!J$319","v":0}]
[null,1111119222,"PR740437","Лопатка Природа №3 з отворами для гранульованого наповнювача","Більше 100","Аксесуари для котячих туалетів",14.4,18,{"$f":"Природа!I$320","v":0},{"$f":"Природа!J$320","v":0}]
[null,1111197789,"PR441563","Матрас Природа  №1 Spayk для котів та собак (44*66*2)","Більше 100","Спальні місця для котів",184.02,267,{"$f":"Природа!I$321","v":0},{"$f":"Природа!J$321","v":0}]
[null,1111197790,"PR441556","Матрас Природа №2 Spayk для котів та собак (64*90*2)","Більше 100","Спальні місця для котів",258,374,{"$f":"Природа!I$322","v":0},{"$f":"Природа!J$322","v":0}]
[null,1111197791,"PR441549","Матрас Природа№3 Spayk для котів та собак (84*112*2)","Більше 100","Спальні місця для котів",364.02,528,{"$f":"Природа!I$323","v":0},{"$f":"Природа!J$323","v":0}]
[null,1111177032,"PR243390","Миска №0 0,12 л жовта","Більше 100","Миски для котів",10.199999999999999,13,{"$f":"Природа!I$324","v":0},{"$f":"Природа!J$324","v":0}]
[null,1111177033,"PR243389","Миска №0 0,12 л зелена","Більше 10","Миски для котів",10.199999999999999,13,{"$f":"Природа!I$325","v":0},{"$f":"Природа!J$325","v":0}]
[null,1111177031,"PR243391","Миска №0 0,12 л синя","Більше 10","Миски для котів",10.199999999999999,13,{"$f":"Природа!I$326","v":0},{"$f":"Природа!J$326","v":0}]
[null,1111177041,"PR243381","Миска №2 0,6 л зелена","Більше 10","Миски та годівниці для собак",23.94,32,{"$f":"Природа!I$327","v":0},{"$f":"Природа!J$327","v":0}]
[null,1111177044,"PR243378","Миска №4 2,0 л жовта","Більше 10","Миски та годівниці для собак",48.6,66,{"$f":"Природа!I$328","v":0},{"$f":"Природа!J$328","v":0}]
[null,1111177045,"PR243376","Миска №4 2,0 л зелена","Більше 10","Миски та годівниці для собак",48.6,66,{"$f":"Природа!I$329","v":0},{"$f":"Природа!J$329","v":0}]
[null,1111177043,"PR243379","Миска №4 2,0 л синя","Менше 10","Миски та годівниці для собак",48.6,66,{"$f":"Природа!I$330","v":0},{"$f":"Природа!J$330","v":0}]
[null,1111177042,"PR243380","Миска №4 2,0 л червона","Більше 10","Миски та годівниці для собак",48.6,66,{"$f":"Природа!I$331","v":0},{"$f":"Природа!J$331","v":0}]
[null,1111177048,"PR243374","Миска №5 2,4 л жовта","Менше 10","Миски та годівниці для собак",79.680000000000007,106,{"$f":"Природа!I$332","v":0},{"$f":"Природа!J$332","v":0}]
[null,1111177052,"PR243370","Миска №6 3,0 л жовта","Більше 10","Миски та годівниці для собак",92.28,125,{"$f":"Природа!I$333","v":0},{"$f":"Природа!J$333","v":0}]
[null,1111177053,"PR243369","Миска №6 3,0 л зелена","Більше 10","Миски та годівниці для собак",92.28,125,{"$f":"Природа!I$334","v":0},{"$f":"Природа!J$334","v":0}]
[null,1111177051,"PR243371","Миска №6 3,0 л синя","Більше 10","Миски та годівниці для собак",92.28,125,{"$f":"Природа!I$335","v":0},{"$f":"Природа!J$335","v":0}]
[null,1111177050,"PR243372","Миска №6 3,0 л червона","Більше 10","Миски та годівниці для собак",92.28,125,{"$f":"Природа!I$336","v":0},{"$f":"Природа!J$336","v":0}]
[null,1111177068,"PR243354","Миска для гризунів Лариска 0,1 л жовта","Більше 10","Обладнання для гризунів",9.9600000000000009,13,{"$f":"Природа!I$337","v":0},{"$f":"Природа!J$337","v":0}]
[null,1111177067,"PR243355","Миска для гризунів Лариска 0,1 л синя","Більше 10","Обладнання для гризунів",9.9600000000000009,13,{"$f":"Природа!I$338","v":0},{"$f":"Природа!J$338","v":0}]
[null,1111177072,"PR243350","Миска для кота пласка 0,2 л жовта","Більше 10","Миски для котів",14.94,22,{"$f":"Природа!I$339","v":0},{"$f":"Природа!J$339","v":0}]
[null,1111177073,"PR243417","Миска для кота пласка 0,2 л зелена","Більше 10","Миски для котів",14.94,22,{"$f":"Природа!I$340","v":0},{"$f":"Природа!J$340","v":0}]
[null,1111177070,"PR243352","Миска для кота пласка 0,2 л червона","Більше 10","Миски для котів",14.94,22,{"$f":"Природа!I$341","v":0},{"$f":"Природа!J$341","v":0}]
[null,1111177076,"PR243346","Миска для перса 0,4 л жовта","Більше 10","Миски для котів",18.66,26,{"$f":"Природа!I$342","v":0},{"$f":"Природа!J$342","v":0}]
[null,1111177077,"PR243345","Миска для перса 0,4 л зелена","Більше 10","Миски для котів",18.66,26,{"$f":"Природа!I$343","v":0},{"$f":"Природа!J$343","v":0}]
[null,1111177075,"PR243347","Миска для перса 0,4 л синя","Більше 10","Миски для котів",18.66,26,{"$f":"Природа!I$344","v":0},{"$f":"Природа!J$344","v":0}]
[null,1111177074,"PR243348","Миска для перса 0,4 л червона","Більше 10","Миски для котів",18.66,26,{"$f":"Природа!I$345","v":0},{"$f":"Природа!J$345","v":0}]
[null,1111177080,"PR243342","Миска для спанієля 0,75 л жовта","Менше 10","Миски та годівниці для собак",31.38,41,{"$f":"Природа!I$346","v":0},{"$f":"Природа!J$346","v":0}]
[null,1111177081,"PR243341","Миска для спанієля 0,75 л зелена","Менше 10","Миски та годівниці для собак",31.38,41,{"$f":"Природа!I$347","v":0},{"$f":"Природа!J$347","v":0}]
[null,1111177079,"PR243343","Миска для спанієля 0,75 л синя","Менше 10","Миски та годівниці для собак",31.38,41,{"$f":"Природа!I$348","v":0},{"$f":"Природа!J$348","v":0}]
[null,1111177078,"PR243344","Миска для спанієля 0,75 л червона","Менше 10","Миски та годівниці для собак",31.38,41,{"$f":"Природа!I$349","v":0},{"$f":"Природа!J$349","v":0}]
[null,1111177084,"PR243338","Миска для хом_яків 0,05 л жовта","Більше 100","Обладнання для гризунів",6.54,10,{"$f":"Природа!I$350","v":0},{"$f":"Природа!J$350","v":0}]
[null,1111177085,"PR243337","Миска для хом_яків 0,05 л зелена","Більше 100","Обладнання для гризунів",6.54,10,{"$f":"Природа!I$351","v":0},{"$f":"Природа!J$351","v":0}]
[null,1111177083,"PR243339","Миска для хом_яків 0,05 л синя","Більше 100","Обладнання для гризунів",6.54,10,{"$f":"Природа!I$352","v":0},{"$f":"Природа!J$352","v":0}]
[null,1111177082,"PR243340","Миска для хом_яків 0,05 л червона","Більше 10","Обладнання для гризунів",6.54,10,{"$f":"Природа!I$353","v":0},{"$f":"Природа!J$353","v":0}]
[null,1111177008,"PR243414","Миска Модерн №0 0, 2л світло-блакитна","Більше 100","Миски для котів",12.54,18,{"$f":"Природа!I$354","v":0},{"$f":"Природа!J$354","v":0}]
[null,1111177006,"PR243416","Миска Модерн №0 0,2 л рожево-бежева","Більше 100","Миски для котів",12.54,18,{"$f":"Природа!I$355","v":0},{"$f":"Природа!J$355","v":0}]
[null,1111177007,"PR243415","Миска Модерн №0 0,2 л світло-бежева","Менше 10","Миски для котів",12.54,18,{"$f":"Природа!I$356","v":0},{"$f":"Природа!J$356","v":0}]
[null,1111177009,"PR243413","Миска Модерн №0 0,2 л світло-фіолетова","Більше 10","Миски для котів",12.54,18,{"$f":"Природа!I$357","v":0},{"$f":"Природа!J$357","v":0}]
[null,1111177010,"PR243412","Миска Модерн №1 0,3 л рожево-бежева","Більше 100","Миски для котів",16.62,23,{"$f":"Природа!I$358","v":0},{"$f":"Природа!J$358","v":0}]
[null,1111177011,"PR243411","Миска Модерн №1 0,3 л світло-бежева","Більше 10","Миски для котів",16.62,23,{"$f":"Природа!I$359","v":0},{"$f":"Природа!J$359","v":0}]
[null,1111177012,"PR243410","Миска Модерн №1 0,3 л світло-блакитна","Більше 100","Миски для котів",16.62,23,{"$f":"Природа!I$360","v":0},{"$f":"Природа!J$360","v":0}]
[null,1111177013,"PR243409","Миска Модерн №1 0,3 л світло-фіолетова","Більше 10","Миски для котів",16.62,23,{"$f":"Природа!I$361","v":0},{"$f":"Природа!J$361","v":0}]
[null,1111177027,"PR243395","Миска Модерн №1 Дует 0,4 л для котів світло-бежева","Більше 100","Миски для котів",22.8,30,{"$f":"Природа!I$362","v":0},{"$f":"Природа!J$362","v":0}]
[null,1111177028,"PR243394","Миска Модерн №1 Дует 0,4 л для котів світло-блакитна","Більше 100","Миски для котів",22.8,30,{"$f":"Природа!I$363","v":0},{"$f":"Природа!J$363","v":0}]
[null,1111177029,"PR243393","Миска Модерн №1 Дует 0,4 л для котів світло-фіолетова","Більше 10","Миски для котів",22.8,30,{"$f":"Природа!I$364","v":0},{"$f":"Природа!J$364","v":0}]
[null,1111177014,"PR243408","Миска Модерн №2 0,6 л рожево-бежева","Більше 10","Миски та годівниці для собак",27.48,37,{"$f":"Природа!I$365","v":0},{"$f":"Природа!J$365","v":0}]
[null,1111177015,"PR243407","Миска Модерн №2 0,6 л світло-бежева","Більше 10","Миски та годівниці для собак",27.48,37,{"$f":"Природа!I$366","v":0},{"$f":"Природа!J$366","v":0}]
[null,1111177016,"PR243406","Миска Модерн №2 0,6 л світло-блакитна","Більше 100","Миски та годівниці для собак",27.48,37,{"$f":"Природа!I$367","v":0},{"$f":"Природа!J$367","v":0}]
[null,1111177017,"PR243405","Миска Модерн №2 0,6 л світло-фіолетова","Більше 10","Миски та годівниці для собак",27.48,37,{"$f":"Природа!I$368","v":0},{"$f":"Природа!J$368","v":0}]
[null,1111177018,"PR243404","Миска Модерн №3 0,75 л рожево-бежева","Більше 10","Миски та годівниці для собак",34.380000000000003,46,{"$f":"Природа!I$369","v":0},{"$f":"Природа!J$369","v":0}]
[null,1111177019,"PR243403","Миска Модерн №3 0,75 л світло-бежева","Більше 10","Миски та годівниці для собак",34.380000000000003,46,{"$f":"Природа!I$370","v":0},{"$f":"Природа!J$370","v":0}]
[null,1111177020,"PR243402","Миска Модерн №3 0,75 л світло-блакитна","Більше 10","Миски та годівниці для собак",34.380000000000003,46,{"$f":"Природа!I$371","v":0},{"$f":"Природа!J$371","v":0}]
[null,1111177021,"PR243401","Миска Модерн №3 0,75 л світло-фіолетова","Більше 10","Миски та годівниці для собак",34.380000000000003,46,{"$f":"Природа!I$372","v":0},{"$f":"Природа!J$372","v":0}]
[null,1111177023,"PR243399","Миска Модерн №4 1,25 л світло-бежева","Більше 10","Миски та годівниці для собак",44.4,59,{"$f":"Природа!I$373","v":0},{"$f":"Природа!J$373","v":0}]
[null,1111177024,"PR243398","Миска Модерн №4 1,25 л світло-блакитна","Менше 10","Миски та годівниці для собак",44.4,59,{"$f":"Природа!I$374","v":0},{"$f":"Природа!J$374","v":0}]
[null,1111177025,"PR243397","Миска Модерн №4 1,25 л світло-фіолетова","Більше 10","Миски та годівниці для собак",44.4,59,{"$f":"Природа!I$375","v":0},{"$f":"Природа!J$375","v":0}]
[null,1111177056,"PR243366","Миска подвійна №0 0,075/0,125 л для котів жовта","Більше 10","Миски для котів",12.96,18,{"$f":"Природа!I$376","v":0},{"$f":"Природа!J$376","v":0}]
[null,1111177057,"PR243365","Миска подвійна №0 0,075/0,125 л для котів зелена","Більше 10","Миски для котів",12.96,18,{"$f":"Природа!I$377","v":0},{"$f":"Природа!J$377","v":0}]
[null,1111177061,"PR243361","Миска подвійна №1 0,15/0,27 л для котів зелена","Більше 10","Миски для котів",21.24,29,{"$f":"Природа!I$378","v":0},{"$f":"Природа!J$378","v":0}]
[null,1111177058,"PR243364","Миска подвійна №1 0,15/0,27 л для котів червона","Більше 10","Миски для котів",21.24,29,{"$f":"Природа!I$379","v":0},{"$f":"Природа!J$379","v":0}]
[null,1111177064,"PR243358","Миска подвійна №2 0,25/0,45 л для котів жовта","Більше 10","Миски для котів",30.42,40,{"$f":"Природа!I$380","v":0},{"$f":"Природа!J$380","v":0}]
[null,1111177065,"PR243357","Миска подвійна №2 0,25/0,45 л для котів зелена","Більше 100","Миски для котів",30.42,40,{"$f":"Природа!I$381","v":0},{"$f":"Природа!J$381","v":0}]
[null,1111177062,"PR243360","Миска подвійна №2 0,25/0,45 л для котів червона","Більше 10","Миски для котів",30.42,40,{"$f":"Природа!I$382","v":0},{"$f":"Природа!J$382","v":0}]
[null,265,"PR740461","Миска Природа №1 для котів подвійна 150/270мл","Більше 100","Миски для котів",21.24,29,{"$f":"Природа!I$383","v":0},{"$f":"Природа!J$383","v":0}]
[null,1111116369,"PR740015","Мінерал Природа для гризунів з зеленим яблуком 18г","Більше 100","Вітаміни та мінерали для гризунів",9.6,14,{"$f":"Природа!I$384","v":0},{"$f":"Природа!J$384","v":0}]
[null,1111116191,"PR740016","Мінерал Природа для гризунів з каротином 18г","Більше 100","Вітаміни та мінерали для гризунів",9.6,14,{"$f":"Природа!I$385","v":0},{"$f":"Природа!J$385","v":0}]
[null,1111116190,"PR740014","Мінерал Природа для середніх та хвилястих папуг з цитрусом 18г","Більше 100","Вітаміни та мінерали для птахів",9.6,14,{"$f":"Природа!I$386","v":0},{"$f":"Природа!J$386","v":0}]
[null,1111116162,"PR740013","Мінерал Природа для середніх та хвилястих папуг зелене яблуко 18г","Більше 100","Вітаміни та мінерали для птахів",9.6,14,{"$f":"Природа!I$387","v":0},{"$f":"Природа!J$387","v":0}]
[null,1111133896,"PR740061","Мінерал Природа Фієста Максі для гризунів бурячок 124г","Більше 100","Вітаміни та мінерали для гризунів",35.76,51,{"$f":"Природа!I$388","v":0},{"$f":"Природа!J$388","v":0}]
[null,1111133898,"PR740062","Мінерал Природа Фієста Максі для гризунів каротин та трави 124г","Більше 100","Вітаміни та мінерали для гризунів",35.76,51,{"$f":"Природа!I$389","v":0},{"$f":"Природа!J$389","v":0}]
[null,1111133897,"PR740063","Мінерал Природа Фієста Максі для гризунів мюслі 18г","Більше 100","Вітаміни та мінерали для гризунів",32.04,46,{"$f":"Природа!I$390","v":0},{"$f":"Природа!J$390","v":0}]
[null,1111133895,"PR740060","Мінерал Природа Фієста Максі для птахів мультифрукт 124г","Більше 100","Вітаміни та мінерали для птахів",32.04,46,{"$f":"Природа!I$391","v":0},{"$f":"Природа!J$391","v":0}]
[null,1111137941,"PR740416 натур 2,5кг","Наповнювач д/кот туалету Природа Sani Pet Універсальний деревин 2,5кг","Більше 100","Наповнювачі для котячих туалетів",51.48,67,{"$f":"Природа!I$392","v":0},{"$f":"Природа!J$392","v":0}]
[null,1111137942,"PR740415 натур 5кг","Наповнювач д/кот туалету Природа Sani Pet Універсальний деревинний 5кг","Більше 100","Наповнювачі для котячих туалетів",100.8,133,{"$f":"Природа!I$393","v":0},{"$f":"Природа!J$393","v":0}]
[null,1111149902,"PR240791 лимон 2,5кг","Наповнювач д/котяч туалету Природа Sani Pet Лимон деревинний 2,5кг","Більше 100","Наповнювачі для котячих туалетів",53.04,69,{"$f":"Природа!I$394","v":0},{"$f":"Природа!J$394","v":0}]
[null,1111149903,"PR240792 лимон 5кг","Наповнювач д/котяч туалету Природа Sani Pet Лимон деревинний 5кг","Більше 100","Наповнювачі для котячих туалетів",103.86,137,{"$f":"Природа!I$395","v":0},{"$f":"Природа!J$395","v":0}]
[null,1111149888,"PR240793 яблоко 2,5кг","Наповнювач д/котяч туалету Природа Sani Pet Яблуко деревинний 2,5кг","Більше 100","Наповнювачі для котячих туалетів",53.04,69,{"$f":"Природа!I$396","v":0},{"$f":"Природа!J$396","v":0}]
[null,1111149901,"PR240794 яблоко 5кг","Наповнювач д/котяч туалету Природа Sani Pet Яблуко деревинний 5кг","Більше 100","Наповнювачі для котячих туалетів",103.86,137,{"$f":"Природа!I$397","v":0},{"$f":"Природа!J$397","v":0}]
[null,1111125916,"PR240119","Наповнювач Природа Sani Pet Універсальний д/котяч/туалету дерев 10кг","Більше 100","Наповнювачі для котячих туалетів",194.28,253,{"$f":"Природа!I$398","v":0},{"$f":"Природа!J$398","v":0}]
[null,1111180854,"PR243573","Натуральні сушені ласощі д/собак Вим’я яловиче сушене 100г","Більше 100","Ласощі для собак",52.5,68,{"$f":"Природа!I$399","v":0},{"$f":"Природа!J$399","v":0}]
[null,1111180862,"PR243565","Натуральні сушені ласощі д/собак Вуха яловичі сушені 1 шт","Більше 10","Ласощі для собак",54.18,70,{"$f":"Природа!I$400","v":0},{"$f":"Природа!J$400","v":0}]
[null,1111180864,"PR243563","Натуральні сушені ласощі д/собак Жила станова яловича сушена 100г","Більше 10","Ласощі для собак",59.22,78,{"$f":"Природа!I$401","v":0},{"$f":"Природа!J$401","v":0}]
[null,1111180868,"PR243559","Натуральні сушені ласощі д/собак Лапи курячі сушені 100г","Більше 100","Ласощі для собак",42.9,57,{"$f":"Природа!I$402","v":0},{"$f":"Природа!J$402","v":0}]
[null,1111180860,"PR243567","Натуральні сушені ласощі д/собак Легені яловичі сушені 50г","Більше 10","Ласощі для собак",43.86,58,{"$f":"Природа!I$403","v":0},{"$f":"Природа!J$403","v":0}]
[null,1111180876,"PR243551","Натуральні сушені ласощі д/собак Мікс яловичий сушений 100г","Більше 10","Ласощі для собак",53.1,68,{"$f":"Природа!I$404","v":0},{"$f":"Природа!J$404","v":0}]
[null,1111180856,"PR243571","Натуральні сушені ласощі д/собак Печінка яловича сушена 100г","Більше 10","Ласощі для собак",54.84,70,{"$f":"Природа!I$405","v":0},{"$f":"Природа!J$405","v":0}]
[null,1111180848,"PR243579","Натуральні сушені ласощі д/собак Рубець яловичий сушений 50г","Більше 10","Ласощі для собак",40.56,53,{"$f":"Природа!I$406","v":0},{"$f":"Природа!J$406","v":0}]
[null,1111180850,"PR243577","Натуральні сушені ласощі д/собак Рубець яловичий сушений слайсами 50г","Більше 10","Ласощі для собак",35.58,46,{"$f":"Природа!I$407","v":0},{"$f":"Природа!J$407","v":0}]
[null,1111180852,"PR243575","Натуральні сушені ласощі д/собак Стравохід яловичий сушений 100г","Більше 10","Ласощі для собак",99.6,130,{"$f":"Природа!I$408","v":0},{"$f":"Природа!J$408","v":0}]
[null,1111180846,"PR243581","Натуральні сушені ласощі д/собак Трахея яловича сушена рублена 50г","Більше 100","Ласощі для собак",35.64,46,{"$f":"Природа!I$409","v":0},{"$f":"Природа!J$409","v":0}]
[null,1111180870,"PR243557","Натуральні сушені ласощі д/собак Шия куряча сушена 100г","Більше 10","Ласощі для собак",69.06,90,{"$f":"Природа!I$410","v":0},{"$f":"Природа!J$410","v":0}]
[null,1111180874,"PR243553","Натуральні сушені ласощі д/собак Шлунок качиний сушений слайсами 100г","Більше 10","Ласощі для собак",75.540000000000006,98,{"$f":"Природа!I$411","v":0},{"$f":"Природа!J$411","v":0}]
[null,1111180872,"PR243555","Натуральні сушені ласощі д/собак Шлунок курячий сушений слайсами 100г","Більше 100","Ласощі для собак",108.24,140,{"$f":"Природа!I$412","v":0},{"$f":"Природа!J$412","v":0}]
[null,1111203953,"PR740263","НЕМАЄ ВЕРХНЬОЇ ЧАСТИНИ Дряпка Природа Містечко для котів кутова 55х56х","Менше 10","Дряпки для котів",1541.46,0,{"$f":"Природа!I$413","v":0},{"$f":"Природа!J$413","v":0}]
[null,1111198625,"PR740327*****","НТВ, ЗЛАМАН БАРАБАН Дряпка Природа Д22 д/котів з барабаном 36x36x107см","Менше 10","Дряпки для котів",806.94,0,{"$f":"Природа!I$414","v":0},{"$f":"Природа!J$414","v":0}]
[null,1111193992,"PR740263","НТВ. ДЕТ.ІНШ.КОЛ Дряпка Природа Містечко для котів кутова 55х56х117см","Менше 10","Дряпки для котів",1541.46,0,{"$f":"Природа!I$415","v":0},{"$f":"Природа!J$415","v":0}]
[null,7666,"PR240253","Перекладина Природа для декоративних птахів 22см","Більше 100","Обладнання для птахів",8.6999999999999993,11,{"$f":"Природа!I$416","v":0},{"$f":"Природа!J$416","v":0}]
[null,1111160228,"PR001077","Піддон Природа для клітки гризунів великий бежевий 44х27см","Менше 10","Обладнання для гризунів",156.06,203,{"$f":"Природа!I$417","v":0},{"$f":"Природа!J$417","v":0}]
[null,1111160229,"PR001078","Піддон Природа для клітки гризунів великий зелений 44х27см","Менше 10","Обладнання для гризунів",156.06,203,{"$f":"Природа!I$418","v":0},{"$f":"Природа!J$418","v":0}]
[null,1111160227,"PR001076","Піддон Природа для клітки гризунів великий світло-блакитний 44х27см","Менше 10","Обладнання для гризунів",156.06,203,{"$f":"Природа!I$419","v":0},{"$f":"Природа!J$419","v":0}]
[null,1111160226,"PR001075","Піддон Природа для клітки гризунів великий фіолетовий 44х27см","Менше 10","Обладнання для гризунів",156.06,203,{"$f":"Природа!I$420","v":0},{"$f":"Природа!J$420","v":0}]
[null,1111160236,"PR001085","Піддон Природа для кліток гризунів малий бежевий 30x20см","Менше 10","Обладнання для гризунів",45.66,59,{"$f":"Природа!I$421","v":0},{"$f":"Природа!J$421","v":0}]
[null,1111160235,"PR001084","Піддон Природа для кліток гризунів малий світло-блакитний 30x20см","Менше 10","Обладнання для гризунів",45.66,59,{"$f":"Природа!I$422","v":0},{"$f":"Природа!J$422","v":0}]
[null,1111160234,"PR001083","Піддон Природа для кліток гризунів малий фіолетовий 30x20см","Менше 10","Обладнання для гризунів",45.66,59,{"$f":"Природа!I$423","v":0},{"$f":"Природа!J$423","v":0}]
[null,1111160233,"PR001082","Піддон Природа для кліток гризунів середній зелений 37x25см","Менше 10","Обладнання для гризунів",73.680000000000007,96,{"$f":"Природа!I$424","v":0},{"$f":"Природа!J$424","v":0}]
[null,1111160231,"PR001080","Піддон Природа для кліток гризунів середній світло-блакитний 37x25см","Менше 10","Обладнання для гризунів",73.680000000000007,96,{"$f":"Природа!I$425","v":0},{"$f":"Природа!J$425","v":0}]
[null,1111160230,"PR001079","Піддон Природа для кліток гризунів середній фіолетовий 37x25см","Менше 10","Обладнання для гризунів",73.680000000000007,96,{"$f":"Природа!I$426","v":0},{"$f":"Природа!J$426","v":0}]
[null,8699,"PR740413","Підставка під миски Природа для собак 2x1,8л/19см висота 50см","Менше 10","Миски та годівниці для собак",1055.58,1425,{"$f":"Природа!I$427","v":0},{"$f":"Природа!J$427","v":0}]
[null,8665,"PR740414","Підставка під миски Природа для собак 2x2,8л/23см висота 50см","Менше 10","Миски та годівниці для собак",1092.72,1475,{"$f":"Природа!I$428","v":0},{"$f":"Природа!J$428","v":0}]
[null,1111115711,"PR740893","Підставка Природа ПО під акваріум овальна без дверей чорна 80х35х70см","Менше 10","Підставки та піддони",2685.36,3760,{"$f":"Природа!I$429","v":0},{"$f":"Природа!J$429","v":0}]
[null,7160,"PR740858","Підставка Природа ПО під акваріум овальна з дверима чорна 150х50х70см","Менше 10","Підставки та піддони",6089.82,8526,{"$f":"Природа!I$430","v":0},{"$f":"Природа!J$430","v":0}]
[null,1111115797,"PR740880","Підставка Природа ПО під акваріум овальна з дверима чорна 60х30х70см","Менше 10","Підставки та піддони",2015.52,2821,{"$f":"Природа!I$431","v":0},{"$f":"Природа!J$431","v":0}]
[null,1111115698,"PR740895","Підставка Природа ПО під акваріум овальна з дверима чорна 80х35х70см","Менше 10","Підставки та піддони",3412.44,4779,{"$f":"Природа!I$432","v":0},{"$f":"Природа!J$432","v":0}]
[null,1111115612,"PR740899","Підставка Природа ПП під акваріум пряма без дверей чорна 80x35x70см","Менше 10","Підставки та піддони",2509.92,3514,{"$f":"Природа!I$433","v":0},{"$f":"Природа!J$433","v":0}]
[null,1111115682,"PR740846","Підставка Природа ПП під акваріум пряма з дверима чорна 100x40x70см","Менше 10","Підставки та піддони",3750.9,5251,{"$f":"Природа!I$434","v":0},{"$f":"Природа!J$434","v":0}]
[null,1111115687,"PR740854","Підставка Природа ПП під акваріум пряма з дверима чорна 120x40x70см","Менше 10","Підставки та піддони",4521.0600000000004,6329,{"$f":"Природа!I$435","v":0},{"$f":"Природа!J$435","v":0}]
[null,1111115645,"PR740872","Підставка Природа ПП під акваріум пряма з дверима чорна 50х30x70см","Менше 10","Підставки та піддони",1927.8,2699,{"$f":"Природа!I$436","v":0},{"$f":"Природа!J$436","v":0}]
[null,1111115644,"PR740885","Підставка Природа ПП під акваріум пряма з дверима чорна 60х30х70см","Менше 10","Підставки та піддони",1970.64,2758,{"$f":"Природа!I$437","v":0},{"$f":"Природа!J$437","v":0}]
[null,1111160180,"PR241685","Пісок Природа для гризунів та шиншил 1кг","Більше 100","Догляд та гігієна для гризунів",33.24,46,{"$f":"Природа!I$438","v":0},{"$f":"Природа!J$438","v":0}]
[null,1111160178,"PR241687","Пісок Природа для декоративних птахів 1000г","Більше 100","Предмети гігієни для птахів",32.520000000000003,52,{"$f":"Природа!I$439","v":0},{"$f":"Природа!J$439","v":0}]
[null,1111173133,"PR243064","Подушка-матрац Природа Oliver для собак та котів 80х60х10см","Більше 10","Спальні місця для собак",287.76,389,{"$f":"Природа!I$440","v":0},{"$f":"Природа!J$440","v":0}]
[null,1111173129,"PR243068","Подушка-матрац Природа Ostin для собак та котів 80х60х10см","Більше 10","Спальні місця для собак",259.38,350,{"$f":"Природа!I$441","v":0},{"$f":"Природа!J$441","v":0}]
[null,1111139917,"PR240265","Поїлка Природа для гризунів автоматична 300мл","Більше 10","Обладнання для гризунів",76.38,105,{"$f":"Природа!I$442","v":0},{"$f":"Природа!J$442","v":0}]
[null,1111133737,"PR740828","Поїлка Природа для гризунів автоматична 60мл","Більше 100","Обладнання для гризунів",63.18,87,{"$f":"Природа!I$443","v":0},{"$f":"Природа!J$443","v":0}]
[null,8278,"PR740829","Поїлка Природа для декоративних птахів 60мл","Більше 100","Обладнання для птахів",12,17,{"$f":"Природа!I$444","v":0},{"$f":"Природа!J$444","v":0}]
[null,1111186389,"PR243961","Попона Max для собак S","Більше 10","Одяг для собак",754.5,1079,{"$f":"Природа!I$445","v":0},{"$f":"Природа!J$445","v":0}]
[null,1111186384,"PR243970","Попона Max для собак S2","Більше 10","Одяг для собак",854.04,1221,{"$f":"Природа!I$446","v":0},{"$f":"Природа!J$446","v":0}]
[null,1111186386,"PR243968","Попона Max для собак S3","Більше 10","Одяг для собак",871.92,1247,{"$f":"Природа!I$447","v":0},{"$f":"Природа!J$447","v":0}]
[null,1111186390,"PR243958","Попона Max для собак SМ","Більше 10","Одяг для собак",791.1,1131,{"$f":"Природа!I$448","v":0},{"$f":"Природа!J$448","v":0}]
[null,1111186385,"PR243965","Попона Max для собак М2","Більше 10","Одяг для собак",996.84,1426,{"$f":"Природа!I$449","v":0},{"$f":"Природа!J$449","v":0}]
[null,1111186387,"PR243963","Попона Max для собак М3","Більше 10","Одяг для собак",900.6,1288,{"$f":"Природа!I$450","v":0},{"$f":"Природа!J$450","v":0}]
[null,1111186388,"PR243962","Попона Max для собак МL","Більше 10","Одяг для собак",918.36,1313,{"$f":"Природа!I$451","v":0},{"$f":"Природа!J$451","v":0}]
[null,1111186382,"PR243954","Попона Max для собак такса S","Більше 10","Одяг для собак",895.92,1281,{"$f":"Природа!I$452","v":0},{"$f":"Природа!J$452","v":0}]
[null,1111186380,"PR243955","Попона Max для собак такса S2","Більше 10","Одяг для собак",924.36,1322,{"$f":"Природа!I$453","v":0},{"$f":"Природа!J$453","v":0}]
[null,1111186381,"PR243952","Попона Max для собак такса М","Більше 10","Одяг для собак",921.36,1318,{"$f":"Природа!I$454","v":0},{"$f":"Природа!J$454","v":0}]
[null,1111186383,"PR243956","Попона Max для собак такса ХS","Більше 10","Одяг для собак",795.24,1137,{"$f":"Природа!I$455","v":0},{"$f":"Природа!J$455","v":0}]
[null,1111198617,"PR241975","ПОРВ. СІТКА Сумка-переноска Природа Константа для котів та собак 40х28","Менше 10","Сумки, переноски та посуд для подорожей з собаками",459.78,0,{"$f":"Природа!I$456","v":0},{"$f":"Природа!J$456","v":0}]
[null,1111205999,"PR241976","ПОРВ.Сумка-переноска Природа Basic 3 для котів та собак 42х32х24 см","Менше 10","Сумки, переноски та посуд для подорожей з собаками",444.84,0,{"$f":"Природа!I$457","v":0},{"$f":"Природа!J$457","v":0}]
[null,1111186032,"PR243913*****","Светр Sam персиковий для собак, L","Більше 10","Одяг для собак",633.96,910,{"$f":"Природа!I$458","v":0},{"$f":"Природа!J$458","v":0}]
[null,1111186033,"PR243914*****","Светр Sam персиковий для собак, M","Більше 10","Одяг для собак",609.72,875,{"$f":"Природа!I$459","v":0},{"$f":"Природа!J$459","v":0}]
[null,1111186035,"PR243918*****","Светр Sam персиковий для собак, XS","Менше 10","Одяг для собак",569.22,817,{"$f":"Природа!I$460","v":0},{"$f":"Природа!J$460","v":0}]
[null,1111186036,"PR243920*****","Светр Sam персиковий для собак, XXS","Менше 10","Одяг для собак",561.12,805,{"$f":"Природа!I$461","v":0},{"$f":"Природа!J$461","v":0}]
[null,1111186037,"PR243923*****","Светр Sam сірий для собак, L","Більше 10","Одяг для собак",633.96,910,{"$f":"Природа!I$462","v":0},{"$f":"Природа!J$462","v":0}]
[null,1111186038,"PR243921*****","Светр Sam сірий для собак, M","Менше 10","Одяг для собак",609.72,875,{"$f":"Природа!I$463","v":0},{"$f":"Природа!J$463","v":0}]
[null,1111186039,"PR243922*****","Светр Sam сірий для собак, S","Більше 10","Одяг для собак",588.72,845,{"$f":"Природа!I$464","v":0},{"$f":"Природа!J$464","v":0}]
[null,1111186040,"PR243924*****","Светр Sam сірий для собак, XS","Менше 10","Одяг для собак",569.22,817,{"$f":"Природа!I$465","v":0},{"$f":"Природа!J$465","v":0}]
[null,1111186086,"PR243874","Светр в_язаний Rich для собак M2","Більше 10","Одяг для собак",547.55999999999995,783,{"$f":"Природа!I$466","v":0},{"$f":"Природа!J$466","v":0}]
[null,1111186088,"PR243879","Светр в_язаний Rich для собак M3","Більше 10","Одяг для собак",567.24,811,{"$f":"Природа!I$467","v":0},{"$f":"Природа!J$467","v":0}]
[null,1111186091,"PR243887","Светр в_язаний Rich для собак S","Більше 10","Одяг для собак",517.79999999999995,740,{"$f":"Природа!I$468","v":0},{"$f":"Природа!J$468","v":0}]
[null,1111186087,"PR243877","Светр в_язаний Rich для собак S2","Більше 10","Одяг для собак",533.82000000000005,763,{"$f":"Природа!I$469","v":0},{"$f":"Природа!J$469","v":0}]
[null,1111186089,"PR243878","Светр в_язаний Rich для собак S3","Більше 10","Одяг для собак",545.16,780,{"$f":"Природа!I$470","v":0},{"$f":"Природа!J$470","v":0}]
[null,1111186092,"PR243886","Светр в_язаний Rich для собак SM","Більше 10","Одяг для собак",522.41999999999996,747,{"$f":"Природа!I$471","v":0},{"$f":"Природа!J$471","v":0}]
[null,1111186081,"PR243875","Светр в_язаний Rich для собак коргі L","Більше 10","Одяг для собак",576.36,824,{"$f":"Природа!I$472","v":0},{"$f":"Природа!J$472","v":0}]
[null,1111186080,"PR243876","Светр в_язаний Rich для собак коргі XL","Більше 10","Одяг для собак",592.38,847,{"$f":"Природа!I$473","v":0},{"$f":"Природа!J$473","v":0}]
[null,1111186083,"PR243872","Светр в_язаний Rich для собак такса M","Більше 10","Одяг для собак",576.36,824,{"$f":"Природа!I$474","v":0},{"$f":"Природа!J$474","v":0}]
[null,1111186084,"PR243870","Светр в_язаний Rich для собак такса S","Більше 10","Одяг для собак",545.22,780,{"$f":"Природа!I$475","v":0},{"$f":"Природа!J$475","v":0}]
[null,1111186082,"PR243873","Светр в_язаний Rich для собак такса S2","Менше 10","Одяг для собак",545.22,780,{"$f":"Природа!I$476","v":0},{"$f":"Природа!J$476","v":0}]
[null,1111186085,"PR243871","Светр в_язаний Rich для собак такса XS","Більше 10","Одяг для собак",529.26,757,{"$f":"Природа!I$477","v":0},{"$f":"Природа!J$477","v":0}]
[null,1111140748,"PR240339","Сіно лугове Природа М_ята для гризунів 200г","Більше 100","Корм для гризунів",29.94,42,{"$f":"Природа!I$478","v":0},{"$f":"Природа!J$478","v":0}]
[null,1111140749,"PR240338","Сіно лугове Природа Польовий мікс для гризунів 200г","Більше 10","Корм для гризунів",29.94,42,{"$f":"Природа!I$479","v":0},{"$f":"Природа!J$479","v":0}]
[null,1111140421,"PR240335","Сіно лугове Природа Фруктово-овочеве для гризунів 200г","Більше 100","Корм для гризунів",29.94,42,{"$f":"Природа!I$480","v":0},{"$f":"Природа!J$480","v":0}]
[null,1111208544,"PR740825*****","СКОЛ Годівничка-поїлка Природа для гризунів 18x11 см","Менше 10","Обладнання для гризунів",95.04,0,{"$f":"Природа!I$481","v":0},{"$f":"Природа!J$481","v":0}]
[null,1111176060,"PR243275","Сумка-переноска Природа Bag для собак 40х28х20см","Менше 10","Сумки, переноски та посуд для подорожей з собаками",603.12,814,{"$f":"Природа!I$482","v":0},{"$f":"Природа!J$482","v":0}]
[null,1111162536,"PR241977","Сумка-переноска Природа Basic 2 для котів та собак 41х30х26см","Менше 10","Сумки, переноски та посуд для подорожей з собаками",827.34,1117,{"$f":"Природа!I$483","v":0},{"$f":"Природа!J$483","v":0}]
[null,1111162537,"PR241976","Сумка-переноска Природа Basic 3 для котів та собак 42х32х24см","Менше 10","Сумки, переноски та посуд для подорожей з собаками",889.68,1201,{"$f":"Природа!I$484","v":0},{"$f":"Природа!J$484","v":0}]
[null,1111176061,"PR243274","Сумка-переноска Природа Fabi для собак 38х26х20см","Більше 10","Сумки, переноски та посуд для подорожей з собаками",824.58,1113,{"$f":"Природа!I$485","v":0},{"$f":"Природа!J$485","v":0}]
[null,1111206160,"PR240335","ТЕРМ 04.26 ПОРВ Сіно лугове Природа Фруктово-овочеве гризун 200г","Немає в наявності","Корм для гризунів",14.28,0,{"$f":"Природа!I$486","v":0},{"$f":"Природа!J$486","v":0}]
[null,1111206088,"PR740159","ТЕРМ 09.26 БИТ Природа Десерт мікс Асорті д/гриз.шарик/трубоч/тарт.70г","Менше 10","Ласощі для гризунів",14.46,0,{"$f":"Природа!I$487","v":0},{"$f":"Природа!J$487","v":0}]
[null,1111205725,"PR241685","ТЕРМ. 02.27, ПОРВ. Пісок Природа для гризунів та шиншил 1кг","Менше 10","Догляд та гігієна для гризунів",16.62,0,{"$f":"Природа!I$488","v":0},{"$f":"Природа!J$488","v":0}]
[null,1111208578,"PR240122","ТЕРМ. 03.27, ПОМ’ЯТ. Трава швидкозростаюча Природа для котів мікс 70г","Менше 10","Вітаміни для котів",11.76,0,{"$f":"Природа!I$489","v":0},{"$f":"Природа!J$489","v":0}]
[null,1111205573,"PR241685","ТЕРМ. 03.27, ПОРВ. Пісок Природа для гризунів та шиншил 1кг","Менше 10","Догляд та гігієна для гризунів",16.62,0,{"$f":"Природа!I$490","v":0},{"$f":"Природа!J$490","v":0}]
[null,1111206524,"PR240339","ТЕРМ. 04.26, ПОРВ. Сіно лугове Природа М’ята для гризунів 200г","Менше 10","Корм для гризунів",15,0,{"$f":"Природа!I$491","v":0},{"$f":"Природа!J$491","v":0}]
[null,1111206156,"PR240338","ТЕРМ. 04.26, ПОРВ. Сіно лугове Природа Польовий мікс для гризунів 200г","Менше 10","Корм для гризунів",15,0,{"$f":"Природа!I$492","v":0},{"$f":"Природа!J$492","v":0}]
[null,1111207260,"PR241685","ТЕРМ. 04.27, ПОРВ. Пісок Природа для гризунів та шиншил 1кг","Менше 10","Догляд та гігієна для гризунів",16.62,0,{"$f":"Природа!I$493","v":0},{"$f":"Природа!J$493","v":0}]
[null,1111207469,"PR241687","ТЕРМ. 05.27, ПОРВ. Пісок Природа для декоративних птахів 1000г","Менше 10","Предмети гігієни для птахів",14.76,0,{"$f":"Природа!I$494","v":0},{"$f":"Природа!J$494","v":0}]
[null,1111202392,"PR740159","ТЕРМ. 07.26, БИТ. Ласощі Природа ДесертМіксАсорт гриз шар/труб/тарт 70","Менше 10","Ласощі для гризунів",15.24,0,{"$f":"Природа!I$495","v":0},{"$f":"Природа!J$495","v":0}]
[null,1111207362,"PR740159","ТЕРМ. 10.26, БИТ. Ласощі Природа Десерт мікс Асорті шар/труб/тарт 70г","Менше 10","Ласощі для гризунів",15.24,0,{"$f":"Природа!I$496","v":0},{"$f":"Природа!J$496","v":0}]
[null,1111208160,"PR740084","ТЕРМ. 11.26, ПОРВ. Корм Природа Раціон для середніх гризунів 1,5 кг","Немає в наявності","Корм для гризунів",38.58,0,{"$f":"Природа!I$497","v":0},{"$f":"Природа!J$497","v":0}]
[null,1111208145,"PR243555","ТЕРМ. 12.25 Натуральні сушені ласощі для собак Шлунок курячий сушений ","Менше 10","Ласощі для собак",54.12,0,{"$f":"Природа!I$498","v":0},{"$f":"Природа!J$498","v":0}]
[null,1111207683,"PR740111","ТЕРМ.03.27.ПОРВ.УП.Корм Природа Аквамікс для декоративних риб 10 г, Об","Менше 10","Корм сухий для акваріумних риб",5.16,0,{"$f":"Природа!I$499","v":0},{"$f":"Природа!J$499","v":0}]
[null,1111207684,"PR740115","ТЕРМ.03.27.ПОРВ.УП.Корм сухий натуральний Природа Гамарус для акваріум","Менше 10","Корм сухий для акваріумних риб",5.58,0,{"$f":"Природа!I$500","v":0},{"$f":"Природа!J$500","v":0}]
[null,1111208275,"PR240462","ТЕРМ.05.28.ПОРВ.Корм Природа Біовіт Колор для яскраво-забарвлених аква","Менше 10","Корм сухий для акваріумних риб",8.4600000000000009,0,{"$f":"Природа!I$501","v":0},{"$f":"Природа!J$501","v":0}]
[null,1111207586,"PR740183*****","ТЕРМ.07.25.Ласощі Природа Десерт для собак яєчний 550 г, Обмежено прид","Менше 10","Ласощі для собак",56.46,0,{"$f":"Природа!I$502","v":0},{"$f":"Природа!J$502","v":0}]
[null,1111208569,"PR243581","ТЕРМ.12.25 Натуральні сушені лас д/соб Трахея ялов суш рубл50г","Більше 100","Ласощі для собак",17.82,0,{"$f":"Природа!I$503","v":0},{"$f":"Природа!J$503","v":0}]
[null,1854,"PR740064","Тирса Природа для гризунів гігієнічний наповнювач деревинна 900г","Більше 100","Наповнювачі для гризунів",47.7,67,{"$f":"Природа!I$504","v":0},{"$f":"Природа!J$504","v":0}]
[null,1111158663,"PR241408","Трав_яні снеки Природа для гризунів календула та морква 60г","Більше 100","Ласощі для гризунів",37.200000000000003,58,{"$f":"Природа!I$505","v":0},{"$f":"Природа!J$505","v":0}]
[null,1111160922,"PR241768","Трав_яні снеки Природа для гризунів кокос та яблуко 60г","Більше 100","Ласощі для гризунів",37.200000000000003,58,{"$f":"Природа!I$506","v":0},{"$f":"Природа!J$506","v":0}]
[null,1111160921,"PR241769","Трав_яні снеки Природа для гризунів м_ята та яблуко 60г","Більше 100","Ласощі для гризунів",37.200000000000003,58,{"$f":"Природа!I$507","v":0},{"$f":"Природа!J$507","v":0}]
[null,1111158661,"PR241410","Трав_яні снеки Природа для гризунів ромашка та груша 60г","Більше 100","Ласощі для гризунів",37.200000000000003,58,{"$f":"Природа!I$508","v":0},{"$f":"Природа!J$508","v":0}]
[null,7096,"PR240123","Трава швидкозростаюча Природа для котів 70г","Більше 100","Вітаміни для котів",23.46,30,{"$f":"Природа!I$509","v":0},{"$f":"Природа!J$509","v":0}]
[null,1111136584,"PR240122","Трава швидкозростаюча Природа для котів мікс 70г","Більше 100","Вітаміни для котів",23.46,30,{"$f":"Природа!I$510","v":0},{"$f":"Природа!J$510","v":0}]
[null,1111160621,"PR241698","Туалет Природа Comfort L д/котів 49х39х15см","Більше 100","Туалети для котів",236.46,318,{"$f":"Природа!I$511","v":0},{"$f":"Природа!J$511","v":0}]
[null,1111160622,"PR241739","Туалет Природа Comfort L для котів 49х39х15см","Більше 10","Туалети для котів",236.46,318,{"$f":"Природа!I$512","v":0},{"$f":"Природа!J$512","v":0}]
[null,1111160623,"PR241740","Туалет Природа Comfort L для котів 49х39х15см","Більше 10","Туалети для котів",236.46,318,{"$f":"Природа!I$513","v":0},{"$f":"Природа!J$513","v":0}]
[null,1111160624,"PR241741","Туалет Природа Comfort L для котів 49х39х15см","Більше 10","Туалети для котів",236.46,318,{"$f":"Природа!I$514","v":0},{"$f":"Природа!J$514","v":0}]
[null,1111160625,"PR241699","Туалет Природа Comfort M д/котів 41х30х13,5см","Менше 10","Туалети для котів",182.76,248,{"$f":"Природа!I$515","v":0},{"$f":"Природа!J$515","v":0}]
[null,1111160626,"PR241736","Туалет Природа Comfort M для котів 41х30х13,5см","Менше 10","Туалети для котів",182.76,248,{"$f":"Природа!I$516","v":0},{"$f":"Природа!J$516","v":0}]
[null,1111160627,"PR241737","Туалет Природа Comfort M для котів 41х30х13,5см","Більше 100","Туалети для котів",182.76,248,{"$f":"Природа!I$517","v":0},{"$f":"Природа!J$517","v":0}]
[null,1111113280,"PR740434","Туалет Природа Доллі для котів 31x42x11см","Більше 100","Туалети для котів",88.62,121,{"$f":"Природа!I$518","v":0},{"$f":"Природа!J$518","v":0}]
[null,2096,"PR740443","Туалет Природа з сіткою для котів  36,5х27,5х5,5см","Більше 100","Туалети для котів",99.9,134,{"$f":"Природа!I$519","v":0},{"$f":"Природа!J$519","v":0}]
[null,1111115442,"PR740435","Туалет Природа Маркіз з рамкою для котів 42,5х31,5х13см","Більше 100","Туалети для котів",119.88,163,{"$f":"Природа!I$520","v":0},{"$f":"Природа!J$520","v":0}]
[null,11360,"PR740436","Туалет Природа Міні для котів 37х25,5х5,6см","Більше 100","Туалети для котів",58.2,79,{"$f":"Природа!I$521","v":0},{"$f":"Природа!J$521","v":0}]
[null,1111162300,"PR241957","Тунель Природа для гризунів 17х8х6см","Більше 10","Обладнання для гризунів",60.9,82,{"$f":"Природа!I$522","v":0},{"$f":"Природа!J$522","v":0}]
[null,1111166062,"PR242203","Шампунь Provet ПРОФІЛАЙН для довгошерстих котів з кератином 300мл","Більше 10","Догляд та гігієна для котів",106.68,149.33000000000001,{"$f":"Профілайн!I$8","v":0},{"$f":"Профілайн!J$8","v":0}]
[null,1111166063,"PR242202","Шампунь Provet ПРОФІЛАЙН для довгошерстих собак з кератином 300мл","Більше 100","Догляд та гігієна для собак",106.68,149.33000000000001,{"$f":"Профілайн!I$9","v":0},{"$f":"Профілайн!J$9","v":0}]
[null,1111172227,"PR242888","Шампунь Provet ПРОФІЛАЙН для довгошерстих собак з кератином 3л","Менше 10","Догляд та гігієна для собак",649.02,908.6,{"$f":"Профілайн!I$10","v":0},{"$f":"Профілайн!J$10","v":0}]
[null,1111166058,"PR242207","Шампунь Provet ПРОФІЛАЙН для котів антибактеріальний 300мл","Більше 100","Догляд та гігієна для котів",106.68,149.33000000000001,{"$f":"Профілайн!I$11","v":0},{"$f":"Профілайн!J$11","v":0}]
[null,1111166060,"PR242205","Шампунь Provet ПРОФІЛАЙН для котів глибоке очищення з алое 300мл","Більше 10","Догляд та гігієна для котів",106.68,149.33000000000001,{"$f":"Профілайн!I$12","v":0},{"$f":"Профілайн!J$12","v":0}]
[null,1111172226,"PR242889","Шампунь Provet ПРОФІЛАЙН для котів та собак глибоке очищення з алое 3л","Менше 10","Догляд та гігієна для собак",649.02,908.6,{"$f":"Профілайн!I$13","v":0},{"$f":"Профілайн!J$13","v":0}]
[null,1111166066,"PR242199","Шампунь Provet ПРОФІЛАЙН для кошенят з ромашкою 300мл","Більше 100","Догляд та гігієна для котів",121.5,170.05,{"$f":"Профілайн!I$14","v":0},{"$f":"Профілайн!J$14","v":0}]
[null,1111166057,"PR242208","Шампунь Provet ПРОФІЛАЙН для собак антибактеріальний 300мл","Більше 100","Догляд та гігієна для собак",106.68,149.33000000000001,{"$f":"Профілайн!I$15","v":0},{"$f":"Профілайн!J$15","v":0}]
[null,1111166059,"PR242206","Шампунь Provet ПРОФІЛАЙН для собак гіпоалергенний 300мл","Більше 100","Догляд та гігієна для собак",106.68,149.33000000000001,{"$f":"Профілайн!I$16","v":0},{"$f":"Профілайн!J$16","v":0}]
[null,1111172225,"PR242890","Шампунь Provet ПРОФІЛАЙН для собак гіпоалергенний 3л","Більше 10","Догляд та гігієна для собак",649.02,908.6,{"$f":"Профілайн!I$17","v":0},{"$f":"Профілайн!J$17","v":0}]
[null,1111166061,"PR242204","Шампунь Provet ПРОФІЛАЙН для собак з білою та світлою шерстю 300мл","Більше 100","Догляд та гігієна для собак",106.68,149.33000000000001,{"$f":"Профілайн!I$18","v":0},{"$f":"Профілайн!J$18","v":0}]
[null,1111166064,"PR242201","Шампунь Provet ПРОФІЛАЙН для тхорів та гризунів 300мл","Більше 10","Догляд та гігієна для тхорів",122.16,170.96,{"$f":"Профілайн!I$19","v":0},{"$f":"Профілайн!J$19","v":0}]
[null,1111166065,"PR242200","Шампунь Provet ПРОФІЛАЙН для цуценят з ромашкою 300мл","Більше 100","Догляд та гігієна для собак",121.5,170.05,{"$f":"Профілайн!I$20","v":0},{"$f":"Профілайн!J$20","v":0}]
[null,1111168903,"25249*****","Миска Trixie Slow Feed для собак з нержавіючої сталі кругова 1,4л 21см","Більше 10","Миски та годівниці для собак",469,633,{"$f":"'Розница Бадди'!I$8","v":0},{"$f":"'Розница Бадди'!J$8","v":0}]
[null,1111141380,"PR020069","Краплі Provet АКАРОСТОП д/котів/собак/кроликів акарицид/препарат 10мл","Більше 100","Антипаразитарні препарати для собак",37.86,53,{"$f":"Стоп!I$8","v":0},{"$f":"Стоп!J$8","v":0}]
[null,1111151581,"PR020026 _1уп.(6пип.)","Краплі Provet ІНСЕКТОСТОП д/котів/собак 4/6кг зовн/параз 6піпет/0,8мл","Більше 100","Антипаразитарні препарати для собак",71.400000000000006,100,{"$f":"Стоп!I$9","v":0},{"$f":"Стоп!J$9","v":0}]
[null,1111151582,"PR020027 _1 уп.(6пип.)","Краплі Provet ІНСЕКТОСТОП д/кошен/цуцен до 3кг зов/параз 6піпет/0,5мл","Більше 100","Антипаразитарні препарати для собак",67.14,94,{"$f":"Стоп!I$10","v":0},{"$f":"Стоп!J$10","v":0}]
[null,1111162044,"PR241746","Краплі Provet МЕГАСТОП д/котів 4/8кг зовн/внутр/паразит 1піпетка/1мл","Більше 100","Антипаразитарні препарати для котів",43.44,61,{"$f":"Стоп!I$11","v":0},{"$f":"Стоп!J$11","v":0}]
[null,1111151583,"PR020074_1уп.(4пип)","Краплі Provet МЕГАСТОП д/котів 4/8кг зовн/внутр/паразит 4піпетки/1мл","Більше 100","Антипаразитарні препарати для котів",148.68,208,{"$f":"Стоп!I$12","v":0},{"$f":"Стоп!J$12","v":0}]
[null,1111162043,"PR241747","Краплі Provet МЕГАСТОП д/котів до 4кг зовн/внут/паразит 1піпетка/0,5мл","Більше 100","Антипаразитарні препарати для котів",39.54,56,{"$f":"Стоп!I$13","v":0},{"$f":"Стоп!J$13","v":0}]
[null,1111151584,"PR020073_1уп.(4пип)","Краплі Provet МЕГАСТОП д/котів до 4кг зовн/внут/паразит 4піпетки/0,5мл","Більше 100","Антипаразитарні препарати для котів",136.5,191,{"$f":"Стоп!I$14","v":0},{"$f":"Стоп!J$14","v":0}]
[null,1111162047,"PR241743","Краплі Provet МЕГАСТОП д/собак 10/20кг зов/внут/паразит 1піпетка/2мл","Більше 10","Антипаразитарні препарати для собак",57.72,81,{"$f":"Стоп!I$15","v":0},{"$f":"Стоп!J$15","v":0}]
[null,1111151585,"PR020077_1уп.(4пип)","Краплі Provet МЕГАСТОП д/собак 10/20кг зов/внут/паразит 4піпетки/2мл","Більше 100","Антипаразитарні препарати для собак",197.64,276,{"$f":"Стоп!I$16","v":0},{"$f":"Стоп!J$16","v":0}]
[null,1111162048,"PR241742","Краплі Provet МЕГАСТОП д/собак 20/30кг зов/внут/паразит 1піпетка/3мл","Більше 100","Антипаразитарні препарати для собак",64.86,91,{"$f":"Стоп!I$17","v":0},{"$f":"Стоп!J$17","v":0}]
[null,1111151586,"PR020078_1уп.(4пип)","Краплі Provet МЕГАСТОП д/собак 20/30кг зов/внут/паразит 4піпетки/3мл","Більше 100","Антипаразитарні препарати для собак",224.04,313,{"$f":"Стоп!I$18","v":0},{"$f":"Стоп!J$18","v":0}]
[null,1111162046,"PR241744","Краплі Provet МЕГАСТОП д/собак 4/10кг зов/внут/паразит 1піпетка/1мл","Більше 100","Антипаразитарні препарати для собак",50.94,72,{"$f":"Стоп!I$19","v":0},{"$f":"Стоп!J$19","v":0}]
[null,1111151587,"PR020076_1уп(4пип)","Краплі Provet МЕГАСТОП д/собак 4/10кг зов/внут/паразит 4піпетки/1мл","Більше 100","Антипаразитарні препарати для собак",169.68,237,{"$f":"Стоп!I$20","v":0},{"$f":"Стоп!J$20","v":0}]
[null,1111162045,"PR241745","Краплі Provet МЕГАСТОП д/собак до 4кг зов/внут/паразит 1піпетка/0,5мл","Більше 10","Антипаразитарні препарати для собак",38.880000000000003,58,{"$f":"Стоп!I$21","v":0},{"$f":"Стоп!J$21","v":0}]
[null,1111151588,"PR020075_1уп (4пип)","Краплі Provet МЕГАСТОП д/собак до 4кг зов/внут/паразит 4піпетки/0,5мл","Більше 100","Антипаразитарні препарати для собак",145.08000000000001,203,{"$f":"Стоп!I$22","v":0},{"$f":"Стоп!J$22","v":0}]
[null,1111180395,"PR242513","Краплі Provet МЕГАСТОП УЛЬТРА д/котів та тхорів до 4кг 4піпет по 0,4мл","Більше 100","Антипаразитарні препарати для котів",142.32,232,{"$f":"Стоп!I$23","v":0},{"$f":"Стоп!J$23","v":0}]
[null,1111180396,"PR242512","Краплі Provet МЕГАСТОП УЛЬТРА для котів 4-8кг 4 піпетки по 0,8мл","Більше 100","Антипаразитарні препарати для котів",190.5,296,{"$f":"Стоп!I$24","v":0},{"$f":"Стоп!J$24","v":0}]
[null,1111180399,"PR242505","Краплі Provet МЕГАСТОП УЛЬТРА для собак 10-25кг 4 піпетки по 2,5мл","Більше 10","Антипаразитарні препарати для собак",287.39999999999998,402,{"$f":"Стоп!I$25","v":0},{"$f":"Стоп!J$25","v":0}]
[null,1111180400,"PR242504","Краплі Provet МЕГАСТОП УЛЬТРА для собак 25-40кг 4 піпетки по 4мл","Більше 10","Антипаразитарні препарати для собак",442.32,619,{"$f":"Стоп!I$26","v":0},{"$f":"Стоп!J$26","v":0}]
[null,1111180398,"PR242506","Краплі Provet МЕГАСТОП УЛЬТРА для собак 4-10кг 4 піпетки по 1мл","Більше 100","Антипаразитарні препарати для собак",209.88,310,{"$f":"Стоп!I$27","v":0},{"$f":"Стоп!J$27","v":0}]
[null,1111180397,"PR242507","Краплі Provet МЕГАСТОП УЛЬТРА для собак до 4кг 4 піпетки по 0,4мл","Більше 10","Антипаразитарні препарати для собак",154.5,252,{"$f":"Стоп!I$28","v":0},{"$f":"Стоп!J$28","v":0}]
[null,1111138350,"PR020030","Краплі Provet МІКОСТОП для котів та собак протигрибковий препарат 10мл","Більше 10","Антипаразитарні препарати для собак",36,51,{"$f":"Стоп!I$29","v":0},{"$f":"Стоп!J$29","v":0}]
[null,1111164730,"PR241915_1уп.(1пип)","Краплі Provet МОКСІСТОП д/котів 4/10кг антигельмінтик 1піпетка 1мл","Більше 100","Антипаразитарні препарати для котів",93,130,{"$f":"Стоп!I$30","v":0},{"$f":"Стоп!J$30","v":0}]
[null,1111164729,"PR241916_1уп.(1пип)","Краплі Provet МОКСІСТОП д/котів до 4кг антигельмінтик 1піпетка/0,4мл","Більше 100","Антипаразитарні препарати для котів",68.52,96,{"$f":"Стоп!I$31","v":0},{"$f":"Стоп!J$31","v":0}]
[null,1111164732,"PR241918_1уп.(1пип)","Краплі Provet МОКСІСТОП д/собак 4/10кг антигельмінтик 1піпетка/1мл","Більше 10","Антипаразитарні препарати для собак",114.96,161,{"$f":"Стоп!I$32","v":0},{"$f":"Стоп!J$32","v":0}]
[null,1111164731,"PR241919_1уп.(1пип)","Краплі Provet МОКСІСТОП д/собак до 4кг антигельмінтик 1піпетка/0,4мл","Більше 10","Антипаразитарні препарати для собак",93.78,131,{"$f":"Стоп!I$33","v":0},{"$f":"Стоп!J$33","v":0}]
[null,1111143955,"PR020117","Нашийник Provet STOP-Біо для собак репелент 70 см","Більше 100","Антипаразитарні препарати для собак",50.94,72,{"$f":"Стоп!I$34","v":0},{"$f":"Стоп!J$34","v":0}]
[null,1111143953,"PR020119","Нашийник Provet ІНСЕКТОСТОП д/котів/собак дріб/порід інсектоакар 35 см","Більше 100","Антипаразитарні препарати для котів",37.200000000000003,52,{"$f":"Стоп!I$35","v":0},{"$f":"Стоп!J$35","v":0}]
[null,1111143954,"PR020120","Нашийник Provet ІНСЕКТОСТОП для собак інсектоакарицид 70 см","Більше 100","Антипаразитарні препарати для собак",50.16,70,{"$f":"Стоп!I$36","v":0},{"$f":"Стоп!J$36","v":0}]
[null,1111140834,"PR240978","Спрей Provet ІНСЕКТОСТОП для котів та собак інсектоакарицид 100мл","Більше 100","Антипаразитарні препарати для котів",114.3,160,{"$f":"Стоп!I$37","v":0},{"$f":"Стоп!J$37","v":0}]
[null,1111140835,"PR240979","Спрей Provet ІНСЕКТОСТОП для котів та собак інсектоакарицид 250мл","Більше 10","Антипаразитарні препарати для котів",209.34,293,{"$f":"Стоп!I$38","v":0},{"$f":"Стоп!J$38","v":0}]
[null,1111138351,"PR020031","Спрей Provet МІКОСТОП для котів та собак протигрибковий препарат 30мл","Більше 100","Антипаразитарні препарати для собак",71.22,100,{"$f":"Стоп!I$39","v":0},{"$f":"Стоп!J$39","v":0}]
[null,1111138260,"PR020029","Суспензия Provet СЕКССТОП Краплі д/котів/собак регул/статев/активн 2мл","Більше 100","Корекція поведінки для котів",38.58,54,{"$f":"Стоп!I$40","v":0},{"$f":"Стоп!J$40","v":0}]
[null,1111138259,"PR020028","Суспензія Provet ПРАЗІСТОП для котів собак антигельмінтик 5мл","Більше 100","Антипаразитарні препарати для собак",44.34,62,{"$f":"Стоп!I$41","v":0},{"$f":"Стоп!J$41","v":0}]
[null,1111164728,"PR241913_1уп.(2табл.)","Таблетки Provet МОКСІСТОП МАКСІ д/собак 10/20кг антигельмінт 2штх500мг","Більше 10","Антипаразитарні препарати для собак",150.47999999999999,210,{"$f":"Стоп!I$42","v":0},{"$f":"Стоп!J$42","v":0}]
[null,1111164727,"PR241914_1уп.(2табл.)","Таблетки Provet МОКСІСТОП МІДІ д/собак 4/10кг антигельмінтик 2штх120мг","Більше 10","Антипаразитарні препарати для собак",119.52,167,{"$f":"Стоп!I$43","v":0},{"$f":"Стоп!J$43","v":0}]
[null,1111164726,"PR241920_1уп.(2табл.)","Таблетки Provet МОКСІСТОП МІНІ д/кот/собак до 4кг антигельм 2штх120мг","Більше 10","Антипаразитарні препарати для котів",90.84,127,{"$f":"Стоп!I$44","v":0},{"$f":"Стоп!J$44","v":0}]
[null,1111163329,"PR241756_1уп.(10таб)","Таблетки Provet ПРАЗІСТОП для котів та собак антигельмінтик 10 шт","Більше 100","Антипаразитарні препарати для котів",80.94,113,{"$f":"Стоп!I$45","v":0},{"$f":"Стоп!J$45","v":0}]
[null,1111180402,"PR242503","Таблетки Provet ПРАЗІСТОП УЛЬТРА для собак 2 табл","Більше 10","Антипаразитарні препарати для собак",64.62,91,{"$f":"Стоп!I$46","v":0},{"$f":"Стоп!J$46","v":0}]
[null,1111180403,"PR242959_1блист.(10таб)","Таблетки Provet СЕКСТОП д/собак та котів 10 таблеток","Більше 100","Корекція поведінки для котів",32.04,45,{"$f":"Стоп!I$47","v":0},{"$f":"Стоп!J$47","v":0}]
[null,1111204600,"PR241918_1уп.(1пип)","ТЕРМ 10.25 Краплі PROVET Моксістоп собак 4/10кг антигельмінт 1піп/1мл","Менше 10","Антипаразитарні препарати для собак",64.260000000000005,0,{"$f":"Стоп!I$48","v":0},{"$f":"Стоп!J$48","v":0}]
[null,1111204599,"PR241919_1уп.(1пип)","ТЕРМ 10.25 Краплі PROVET Моксістоп собак/4кг антигельмінтик 1піп/0,4мл","Менше 10","Антипаразитарні препарати для собак",50.7,0,{"$f":"Стоп!I$49","v":0},{"$f":"Стоп!J$49","v":0}]